Workbook

Sheet 汇总
A1: 教师 | B1: 得分 | C1: 备注
A2: =语文计算!N3 -> 伍开英 | B2: =语文计算!O3 -> 495.94241
A3: =语文计算!N4 -> 刘玲君 | B3: =语文计算!O4 -> 587.75748
A4: =语文计算!N5 -> 岳子琦 | B4: =语文计算!O5 -> 195.30395
A5: =语文计算!N6 -> 杨宗国 | B5: =语文计算!O6 -> 401.3181
A6: =语文计算!N7 -> 胡万春 | B6: =语文计算!O7 -> 608.65002
A7: =语文计算!N8 -> 李志友 | B7: =语文计算!O8 -> 399.84403
A8: =语文计算!N9 -> 张玉婷 | B8: =语文计算!O9 -> 144.37011
A9: =语文计算!N10 -> 龚霞 | B9: =语文计算!O10 -> 470.52781
A10: =语文计算!N11 -> 陈丽娇 | B10: =语文计算!O11 -> 95.935784
A11: =数学计算!P3 -> 邓国华 | B11: =数学计算!Q3 -> 591.23686
A12: =数学计算!P4 -> 扎拉 | B12: =数学计算!Q4 -> 604.08882
A13: =数学计算!P5 -> 潘勇 | B13: =数学计算!Q5 -> 604.29273
A14: =数学计算!P6 -> 邵敏 | B14: =数学计算!Q6 -> 399.47767
A15: =数学计算!P7 -> 次儿祝玛 | B15: =数学计算!Q7 -> 612.9928
A16: =数学计算!P8 -> 张建国 | B16: =数学计算!Q8 -> 593.01063
A17: =数学计算!P9 -> 杨周宇 | B17: =数学计算!Q9 -> 186.05326
A18: 车梦德 | B18: 606.45774
A19: 梅晓群 | B19: 199.91792
A20: 黄健君 | B20: 602.17231
A21: 赵金秀 | B21: 595.161
A22: 肖秀秀 | B22: 505.39505
A23: 王图雄 | B23: 197.80989
A24: 王海鹰 | B24: 97.873816
A25: 程长寿 | B25: =98.3576988798177*2/5 -> 39.34308 | C25: 代2个月
A26: 赵顺诚 | B26: =100.760456273764*2/5 -> 40.304183 | C26: 代2个月
A27: 曾春兰 | B27: 94.63844
A28: 聂艳梅 | B28: 104.50664
A29: ='物理-政治计算'!I2 -> 林莉 | B29: ='物理-政治计算'!J2 -> 592.05876
A30: ='物理-政治计算'!I3 -> 黄祥琴 | B30: ='物理-政治计算'!J3 -> 205.63888
A31: ='物理-政治计算'!I4 -> 兰举银 | B31: ='物理-政治计算'!J4 -> 401.70687
A32: ='物理-政治计算'!I5 -> 宋加友 | B32: ='物理-政治计算'!J5 -> 600.75347
A33: ='物理-政治计算'!I6 -> 吴文艺 | B33: ='物理-政治计算'!J6 -> 393.72545
A34: ='物理-政治计算'!I7 -> 汤博慧 | B34: ='物理-政治计算'!J7 -> 197.82615
A35: ='物理-政治计算'!I8 -> 王友春 | B35: ='物理-政治计算'!J8 -> 201.24663
A36: ='物理-政治计算'!I9 -> 卞仁民 | B36: ='物理-政治计算'!J9 -> 189.66022
A37: ='物理-政治计算'!I10 -> 陈虹宇 | B37: ='物理-政治计算'!J10 -> 90.393013
A38: ='物理-政治计算'!I11 -> 王志强 | B38: ='物理-政治计算'!J11 -> 102.11841
A39: ='化学-历史计算'!J2 -> 降初里 | B39: ='化学-历史计算'!K2 -> 580.56759
A40: ='化学-历史计算'!J3 -> 金明龙 | B40: ='化学-历史计算'!K3 -> 197.57578
...

Sheet 语文
A1: 身份证号码 | B1: 科类 | C1: 班级 | D1: 姓名 | E1: 高三下 | I1: 高三上 | M1: 高二下 | Q1: 高二上 | U1: 高一下 | Y1: 高一上 | AC1: 中考 | AF1: 文科人数 | AG1: =COUNTA(D4:D232) -> 229
E2: 语文 | I2: 语文 | M2: 语文 | Q2: 语文 | U2: 语文 | Y2: 语文 | AC2: 语文 | AF2: 理科人数 | AG2: =COUNTA(D233:D495) -> 263
E3: 成绩 | F3: 排名 | G3: 教师 | H3: 高三下标准分 | I3: 成绩 | J3: 排名 | K3: 教师 | L3: 高三上标准分 | M3: 成绩 | N3: 排名 | O3: 教师 | P3: 高二下标准分 | Q3: 成绩 | R3: 排名 | S3: 教师 | T3: 高二上标准分 | U3: 成绩 | V3: 排名 | W3: 教师 | X3: 高一下标准分 | Y3: 成绩 | Z3: 排名 | AA3: 教师 | AB3: 高一上标准分 | AC3: 成绩 | AD3: 排名
A4: 513422200310010036 | B4: 文科 | C4: 高2018级01班 | D4: 黄富君 | E4: 108 | F4: 25 | G4: 伍开英 | H4: 103.05677 | I4: 88 | J4: 32 | K4: 伍开英 | L4: 113.53712 | M4: 100 | N4: 63 | O4: 杨宗国 | P4: 77.729258 | Q4: 103 | R4: 12 | S4: 伍开英 | T4: 97.379913 | U4: 103 | V4: 6 | W4: 伍开英 | X4: 97.816594 | Y4: 99 | Z4: 1 | AA4: 胡万春 | AB4: 107.42358 | AC4: 101 | AD4: 18
A5: 513422200402102923 | B5: 文科 | C5: 高2018级01班 | D5: 杨丽 | E5: 110 | F5: 17 | G5: 伍开英 | H5: 113.10044 | I5: 86 | J5: 47 | K5: 伍开英 | L5: 117.46725 | M5: 97 | N5: 87 | O5: 杨宗国 | P5: 93.886463 | Q5: 96 | R5: 73 | S5: 伍开英 | T5: 70.742358 | U5: 103 | V5: 6 | W5: 伍开英 | X5: 110.48035 | Y5: 88 | Z5: 30 | AA5: 伍开英 | AB5: 116.59389 | AC5: 93 | AD5: 68
A6: 513422200301023812 | B6: 文科 | C6: 高2018级01班 | D6: 谢承彬 | E6: 109 | F6: 23 | G6: 伍开英 | H6: 182.09607 | I6: 0 | J6: 211 | K6: 伍开英 | L6: 35.371179 | M6: 100 | N6: 63 | O6: 杨宗国 | P6: 98.253275 | Q6: 97 | R6: 59 | S6: 伍开英 | T6: 75.982533 | U6: 105 | V6: 4 | W6: 伍开英 | X6: 99.563319 | Y6: 97 | Z6: 3 | AA6: 胡万春 | AB6: 102.18341 | AC6: 104 | AD6: 8
A7: 513422200010076623 | B7: 文科 | C7: 高2018级01班 | D7: 罗竹青 | E7: 117 | F7: 1 | G7: 伍开英 | H7: 105.24017 | I7: 92 | J7: 13 | K7: 伍开英 | L7: 103.93013 | M7: 105 | N7: 22 | O7: 杨宗国 | P7: 137.1179 | Q7: 93 | R7: 107 | S7: 伍开英 | T7: 151.96507 | U7: 0 | V7: 226 | W7: 伍开英 | X7: 10.480349 | Y7: 90 | Z7: 21 | AA7: 刘玲君 | AB7: 112.22707 | AC7: 95 | AD7: 49
A8: 513422200307056826 | B8: 文科 | C8: 高2018级01班 | D8: 伍贵英 | E8: 108 | F8: 25 | G8: 伍开英 | H8: 109.60699 | I8: 86 | J8: 47 | K8: 伍开英 | L8: 97.379913 | M8: 102 | N8: 41 | O8: 杨宗国 | P8: 91.266376 | Q8: 102 | R8: 21 | S8: 伍开英 | T8: 96.943231 | U8: 101 | V8: 14 | W8: 伍开英 | X8: 96.50655 | Y8: 94 | Z8: 6 | AA8: 刘玲君 | AB8: 107.86026 | AC8: 99 | AD8: 24
A9: 513422200305260022 | B9: 文科 | C9: 高2018级01班 | D9: 郭登婷 | E9: 108 | F9: 25 | G9: 伍开英 | H9: 92.576419 | I9: 94 | J9: 8 | K9: 伍开英 | L9: 111.79039 | M9: 103 | N9: 35 | O9: 杨宗国 | P9: 85.152838 | Q9: 120 | R9: 1 | S9: 伍开英 | T9: 112.66376 | U9: 97 | V9: 30 | W9: 伍开英 | X9: 89.519651 | Y9: 94 | Z9: 6 | AA9: 胡万春 | AB9: 98.253275 | AC9: 111 | AD9: 2
A10: 513422200306084024 | B10: 文科 | C10: 高2018级01班 | D10: 宋加祝玛 | E10: 105 | F10: 48 | G10: 伍开英 | H10: 88.646288 | I10: 90 | J10: 22 | K10: 伍开英 | L10: 90.829694 | M10: 114 | N10: 1 | O10: 杨宗国 | P10: 101.74672 | Q10: 105 | R10: 5 | S10: 伍开英 | T10: 110.91703 | U10: 97 | V10: 30 | W10: 伍开英 | X10: 89.082969 | Y10: 96 | Z10: 5 | AA10: 伍开英 | AB10: 101.31004 | AC10: 104 | AD10: 8
A11: 513422200402116823 | B11: 文科 | C11: 高2018级01班 | D11: 沈长英 | E11: 113 | F11: 5 | G11: 伍开英 | H11: 125.32751 | I11: 85 | J11: 63 | K11: 伍开英 | L11: 74.235808 | M11: 110 | N11: 4 | O11: 杨宗国 | P11: 101.31004 | Q11: 104 | R11: 7 | S11: 伍开英 | T11: 104.80349 | U11: 99 | V11: 18 | W11: 伍开英 | X11: 101.31004 | Y11: 90 | Z11: 21 | AA11: 刘玲君 | AB11: 96.069869 | AC11: 103 | AD11: 12
A12: 513422200206306021 | B12: 文科 | C12: 高2018级01班 | D12: 扎西拉姆 | E12: 110 | F12: 17 | G12: 伍开英 | H12: 146.28821 | I12: 79 | J12: 123 | K12: 伍开英 | L12: 84.279476 | M12: 97 | N12: 87 | O12: 杨宗国 | P12: 113.10044 | Q12: 92 | R12: 117 | S12: 伍开英 | T12: 59.388646 | U12: 98 | V12: 24 | W12: 伍开英 | X12: 106.55022 | Y12: 86 | Z12: 39 | AA12: 伍开英 | AB12: 100 | AC12: 96 | AD12: 39
A13: 513422200210052730 | B13: 文科 | C13: 高2018级01班 | D13: 张春才 | E13: 113 | F13: 5 | G13: 伍开英 | H13: 114.41048 | I13: 87 | J13: 38 | K13: 伍开英 | L13: 121.39738 | M13: 97 | N13: 87 | O13: 杨宗国 | P13: 83.406114 | Q13: 98 | R13: 49 | S13: 伍开英 | T13: 81.222707 | U13: 103 | V13: 6 | W13: 伍开英 | X13: 149.34498 | Y13: 78 | Z13: 119 | AA13: 伍开英 | AB13: 79.912664 | AC13: 92 | AD13: 73
A14: 513422200302205626 | B14: 文科 | C14: 高2018级01班 | D14: 次尔央青 | E14: 113 | F14: 5 | G14: 伍开英 | H14: 137.99127 | I14: 82 | J14: 92 | K14: 伍开英 | L14: 151.0917 | M14: 0 | N14: 209 | O14: 杨宗国 | P14: 108.29694 | Q14: 0 | R14: 228 | S14: 伍开英 | T14: 0.87336245 | U14: 112 | V14: 1 | W14: 伍开英 | X14: 108.73362 | Y14: 90 | Z14: 21 | AA14: 胡万春 | AB14: 91.266376 | AC14: 112 | AD14: 1
A15: 513422200211086027 | B15: 文科 | C15: 高2018级01班 | D15: 刘长英 | E15: 107 | F15: 31 | G15: 伍开英 | H15: 140.17467 | I15: 79 | J15: 123 | K15: 伍开英 | L15: 118.34061 | M15: 89 | N15: 165 | O15: 杨宗国 | P15: 107.42358 | Q15: 84 | R15: 182 | S15: 伍开英 | T15: 31.004367 | U15: 98 | V15: 24 | W15: 伍开英 | X15: 135.37118 | Y15: 79 | Z15: 105 | AA15: 伍开英 | AB15: 86.026201 | AC15: 92 | AD15: 73
... A495: 513422200212020038 | B495: 理科 | C495: 高2018级11班 | D495: 杨航 | E495: 107 | F495: 44 | G495: 胡万春 | H495: 107.22433 | I495: 89 | J495: 63 | K495: 胡万春 | L495: 127.75665 | M495: 95 | N495: 136 | O495: 胡万春 | P495: 103.42205 | Q495: 91 | R495: 145 | S495: 李志友 | T495: 82.509506 | U495: 92 | V495: 99 | W495: 陈丽娇 | X495: 111.02662 | Y495: 81 | Z495: 128 | AA495: 胡万春 | AB495: 150.95057 | AC495: 0 | AD495: 262

Sheet 语文计算
C1: 分数 | D1: 学生人数 | E1: 得分
A2: 高三下文科 | B2: 伍开英 | C2: =SUMIF(语文!$G$4:$G$232,B2,语文!$H$4:$H$232) -> 9235.3712 | D2: =COUNTIF(语文!$G$4:$G$232,B2) -> 92 | E2: =C2/D2 -> 100.38447 | H2: 高三下 | I2: 伍开英 | J2: =AVERAGEIF($B$2:$B$9,I2,$E$2:$E$9) -> 100.38447 | N2: 姓名 | O2: 得分 | P2: 三年教学班级
B3: 刘玲君 | C3: =SUMIF(语文!$G$4:$G$232,B3,语文!$H$4:$H$232) -> 4172.4891 | D3: =COUNTIF(语文!$G$4:$G$232,B3) -> 46 | E3: =C3/D3 -> 90.706284 | I3: 刘玲君 | J3: =AVERAGEIF($B$2:$B$9,I3,$E$2:$E$9) -> 91.898729 | M3: 汇总 | N3: 伍开英 | O3: =SUMIF($I$2:$I$36,N3,$J$2:$J$36) -> 495.94241 | P3: =COUNTIF($B$2:$B$51,N3) -> 6
B4: 龚霞 | C4: =SUMIF(语文!$G$4:$G$232,B4,语文!$H$4:$H$232) -> 4936.2445 | D4: =COUNTIF(语文!$G$4:$G$232,B4) -> 46 | E4: =C4/D4 -> 107.30966 | I4: 龚霞 | J4: =AVERAGEIF($B$2:$B$9,I4,$E$2:$E$9) -> 107.30966 | N4: 刘玲君 | O4: =SUMIF($I$2:$I$36,N4,$J$2:$J$36) -> 587.75748 | P4: =COUNTIF($B$2:$B$51,N4) -> 12
B5: 杨宗国 | C5: =SUMIF(语文!$G$4:$G$232,B5,语文!$H$4:$H$232) -> 4448.0349 | D5: =COUNTIF(语文!$G$4:$G$232,B5) -> 45 | E5: =C5/D5 -> 98.845221 | I5: 杨宗国 | J5: =AVERAGEIF($B$2:$B$9,I5,$E$2:$E$9) -> 98.876538 | N5: 岳子琦 | O5: =SUMIF($I$2:$I$36,N5,$J$2:$J$36) -> 195.30395 | P5: =COUNTIF($B$2:$B$51,N5) -> 2
A6: 高三下理科 | B6: 胡万春 | C6: =SUMIF(语文!$G$233:$G$2495,B6,语文!$H$233:$H$495) -> 8807.2243 | D6: =COUNTIF(语文!$G$233:$G$495,B6) -> 86 | E6: =C6/D6 -> 102.40959 | I6: 胡万春 | J6: =AVERAGEIF($B$2:$B$9,I6,$E$2:$E$9) -> 102.40959 | N6: 杨宗国 | O6: =SUMIF($I$2:$I$36,N6,$J$2:$J$36) -> 401.3181 | P6: =COUNTIF($B$2:$B$51,N6) -> 7
B7: 李志友 | C7: =SUMIF(语文!$G$233:$G$2495,B7,语文!$H$233:$H$495) -> 8385.5513 | D7: =COUNTIF(语文!$G$233:$G$495,B7) -> 83 | E7: =C7/D7 -> 101.03074 | I7: 李志友 | J7: =AVERAGEIF($B$2:$B$9,I7,$E$2:$E$9) -> 101.03074 | N7: 胡万春 | O7: =SUMIF($I$2:$I$36,N7,$J$2:$J$36) -> 608.65002 | P7: =COUNTIF($B$2:$B$51,N7) -> 7
B8: 刘玲君 | C8: =SUMIF(语文!$G$233:$G$2495,B8,语文!$H$233:$H$495) -> 4375.2852 | D8: =COUNTIF(语文!$G$233:$G$495,B8) -> 47 | E8: =C8/D8 -> 93.091174 | H8: 高三上 | I8: 伍开英 | J8: =AVERAGEIF($B$10:$B$18,I8,$E$10:$E$18) -> 101.80368 | N8: 李志友 | O8: =SUMIF($I$2:$I$36,N8,$J$2:$J$36) -> 399.84403 | P8: =COUNTIF($B$2:$B$51,N8) -> 4
B9: 杨宗国 | C9: =SUMIF(语文!$G$233:$G$2495,B9,语文!$H$233:$H$495) -> 4648.6692 | D9: =COUNTIF(语文!$G$233:$G$495,B9) -> 47 | E9: =C9/D9 -> 98.907855 | I9: 刘玲君 | J9: =AVERAGEIF($B$10:$B$18,I9,$E$10:$E$18) -> 98.516017 | N9: 张玉婷 | O9: =SUMIF($I$2:$I$36,N9,$J$2:$J$36) -> 144.37011 | P9: =COUNTIF($B$2:$B$51,N9) -> 3
A10: 高三上文科 | B10: 伍开英 | C10: =SUMIF(语文!$K$4:$K$232,B10,语文!$L$4:$L$232) -> 9365.9389 | D10: =COUNTIF(语文!$K$4:$K$232,B10) -> 92 | E10: =C10/D10 -> 101.80368 | I10: 岳子琦 | J10: =AVERAGEIF($B$10:$B$18,I10,$E$10:$E$18) -> 93.924435 | N10: 龚霞 | O10: =SUMIF($I$2:$I$36,N10,$J$2:$J$36) -> 470.52781 | P10: =COUNTIF($B$2:$B$51,N10) -> 7
B11: 刘玲君 | C11: =SUMIF(语文!$K$4:$K$232,B11,语文!$L$4:$L$232) -> 4640.6114 | D11: =COUNTIF(语文!$K$4:$K$232,B11) -> 46 | E11: =C11/D11 -> 100.88286 | I11: 杨宗国 | J11: =AVERAGEIF($B$10:$B$18,I11,$E$10:$E$18) -> 102.83746 | N11: 陈丽娇 | O11: =SUMIF($I$2:$I$36,N11,$J$2:$J$36) -> 95.935784 | P11: =COUNTIF($B$2:$B$51,N11) -> 1
B12: 岳子琦 | C12: =SUMIF(语文!$K$4:$K$232,B12,语文!$L$4:$L$232) -> 4320.524 | D12: =COUNTIF(语文!$K$4:$K$232,B12) -> 46 | E12: =C12/D12 -> 93.924435 | I12: 胡万春 | J12: =AVERAGEIF($B$10:$B$18,I12,$E$10:$E$18) -> 99.902732
B13: 杨宗国 | C13: =SUMIF(语文!$K$4:$K$232,B13,语文!$L$4:$L$232) -> 4610.4803 | D13: =COUNTIF(语文!$K$4:$K$232,B13) -> 45 | E13: =C13/D13 -> 102.45512 | I13: 李志友 | J13: =AVERAGEIF($B$10:$B$18,I13,$E$10:$E$18) -> 100.69632
A14: 高三上理科 | B14: 胡万春 | C14: =SUMIF(语文!$K$233:$K$495,B14,语文!$L$233:$L$495) -> 8591.635 | D14: =COUNTIF(语文!$K$233:$K$495,B14) -> 86 | E14: =C14/D14 -> 99.902732 | H14: 高二下 | I14: 杨宗国 | J14: =AVERAGEIF($B$19:$B$27,I14,$E$19:$E$27) -> 101.89374
B15: 李志友 | C15: =SUMIF(语文!$K$233:$K$495,B15,语文!$L$233:$L$495) -> 8357.7947 | D15: =COUNTIF(语文!$K$233:$K$495,B15) -> 83 | E15: =C15/D15 -> 100.69632 | I15: 刘玲君 | J15: =AVERAGEIF($B$19:$B$27,I15,$E$19:$E$27) -> 109.98431
I16: 胡万春 | J16: =AVERAGEIF($B$19:$B$27,I16,$E$19:$E$27) -> 97.563083
B17: 刘玲君 | C17: =SUMIF(语文!$K$233:$K$495,B17,语文!$L$233:$L$495) -> 4519.0114 | D17: =COUNTIF(语文!$K$233:$K$495,B17) -> 47 | E17: =C17/D17 -> 96.149179 | I17: 龚霞 | J17: =AVERAGEIF($B$19:$B$27,I17,$E$19:$E$27) -> 49
B18: 杨宗国 | C18: =SUMIF(语文!$K$233:$K$495,B18,语文!$L$233:$L$495) -> 4851.3308 | D18: =COUNTIF(语文!$K$233:$K$495,B18) -> 47 | E18: =C18/D18 -> 103.2198 | I18: 张玉婷 | J18: =AVERAGEIF($B$19:$B$27,I18,$E$19:$E$27) -> 41.023775
A19: 高二下文科 | B19: 杨宗国 | C19: =SUMIF(语文!$O$4:$O$232,B19,语文!$P$4:$P$232) -> 4996.9432 | D19: =COUNTIF(语文!$O$4:$O$232,B19) -> 48 | E19: =C19/D19 -> 104.10298 | I19: 岳子琦 | J19: =AVERAGEIF($B$19:$B$27,I19,$E$19:$E$27) -> 101.37952
B20: 刘玲君 | C20: =SUMIF(语文!$O$4:$O$232,B20,语文!$P$4:$P$232) -> 5173.7991 | D20: =COUNTIF(语文!$O$4:$O$232,B20) -> 46 | E20: =C20/D20 -> 112.47389 | I20: 李志友 | J20: =AVERAGEIF($B$19:$B$27,I20,$E$19:$E$27) -> 98.873059
B21: 龚霞 | C21: =SUMIF(语文!$O$4:$O$232,B21,语文!$P$4:$P$232) -> 4595.1965 | D21: =COUNTIF(语文!$O$4:$O$232,B21) -> 46 | E21: 49 | F21: 只上半学期 | H21: 高二上 | I21: 伍开英 | J21: =AVERAGEIF($B$28:$B$34,I21,$E$28:$E$34) -> 92.538447
B22: 张玉婷 | C22: =SUMIF(语文!$O$4:$O$232,B22,语文!$P$4:$P$232) -> 3692.1397 | D22: =COUNTIF(语文!$O$4:$O$232,B22) -> 45 | E22: =C22/D22/2 -> 41.023775 | F22: 只上半学期 | I22: 刘玲君 | J22: =AVERAGEIF($B$28:$B$34,I22,$E$28:$E$34) -> 95.332052
B23: 岳子琦 | C23: =SUMIF(语文!$O$4:$O$232,B23,语文!$P$4:$P$232) -> 4460.6987 | D23: =COUNTIF(语文!$O$4:$O$232,B23) -> 44 | E23: =C23/D23 -> 101.37952 | I23: 龚霞 | J23: =AVERAGEIF($B$28:$B$34,I23,$E$28:$E$34) -> 107.17405
A24: 高二下理科 | B24: 胡万春 | C24: =SUMIF(语文!$O$233:$O$495,B24,语文!$P$233:$P$495) -> 8585.5513 | D24: =COUNTIF(语文!$O$233:$O$495,B24) -> 88 | E24: =C24/D24 -> 97.563083 | I24: 胡万春 | J24: =AVERAGEIF($B$28:$B$34,I24,$E$28:$E$34) -> 105.43121
B25: 李志友 | C25: =SUMIF(语文!$O$233:$O$495,B25,语文!$P$233:$P$495) -> 8206.4639 | D25: =COUNTIF(语文!$O$233:$O$495,B25) -> 83 | E25: =C25/D25 -> 98.873059 | I25: 李志友 | J25: =AVERAGEIF($B$28:$B$34,I25,$E$28:$E$34) -> 99.243914
B26: 刘玲君 | C26: =SUMIF(语文!$O$233:$O$495,B26,语文!$P$233:$P$495) -> 4837.2624 | D26: =COUNTIF(语文!$O$233:$O$495,B26) -> 45 | E26: =C26/D26 -> 107.49472 | I26: 杨宗国 | J26: =AVERAGEIF($B$28:$B$34,I26,$E$28:$E$34) -> 97.710365
B27: 杨宗国 | C27: =SUMIF(语文!$O$233:$O$495,B27,语文!$P$233:$P$495) -> 4685.1711 | D27: =COUNTIF(语文!$O$233:$O$495,B27) -> 47 | E27: =C27/D27 -> 99.684492 | H27: 高一下 | I27: 伍开英 | J27: =AVERAGEIF($B$35:$B$41,I27,$E$35:$E$41) -> 99.53484
A28: 高二上文科 | B28: 伍开英 | C28: =SUMIF(语文!$S$4:$S$232,B28,语文!$T$4:$T$232) -> 8513.5371 | D28: =COUNTIF(语文!$S$4:$S$232,B28) -> 92 | E28: =C28/D28 -> 92.538447 | I28: 刘玲君 | J28: =AVERAGEIF($B$35:$B$41,I28,$E$35:$E$41) -> 96.223237
B29: 刘玲君 | C29: =SUMIF(语文!$S$4:$S$232,B29,语文!$T$4:$T$232) -> 4597.8166 | D29: =COUNTIF(语文!$S$4:$S$232,B29) -> 46 | E29: =C29/D29 -> 99.952535 | I29: 龚霞 | J29: =AVERAGEIF($B$35:$B$41,I29,$E$35:$E$41) -> 102.00737
B30: 龚霞 | C30: =SUMIF(语文!$S$4:$S$232,B30,语文!$T$4:$T$232) -> 9752.8384 | D30: =COUNTIF(语文!$S$4:$S$232,B30) -> 91 | E30: =C30/D30 -> 107.17405 | I30: 胡万春 | J30: =AVERAGEIF($B$35:$B$41,I30,$E$35:$E$41) -> 104.91306
A31: 高二上理科 | B31: 胡万春 | C31: =SUMIF(语文!$S$233:$S$495,B31,语文!$T$233:$T$495) -> 9277.9468 | D31: =COUNTIF(语文!$S$233:$S$495,B31) -> 88 | E31: =C31/D31 -> 105.43121 | I31: 陈丽娇 | J31: =AVERAGEIF($B$35:$B$41,I31,$E$35:$E$41) -> 95.935784
B32: 李志友 | C32: =SUMIF(语文!$S$233:$S$495,B32,语文!$T$233:$T$495) -> 8634.2205 | D32: =COUNTIF(语文!$S$233:$S$495,B32) -> 87 | E32: =C32/D32 -> 99.243914 | H32: 高一上 | I32: 胡万春 | J32: =AVERAGEIF($B$42:$B$51,I32,$E$42:$E$51) -> 98.430351
B33: 刘玲君 | C33: =SUMIF(语文!$S$233:$S$495,B33,语文!$T$233:$T$495) -> 3809.8859 | D33: =COUNTIF(语文!$S$233:$S$495,B33) -> 42 | E33: =C33/D33 -> 90.71157 | I33: 伍开英 | J33: =AVERAGEIF($B$42:$B$51,I33,$E$42:$E$51) -> 101.68097
B34: 杨宗国 | C34: =SUMIF(语文!$S$233:$S$495,B34,语文!$T$233:$T$495) -> 4494.6768 | D34: =COUNTIF(语文!$S$233:$S$495,B34) -> 46 | E34: =C34/D34 -> 97.710365 | I34: 刘玲君 | J34: =AVERAGEIF($B$42:$B$51,I34,$E$42:$E$51) -> 95.803142
A35: 高一下文科 | B35: 伍开英 | C35: =SUMIF(语文!$W$4:$W$232,B35,语文!$X$4:$X$232) -> 9157.2052 | D35: =COUNTIF(语文!$W$4:$W$232,B35) -> 92 | E35: =C35/D35 -> 99.53484 | I35: 龚霞 | J35: =AVERAGEIF($B$42:$B$51,I35,$E$42:$E$51) -> 105.03672
B36: 刘玲君 | C36: =SUMIF(语文!$W$4:$W$232,B36,语文!$X$4:$X$232) -> 4228.3843 | D36: =COUNTIF(语文!$W$4:$W$232,B36) -> 46 | E36: =C36/D36 -> 91.921397 | I36: 张玉婷 | J36: =AVERAGEIF($B$42:$B$51,I36,$E$42:$E$51) -> 103.34634
B37: 龚霞 | C37: =SUMIF(语文!$W$4:$W$232,B37,语文!$X$4:$X$232) -> 9571.6157 | D37: =COUNTIF(语文!$W$4:$W$232,B37) -> 91 | E37: =C37/D37 -> 105.18259
A38: 高一下理科 | B38: 胡万春 | C38: =SUMIF(语文!$W$233:$W$495,B38,语文!$X$233:$X$495) -> 9337.2624 | D38: =COUNTIF(语文!$W$233:$W$495,B38) -> 89 | E38: =C38/D38 -> 104.91306
B39: 陈丽娇 | C39: =SUMIF(语文!$W$233:$W$495,B39,语文!$X$233:$X$495) -> 8634.2205 | D39: =COUNTIF(语文!$W$233:$W$495,B39) -> 90 | E39: =C39/D39 -> 95.935784
B40: 龚霞 | C40: =SUMIF(语文!$W$233:$W$495,B40,语文!$X$233:$X$495) -> 4150.9506 | D40: =COUNTIF(语文!$W$233:$W$495,B40) -> 42 | E40: =C40/D40 -> 98.832156
...

Sheet 数学
A1: 身份证号码 | B1: 科类 | C1: 班级 | D1: 姓名 | E1: 高三下 | I1: 高三上 | M1: 高二下 | Q1: 高二上 | U1: 高一下 | Y1: 高一上 | AC1: 中考
E2: 数学 | I2: 数学 | M2: 数学 | Q2: 数学 | U2: 数学 | Y2: 数学 | AC2: 数学
E3: 成绩 | F3: 排名 | G3: 教师 | H3: 高三下标准分 | I3: 成绩 | J3: 排名 | K3: 教师 | L3: 高三上标准分 | M3: 成绩 | N3: 排名 | O3: 教师 | P3: 高二下标准分 | Q3: 成绩 | R3: 排名 | S3: 教师 | T3: 高二上标准分 | U3: 成绩 | V3: 排名 | W3: 教师 | X3: 高一下标准分 | Y3: 成绩 | Z3: 排名 | AA3: 教师 | AB3: 高一上标准分 | AC3: 成绩 | AD3: 排名
A4: 513422200310010036 | B4: 文科 | C4: 高2018级01班 | D4: 黄富君 | E4: 112 | F4: 1 | G4: 邓国华 | H4: 100.43668 | I4: 100 | J4: 2 | K4: 邓国华 | L4: 101.74672 | M4: 87 | N4: 6 | O4: 邓国华 | P4: 97.816594 | Q4: 105 | R4: 1 | S4: 邓国华 | T4: 110.91703 | U4: 84 | V4: 26 | W4: 邓国华 | X4: 120.52402 | Y4: 58 | Z4: 73 | AA4: 杨周宇 | AB4: 68.995633 | AC4: 104 | AD4: 2
A5: 513422200402102923 | B5: 文科 | C5: 高2018级01班 | D5: 杨丽 | E5: 98 | F5: 9 | G5: 邓国华 | H5: 97.379913 | I5: 99 | J5: 3 | K5: 邓国华 | L5: 99.563319 | M5: 96 | N5: 2 | O5: 邓国华 | P5: 102.62009 | Q5: 101 | R5: 8 | S5: 邓国华 | T5: 99.126638 | U5: 97 | V5: 6 | W5: 邓国华 | X5: 103.05677 | Y5: 92 | Z5: 13 | AA5: 邓国华 | AB5: 96.943231 | AC5: 90 | AD5: 6
A6: 513422200301023812 | B6: 文科 | C6: 高2018级01班 | D6: 谢承彬 | E6: 104 | F6: 5 | G6: 邓国华 | H6: 189.95633 | I6: 0 | J6: 211 | K6: 邓国华 | L6: 8.2969432 | M6: 108 | N6: 1 | O6: 邓国华 | P6: 105.67686 | Q6: 93 | R6: 14 | S6: 邓国华 | T6: 94.759825 | U6: 99 | V6: 2 | W6: 邓国华 | X6: 100.43668 | Y6: 105 | Z6: 3 | AA6: 杨周宇 | AB6: 99.126638 | AC6: 113 | AD6: 1
A7: 513422200010076623 | B7: 文科 | C7: 高2018级01班 | D7: 罗竹青 | E7: 75 | F7: 41 | G7: 邓国华 | H7: 89.519651 | I7: 83 | J7: 17 | K7: 邓国华 | L7: 100.87336 | M7: 69 | N7: 19 | O7: 邓国华 | P7: 153.27511 | Q7: 56 | R7: 141 | S7: 邓国华 | T7: 137.1179 | U7: 0 | V7: 226 | W7: 邓国华 | X7: 4.3668122 | Y7: 97 | Z7: 7 | AA7: 扎拉 | AB7: 162.44541 | AC7: 46 | AD7: 150
A8: 513422200307056826 | B8: 文科 | C8: 高2018级01班 | D8: 伍贵英 | E8: 81 | F8: 24 | G8: 邓国华 | H8: 103.49345 | I8: 77 | J8: 32 | K8: 邓国华 | L8: 112.66376 | M8: 55 | N8: 61 | O8: 邓国华 | P8: 83.842795 | Q8: 86 | R8: 24 | S8: 邓国华 | T8: 96.50655 | U8: 88 | V8: 16 | W8: 邓国华 | X8: 97.379913 | Y8: 95 | Z8: 10 | AA8: 扎拉 | AB8: 147.59825 | AC8: 51 | AD8: 119
A9: 513422200305260022 | B9: 文科 | C9: 高2018级01班 | D9: 郭登婷 | E9: 88 | F9: 13 | G9: 邓国华 | H9: 96.943231 | I9: 93 | J9: 6 | K9: 邓国华 | L9: 99.563319 | M9: 93 | N9: 5 | O9: 邓国华 | P9: 101.31004 | Q9: 101 | R9: 8 | S9: 邓国华 | T9: 97.379913 | U9: 99 | V9: 2 | W9: 邓国华 | X9: 100.87336 | Y9: 100 | Z9: 4 | AA9: 杨周宇 | AB9: 107.86026 | AC9: 77 | AD9: 22
A10: 513422200306084024 | B10: 文科 | C10: 高2018级01班 | D10: 宋加祝玛 | E10: 76 | F10: 38 | G10: 邓国华 | H10: 86.899563 | I10: 91 | J10: 8 | K10: 邓国华 | L10: 113.53712 | M10: 60 | N10: 39 | O10: 邓国华 | P10: 88.646288 | Q10: 94 | R10: 13 | S10: 邓国华 | T10: 101.31004 | U10: 88 | V10: 16 | W10: 邓国华 | X10: 124.89083 | Y10: 58 | Z10: 73 | AA10: 邓国华 | AB10: 148.47162 | AC10: 40 | AD10: 184
A11: 513422200402116823 | B11: 文科 | C11: 高2018级01班 | D11: 沈长英 | E11: 73 | F11: 49 | G11: 邓国华 | H11: 86.026201 | I11: 83 | J11: 17 | K11: 邓国华 | L11: 106.9869 | M11: 61 | N11: 33 | O11: 邓国华 | P11: 99.563319 | Q11: 82 | R11: 32 | S11: 邓国华 | T11: 103.05677 | U11: 79 | V11: 39 | W11: 邓国华 | X11: 94.759825 | Y11: 76 | Z11: 27 | AA11: 扎拉 | AB11: 95.633188 | AC11: 82 | AD11: 17
A12: 513422200206306021 | B12: 文科 | C12: 高2018级01班 | D12: 扎西拉姆 | E12: 78 | F12: 34 | G12: 邓国华 | H12: 92.576419 | I12: 83 | J12: 17 | K12: 邓国华 | L12: 111.79039 | M12: 59 | N12: 44 | O12: 邓国华 | P12: 83.406114 | Q12: 103 | R12: 6 | S12: 邓国华 | T12: 106.9869 | U12: 86 | V12: 22 | W12: 邓国华 | X12: 126.20087 | Y12: 55 | Z12: 82 | AA12: 邓国华 | AB12: 103.49345 | AC12: 58 | AD12: 90
A13: 513422200210052730 | B13: 文科 | C13: 高2018级01班 | D13: 张春才 | E13: 63 | F13: 91 | G13: 邓国华 | H13: 72.052402 | I13: 79 | J13: 27 | K13: 邓国华 | L13: 95.196507 | M13: 70 | N13: 16 | O13: 邓国华 | P13: 139.73799 | Q13: 62 | R13: 107 | S13: 邓国华 | T13: 82.969432 | U13: 71 | V13: 68 | W13: 邓国华 | X13: 97.379913 | Y13: 61 | Z13: 62 | AA13: 邓国华 | AB13: 93.886463 | AC13: 69 | AD13: 48
A14: 513422200302205626 | B14: 文科 | C14: 高2018级01班 | D14: 次尔央青 | E14: 63 | F14: 91 | G14: 邓国华 | H14: 130.56769 | I14: 45 | J14: 161 | K14: 邓国华 | L14: 120.9607 | M14: 0 | N14: 209 | O14: 邓国华 | P14: 108.29694 | Q14: 0 | R14: 228 | S14: 邓国华 | T14: 4.3668122 | U14: 94 | V14: 9 | W14: 邓国华 | X14: 99.563319 | Y14: 96 | Z14: 8 | AA14: 杨周宇 | AB14: 97.816594 | AC14: 96 | AD14: 3
A15: 513422200211086027 | B15: 文科 | C15: 高2018级01班 | D15: 刘长英 | E15: 62 | F15: 94 | G15: 邓国华 | H15: 101.31004 | I15: 59 | J15: 97 | K15: 邓国华 | L15: 95.196507 | M15: 51 | N15: 86 | O15: 邓国华 | P15: 112.66376 | Q15: 60 | R15: 115 | S15: 邓国华 | T15: 120.08734 | U15: 50 | V15: 161 | W15: 邓国华 | X15: 75.545852 | Y15: 45 | Z15: 105 | AA15: 邓国华 | AB15: 62.882096 | AC15: 78 | AD15: 20
... A495: 513422200212020038 | B495: 理科 | C495: 高2018级11班 | D495: 杨航 | E495: 87 | F495: 107 | G495: 邵敏 | H495: 149.04943 | I495: 45 | J495: 236 | K495: 邵敏 | L495: 70.342205 | M495: 51 | N495: 158 | O495: 邵敏 | P495: 127.75665 | Q495: 63 | R495: 231 | S495: 次儿祝玛 | T495: 91.254753 | U495: 53 | V495: 208 | W495: 次儿祝玛 | X495: 116.34981 | Y495: 32 | Z495: 251 | AA495: 杨周宇 | AB495: 104.18251 | AC495: 0 | AD495: 262

Sheet 数学计算
B1: 姓名 | C1: 标准分和 | D1: 学生合计 | E1: 标准分得分 | K1: 教师 | L1: 得分
A2: 高三下期文科 | B2: 邓国华 | C2: =SUMIF(数学!$G$4:$G$232,B2,数学!$H$4:$H$232) -> 4720.9607 | D2: =COUNTIF(数学!$G$4:$G$232,B2) -> 47 | E2: =C2/D2 -> 100.44597 | J2: 高三下 | K2: 邓国华 | L2: =AVERAGEIF($B$2:$B$12,K2,$E$2:$E$12) -> 103.40946 | P2: 姓名 | Q2: 得分 | R2: 三年教学班级
B3: 扎拉 | C3: =SUMIF(数学!$G$4:$G$232,B3,数学!$H$4:$H$232) -> 4958.0786 | D3: =COUNTIF(数学!$G$4:$G$232,B3) -> 46 | E3: =C3/D3 -> 107.78432 | K3: 扎拉 | L3: =AVERAGEIF($B$2:$B$12,K3,$E$2:$E$12) -> 104.22789 | O3: 汇总 | P3: 邓国华 | Q3: =SUMIF($K$2:$K$37,P3,$L$2:$L$37) -> 591.23686 | R3: =COUNTIF($B$2:$B$68,P3) -> 12
B4: 潘勇 | C4: =SUMIF(数学!$G$4:$G$232,B4,数学!$H$4:$H$232) -> 4967.2489 | D4: =COUNTIF(数学!$G$4:$G$232,B4) -> 46 | E4: =C4/D4 -> 107.98367 | K4: 潘勇 | L4: =AVERAGEIF($B$2:$B$12,K4,$E$2:$E$12) -> 100.36541 | P4: 扎拉 | Q4: =SUMIF($K$2:$K$37,P4,$L$2:$L$37) -> 604.08882 | R4: =COUNTIF($B$2:$B$68,P4) -> 12
B5: 邵敏 | C5: =SUMIF(数学!$G$4:$G$232,B5,数学!$H$4:$H$232) -> 4100.4367 | D5: =COUNTIF(数学!$G$4:$G$232,B5) -> 45 | E5: =C5/D5 -> 91.120815 | K5: 邵敏 | L5: =AVERAGEIF($B$2:$B$12,K5,$E$2:$E$12) -> 98.079419 | P5: 潘勇 | Q5: =SUMIF($K$2:$K$37,P5,$L$2:$L$37) -> 604.29273 | R5: =COUNTIF($B$2:$B$68,P5) -> 12
B6: 次儿祝玛 | C6: =SUMIF(数学!$G$4:$G$232,B6,数学!$H$4:$H$232) -> 4093.4498 | D6: =COUNTIF(数学!$G$4:$G$232,B6) -> 45 | E6: =C6/D6 -> 90.965551 | K6: 次儿祝玛 | L6: =AVERAGEIF($B$2:$B$12,K6,$E$2:$E$12) -> 96.313972 | P6: 邵敏 | Q6: =SUMIF($K$2:$K$37,P6,$L$2:$L$37) -> 399.47767 | R6: =COUNTIF($B$2:$B$68,P6) -> 8
A7: 高三下期理科 | B7: 邓国华 | C7: =SUMIF(数学!$G$233:$G$495,B7,数学!$H$233:$H$495) -> 4893.1559 | D7: =COUNTIF(数学!$G$233:$G$495,B7) -> 46 | E7: =C7/D7 -> 106.37295 | K7: 张建国 | L7: =AVERAGEIF($B$2:$B$12,K7,$E$2:$E$12) -> 93.697921 | P7: 次儿祝玛 | Q7: =SUMIF($K$2:$K$37,P7,$L$2:$L$37) -> 612.9928 | R7: =COUNTIF($B$2:$B$68,P7) -> 12
B8: 次儿祝玛 | C8: =SUMIF(数学!$G$233:$G$495,B8,数学!$H$233:$H$495) -> 4371.4829 | D8: =COUNTIF(数学!$G$233:$G$495,B8) -> 43 | E8: =C8/D8 -> 101.66239 | J8: 高三上 | K8: 邓国华 | L8: =AVERAGEIF($B$13:$B$23,K8,$E$13:$E$23) -> 100.20966 | P8: 张建国 | Q8: =SUMIF($K$2:$K$37,P8,$L$2:$L$37) -> 593.01063 | R8: =COUNTIF($B$2:$B$68,P8) -> 8
B9: 潘勇 | C9: =SUMIF(数学!$G$233:$G$495,B9,数学!$H$233:$H$495) -> 3709.8859 | D9: =COUNTIF(数学!$G$233:$G$495,B9) -> 40 | E9: =C9/D9 -> 92.747148 | K9: 扎拉 | L9: =AVERAGEIF($B$13:$B$23,K9,$E$13:$E$23) -> 94.204672 | P9: 杨周宇 | Q9: =SUMIF($K$2:$K$37,P9,$L$2:$L$37) -> 186.05326 | R9: =COUNTIF($B$2:$B$68,P9) -> 3
B10: 扎拉 | C10: =SUMIF(数学!$G$233:$G$495,B10,数学!$H$233:$H$495) -> 4731.5589 | D10: =COUNTIF(数学!$G$233:$G$495,B10) -> 47 | E10: =C10/D10 -> 100.67147 | K10: 潘勇 | L10: =AVERAGEIF($B$13:$B$23,K10,$E$13:$E$23) -> 103.31309
B11: 张建国 | C11: =SUMIF(数学!$G$233:$G$495,B11,数学!$H$233:$H$495) -> 4403.8023 | D11: =COUNTIF(数学!$G$233:$G$495,B11) -> 47 | E11: =C11/D11 -> 93.697921 | K11: 邵敏 | L11: =AVERAGEIF($B$13:$B$23,K11,$E$13:$E$23) -> 100.31729
B12: 邵敏 | C12: =SUMIF(数学!$G$233:$G$495,B12,数学!$H$233:$H$495) -> 4201.5209 | D12: =COUNTIF(数学!$G$233:$G$495,B12) -> 40 | E12: =C12/D12 -> 105.03802 | K12: 次儿祝玛 | L12: =AVERAGEIF($B$13:$B$23,K12,$E$13:$E$23) -> 98.879225
A13: 高三上期文科 | B13: 邓国华 | C13: =SUMIF(数学!$K$4:$K$232,B13,数学!$L$4:$L$232) -> 4653.2751 | D13: =COUNTIF(数学!$K$4:$K$232,B13) -> 47 | E13: =C13/D13 -> 99.005853 | K13: 张建国 | L13: =AVERAGEIF($B$13:$B$23,K13,$E$13:$E$23) -> 106.26972
B14: 扎拉 | C14: =SUMIF(数学!$K$4:$K$232,B14,数学!$L$4:$L$232) -> 4263.3188 | D14: =COUNTIF(数学!$K$4:$K$232,B14) -> 46 | E14: =C14/D14 -> 92.680843 | J14: 高二下 | K14: 邓国华 | L14: =AVERAGEIF($B$24:$B$34,K14,$E$24:$E$34) -> 99.966361
B15: 潘勇 | C15: =SUMIF(数学!$K$4:$K$232,B15,数学!$L$4:$L$232) -> 4575.9825 | D15: =COUNTIF(数学!$K$4:$K$232,B15) -> 46 | E15: =C15/D15 -> 99.477881 | K15: 扎拉 | L15: =AVERAGEIF($B$24:$B$34,K15,$E$24:$E$34) -> 102.01277
B16: 邵敏 | C16: =SUMIF(数学!$K$4:$K$232,B16,数学!$L$4:$L$232) -> 4599.5633 | D16: =COUNTIF(数学!$K$4:$K$232,B16) -> 45 | E16: =C16/D16 -> 102.21252 | K16: 潘勇 | L16: =AVERAGEIF($B$24:$B$34,K16,$E$24:$E$34) -> 99.059816
B17: 次儿祝玛 | C17: =SUMIF(数学!$K$4:$K$232,B17,数学!$L$4:$L$232) -> 4771.179 | D17: =COUNTIF(数学!$K$4:$K$232,B17) -> 45 | E17: =C17/D17 -> 106.0262 | K17: 邵敏 | L17: =AVERAGEIF($B$24:$B$34,K17,$E$24:$E$34) -> 104.51837
A18: 高三上期理科 | B18: 邓国华 | C18: =SUMIF(数学!$K$233:$K$495,B18,数学!$L$233:$L$495) -> 4665.019 | D18: =COUNTIF(数学!$K$233:$K$495,B18) -> 46 | E18: =C18/D18 -> 101.41346 | K18: 次儿祝玛 | L18: =AVERAGEIF($B$24:$B$34,K18,$E$24:$E$34) -> 98.892923
B19: 次儿祝玛 | C19: =SUMIF(数学!$K$233:$K$495,B19,数学!$L$233:$L$495) -> 3944.4867 | D19: =COUNTIF(数学!$K$233:$K$495,B19) -> 43 | E19: =C19/D19 -> 91.732249 | K19: 张建国 | L19: =AVERAGEIF($B$24:$B$34,K19,$E$24:$E$34) -> 92.541057
B20: 潘勇 | C20: =SUMIF(数学!$K$233:$K$495,B20,数学!$L$233:$L$495) -> 4285.9316 | D20: =COUNTIF(数学!$K$233:$K$495,B20) -> 40 | E20: =C20/D20 -> 107.14829 | J20: 高二上 | K20: 邓国华 | L20: =AVERAGEIF($B$35:$B$45,K20,$E$35:$E$45) -> 102.05425
B21: 扎拉 | C21: =SUMIF(数学!$K$233:$K$495,B21,数学!$L$233:$L$495) -> 4499.2395 | D21: =COUNTIF(数学!$K$233:$K$495,B21) -> 47 | E21: =C21/D21 -> 95.728501 | K21: 扎拉 | L21: =AVERAGEIF($B$35:$B$45,K21,$E$35:$E$45) -> 107.15879
B22: 张建国 | C22: =SUMIF(数学!$K$233:$K$495,B22,数学!$L$233:$L$495) -> 4994.6768 | D22: =COUNTIF(数学!$K$233:$K$495,B22) -> 47 | E22: =C22/D22 -> 106.26972 | K22: 潘勇 | L22: =AVERAGEIF($B$35:$B$45,K22,$E$35:$E$45) -> 99.711607
B23: 邵敏 | C23: =SUMIF(数学!$K$233:$K$495,B23,数学!$L$233:$L$495) -> 3936.8821 | D23: =COUNTIF(数学!$K$233:$K$495,B23) -> 40 | E23: =C23/D23 -> 98.422053 | K23: 邵敏 | L23: =AVERAGEIF($B$35:$B$45,K23,$E$35:$E$45) -> 96.56259
A24: 高二下期文科 | B24: 邓国华 | C24: =SUMIF(数学!$O$4:$O$232,B24,数学!$P$4:$P$232) -> 4842.7948 | D24: =COUNTIF(数学!$O$4:$O$232,B24) -> 48 | E24: =C24/D24 -> 100.89156 | K24: 次儿祝玛 | L24: =AVERAGEIF($B$35:$B$45,K24,$E$35:$E$45) -> 93.376909
B25: 扎拉 | C25: =SUMIF(数学!$O$4:$O$232,B25,数学!$P$4:$P$232) -> 4622.7074 | D25: =COUNTIF(数学!$O$4:$O$232,B25) -> 46 | E25: =C25/D25 -> 100.49364 | K25: 张建国 | L25: =AVERAGEIF($B$35:$B$45,K25,$E$35:$E$45) -> 102.07472
B26: 潘勇 | C26: =SUMIF(数学!$O$4:$O$232,B26,数学!$P$4:$P$232) -> 4570.3057 | D26: =COUNTIF(数学!$O$4:$O$232,B26) -> 44 | E26: =C26/D26 -> 103.87058 | J26: 高一下 | K26: 邓国华 | L26: =AVERAGEIF($B$46:$B$56,K26,$E$46:$E$56) -> 96.353618
B27: 邵敏 | C27: =SUMIF(数学!$O$4:$O$232,B27,数学!$P$4:$P$232) -> 4935.8079 | D27: =COUNTIF(数学!$O$4:$O$232,B27) -> 47 | E27: =C27/D27 -> 105.01719 | K27: 扎拉 | L27: =AVERAGEIF($B$46:$B$56,K27,$E$46:$E$56) -> 94.125443
B28: 次儿祝玛 | C28: =SUMIF(数学!$O$4:$O$232,B28,数学!$P$4:$P$232) -> 4009.607 | D28: =COUNTIF(数学!$O$4:$O$232,B28) -> 44 | E28: =C28/D28 -> 91.127432 | K28: 潘勇 | L28: =AVERAGEIF($B$46:$B$56,K28,$E$46:$E$56) -> 99.062972
A29: 高二下期理科 | B29: 邓国华 | C29: =SUMIF(数学!$O$233:$O$495,B29,数学!$P$233:$P$495) -> 4555.8935 | D29: =COUNTIF(数学!$O$233:$O$495,B29) -> 46 | E29: =C29/D29 -> 99.041164 | K29: 张建国 | L29: =AVERAGEIF($B$46:$B$56,K29,$E$46:$E$56) -> 101.85374
B30: 次儿祝玛 | C30: =SUMIF(数学!$O$233:$O$495,B30,数学!$P$233:$P$495) -> 4586.3118 | D30: =COUNTIF(数学!$O$233:$O$495,B30) -> 43 | E30: =C30/D30 -> 106.65841 | K30: 次儿祝玛 | L30: =AVERAGEIF($B$46:$B$56,K30,$E$46:$E$56) -> 113.03021
B31: 潘勇 | C31: =SUMIF(数学!$O$233:$O$495,B31,数学!$P$233:$P$495) -> 3769.962 | D31: =COUNTIF(数学!$O$233:$O$495,B31) -> 40 | E31: =C31/D31 -> 94.249049 | K31: 杨周宇 | L31: =AVERAGEIF($B$46:$B$56,K31,$E$46:$E$56) -> 93.219265
B32: 扎拉 | C32: =SUMIF(数学!$O$233:$O$495,B32,数学!$P$233:$P$495) -> 4658.9354 | D32: =COUNTIF(数学!$O$233:$O$495,B32) -> 45 | E32: =C32/D32 -> 103.5319 | J32: 高一上 | K32: 邓国华 | L32: =AVERAGEIF($B$57:$B$68,K32,$E$57:$E$68) -> 89.243512
B33: 邵敏 | C33: =SUMIF(数学!$O$233:$O$495,B33,数学!$P$233:$P$495) -> 4368.8213 | D33: =COUNTIF(数学!$O$233:$O$495,B33) -> 42 | E33: =C33/D33 -> 104.01955 | K33: 杨周宇 | L33: =AVERAGEIF($B$57:$B$68,K33,$E$57:$E$68) -> 92.833992
B34: 张建国 | C34: =SUMIF(数学!$O$233:$O$495,B34,数学!$P$233:$P$495) -> 4349.4297 | D34: =COUNTIF(数学!$O$233:$O$495,B34) -> 47 | E34: =C34/D34 -> 92.541057 | K34: 次儿祝玛 | L34: =AVERAGEIF($B$57:$B$68,K34,$E$57:$E$68) -> 112.49956
A35: 高二上期文科 | B35: 邓国华 | C35: =SUMIF(数学!$S$4:$S$232,B35,数学!$T$4:$T$232) -> 4799.5633 | D35: =COUNTIF(数学!$S$4:$S$232,B35) -> 47 | E35: =C35/D35 -> 102.11837 | K35: 潘勇 | L35: =AVERAGEIF($B$57:$B$68,K35,$E$57:$E$68) -> 102.77984
B36: 扎拉 | C36: =SUMIF(数学!$S$4:$S$232,B36,数学!$T$4:$T$232) -> 5125.7642 | D36: =COUNTIF(数学!$S$4:$S$232,B36) -> 46 | E36: =C36/D36 -> 111.42966 | K36: 扎拉 | L36: =AVERAGEIF($B$57:$B$68,K36,$E$57:$E$68) -> 102.35926
B37: 潘勇 | C37: =SUMIF(数学!$S$4:$S$232,B37,数学!$T$4:$T$232) -> 4179.0393 | D37: =COUNTIF(数学!$S$4:$S$232,B37) -> 44 | E37: =C37/D37 -> 94.978166 | K37: 张建国 | L37: =AVERAGEIF($B$57:$B$68,K37,$E$57:$E$68) -> 96.573473
B38: 邵敏 | C38: =SUMIF(数学!$S$4:$S$232,B38,数学!$T$4:$T$232) -> 4391.7031 | D38: =COUNTIF(数学!$S$4:$S$232,B38) -> 47 | E38: =C38/D38 -> 93.440491
B39: 次儿祝玛 | C39: =SUMIF(数学!$S$4:$S$232,B39,数学!$T$4:$T$232) -> 4424.4541 | D39: =COUNTIF(数学!$S$4:$S$232,B39) -> 45 | E39: =C39/D39 -> 98.321203
A40: 高二上期理科 | B40: 邓国华 | C40: =SUMIF(数学!$S$233:$S$495,B40,数学!$T$233:$T$495) -> 4793.5361 | D40: =COUNTIF(数学!$S$233:$S$495,B40) -> 47 | E40: =C40/D40 -> 101.99013
...

Sheet 外语
A1: 身份证号码 | B1: 科类 | C1: 班级 | D1: 姓名 | E1: 高三下 | I1: 高三上 | M1: 高二下 | Q1: 高二上 | U1: 高一下 | Y1: 高一上 | AC1: 中考
E2: 英语 | I2: 外语 | M2: 外语 | Q2: 外语 | U2: 外语 | Y2: 外语 | AC2: 外语
E3: 成绩 | F3: 排名 | G3: 教师 | H3: 高三下标准分 | I3: 成绩 | J3: 排名 | K3: 教师 | L3: 高三上标准分 | M3: 成绩 | N3: 排名 | O3: 教师 | P3: 高二下标准分 | Q3: 成绩 | R3: 排名 | S3: 教师 | T3: 高二上标准分 | U3: 成绩 | V3: 排名 | W3: 教师 | X3: 高一下标准分 | Y3: 成绩 | Z3: 排名 | AA3: 教师 | AB3: 高一上标准分 | AC3: 成绩 | AD3: 排名
A4: 513422200310010036 | B4: 文科 | C4: 高2018级01班 | D4: 黄富君 | E4: 131 | F4: 2 | G4: 车梦德 | H4: 100.43668 | I4: 108.5 | J4: 3 | K4: 车梦德 | L4: 99.126638 | M4: 110.5 | N4: 1 | O4: 车梦德 | P4: 100 | Q4: 120.5 | R4: 1 | S4: 车梦德 | T4: 101.74672 | U4: 104.5 | V4: 5 | W4: 车梦德 | X4: 98.689956 | Y4: 113.5 | Z4: 2 | AA4: 车梦德 | AB4: 103.49345 | AC4: 113 | AD4: 10
A5: 513422200402102923 | B5: 文科 | C5: 高2018级01班 | D5: 杨丽 | E5: 117 | F5: 9 | G5: 车梦德 | H5: 100.43668 | I5: 97 | J5: 10 | K5: 车梦德 | L5: 104.36681 | M5: 82.5 | N5: 20 | O5: 车梦德 | P5: 97.816594 | Q5: 99 | R5: 15 | S5: 车梦德 | T5: 132.75109 | U5: 66.5 | V5: 90 | W5: 车梦德 | X5: 80.349345 | Y5: 81 | Z5: 45 | AA5: 车梦德 | AB5: 104.36681 | AC5: 83 | AD5: 55
A6: 513422200301023812 | B6: 文科 | C6: 高2018级01班 | D6: 谢承彬 | E6: 106 | F6: 21 | G6: 车梦德 | H6: 182.53275 | I6: 0 | J6: 210 | K6: 车梦德 | L6: 35.371179 | M6: 69.5 | N6: 62 | O6: 车梦德 | P6: 105.24017 | Q6: 73.5 | R6: 74 | S6: 车梦德 | T6: 82.09607 | U6: 83.5 | V6: 33 | W6: 车梦德 | X6: 115.28384 | Y6: 73.5 | Z6: 68 | AA6: 车梦德 | AB6: 81.222707 | AC6: 98 | AD6: 25
A7: 513422200010076623 | B7: 文科 | C7: 高2018级01班 | D7: 罗竹青 | E7: 133 | F7: 1 | G7: 车梦德 | H7: 101.31004 | I7: 105 | J7: 4 | K7: 车梦德 | L7: 99.126638 | M7: 109 | N7: 2 | O7: 车梦德 | P7: 101.31004 | Q7: 114.5 | R7: 5 | S7: 车梦德 | T7: 196.50655 | U7: 0 | V7: 226 | W7: 车梦德 | X7: 1.7467249 | Y7: 115 | Z7: 1 | AA7: 曾春兰 | AB7: 101.31004 | AC7: 117 | AD7: 4
A8: 513422200307056826 | B8: 文科 | C8: 高2018级01班 | D8: 伍贵英 | E8: 127 | F8: 3 | G8: 车梦德 | H8: 99.563319 | I8: 109.5 | J8: 2 | K8: 车梦德 | L8: 101.31004 | M8: 96 | N8: 5 | O8: 车梦德 | P8: 100.43668 | Q8: 110 | R8: 6 | S8: 车梦德 | T8: 99.126638 | U8: 105 | V8: 4 | W8: 车梦德 | X8: 101.74672 | Y8: 105.5 | Z8: 8 | AA8: 曾春兰 | AB8: 102.18341 | AC8: 111 | AD8: 13
A9: 513422200305260022 | B9: 文科 | C9: 高2018级01班 | D9: 郭登婷 | E9: 125 | F9: 6 | G9: 车梦德 | H9: 99.563319 | I9: 104 | J9: 5 | K9: 车梦德 | L9: 106.11354 | M9: 83.5 | N9: 19 | O9: 车梦德 | P9: 94.759825 | Q9: 107 | R9: 7 | S9: 车梦德 | T9: 99.563319 | U9: 104 | V9: 6 | W9: 车梦德 | X9: 101.31004 | Y9: 104 | Z9: 9 | AA9: 车梦德 | AB9: 99.126638 | AC9: 114 | AD9: 7
A10: 513422200306084024 | B10: 文科 | C10: 高2018级01班 | D10: 宋加祝玛 | E10: 127 | F10: 3 | G10: 车梦德 | H10: 99.126638 | I10: 110.5 | J10: 1 | K10: 车梦德 | L10: 101.74672 | M10: 96 | N10: 5 | O10: 车梦德 | P10: 99.126638 | Q10: 119.5 | R10: 3 | S10: 车梦德 | T10: 100 | U10: 107.5 | V10: 3 | W10: 车梦德 | X10: 100.43668 | Y10: 107.5 | Z10: 4 | AA10: 车梦德 | AB10: 104.36681 | AC10: 108 | AD10: 14
A11: 513422200402116823 | B11: 文科 | C11: 高2018级01班 | D11: 沈长英 | E11: 115 | F11: 12 | G11: 车梦德 | H11: 100 | I11: 96.5 | J11: 12 | K11: 车梦德 | L11: 105.24017 | M11: 80.5 | N11: 24 | O11: 车梦德 | P11: 98.689956 | Q11: 94.5 | R11: 21 | S11: 车梦德 | T11: 95.196507 | U11: 96 | V11: 10 | W11: 车梦德 | X11: 107.42358 | Y11: 87.5 | Z11: 27 | AA11: 曾春兰 | AB11: 116.15721 | AC11: 81 | AD11: 64
A12: 513422200206306021 | B12: 文科 | C12: 高2018级01班 | D12: 扎西拉姆 | E12: 120 | F12: 7 | G12: 车梦德 | H12: 103.05677 | I12: 95.5 | J12: 14 | K12: 车梦德 | L12: 95.196507 | M12: 97.5 | N12: 3 | O12: 车梦德 | P12: 99.563319 | Q12: 120 | R12: 2 | S12: 车梦德 | T12: 102.62009 | U12: 98 | V12: 8 | W12: 车梦德 | X12: 99.563319 | Y12: 106 | Z12: 7 | AA12: 车梦德 | AB12: 106.55022 | AC12: 99 | AD12: 22
A13: 513422200210052730 | B13: 文科 | C13: 高2018级01班 | D13: 张春才 | E13: 112 | F13: 18 | G13: 车梦德 | H13: 104.36681 | I13: 80 | J13: 28 | K13: 车梦德 | L13: 89.956332 | M13: 96 | N13: 5 | O13: 车梦德 | P13: 131.00437 | Q13: 72.5 | R13: 76 | S13: 车梦德 | T13: 85.58952 | U13: 80 | V13: 43 | W13: 车梦德 | X13: 112.22707 | Y13: 73 | Z13: 71 | AA13: 车梦德 | AB13: 93.0131 | AC13: 83 | AD13: 55
A14: 513422200302205626 | B14: 文科 | C14: 高2018级01班 | D14: 次尔央青 | E14: 118 | F14: 8 | G14: 车梦德 | H14: 151.0917 | I14: 51.5 | J14: 125 | K14: 车梦德 | L14: 136.68122 | M14: 0 | N14: 209 | O14: 车梦德 | P14: 108.29694 | Q14: 0 | R14: 228 | S14: 车梦德 | T14: 0.87336245 | U14: 116 | V14: 1 | W14: 车梦德 | X14: 101.31004 | Y14: 107.5 | Z14: 4 | AA14: 车梦德 | AB14: 99.126638 | AC14: 120 | AD14: 2
A15: 513422200211086027 | B15: 文科 | C15: 高2018级01班 | D15: 刘长英 | E15: 115 | F15: 12 | G15: 车梦德 | H15: 97.816594 | I15: 102 | J15: 7 | K15: 车梦德 | L15: 108.29694 | M15: 80 | N15: 26 | O15: 车梦德 | P15: 98.689956 | Q15: 92 | R15: 23 | S15: 车梦德 | T15: 103.49345 | U15: 84 | V15: 31 | W15: 车梦德 | X15: 132.75109 | Y15: 64 | Z15: 106 | AA15: 车梦德 | AB15: 74.672489 | AC15: 85 | AD15: 48
... A495: 513422200212020038 | B495: 理科 | C495: 高2018级11班 | D495: 杨航 | E495: 84 | F495: 128 | G495: 肖秀秀 | H495: 77.56654 | I495: 88.5 | J495: 69 | K495: 肖秀秀 | L495: 100 | M495: 83.5 | N495: 69 | O495: 肖秀秀 | P495: 103.04183 | Q495: 88.5 | R495: 77 | S495: 赵金秀 | T495: 101.14068 | U495: 81 | V495: 80 | W495: 赵金秀 | X495: 100 | Y495: 80 | Z495: 80 | AA495: 车梦德 | AB495: 169.20152 | AC495: 0 | AD495: 262

Sheet 外语计算
B1: 姓名 | C1: 标准分和 | D1: 学生合计 | E1: 标准分得分 | K1: 教师 | L1: 得分 | P1: 教师 | Q1: 得分 | R1: 三年教学班级
A2: 高三下期文科 | B2: 车梦德 | C2: =SUMIF(外语!$G$4:$G$232,B2,外语!$H$4:$H$232) -> 9829.6943 | D2: =COUNTIF(外语!$G$4:$G$232,B2) -> 93 | E2: =C2/D2 -> 105.69564 | J2: 高三下 | K2: 车梦德 | L2: =AVERAGEIF($B$2:$B$9,K2,$E$2:$E$9) -> 105.69564 | O2: 汇总 | P2: 车梦德 | Q2: =SUMIF($K$2:$K$34,P2,$L$2:$L$34) -> 606.45774 | R2: =COUNTIF(B:B,P2) -> 8
B3: 梅晓群 | C3: =SUMIF(外语!$G$4:$G$232,B3,外语!$H$4:$H$232) -> 4400.4367 | D3: =COUNTIF(外语!$G$4:$G$232,B3) -> 46 | E3: =C3/D3 -> 95.661667 | K3: 梅晓群 | L3: =AVERAGEIF($B$2:$B$9,K3,$E$2:$E$9) -> 97.275966 | P3: 梅晓群 | Q3: =SUMIF($K$2:$K$34,P3,$L$2:$L$34) -> 199.91792 | R3: =COUNTIF(B:B,P3) -> 4
B4: 黄健君 | C4: =SUMIF(外语!$G$4:$G$232,B4,外语!$H$4:$H$232) -> 4468.9956 | D4: =COUNTIF(外语!$G$4:$G$232,B4) -> 45 | E4: =C4/D4 -> 99.311014 | K4: 黄健君 | L4: =AVERAGEIF($B$2:$B$9,K4,$E$2:$E$9) -> 99.255054 | P4: 黄健君 | Q4: =SUMIF($K$2:$K$34,P4,$L$2:$L$34) -> 602.17231 | R4: =COUNTIF(B:B,P4) -> 12
B5: 赵金秀 | C5: =SUMIF(外语!$G$4:$G$232,B5,外语!$H$4:$H$232) -> 4175.1092 | D5: =COUNTIF(外语!$G$4:$G$232,B5) -> 45 | E5: =C5/D5 -> 92.780204 | K5: 赵金秀 | L5: =AVERAGEIF($B$2:$B$9,K5,$E$2:$E$9) -> 97.424676 | P5: 赵金秀 | Q5: =SUMIF($K$2:$K$34,P5,$L$2:$L$34) -> 595.161 | R5: =COUNTIF(B:B,P5) -> 12
A6: 高三下期理科 | B6: 梅晓群 | C6: =SUMIF(外语!$G$233:$G$495,B6,外语!$H$233:$H$495) -> 8504.5627 | D6: =COUNTIF(外语!$G$233:$G$495,B6) -> 86 | E6: =C6/D6 -> 98.890264 | K6: 肖秀秀 | L6: =AVERAGEIF($B$2:$B$9,K6,$E$2:$E$9) -> 101.23683 | P6: 肖秀秀 | Q6: =SUMIF($K$2:$K$34,P6,$L$2:$L$34) -> 505.39505 | R6: =COUNTIF(B:B,P6) -> 5
B7: 赵金秀 | C7: =SUMIF(外语!$G$233:$G$495,B7,外语!$H$233:$H$495) -> 4388.9734 | D7: =COUNTIF(外语!$G$233:$G$495,B7) -> 43 | E7: =C7/D7 -> 102.06915 | J7: 高三上 | K7: 车梦德 | L7: =AVERAGEIF($B$10:$B$17,K7,$E$10:$E$17) -> 100.67146 | P7: 王图雄 | Q7: =SUMIF($K$2:$K$34,P7,$L$2:$L$34) -> 197.80989 | R7: =COUNTIF(B:B,P7) -> 2
B8: 肖秀秀 | C8: =SUMIF(外语!$G$233:$G$495,B8,外语!$H$233:$H$495) -> 8807.6046 | D8: =COUNTIF(外语!$G$233:$G$495,B8) -> 87 | E8: =C8/D8 -> 101.23683 | K8: 梅晓群 | L8: =AVERAGEIF($B$10:$B$17,K8,$E$10:$E$17) -> 102.64195 | P8: 王海鹰 | Q8: =SUMIF($K$2:$K$34,P8,$L$2:$L$34) -> 97.873816 | R8: =COUNTIF(B:B,P8) -> 2
B9: 黄健君 | C9: =SUMIF(外语!$G$233:$G$495,B9,外语!$H$233:$H$495) -> 4662.3574 | D9: =COUNTIF(外语!$G$233:$G$495,B9) -> 47 | E9: =C9/D9 -> 99.199094 | K9: 黄健君 | L9: =AVERAGEIF($B$10:$B$17,K9,$E$10:$E$17) -> 97.383347 | P9: 程长寿 | Q9: =SUMIF($K$2:$K$34,P9,$L$2:$L$34) -> 98.357699 | R9: =COUNTIF(B:B,P9) -> 1
A10: 高三上期文科 | B10: 车梦德 | C10: =SUMIF(外语!$K$4:$K$232,B10,外语!$L$4:$L$232) -> 9362.4454 | D10: =COUNTIF(外语!$K$4:$K$232,B10) -> 93 | E10: =C10/D10 -> 100.67146 | K10: 赵金秀 | L10: =AVERAGEIF($B$10:$B$17,K10,$E$10:$E$17) -> 99.641214 | P10: 赵顺诚 | Q10: =SUMIF($K$2:$K$34,P10,$L$2:$L$34) -> 100.76046 | R10: =COUNTIF(B:B,P10) -> 1
B11: 梅晓群 | C11: =SUMIF(外语!$K$4:$K$232,B11,外语!$L$4:$L$232) -> 4727.9476 | D11: =COUNTIF(外语!$K$4:$K$232,B11) -> 46 | E11: =C11/D11 -> 102.78147 | K11: 肖秀秀 | L11: =AVERAGEIF($B$10:$B$17,K11,$E$10:$E$17) -> 98.365456 | P11: 曾春兰 | Q11: =SUMIF($K$2:$K$34,P11,$L$2:$L$34) -> 94.63844 | R11: =COUNTIF(B:B,P11) -> 2
B12: 黄健君 | C12: =SUMIF(外语!$K$4:$K$232,B12,外语!$L$4:$L$232) -> 4220.0873 | D12: =COUNTIF(外语!$K$4:$K$232,B12) -> 45 | E12: =C12/D12 -> 93.779719 | J12: 高二下 | K12: 车梦德 | L12: =AVERAGEIF($B$18:$B$24,K12,$E$18:$E$24) -> 100.03797 | P12: 聂艳梅 | Q12: =SUMIF($K$2:$K$34,P12,$L$2:$L$34) -> 104.50664 | R12: =COUNTIF(B:B,P12) -> 2
B13: 赵金秀 | C13: =SUMIF(外语!$K$4:$K$232,B13,外语!$L$4:$L$232) -> 4593.4498 | D13: =COUNTIF(外语!$K$4:$K$232,B13) -> 45 | E13: =C13/D13 -> 102.07666 | K13: 黄健君 | L13: =AVERAGEIF($B$18:$B$24,K13,$E$18:$E$24) -> 98.848029
A14: 高三上期理科 | B14: 梅晓群 | C14: =SUMIF(外语!$K$233:$K$495,B14,外语!$L$233:$L$495) -> 8815.2091 | D14: =COUNTIF(外语!$K$233:$K$495,B14) -> 86 | E14: =C14/D14 -> 102.50243 | K14: 赵金秀 | L14: =AVERAGEIF($B$18:$B$24,K14,$E$18:$E$24) -> 99.454469
B15: 赵金秀 | C15: =SUMIF(外语!$K$233:$K$495,B15,外语!$L$233:$L$495) -> 4179.8479 | D15: =COUNTIF(外语!$K$233:$K$495,B15) -> 43 | E15: =C15/D15 -> 97.205765 | K15: 王图雄 | L15: =AVERAGEIF($B$18:$B$24,K15,$E$18:$E$24) -> 101.3308
B16: 肖秀秀 | C16: =SUMIF(外语!$K$233:$K$495,B16,外语!$L$233:$L$495) -> 8557.7947 | D16: =COUNTIF(外语!$K$233:$K$495,B16) -> 87 | E16: =C16/D16 -> 98.365456 | K16: 肖秀秀 | L16: =AVERAGEIF($B$18:$B$24,K16,$E$18:$E$24) -> 101.4281
B17: 黄健君 | C17: =SUMIF(外语!$K$233:$K$495,B17,外语!$L$233:$L$495) -> 4746.3878 | D17: =COUNTIF(外语!$K$233:$K$495,B17) -> 47 | E17: =C17/D17 -> 100.98698
A18: 高二下期文科 | B18: 车梦德 | C18: =SUMIF(外语!$O$4:$O$232,B18,外语!$P$4:$P$232) -> 13805.24 | D18: =COUNTIF(外语!$O$4:$O$232,B18) -> 138 | E18: =C18/D18 -> 100.03797 | J18: 高二上 | K18: 车梦德 | L18: =AVERAGEIF($B$25:$B$33,K18,$E$25:$E$33) -> 102.956
B19: 黄健君 | C19: =SUMIF(外语!$O$4:$O$232,B19,外语!$P$4:$P$232) -> 4782.9694 | D19: =COUNTIF(外语!$O$4:$O$232,B19) -> 47 | E19: =C19/D19 -> 101.76531 | K19: 王海鹰 | L19: =AVERAGEIF($B$25:$B$33,K19,$E$25:$E$33) -> 97.873816
B20: 赵金秀 | C20: =SUMIF(外语!$O$4:$O$232,B20,外语!$P$4:$P$232) -> 4402.1834 | D20: =COUNTIF(外语!$O$4:$O$232,B20) -> 44 | E20: =C20/D20 -> 100.04962 | K20: 黄健君 | L20: =AVERAGEIF($B$25:$B$33,K20,$E$25:$E$33) -> 100.82213
A21: 高二下期理科 | B21: 王图雄 | C21: =SUMIF(外语!$O$233:$O$495,B21,外语!$P$233:$P$495) -> 4661.2167 | D21: =COUNTIF(外语!$O$233:$O$495,B21) -> 46 | E21: =C21/D21 -> 101.3308 | K21: 赵金秀 | L21: =AVERAGEIF($B$25:$B$33,K21,$E$25:$E$33) -> 98.161899
B22: 赵金秀 | C22: =SUMIF(外语!$O$233:$O$495,B22,外语!$P$233:$P$495) -> 4250.9506 | D22: =COUNTIF(外语!$O$233:$O$495,B22) -> 43 | E22: =C22/D22 -> 98.859316 | K22: 王图雄 | L22: =AVERAGEIF($B$25:$B$33,K22,$E$25:$E$33) -> 96.479087
B23: 肖秀秀 | C23: =SUMIF(外语!$O$233:$O$495,B23,外语!$P$233:$P$495) -> 12881.369 | D23: =COUNTIF(外语!$O$233:$O$495,B23) -> 127 | E23: =C23/D23 -> 101.4281 | K23: 肖秀秀 | L23: =AVERAGEIF($B$25:$B$33,K23,$E$25:$E$33) -> 101.99276
B24: 黄健君 | C24: =SUMIF(外语!$O$233:$O$495,B24,外语!$P$233:$P$495) -> 4508.7452 | D24: =COUNTIF(外语!$O$233:$O$495,B24) -> 47 | E24: =C24/D24 -> 95.93075 | J24: 高一下 | K24: 车梦德 | L24: =AVERAGEIF($B$34:$B$42,K24,$E$34:$E$42) -> 97.857443
A25: 高二上期文科 | B25: 车梦德 | C25: =SUMIF(外语!$S$4:$S$232,B25,外语!$T$4:$T$232) -> 9368.9956 | D25: =COUNTIF(外语!$S$4:$S$232,B25) -> 91 | E25: =C25/D25 -> 102.956 | K25: 程长寿 | L25: =AVERAGEIF($B$34:$B$42,K25,$E$34:$E$42) -> 98.357699
B26: 王海鹰 | C26: =SUMIF(外语!$S$4:$S$232,B26,外语!$T$4:$T$232) -> 4436.6812 | D26: =COUNTIF(外语!$S$4:$S$232,B26) -> 46 | E26: =C26/D26 -> 96.449592 | K26: 黄健君 | L26: =AVERAGEIF($B$34:$B$42,K26,$E$34:$E$42) -> 102.20208
B27: 黄健君 | C27: =SUMIF(外语!$S$4:$S$232,B27,外语!$T$4:$T$232) -> 4791.2664 | D27: =COUNTIF(外语!$S$4:$S$232,B27) -> 47 | E27: =C27/D27 -> 101.94184 | K27: 赵金秀 | L27: =AVERAGEIF($B$34:$B$42,K27,$E$34:$E$42) -> 98.74694
B28: 赵金秀 | C28: =SUMIF(外语!$S$4:$S$232,B28,外语!$T$4:$T$232) -> 4293.8865 | D28: =COUNTIF(外语!$S$4:$S$232,B28) -> 45 | E28: =C28/D28 -> 95.419699 | K28: 肖秀秀 | L28: =AVERAGEIF($B$34:$B$42,K28,$E$34:$E$42) -> 102.3719
A29: 高二上期理科 | B29: 王图雄 | C29: =SUMIF(外语!$S$233:$S$495,B29,外语!$T$233:$T$495) -> 4823.9544 | D29: =COUNTIF(外语!$S$233:$S$495,B29) -> 50 | E29: =C29/D29 -> 96.479087 | K29: 赵顺诚 | L29: =AVERAGEIF($B$34:$B$42,K29,$E$34:$E$42) -> 100.76046
B30: 赵金秀 | C30: =SUMIF(外语!$S$233:$S$495,B30,外语!$T$233:$T$495) -> 4540.6844 | D30: =COUNTIF(外语!$S$233:$S$495,B30) -> 45 | E30: =C30/D30 -> 100.9041 | J30: 高一上 | K30: 车梦德 | L30: =AVERAGEIF($B$43:$B$52,K30,$E$43:$E$52) -> 99.239235
B31: 王海鹰 | C31: =SUMIF(外语!$S$233:$S$495,B31,外语!$T$233:$T$495) -> 3872.6236 | D31: =COUNTIF(外语!$S$233:$S$495,B31) -> 39 | E31: =C31/D31 -> 99.29804 | K31: 曾春兰 | L31: =AVERAGEIF($B$43:$B$52,K31,$E$43:$E$52) -> 94.63844
B32: 肖秀秀 | C32: =SUMIF(外语!$S$233:$S$495,B32,外语!$T$233:$T$495) -> 8465.3992 | D32: =COUNTIF(外语!$S$233:$S$495,B32) -> 83 | E32: =C32/D32 -> 101.99276 | K32: 黄健君 | L32: =AVERAGEIF($B$43:$B$52,K32,$E$43:$E$52) -> 103.66167
B33: 黄健君 | C33: =SUMIF(外语!$S$233:$S$495,B33,外语!$T$233:$T$495) -> 4586.3118 | D33: =COUNTIF(外语!$S$233:$S$495,B33) -> 46 | E33: =C33/D33 -> 99.70243 | K33: 赵金秀 | L33: =AVERAGEIF($B$43:$B$52,K33,$E$43:$E$52) -> 101.7318
A34: 高一下期文科 | B34: 车梦德 | C34: =SUMIF(外语!$W$4:$W$232,B34,外语!$X$4:$X$232) -> 9003.0568 | D34: =COUNTIF(外语!$W$4:$W$232,B34) -> 91 | E34: =C34/D34 -> 98.93469 | K34: 聂艳梅 | L34: =AVERAGEIF($B$43:$B$52,K34,$E$43:$E$52) -> 104.50664
B35: 程长寿 | C35: =SUMIF(外语!$W$4:$W$232,B35,外语!$X$4:$X$232) -> 4524.4541 | D35: =COUNTIF(外语!$W$4:$W$232,B35) -> 46 | E35: =C35/D35 -> 98.357699
B36: 黄健君 | C36: =SUMIF(外语!$W$4:$W$232,B36,外语!$X$4:$X$232) -> 4840.1747 | D36: =COUNTIF(外语!$W$4:$W$232,B36) -> 47 | E36: =C36/D36 -> 102.98244
B37: 赵金秀 | C37: =SUMIF(外语!$W$4:$W$232,B37,外语!$X$4:$X$232) -> 4528.3843 | D37: =COUNTIF(外语!$W$4:$W$232,B37) -> 45 | E37: =C37/D37 -> 100.63076
A38: 高一下期理科 | B38: 车梦德 | C38: =SUMIF(外语!$W$233:$W$495,B38,外语!$X$233:$X$495) -> 4548.6692 | D38: =COUNTIF(外语!$W$233:$W$495,B38) -> 47 | E38: =C38/D38 -> 96.780196
B39: 肖秀秀 | C39: =SUMIF(外语!$W$233:$W$495,B39,外语!$X$233:$X$495) -> 8599.2395 | D39: =COUNTIF(外语!$W$233:$W$495,B39) -> 84 | E39: =C39/D39 -> 102.3719
B40: 赵金秀 | C40: =SUMIF(外语!$W$233:$W$495,B40,外语!$X$233:$X$495) -> 4261.9772 | D40: =COUNTIF(外语!$W$233:$W$495,B40) -> 44 | E40: =C40/D40 -> 96.863118
...

Sheet 物理-政治
A1: 身份证号码 | B1: 科类 | C1: 班级 | D1: 姓名 | E1: 高三下 | I1: 高三上 | M1: 高二下 | Q1: 高二上 | U1: 高一下 | Y1: 高一上 | AC1: 中考
E2: 物理/政治 | I2: 物理-政治 | M2: 物理-政治 | Q2: 物理-政治 | U2: 物理-政治 | Y2: 物理-政治 | AC2: 物理-政治
E3: 成绩 | F3: 排名 | G3: 教师 | H3: 高三下标准分 | I3: 成绩 | J3: 排名 | K3: 教师 | L3: 高三上标准分 | M3: 成绩 | N3: 排名 | O3: 教师 | P3: 高二下标准分 | Q3: 成绩 | R3: 排名 | S3: 教师 | T3: 高二上标准分 | U3: 成绩 | V3: 排名 | W3: 教师 | X3: 高一下标准分 | Y3: 成绩 | Z3: 排名 | AA3: 教师 | AB3: 高一上标准分 | AC3: 成绩 | AD3: 排名
A4: 513422200310010036 | B4: 文科 | C4: 高2018级01班 | D4: 黄富君 | E4: 73 | F4: 17 | G4: 林莉 | H4: 99.126638 | I4: 68 | J4: 15 | K4: 林莉 | L4: 109.60699 | M4: 66 | N4: 37 | O4: 林莉 | P4: 85.58952 | Q4: 81 | R4: 4 | S4: 林莉 | T4: 137.1179 | U4: 61 | V4: 89 | W4: 林莉 | X4: 72.489083 | Y4: 51 | Z4: 26 | AA4: 林莉 | AB4: 135.37118 | AC4: 31 | AD4: 107
A5: 513422200402102923 | B5: 文科 | C5: 高2018级01班 | D5: 杨丽 | E5: 76.5 | F5: 5 | G5: 林莉 | H5: 101.31004 | I5: 69 | J5: 8 | K5: 林莉 | L5: 108.73362 | M5: 67 | N5: 28 | O5: 林莉 | P5: 116.59389 | Q5: 66 | R5: 66 | S5: 林莉 | T5: 93.0131 | U5: 65 | V5: 50 | W5: 林莉 | X5: 158.51528 | Y5: 36 | Z5: 184 | AA5: 陈虹宇 | AB5: 87.336245 | AC5: 28 | AD5: 155
A6: 513422200301023812 | B6: 文科 | C6: 高2018级01班 | D6: 谢承彬 | E6: 70 | F6: 30 | G6: 林莉 | H6: 178.60262 | I6: 0 | J6: 210 | K6: 林莉 | L6: 27.947598 | M6: 65 | N6: 45 | O6: 林莉 | P6: 89.956332 | Q6: 73 | R6: 22 | S6: 林莉 | T6: 117.03057 | U6: 64 | V6: 61 | W6: 林莉 | X6: 89.519651 | Y6: 50 | Z6: 37 | AA6: 林莉 | AB6: 144.54148 | AC6: 29 | AD6: 139
A7: 513422200010076623 | B7: 文科 | C7: 高2018级01班 | D7: 罗竹青 | E7: 71.5 | F7: 22 | G7: 林莉 | H7: 137.55459 | I7: 55 | J7: 108 | K7: 林莉 | L7: 72.489083 | M7: 65 | N7: 45 | O7: 林莉 | P7: 96.943231 | Q7: 70 | R7: 38 | S7: 林莉 | T7: 182.09607 | U7: 0 | V7: 226 | W7: 林莉 | X7: 39.30131 | Y7: 45 | Z7: 87 | AA7: 陈虹宇 | AB7: 63.755459 | AC7: 44 | AD7: 4
A8: 513422200307056826 | B8: 文科 | C8: 高2018级01班 | D8: 伍贵英 | E8: 66.5 | F8: 61 | G8: 林莉 | H8: 74.235808 | I8: 73 | J8: 2 | K8: 林莉 | L8: 104.36681 | M8: 70 | N8: 12 | O8: 林莉 | P8: 96.50655 | Q8: 81 | R8: 4 | S8: 林莉 | T8: 108.73362 | U8: 68 | V8: 24 | W8: 林莉 | X8: 144.1048 | Y8: 42 | Z8: 125 | AA8: 陈虹宇 | AB8: 53.275109 | AC8: 39 | AD8: 18
A9: 513422200305260022 | B9: 文科 | C9: 高2018级01班 | D9: 郭登婷 | E9: 59.5 | F9: 127 | G9: 林莉 | H9: 48.034934 | I9: 69 | J9: 8 | K9: 林莉 | L9: 100 | M9: 71 | N9: 8 | O9: 林莉 | P9: 96.943231 | Q9: 84 | R9: 1 | S9: 林莉 | T9: 156.76856 | U9: 56 | V9: 131 | W9: 林莉 | X9: 45.851528 | Y9: 56 | Z9: 7 | AA9: 林莉 | AB9: 110.04367 | AC9: 38 | AD9: 30
A10: 513422200306084024 | B10: 文科 | C10: 高2018级01班 | D10: 宋加祝玛 | E10: 69 | F10: 36 | G10: 林莉 | H10: 100 | I10: 64 | J10: 36 | K10: 林莉 | L10: 89.519651 | M10: 70 | N10: 12 | O10: 林莉 | P10: 96.50655 | Q10: 81 | R10: 4 | S10: 林莉 | T10: 104.36681 | U10: 70 | V10: 14 | W10: 林莉 | X10: 95.196507 | Y10: 59 | Z10: 3 | AA10: 陈虹宇 | AB10: 99.563319 | AC10: 46 | AD10: 2
A11: 513422200402116823 | B11: 文科 | C11: 高2018级01班 | D11: 沈长英 | E11: 66.5 | F11: 61 | G11: 林莉 | H11: 97.816594 | I11: 61 | J11: 56 | K11: 林莉 | L11: 87.772926 | M11: 67 | N11: 28 | O11: 林莉 | P11: 102.18341 | Q11: 71 | R11: 33 | S11: 林莉 | T11: 91.703057 | U11: 70 | V11: 14 | W11: 林莉 | X11: 96.069869 | Y11: 58 | Z11: 5 | AA11: 陈虹宇 | AB11: 105.67686 | AC11: 39 | AD11: 18
A12: 513422200206306021 | B12: 文科 | C12: 高2018级01班 | D12: 扎西拉姆 | E12: 64 | F12: 83 | G12: 林莉 | H12: 74.672489 | I12: 65 | J12: 25 | K12: 林莉 | L12: 91.703057 | M12: 72 | N12: 6 | O12: 林莉 | P12: 102.18341 | Q12: 77 | R12: 11 | S12: 林莉 | T12: 99.126638 | U12: 71 | V12: 9 | W12: 林莉 | X12: 99.126638 | Y12: 56 | Z12: 7 | AA12: 陈虹宇 | AB12: 132.75109 | AC12: 33 | AD12: 82
A13: 513422200210052730 | B13: 文科 | C13: 高2018级01班 | D13: 张春才 | E13: 73 | F13: 17 | G13: 林莉 | H13: 100 | I13: 67 | J13: 17 | K13: 林莉 | L13: 137.55459 | M13: 57 | N13: 103 | O13: 林莉 | P13: 64.628821 | Q13: 73 | R13: 22 | S13: 林莉 | T13: 94.323144 | U13: 71 | V13: 9 | W13: 林莉 | X13: 117.03057 | Y13: 48 | Z13: 48 | AA13: 陈虹宇 | AB13: 165.50218 | AC13: 24 | AD13: 198
A14: 513422200302205626 | B14: 文科 | C14: 高2018级01班 | D14: 次尔央青 | E14: 49.5 | F14: 206 | G14: 林莉 | H14: 99.563319 | I14: 34 | J14: 205 | K14: 林莉 | L14: 101.74672 | M14: 0 | N14: 209 | O14: 林莉 | P14: 108.29694 | Q14: 0 | R14: 228 | S14: 林莉 | T14: 2.1834061 | U14: 72 | V14: 4 | W14: 林莉 | X14: 140.17467 | Y14: 44 | Z14: 96 | AA14: 林莉 | AB14: 65.938865 | AC14: 39 | AD14: 18
A15: 513422200211086027 | B15: 文科 | C15: 高2018级01班 | D15: 刘长英 | E15: 64.5 | F15: 76 | G15: 林莉 | H15: 91.266376 | I15: 61 | J15: 56 | K15: 林莉 | L15: 100.43668 | M15: 64 | N15: 57 | O15: 林莉 | P15: 91.703057 | Q15: 70 | R15: 38 | S15: 林莉 | T15: 105.24017 | U15: 65 | V15: 50 | W15: 林莉 | X15: 110.48035 | Y15: 46 | Z15: 74 | AA15: 陈虹宇 | AB15: 103.49345 | AC15: 33 | AD15: 82
... A495: 513422200212020038 | B495: 理科 | C495: 高2018级11班 | D495: 杨航 | E495: 22 | F495: 189 | G495: 兰举银 | H495: 90.874525 | I495: 36 | J495: 165 | K495: 兰举银 | L495: 87.8327 | M495: 47 | N495: 133 | O495: 兰举银 | P495: 101.14068 | Q495: 46 | R495: 136 | S495: 兰举银 | T495: 90.494297 | U495: 42 | V495: 111 | W495: 王友春 | X495: 85.171103 | Y495: 58 | Z495: 72 | AA495: 王友春 | AB495: 172.24335 | AC495: 0 | AD495: 262

Sheet 物理-政治计算
B1: 姓名 | C1: 标准分和 | D1: 学生合计 | E1: 标准分得分 | I1: 教师 | J1: 得分 | K1: 三年教学班级
A2: 高三下期 | B2: 林莉 | C2: =SUMIF('物理-政治'!G:G,B2,'物理-政治'!H:H) -> 13696.07 | D2: =COUNTIF('物理-政治'!$G$4:$G$495,B2) -> 137 | E2: =C2/D2 -> 99.971313 | H2: 汇总 | I2: 林莉 | J2: =SUMIF($B$2:$B$31,I2,$E$2:$E$31) -> 592.05876 | K2: =COUNTIF(B:B,I2) -> 6
B3: 黄祥琴 | C3: =SUMIF('物理-政治'!G:G,B3,'物理-政治'!H:H) -> 9038.8646 | D3: =COUNTIF('物理-政治'!$G$4:$G$495,B3) -> 92 | E3: =C3/D3 -> 98.248529 | I3: 黄祥琴 | J3: =SUMIF($B$2:$B$31,I3,$E$2:$E$31) -> 205.63888 | K3: =COUNTIF(B:B,I3) -> 2
B4: 兰举银 | C4: =SUMIF('物理-政治'!G:G,B4,'物理-政治'!H:H) -> 12851.711 | D4: =COUNTIF('物理-政治'!$G$4:$G$495,B4) -> 129 | E4: =C4/D4 -> 99.625667 | I4: 兰举银 | J4: =SUMIF($B$2:$B$31,I4,$E$2:$E$31) -> 401.70687 | K4: =COUNTIF(B:B,I4) -> 4
B5: 宋加友 | C5: =SUMIF('物理-政治'!G:G,B5,'物理-政治'!H:H) -> 13387.072 | D5: =COUNTIF('物理-政治'!$G$4:$G$495,B5) -> 134 | E5: =C5/D5 -> 99.903524 | I5: 宋加友 | J5: =SUMIF($B$2:$B$31,I5,$E$2:$E$31) -> 600.75347 | K5: =COUNTIF(B:B,I5) -> 6
A6: 高三上期 | B6: 林莉 | C6: =SUMIF('物理-政治'!$K$4:$K$495,B6,'物理-政治'!L:L) -> 12684.279 | D6: =COUNTIF('物理-政治'!$K$4:$K$495,B6) -> 137 | E6: =C6/D6 -> 92.585982 | I6: 吴文艺 | J6: =SUMIF($B$2:$B$31,I6,$E$2:$E$31) -> 393.72545 | K6: =COUNTIF(B:B,I6) -> 4
B7: 黄祥琴 | C7: =SUMIF('物理-政治'!$K$4:$K$495,B7,'物理-政治'!L:L) -> 9879.9127 | D7: =COUNTIF('物理-政治'!$K$4:$K$495,B7) -> 92 | E7: =C7/D7 -> 107.39036 | I7: 汤博慧 | J7: =SUMIF($B$2:$B$31,I7,$E$2:$E$31) -> 197.82615 | K7: =COUNTIF(B:B,I7) -> 2
B8: 兰举银 | C8: =SUMIF('物理-政治'!$K$4:$K$495,B8,'物理-政治'!L:L) -> 12635.805 | D8: =COUNTIF('物理-政治'!$K$4:$K$495,B8) -> 129 | E8: =C8/D8 -> 97.951973 | I8: 王友春 | J8: =SUMIF($B$2:$B$31,I8,$E$2:$E$31) -> 201.24663 | K8: =COUNTIF(B:B,I8) -> 2
B9: 宋加友 | C9: =SUMIF('物理-政治'!$K$4:$K$495,B9,'物理-政治'!L:L) -> 13707.224 | D9: =COUNTIF('物理-政治'!$K$4:$K$495,B9) -> 134 | E9: =C9/D9 -> 102.29272 | I9: 卞仁民 | J9: =SUMIF($B$2:$B$31,I9,$E$2:$E$31) -> 189.66022 | K9: =COUNTIF(B:B,I9) -> 2
A10: 高二下期 | B10: 林莉 | C10: =SUMIF('物理-政治'!$O$4:$O$495,B10,'物理-政治'!P:P) -> 14208.297 | D10: =COUNTIF('物理-政治'!$O$4:$O$495,B10) -> 139 | E10: =C10/D10 -> 102.21796 | I10: 陈虹宇 | J10: =SUMIF($B$2:$B$31,I10,$E$2:$E$31) -> 90.393013 | K10: =COUNTIF(B:B,I10) -> 1
B11: 吴文艺 | C11: =SUMIF('物理-政治'!$O$4:$O$495,B11,'物理-政治'!P:P) -> 8520.524 | D11: =COUNTIF('物理-政治'!$O$4:$O$495,B11) -> 90 | E11: =C11/D11 -> 94.672489 | I11: 王志强 | J11: =SUMIF($B$2:$B$31,I11,$E$2:$E$31) -> 102.11841 | K11: =COUNTIF(B:B,I11) -> 1
B12: 兰举银 | C12: =SUMIF('物理-政治'!$O$4:$O$495,B12,'物理-政治'!P:P) -> 13569.871 | D12: =COUNTIF('物理-政治'!$O$4:$O$495,B12) -> 131 | E12: =C12/D12 -> 103.5868
B13: 宋加友 | C13: =SUMIF('物理-政治'!$O$4:$O$495,B13,'物理-政治'!P:P) -> 12651.331 | D13: =COUNTIF('物理-政治'!$O$4:$O$495,B13) -> 132 | E13: =C13/D13 -> 95.843415
A14: 高二上期 | B14: 林莉 | C14: =SUMIF('物理-政治'!S4:S495,B14,'物理-政治'!T:T) -> 13530.131 | D14: =COUNTIF('物理-政治'!S4:S495,B14) -> 139 | E14: =C14/D14 -> 97.339072
B15: 吴文艺 | C15: =SUMIF('物理-政治'!S5:S496,B15,'物理-政治'!T:T) -> 8988.2096 | D15: =COUNTIF('物理-政治'!S5:S496,B15) -> 90 | E15: =C15/D15 -> 99.868996
B16: 兰举银 | C16: =SUMIF('物理-政治'!S6:S497,B16,'物理-政治'!T:T) -> 13070.517 | D16: =COUNTIF('物理-政治'!S6:S497,B16) -> 130 | E16: =C16/D16 -> 100.54243
B17: 宋加友 | C17: =SUMIF('物理-政治'!S7:S498,B17,'物理-政治'!T:T) -> 13131.649 | D17: =COUNTIF('物理-政治'!S7:S498,B17) -> 133 | E17: =C17/D17 -> 98.7342
A18: 高一下期 | B18: 林莉 | C18: =SUMIF('物理-政治'!W4:W495,B18,'物理-政治'!X:X) -> 9151.5284 | D18: =COUNTIF('物理-政治'!W4:W495,B18) -> 94 | E18: =C18/D18 -> 97.356685
B19: 吴文艺 | C19: =SUMIF('物理-政治'!W5:W496,B19,'物理-政治'!X:X) -> 13478.603 | D19: =COUNTIF('物理-政治'!W5:W496,B19) -> 135 | E19: =C19/D19 -> 99.841501
B20: 汤博慧 | C20: =SUMIF('物理-政治'!W6:W497,B20,'物理-政治'!X:X) -> 4707.8337 | D20: =COUNTIF('物理-政治'!W6:W497,B20) -> 46 | E20: =C20/D20 -> 102.34421
B21: 宋加友 | C21: =SUMIF('物理-政治'!W7:W498,B21,'物理-政治'!X:X) -> 4928.7761 | D21: =COUNTIF('物理-政治'!W7:W498,B21) -> 49 | E21: =C21/D21 -> 100.58727
B22: 王友春 | C22: =SUMIF('物理-政治'!W8:W499,B22,'物理-政治'!X:X) -> 8708.9428 | D22: =COUNTIF('物理-政治'!W8:W499,B22) -> 88 | E22: =C22/D22 -> 98.965259
B23: 卞仁民 | C23: =SUMIF('物理-政治'!W9:W500,B23,'物理-政治'!X:X) -> 7698.8593 | D23: =COUNTIF('物理-政治'!W9:W500,B23) -> 80 | E23: =C23/D23 -> 96.235741
A24: 高一上期 | B24: 林莉 | C24: =SUMIF('物理-政治'!$AA$4:$AA$495,B24,'物理-政治'!AB:AB) -> 8309.607 | D24: =COUNTIF('物理-政治'!$AA$4:$AA$495,B24) -> 81 | E24: =C24/D24 -> 102.58774
B25: 陈虹宇 | C25: =SUMIF('物理-政治'!$AA$4:$AA$495,B25,'物理-政治'!AB:AB) -> 5513.9738 | D25: =COUNTIF('物理-政治'!$AA$4:$AA$495,B25) -> 61 | E25: =C25/D25 -> 90.393013
B26: 吴文艺 | C26: =SUMIF('物理-政治'!$AA$4:$AA$495,B26,'物理-政治'!AB:AB) -> 8642.7948 | D26: =COUNTIF('物理-政治'!$AA$4:$AA$495,B26) -> 87 | E26: =C26/D26 -> 99.342469
B27: 卞仁民 | C27: =SUMIF('物理-政治'!$AA$4:$AA$495,B27,'物理-政治'!AB:AB) -> 3550.1303 | D27: =COUNTIF('物理-政治'!$AA$4:$AA$495,B27) -> 38 | E27: =C27/D27 -> 93.424483
B28: 汤博慧 | C28: =SUMIF('物理-政治'!$AA$4:$AA$495,B28,'物理-政治'!AB:AB) -> 5251.5068 | D28: =COUNTIF('物理-政治'!$AA$4:$AA$495,B28) -> 55 | E28: =C28/D28 -> 95.481942
B29: 宋加友 | C29: =SUMIF('物理-政治'!$AA$4:$AA$495,B29,'物理-政治'!AB:AB) -> 6617.1103 | D29: =COUNTIF('物理-政治'!$AA$4:$AA$495,B29) -> 64 | E29: =C29/D29 -> 103.39235
B30: 王志强 | C30: =SUMIF('物理-政治'!$AA$4:$AA$495,B30,'物理-政治'!AB:AB) -> 3574.1445 | D30: =COUNTIF('物理-政治'!$AA$4:$AA$495,B30) -> 35 | E30: =C30/D30 -> 102.11841
B31: 王友春 | C31: =SUMIF('物理-政治'!$AA$4:$AA$495,B31,'物理-政治'!AB:AB) -> 7261.9772 | D31: =COUNTIF('物理-政治'!$AA$4:$AA$495,B31) -> 71 | E31: =C31/D31 -> 102.28137

Sheet 化学-历史
A1: 身份证号码 | B1: 科类 | C1: 班级 | D1: 姓名 | E1: 高三下 | I1: 高三上 | M1: 高二下 | Q1: 高二上 | U1: 高一下 | Y1: 高一上 | AC1: 中考
E2: 化学/历史 | I2: 化学-历史 | M2: 化学-历史 | Q2: 化学-历史 | U2: 化学-历史 | Y2: 化学-历史 | AC2: 化学-历史
E3: 成绩 | F3: 排名 | G3: 教师 | H3: 高三下标准分 | I3: 成绩 | J3: 排名 | K3: 教师 | L3: 高三上标准分 | M3: 成绩 | N3: 排名 | O3: 教师 | P3: 高二下标准分 | Q3: 成绩 | R3: 排名 | S3: 教师 | T3: 高二上标准分 | U3: 成绩 | V3: 排名 | W3: 教师 | X3: 高一下标准分 | Y3: 成绩 | Z3: 排名 | AA3: 教师 | AB3: 高一上标准分 | AC3: 成绩 | AD3: 排名
A4: 513422200310010036 | B4: 文科 | C4: 高2018级01班 | D4: 黄富君 | E4: 55 | F4: 65 | G4: 降初里 | H4: 74.235808 | I4: 66 | J4: 6 | K4: 降初里 | L4: 117.03057 | M4: 63 | N4: 45 | O4: 降初里 | P4: 100.87336 | Q4: 55 | R4: 47 | S4: 降初里 | T4: 81.222707 | U4: 72 | V4: 4 | W4: 降初里 | X4: 167.68559 | Y4: 42 | Z4: 159 | AA4: 降初里 | AB4: 110.04367 | AC4: 20 | AD4: 182
A5: 513422200402102923 | B5: 文科 | C5: 高2018级01班 | D5: 杨丽 | E5: 64.5 | F5: 12 | G5: 降初里 | H5: 95.633188 | I5: 75 | J5: 2 | K5: 降初里 | L5: 102.18341 | M5: 72 | N5: 7 | O5: 降初里 | P5: 97.816594 | Q5: 69 | R5: 2 | S5: 降初里 | T5: 105.24017 | U5: 65 | V5: 14 | W5: 降初里 | X5: 99.126638 | Y5: 66 | Z5: 12 | AA5: 降初里 | AB5: 106.55022 | AC5: 37 | AD5: 27
A6: 513422200301023812 | B6: 文科 | C6: 高2018级01班 | D6: 谢承彬 | E6: 64 | F6: 15 | G6: 降初里 | H6: 185.15284 | I6: 0 | J6: 210 | K6: 降初里 | L6: 15.720524 | M6: 68 | N6: 17 | O6: 降初里 | P6: 102.18341 | Q6: 58 | R6: 22 | S6: 降初里 | T6: 93.449782 | U6: 69 | V6: 7 | W6: 降初里 | X6: 131.87773 | Y6: 53 | Z6: 80 | AA6: 降初里 | AB6: 127.9476 | AC6: 24 | AD6: 144
A7: 513422200010076623 | B7: 文科 | C7: 高2018级01班 | D7: 罗竹青 | E7: 69.5 | F7: 4 | G7: 降初里 | H7: 104.36681 | I7: 60 | J7: 14 | K7: 降初里 | L7: 117.46725 | M7: 62 | N7: 54 | O7: 降初里 | P7: 82.532751 | Q7: 61 | R7: 14 | S7: 降初里 | T7: 192.57642 | U7: 0 | V7: 226 | W7: 降初里 | X7: 6.9868996 | Y7: 65 | Z7: 13 | AA7: 降初里 | AB7: 95.196507 | AC7: 47 | AD7: 2
A8: 513422200307056826 | B8: 文科 | C8: 高2018级01班 | D8: 伍贵英 | E8: 62.5 | F8: 23 | G8: 降初里 | H8: 95.196507 | I8: 61 | J8: 12 | K8: 降初里 | L8: 100.43668 | M8: 69 | N8: 13 | O8: 降初里 | P8: 107.86026 | Q8: 56 | R8: 31 | S8: 降初里 | T8: 90.829694 | U8: 67 | V8: 10 | W8: 降初里 | X8: 97.379913 | Y8: 72 | Z8: 4 | AA8: 降初里 | AB8: 124.45415 | AC8: 33 | AD8: 60
A9: 513422200305260022 | B9: 文科 | C9: 高2018级01班 | D9: 郭登婷 | E9: 54.5 | F9: 70 | G9: 降初里 | H9: 72.489083 | I9: 65 | J9: 7 | K9: 降初里 | L9: 116.59389 | M9: 63 | N9: 45 | O9: 降初里 | P9: 88.209607 | Q9: 59 | R9: 18 | S9: 降初里 | T9: 98.253275 | U9: 65 | V9: 14 | W9: 降初里 | X9: 95.633188 | Y9: 72 | Z9: 4 | AA9: 降初里 | AB9: 116.59389 | AC9: 35 | AD9: 42
A10: 513422200306084024 | B10: 文科 | C10: 高2018级01班 | D10: 宋加祝玛 | E10: 51.5 | F10: 98 | G10: 降初里 | H10: 62.445415 | I10: 61 | J10: 12 | K10: 降初里 | L10: 95.196507 | M10: 75 | N10: 1 | O10: 降初里 | P10: 100 | Q10: 71 | R10: 1 | S10: 降初里 | T10: 108.29694 | U10: 64 | V10: 20 | W10: 降初里 | X10: 93.0131 | Y10: 72 | Z10: 4 | AA10: 降初里 | AB10: 100 | AC10: 46 | AD10: 4
A11: 513422200402116823 | B11: 文科 | C11: 高2018级01班 | D11: 沈长英 | E11: 63.5 | F11: 18 | G11: 降初里 | H11: 149.78166 | I11: 40 | J11: 132 | K11: 降初里 | L11: 45.414847 | M11: 72 | N11: 7 | O11: 降初里 | P11: 99.563319 | Q11: 66 | R11: 6 | S11: 降初里 | T11: 108.73362 | U11: 63 | V11: 26 | W11: 降初里 | X11: 89.082969 | Y11: 74 | Z11: 1 | AA11: 降初里 | AB11: 107.86026 | AC11: 39 | AD11: 19
A12: 513422200206306021 | B12: 文科 | C12: 高2018级01班 | D12: 扎西拉姆 | E12: 70 | F12: 3 | G12: 降初里 | H12: 116.15721 | I12: 52 | J12: 40 | K12: 降初里 | L12: 112.66376 | M12: 60 | N12: 69 | O12: 降初里 | P12: 105.24017 | Q12: 51 | R12: 81 | S12: 降初里 | T12: 95.196507 | U12: 56 | V12: 70 | W12: 降初里 | X12: 97.379913 | Y12: 55 | Z12: 64 | AA12: 降初里 | AB12: 74.672489 | AC12: 45 | AD12: 6
A13: 513422200210052730 | B13: 文科 | C13: 高2018级01班 | D13: 张春才 | E13: 54.5 | F13: 70 | G13: 降初里 | H13: 69.868996 | I13: 77 | J13: 1 | K13: 降初里 | L13: 101.31004 | M13: 73 | N13: 4 | O13: 降初里 | P13: 100 | Q13: 67 | R13: 4 | S13: 降初里 | T13: 101.31004 | U13: 69 | V13: 7 | W13: 降初里 | X13: 100.87336 | Y13: 68 | Z13: 9 | AA13: 降初里 | AB13: 114.41048 | AC13: 35 | AD13: 42
A14: 513422200302205626 | B14: 文科 | C14: 高2018级01班 | D14: 次尔央青 | E14: 71 | F14: 2 | G14: 降初里 | H14: 166.81223 | I14: 37 | J14: 155 | K14: 降初里 | L14: 123.58079 | M14: 0 | N14: 209 | O14: 降初里 | P14: 108.29694 | Q14: 0 | R14: 228 | S14: 降初里 | T14: 3.0567686 | U14: 70 | V14: 6 | W14: 降初里 | X14: 98.253275 | Y14: 73 | Z14: 2 | AA14: 降初里 | AB14: 114.84716 | AC14: 36 | AD14: 36
A15: 513422200211086027 | B15: 文科 | C15: 高2018级01班 | D15: 刘长英 | E15: 60.5 | F15: 31 | G15: 降初里 | H15: 144.1048 | I15: 40 | J15: 132 | K15: 降初里 | L15: 51.965066 | M15: 67 | N15: 22 | O15: 降初里 | P15: 110.91703 | Q15: 55 | R15: 47 | S15: 降初里 | T15: 93.0131 | U15: 62 | V15: 31 | W15: 降初里 | X15: 98.253275 | Y15: 62 | Z15: 27 | AA15: 降初里 | AB15: 151.0917 | AC15: 24 | AD15: 144
