Workbook
Name 班主任: '高考-超额学校目标奖'!#REF!,'高考-超额学校目标奖'!#REF!,'高考-超额学校目标奖'!#REF!,'高考-超额学校目标奖'!#REF!,'高考-超额学校目标奖'!#REF!,'高考-超额学校目标奖'!#REF!
Name 高2016级质量奖: #REF!
Name 高2017级质量奖: #REF!
Name 高2018级质量奖: #REF!
Name 基本奖: '高考-工作量'!$B$5:$Q$62
Name 文化贡献奖: #REF!
Name 文化贡献奖: #REF!

Sheet 高考-总额分配
C1: 项目 | D1: 金额 | E1: 算法/说明
A2: 总额分配 | C2: 总额 | D2: 1938000 | E2: 总额=学生奖金+学校奖金
C3: 学生奖金 | D3: 836000
C4: 学校奖金 | D4: =D2-D3 -> 1102000
A6: 学校奖金分配 | C6: 1.学校提留 | D6: =D4*0.2 -> 220400 | E6: 学校提留=学校奖金*20%
C7: 年级管理奖 | D7: 27200 | E7: 按照政府目标，文化和艺体超额部分的8%作为年级管理奖。文化本科超额350000元，艺体超额75000元，合计超额425000元。年级管理奖=425000*80%*8%
C8: 2.教师奖励 | D8: =D4-D6-D7 -> 854400 | E8: 剩余的教师奖励=学校奖金-学校提留-年级管理奖
C9: 超额完成学校目标奖 | D9: =2000*4 -> 8000 | E9: 学校本科目标81人，奋斗目标100人。实际完成85人，超过学校基本目标4人，超额奖2000*4=8000元
A11: 教师奖励分配 | C11: 2.1工作量（30%） | D11: =D8*0.3 -> 256320 | E11: 工作量=教师奖励*30%
C12: 2.2业绩（70%） | D12: =D8*0.7 -> 598080 | E12: 业绩=教师奖励*70%
A14: 2.2业绩 | C14: 2.2.1文化本科质量奖 | D14: =889000*D12/(889000+213000) -> 482480.15 | E14: 艺体双语总奖金：艺体硬上线奖金175000+4个照顾上线8000元+10个双语30000=213000元； 文化总奖金：889000元
C15: 2.2.2艺体双语质量奖 | D15: =213000*D12/(889000+213000) -> 115599.85
A17: 2.2.1文化本科质量奖 | C17: 2.2.1.1过程评价奖 | D17: =D14*3/7 -> 206777.21 | E17: 过程评价奖=文化本科质量奖*3/7
C18: 2.2.1.2上线质量奖 | D18: =D14*4/7 -> 275702.94 | E18: 上线质量奖=文化本科质量奖*4/7
A20: 2.2.1.2文化上线质量奖 | C20: 2.2.1.2.1总分上线质量奖 | D20: =D18*0.6 -> 165421.76 | E20: 总分上线质量奖=上线质量奖*60%
C21: 2.2.1.2.2单双上线质量奖 | D21: =D18*0.4 -> 110281.18 | E21: 总分上线质量奖=上线质量奖*40%
A23: 2.2.2艺体双语质量奖 | C23: 2.2.2.1双语质量奖 | D23: 15456 | E23: 双语本科录取10人，3000*10=30000元。双语质量奖=双语总奖金30000*0.8*0.92*0.7
C24: 2.2.2.2艺体质量奖 | D24: =D15-D23 -> 100143.85 | E24: 艺体质量奖=艺体双语质量奖-双语质量奖
A26: 2.2.2.2艺体质量奖 | C26: 艺体上线质量奖 | D26: =D24*175000/(175000+8000) -> 95765.981 | E26: 按比附分配，艺体硬上线175000元，艺体照顾上线8000元。
C27: 艺体照顾上线质量奖 | D27: =D24*8000/(175000+8000) -> 4377.8734
A29: 木里县2019年奖金明细参见附件1

Sheet 高考-分数线
C1: 总分 | D1: 语文 | E1: 数学 | F1: 英语 | G1: 物理/政治 | H1: 化学/历史 | I1: 生物/地理
A2: 本科线 | B2: 理科 | C2: 459 | D2: 101 | E2: 89 | F2: 104 | G2: 51.5 | H2: 53.5 | I2: 65
B3: 文科 | C3: 472 | D3: 106 | E3: 78 | F3: 112 | G3: 65.5 | H3: 61.5 | I3: 65
C5: 总分 | D5: 语文 | E5: 数学 | F5: 英语 | G5: 物理/政治 | H5: 化学/历史 | I5: 生物/地理
A6: 重本线 | B6: 理科 | C6: 547 | D6: 110 | E6: 111 | F6: 127 | G6: 76 | H6: 70 | I6: 75.5
B7: 文科 | C7: 540 | D7: 115 | E7: 104 | F7: 134 | G7: 74 | H7: 73 | I7: 76

Sheet 高考-工作量
A1: 木里中学2019年高考基本奖（工作量）
A2: 序号 | B2: 姓名 | C2: 科目 | D2: 16-17学年 | H2: 17-18学年 | L2: 18-19学年 | P2: 高三年级主任/班主任 | Q2: 基本奖合计
D3: 16-17上 | E3: 16-17下 | F3: 16-17小计 | G3: 金额小计 | H3: 17-18上 | I3: 17-18下 | J3: 17-18小计 | K3: 金额小计 | L3: 18-19上 | M3: 18-19下 | N3: 18-19小计 | O3: 金额小计
G4: =$G$65/SUM(F$5:F$64) -> 53.713024 | K4: =$K$65/SUM(J$5:J$64) -> 73.43662 | O4: =$O$65/SUM(N$5:N$64) -> 132.45509
A5: 1 | B5: 易涛 | C5: 语文 | D5: 12 | E5: 14 | F5: =SUM(D5:E5) -> 26 | G5: =$G$4*F5 -> 1396.5386 | H5: 14 | I5: 15 | J5: =SUM(H5:I5) -> 29 | K5: =$K$4*J5 -> 2129.662 | L5: 16 | M5: 21 | N5: =SUM(L5:M5) -> 37 | O5: =$O$4*N5 -> 4900.8383 | P5: 1000 | Q5: =G5+K5+O5+P5 -> 9427.0389
A6: 2 | B6: 岳子琦 | C6: 语文 | D6: 13 | E6: 14 | F6: =SUM(D6:E6) -> 27 | G6: =$G$4*F6 -> 1450.2517 | H6: 14 | I6: 17 | J6: =SUM(H6:I6) -> 31 | K6: =$K$4*J6 -> 2276.5352 | L6: 16 | N6: =SUM(L6:M6) -> 16 | O6: =$O$4*N6 -> 2119.2814 | Q6: =G6+K6+O6+P6 -> 5846.0683
A7: 3 | B7: 李志友 | C7: 语文 | D7: 12 | E7: 14 | F7: =SUM(D7:E7) -> 26 | G7: =$G$4*F7 -> 1396.5386 | H7: 14 | I7: 23 | J7: =SUM(H7:I7) -> 37 | K7: =$K$4*J7 -> 2717.1549 | L7: 24 | M7: 21 | N7: =SUM(L7:M7) -> 45 | O7: =$O$4*N7 -> 5960.479 | Q7: =G7+K7+O7+P7 -> 10074.173
A8: 4 | B8: 岳贵敏 | C8: 语文 | D8: 11 | E8: 14 | F8: =SUM(D8:E8) -> 25 | G8: =$G$4*F8 -> 1342.8256 | H8: 14 | I8: 17 | J8: =SUM(H8:I8) -> 31 | K8: =$K$4*J8 -> 2276.5352 | N8: =SUM(L8:M8) -> 0 | O8: =$O$4*N8 -> 0 | Q8: =G8+K8+O8+P8 -> 3619.3608
A9: 5 | B9: 周菊明 | C9: 语文 | D9: 12 | E9: 14 | F9: =SUM(D9:E9) -> 26 | G9: =$G$4*F9 -> 1396.5386 | H9: 14 | I9: 17 | J9: =SUM(H9:I9) -> 31 | K9: =$K$4*J9 -> 2276.5352 | L9: 16 | M9: 21 | N9: =SUM(L9:M9) -> 37 | O9: =$O$4*N9 -> 4900.8383 | P9: 1000 | Q9: =G9+K9+O9+P9 -> 9573.9122
A10: 6 | B10: 李正琪 | C10: 语文 | D10: 6 | E10: 7 | F10: =SUM(D10:E10) -> 13 | G10: =$G$4*F10 -> 698.26932 | H10: 7 | I10: 8 | J10: =SUM(H10:I10) -> 15 | K10: =$K$4*J10 -> 1101.5493 | N10: =SUM(L10:M10) -> 0 | O10: =$O$4*N10 -> 0 | Q10: =G10+K10+O10+P10 -> 1799.8186
A11: 7 | B11: 孙文 | C11: 数学 | D11: 14 | E11: 14 | F11: =SUM(D11:E11) -> 28 | G11: =$G$4*F11 -> 1503.9647 | H11: 14 | I11: 15 | J11: =SUM(H11:I11) -> 29 | K11: =$K$4*J11 -> 2129.662 | N11: =SUM(L11:M11) -> 0 | O11: =$O$4*N11 -> 0 | Q11: =G11+K11+O11+P11 -> 3633.6267
A12: 8 | B12: 周军 | C12: 数学 | D12: 14 | E12: 14 | F12: =SUM(D12:E12) -> 28 | G12: =$G$4*F12 -> 1503.9647 | H12: 14 | I12: 15 | J12: =SUM(H12:I12) -> 29 | K12: =$K$4*J12 -> 2129.662 | L12: 8 | M12: 7 | N12: =SUM(L12:M12) -> 15 | O12: =$O$4*N12 -> 1986.8263 | Q12: =G12+K12+O12+P12 -> 5620.453
A13: 9 | B13: 赵云川 | C13: 数学 | D13: 14 | E13: 14 | F13: =SUM(D13:E13) -> 28 | G13: =$G$4*F13 -> 1503.9647 | H13: 14 | I13: 16 | J13: =SUM(H13:I13) -> 30 | K13: =$K$4*J13 -> 2203.0986 | L13: 16 | M13: 14 | N13: =SUM(L13:M13) -> 30 | O13: =$O$4*N13 -> 3973.6527 | P13: 1000 | Q13: =G13+K13+O13+P13 -> 8680.716
A14: 10 | B14: 徐万雄 | C14: 数学 | D14: 7 | E14: 7 | F14: =SUM(D14:E14) -> 14 | G14: =$G$4*F14 -> 751.98234 | J14: =SUM(H14:I14) -> 0 | K14: =$K$4*J14 -> 0 | N14: =SUM(L14:M14) -> 0 | O14: =$O$4*N14 -> 0 | Q14: =G14+K14+O14+P14 -> 751.98234
A15: 11 | B15: 央宗娜姆 | C15: 数学 | D15: 14 | E15: 14 | F15: =SUM(D15:E15) -> 28 | G15: =$G$4*F15 -> 1503.9647 | I15: 16 | J15: =SUM(H15:I15) -> 16 | K15: =$K$4*J15 -> 1174.9859 | L15: 16 | M15: 14 | N15: =SUM(L15:M15) -> 30 | O15: =$O$4*N15 -> 3973.6527 | P15: 1000 | Q15: =G15+K15+O15+P15 -> 7652.6033
A16: 12 | B16: 王江 | C16: 数学 | D16: 14 | E16: 14 | F16: =SUM(D16:E16) -> 28 | G16: =$G$4*F16 -> 1503.9647 | H16: 14 | I16: 16 | J16: =SUM(H16:I16) -> 30 | K16: =$K$4*J16 -> 2203.0986 | L16: 16 | M16: 14 | N16: =SUM(L16:M16) -> 30 | O16: =$O$4*N16 -> 3973.6527 | P16: 1000 | Q16: =G16+K16+O16+P16 -> 8680.716
A17: 13 | B17: 周凯 | C17: 英语 | D17: 12 | E17: 14 | F17: =SUM(D17:E17) -> 26 | G17: =$G$4*F17 -> 1396.5386 | H17: 14 | I17: 15 | J17: =SUM(H17:I17) -> 29 | K17: =$K$4*J17 -> 2129.662 | L17: 24 | M17: 21 | N17: =SUM(L17:M17) -> 45 | O17: =$O$4*N17 -> 5960.479 | P17: 1000 | Q17: =G17+K17+O17+P17 -> 10486.68
A18: 14 | B18: 曾佳瑶 | C18: 英语 | D18: 14 | E18: 14 | F18: =SUM(D18:E18) -> 28 | G18: =$G$4*F18 -> 1503.9647 | H18: 14 | I18: 16 | J18: =SUM(H18:I18) -> 30 | K18: =$K$4*J18 -> 2203.0986 | L18: 16 | M18: 14 | N18: =SUM(L18:M18) -> 30 | O18: =$O$4*N18 -> 3973.6527 | P18: 1000 | Q18: =G18+K18+O18+P18 -> 8680.716
A19: 15 | B19: 曾春兰 | C19: 英语 | D19: 7 | E19: 7 | F19: =SUM(D19:E19) -> 14 | G19: =$G$4*F19 -> 751.98234 | H19: 7 | I19: 16 | J19: =SUM(H19:I19) -> 23 | K19: =$K$4*J19 -> 1689.0423 | N19: =SUM(L19:M19) -> 0 | O19: =$O$4*N19 -> 0 | Q19: =G19+K19+O19+P19 -> 2441.0246
A20: 16 | B20: 雷敏 | C20: 英语 | D20: 14 | E20: 14 | F20: =SUM(D20:E20) -> 28 | G20: =$G$4*F20 -> 1503.9647 | H20: 14 | J20: =SUM(H20:I20) -> 14 | K20: =$K$4*J20 -> 1028.1127 | L20: 16 | M20: 14 | N20: =SUM(L20:M20) -> 30 | O20: =$O$4*N20 -> 3973.6527 | Q20: =G20+K20+O20+P20 -> 6505.7301
A21: 17 | B21: 彭丹 | C21: 英语 | D21: 14 | E21: 14 | F21: =SUM(D21:E21) -> 28 | G21: =$G$4*F21 -> 1503.9647 | H21: 14 | I21: 16 | J21: =SUM(H21:I21) -> 30 | K21: =$K$4*J21 -> 2203.0986 | L21: 16 | M21: 14 | N21: =SUM(L21:M21) -> 30 | O21: =$O$4*N21 -> 3973.6527 | P21: 1000 | Q21: =G21+K21+O21+P21 -> 8680.716
A22: 18 | B22: 张翠莲 | C22: 英语 | D22: 14 | E22: 14 | F22: =SUM(D22:E22) -> 28 | G22: =$G$4*F22 -> 1503.9647 | H22: 14 | I22: 15 | J22: =SUM(H22:I22) -> 29 | K22: =$K$4*J22 -> 2129.662 | L22: 16 | M22: 14 | N22: =SUM(L22:M22) -> 30 | O22: =$O$4*N22 -> 3973.6527 | Q22: =G22+K22+O22+P22 -> 7607.2793
A23: 19 | B23: 王友春 | C23: 物理 | D23: 7 | E23: 8 | F23: =SUM(D23:E23) -> 15 | G23: =$G$4*F23 -> 805.69536 | H23: 8 | I23: 7 | J23: =SUM(H23:I23) -> 15 | K23: =$K$4*J23 -> 1101.5493 | L23: 8 | M23: 6 | N23: =SUM(L23:M23) -> 14 | O23: =$O$4*N23 -> 1854.3713 | P23: 2000 | Q23: =G23+K23+O23+P23 -> 5761.6159
A24: 20 | B24: 兰举银 | C24: 物理 | D24: 12 | E24: 16 | F24: =SUM(D24:E24) -> 28 | G24: =$G$4*F24 -> 1503.9647 | H24: 12 | I24: 18 | J24: =SUM(H24:I24) -> 30 | K24: =$K$4*J24 -> 2203.0986 | L24: 15 | M24: 13 | N24: =SUM(L24:M24) -> 28 | O24: =$O$4*N24 -> 3708.7425 | P24: 1000 | Q24: =G24+K24+O24+P24 -> 8415.8058
A25: 21 | B25: 赵建超 | C25: 物理 | D25: 9 | E25: 17 | F25: =SUM(D25:E25) -> 26 | G25: =$G$4*F25 -> 1396.5386 | H25: 14 | I25: 13 | J25: =SUM(H25:I25) -> 27 | K25: =$K$4*J25 -> 1982.7887 | L25: 14 | M25: 13 | N25: =SUM(L25:M25) -> 27 | O25: =$O$4*N25 -> 3576.2874 | Q25: =G25+K25+O25+P25 -> 6955.6148
A26: 22 | B26: 宋加友 | C26: 物理 | D26: 6 | E26: 6 | F26: =SUM(D26:E26) -> 12 | G26: =$G$4*F26 -> 644.55629 | H26: 7 | I26: 6 | J26: =SUM(H26:I26) -> 13 | K26: =$K$4*J26 -> 954.67606 | L26: 7 | M26: 6 | N26: =SUM(L26:M26) -> 13 | O26: =$O$4*N26 -> 1721.9162 | Q26: =G26+K26+O26+P26 -> 3321.1485
A27: 23 | B27: 余英 | C27: 化学 | D27: 15 | E27: 18 | F27: =SUM(D27:E27) -> 33 | G27: =$G$4*F27 -> 1772.5298 | H27: 15.5 | I27: 15 | J27: =SUM(H27:I27) -> 30.5 | K27: =$K$4*J27 -> 2239.8169 | L27: 18 | M27: 16 | N27: =SUM(L27:M27) -> 34 | O27: =$O$4*N27 -> 4503.4731 | Q27: =G27+K27+O27+P27 -> 8515.8198
A28: 24 | B28: 任吉洪 | C28: 化学 | D28: 6 | E28: 5 | F28: =SUM(D28:E28) -> 11 | G28: =$G$4*F28 -> 590.84327 | H28: 5 | I28: 5 | J28: =SUM(H28:I28) -> 10 | K28: =$K$4*J28 -> 734.3662 | L28: 6 | M28: 5 | N28: =SUM(L28:M28) -> 11 | O28: =$O$4*N28 -> 1457.006 | Q28: =G28+K28+O28+P28 -> 2782.2155
A29: 25 | B29: 郑富全 | C29: 化学 | D29: 3 | E29: 5 | F29: =SUM(D29:E29) -> 8 | G29: =$G$4*F29 -> 429.70419 | H29: 12 | I29: 10 | J29: =SUM(H29:I29) -> 22 | K29: =$K$4*J29 -> 1615.6056 | L29: 12 | M29: 11 | N29: =SUM(L29:M29) -> 23 | O29: =$O$4*N29 -> 3046.4671 | Q29: =G29+K29+O29+P29 -> 5091.7769
A30: 26 | B30: 陆正超 | C30: 生物 | D30: 3 | F30: =SUM(D30:E30) -> 3 | G30: =$G$4*F30 -> 161.13907 | J30: =SUM(H30:I30) -> 0 | K30: =$K$4*J30 -> 0 | N30: =SUM(L30:M30) -> 0 | O30: =$O$4*N30 -> 0 | Q30: =G30+K30+O30+P30 -> 161.13907
A31: 27 | B31: 彭桦 | C31: 生物 | D31: 15 | E31: 14 | F31: =SUM(D31:E31) -> 29 | G31: =$G$4*F31 -> 1557.6777 | H31: 13 | I31: 14 | J31: =SUM(H31:I31) -> 27 | K31: =$K$4*J31 -> 1982.7887 | L31: 15 | M31: 13 | N31: =SUM(L31:M31) -> 28 | O31: =$O$4*N31 -> 3708.7425 | P31: 1000 | Q31: =G31+K31+O31+P31 -> 8249.209
A32: 28 | B32: 汪绍伦 | C32: 地理 | D32: 12 | E32: 17 | F32: =SUM(D32:E32) -> 29 | G32: =$G$4*F32 -> 1557.6777 | H32: 11 | I32: 10 | J32: =SUM(H32:I32) -> 21 | K32: =$K$4*J32 -> 1542.169 | N32: =SUM(L32:M32) -> 0 | O32: =$O$4*N32 -> 0 | Q32: =G32+K32+O32+P32 -> 3099.8467
A33: 29 | B33: 纪春权 | C33: 政治 | D33: 10 | E33: 12 | F33: =SUM(D33:E33) -> 22 | G33: =$G$4*F33 -> 1181.6865 | H33: 11 | I33: 13 | J33: =SUM(H33:I33) -> 24 | K33: =$K$4*J33 -> 1762.4789 | L33: 18 | M33: 11 | N33: =SUM(L33:M33) -> 29 | O33: =$O$4*N33 -> 3841.1976 | P33: 1000 | Q33: =G33+K33+O33+P33 -> 7785.363
A34: 30 | B34: 尹伦 | C34: 政治 | D34: 6 | E34: 10 | F34: =SUM(D34:E34) -> 16 | G34: =$G$4*F34 -> 859.40839 | H34: 10 | I34: 11 | J34: =SUM(H34:I34) -> 21 | K34: =$K$4*J34 -> 1542.169 | N34: =SUM(L34:M34) -> 0 | O34: =$O$4*N34 -> 0 | Q34: =G34+K34+O34+P34 -> 2401.5774
A35: 31 | B35: 金明龙 | C35: 历史 | D35: 4 | E35: 3 | F35: =SUM(D35:E35) -> 7 | G35: =$G$4*F35 -> 375.99117 | J35: =SUM(H35:I35) -> 0 | K35: =$K$4*J35 -> 0 | L35: 18 | M35: 16 | N35: =SUM(L35:M35) -> 34 | O35: =$O$4*N35 -> 4503.4731 | Q35: =G35+K35+O35+P35 -> 4879.4642
A36: 32 | B36: 胡军 | C36: 历史 | D36: 10 | E36: 16 | F36: =SUM(D36:E36) -> 26 | G36: =$G$4*F36 -> 1396.5386 | J36: =SUM(H36:I36) -> 0 | K36: =$K$4*J36 -> 0 | N36: =SUM(L36:M36) -> 0 | O36: =$O$4*N36 -> 0 | Q36: =G36+K36+O36+P36 -> 1396.5386
A37: 33 | B37: 央青拉姆 | C37: 历史 | D37: 8 | E37: 12 | F37: =SUM(D37:E37) -> 20 | G37: =$G$4*F37 -> 1074.2605 | H37: 12 | I37: 13 | J37: =SUM(H37:I37) -> 25 | K37: =$K$4*J37 -> 1835.9155 | L37: 12 | M37: 11 | N37: =SUM(L37:M37) -> 23 | O37: =$O$4*N37 -> 3046.4671 | Q37: =G37+K37+O37+P37 -> 5956.643
A38: 34 | B38: 李树海 | C38: 地理 | D38: 10 | E38: 6 | F38: =SUM(D38:E38) -> 16 | G38: =$G$4*F38 -> 859.40839 | H38: 14 | I38: 10 | J38: =SUM(H38:I38) -> 24 | K38: =$K$4*J38 -> 1762.4789 | L38: 12 | M38: 10 | N38: =SUM(L38:M38) -> 22 | O38: =$O$4*N38 -> 2914.012 | Q38: =G38+K38+O38+P38 -> 5535.8992
A39: 35 | B39: 郭禧唐 | C39: 音乐 | D39: 11 | E39: 9 | F39: =SUM(D39:E39) -> 20 | G39: =$G$4*F39 -> 1074.2605 | H39: 10 | I39: 5.5 | J39: =SUM(H39:I39) -> 15.5 | K39: =$K$4*J39 -> 1138.2676 | N39: =SUM(L39:M39) -> 0 | O39: =$O$4*N39 -> 0 | Q39: =G39+K39+O39+P39 -> 2212.5281
A40: 36 | B40: 鲁绒旦友 | C40: 体育 | D40: 22 | E40: 19 | F40: =SUM(D40:E40) -> 41 | G40: =$G$4*F40 -> 2202.234 | H40: 12 | I40: 15.5 | J40: =SUM(H40:I40) -> 27.5 | K40: =$K$4*J40 -> 2019.507 | L40: 3 | M40: 3 | N40: =SUM(L40:M40) -> 6 | O40: =$O$4*N40 -> 794.73054 | Q40: =G40+K40+O40+P40 -> 5016.4716
A41: 37 | B41: 王佳 | C41: 计算机 | D41: 11 | E41: 11 | F41: =SUM(D41:E41) -> 22 | G41: =$G$4*F41 -> 1181.6865 | J41: =SUM(H41:I41) -> 0 | K41: =$K$4*J41 -> 0 | N41: =SUM(L41:M41) -> 0 | O41: =$O$4*N41 -> 0 | Q41: =G41+K41+O41+P41 -> 1181.6865
A42: 38 | B42: 周时德 | C42: 美术 | D42: 11 | E42: 10 | F42: =SUM(D42:E42) -> 21 | G42: =$G$4*F42 -> 1127.9735 | H42: 10 | I42: 5.5 | J42: =SUM(H42:I42) -> 15.5 | K42: =$K$4*J42 -> 1138.2676 | N42: =SUM(L42:M42) -> 0 | O42: =$O$4*N42 -> 0 | Q42: =G42+K42+O42+P42 -> 2266.2411
A43: 39 | B43: 张弘 | C43: 生物 | D43: 6 | E43: 4 | F43: =SUM(D43:E43) -> 10 | G43: =$G$4*F43 -> 537.13024 | H43: 6 | I43: 4 | J43: =SUM(H43:I43) -> 10 | K43: =$K$4*J43 -> 734.3662 | L43: 5 | M43: 4 | N43: =SUM(L43:M43) -> 9 | O43: =$O$4*N43 -> 1192.0958 | Q43: =G43+K43+O43+P43 -> 2463.5922
A44: 40 | B44: 辜英琼 | C44: 生物 | E44: 11 | F44: =SUM(D44:E44) -> 11 | G44: =$G$4*F44 -> 590.84327 | H44: 10 | I44: 8 | J44: =SUM(H44:I44) -> 18 | K44: =$K$4*J44 -> 1321.8592 | L44: 10 | M44: 9 | N44: =SUM(L44:M44) -> 19 | O44: =$O$4*N44 -> 2516.6467 | Q44: =G44+K44+O44+P44 -> 4429.3491
A45: 41 | B45: 王长发 | C45: 政治 | D45: 8 | E45: 10 | F45: =SUM(D45:E45) -> 18 | G45: =$G$4*F45 -> 966.83444 | H45: 11 | I45: 12 | J45: =SUM(H45:I45) -> 23 | K45: =$K$4*J45 -> 1689.0423 | L45: 12 | M45: 11 | N45: =SUM(L45:M45) -> 23 | O45: =$O$4*N45 -> 3046.4671 | Q45: =G45+K45+O45+P45 -> 5702.3438
A46: 42 | B46: 吴文艺 | C46: 政治 | E46: 1 | F46: =SUM(D46:E46) -> 1 | G46: =$G$4*F46 -> 53.713024 | J46: =SUM(H46:I46) -> 0 | K46: =$K$4*J46 -> 0 | N46: =SUM(L46:M46) -> 0 | O46: =$O$4*N46 -> 0 | Q46: =G46+K46+O46+P46 -> 53.713024
A47: 43 | B47: 陈文惠 | C47: 化学 | D47: 5 | F47: =SUM(D47:E47) -> 5 | G47: =$G$4*F47 -> 268.56512 | J47: =SUM(H47:I47) -> 0 | K47: =$K$4*J47 -> 0 | N47: =SUM(L47:M47) -> 0 | O47: =$O$4*N47 -> 0 | Q47: =G47+K47+O47+P47 -> 268.56512
A48: 44 | B48: 胡柔殳 | C48: 地理 | F48: =SUM(D48:E48) -> 0 | G48: =$G$4*F48 -> 0 | H48: 6 | I48: 5 | J48: =SUM(H48:I48) -> 11 | K48: =$K$4*J48 -> 807.80282 | L48: 18 | M48: 16 | N48: =SUM(L48:M48) -> 34 | O48: =$O$4*N48 -> 4503.4731 | Q48: =G48+K48+O48+P48 -> 5311.2759
A49: 45 | B49: 付兴秋 | C49: 地理 | E49: 7 | F49: =SUM(D49:E49) -> 7 | G49: =$G$4*F49 -> 375.99117 | J49: =SUM(H49:I49) -> 0 | K49: =$K$4*J49 -> 0 | N49: =SUM(L49:M49) -> 0 | O49: =$O$4*N49 -> 0 | Q49: =G49+K49+O49+P49 -> 375.99117
A50: 46 | B50: 勾中文 | C50: 历史 | F50: =SUM(D50:E50) -> 0 | G50: =$G$4*F50 -> 0 | H50: 9 | I50: 5 | J50: =SUM(H50:I50) -> 14 | K50: =$K$4*J50 -> 1028.1127 | N50: =SUM(L50:M50) -> 0 | O50: =$O$4*N50 -> 0 | Q50: =G50+K50+O50+P50 -> 1028.1127
A51: 47 | B51: 黄金华 | C51: 数学 | F51: =SUM(D51:E51) -> 0 | G51: =$G$4*F51 -> 0 | H51: 9 | J51: =SUM(H51:I51) -> 9 | K51: =$K$4*J51 -> 660.92958 | N51: =SUM(L51:M51) -> 0 | O51: =$O$4*N51 -> 0 | Q51: =G51+K51+O51+P51 -> 660.92958
A52: 48 | B52: 周学万 | C52: 物理 | F52: =SUM(D52:E52) -> 0 | G52: =$G$4*F52 -> 0 | H52: 11 | I52: 11 | J52: =SUM(H52:I52) -> 22 | K52: =$K$4*J52 -> 1615.6056 | N52: =SUM(L52:M52) -> 0 | O52: =$O$4*N52 -> 0 | Q52: =G52+K52+O52+P52 -> 1615.6056
A53: 49 | B53: 邓彤 | C53: 体育 | F53: =SUM(D53:E53) -> 0 | G53: =$G$4*F53 -> 0 | H53: 8 | I53: 8 | J53: =SUM(H53:I53) -> 16 | K53: =$K$4*J53 -> 1174.9859 | L53: 4 | M53: 4 | N53: =SUM(L53:M53) -> 8 | O53: =$O$4*N53 -> 1059.6407 | Q53: =G53+K53+O53+P53 -> 2234.6266
A54: 50 | B54: 余玉红 | C54: 数学 | F54: =SUM(D54:E54) -> 0 | G54: =$G$4*F54 -> 0 | H54: 14 | I54: 15 | J54: =SUM(H54:I54) -> 29 | K54: =$K$4*J54 -> 2129.662 | N54: =SUM(L54:M54) -> 0 | O54: =$O$4*N54 -> 0 | Q54: =G54+K54+O54+P54 -> 2129.662
A55: 51 | B55: 胡也 | C55: 历史 | F55: =SUM(D55:E55) -> 0 | G55: =$G$4*F55 -> 0 | H55: 10 | I55: 13 | J55: =SUM(H55:I55) -> 23 | K55: =$K$4*J55 -> 1689.0423 | N55: =SUM(L55:M55) -> 0 | O55: =$O$4*N55 -> 0 | Q55: =G55+K55+O55+P55 -> 1689.0423
A56: 52 | B56: 李瑛 | C56: 体育 | F56: =SUM(D56:E56) -> 0 | G56: =$G$4*F56 -> 0 | J56: =SUM(H56:I56) -> 0 | K56: =$K$4*J56 -> 0 | L56: 6 | M56: 5 | N56: =SUM(L56:M56) -> 11 | O56: =$O$4*N56 -> 1457.006 | Q56: =G56+K56+O56+P56 -> 1457.006
A57: 53 | B57: 聂艳梅 | C57: 英语 | F57: =SUM(D57:E57) -> 0 | G57: =$G$4*F57 -> 0 | I57: 8 | J57: =SUM(H57:I57) -> 8 | K57: =$K$4*J57 -> 587.49296 | N57: =SUM(L57:M57) -> 0 | O57: =$O$4*N57 -> 0 | Q57: =G57+K57+O57+P57 -> 587.49296
A58: 54 | B58: 杨宗国 | C58: 语文 | F58: =SUM(D58:E58) -> 0 | G58: =$G$4*F58 -> 0 | J58: =SUM(H58:I58) -> 0 | K58: =$K$4*J58 -> 0 | L58: 16 | M58: 14 | N58: =SUM(L58:M58) -> 30 | O58: =$O$4*N58 -> 3973.6527 | Q58: =G58+K58+O58+P58 -> 3973.6527
A59: 55 | B59: 李黎明 | C59: 数学 | F59: =SUM(D59:E59) -> 0 | G59: =$G$4*F59 -> 0 | J59: =SUM(H59:I59) -> 0 | K59: =$K$4*J59 -> 0 | L59: 8 | M59: 14 | N59: =SUM(L59:M59) -> 22 | O59: =$O$4*N59 -> 2914.012 | Q59: =G59+K59+O59+P59 -> 2914.012
A60: 56 | B60: 刘宗林 | C60: 数学 | F60: =SUM(D60:E60) -> 0 | G60: =$G$4*F60 -> 0 | J60: =SUM(H60:I60) -> 0 | K60: =$K$4*J60 -> 0 | L60: 9 | M60: 7 | N60: =SUM(L60:M60) -> 16 | O60: =$O$4*N60 -> 2119.2814 | Q60: =G60+K60+O60+P60 -> 2119.2814
A61: 57 | B61: 邵敏 | C61: 数学 | F61: =SUM(D61:E61) -> 0 | G61: =$G$4*F61 -> 0 | J61: =SUM(H61:I61) -> 0 | K61: =$K$4*J61 -> 0 | L61: 16 | M61: 14 | N61: =SUM(L61:M61) -> 30 | O61: =$O$4*N61 -> 3973.6527 | Q61: =G61+K61+O61+P61 -> 3973.6527
A62: 58 | B62: 陈虹羽 | C62: 政治 | F62: =SUM(D62:E62) -> 0 | G62: =$G$4*F62 -> 0 | J62: =SUM(H62:I62) -> 0 | K62: =$K$4*J62 -> 0 | L62: 6 | N62: =SUM(L62:M62) -> 6 | O62: =$O$4*N62 -> 794.73054 | Q62: =G62+K62+O62+P62 -> 794.73054
A63: 59 | B63: 何谐 | C63: 体育 | F63: =SUM(D63:E63) -> 0 | G63: =$G$4*F63 -> 0 | J63: =SUM(H63:I63) -> 0 | K63: =$K$4*J63 -> 0 | L63: 3.5 | M63: 5 | N63: =SUM(L63:M63) -> 8.5 | O63: =$O$4*N63 -> 1125.8683 | Q63: =G63+K63+O63+P63 -> 1125.8683
A64: 60 | B64: 林莉 | C64: 政治 | F64: =SUM(D64:E64) -> 0 | G64: =$G$4*F64 -> 0 | J64: =SUM(H64:I64) -> 0 | K64: =$K$4*J64 -> 0 | M64: 5 | N64: =SUM(L64:M64) -> 5 | O64: =$O$4*N64 -> 662.27545 | Q64: =G64+K64+O64+P64 -> 662.27545
G65: =('高考-总额分配'!$D$11-'高考-工作量'!$P$65)*0.2 -> 48664 | K65: =('高考-总额分配'!$D$11-'高考-工作量'!$P$65)*0.3 -> 72996 | O65: =('高考-总额分配'!$D$11-'高考-工作量'!$P$65)*0.5 -> 121660 | P65: =SUM(P5:P64) -> 13000 | Q65: =SUM(Q5:Q64) -> 256320

Sheet 高考-文化过程评价奖
A1: 学科 | B1: 教师 | C1: 得分 | D1: 金额
A2: 地理 | B2: 李树海 | C2: 599.1458 | D2: ='高考-总额分配'!$D$17*C2/SUM(C$2:C$50) -> 5809.5247
A3: 地理 | B3: 汪绍伦 | C3: 396.79849 | D3: ='高考-总额分配'!$D$17*C3/SUM(C$2:C$50) -> 3847.4952
A4: 地理 | B4: 付兴秋 | C4: 121.08229 | D4: ='高考-总额分配'!$D$17*C4/SUM(C$2:C$50) -> 1174.0557
A5: 地理 | B5: 胡柔殳 | C5: 405.84687 | D5: ='高考-总额分配'!$D$17*C5/SUM(C$2:C$50) -> 3935.2314
A6: 历史 | B6: 金明龙 | C6: 300.26108 | D6: ='高考-总额分配'!$D$17*C6/SUM(C$2:C$50) -> 2911.4351
A7: 历史 | B7: 央青拉姆 | C7: 610.31204 | D7: ='高考-总额分配'!$D$17*C7/SUM(C$2:C$50) -> 5917.7964
A8: 历史 | B8: 胡军 | C8: 185.23111 | D8: ='高考-总额分配'!$D$17*C8/SUM(C$2:C$50) -> 1796.0648
A9: 历史 | B9: 勾中文 | C9: 205.83321 | D9: ='高考-总额分配'!$D$17*C9/SUM(C$2:C$50) -> 1995.83
A10: 历史 | B10: 胡也 | C10: 199.80807 | D10: ='高考-总额分配'!$D$17*C10/SUM(C$2:C$50) -> 1937.4081
A11: 政治 | B11: 纪春权 | C11: 614.9197 | D11: ='高考-总额分配'!$D$17*C11/SUM(C$2:C$50) -> 5962.4739
A12: 政治 | B12: 王长发 | C12: 579.87305 | D12: ='高考-总额分配'!$D$17*C12/SUM(C$2:C$50) -> 5622.6494
A13: 政治 | B13: 尹伦 | C13: 402.11225 | D13: ='高考-总额分配'!$D$17*C13/SUM(C$2:C$50) -> 3899.0193
... A50: 语文 | B50: 杨宗国 | C50: 200.39187 | D50: ='高考-总额分配'!$D$17*C50/SUM(C$2:C$50) -> 1943.0688
B51: 合计 | C51: =SUM(C2:C50) -> 21325.272 | D51: =SUM(D2:D50) -> 206777.21
A53: 详细算法见附件2

Sheet 高考-文化总分上线奖
G1: 高考成绩 | N1: 目标得分 | S1: 16-17学年上 | AF1: 16-17学年下 | AS1: 17-18学年上 | BF1: 17-18学年下 | BS1: 18-19学年上 | CF1: 18-19学年下
S2: 班级 | T2: 语文 | V2: 数学 | X2: 英语 | Z2: 物理/政治 | AB2: 化学/历史 | AD2: 生物/地理 | AF2: 班级 | AG2: 语文 | AI2: 数学 | AK2: 英语 | AM2: 物理/政治 | AO2: 化学/历史 | AQ2: 生物/地理 | AS2: 班级 | AT2: 语文 | AV2: 数学 | AX2: 英语 | AZ2: 物理 | BB2: 化学 | BD2: 生物 | BF2: 班级 | BG2: 语文 | BI2: 数学 | BK2: 英语 | BM2: 物理/政治 | BO2: 化学/历史 | BQ2: 生物/地理 | BS2: 班级 | BT2: 语文 | BV2: 数学 | BX2: 英语 | BZ2: 物理/政治 | CB2: 化学/历史 | CD2: 生物/地理 | CF2: 班级 | CG2: 语文 | CI2: 数学 | CK2: 英语 | CM2: 物理/政治 | CO2: 化学/历史 | CQ2: 生物/地理
A3: 姓名 | B3: 身份证号码 | C3: 类别 | D3: 科类 | E3: 本科目标 | F3: 重本目标 | G3: 语文 | H3: 数学 | I3: 英语 | J3: 物理/政治 | K3: 化学/历史 | L3: 生物/地理 | M3: 总分 | N3: 是否上本科 | O3: 本科得分 | P3: 是否上重本 | Q3: 重本得分 | R3: 目标得分合计 | S3: 班级 | T3: 教师 姓名 | U3: 得分 | V3: 教师 姓名 | W3: 得分 | X3: 教师 姓名 | Y3: 得分 | Z3: 教师 姓名 | AA3: 得分 | AB3: 教师 姓名 | AC3: 得分 | AD3: 教师 姓名 | AE3: 得分 | AF3: 班级 | AG3: 教师 姓名 | AH3: 得分 | AI3: 教师 姓名 | AJ3: 得分 | AK3: 教师 姓名 | AL3: 得分 | AM3: 教师 姓名 | AN3: 得分 | AO3: 教师 姓名 | AP3: 得分 | AQ3: 教师 姓名 | AR3: 得分 | AS3: 班级 | AT3: 教师 姓名 | AU3: 得分 | AV3: 教师 姓名 | AW3: 得分 | AX3: 教师 姓名 | AY3: 得分 | AZ3: 教师 姓名 | BA3: 得分 | BB3: 教师 姓名 | BC3: 得分 | BD3: 教师 姓名 | BE3: 得分 | BF3: 班级 | BG3: 教师 姓名 | BH3: 得分 | BI3: 教师 姓名 | BJ3: 得分 | BK3: 教师 姓名 | BL3: 得分 | BM3: 教师 姓名 | BN3: 得分 | BO3: 教师 姓名 | BP3: 得分 | BQ3: 教师 姓名 | BR3: 得分 | BS3: 班级 | BT3: 教师 姓名 | BU3: 得分 | BV3: 教师 姓名 | BW3: 得分 | BX3: 教师 姓名 | BY3: 得分 | BZ3: 教师 姓名 | CA3: 得分 | CB3: 教师 姓名 | CC3: 得分 | CD3: 教师 姓名 | CE3: 得分 | CF3: 班级 | CG3: 教师 姓名 | CH3: 得分 | CI3: 教师 姓名 | CJ3: 得分 | CK3: 教师 姓名 | CL3: 得分 | CM3: 教师 姓名 | CN3: 得分 | CO3: 教师 姓名 | CP3: 得分 | CQ3: 教师 姓名 | CR3: 得分
A4: 苏朗扎西 | B4: 513422200106213813 | C4: 统招 | D4: 理科 | E4: 1 | F4: 1 | G4: 118 | H4: 108 | I4: 139 | J4: 70 | K4: 73 | L4: 80 | M4: =SUM(G4:L4) -> 588 | N4: 本科 | O4: =IF(E4>0,IF(N4="本科",(2-E4)*36,-(E4)*36),IF(N4="本科",2*36,0)) -> 36 | P4: 重本 | Q4: =IF(F4>0,IF(P4="重本",(2-F4)*72,-(F4)*72),IF(P4="重本",2*72,0)) -> 72 | R4: =O4+Q4 -> 108 | T4: 岳贵敏 | U4: =($R4*2/10)*0.5/6 -> 1.8 | V4: 央宗娜姆 | W4: =($R4*2/10)*0.5/6 -> 1.8 | X4: 周凯 | Y4: =($R4*2/10)*0.5/6 -> 1.8 | Z4: 赵建超 | AA4: =($R4*2/10)*0.5/6 -> 1.8 | AB4: 任吉洪 | AC4: =($R4*2/10)*0.5/6 -> 1.8 | AD4: 张弘 | AE4: =($R4*2/10)*0.5/6 -> 1.8 | AG4: 岳贵敏 | AH4: =($R4*2/10)*0.5/6 -> 1.8 | AI4: 央宗娜姆 | AJ4: =($R4*2/10)*0.5/6 -> 1.8 | AK4: 周凯 | AL4: =($R4*2/10)*0.5/6 -> 1.8 | AM4: 赵建超 | AN4: =($R4*2/10)*0.5/6 -> 1.8 | AO4: 余英 | AP4: =($R4*2/10)*0.5/6 -> 1.8 | AQ4: 彭桦 | AR4: =($R4*2/10)*0.5/6 -> 1.8 | AT4: 岳贵敏 | AU4: =($R4*3/10)*0.5/6 -> 2.7 | AV4: 黄金华 | AW4: =($R4*3/10)*0.5/6 -> 2.7 | AX4: 周凯 | AY4: =($R4*3/10)*0.5/6 -> 2.7 | AZ4: 兰举银 | BA4: =($R4*3/10)*0.5/6 -> 2.7 | BB4: 余英 | BC4: =($R4*3/10)*0.5/6 -> 2.7 | BD4: 彭桦 | BE4: =($R4*3/10)*0.5/6 -> 2.7 | BG4: 岳贵敏 | BH4: =($R4*3/10)*0.5/6 -> 2.7 | BI4: 央宗娜姆 | BJ4: =($R4*3/10)*0.5/6 -> 2.7 | BK4: 周凯 | BL4: =($R4*3/10)*0.5/6 -> 2.7 | BM4: 兰举银 | BN4: =($R4*3/10)*0.5/6 -> 2.7 | BO4: 余英 | BP4: =($R4*3/10)*0.5/6 -> 2.7 | BQ4: 彭桦 | BR4: =($R4*3/10)*0.5/6 -> 2.7 | BT4: 易涛 | BU4: =($R4*5/10)*0.5/6 -> 4.5 | BV4: 央宗娜姆 | BW4: =($R4*5/10)*0.5/6 -> 4.5 | BX4: 周凯 | BY4: =($R4*5/10)*0.5/6 -> 4.5 | BZ4: 赵建超 | CA4: =($R4*5/10)*0.5/6 -> 4.5 | CB4: 任吉洪 | CC4: =($R4*5/10)*0.5/6 -> 4.5 | CD4: 张弘 | CE4: =($R4*5/10)*0.5/6 -> 4.5 | CG4: 易涛 | CH4: =($R4*5/10)*0.5/6 -> 4.5 | CI4: 央宗娜姆 | CJ4: =($R4*5/10)*0.5/6 -> 4.5 | CK4: 周凯 | CL4: =($R4*5/10)*0.5/6 -> 4.5 | CM4: 赵建超 | CN4: =($R4*5/10)*0.5/6 -> 4.5 | CO4: 任吉洪 | CP4: =($R4*5/10)*0.5/6 -> 4.5 | CQ4: 张弘 | CR4: =($R4*5/10)*0.5/6 -> 4.5
A5: 邝世杰 | B5: 513422200202283619 | C5: 统招 | D5: 理科 | E5: 1 | G5: 116 | H5: 110 | I5: 135 | J5: 95.5 | K5: 46.5 | L5: 74.5 | M5: =SUM(G5:L5) -> 577.5 | N5: 本科 | O5: =IF(E5>0,IF(N5="本科",(2-E5)*36,-(E5)*36),IF(N5="本科",2*36,0)) -> 36 | P5: 重本 | Q5: =IF(F5>0,IF(P5="重本",(2-F5)*72,-(F5)*72),IF(P5="重本",2*72,0)) -> 144 | R5: =O5+Q5 -> 180 | T5: 易涛 | U5: =($R5*2/10)*0.5/6 -> 3 | V5: 王江 | W5: =($R5*2/10)*0.5/6 -> 3 | X5: 雷敏 | Y5: =($R5*2/10)*0.5/6 -> 3 | Z5: 兰举银 | AA5: =($R5*2/10)*0.5/6 -> 3 | AB5: 余英 | AC5: =($R5*2/10)*0.5/6 -> 3 | AD5: 彭桦 | AE5: =($R5*2/10)*0.5/6 -> 3 | AG5: 易涛 | AH5: =($R5*2/10)*0.5/6 -> 3 | AI5: 王江 | AJ5: =($R5*2/10)*0.5/6 -> 3 | AK5: 雷敏 | AL5: =($R5*2/10)*0.5/6 -> 3 | AM5: 兰举银 | AN5: =($R5*2/10)*0.5/6 -> 3 | AO5: 任吉洪 | AP5: =($R5*2/10)*0.5/6 -> 3 | AQ5: 彭桦 | AR5: =($R5*2/10)*0.5/6 -> 3 | AT5: 易涛 | AU5: =($R5*3/10)*0.5/6 -> 4.5 | AV5: 王江 | AW5: =($R5*3/10)*0.5/6 -> 4.5 | AX5: 雷敏 | AY5: =($R5*3/10)*0.5/6 -> 4.5 | AZ5: 兰举银 | BA5: =($R5*3/10)*0.5/6 -> 4.5 | BB5: 余英 | BC5: =($R5*3/10)*0.5/6 -> 4.5 | BD5: 彭桦 | BE5: =($R5*3/10)*0.5/6 -> 4.5 | BG5: 易涛 | BH5: =($R5*3/10)*0.5/6 -> 4.5 | BI5: 王江 | BJ5: =($R5*3/10)*0.5/6 -> 4.5 | BK5: 聂艳梅 | BL5: =($R5*3/10)*0.5/6 -> 4.5 | BM5: 兰举银 | BN5: =($R5*3/10)*0.5/6 -> 4.5 | BO5: 余英 | BP5: =($R5*3/10)*0.5/6 -> 4.5 | BQ5: 彭桦 | BR5: =($R5*3/10)*0.5/6 -> 4.5 | BT5: 杨宗国 | BU5: =($R5*5/10)*0.5/6 -> 7.5 | BV5: 王江 | BW5: =($R5*5/10)*0.5/6 -> 7.5 | BX5: 雷敏 | BY5: =($R5*5/10)*0.5/6 -> 7.5 | BZ5: 兰举银 | CA5: =($R5*5/10)*0.5/6 -> 7.5 | CB5: 余英 | CC5: =($R5*5/10)*0.5/6 -> 7.5 | CD5: 彭桦 | CE5: =($R5*5/10)*0.5/6 -> 7.5 | CG5: 杨宗国 | CH5: =($R5*5/10)*0.5/6 -> 7.5 | CI5: 王江 | CJ5: =($R5*5/10)*0.5/6 -> 7.5 | CK5: 雷敏 | CL5: =($R5*5/10)*0.5/6 -> 7.5 | CM5: 兰举银 | CN5: =($R5*5/10)*0.5/6 -> 7.5 | CO5: 余英 | CP5: =($R5*5/10)*0.5/6 -> 7.5 | CQ5: 彭桦 | CR5: =($R5*5/10)*0.5/6 -> 7.5
A6: 杨露 | B6: 51342220010627232X | C6: 统招 | D6: 理科 | E6: 1 | F6: 1 | G6: 116 | H6: 110 | I6: 142 | J6: 74.5 | K6: 57 | L6: 69 | M6: =SUM(G6:L6) -> 568.5 | N6: 本科 | O6: =IF(E6>0,IF(N6="本科",(2-E6)*36,-(E6)*36),IF(N6="本科",2*36,0)) -> 36 | P6: 重本 | Q6: =IF(F6>0,IF(P6="重本",(2-F6)*72,-(F6)*72),IF(P6="重本",2*72,0)) -> 72 | R6: =O6+Q6 -> 108 | T6: 岳贵敏 | U6: =($R6*2/10)*0.5/6 -> 1.8 | V6: 央宗娜姆 | W6: =($R6*2/10)*0.5/6 -> 1.8 | X6: 周凯 | Y6: =($R6*2/10)*0.5/6 -> 1.8 | Z6: 赵建超 | AA6: =($R6*2/10)*0.5/6 -> 1.8 | AB6: 任吉洪 | AC6: =($R6*2/10)*0.5/6 -> 1.8 | AD6: 张弘 | AE6: =($R6*2/10)*0.5/6 -> 1.8 | AG6: 岳贵敏 | AH6: =($R6*2/10)*0.5/6 -> 1.8 | AI6: 央宗娜姆 | AJ6: =($R6*2/10)*0.5/6 -> 1.8 | AK6: 周凯 | AL6: =($R6*2/10)*0.5/6 -> 1.8 | AM6: 赵建超 | AN6: =($R6*2/10)*0.5/6 -> 1.8 | AO6: 余英 | AP6: =($R6*2/10)*0.5/6 -> 1.8 | AQ6: 彭桦 | AR6: =($R6*2/10)*0.5/6 -> 1.8 | AT6: 岳贵敏 | AU6: =($R6*3/10)*0.5/6 -> 2.7 | AV6: 黄金华 | AW6: =($R6*3/10)*0.5/6 -> 2.7 | AX6: 周凯 | AY6: =($R6*3/10)*0.5/6 -> 2.7 | AZ6: 赵建超 | BA6: =($R6*3/10)*0.5/6 -> 2.7 | BB6: 任吉洪 | BC6: =($R6*3/10)*0.5/6 -> 2.7 | BD6: 张弘 | BE6: =($R6*3/10)*0.5/6 -> 2.7 | BG6: 岳贵敏 | BH6: =($R6*3/10)*0.5/6 -> 2.7 | BI6: 央宗娜姆 | BJ6: =($R6*3/10)*0.5/6 -> 2.7 | BK6: 周凯 | BL6: =($R6*3/10)*0.5/6 -> 2.7 | BM6: 赵建超 | BN6: =($R6*3/10)*0.5/6 -> 2.7 | BO6: 任吉洪 | BP6: =($R6*3/10)*0.5/6 -> 2.7 | BQ6: 张弘 | BR6: =($R6*3/10)*0.5/6 -> 2.7 | BT6: 易涛 | BU6: =($R6*5/10)*0.5/6 -> 4.5 | BV6: 央宗娜姆 | BW6: =($R6*5/10)*0.5/6 -> 4.5 | BX6: 周凯 | BY6: =($R6*5/10)*0.5/6 -> 4.5 | BZ6: 赵建超 | CA6: =($R6*5/10)*0.5/6 -> 4.5 | CB6: 任吉洪 | CC6: =($R6*5/10)*0.5/6 -> 4.5 | CD6: 张弘 | CE6: =($R6*5/10)*0.5/6 -> 4.5 | CG6: 易涛 | CH6: =($R6*5/10)*0.5/6 -> 4.5 | CI6: 央宗娜姆 | CJ6: =($R6*5/10)*0.5/6 -> 4.5 | CK6: 周凯 | CL6: =($R6*5/10)*0.5/6 -> 4.5 | CM6: 赵建超 | CN6: =($R6*5/10)*0.5/6 -> 4.5 | CO6: 任吉洪 | CP6: =($R6*5/10)*0.5/6 -> 4.5 | CQ6: 张弘 | CR6: =($R6*5/10)*0.5/6 -> 4.5
A7: 吴泓兵 | B7: 513422200010040014 | C7: 统招 | D7: 理科 | E7: 1 | G7: 105 | H7: 117 | I7: 118 | J7: 90 | K7: 61.5 | L7: 76.5 | M7: =SUM(G7:L7) -> 568 | N7: 本科 | O7: =IF(E7>0,IF(N7="本科",(2-E7)*36,-(E7)*36),IF(N7="本科",2*36,0)) -> 36 | P7: 重本 | Q7: =IF(F7>0,IF(P7="重本",(2-F7)*72,-(F7)*72),IF(P7="重本",2*72,0)) -> 144 | R7: =O7+Q7 -> 180 | T7: 易涛 | U7: =($R7*2/10)*0.5/6 -> 3 | V7: 王江 | W7: =($R7*2/10)*0.5/6 -> 3 | X7: 雷敏 | Y7: =($R7*2/10)*0.5/6 -> 3 | Z7: 兰举银 | AA7: =($R7*2/10)*0.5/6 -> 3 | AB7: 余英 | AC7: =($R7*2/10)*0.5/6 -> 3 | AD7: 彭桦 | AE7: =($R7*2/10)*0.5/6 -> 3 | AG7: 易涛 | AH7: =($R7*2/10)*0.5/6 -> 3 | AI7: 王江 | AJ7: =($R7*2/10)*0.5/6 -> 3 | AK7: 雷敏 | AL7: =($R7*2/10)*0.5/6 -> 3 | AM7: 兰举银 | AN7: =($R7*2/10)*0.5/6 -> 3 | AO7: 任吉洪 | AP7: =($R7*2/10)*0.5/6 -> 3 | AQ7: 张弘 | AR7: =($R7*2/10)*0.5/6 -> 3 | AT7: 易涛 | AU7: =($R7*3/10)*0.5/6 -> 4.5 | AV7: 王江 | AW7: =($R7*3/10)*0.5/6 -> 4.5 | AX7: 雷敏 | AY7: =($R7*3/10)*0.5/6 -> 4.5 | AZ7: 兰举银 | BA7: =($R7*3/10)*0.5/6 -> 4.5 | BB7: 余英 | BC7: =($R7*3/10)*0.5/6 -> 4.5 | BD7: 彭桦 | BE7: =($R7*3/10)*0.5/6 -> 4.5 | BG7: 易涛 | BH7: =($R7*3/10)*0.5/6 -> 4.5 | BI7: 王江 | BJ7: =($R7*3/10)*0.5/6 -> 4.5 | BK7: 聂艳梅 | BL7: =($R7*3/10)*0.5/6 -> 4.5 | BM7: 兰举银 | BN7: =($R7*3/10)*0.5/6 -> 4.5 | BO7: 余英 | BP7: =($R7*3/10)*0.5/6 -> 4.5 | BQ7: 彭桦 | BR7: =($R7*3/10)*0.5/6 -> 4.5 | BT7: 杨宗国 | BU7: =($R7*5/10)*0.5/6 -> 7.5 | BV7: 王江 | BW7: =($R7*5/10)*0.5/6 -> 7.5 | BX7: 雷敏 | BY7: =($R7*5/10)*0.5/6 -> 7.5 | BZ7: 兰举银 | CA7: =($R7*5/10)*0.5/6 -> 7.5 | CB7: 余英 | CC7: =($R7*5/10)*0.5/6 -> 7.5 | CD7: 彭桦 | CE7: =($R7*5/10)*0.5/6 -> 7.5 | CG7: 杨宗国 | CH7: =($R7*5/10)*0.5/6 -> 7.5 | CI7: 王江 | CJ7: =($R7*5/10)*0.5/6 -> 7.5 | CK7: 雷敏 | CL7: =($R7*5/10)*0.5/6 -> 7.5 | CM7: 兰举银 | CN7: =($R7*5/10)*0.5/6 -> 7.5 | CO7: 余英 | CP7: =($R7*5/10)*0.5/6 -> 7.5 | CQ7: 彭桦 | CR7: =($R7*5/10)*0.5/6 -> 7.5
A8: 唐春兰 | B8: 513422200104100321 | C8: 统招 | D8: 理科 | E8: 1 | F8: 1 | G8: 112 | H8: 120 | I8: 121 | J8: 76 | K8: 66 | L8: 71 | M8: =SUM(G8:L8) -> 566 | N8: 本科 | O8: =IF(E8>0,IF(N8="本科",(2-E8)*36,-(E8)*36),IF(N8="本科",2*36,0)) -> 36 | P8: 重本 | Q8: =IF(F8>0,IF(P8="重本",(2-F8)*72,-(F8)*72),IF(P8="重本",2*72,0)) -> 72 | R8: =O8+Q8 -> 108 | T8: 岳贵敏 | U8: =($R8*2/10)*0.5/6 -> 1.8 | V8: 央宗娜姆 | W8: =($R8*2/10)*0.5/6 -> 1.8 | X8: 周凯 | Y8: =($R8*2/10)*0.5/6 -> 1.8 | Z8: 赵建超 | AA8: =($R8*2/10)*0.5/6 -> 1.8 | AB8: 任吉洪 | AC8: =($R8*2/10)*0.5/6 -> 1.8 | AD8: 张弘 | AE8: =($R8*2/10)*0.5/6 -> 1.8 | AG8: 岳贵敏 | AH8: =($R8*2/10)*0.5/6 -> 1.8 | AI8: 央宗娜姆 | AJ8: =($R8*2/10)*0.5/6 -> 1.8 | AK8: 周凯 | AL8: =($R8*2/10)*0.5/6 -> 1.8 | AM8: 赵建超 | AN8: =($R8*2/10)*0.5/6 -> 1.8 | AO8: 余英 | AP8: =($R8*2/10)*0.5/6 -> 1.8 | AQ8: 彭桦 | AR8: =($R8*2/10)*0.5/6 -> 1.8 | AT8: 易涛 | AU8: =($R8*3/10)*0.5/6 -> 2.7 | AV8: 王江 | AW8: =($R8*3/10)*0.5/6 -> 2.7 | AX8: 雷敏 | AY8: =($R8*3/10)*0.5/6 -> 2.7 | AZ8: 赵建超 | BA8: =($R8*3/10)*0.5/6 -> 2.7 | BB8: 任吉洪 | BC8: =($R8*3/10)*0.5/6 -> 2.7 | BD8: 张弘 | BE8: =($R8*3/10)*0.5/6 -> 2.7 | BG8: 易涛 | BH8: =($R8*3/10)*0.5/6 -> 2.7 | BI8: 王江 | BJ8: =($R8*3/10)*0.5/6 -> 2.7 | BK8: 聂艳梅 | BL8: =($R8*3/10)*0.5/6 -> 2.7 | BM8: 赵建超 | BN8: =($R8*3/10)*0.5/6 -> 2.7 | BO8: 任吉洪 | BP8: =($R8*3/10)*0.5/6 -> 2.7 | BQ8: 张弘 | BR8: =($R8*3/10)*0.5/6 -> 2.7 | BT8: 易涛 | BU8: =($R8*5/10)*0.5/6 -> 4.5 | BV8: 央宗娜姆 | BW8: =($R8*5/10)*0.5/6 -> 4.5 | BX8: 周凯 | BY8: =($R8*5/10)*0.5/6 -> 4.5 | BZ8: 赵建超 | CA8: =($R8*5/10)*0.5/6 -> 4.5 | CB8: 任吉洪 | CC8: =($R8*5/10)*0.5/6 -> 4.5 | CD8: 张弘 | CE8: =($R8*5/10)*0.5/6 -> 4.5 | CG8: 易涛 | CH8: =($R8*5/10)*0.5/6 -> 4.5 | CI8: 央宗娜姆 | CJ8: =($R8*5/10)*0.5/6 -> 4.5 | CK8: 周凯 | CL8: =($R8*5/10)*0.5/6 -> 4.5 | CM8: 赵建超 | CN8: =($R8*5/10)*0.5/6 -> 4.5 | CO8: 任吉洪 | CP8: =($R8*5/10)*0.5/6 -> 4.5 | CQ8: 张弘 | CR8: =($R8*5/10)*0.5/6 -> 4.5
A9: 周斌 | B9: 513422200110192111 | C9: 统招 | D9: 理科 | E9: 1 | G9: 107 | H9: 116 | I9: 141 | J9: 58 | K9: 64 | L9: 77 | M9: =SUM(G9:L9) -> 563 | N9: 本科 | O9: =IF(E9>0,IF(N9="本科",(2-E9)*36,-(E9)*36),IF(N9="本科",2*36,0)) -> 36 | P9: 重本 | Q9: =IF(F9>0,IF(P9="重本",(2-F9)*72,-(F9)*72),IF(P9="重本",2*72,0)) -> 144 | R9: =O9+Q9 -> 180 | T9: 岳贵敏 | U9: =($R9*2/10)*0.5/6 -> 3 | V9: 央宗娜姆 | W9: =($R9*2/10)*0.5/6 -> 3 | X9: 周凯 | Y9: =($R9*2/10)*0.5/6 -> 3 | Z9: 赵建超 | AA9: =($R9*2/10)*0.5/6 -> 3 | AB9: 任吉洪 | AC9: =($R9*2/10)*0.5/6 -> 3 | AD9: 张弘 | AE9: =($R9*2/10)*0.5/6 -> 3 | AG9: 李正琪 | AH9: =($R9*2/10)*0.5/6 -> 3 | AI9: 央宗娜姆 | AJ9: =($R9*2/10)*0.5/6 -> 3 | AK9: 周凯 | AL9: =($R9*2/10)*0.5/6 -> 3 | AM9: 赵建超 | AN9: =($R9*2/10)*0.5/6 -> 3 | AO9: 余英 | AP9: =($R9*2/10)*0.5/6 -> 3 | AQ9: 张弘 | AR9: =($R9*2/10)*0.5/6 -> 3 | AT9: 李正琪 | AU9: =($R9*3/10)*0.5/6 -> 4.5 | AV9: 黄金华 | AW9: =($R9*3/10)*0.5/6 -> 4.5 | AX9: 周凯 | AY9: =($R9*3/10)*0.5/6 -> 4.5 | AZ9: 兰举银 | BA9: =($R9*3/10)*0.5/6 -> 4.5 | BB9: 余英 | BC9: =($R9*3/10)*0.5/6 -> 4.5 | BD9: 彭桦 | BE9: =($R9*3/10)*0.5/6 -> 4.5 | BG9: 李正琪 | BH9: =($R9*3/10)*0.5/6 -> 4.5 | BI9: 央宗娜姆 | BJ9: =($R9*3/10)*0.5/6 -> 4.5 | BK9: 周凯 | BL9: =($R9*3/10)*0.5/6 -> 4.5 | BM9: 兰举银 | BN9: =($R9*3/10)*0.5/6 -> 4.5 | BO9: 余英 | BP9: =($R9*3/10)*0.5/6 -> 4.5 | BQ9: 彭桦 | BR9: =($R9*3/10)*0.5/6 -> 4.5 | BT9: 易涛 | BU9: =($R9*5/10)*0.5/6 -> 7.5 | BV9: 央宗娜姆 | BW9: =($R9*5/10)*0.5/6 -> 7.5 | BX9: 周凯 | BY9: =($R9*5/10)*0.5/6 -> 7.5 | BZ9: 赵建超 | CA9: =($R9*5/10)*0.5/6 -> 7.5 | CB9: 任吉洪 | CC9: =($R9*5/10)*0.5/6 -> 7.5 | CD9: 张弘 | CE9: =($R9*5/10)*0.5/6 -> 7.5 | CG9: 易涛 | CH9: =($R9*5/10)*0.5/6 -> 7.5 | CI9: 央宗娜姆 | CJ9: =($R9*5/10)*0.5/6 -> 7.5 | CK9: 周凯 | CL9: =($R9*5/10)*0.5/6 -> 7.5 | CM9: 赵建超 | CN9: =($R9*5/10)*0.5/6 -> 7.5 | CO9: 任吉洪 | CP9: =($R9*5/10)*0.5/6 -> 7.5 | CQ9: 张弘 | CR9: =($R9*5/10)*0.5/6 -> 7.5
A10: 仁青 | B10: 513422200104054214 | C10: 统招 | D10: 理科 | E10: 1 | G10: 109 | H10: 106 | I10: 113 | J10: 87 | K10: 63 | L10: 68.5 | M10: =SUM(G10:L10) -> 546.5 | N10: 本科 | O10: =IF(E10>0,IF(N10="本科",(2-E10)*36,-(E10)*36),IF(N10="本科",2*36,0)) -> 36 | P10: 重本 | Q10: =IF(F10>0,IF(P10="重本",(2-F10)*72,-(F10)*72),IF(P10="重本",2*72,0)) -> 144 | R10: =O10+Q10 -> 180 | T10: 易涛 | U10: =($R10*2/10)*0.5/6 -> 3 | V10: 王江 | W10: =($R10*2/10)*0.5/6 -> 3 | X10: 雷敏 | Y10: =($R10*2/10)*0.5/6 -> 3 | Z10: 兰举银 | AA10: =($R10*2/10)*0.5/6 -> 3 | AB10: 余英 | AC10: =($R10*2/10)*0.5/6 -> 3 | AD10: 彭桦 | AE10: =($R10*2/10)*0.5/6 -> 3 | AG10: 易涛 | AH10: =($R10*2/10)*0.5/6 -> 3 | AI10: 王江 | AJ10: =($R10*2/10)*0.5/6 -> 3 | AK10: 雷敏 | AL10: =($R10*2/10)*0.5/6 -> 3 | AM10: 兰举银 | AN10: =($R10*2/10)*0.5/6 -> 3 | AO10: 任吉洪 | AP10: =($R10*2/10)*0.5/6 -> 3 | AQ10: 彭桦 | AR10: =($R10*2/10)*0.5/6 -> 3 | AT10: 易涛 | AU10: =($R10*3/10)*0.5/6 -> 4.5 | AV10: 王江 | AW10: =($R10*3/10)*0.5/6 -> 4.5 | AX10: 雷敏 | AY10: =($R10*3/10)*0.5/6 -> 4.5 | AZ10: 兰举银 | BA10: =($R10*3/10)*0.5/6 -> 4.5 | BB10: 余英 | BC10: =($R10*3/10)*0.5/6 -> 4.5 | BD10: 彭桦 | BE10: =($R10*3/10)*0.5/6 -> 4.5 | BG10: 易涛 | BH10: =($R10*3/10)*0.5/6 -> 4.5 | BI10: 王江 | BJ10: =($R10*3/10)*0.5/6 -> 4.5 | BK10: 聂艳梅 | BL10: =($R10*3/10)*0.5/6 -> 4.5 | BM10: 兰举银 | BN10: =($R10*3/10)*0.5/6 -> 4.5 | BO10: 余英 | BP10: =($R10*3/10)*0.5/6 -> 4.5 | BQ10: 彭桦 | BR10: =($R10*3/10)*0.5/6 -> 4.5 | BT10: 杨宗国 | BU10: =($R10*5/10)*0.5/6 -> 7.5 | BV10: 王江 | BW10: =($R10*5/10)*0.5/6 -> 7.5 | BX10: 雷敏 | BY10: =($R10*5/10)*0.5/6 -> 7.5 | BZ10: 兰举银 | CA10: =($R10*5/10)*0.5/6 -> 7.5 | CB10: 余英 | CC10: =($R10*5/10)*0.5/6 -> 7.5 | CD10: 彭桦 | CE10: =($R10*5/10)*0.5/6 -> 7.5 | CG10: 杨宗国 | CH10: =($R10*5/10)*0.5/6 -> 7.5 | CI10: 王江 | CJ10: =($R10*5/10)*0.5/6 -> 7.5 | CK10: 雷敏 | CL10: =($R10*5/10)*0.5/6 -> 7.5 | CM10: 兰举银 | CN10: =($R10*5/10)*0.5/6 -> 7.5 | CO10: 余英 | CP10: =($R10*5/10)*0.5/6 -> 7.5 | CQ10: 彭桦 | CR10: =($R10*5/10)*0.5/6 -> 7.5
A11: 祝玛拉姆 | B11: 513422199807052324 | C11: 统招 | D11: 理科 | E11: 1 | F11: 1 | G11: 109 | H11: 109 | I11: 143 | J11: 64 | K11: 49.5 | L11: 71 | M11: =SUM(G11:L11) -> 545.5 | N11: 本科 | O11: =IF(E11>0,IF(N11="本科",(2-E11)*36,-(E11)*36),IF(N11="本科",2*36,0)) -> 36 | Q11: =IF(F11>0,IF(P11="重本",(2-F11)*72,-(F11)*72),IF(P11="重本",2*72,0)) -> -72 | R11: =O11+Q11 -> -36 | T11: 易涛 | U11: =($R11*2/10)*0.5/6 -> -0.6 | V11: 王江 | W11: =($R11*2/10)*0.5/6 -> -0.6 | X11: 雷敏 | Y11: =($R11*2/10)*0.5/6 -> -0.6 | Z11: 兰举银 | AA11: =($R11*2/10)*0.5/6 -> -0.6 | AB11: 余英 | AC11: =($R11*2/10)*0.5/6 -> -0.6 | AD11: 彭桦 | AE11: =($R11*2/10)*0.5/6 -> -0.6 | AG11: 易涛 | AH11: =($R11*2/10)*0.5/6 -> -0.6 | AI11: 王江 | AJ11: =($R11*2/10)*0.5/6 -> -0.6 | AK11: 雷敏 | AL11: =($R11*2/10)*0.5/6 -> -0.6 | AM11: 兰举银 | AN11: =($R11*2/10)*0.5/6 -> -0.6 | AO11: 任吉洪 | AP11: =($R11*2/10)*0.5/6 -> -0.6 | AQ11: 彭桦 | AR11: =($R11*2/10)*0.5/6 -> -0.6 | AT11: 易涛 | AU11: =($R11*3/10)*0.5/6 -> -0.9 | AV11: 王江 | AW11: =($R11*3/10)*0.5/6 -> -0.9 | AX11: 雷敏 | AY11: =($R11*3/10)*0.5/6 -> -0.9 | AZ11: 兰举银 | BA11: =($R11*3/10)*0.5/6 -> -0.9 | BB11: 余英 | BC11: =($R11*3/10)*0.5/6 -> -0.9 | BD11: 彭桦 | BE11: =($R11*3/10)*0.5/6 -> -0.9 | BG11: 易涛 | BH11: =($R11*3/10)*0.5/6 -> -0.9 | BI11: 王江 | BJ11: =($R11*3/10)*0.5/6 -> -0.9 | BK11: 聂艳梅 | BL11: =($R11*3/10)*0.5/6 -> -0.9 | BM11: 兰举银 | BN11: =($R11*3/10)*0.5/6 -> -0.9 | BO11: 余英 | BP11: =($R11*3/10)*0.5/6 -> -0.9 | BQ11: 彭桦 | BR11: =($R11*3/10)*0.5/6 -> -0.9 | BT11: 杨宗国 | BU11: =($R11*5/10)*0.5/6 -> -1.5 | BV11: 王江 | BW11: =($R11*5/10)*0.5/6 -> -1.5 | BX11: 雷敏 | BY11: =($R11*5/10)*0.5/6 -> -1.5 | BZ11: 兰举银 | CA11: =($R11*5/10)*0.5/6 -> -1.5 | CB11: 余英 | CC11: =($R11*5/10)*0.5/6 -> -1.5 | CD11: 彭桦 | CE11: =($R11*5/10)*0.5/6 -> -1.5 | CG11: 杨宗国 | CH11: =($R11*5/10)*0.5/6 -> -1.5 | CI11: 王江 | CJ11: =($R11*5/10)*0.5/6 -> -1.5 | CK11: 雷敏 | CL11: =($R11*5/10)*0.5/6 -> -1.5 | CM11: 兰举银 | CN11: =($R11*5/10)*0.5/6 -> -1.5 | CO11: 余英 | CP11: =($R11*5/10)*0.5/6 -> -1.5 | CQ11: 彭桦 | CR11: =($R11*5/10)*0.5/6 -> -1.5
A12: 杨富琴 | B12: 513422199909231323 | C12: 统招 | D12: 理科 | E12: 1 | F12: 1 | G12: 117 | H12: 109 | I12: 125 | J12: 59.5 | K12: 66 | L12: 67 | M12: =SUM(G12:L12) -> 543.5 | N12: 本科 | O12: =IF(E12>0,IF(N12="本科",(2-E12)*36,-(E12)*36),IF(N12="本科",2*36,0)) -> 36 | Q12: =IF(F12>0,IF(P12="重本",(2-F12)*72,-(F12)*72),IF(P12="重本",2*72,0)) -> -72 | R12: =O12+Q12 -> -36 | T12: 易涛 | U12: =($R12*2/10)*0.5/6 -> -0.6 | V12: 王江 | W12: =($R12*2/10)*0.5/6 -> -0.6 | X12: 雷敏 | Y12: =($R12*2/10)*0.5/6 -> -0.6 | Z12: 兰举银 | AA12: =($R12*2/10)*0.5/6 -> -0.6 | AB12: 余英 | AC12: =($R12*2/10)*0.5/6 -> -0.6 | AD12: 彭桦 | AE12: =($R12*2/10)*0.5/6 -> -0.6 | AG12: 易涛 | AH12: =($R12*2/10)*0.5/6 -> -0.6 | AI12: 王江 | AJ12: =($R12*2/10)*0.5/6 -> -0.6 | AK12: 雷敏 | AL12: =($R12*2/10)*0.5/6 -> -0.6 | AM12: 兰举银 | AN12: =($R12*2/10)*0.5/6 -> -0.6 | AO12: 任吉洪 | AP12: =($R12*2/10)*0.5/6 -> -0.6 | AQ12: 张弘 | AR12: =($R12*2/10)*0.5/6 -> -0.6 | AT12: 易涛 | AU12: =($R12*3/10)*0.5/6 -> -0.9 | AV12: 王江 | AW12: =($R12*3/10)*0.5/6 -> -0.9 | AX12: 雷敏 | AY12: =($R12*3/10)*0.5/6 -> -0.9 | AZ12: 兰举银 | BA12: =($R12*3/10)*0.5/6 -> -0.9 | BB12: 余英 | BC12: =($R12*3/10)*0.5/6 -> -0.9 | BD12: 彭桦 | BE12: =($R12*3/10)*0.5/6 -> -0.9 | BG12: 易涛 | BH12: =($R12*3/10)*0.5/6 -> -0.9 | BI12: 王江 | BJ12: =($R12*3/10)*0.5/6 -> -0.9 | BK12: 聂艳梅 | BL12: =($R12*3/10)*0.5/6 -> -0.9 | BM12: 兰举银 | BN12: =($R12*3/10)*0.5/6 -> -0.9 | BO12: 余英 | BP12: =($R12*3/10)*0.5/6 -> -0.9 | BQ12: 彭桦 | BR12: =($R12*3/10)*0.5/6 -> -0.9 | BT12: 杨宗国 | BU12: =($R12*5/10)*0.5/6 -> -1.5 | BV12: 王江 | BW12: =($R12*5/10)*0.5/6 -> -1.5 | BX12: 雷敏 | BY12: =($R12*5/10)*0.5/6 -> -1.5 | BZ12: 兰举银 | CA12: =($R12*5/10)*0.5/6 -> -1.5 | CB12: 余英 | CC12: =($R12*5/10)*0.5/6 -> -1.5 | CD12: 彭桦 | CE12: =($R12*5/10)*0.5/6 -> -1.5 | CG12: 杨宗国 | CH12: =($R12*5/10)*0.5/6 -> -1.5 | CI12: 王江 | CJ12: =($R12*5/10)*0.5/6 -> -1.5 | CK12: 雷敏 | CL12: =($R12*5/10)*0.5/6 -> -1.5 | CM12: 兰举银 | CN12: =($R12*5/10)*0.5/6 -> -1.5 | CO12: 余英 | CP12: =($R12*5/10)*0.5/6 -> -1.5 | CQ12: 彭桦 | CR12: =($R12*5/10)*0.5/6 -> -1.5
A13: 彭友青 | B13: 513422200210205012 | C13: 云南转入 | D13: 理科 | E13: 1 | G13: 94 | H13: 117 | I13: 91 | J13: 82.5 | K13: 82 | L13: 77 | M13: =SUM(G13:L13) -> 543.5 | N13: 本科 | O13: =IF(E13>0,IF(N13="本科",(2-E13)*36,-(E13)*36),IF(N13="本科",2*36,0)) -> 36 | Q13: =IF(F13>0,IF(P13="重本",(2-F13)*72,-(F13)*72),IF(P13="重本",2*72,0)) -> 0 | R13: =O13+Q13 -> 36 | T13: 周菊明 | U13: =($R13*2/10)*0.5/6 -> 0.6 | V13: 徐万雄 | W13: =($R13*2/10)*0.5/6 -> 0.6 | X13: 张翠莲 | Y13: =($R13*2/10)*0.5/6 -> 0.6 | Z13: 赵建超 | AA13: =($R13*2/10)*0.5/6 -> 0.6 | AB13: 余英 | AC13: =($R13*2/10)*0.5/6 -> 0.6 | AD13: 彭桦 | AE13: =($R13*2/10)*0.5/6 -> 0.6 | AG13: 李正琪 | AH13: =($R13*2/10)*0.5/6 -> 0.6 | AI13: 赵云川 | AJ13: =($R13*2/10)*0.5/6 -> 0.6 | AK13: 张翠莲 | AL13: =($R13*2/10)*0.5/6 -> 0.6 | AM13: 兰举银 | AN13: =($R13*2/10)*0.5/6 -> 0.6 | AO13: 任吉洪 | AP13: =($R13*2/10)*0.5/6 -> 0.6 | AQ13: 彭桦 | AR13: =($R13*2/10)*0.5/6 -> 0.6 | AT13: 李正琪 | AU13: =($R13*3/10)*0.5/6 -> 0.9 | AV13: 赵云川 | AW13: =($R13*3/10)*0.5/6 -> 0.9 | AX13: 雷敏 | AY13: =($R13*3/10)*0.5/6 -> 0.9 | AZ13: 兰举银 | BA13: =($R13*3/10)*0.5/6 -> 0.9 | BB13: 余英 | BC13: =($R13*3/10)*0.5/6 -> 0.9 | BD13: 彭桦 | BE13: =($R13*3/10)*0.5/6 -> 0.9 | BG13: 李正琪 | BH13: =($R13*3/10)*0.5/6 -> 0.9 | BI13: 赵云川 | BJ13: =($R13*3/10)*0.5/6 -> 0.9 | BK13: 曾春兰 | BL13: =($R13*3/10)*0.5/6 -> 0.9 | BM13: 兰举银 | BN13: =($R13*3/10)*0.5/6 -> 0.9 | BO13: 余英 | BP13: =($R13*3/10)*0.5/6 -> 0.9 | BQ13: 彭桦 | BR13: =($R13*3/10)*0.5/6 -> 0.9 | BT13: 易涛 | BU13: =($R13*5/10)*0.5/6 -> 1.5 | BV13: 央宗娜姆 | BW13: =($R13*5/10)*0.5/6 -> 1.5 | BX13: 周凯 | BY13: =($R13*5/10)*0.5/6 -> 1.5 | BZ13: 赵建超 | CA13: =($R13*5/10)*0.5/6 -> 1.5 | CB13: 任吉洪 | CC13: =($R13*5/10)*0.5/6 -> 1.5 | CD13: 张弘 | CE13: =($R13*5/10)*0.5/6 -> 1.5 | CG13: 易涛 | CH13: =($R13*5/10)*0.5/6 -> 1.5 | CI13: 央宗娜姆 | CJ13: =($R13*5/10)*0.5/6 -> 1.5 | CK13: 周凯 | CL13: =($R13*5/10)*0.5/6 -> 1.5 | CM13: 赵建超 | CN13: =($R13*5/10)*0.5/6 -> 1.5 | CO13: 任吉洪 | CP13: =($R13*5/10)*0.5/6 -> 1.5 | CQ13: 张弘 | CR13: =($R13*5/10)*0.5/6 -> 1.5
A14: 吴扎西 | B14: 513422200004023613 | C14: 统招 | D14: 理科 | E14: 1 | F14: 1 | G14: 110 | H14: 85 | I14: 139 | J14: 70 | K14: 61 | L14: 75.5 | M14: =SUM(G14:L14) -> 540.5 | N14: 本科 | O14: =IF(E14>0,IF(N14="本科",(2-E14)*36,-(E14)*36),IF(N14="本科",2*36,0)) -> 36 | Q14: =IF(F14>0,IF(P14="重本",(2-F14)*72,-(F14)*72),IF(P14="重本",2*72,0)) -> -72 | R14: =O14+Q14 -> -36 | T14: 岳贵敏 | U14: =($R14*2/10)*0.5/6 -> -0.6 | V14: 央宗娜姆 | W14: =($R14*2/10)*0.5/6 -> -0.6 | X14: 周凯 | Y14: =($R14*2/10)*0.5/6 -> -0.6 | Z14: 赵建超 | AA14: =($R14*2/10)*0.5/6 -> -0.6 | AB14: 任吉洪 | AC14: =($R14*2/10)*0.5/6 -> -0.6 | AD14: 张弘 | AE14: =($R14*2/10)*0.5/6 -> -0.6 | AG14: 岳贵敏 | AH14: =($R14*2/10)*0.5/6 -> -0.6 | AI14: 央宗娜姆 | AJ14: =($R14*2/10)*0.5/6 -> -0.6 | AK14: 周凯 | AL14: =($R14*2/10)*0.5/6 -> -0.6 | AM14: 赵建超 | AN14: =($R14*2/10)*0.5/6 -> -0.6 | AO14: 余英 | AP14: =($R14*2/10)*0.5/6 -> -0.6 | AQ14: 张弘 | AR14: =($R14*2/10)*0.5/6 -> -0.6 | AT14: 岳贵敏 | AU14: =($R14*3/10)*0.5/6 -> -0.9 | AV14: 黄金华 | AW14: =($R14*3/10)*0.5/6 -> -0.9 | AX14: 周凯 | AY14: =($R14*3/10)*0.5/6 -> -0.9 | AZ14: 兰举银 | BA14: =($R14*3/10)*0.5/6 -> -0.9 | BB14: 余英 | BC14: =($R14*3/10)*0.5/6 -> -0.9 | BD14: 彭桦 | BE14: =($R14*3/10)*0.5/6 -> -0.9 | BG14: 岳贵敏 | BH14: =($R14*3/10)*0.5/6 -> -0.9 | BI14: 央宗娜姆 | BJ14: =($R14*3/10)*0.5/6 -> -0.9 | BK14: 周凯 | BL14: =($R14*3/10)*0.5/6 -> -0.9 | BM14: 兰举银 | BN14: =($R14*3/10)*0.5/6 -> -0.9 | BO14: 余英 | BP14: =($R14*3/10)*0.5/6 -> -0.9 | BQ14: 彭桦 | BR14: =($R14*3/10)*0.5/6 -> -0.9 | BT14: 易涛 | BU14: =($R14*5/10)*0.5/6 -> -1.5 | BV14: 央宗娜姆 | BW14: =($R14*5/10)*0.5/6 -> -1.5 | BX14: 周凯 | BY14: =($R14*5/10)*0.5/6 -> -1.5 | BZ14: 赵建超 | CA14: =($R14*5/10)*0.5/6 -> -1.5 | CB14: 任吉洪 | CC14: =($R14*5/10)*0.5/6 -> -1.5 | CD14: 张弘 | CE14: =($R14*5/10)*0.5/6 -> -1.5 | CG14: 易涛 | CH14: =($R14*5/10)*0.5/6 -> -1.5 | CI14: 央宗娜姆 | CJ14: =($R14*5/10)*0.5/6 -> -1.5 | CK14: 周凯 | CL14: =($R14*5/10)*0.5/6 -> -1.5 | CM14: 赵建超 | CN14: =($R14*5/10)*0.5/6 -> -1.5 | CO14: 任吉洪 | CP14: =($R14*5/10)*0.5/6 -> -1.5 | CQ14: 张弘 | CR14: =($R14*5/10)*0.5/6 -> -1.5
A15: 彭友军 | B15: 513422200003075016 | C15: 云南转入 | D15: 理科 | E15: 1 | G15: 104 | H15: 120 | I15: 85 | J15: 79 | K15: 82 | L15: 70 | M15: =SUM(G15:L15) -> 540 | N15: 本科 | O15: =IF(E15>0,IF(N15="本科",(2-E15)*36,-(E15)*36),IF(N15="本科",2*36,0)) -> 36 | Q15: =IF(F15>0,IF(P15="重本",(2-F15)*72,-(F15)*72),IF(P15="重本",2*72,0)) -> 0 | R15: =O15+Q15 -> 36 | T15: 周菊明 | U15: =($R15*2/10)*0.5/6 -> 0.6 | V15: 赵云川 | W15: =($R15*2/10)*0.5/6 -> 0.6 | X15: 张翠莲 | Y15: =($R15*2/10)*0.5/6 -> 0.6 | Z15: 兰举银 | AA15: =($R15*2/10)*0.5/6 -> 0.6 | AB15: 陈文惠 | AC15: =($R15*2/10)*0.5/6 -> 0.6 | AD15: 彭桦 | AE15: =($R15*2/10)*0.5/6 -> 0.6 | AG15: 李志友 | AH15: =($R15*2/10)*0.5/6 -> 0.6 | AI15: 央宗娜姆 | AJ15: =($R15*2/10)*0.5/6 -> 0.6 | AK15: 雷敏 | AL15: =($R15*2/10)*0.5/6 -> 0.6 | AM15: 兰举银 | AN15: =($R15*2/10)*0.5/6 -> 0.6 | AO15: 任吉洪 | AP15: =($R15*2/10)*0.5/6 -> 0.6 | AQ15: 张弘 | AR15: =($R15*2/10)*0.5/6 -> 0.6 | AT15: 岳子琦 | AU15: =($R15*3/10)*0.5/6 -> 0.9 | AV15: 黄金华 | AW15: =($R15*3/10)*0.5/6 -> 0.9 | AX15: 雷敏 | AY15: =($R15*3/10)*0.5/6 -> 0.9 | AZ15: 兰举银 | BA15: =($R15*3/10)*0.5/6 -> 0.9 | BB15: 余英 | BC15: =($R15*3/10)*0.5/6 -> 0.9 | BD15: 彭桦 | BE15: =($R15*3/10)*0.5/6 -> 0.9 | BG15: 岳子琦 | BH15: =($R15*3/10)*0.5/6 -> 0.9 | BI15: 央宗娜姆 | BJ15: =($R15*3/10)*0.5/6 -> 0.9 | BK15: 曾春兰 | BL15: =($R15*3/10)*0.5/6 -> 0.9 | BM15: 兰举银 | BN15: =($R15*3/10)*0.5/6 -> 0.9 | BO15: 余英 | BP15: =($R15*3/10)*0.5/6 -> 0.9 | BQ15: 彭桦 | BR15: =($R15*3/10)*0.5/6 -> 0.9 | BT15: 李志友 | BU15: =($R15*5/10)*0.5/6 -> 1.5 | BV15: 赵云川 | BW15: =($R15*5/10)*0.5/6 -> 1.5 | BX15: 彭丹 | BY15: =($R15*5/10)*0.5/6 -> 1.5 | BZ15: 赵建超 | CA15: =($R15*5/10)*0.5/6 -> 1.5 | CB15: 任吉洪 | CC15: =($R15*5/10)*0.5/6 -> 1.5 | CD15: 张弘 | CE15: =($R15*5/10)*0.5/6 -> 1.5 | CG15: 李志友 | CH15: =($R15*5/10)*0.5/6 -> 1.5 | CI15: 赵云川 | CJ15: =($R15*5/10)*0.5/6 -> 1.5 | CK15: 彭丹 | CL15: =($R15*5/10)*0.5/6 -> 1.5 | CM15: 赵建超 | CN15: =($R15*5/10)*0.5/6 -> 1.5 | CO15: 任吉洪 | CP15: =($R15*5/10)*0.5/6 -> 1.5 | CQ15: 张弘 | CR15: =($R15*5/10)*0.5/6 -> 1.5
A16: 王小红 | B16: 513422200110100723 | C16: 统招 | D16: 理科 | E16: 1 | F16: 1 | G16: 104 | H16: 118 | I16: 128 | J16: 56 | K16: 59 | L16: 74 | M16: =SUM(G16:L16) -> 539 | N16: 本科 | O16: =IF(E16>0,IF(N16="本科",(2-E16)*36,-(E16)*36),IF(N16="本科",2*36,0)) -> 36 | Q16: =IF(F16>0,IF(P16="重本",(2-F16)*72,-(F16)*72),IF(P16="重本",2*72,0)) -> -72 | R16: =O16+Q16 -> -36 | T16: 易涛 | U16: =($R16*2/10)*0.5/6 -> -0.6 | V16: 王江 | W16: =($R16*2/10)*0.5/6 -> -0.6 | X16: 雷敏 | Y16: =($R16*2/10)*0.5/6 -> -0.6 | Z16: 兰举银 | AA16: =($R16*2/10)*0.5/6 -> -0.6 | AB16: 余英 | AC16: =($R16*2/10)*0.5/6 -> -0.6 | AD16: 彭桦 | AE16: =($R16*2/10)*0.5/6 -> -0.6 | AG16: 易涛 | AH16: =($R16*2/10)*0.5/6 -> -0.6 | AI16: 王江 | AJ16: =($R16*2/10)*0.5/6 -> -0.6 | AK16: 雷敏 | AL16: =($R16*2/10)*0.5/6 -> -0.6 | AM16: 兰举银 | AN16: =($R16*2/10)*0.5/6 -> -0.6 | AO16: 任吉洪 | AP16: =($R16*2/10)*0.5/6 -> -0.6 | AQ16: 张弘 | AR16: =($R16*2/10)*0.5/6 -> -0.6 | AT16: 易涛 | AU16: =($R16*3/10)*0.5/6 -> -0.9 | AV16: 王江 | AW16: =($R16*3/10)*0.5/6 -> -0.9 | AX16: 雷敏 | AY16: =($R16*3/10)*0.5/6 -> -0.9 | AZ16: 兰举银 | BA16: =($R16*3/10)*0.5/6 -> -0.9 | BB16: 余英 | BC16: =($R16*3/10)*0.5/6 -> -0.9 | BD16: 彭桦 | BE16: =($R16*3/10)*0.5/6 -> -0.9 | BG16: 易涛 | BH16: =($R16*3/10)*0.5/6 -> -0.9 | BI16: 王江 | BJ16: =($R16*3/10)*0.5/6 -> -0.9 | BK16: 聂艳梅 | BL16: =($R16*3/10)*0.5/6 -> -0.9 | BM16: 兰举银 | BN16: =($R16*3/10)*0.5/6 -> -0.9 | BO16: 余英 | BP16: =($R16*3/10)*0.5/6 -> -0.9 | BQ16: 彭桦 | BR16: =($R16*3/10)*0.5/6 -> -0.9 | BT16: 杨宗国 | BU16: =($R16*5/10)*0.5/6 -> -1.5 | BV16: 王江 | BW16: =($R16*5/10)*0.5/6 -> -1.5 | BX16: 雷敏 | BY16: =($R16*5/10)*0.5/6 -> -1.5 | BZ16: 兰举银 | CA16: =($R16*5/10)*0.5/6 -> -1.5 | CB16: 余英 | CC16: =($R16*5/10)*0.5/6 -> -1.5 | CD16: 彭桦 | CE16: =($R16*5/10)*0.5/6 -> -1.5 | CG16: 杨宗国 | CH16: =($R16*5/10)*0.5/6 -> -1.5 | CI16: 王江 | CJ16: =($R16*5/10)*0.5/6 -> -1.5 | CK16: 雷敏 | CL16: =($R16*5/10)*0.5/6 -> -1.5 | CM16: 兰举银 | CN16: =($R16*5/10)*0.5/6 -> -1.5 | CO16: 余英 | CP16: =($R16*5/10)*0.5/6 -> -1.5 | CQ16: 彭桦 | CR16: =($R16*5/10)*0.5/6 -> -1.5
A17: 胡碧龙 | B17: 51342220010605172X | C17: 统招 | D17: 理科 | E17: 1 | F17: 1 | G17: 114 | H17: 111 | I17: 117 | J17: 65 | K17: 67 | L17: 65 | M17: =SUM(G17:L17) -> 539 | N17: 本科 | O17: =IF(E17>0,IF(N17="本科",(2-E17)*36,-(E17)*36),IF(N17="本科",2*36,0)) -> 36 | Q17: =IF(F17>0,IF(P17="重本",(2-F17)*72,-(F17)*72),IF(P17="重本",2*72,0)) -> -72 | R17: =O17+Q17 -> -36 | T17: 岳贵敏 | U17: =($R17*2/10)*0.5/6 -> -0.6 | V17: 央宗娜姆 | W17: =($R17*2/10)*0.5/6 -> -0.6 | X17: 周凯 | Y17: =($R17*2/10)*0.5/6 -> -0.6 | Z17: 赵建超 | AA17: =($R17*2/10)*0.5/6 -> -0.6 | AB17: 任吉洪 | AC17: =($R17*2/10)*0.5/6 -> -0.6 | AD17: 张弘 | AE17: =($R17*2/10)*0.5/6 -> -0.6 | AG17: 岳贵敏 | AH17: =($R17*2/10)*0.5/6 -> -0.6 | AI17: 央宗娜姆 | AJ17: =($R17*2/10)*0.5/6 -> -0.6 | AK17: 周凯 | AL17: =($R17*2/10)*0.5/6 -> -0.6 | AM17: 赵建超 | AN17: =($R17*2/10)*0.5/6 -> -0.6 | AO17: 余英 | AP17: =($R17*2/10)*0.5/6 -> -0.6 | AQ17: 张弘 | AR17: =($R17*2/10)*0.5/6 -> -0.6 | AT17: 岳贵敏 | AU17: =($R17*3/10)*0.5/6 -> -0.9 | AV17: 黄金华 | AW17: =($R17*3/10)*0.5/6 -> -0.9 | AX17: 周凯 | AY17: =($R17*3/10)*0.5/6 -> -0.9 | AZ17: 赵建超 | BA17: =($R17*3/10)*0.5/6 -> -0.9 | BB17: 任吉洪 | BC17: =($R17*3/10)*0.5/6 -> -0.9 | BD17: 张弘 | BE17: =($R17*3/10)*0.5/6 -> -0.9 | BG17: 岳贵敏 | BH17: =($R17*3/10)*0.5/6 -> -0.9 | BI17: 央宗娜姆 | BJ17: =($R17*3/10)*0.5/6 -> -0.9 | BK17: 周凯 | BL17: =($R17*3/10)*0.5/6 -> -0.9 | BM17: 赵建超 | BN17: =($R17*3/10)*0.5/6 -> -0.9 | BO17: 任吉洪 | BP17: =($R17*3/10)*0.5/6 -> -0.9 | BQ17: 张弘 | BR17: =($R17*3/10)*0.5/6 -> -0.9 | BT17: 易涛 | BU17: =($R17*5/10)*0.5/6 -> -1.5 | BV17: 央宗娜姆 | BW17: =($R17*5/10)*0.5/6 -> -1.5 | BX17: 周凯 | BY17: =($R17*5/10)*0.5/6 -> -1.5 | BZ17: 赵建超 | CA17: =($R17*5/10)*0.5/6 -> -1.5 | CB17: 任吉洪 | CC17: =($R17*5/10)*0.5/6 -> -1.5 | CD17: 张弘 | CE17: =($R17*5/10)*0.5/6 -> -1.5 | CG17: 易涛 | CH17: =($R17*5/10)*0.5/6 -> -1.5 | CI17: 央宗娜姆 | CJ17: =($R17*5/10)*0.5/6 -> -1.5 | CK17: 周凯 | CL17: =($R17*5/10)*0.5/6 -> -1.5 | CM17: 赵建超 | CN17: =($R17*5/10)*0.5/6 -> -1.5 | CO17: 任吉洪 | CP17: =($R17*5/10)*0.5/6 -> -1.5 | CQ17: 张弘 | CR17: =($R17*5/10)*0.5/6 -> -1.5
A18: 邱友落 | B18: 513422199908195623 | C18: 统招 | D18: 理科 | E18: 1 | G18: 106 | H18: 101 | I18: 125 | J18: 70 | K18: 64 | L18: 62 | M18: =SUM(G18:L18) -> 528 | N18: 本科 | O18: =IF(E18>0,IF(N18="本科",(2-E18)*36,-(E18)*36),IF(N18="本科",2*36,0)) -> 36 | Q18: =IF(F18>0,IF(P18="重本",(2-F18)*72,-(F18)*72),IF(P18="重本",2*72,0)) -> 0 | R18: =O18+Q18 -> 36 | T18: 岳贵敏 | U18: =($R18*2/10)*0.5/6 -> 0.6 | V18: 央宗娜姆 | W18: =($R18*2/10)*0.5/6 -> 0.6 | X18: 周凯 | Y18: =($R18*2/10)*0.5/6 -> 0.6 | Z18: 赵建超 | AA18: =($R18*2/10)*0.5/6 -> 0.6 | AB18: 任吉洪 | AC18: =($R18*2/10)*0.5/6 -> 0.6 | AD18: 张弘 | AE18: =($R18*2/10)*0.5/6 -> 0.6 | AG18: 岳贵敏 | AH18: =($R18*2/10)*0.5/6 -> 0.6 | AI18: 央宗娜姆 | AJ18: =($R18*2/10)*0.5/6 -> 0.6 | AK18: 周凯 | AL18: =($R18*2/10)*0.5/6 -> 0.6 | AM18: 赵建超 | AN18: =($R18*2/10)*0.5/6 -> 0.6 | AO18: 余英 | AP18: =($R18*2/10)*0.5/6 -> 0.6 | AQ18: 张弘 | AR18: =($R18*2/10)*0.5/6 -> 0.6 | AT18: 岳贵敏 | AU18: =($R18*3/10)*0.5/6 -> 0.9 | AV18: 黄金华 | AW18: =($R18*3/10)*0.5/6 -> 0.9 | AX18: 周凯 | AY18: =($R18*3/10)*0.5/6 -> 0.9 | AZ18: 兰举银 | BA18: =($R18*3/10)*0.5/6 -> 0.9 | BB18: 余英 | BC18: =($R18*3/10)*0.5/6 -> 0.9 | BD18: 彭桦 | BE18: =($R18*3/10)*0.5/6 -> 0.9 | BG18: 岳贵敏 | BH18: =($R18*3/10)*0.5/6 -> 0.9 | BI18: 央宗娜姆 | BJ18: =($R18*3/10)*0.5/6 -> 0.9 | BK18: 周凯 | BL18: =($R18*3/10)*0.5/6 -> 0.9 | BM18: 兰举银 | BN18: =($R18*3/10)*0.5/6 -> 0.9 | BO18: 余英 | BP18: =($R18*3/10)*0.5/6 -> 0.9 | BQ18: 彭桦 | BR18: =($R18*3/10)*0.5/6 -> 0.9 | BT18: 易涛 | BU18: =($R18*5/10)*0.5/6 -> 1.5 | BV18: 央宗娜姆 | BW18: =($R18*5/10)*0.5/6 -> 1.5 | BX18: 周凯 | BY18: =($R18*5/10)*0.5/6 -> 1.5 | BZ18: 赵建超 | CA18: =($R18*5/10)*0.5/6 -> 1.5 | CB18: 任吉洪 | CC18: =($R18*5/10)*0.5/6 -> 1.5 | CD18: 张弘 | CE18: =($R18*5/10)*0.5/6 -> 1.5 | CG18: 易涛 | CH18: =($R18*5/10)*0.5/6 -> 1.5 | CI18: 央宗娜姆 | CJ18: =($R18*5/10)*0.5/6 -> 1.5 | CK18: 周凯 | CL18: =($R18*5/10)*0.5/6 -> 1.5 | CM18: 赵建超 | CN18: =($R18*5/10)*0.5/6 -> 1.5 | CO18: 任吉洪 | CP18: =($R18*5/10)*0.5/6 -> 1.5 | CQ18: 张弘 | CR18: =($R18*5/10)*0.5/6 -> 1.5
A19: 高学良 | B19: 513422200109235612 | C19: 统招 | D19: 理科 | G19: 101 | H19: 121 | I19: 108 | J19: 65.5 | K19: 58 | L19: 70 | M19: =SUM(G19:L19) -> 523.5 | N19: 本科 | O19: =IF(E19>0,IF(N19="本科",(2-E19)*36,-(E19)*36),IF(N19="本科",2*36,0)) -> 72 | Q19: =IF(F19>0,IF(P19="重本",(2-F19)*72,-(F19)*72),IF(P19="重本",2*72,0)) -> 0 | R19: =O19+Q19 -> 72 | T19: 易涛 | U19: =($R19*2/10)*0.5/6 -> 1.2 | V19: 周军 | W19: =($R19*2/10)*0.5/6 -> 1.2 | X19: 彭丹 | Y19: =($R19*2/10)*0.5/6 -> 1.2 | Z19: 宋加友 | AA19: =($R19*2/10)*0.5/6 -> 1.2 | AB19: 任吉洪 | AC19: =($R19*2/10)*0.5/6 -> 1.2 | AD19: 张弘 | AE19: =($R19*2/10)*0.5/6 -> 1.2 | AG19: 李志友 | AH19: =($R19*2/10)*0.5/6 -> 1.2 | AI19: 央宗娜姆 | AJ19: =($R19*2/10)*0.5/6 -> 1.2 | AK19: 周凯 | AL19: =($R19*2/10)*0.5/6 -> 1.2 | AM19: 赵建超 | AN19: =($R19*2/10)*0.5/6 -> 1.2 | AO19: 余英 | AP19: =($R19*2/10)*0.5/6 -> 1.2 | AQ19: 辜英琼 | AR19: =($R19*2/10)*0.5/6 -> 1.2 | AT19: 周菊明 | AU19: =($R19*3/10)*0.5/6 -> 1.8 | AV19: 王江 | AW19: =($R19*3/10)*0.5/6 -> 1.8 | AX19: 周凯 | AY19: =($R19*3/10)*0.5/6 -> 1.8 | AZ19: 赵建超 | BA19: =($R19*3/10)*0.5/6 -> 1.8 | BB19: 任吉洪 | BC19: =($R19*3/10)*0.5/6 -> 1.8 | BD19: 辜英琼 | BE19: =($R19*3/10)*0.5/6 -> 1.8 | BG19: 周菊明 | BH19: =($R19*3/10)*0.5/6 -> 1.8 | BI19: 王江 | BJ19: =($R19*3/10)*0.5/6 -> 1.8 | BK19: 周凯 | BL19: =($R19*3/10)*0.5/6 -> 1.8 | BM19: 赵建超 | BN19: =($R19*3/10)*0.5/6 -> 1.8 | BO19: 任吉洪 | BP19: =($R19*3/10)*0.5/6 -> 1.8 | BQ19: 辜英琼 | BR19: =($R19*3/10)*0.5/6 -> 1.8 | BT19: 易涛 | BU19: =($R19*5/10)*0.5/6 -> 3 | BV19: 央宗娜姆 | BW19: =($R19*5/10)*0.5/6 -> 3 | BX19: 周凯 | BY19: =($R19*5/10)*0.5/6 -> 3 | BZ19: 赵建超 | CA19: =($R19*5/10)*0.5/6 -> 3 | CB19: 任吉洪 | CC19: =($R19*5/10)*0.5/6 -> 3 | CD19: 张弘 | CE19: =($R19*5/10)*0.5/6 -> 3 | CG19: 易涛 | CH19: =($R19*5/10)*0.5/6 -> 3 | CI19: 央宗娜姆 | CJ19: =($R19*5/10)*0.5/6 -> 3 | CK19: 周凯 | CL19: =($R19*5/10)*0.5/6 -> 3 | CM19: 赵建超 | CN19: =($R19*5/10)*0.5/6 -> 3 | CO19: 任吉洪 | CP19: =($R19*5/10)*0.5/6 -> 3 | CQ19: 张弘 | CR19: =($R19*5/10)*0.5/6 -> 3
A20: 陈志龙 | B20: 513422200008255817 | C20: 统招 | D20: 理科 | E20: 0.7 | G20: 99 | H20: 79 | I20: 133 | J20: 79 | K20: 57 | L20: 75.5 | M20: =SUM(G20:L20) -> 522.5 | N20: 本科 | O20: =IF(E20>0,IF(N20="本科",(2-E20)*36,-(E20)*36),IF(N20="本科",2*36,0)) -> 46.8 | Q20: =IF(F20>0,IF(P20="重本",(2-F20)*72,-(F20)*72),IF(P20="重本",2*72,0)) -> 0 | R20: =O20+Q20 -> 46.8 | T20: 岳贵敏 | U20: =($R20*2/10)*0.5/6 -> 0.78 | V20: 央宗娜姆 | W20: =($R20*2/10)*0.5/6 -> 0.78 | X20: 周凯 | Y20: =($R20*2/10)*0.5/6 -> 0.78 | Z20: 王友春 | AA20: =($R20*2/10)*0.5/6 -> 0.78 | AB20: 陈文惠 | AC20: =($R20*2/10)*0.5/6 -> 0.78 | AD20: 陈文惠 | AE20: =($R20*2/10)*0.5/6 -> 0.78 | AG20: 岳贵敏 | AH20: =($R20*2/10)*0.5/6 -> 0.78 | AI20: 赵云川 | AJ20: =($R20*2/10)*0.5/6 -> 0.78 | AK20: 雷敏 | AL20: =($R20*2/10)*0.5/6 -> 0.78 | AM20: 兰举银 | AN20: =($R20*2/10)*0.5/6 -> 0.78 | AO20: 任吉洪 | AP20: =($R20*2/10)*0.5/6 -> 0.78 | AQ20: 彭桦 | AR20: =($R20*2/10)*0.5/6 -> 0.78 | AT20: 岳贵敏 | AU20: =($R20*3/10)*0.5/6 -> 1.17 | AV20: 黄金华 | AW20: =($R20*3/10)*0.5/6 -> 1.17 | AX20: 周凯 | AY20: =($R20*3/10)*0.5/6 -> 1.17 | AZ20: 兰举银 | BA20: =($R20*3/10)*0.5/6 -> 1.17 | BB20: 余英 | BC20: =($R20*3/10)*0.5/6 -> 1.17 | BD20: 彭桦 | BE20: =($R20*3/10)*0.5/6 -> 1.17 | BG20: 岳贵敏 | BH20: =($R20*3/10)*0.5/6 -> 1.17 | BI20: 央宗娜姆 | BJ20: =($R20*3/10)*0.5/6 -> 1.17 | BK20: 周凯 | BL20: =($R20*3/10)*0.5/6 -> 1.17 | BM20: 兰举银 | BN20: =($R20*3/10)*0.5/6 -> 1.17 | BO20: 余英 | BP20: =($R20*3/10)*0.5/6 -> 1.17 | BQ20: 彭桦 | BR20: =($R20*3/10)*0.5/6 -> 1.17 | BT20: 易涛 | BU20: =($R20*5/10)*0.5/6 -> 1.95 | BV20: 央宗娜姆 | BW20: =($R20*5/10)*0.5/6 -> 1.95 | BX20: 周凯 | BY20: =($R20*5/10)*0.5/6 -> 1.95 | BZ20: 赵建超 | CA20: =($R20*5/10)*0.5/6 -> 1.95 | CB20: 任吉洪 | CC20: =($R20*5/10)*0.5/6 -> 1.95 | CD20: 张弘 | CE20: =($R20*5/10)*0.5/6 -> 1.95 | CG20: 易涛 | CH20: =($R20*5/10)*0.5/6 -> 1.95 | CI20: 央宗娜姆 | CJ20: =($R20*5/10)*0.5/6 -> 1.95 | CK20: 周凯 | CL20: =($R20*5/10)*0.5/6 -> 1.95 | CM20: 赵建超 | CN20: =($R20*5/10)*0.5/6 -> 1.95 | CO20: 任吉洪 | CP20: =($R20*5/10)*0.5/6 -> 1.95 | CQ20: 张弘 | CR20: =($R20*5/10)*0.5/6 -> 1.95
A21: 杨顺金 | B21: 513422200006046210 | C21: 统招 | D21: 理科 | G21: 109 | H21: 104 | I21: 116 | J21: 65.5 | K21: 53 | L21: 73 | M21: =SUM(G21:L21) -> 520.5 | N21: 本科 | O21: =IF(E21>0,IF(N21="本科",(2-E21)*36,-(E21)*36),IF(N21="本科",2*36,0)) -> 72 | Q21: =IF(F21>0,IF(P21="重本",(2-F21)*72,-(F21)*72),IF(P21="重本",2*72,0)) -> 0 | R21: =O21+Q21 -> 72 | T21: 李志友 | U21: =($R21*2/10)*0.5/6 -> 1.2 | V21: 赵云川 | W21: =($R21*2/10)*0.5/6 -> 1.2 | X21: 曾春兰 | Y21: =($R21*2/10)*0.5/6 -> 1.2 | Z21: 宋加友 | AA21: =($R21*2/10)*0.5/6 -> 1.2 | AB21: 余英 | AC21: =($R21*2/10)*0.5/6 -> 1.2 | AD21: 张弘 | AE21: =($R21*2/10)*0.5/6 -> 1.2 | AG21: 李志友 | AH21: =($R21*2/10)*0.5/6 -> 1.2 | AI21: 赵云川 | AJ21: =($R21*2/10)*0.5/6 -> 1.2 | AK21: 张翠莲 | AL21: =($R21*2/10)*0.5/6 -> 1.2 | AM21: 王友春 | AN21: =($R21*2/10)*0.5/6 -> 1.2 | AO21: 余英 | AP21: =($R21*2/10)*0.5/6 -> 1.2 | AQ21: 张弘 | AR21: =($R21*2/10)*0.5/6 -> 1.2 | AT21: 李志友 | AU21: =($R21*3/10)*0.5/6 -> 1.8 | AV21: 赵云川 | AW21: =($R21*3/10)*0.5/6 -> 1.8 | AX21: 周凯 | AY21: =($R21*3/10)*0.5/6 -> 1.8 | AZ21: 王友春 | BA21: =($R21*3/10)*0.5/6 -> 1.8 | BB21: 余英 | BC21: =($R21*3/10)*0.5/6 -> 1.8 | BD21: 张弘 | BE21: =($R21*3/10)*0.5/6 -> 1.8 | BG21: 李志友 | BH21: =($R21*3/10)*0.5/6 -> 1.8 | BI21: 赵云川 | BJ21: =($R21*3/10)*0.5/6 -> 1.8 | BK21: 周凯 | BL21: =($R21*3/10)*0.5/6 -> 1.8 | BM21: 王友春 | BN21: =($R21*3/10)*0.5/6 -> 1.8 | BO21: 余英 | BP21: =($R21*3/10)*0.5/6 -> 1.8 | BQ21: 张弘 | BR21: =($R21*3/10)*0.5/6 -> 1.8 | BT21: 杨宗国 | BU21: =($R21*5/10)*0.5/6 -> 3 | BV21: 王江 | BW21: =($R21*5/10)*0.5/6 -> 3 | BX21: 雷敏 | BY21: =($R21*5/10)*0.5/6 -> 3 | BZ21: 兰举银 | CA21: =($R21*5/10)*0.5/6 -> 3 | CB21: 余英 | CC21: =($R21*5/10)*0.5/6 -> 3 | CD21: 彭桦 | CE21: =($R21*5/10)*0.5/6 -> 3 | CG21: 杨宗国 | CH21: =($R21*5/10)*0.5/6 -> 3 | CI21: 王江 | CJ21: =($R21*5/10)*0.5/6 -> 3 | CK21: 雷敏 | CL21: =($R21*5/10)*0.5/6 -> 3 | CM21: 兰举银 | CN21: =($R21*5/10)*0.5/6 -> 3 | CO21: 余英 | CP21: =($R21*5/10)*0.5/6 -> 3 | CQ21: 彭桦 | CR21: =($R21*5/10)*0.5/6 -> 3
A22: 顾友凤 | B22: 513422200103093828 | C22: 统招 | D22: 理科 | E22: 0.7 | G22: 107 | H22: 102 | I22: 110 | J22: 57.5 | K22: 70 | L22: 71.5 | M22: =SUM(G22:L22) -> 518 | N22: 本科 | O22: =IF(E22>0,IF(N22="本科",(2-E22)*36,-(E22)*36),IF(N22="本科",2*36,0)) -> 46.8 | Q22: =IF(F22>0,IF(P22="重本",(2-F22)*72,-(F22)*72),IF(P22="重本",2*72,0)) -> 0 | R22: =O22+Q22 -> 46.8 | T22: 岳贵敏 | U22: =($R22*2/10)*0.5/6 -> 0.78 | V22: 央宗娜姆 | W22: =($R22*2/10)*0.5/6 -> 0.78 | X22: 周凯 | Y22: =($R22*2/10)*0.5/6 -> 0.78 | Z22: 赵建超 | AA22: =($R22*2/10)*0.5/6 -> 0.78 | AB22: 任吉洪 | AC22: =($R22*2/10)*0.5/6 -> 0.78 | AD22: 张弘 | AE22: =($R22*2/10)*0.5/6 -> 0.78 | AG22: 李正琪 | AH22: =($R22*2/10)*0.5/6 -> 0.78 | AI22: 央宗娜姆 | AJ22: =($R22*2/10)*0.5/6 -> 0.78 | AK22: 周凯 | AL22: =($R22*2/10)*0.5/6 -> 0.78 | AM22: 宋加友 | AN22: =($R22*2/10)*0.5/6 -> 0.78 | AO22: 任吉洪 | AP22: =($R22*2/10)*0.5/6 -> 0.78 | AQ22: 彭桦 | AR22: =($R22*2/10)*0.5/6 -> 0.78 | AT22: 李正琪 | AU22: =($R22*3/10)*0.5/6 -> 1.17 | AV22: 黄金华 | AW22: =($R22*3/10)*0.5/6 -> 1.17 | AX22: 彭丹 | AY22: =($R22*3/10)*0.5/6 -> 1.17 | AZ22: 宋加友 | BA22: =($R22*3/10)*0.5/6 -> 1.17 | BB22: 余英 | BC22: =($R22*3/10)*0.5/6 -> 1.17 | BD22: 彭桦 | BE22: =($R22*3/10)*0.5/6 -> 1.17 | BG22: 李正琪 | BH22: =($R22*3/10)*0.5/6 -> 1.17 | BI22: 央宗娜姆 | BJ22: =($R22*3/10)*0.5/6 -> 1.17 | BK22: 彭丹 | BL22: =($R22*3/10)*0.5/6 -> 1.17 | BM22: 宋加友 | BN22: =($R22*3/10)*0.5/6 -> 1.17 | BO22: 余英 | BP22: =($R22*3/10)*0.5/6 -> 1.17 | BQ22: 彭桦 | BR22: =($R22*3/10)*0.5/6 -> 1.17 | BT22: 易涛 | BU22: =($R22*5/10)*0.5/6 -> 1.95 | BV22: 央宗娜姆 | BW22: =($R22*5/10)*0.5/6 -> 1.95 | BX22: 周凯 | BY22: =($R22*5/10)*0.5/6 -> 1.95 | BZ22: 赵建超 | CA22: =($R22*5/10)*0.5/6 -> 1.95 | CB22: 任吉洪 | CC22: =($R22*5/10)*0.5/6 -> 1.95 | CD22: 张弘 | CE22: =($R22*5/10)*0.5/6 -> 1.95 | CG22: 易涛 | CH22: =($R22*5/10)*0.5/6 -> 1.95 | CI22: 央宗娜姆 | CJ22: =($R22*5/10)*0.5/6 -> 1.95 | CK22: 周凯 | CL22: =($R22*5/10)*0.5/6 -> 1.95 | CM22: 赵建超 | CN22: =($R22*5/10)*0.5/6 -> 1.95 | CO22: 任吉洪 | CP22: =($R22*5/10)*0.5/6 -> 1.95 | CQ22: 张弘 | CR22: =($R22*5/10)*0.5/6 -> 1.95
A23: 赵芝美 | B23: 513422199905062120 | C23: 统招 | D23: 理科 | E23: 1 | F23: 1 | G23: 114 | H23: 104 | I23: 115 | J23: 50 | K23: 65 | L23: 68 | M23: =SUM(G23:L23) -> 516 | N23: 本科 | O23: =IF(E23>0,IF(N23="本科",(2-E23)*36,-(E23)*36),IF(N23="本科",2*36,0)) -> 36 | Q23: =IF(F23>0,IF(P23="重本",(2-F23)*72,-(F23)*72),IF(P23="重本",2*72,0)) -> -72 | R23: =O23+Q23 -> -36 | T23: 岳贵敏 | U23: =($R23*2/10)*0.5/6 -> -0.6 | V23: 央宗娜姆 | W23: =($R23*2/10)*0.5/6 -> -0.6 | X23: 周凯 | Y23: =($R23*2/10)*0.5/6 -> -0.6 | Z23: 赵建超 | AA23: =($R23*2/10)*0.5/6 -> -0.6 | AB23: 任吉洪 | AC23: =($R23*2/10)*0.5/6 -> -0.6 | AD23: 张弘 | AE23: =($R23*2/10)*0.5/6 -> -0.6 | AG23: 岳贵敏 | AH23: =($R23*2/10)*0.5/6 -> -0.6 | AI23: 央宗娜姆 | AJ23: =($R23*2/10)*0.5/6 -> -0.6 | AK23: 周凯 | AL23: =($R23*2/10)*0.5/6 -> -0.6 | AM23: 赵建超 | AN23: =($R23*2/10)*0.5/6 -> -0.6 | AO23: 余英 | AP23: =($R23*2/10)*0.5/6 -> -0.6 | AQ23: 彭桦 | AR23: =($R23*2/10)*0.5/6 -> -0.6 | AT23: 岳贵敏 | AU23: =($R23*3/10)*0.5/6 -> -0.9 | AV23: 黄金华 | AW23: =($R23*3/10)*0.5/6 -> -0.9 | AX23: 周凯 | AY23: =($R23*3/10)*0.5/6 -> -0.9 | AZ23: 赵建超 | BA23: =($R23*3/10)*0.5/6 -> -0.9 | BB23: 任吉洪 | BC23: =($R23*3/10)*0.5/6 -> -0.9 | BD23: 张弘 | BE23: =($R23*3/10)*0.5/6 -> -0.9 | BG23: 岳贵敏 | BH23: =($R23*3/10)*0.5/6 -> -0.9 | BI23: 央宗娜姆 | BJ23: =($R23*3/10)*0.5/6 -> -0.9 | BK23: 周凯 | BL23: =($R23*3/10)*0.5/6 -> -0.9 | BM23: 赵建超 | BN23: =($R23*3/10)*0.5/6 -> -0.9 | BO23: 任吉洪 | BP23: =($R23*3/10)*0.5/6 -> -0.9 | BQ23: 张弘 | BR23: =($R23*3/10)*0.5/6 -> -0.9 | BT23: 易涛 | BU23: =($R23*5/10)*0.5/6 -> -1.5 | BV23: 央宗娜姆 | BW23: =($R23*5/10)*0.5/6 -> -1.5 | BX23: 周凯 | BY23: =($R23*5/10)*0.5/6 -> -1.5 | BZ23: 赵建超 | CA23: =($R23*5/10)*0.5/6 -> -1.5 | CB23: 任吉洪 | CC23: =($R23*5/10)*0.5/6 -> -1.5 | CD23: 张弘 | CE23: =($R23*5/10)*0.5/6 -> -1.5 | CG23: 易涛 | CH23: =($R23*5/10)*0.5/6 -> -1.5 | CI23: 央宗娜姆 | CJ23: =($R23*5/10)*0.5/6 -> -1.5 | CK23: 周凯 | CL23: =($R23*5/10)*0.5/6 -> -1.5 | CM23: 赵建超 | CN23: =($R23*5/10)*0.5/6 -> -1.5 | CO23: 任吉洪 | CP23: =($R23*5/10)*0.5/6 -> -1.5 | CQ23: 张弘 | CR23: =($R23*5/10)*0.5/6 -> -1.5
A24: 杨太芬 | B24: 513422200011306224 | C24: 统招 | D24: 理科 | G24: 110 | H24: 103 | I24: 106 | J24: 70 | K24: 58 | L24: 66.5 | M24: =SUM(G24:L24) -> 513.5 | N24: 本科 | O24: =IF(E24>0,IF(N24="本科",(2-E24)*36,-(E24)*36),IF(N24="本科",2*36,0)) -> 72 | Q24: =IF(F24>0,IF(P24="重本",(2-F24)*72,-(F24)*72),IF(P24="重本",2*72,0)) -> 0 | R24: =O24+Q24 -> 72 | T24: 岳子琦 | U24: =($R24*2/10)*0.5/6 -> 1.2 | V24: 王江 | W24: =($R24*2/10)*0.5/6 -> 1.2 | X24: 雷敏 | Y24: =($R24*2/10)*0.5/6 -> 1.2 | Z24: 兰举银 | AA24: =($R24*2/10)*0.5/6 -> 1.2 | AB24: 陈文惠 | AC24: =($R24*2/10)*0.5/6 -> 1.2 | AD24: 陆正超 | AE24: =($R24*2/10)*0.5/6 -> 1.2 | AG24: 岳贵敏 | AH24: =($R24*2/10)*0.5/6 -> 1.2 | AI24: 央宗娜姆 | AJ24: =($R24*2/10)*0.5/6 -> 1.2 | AK24: 雷敏 | AL24: =($R24*2/10)*0.5/6 -> 1.2 | AM24: 王友春 | AN24: =($R24*2/10)*0.5/6 -> 1.2 | AO24: 余英 | AP24: =($R24*2/10)*0.5/6 -> 1.2 | AQ24: 彭桦 | AR24: =($R24*2/10)*0.5/6 -> 1.2 | AT24: 易涛 | AU24: =($R24*3/10)*0.5/6 -> 1.8 | AV24: 黄金华 | AW24: =($R24*3/10)*0.5/6 -> 1.8 | AX24: 周凯 | AY24: =($R24*3/10)*0.5/6 -> 1.8 | AZ24: 王友春 | BA24: =($R24*3/10)*0.5/6 -> 1.8 | BB24: 余英 | BC24: =($R24*3/10)*0.5/6 -> 1.8 | BD24: 张弘 | BE24: =($R24*3/10)*0.5/6 -> 1.8 | BG24: 易涛 | BH24: =($R24*3/10)*0.5/6 -> 1.8 | BI24: 央宗娜姆 | BJ24: =($R24*3/10)*0.5/6 -> 1.8 | BK24: 周凯 | BL24: =($R24*3/10)*0.5/6 -> 1.8 | BM24: 王友春 | BN24: =($R24*3/10)*0.5/6 -> 1.8 | BO24: 余英 | BP24: =($R24*3/10)*0.5/6 -> 1.8 | BQ24: 张弘 | BR24: =($R24*3/10)*0.5/6 -> 1.8 | BT24: 易涛 | BU24: =($R24*5/10)*0.5/6 -> 3 | BV24: 央宗娜姆 | BW24: =($R24*5/10)*0.5/6 -> 3 | BX24: 周凯 | BY24: =($R24*5/10)*0.5/6 -> 3 | BZ24: 赵建超 | CA24: =($R24*5/10)*0.5/6 -> 3 | CB24: 任吉洪 | CC24: =($R24*5/10)*0.5/6 -> 3 | CD24: 张弘 | CE24: =($R24*5/10)*0.5/6 -> 3 | CG24: 易涛 | CH24: =($R24*5/10)*0.5/6 -> 3 | CI24: 央宗娜姆 | CJ24: =($R24*5/10)*0.5/6 -> 3 | CK24: 周凯 | CL24: =($R24*5/10)*0.5/6 -> 3 | CM24: 赵建超 | CN24: =($R24*5/10)*0.5/6 -> 3 | CO24: 任吉洪 | CP24: =($R24*5/10)*0.5/6 -> 3 | CQ24: 张弘 | CR24: =($R24*5/10)*0.5/6 -> 3
A25: 石大衔 | B25: 513422200105243818 | C25: 统招 | D25: 理科 | E25: 0.9 | G25: 107 | H25: 127 | I25: 79 | J25: 78 | K25: 52.5 | L25: 69.5 | M25: =SUM(G25:L25) -> 513 | N25: 本科 | O25: =IF(E25>0,IF(N25="本科",(2-E25)*36,-(E25)*36),IF(N25="本科",2*36,0)) -> 39.6 | Q25: =IF(F25>0,IF(P25="重本",(2-F25)*72,-(F25)*72),IF(P25="重本",2*72,0)) -> 0 | R25: =O25+Q25 -> 39.6 | T25: 岳贵敏 | U25: =($R25*2/10)*0.5/6 -> 0.66 | V25: 央宗娜姆 | W25: =($R25*2/10)*0.5/6 -> 0.66 | X25: 周凯 | Y25: =($R25*2/10)*0.5/6 -> 0.66 | Z25: 赵建超 | AA25: =($R25*2/10)*0.5/6 -> 0.66 | AB25: 任吉洪 | AC25: =($R25*2/10)*0.5/6 -> 0.66 | AD25: 张弘 | AE25: =($R25*2/10)*0.5/6 -> 0.66 | AG25: 岳贵敏 | AH25: =($R25*2/10)*0.5/6 -> 0.66 | AI25: 央宗娜姆 | AJ25: =($R25*2/10)*0.5/6 -> 0.66 | AK25: 雷敏 | AL25: =($R25*2/10)*0.5/6 -> 0.66 | AM25: 兰举银 | AN25: =($R25*2/10)*0.5/6 -> 0.66 | AO25: 任吉洪 | AP25: =($R25*2/10)*0.5/6 -> 0.66 | AQ25: 彭桦 | AR25: =($R25*2/10)*0.5/6 -> 0.66 | AT25: 易涛 | AU25: =($R25*3/10)*0.5/6 -> 0.99 | AV25: 黄金华 | AW25: =($R25*3/10)*0.5/6 -> 0.99 | AX25: 周凯 | AY25: =($R25*3/10)*0.5/6 -> 0.99 | AZ25: 赵建超 | BA25: =($R25*3/10)*0.5/6 -> 0.99 | BB25: 任吉洪 | BC25: =($R25*3/10)*0.5/6 -> 0.99 | BD25: 张弘 | BE25: =($R25*3/10)*0.5/6 -> 0.99 | BG25: 易涛 | BH25: =($R25*3/10)*0.5/6 -> 0.99 | BI25: 央宗娜姆 | BJ25: =($R25*3/10)*0.5/6 -> 0.99 | BK25: 周凯 | BL25: =($R25*3/10)*0.5/6 -> 0.99 | BM25: 赵建超 | BN25: =($R25*3/10)*0.5/6 -> 0.99 | BO25: 任吉洪 | BP25: =($R25*3/10)*0.5/6 -> 0.99 | BQ25: 张弘 | BR25: =($R25*3/10)*0.5/6 -> 0.99 | BT25: 易涛 | BU25: =($R25*5/10)*0.5/6 -> 1.65 | BV25: 央宗娜姆 | BW25: =($R25*5/10)*0.5/6 -> 1.65 | BX25: 周凯 | BY25: =($R25*5/10)*0.5/6 -> 1.65 | BZ25: 赵建超 | CA25: =($R25*5/10)*0.5/6 -> 1.65 | CB25: 任吉洪 | CC25: =($R25*5/10)*0.5/6 -> 1.65 | CD25: 张弘 | CE25: =($R25*5/10)*0.5/6 -> 1.65 | CG25: 易涛 | CH25: =($R25*5/10)*0.5/6 -> 1.65 | CI25: 央宗娜姆 | CJ25: =($R25*5/10)*0.5/6 -> 1.65 | CK25: 周凯 | CL25: =($R25*5/10)*0.5/6 -> 1.65 | CM25: 赵建超 | CN25: =($R25*5/10)*0.5/6 -> 1.65 | CO25: 任吉洪 | CP25: =($R25*5/10)*0.5/6 -> 1.65 | CQ25: 张弘 | CR25: =($R25*5/10)*0.5/6 -> 1.65
A26: 扎西仁青 | B26: 513422200003073619 | C26: 统招 | D26: 理科 | E26: 0.8 | G26: 103 | H26: 106 | I26: 120 | J26: 65 | K26: 67 | L26: 52 | M26: =SUM(G26:L26) -> 513 | N26: 本科 | O26: =IF(E26>0,IF(N26="本科",(2-E26)*36,-(E26)*36),IF(N26="本科",2*36,0)) -> 43.2 | Q26: =IF(F26>0,IF(P26="重本",(2-F26)*72,-(F26)*72),IF(P26="重本",2*72,0)) -> 0 | R26: =O26+Q26 -> 43.2 | T26: 岳贵敏 | U26: =($R26*2/10)*0.5/6 -> 0.72 | V26: 央宗娜姆 | W26: =($R26*2/10)*0.5/6 -> 0.72 | X26: 周凯 | Y26: =($R26*2/10)*0.5/6 -> 0.72 | Z26: 赵建超 | AA26: =($R26*2/10)*0.5/6 -> 0.72 | AB26: 任吉洪 | AC26: =($R26*2/10)*0.5/6 -> 0.72 | AD26: 张弘 | AE26: =($R26*2/10)*0.5/6 -> 0.72 | AG26: 岳贵敏 | AH26: =($R26*2/10)*0.5/6 -> 0.72 | AI26: 王江 | AJ26: =($R26*2/10)*0.5/6 -> 0.72 | AK26: 雷敏 | AL26: =($R26*2/10)*0.5/6 -> 0.72 | AM26: 王友春 | AN26: =($R26*2/10)*0.5/6 -> 0.72 | AO26: 余英 | AP26: =($R26*2/10)*0.5/6 -> 0.72 | AQ26: 彭桦 | AR26: =($R26*2/10)*0.5/6 -> 0.72 | AT26: 岳贵敏 | AU26: =($R26*3/10)*0.5/6 -> 1.08 | AV26: 黄金华 | AW26: =($R26*3/10)*0.5/6 -> 1.08 | AX26: 周凯 | AY26: =($R26*3/10)*0.5/6 -> 1.08 | AZ26: 王友春 | BA26: =($R26*3/10)*0.5/6 -> 1.08 | BB26: 任吉洪 | BC26: =($R26*3/10)*0.5/6 -> 1.08 | BD26: 彭桦 | BE26: =($R26*3/10)*0.5/6 -> 1.08 | BG26: 岳贵敏 | BH26: =($R26*3/10)*0.5/6 -> 1.08 | BI26: 央宗娜姆 | BJ26: =($R26*3/10)*0.5/6 -> 1.08 | BK26: 周凯 | BL26: =($R26*3/10)*0.5/6 -> 1.08 | BM26: 王友春 | BN26: =($R26*3/10)*0.5/6 -> 1.08 | BO26: 任吉洪 | BP26: =($R26*3/10)*0.5/6 -> 1.08 | BQ26: 彭桦 | BR26: =($R26*3/10)*0.5/6 -> 1.08 | BT26: 易涛 | BU26: =($R26*5/10)*0.5/6 -> 1.8 | BV26: 央宗娜姆 | BW26: =($R26*5/10)*0.5/6 -> 1.8 | BX26: 周凯 | BY26: =($R26*5/10)*0.5/6 -> 1.8 | BZ26: 赵建超 | CA26: =($R26*5/10)*0.5/6 -> 1.8 | CB26: 任吉洪 | CC26: =($R26*5/10)*0.5/6 -> 1.8 | CD26: 张弘 | CE26: =($R26*5/10)*0.5/6 -> 1.8 | CG26: 易涛 | CH26: =($R26*5/10)*0.5/6 -> 1.8 | CI26: 央宗娜姆 | CJ26: =($R26*5/10)*0.5/6 -> 1.8 | CK26: 周凯 | CL26: =($R26*5/10)*0.5/6 -> 1.8 | CM26: 赵建超 | CN26: =($R26*5/10)*0.5/6 -> 1.8 | CO26: 任吉洪 | CP26: =($R26*5/10)*0.5/6 -> 1.8 | CQ26: 张弘 | CR26: =($R26*5/10)*0.5/6 -> 1.8
A27: 方春光 | B27: 513422200001082319 | C27: 统招 | D27: 理科 | E27: 0.8 | G27: 101 | H27: 110 | I27: 123 | J27: 51 | K27: 71 | L27: 57 | M27: =SUM(G27:L27) -> 513 | N27: 本科 | O27: =IF(E27>0,IF(N27="本科",(2-E27)*36,-(E27)*36),IF(N27="本科",2*36,0)) -> 43.2 | Q27: =IF(F27>0,IF(P27="重本",(2-F27)*72,-(F27)*72),IF(P27="重本",2*72,0)) -> 0 | R27: =O27+Q27 -> 43.2 | T27: 岳贵敏 | U27: =($R27*2/10)*0.5/6 -> 0.72 | V27: 央宗娜姆 | W27: =($R27*2/10)*0.5/6 -> 0.72 | X27: 周凯 | Y27: =($R27*2/10)*0.5/6 -> 0.72 | Z27: 赵建超 | AA27: =($R27*2/10)*0.5/6 -> 0.72 | AB27: 任吉洪 | AC27: =($R27*2/10)*0.5/6 -> 0.72 | AD27: 张弘 | AE27: =($R27*2/10)*0.5/6 -> 0.72 | AG27: 李志友 | AH27: =($R27*2/10)*0.5/6 -> 0.72 | AI27: 央宗娜姆 | AJ27: =($R27*2/10)*0.5/6 -> 0.72 | AK27: 周凯 | AL27: =($R27*2/10)*0.5/6 -> 0.72 | AM27: 兰举银 | AN27: =($R27*2/10)*0.5/6 -> 0.72 | AO27: 任吉洪 | AP27: =($R27*2/10)*0.5/6 -> 0.72 | AQ27: 张弘 | AR27: =($R27*2/10)*0.5/6 -> 0.72 | AT27: 李志友 | AU27: =($R27*3/10)*0.5/6 -> 1.08 | AV27: 王江 | AW27: =($R27*3/10)*0.5/6 -> 1.08 | AX27: 雷敏 | AY27: =($R27*3/10)*0.5/6 -> 1.08 | AZ27: 赵建超 | BA27: =($R27*3/10)*0.5/6 -> 1.08 | BB27: 任吉洪 | BC27: =($R27*3/10)*0.5/6 -> 1.08 | BD27: 张弘 | BE27: =($R27*3/10)*0.5/6 -> 1.08 | BG27: 李志友 | BH27: =($R27*3/10)*0.5/6 -> 1.08 | BI27: 王江 | BJ27: =($R27*3/10)*0.5/6 -> 1.08 | BK27: 聂艳梅 | BL27: =($R27*3/10)*0.5/6 -> 1.08 | BM27: 赵建超 | BN27: =($R27*3/10)*0.5/6 -> 1.08 | BO27: 任吉洪 | BP27: =($R27*3/10)*0.5/6 -> 1.08 | BQ27: 张弘 | BR27: =($R27*3/10)*0.5/6 -> 1.08 | BT27: 易涛 | BU27: =($R27*5/10)*0.5/6 -> 1.8 | BV27: 央宗娜姆 | BW27: =($R27*5/10)*0.5/6 -> 1.8 | BX27: 周凯 | BY27: =($R27*5/10)*0.5/6 -> 1.8 | BZ27: 赵建超 | CA27: =($R27*5/10)*0.5/6 -> 1.8 | CB27: 任吉洪 | CC27: =($R27*5/10)*0.5/6 -> 1.8 | CD27: 张弘 | CE27: =($R27*5/10)*0.5/6 -> 1.8 | CG27: 易涛 | CH27: =($R27*5/10)*0.5/6 -> 1.8 | CI27: 央宗娜姆 | CJ27: =($R27*5/10)*0.5/6 -> 1.8 | CK27: 周凯 | CL27: =($R27*5/10)*0.5/6 -> 1.8 | CM27: 赵建超 | CN27: =($R27*5/10)*0.5/6 -> 1.8 | CO27: 任吉洪 | CP27: =($R27*5/10)*0.5/6 -> 1.8 | CQ27: 张弘 | CR27: =($R27*5/10)*0.5/6 -> 1.8
A28: 胡七斤 | B28: 513422200101230710 | C28: 统招 | D28: 理科 | E28: 1 | G28: 93 | H28: 94 | I28: 120 | J28: 68.5 | K28: 64 | L28: 72 | M28: =SUM(G28:L28) -> 511.5 | N28: 本科 | O28: =IF(E28>0,IF(N28="本科",(2-E28)*36,-(E28)*36),IF(N28="本科",2*36,0)) -> 36 | Q28: =IF(F28>0,IF(P28="重本",(2-F28)*72,-(F28)*72),IF(P28="重本",2*72,0)) -> 0 | R28: =O28+Q28 -> 36 | T28: 易涛 | U28: =($R28*2/10)*0.5/6 -> 0.6 | V28: 王江 | W28: =($R28*2/10)*0.5/6 -> 0.6 | X28: 雷敏 | Y28: =($R28*2/10)*0.5/6 -> 0.6 | Z28: 兰举银 | AA28: =($R28*2/10)*0.5/6 -> 0.6 | AB28: 余英 | AC28: =($R28*2/10)*0.5/6 -> 0.6 | AD28: 彭桦 | AE28: =($R28*2/10)*0.5/6 -> 0.6 | AG28: 易涛 | AH28: =($R28*2/10)*0.5/6 -> 0.6 | AI28: 王江 | AJ28: =($R28*2/10)*0.5/6 -> 0.6 | AK28: 雷敏 | AL28: =($R28*2/10)*0.5/6 -> 0.6 | AM28: 赵建超 | AN28: =($R28*2/10)*0.5/6 -> 0.6 | AO28: 余英 | AP28: =($R28*2/10)*0.5/6 -> 0.6 | AQ28: 辜英琼 | AR28: =($R28*2/10)*0.5/6 -> 0.6 | AT28: 易涛 | AU28: =($R28*3/10)*0.5/6 -> 0.9 | AV28: 王江 | AW28: =($R28*3/10)*0.5/6 -> 0.9 | AX28: 雷敏 | AY28: =($R28*3/10)*0.5/6 -> 0.9 | AZ28: 赵建超 | BA28: =($R28*3/10)*0.5/6 -> 0.9 | BB28: 任吉洪 | BC28: =($R28*3/10)*0.5/6 -> 0.9 | BD28: 辜英琼 | BE28: =($R28*3/10)*0.5/6 -> 0.9 | BG28: 易涛 | BH28: =($R28*3/10)*0.5/6 -> 0.9 | BI28: 王江 | BJ28: =($R28*3/10)*0.5/6 -> 0.9 | BK28: 聂艳梅 | BL28: =($R28*3/10)*0.5/6 -> 0.9 | BM28: 赵建超 | BN28: =($R28*3/10)*0.5/6 -> 0.9 | BO28: 任吉洪 | BP28: =($R28*3/10)*0.5/6 -> 0.9 | BQ28: 辜英琼 | BR28: =($R28*3/10)*0.5/6 -> 0.9 | BT28: 杨宗国 | BU28: =($R28*5/10)*0.5/6 -> 1.5 | BV28: 王江 | BW28: =($R28*5/10)*0.5/6 -> 1.5 | BX28: 雷敏 | BY28: =($R28*5/10)*0.5/6 -> 1.5 | BZ28: 兰举银 | CA28: =($R28*5/10)*0.5/6 -> 1.5 | CB28: 余英 | CC28: =($R28*5/10)*0.5/6 -> 1.5 | CD28: 彭桦 | CE28: =($R28*5/10)*0.5/6 -> 1.5 | CG28: 杨宗国 | CH28: =($R28*5/10)*0.5/6 -> 1.5 | CI28: 王江 | CJ28: =($R28*5/10)*0.5/6 -> 1.5 | CK28: 雷敏 | CL28: =($R28*5/10)*0.5/6 -> 1.5 | CM28: 兰举银 | CN28: =($R28*5/10)*0.5/6 -> 1.5 | CO28: 余英 | CP28: =($R28*5/10)*0.5/6 -> 1.5 | CQ28: 彭桦 | CR28: =($R28*5/10)*0.5/6 -> 1.5
A29: 仁青扎西 | B29: 513422199811184813 | C29: 统招 | D29: 理科 | E29: 1 | G29: 104 | H29: 107 | I29: 97 | J29: 54 | K29: 64.5 | L29: 83.5 | M29: =SUM(G29:L29) -> 510 | N29: 本科 | O29: =IF(E29>0,IF(N29="本科",(2-E29)*36,-(E29)*36),IF(N29="本科",2*36,0)) -> 36 | Q29: =IF(F29>0,IF(P29="重本",(2-F29)*72,-(F29)*72),IF(P29="重本",2*72,0)) -> 0 | R29: =O29+Q29 -> 36 | T29: 易涛 | U29: =($R29*2/10)*0.5/6 -> 0.6 | V29: 王江 | W29: =($R29*2/10)*0.5/6 -> 0.6 | X29: 雷敏 | Y29: =($R29*2/10)*0.5/6 -> 0.6 | Z29: 兰举银 | AA29: =($R29*2/10)*0.5/6 -> 0.6 | AB29: 余英 | AC29: =($R29*2/10)*0.5/6 -> 0.6 | AD29: 彭桦 | AE29: =($R29*2/10)*0.5/6 -> 0.6 | AG29: 易涛 | AH29: =($R29*2/10)*0.5/6 -> 0.6 | AI29: 央宗娜姆 | AJ29: =($R29*2/10)*0.5/6 -> 0.6 | AK29: 雷敏 | AL29: =($R29*2/10)*0.5/6 -> 0.6 | AM29: 兰举银 | AN29: =($R29*2/10)*0.5/6 -> 0.6 | AO29: 任吉洪 | AP29: =($R29*2/10)*0.5/6 -> 0.6 | AQ29: 张弘 | AR29: =($R29*2/10)*0.5/6 -> 0.6 | AT29: 易涛 | AU29: =($R29*3/10)*0.5/6 -> 0.9 | AV29: 黄金华 | AW29: =($R29*3/10)*0.5/6 -> 0.9 | AX29: 周凯 | AY29: =($R29*3/10)*0.5/6 -> 0.9 | AZ29: 赵建超 | BA29: =($R29*3/10)*0.5/6 -> 0.9 | BB29: 任吉洪 | BC29: =($R29*3/10)*0.5/6 -> 0.9 | BD29: 张弘 | BE29: =($R29*3/10)*0.5/6 -> 0.9 | BG29: 易涛 | BH29: =($R29*3/10)*0.5/6 -> 0.9 | BI29: 央宗娜姆 | BJ29: =($R29*3/10)*0.5/6 -> 0.9 | BK29: 周凯 | BL29: =($R29*3/10)*0.5/6 -> 0.9 | BM29: 赵建超 | BN29: =($R29*3/10)*0.5/6 -> 0.9 | BO29: 任吉洪 | BP29: =($R29*3/10)*0.5/6 -> 0.9 | BQ29: 张弘 | BR29: =($R29*3/10)*0.5/6 -> 0.9 | BT29: 杨宗国 | BU29: =($R29*5/10)*0.5/6 -> 1.5 | BV29: 王江 | BW29: =($R29*5/10)*0.5/6 -> 1.5 | BX29: 雷敏 | BY29: =($R29*5/10)*0.5/6 -> 1.5 | BZ29: 兰举银 | CA29: =($R29*5/10)*0.5/6 -> 1.5 | CB29: 余英 | CC29: =($R29*5/10)*0.5/6 -> 1.5 | CD29: 彭桦 | CE29: =($R29*5/10)*0.5/6 -> 1.5 | CG29: 杨宗国 | CH29: =($R29*5/10)*0.5/6 -> 1.5 | CI29: 王江 | CJ29: =($R29*5/10)*0.5/6 -> 1.5 | CK29: 雷敏 | CL29: =($R29*5/10)*0.5/6 -> 1.5 | CM29: 兰举银 | CN29: =($R29*5/10)*0.5/6 -> 1.5 | CO29: 余英 | CP29: =($R29*5/10)*0.5/6 -> 1.5 | CQ29: 彭桦 | CR29: =($R29*5/10)*0.5/6 -> 1.5
A30: 陶东咪 | B30: 513422200004052545 | C30: 统招 | D30: 理科 | E30: 1 | G30: 112 | H30: 100 | I30: 117 | J30: 48.5 | K30: 61 | L30: 69 | M30: =SUM(G30:L30) -> 507.5 | N30: 本科 | O30: =IF(E30>0,IF(N30="本科",(2-E30)*36,-(E30)*36),IF(N30="本科",2*36,0)) -> 36 | Q30: =IF(F30>0,IF(P30="重本",(2-F30)*72,-(F30)*72),IF(P30="重本",2*72,0)) -> 0 | R30: =O30+Q30 -> 36 | T30: 岳贵敏 | U30: =($R30*2/10)*0.5/6 -> 0.6 | V30: 央宗娜姆 | W30: =($R30*2/10)*0.5/6 -> 0.6 | X30: 周凯 | Y30: =($R30*2/10)*0.5/6 -> 0.6 | Z30: 赵建超 | AA30: =($R30*2/10)*0.5/6 -> 0.6 | AB30: 任吉洪 | AC30: =($R30*2/10)*0.5/6 -> 0.6 | AD30: 张弘 | AE30: =($R30*2/10)*0.5/6 -> 0.6 | AG30: 岳贵敏 | AH30: =($R30*2/10)*0.5/6 -> 0.6 | AI30: 央宗娜姆 | AJ30: =($R30*2/10)*0.5/6 -> 0.6 | AK30: 周凯 | AL30: =($R30*2/10)*0.5/6 -> 0.6 | AM30: 兰举银 | AN30: =($R30*2/10)*0.5/6 -> 0.6 | AO30: 任吉洪 | AP30: =($R30*2/10)*0.5/6 -> 0.6 | AQ30: 彭桦 | AR30: =($R30*2/10)*0.5/6 -> 0.6 | AT30: 岳贵敏 | AU30: =($R30*3/10)*0.5/6 -> 0.9 | AV30: 黄金华 | AW30: =($R30*3/10)*0.5/6 -> 0.9 | AX30: 周凯 | AY30: =($R30*3/10)*0.5/6 -> 0.9 | AZ30: 赵建超 | BA30: =($R30*3/10)*0.5/6 -> 0.9 | BB30: 任吉洪 | BC30: =($R30*3/10)*0.5/6 -> 0.9 | BD30: 张弘 | BE30: =($R30*3/10)*0.5/6 -> 0.9 | BG30: 岳贵敏 | BH30: =($R30*3/10)*0.5/6 -> 0.9 | BI30: 央宗娜姆 | BJ30: =($R30*3/10)*0.5/6 -> 0.9 | BK30: 周凯 | BL30: =($R30*3/10)*0.5/6 -> 0.9 | BM30: 赵建超 | BN30: =($R30*3/10)*0.5/6 -> 0.9 | BO30: 任吉洪 | BP30: =($R30*3/10)*0.5/6 -> 0.9 | BQ30: 张弘 | BR30: =($R30*3/10)*0.5/6 -> 0.9 | BT30: 易涛 | BU30: =($R30*5/10)*0.5/6 -> 1.5 | BV30: 央宗娜姆 | BW30: =($R30*5/10)*0.5/6 -> 1.5 | BX30: 周凯 | BY30: =($R30*5/10)*0.5/6 -> 1.5 | BZ30: 赵建超 | CA30: =($R30*5/10)*0.5/6 -> 1.5 | CB30: 任吉洪 | CC30: =($R30*5/10)*0.5/6 -> 1.5 | CD30: 张弘 | CE30: =($R30*5/10)*0.5/6 -> 1.5 | CG30: 易涛 | CH30: =($R30*5/10)*0.5/6 -> 1.5 | CI30: 央宗娜姆 | CJ30: =($R30*5/10)*0.5/6 -> 1.5 | CK30: 周凯 | CL30: =($R30*5/10)*0.5/6 -> 1.5 | CM30: 赵建超 | CN30: =($R30*5/10)*0.5/6 -> 1.5 | CO30: 任吉洪 | CP30: =($R30*5/10)*0.5/6 -> 1.5 | CQ30: 张弘 | CR30: =($R30*5/10)*0.5/6 -> 1.5
A31: 鲁绒扎西 | B31: 513422200101082316 | C31: 统招 | D31: 理科 | E31: 1 | G31: 112 | H31: 110 | I31: 115 | J31: 70 | K31: 50 | L31: 49.5 | M31: =SUM(G31:L31) -> 506.5 | N31: 本科 | O31: =IF(E31>0,IF(N31="本科",(2-E31)*36,-(E31)*36),IF(N31="本科",2*36,0)) -> 36 | Q31: =IF(F31>0,IF(P31="重本",(2-F31)*72,-(F31)*72),IF(P31="重本",2*72,0)) -> 0 | R31: =O31+Q31 -> 36 | T31: 岳贵敏 | U31: =($R31*2/10)*0.5/6 -> 0.6 | V31: 央宗娜姆 | W31: =($R31*2/10)*0.5/6 -> 0.6 | X31: 周凯 | Y31: =($R31*2/10)*0.5/6 -> 0.6 | Z31: 赵建超 | AA31: =($R31*2/10)*0.5/6 -> 0.6 | AB31: 任吉洪 | AC31: =($R31*2/10)*0.5/6 -> 0.6 | AD31: 张弘 | AE31: =($R31*2/10)*0.5/6 -> 0.6 | AG31: 岳贵敏 | AH31: =($R31*2/10)*0.5/6 -> 0.6 | AI31: 央宗娜姆 | AJ31: =($R31*2/10)*0.5/6 -> 0.6 | AK31: 周凯 | AL31: =($R31*2/10)*0.5/6 -> 0.6 | AM31: 赵建超 | AN31: =($R31*2/10)*0.5/6 -> 0.6 | AO31: 余英 | AP31: =($R31*2/10)*0.5/6 -> 0.6 | AQ31: 彭桦 | AR31: =($R31*2/10)*0.5/6 -> 0.6 | AT31: 岳贵敏 | AU31: =($R31*3/10)*0.5/6 -> 0.9 | AV31: 黄金华 | AW31: =($R31*3/10)*0.5/6 -> 0.9 | AX31: 周凯 | AY31: =($R31*3/10)*0.5/6 -> 0.9 | AZ31: 兰举银 | BA31: =($R31*3/10)*0.5/6 -> 0.9 | BB31: 余英 | BC31: =($R31*3/10)*0.5/6 -> 0.9 | BD31: 彭桦 | BE31: =($R31*3/10)*0.5/6 -> 0.9 | BG31: 岳贵敏 | BH31: =($R31*3/10)*0.5/6 -> 0.9 | BI31: 央宗娜姆 | BJ31: =($R31*3/10)*0.5/6 -> 0.9 | BK31: 周凯 | BL31: =($R31*3/10)*0.5/6 -> 0.9 | BM31: 兰举银 | BN31: =($R31*3/10)*0.5/6 -> 0.9 | BO31: 余英 | BP31: =($R31*3/10)*0.5/6 -> 0.9 | BQ31: 彭桦 | BR31: =($R31*3/10)*0.5/6 -> 0.9 | BT31: 易涛 | BU31: =($R31*5/10)*0.5/6 -> 1.5 | BV31: 央宗娜姆 | BW31: =($R31*5/10)*0.5/6 -> 1.5 | BX31: 周凯 | BY31: =($R31*5/10)*0.5/6 -> 1.5 | BZ31: 赵建超 | CA31: =($R31*5/10)*0.5/6 -> 1.5 | CB31: 任吉洪 | CC31: =($R31*5/10)*0.5/6 -> 1.5 | CD31: 张弘 | CE31: =($R31*5/10)*0.5/6 -> 1.5 | CG31: 易涛 | CH31: =($R31*5/10)*0.5/6 -> 1.5 | CI31: 央宗娜姆 | CJ31: =($R31*5/10)*0.5/6 -> 1.5 | CK31: 周凯 | CL31: =($R31*5/10)*0.5/6 -> 1.5 | CM31: 赵建超 | CN31: =($R31*5/10)*0.5/6 -> 1.5 | CO31: 任吉洪 | CP31: =($R31*5/10)*0.5/6 -> 1.5 | CQ31: 张弘 | CR31: =($R31*5/10)*0.5/6 -> 1.5
A32: 海丽 | B32: 513423200102210849 | C32: 统招 | D32: 理科 | E32: 1 | G32: 109 | H32: 101 | I32: 127 | J32: 69 | K32: 33 | L32: 67 | M32: =SUM(G32:L32) -> 506 | N32: 本科 | O32: =IF(E32>0,IF(N32="本科",(2-E32)*36,-(E32)*36),IF(N32="本科",2*36,0)) -> 36 | Q32: =IF(F32>0,IF(P32="重本",(2-F32)*72,-(F32)*72),IF(P32="重本",2*72,0)) -> 0 | R32: =O32+Q32 -> 36 | T32: 岳贵敏 | U32: =($R32*2/10)*0.5/6 -> 0.6 | V32: 央宗娜姆 | W32: =($R32*2/10)*0.5/6 -> 0.6 | X32: 周凯 | Y32: =($R32*2/10)*0.5/6 -> 0.6 | Z32: 赵建超 | AA32: =($R32*2/10)*0.5/6 -> 0.6 | AB32: 任吉洪 | AC32: =($R32*2/10)*0.5/6 -> 0.6 | AD32: 张弘 | AE32: =($R32*2/10)*0.5/6 -> 0.6 | AG32: 岳贵敏 | AH32: =($R32*2/10)*0.5/6 -> 0.6 | AI32: 赵云川 | AJ32: =($R32*2/10)*0.5/6 -> 0.6 | AK32: 雷敏 | AL32: =($R32*2/10)*0.5/6 -> 0.6 | AM32: 王友春 | AN32: =($R32*2/10)*0.5/6 -> 0.6 | AO32: 任吉洪 | AP32: =($R32*2/10)*0.5/6 -> 0.6 | AQ32: 彭桦 | AR32: =($R32*2/10)*0.5/6 -> 0.6 | AT32: 岳贵敏 | AU32: =($R32*3/10)*0.5/6 -> 0.9 | AV32: 赵云川 | AW32: =($R32*3/10)*0.5/6 -> 0.9 | AX32: 周凯 | AY32: =($R32*3/10)*0.5/6 -> 0.9 | AZ32: 王友春 | BA32: =($R32*3/10)*0.5/6 -> 0.9 | BB32: 任吉洪 | BC32: =($R32*3/10)*0.5/6 -> 0.9 | BD32: 张弘 | BE32: =($R32*3/10)*0.5/6 -> 0.9 | BG32: 岳贵敏 | BH32: =($R32*3/10)*0.5/6 -> 0.9 | BI32: 赵云川 | BJ32: =($R32*3/10)*0.5/6 -> 0.9 | BK32: 周凯 | BL32: =($R32*3/10)*0.5/6 -> 0.9 | BM32: 王友春 | BN32: =($R32*3/10)*0.5/6 -> 0.9 | BO32: 任吉洪 | BP32: =($R32*3/10)*0.5/6 -> 0.9 | BQ32: 张弘 | BR32: =($R32*3/10)*0.5/6 -> 0.9 | BT32: 李志友 | BU32: =($R32*5/10)*0.5/6 -> 1.5 | BV32: 赵云川 | BW32: =($R32*5/10)*0.5/6 -> 1.5 | BX32: 彭丹 | BY32: =($R32*5/10)*0.5/6 -> 1.5 | BZ32: 赵建超 | CA32: =($R32*5/10)*0.5/6 -> 1.5 | CB32: 任吉洪 | CC32: =($R32*5/10)*0.5/6 -> 1.5 | CD32: 张弘 | CE32: =($R32*5/10)*0.5/6 -> 1.5 | CG32: 李志友 | CH32: =($R32*5/10)*0.5/6 -> 1.5 | CI32: 赵云川 | CJ32: =($R32*5/10)*0.5/6 -> 1.5 | CK32: 彭丹 | CL32: =($R32*5/10)*0.5/6 -> 1.5 | CM32: 赵建超 | CN32: =($R32*5/10)*0.5/6 -> 1.5 | CO32: 任吉洪 | CP32: =($R32*5/10)*0.5/6 -> 1.5 | CQ32: 张弘 | CR32: =($R32*5/10)*0.5/6 -> 1.5
A33: 樊拉拉 | B33: 513422200003012525 | C33: 统招 | D33: 理科 | G33: 116 | H33: 98 | I33: 93 | J33: 68.5 | K33: 47.5 | L33: 82.5 | M33: =SUM(G33:L33) -> 505.5 | N33: 本科 | O33: =IF(E33>0,IF(N33="本科",(2-E33)*36,-(E33)*36),IF(N33="本科",2*36,0)) -> 72 | Q33: =IF(F33>0,IF(P33="重本",(2-F33)*72,-(F33)*72),IF(P33="重本",2*72,0)) -> 0 | R33: =O33+Q33 -> 72 | T33: 岳贵敏 | U33: =($R33*2/10)*0.5/6 -> 1.2 | V33: 央宗娜姆 | W33: =($R33*2/10)*0.5/6 -> 1.2 | X33: 周凯 | Y33: =($R33*2/10)*0.5/6 -> 1.2 | Z33: 王友春 | AA33: =($R33*2/10)*0.5/6 -> 1.2 | AB33: 陈文惠 | AC33: =($R33*2/10)*0.5/6 -> 1.2 | AD33: 陈文惠 | AE33: =($R33*2/10)*0.5/6 -> 1.2 | AG33: 岳贵敏 | AH33: =($R33*2/10)*0.5/6 -> 1.2 | AI33: 赵云川 | AJ33: =($R33*2/10)*0.5/6 -> 1.2 | AK33: 张翠莲 | AL33: =($R33*2/10)*0.5/6 -> 1.2 | AM33: 兰举银 | AN33: =($R33*2/10)*0.5/6 -> 1.2 | AO33: 任吉洪 | AP33: =($R33*2/10)*0.5/6 -> 1.2 | AQ33: 彭桦 | AR33: =($R33*2/10)*0.5/6 -> 1.2 | AT33: 易涛 | AU33: =($R33*3/10)*0.5/6 -> 1.8 | AV33: 赵云川 | AW33: =($R33*3/10)*0.5/6 -> 1.8 | AX33: 周凯 | AY33: =($R33*3/10)*0.5/6 -> 1.8 | AZ33: 兰举银 | BA33: =($R33*3/10)*0.5/6 -> 1.8 | BB33: 余英 | BC33: =($R33*3/10)*0.5/6 -> 1.8 | BD33: 彭桦 | BE33: =($R33*3/10)*0.5/6 -> 1.8 | BG33: 易涛 | BH33: =($R33*3/10)*0.5/6 -> 1.8 | BI33: 赵云川 | BJ33: =($R33*3/10)*0.5/6 -> 1.8 | BK33: 周凯 | BL33: =($R33*3/10)*0.5/6 -> 1.8 | BM33: 兰举银 | BN33: =($R33*3/10)*0.5/6 -> 1.8 | BO33: 余英 | BP33: =($R33*3/10)*0.5/6 -> 1.8 | BQ33: 彭桦 | BR33: =($R33*3/10)*0.5/6 -> 1.8 | BT33: 杨宗国 | BU33: =($R33*5/10)*0.5/6 -> 3 | BV33: 王江 | BW33: =($R33*5/10)*0.5/6 -> 3 | BX33: 雷敏 | BY33: =($R33*5/10)*0.5/6 -> 3 | BZ33: 兰举银 | CA33: =($R33*5/10)*0.5/6 -> 3 | CB33: 余英 | CC33: =($R33*5/10)*0.5/6 -> 3 | CD33: 彭桦 | CE33: =($R33*5/10)*0.5/6 -> 3 | CG33: 杨宗国 | CH33: =($R33*5/10)*0.5/6 -> 3 | CI33: 王江 | CJ33: =($R33*5/10)*0.5/6 -> 3 | CK33: 雷敏 | CL33: =($R33*5/10)*0.5/6 -> 3 | CM33: 兰举银 | CN33: =($R33*5/10)*0.5/6 -> 3 | CO33: 余英 | CP33: =($R33*5/10)*0.5/6 -> 3 | CQ33: 彭桦 | CR33: =($R33*5/10)*0.5/6 -> 3
A34: 魏玲玲 | B34: 513422200106060028 | C34: 统招 | D34: 理科 | E34: 0.9 | G34: 116 | H34: 87 | I34: 108 | J34: 70.5 | K34: 58.5 | L34: 64.5 | M34: =SUM(G34:L34) -> 504.5 | N34: 本科 | O34: =IF(E34>0,IF(N34="本科",(2-E34)*36,-(E34)*36),IF(N34="本科",2*36,0)) -> 39.6 | Q34: =IF(F34>0,IF(P34="重本",(2-F34)*72,-(F34)*72),IF(P34="重本",2*72,0)) -> 0 | R34: =O34+Q34 -> 39.6 | T34: 易涛 | U34: =($R34*2/10)*0.5/6 -> 0.66 | V34: 王江 | W34: =($R34*2/10)*0.5/6 -> 0.66 | X34: 雷敏 | Y34: =($R34*2/10)*0.5/6 -> 0.66 | Z34: 兰举银 | AA34: =($R34*2/10)*0.5/6 -> 0.66 | AB34: 余英 | AC34: =($R34*2/10)*0.5/6 -> 0.66 | AD34: 彭桦 | AE34: =($R34*2/10)*0.5/6 -> 0.66 | AG34: 易涛 | AH34: =($R34*2/10)*0.5/6 -> 0.66 | AI34: 央宗娜姆 | AJ34: =($R34*2/10)*0.5/6 -> 0.66 | AK34: 周凯 | AL34: =($R34*2/10)*0.5/6 -> 0.66 | AM34: 兰举银 | AN34: =($R34*2/10)*0.5/6 -> 0.66 | AO34: 任吉洪 | AP34: =($R34*2/10)*0.5/6 -> 0.66 | AQ34: 彭桦 | AR34: =($R34*2/10)*0.5/6 -> 0.66 | AT34: 岳贵敏 | AU34: =($R34*3/10)*0.5/6 -> 0.99 | AV34: 黄金华 | AW34: =($R34*3/10)*0.5/6 -> 0.99 | AX34: 周凯 | AY34: =($R34*3/10)*0.5/6 -> 0.99 | AZ34: 兰举银 | BA34: =($R34*3/10)*0.5/6 -> 0.99 | BB34: 余英 | BC34: =($R34*3/10)*0.5/6 -> 0.99 | BD34: 彭桦 | BE34: =($R34*3/10)*0.5/6 -> 0.99 | BG34: 岳贵敏 | BH34: =($R34*3/10)*0.5/6 -> 0.99 | BI34: 央宗娜姆 | BJ34: =($R34*3/10)*0.5/6 -> 0.99 | BK34: 周凯 | BL34: =($R34*3/10)*0.5/6 -> 0.99 | BM34: 兰举银 | BN34: =($R34*3/10)*0.5/6 -> 0.99 | BO34: 余英 | BP34: =($R34*3/10)*0.5/6 -> 0.99 | BQ34: 彭桦 | BR34: =($R34*3/10)*0.5/6 -> 0.99 | BT34: 杨宗国 | BU34: =($R34*5/10)*0.5/6 -> 1.65 | BV34: 王江 | BW34: =($R34*5/10)*0.5/6 -> 1.65 | BX34: 雷敏 | BY34: =($R34*5/10)*0.5/6 -> 1.65 | BZ34: 兰举银 | CA34: =($R34*5/10)*0.5/6 -> 1.65 | CB34: 余英 | CC34: =($R34*5/10)*0.5/6 -> 1.65 | CD34: 彭桦 | CE34: =($R34*5/10)*0.5/6 -> 1.65 | CG34: 杨宗国 | CH34: =($R34*5/10)*0.5/6 -> 1.65 | CI34: 王江 | CJ34: =($R34*5/10)*0.5/6 -> 1.65 | CK34: 雷敏 | CL34: =($R34*5/10)*0.5/6 -> 1.65 | CM34: 兰举银 | CN34: =($R34*5/10)*0.5/6 -> 1.65 | CO34: 余英 | CP34: =($R34*5/10)*0.5/6 -> 1.65 | CQ34: 彭桦 | CR34: =($R34*5/10)*0.5/6 -> 1.65
A35: 吕小东 | B35: 513422199904080511 | C35: 统招 | D35: 理科 | E35: 1 | G35: 108 | H35: 95 | I35: 118 | J35: 51.5 | K35: 71 | L35: 60 | M35: =SUM(G35:L35) -> 503.5 | N35: 本科 | O35: =IF(E35>0,IF(N35="本科",(2-E35)*36,-(E35)*36),IF(N35="本科",2*36,0)) -> 36 | Q35: =IF(F35>0,IF(P35="重本",(2-F35)*72,-(F35)*72),IF(P35="重本",2*72,0)) -> 0 | R35: =O35+Q35 -> 36 | T35: 岳贵敏 | U35: =($R35*2/10)*0.5/6 -> 0.6 | V35: 央宗娜姆 | W35: =($R35*2/10)*0.5/6 -> 0.6 | X35: 周凯 | Y35: =($R35*2/10)*0.5/6 -> 0.6 | Z35: 赵建超 | AA35: =($R35*2/10)*0.5/6 -> 0.6 | AB35: 任吉洪 | AC35: =($R35*2/10)*0.5/6 -> 0.6 | AD35: 张弘 | AE35: =($R35*2/10)*0.5/6 -> 0.6 | AG35: 岳贵敏 | AH35: =($R35*2/10)*0.5/6 -> 0.6 | AI35: 央宗娜姆 | AJ35: =($R35*2/10)*0.5/6 -> 0.6 | AK35: 周凯 | AL35: =($R35*2/10)*0.5/6 -> 0.6 | AM35: 赵建超 | AN35: =($R35*2/10)*0.5/6 -> 0.6 | AO35: 余英 | AP35: =($R35*2/10)*0.5/6 -> 0.6 | AQ35: 彭桦 | AR35: =($R35*2/10)*0.5/6 -> 0.6 | AT35: 易涛 | AU35: =($R35*3/10)*0.5/6 -> 0.9 | AV35: 王江 | AW35: =($R35*3/10)*0.5/6 -> 0.9 | AX35: 雷敏 | AY35: =($R35*3/10)*0.5/6 -> 0.9 | AZ35: 赵建超 | BA35: =($R35*3/10)*0.5/6 -> 0.9 | BB35: 任吉洪 | BC35: =($R35*3/10)*0.5/6 -> 0.9 | BD35: 张弘 | BE35: =($R35*3/10)*0.5/6 -> 0.9 | BG35: 易涛 | BH35: =($R35*3/10)*0.5/6 -> 0.9 | BI35: 王江 | BJ35: =($R35*3/10)*0.5/6 -> 0.9 | BK35: 聂艳梅 | BL35: =($R35*3/10)*0.5/6 -> 0.9 | BM35: 赵建超 | BN35: =($R35*3/10)*0.5/6 -> 0.9 | BO35: 任吉洪 | BP35: =($R35*3/10)*0.5/6 -> 0.9 | BQ35: 张弘 | BR35: =($R35*3/10)*0.5/6 -> 0.9 | BT35: 易涛 | BU35: =($R35*5/10)*0.5/6 -> 1.5 | BV35: 央宗娜姆 | BW35: =($R35*5/10)*0.5/6 -> 1.5 | BX35: 周凯 | BY35: =($R35*5/10)*0.5/6 -> 1.5 | BZ35: 赵建超 | CA35: =($R35*5/10)*0.5/6 -> 1.5 | CB35: 任吉洪 | CC35: =($R35*5/10)*0.5/6 -> 1.5 | CD35: 张弘 | CE35: =($R35*5/10)*0.5/6 -> 1.5 | CG35: 易涛 | CH35: =($R35*5/10)*0.5/6 -> 1.5 | CI35: 央宗娜姆 | CJ35: =($R35*5/10)*0.5/6 -> 1.5 | CK35: 周凯 | CL35: =($R35*5/10)*0.5/6 -> 1.5 | CM35: 赵建超 | CN35: =($R35*5/10)*0.5/6 -> 1.5 | CO35: 任吉洪 | CP35: =($R35*5/10)*0.5/6 -> 1.5 | CQ35: 张弘 | CR35: =($R35*5/10)*0.5/6 -> 1.5
A36: 李全伟 | B36: 513422200006035810 | C36: 统招 | D36: 理科 | E36: 1 | G36: 111 | H36: 96 | I36: 114 | J36: 65.5 | K36: 45 | L36: 67.5 | M36: =SUM(G36:L36) -> 499 | N36: 本科 | O36: =IF(E36>0,IF(N36="本科",(2-E36)*36,-(E36)*36),IF(N36="本科",2*36,0)) -> 36 | Q36: =IF(F36>0,IF(P36="重本",(2-F36)*72,-(F36)*72),IF(P36="重本",2*72,0)) -> 0 | R36: =O36+Q36 -> 36 | T36: 易涛 | U36: =($R36*2/10)*0.5/6 -> 0.6 | V36: 王江 | W36: =($R36*2/10)*0.5/6 -> 0.6 | X36: 雷敏 | Y36: =($R36*2/10)*0.5/6 -> 0.6 | Z36: 兰举银 | AA36: =($R36*2/10)*0.5/6 -> 0.6 | AB36: 余英 | AC36: =($R36*2/10)*0.5/6 -> 0.6 | AD36: 彭桦 | AE36: =($R36*2/10)*0.5/6 -> 0.6 | AG36: 易涛 | AH36: =($R36*2/10)*0.5/6 -> 0.6 | AI36: 王江 | AJ36: =($R36*2/10)*0.5/6 -> 0.6 | AK36: 雷敏 | AL36: =($R36*2/10)*0.5/6 -> 0.6 | AM36: 兰举银 | AN36: =($R36*2/10)*0.5/6 -> 0.6 | AO36: 任吉洪 | AP36: =($R36*2/10)*0.5/6 -> 0.6 | AQ36: 张弘 | AR36: =($R36*2/10)*0.5/6 -> 0.6 | AT36: 易涛 | AU36: =($R36*3/10)*0.5/6 -> 0.9 | AV36: 王江 | AW36: =($R36*3/10)*0.5/6 -> 0.9 | AX36: 雷敏 | AY36: =($R36*3/10)*0.5/6 -> 0.9 | AZ36: 兰举银 | BA36: =($R36*3/10)*0.5/6 -> 0.9 | BB36: 余英 | BC36: =($R36*3/10)*0.5/6 -> 0.9 | BD36: 彭桦 | BE36: =($R36*3/10)*0.5/6 -> 0.9 | BG36: 易涛 | BH36: =($R36*3/10)*0.5/6 -> 0.9 | BI36: 王江 | BJ36: =($R36*3/10)*0.5/6 -> 0.9 | BK36: 聂艳梅 | BL36: =($R36*3/10)*0.5/6 -> 0.9 | BM36: 兰举银 | BN36: =($R36*3/10)*0.5/6 -> 0.9 | BO36: 余英 | BP36: =($R36*3/10)*0.5/6 -> 0.9 | BQ36: 彭桦 | BR36: =($R36*3/10)*0.5/6 -> 0.9 | BT36: 杨宗国 | BU36: =($R36*5/10)*0.5/6 -> 1.5 | BV36: 王江 | BW36: =($R36*5/10)*0.5/6 -> 1.5 | BX36: 雷敏 | BY36: =($R36*5/10)*0.5/6 -> 1.5 | BZ36: 兰举银 | CA36: =($R36*5/10)*0.5/6 -> 1.5 | CB36: 余英 | CC36: =($R36*5/10)*0.5/6 -> 1.5 | CD36: 彭桦 | CE36: =($R36*5/10)*0.5/6 -> 1.5 | CG36: 杨宗国 | CH36: =($R36*5/10)*0.5/6 -> 1.5 | CI36: 王江 | CJ36: =($R36*5/10)*0.5/6 -> 1.5 | CK36: 雷敏 | CL36: =($R36*5/10)*0.5/6 -> 1.5 | CM36: 兰举银 | CN36: =($R36*5/10)*0.5/6 -> 1.5 | CO36: 余英 | CP36: =($R36*5/10)*0.5/6 -> 1.5 | CQ36: 彭桦 | CR36: =($R36*5/10)*0.5/6 -> 1.5
A37: 仁青拉初 | B37: 513422199906134827 | C37: 统招 | D37: 理科 | E37: 1 | G37: 110 | H37: 96 | I37: 119 | J37: 64 | K37: 54 | L37: 55 | M37: =SUM(G37:L37) -> 498 | N37: 本科 | O37: =IF(E37>0,IF(N37="本科",(2-E37)*36,-(E37)*36),IF(N37="本科",2*36,0)) -> 36 | Q37: =IF(F37>0,IF(P37="重本",(2-F37)*72,-(F37)*72),IF(P37="重本",2*72,0)) -> 0 | R37: =O37+Q37 -> 36 | T37: 岳贵敏 | U37: =($R37*2/10)*0.5/6 -> 0.6 | V37: 央宗娜姆 | W37: =($R37*2/10)*0.5/6 -> 0.6 | X37: 周凯 | Y37: =($R37*2/10)*0.5/6 -> 0.6 | Z37: 赵建超 | AA37: =($R37*2/10)*0.5/6 -> 0.6 | AB37: 任吉洪 | AC37: =($R37*2/10)*0.5/6 -> 0.6 | AD37: 张弘 | AE37: =($R37*2/10)*0.5/6 -> 0.6 | AG37: 岳贵敏 | AH37: =($R37*2/10)*0.5/6 -> 0.6 | AI37: 央宗娜姆 | AJ37: =($R37*2/10)*0.5/6 -> 0.6 | AK37: 周凯 | AL37: =($R37*2/10)*0.5/6 -> 0.6 | AM37: 兰举银 | AN37: =($R37*2/10)*0.5/6 -> 0.6 | AO37: 任吉洪 | AP37: =($R37*2/10)*0.5/6 -> 0.6 | AQ37: 张弘 | AR37: =($R37*2/10)*0.5/6 -> 0.6 | AT37: 岳贵敏 | AU37: =($R37*3/10)*0.5/6 -> 0.9 | AV37: 黄金华 | AW37: =($R37*3/10)*0.5/6 -> 0.9 | AX37: 周凯 | AY37: =($R37*3/10)*0.5/6 -> 0.9 | AZ37: 兰举银 | BA37: =($R37*3/10)*0.5/6 -> 0.9 | BB37: 余英 | BC37: =($R37*3/10)*0.5/6 -> 0.9 | BD37: 彭桦 | BE37: =($R37*3/10)*0.5/6 -> 0.9 | BG37: 岳贵敏 | BH37: =($R37*3/10)*0.5/6 -> 0.9 | BI37: 央宗娜姆 | BJ37: =($R37*3/10)*0.5/6 -> 0.9 | BK37: 周凯 | BL37: =($R37*3/10)*0.5/6 -> 0.9 | BM37: 兰举银 | BN37: =($R37*3/10)*0.5/6 -> 0.9 | BO37: 余英 | BP37: =($R37*3/10)*0.5/6 -> 0.9 | BQ37: 彭桦 | BR37: =($R37*3/10)*0.5/6 -> 0.9 | BT37: 易涛 | BU37: =($R37*5/10)*0.5/6 -> 1.5 | BV37: 央宗娜姆 | BW37: =($R37*5/10)*0.5/6 -> 1.5 | BX37: 周凯 | BY37: =($R37*5/10)*0.5/6 -> 1.5 | BZ37: 赵建超 | CA37: =($R37*5/10)*0.5/6 -> 1.5 | CB37: 任吉洪 | CC37: =($R37*5/10)*0.5/6 -> 1.5 | CD37: 张弘 | CE37: =($R37*5/10)*0.5/6 -> 1.5 | CG37: 易涛 | CH37: =($R37*5/10)*0.5/6 -> 1.5 | CI37: 央宗娜姆 | CJ37: =($R37*5/10)*0.5/6 -> 1.5 | CK37: 周凯 | CL37: =($R37*5/10)*0.5/6 -> 1.5 | CM37: 赵建超 | CN37: =($R37*5/10)*0.5/6 -> 1.5 | CO37: 任吉洪 | CP37: =($R37*5/10)*0.5/6 -> 1.5 | CQ37: 张弘 | CR37: =($R37*5/10)*0.5/6 -> 1.5
A38: 高光荣 | B38: 51342220001228272X | C38: 统招 | D38: 理科 | E38: 1 | G38: 113 | H38: 92 | I38: 110 | J38: 49 | K38: 59 | L38: 73 | M38: =SUM(G38:L38) -> 496 | N38: 本科 | O38: =IF(E38>0,IF(N38="本科",(2-E38)*36,-(E38)*36),IF(N38="本科",2*36,0)) -> 36 | Q38: =IF(F38>0,IF(P38="重本",(2-F38)*72,-(F38)*72),IF(P38="重本",2*72,0)) -> 0 | R38: =O38+Q38 -> 36 | T38: 易涛 | U38: =($R38*2/10)*0.5/6 -> 0.6 | V38: 王江 | W38: =($R38*2/10)*0.5/6 -> 0.6 | X38: 雷敏 | Y38: =($R38*2/10)*0.5/6 -> 0.6 | Z38: 兰举银 | AA38: =($R38*2/10)*0.5/6 -> 0.6 | AB38: 余英 | AC38: =($R38*2/10)*0.5/6 -> 0.6 | AD38: 彭桦 | AE38: =($R38*2/10)*0.5/6 -> 0.6 | AG38: 易涛 | AH38: =($R38*2/10)*0.5/6 -> 0.6 | AI38: 王江 | AJ38: =($R38*2/10)*0.5/6 -> 0.6 | AK38: 雷敏 | AL38: =($R38*2/10)*0.5/6 -> 0.6 | AM38: 兰举银 | AN38: =($R38*2/10)*0.5/6 -> 0.6 | AO38: 任吉洪 | AP38: =($R38*2/10)*0.5/6 -> 0.6 | AQ38: 彭桦 | AR38: =($R38*2/10)*0.5/6 -> 0.6 | AT38: 岳贵敏 | AU38: =($R38*3/10)*0.5/6 -> 0.9 | AV38: 黄金华 | AW38: =($R38*3/10)*0.5/6 -> 0.9 | AX38: 周凯 | AY38: =($R38*3/10)*0.5/6 -> 0.9 | AZ38: 赵建超 | BA38: =($R38*3/10)*0.5/6 -> 0.9 | BB38: 任吉洪 | BC38: =($R38*3/10)*0.5/6 -> 0.9 | BD38: 张弘 | BE38: =($R38*3/10)*0.5/6 -> 0.9 | BG38: 岳贵敏 | BH38: =($R38*3/10)*0.5/6 -> 0.9 | BI38: 央宗娜姆 | BJ38: =($R38*3/10)*0.5/6 -> 0.9 | BK38: 周凯 | BL38: =($R38*3/10)*0.5/6 -> 0.9 | BM38: 赵建超 | BN38: =($R38*3/10)*0.5/6 -> 0.9 | BO38: 任吉洪 | BP38: =($R38*3/10)*0.5/6 -> 0.9 | BQ38: 张弘 | BR38: =($R38*3/10)*0.5/6 -> 0.9 | BT38: 杨宗国 | BU38: =($R38*5/10)*0.5/6 -> 1.5 | BV38: 王江 | BW38: =($R38*5/10)*0.5/6 -> 1.5 | BX38: 雷敏 | BY38: =($R38*5/10)*0.5/6 -> 1.5 | BZ38: 兰举银 | CA38: =($R38*5/10)*0.5/6 -> 1.5 | CB38: 余英 | CC38: =($R38*5/10)*0.5/6 -> 1.5 | CD38: 彭桦 | CE38: =($R38*5/10)*0.5/6 -> 1.5 | CG38: 杨宗国 | CH38: =($R38*5/10)*0.5/6 -> 1.5 | CI38: 王江 | CJ38: =($R38*5/10)*0.5/6 -> 1.5 | CK38: 雷敏 | CL38: =($R38*5/10)*0.5/6 -> 1.5 | CM38: 兰举银 | CN38: =($R38*5/10)*0.5/6 -> 1.5 | CO38: 余英 | CP38: =($R38*5/10)*0.5/6 -> 1.5 | CQ38: 彭桦 | CR38: =($R38*5/10)*0.5/6 -> 1.5
A39: 龙布次尔 | B39: 513422200109174813 | C39: 统招 | D39: 理科 | E39: 1 | G39: 110 | H39: 94 | I39: 103 | J39: 68.5 | K39: 61 | L39: 58 | M39: =SUM(G39:L39) -> 494.5 | N39: 本科 | O39: =IF(E39>0,IF(N39="本科",(2-E39)*36,-(E39)*36),IF(N39="本科",2*36,0)) -> 36 | Q39: =IF(F39>0,IF(P39="重本",(2-F39)*72,-(F39)*72),IF(P39="重本",2*72,0)) -> 0 | R39: =O39+Q39 -> 36 | T39: 易涛 | U39: =($R39*2/10)*0.5/6 -> 0.6 | V39: 王江 | W39: =($R39*2/10)*0.5/6 -> 0.6 | X39: 雷敏 | Y39: =($R39*2/10)*0.5/6 -> 0.6 | Z39: 兰举银 | AA39: =($R39*2/10)*0.5/6 -> 0.6 | AB39: 余英 | AC39: =($R39*2/10)*0.5/6 -> 0.6 | AD39: 彭桦 | AE39: =($R39*2/10)*0.5/6 -> 0.6 | AG39: 李正琪 | AH39: =($R39*2/10)*0.5/6 -> 0.6 | AI39: 王江 | AJ39: =($R39*2/10)*0.5/6 -> 0.6 | AK39: 彭丹 | AL39: =($R39*2/10)*0.5/6 -> 0.6 | AM39: 兰举银 | AN39: =($R39*2/10)*0.5/6 -> 0.6 | AO39: 任吉洪 | AP39: =($R39*2/10)*0.5/6 -> 0.6 | AQ39: 彭桦 | AR39: =($R39*2/10)*0.5/6 -> 0.6 | AT39: 易涛 | AU39: =($R39*3/10)*0.5/6 -> 0.9 | AV39: 王江 | AW39: =($R39*3/10)*0.5/6 -> 0.9 | AX39: 雷敏 | AY39: =($R39*3/10)*0.5/6 -> 0.9 | AZ39: 兰举银 | BA39: =($R39*3/10)*0.5/6 -> 0.9 | BB39: 余英 | BC39: =($R39*3/10)*0.5/6 -> 0.9 | BD39: 彭桦 | BE39: =($R39*3/10)*0.5/6 -> 0.9 | BG39: 易涛 | BH39: =($R39*3/10)*0.5/6 -> 0.9 | BI39: 王江 | BJ39: =($R39*3/10)*0.5/6 -> 0.9 | BK39: 聂艳梅 | BL39: =($R39*3/10)*0.5/6 -> 0.9 | BM39: 兰举银 | BN39: =($R39*3/10)*0.5/6 -> 0.9 | BO39: 余英 | BP39: =($R39*3/10)*0.5/6 -> 0.9 | BQ39: 彭桦 | BR39: =($R39*3/10)*0.5/6 -> 0.9 | BT39: 杨宗国 | BU39: =($R39*5/10)*0.5/6 -> 1.5 | BV39: 王江 | BW39: =($R39*5/10)*0.5/6 -> 1.5 | BX39: 雷敏 | BY39: =($R39*5/10)*0.5/6 -> 1.5 | BZ39: 兰举银 | CA39: =($R39*5/10)*0.5/6 -> 1.5 | CB39: 余英 | CC39: =($R39*5/10)*0.5/6 -> 1.5 | CD39: 彭桦 | CE39: =($R39*5/10)*0.5/6 -> 1.5 | CG39: 杨宗国 | CH39: =($R39*5/10)*0.5/6 -> 1.5 | CI39: 王江 | CJ39: =($R39*5/10)*0.5/6 -> 1.5 | CK39: 雷敏 | CL39: =($R39*5/10)*0.5/6 -> 1.5 | CM39: 兰举银 | CN39: =($R39*5/10)*0.5/6 -> 1.5 | CO39: 余英 | CP39: =($R39*5/10)*0.5/6 -> 1.5 | CQ39: 彭桦 | CR39: =($R39*5/10)*0.5/6 -> 1.5
A40: 张增利 | B40: 513422200003251729 | C40: 统招 | D40: 理科 | G40: 92 | H40: 109 | I40: 106 | J40: 60 | K40: 58 | L40: 69 | M40: =SUM(G40:L40) -> 494 | N40: 本科 | O40: =IF(E40>0,IF(N40="本科",(2-E40)*36,-(E40)*36),IF(N40="本科",2*36,0)) -> 72 | Q40: =IF(F40>0,IF(P40="重本",(2-F40)*72,-(F40)*72),IF(P40="重本",2*72,0)) -> 0 | R40: =O40+Q40 -> 72 | T40: 岳子琦 | U40: =($R40*2/10)*0.5/6 -> 1.2 | V40: 孙文 | W40: =($R40*2/10)*0.5/6 -> 1.2 | X40: 曾佳瑶 | Y40: =($R40*2/10)*0.5/6 -> 1.2 | Z40: 王友春 | AA40: =($R40*2/10)*0.5/6 -> 1.2 | AB40: 余英 | AC40: =($R40*2/10)*0.5/6 -> 1.2 | AD40: 彭桦 | AE40: =($R40*2/10)*0.5/6 -> 1.2 | AG40: 李志友 | AH40: =($R40*2/10)*0.5/6 -> 1.2 | AI40: 赵云川 | AJ40: =($R40*2/10)*0.5/6 -> 1.2 | AK40: 彭丹 | AL40: =($R40*2/10)*0.5/6 -> 1.2 | AM40: 王友春 | AN40: =($R40*2/10)*0.5/6 -> 1.2 | AO40: 任吉洪 | AP40: =($R40*2/10)*0.5/6 -> 1.2 | AQ40: 彭桦 | AR40: =($R40*2/10)*0.5/6 -> 1.2 | AT40: 岳子琦 | AU40: =($R40*3/10)*0.5/6 -> 1.8 | AV40: 孙文 | AW40: =($R40*3/10)*0.5/6 -> 1.8 | AX40: 彭丹 | AY40: =($R40*3/10)*0.5/6 -> 1.8 | AZ40: 王友春 | BA40: =($R40*3/10)*0.5/6 -> 1.8 | BB40: 任吉洪 | BC40: =($R40*3/10)*0.5/6 -> 1.8 | BD40: 张弘 | BE40: =($R40*3/10)*0.5/6 -> 1.8 | BG40: 岳贵敏 | BH40: =($R40*3/10)*0.5/6 -> 1.8 | BI40: 央宗娜姆 | BJ40: =($R40*3/10)*0.5/6 -> 1.8 | BK40: 彭丹 | BL40: =($R40*3/10)*0.5/6 -> 1.8 | BM40: 王友春 | BN40: =($R40*3/10)*0.5/6 -> 1.8 | BO40: 任吉洪 | BP40: =($R40*3/10)*0.5/6 -> 1.8 | BQ40: 张弘 | BR40: =($R40*3/10)*0.5/6 -> 1.8 | BT40: 杨宗国 | BU40: =($R40*5/10)*0.5/6 -> 3 | BV40: 王江 | BW40: =($R40*5/10)*0.5/6 -> 3 | BX40: 雷敏 | BY40: =($R40*5/10)*0.5/6 -> 3 | BZ40: 兰举银 | CA40: =($R40*5/10)*0.5/6 -> 3 | CB40: 余英 | CC40: =($R40*5/10)*0.5/6 -> 3 | CD40: 彭桦 | CE40: =($R40*5/10)*0.5/6 -> 3 | CG40: 杨宗国 | CH40: =($R40*5/10)*0.5/6 -> 3 | CI40: 王江 | CJ40: =($R40*5/10)*0.5/6 -> 3 | CK40: 雷敏 | CL40: =($R40*5/10)*0.5/6 -> 3 | CM40: 兰举银 | CN40: =($R40*5/10)*0.5/6 -> 3 | CO40: 余英 | CP40: =($R40*5/10)*0.5/6 -> 3 | CQ40: 彭桦 | CR40: =($R40*5/10)*0.5/6 -> 3
A41: 游世丹 | B41: 51342220000116252X | C41: 统招 | D41: 理科 | E41: 1 | G41: 114 | H41: 93 | I41: 95 | J41: 56.5 | K41: 56.5 | L41: 76.5 | M41: =SUM(G41:L41) -> 491.5 | N41: 本科 | O41: =IF(E41>0,IF(N41="本科",(2-E41)*36,-(E41)*36),IF(N41="本科",2*36,0)) -> 36 | Q41: =IF(F41>0,IF(P41="重本",(2-F41)*72,-(F41)*72),IF(P41="重本",2*72,0)) -> 0 | R41: =O41+Q41 -> 36 | T41: 岳贵敏 | U41: =($R41*2/10)*0.5/6 -> 0.6 | V41: 央宗娜姆 | W41: =($R41*2/10)*0.5/6 -> 0.6 | X41: 周凯 | Y41: =($R41*2/10)*0.5/6 -> 0.6 | Z41: 赵建超 | AA41: =($R41*2/10)*0.5/6 -> 0.6 | AB41: 任吉洪 | AC41: =($R41*2/10)*0.5/6 -> 0.6 | AD41: 张弘 | AE41: =($R41*2/10)*0.5/6 -> 0.6 | AG41: 岳贵敏 | AH41: =($R41*2/10)*0.5/6 -> 0.6 | AI41: 央宗娜姆 | AJ41: =($R41*2/10)*0.5/6 -> 0.6 | AK41: 周凯 | AL41: =($R41*2/10)*0.5/6 -> 0.6 | AM41: 兰举银 | AN41: =($R41*2/10)*0.5/6 -> 0.6 | AO41: 任吉洪 | AP41: =($R41*2/10)*0.5/6 -> 0.6 | AQ41: 张弘 | AR41: =($R41*2/10)*0.5/6 -> 0.6 | AT41: 岳贵敏 | AU41: =($R41*3/10)*0.5/6 -> 0.9 | AV41: 黄金华 | AW41: =($R41*3/10)*0.5/6 -> 0.9 | AX41: 周凯 | AY41: =($R41*3/10)*0.5/6 -> 0.9 | AZ41: 兰举银 | BA41: =($R41*3/10)*0.5/6 -> 0.9 | BB41: 余英 | BC41: =($R41*3/10)*0.5/6 -> 0.9 | BD41: 彭桦 | BE41: =($R41*3/10)*0.5/6 -> 0.9 | BG41: 岳贵敏 | BH41: =($R41*3/10)*0.5/6 -> 0.9 | BI41: 央宗娜姆 | BJ41: =($R41*3/10)*0.5/6 -> 0.9 | BK41: 周凯 | BL41: =($R41*3/10)*0.5/6 -> 0.9 | BM41: 兰举银 | BN41: =($R41*3/10)*0.5/6 -> 0.9 | BO41: 余英 | BP41: =($R41*3/10)*0.5/6 -> 0.9 | BQ41: 彭桦 | BR41: =($R41*3/10)*0.5/6 -> 0.9 | BT41: 易涛 | BU41: =($R41*5/10)*0.5/6 -> 1.5 | BV41: 央宗娜姆 | BW41: =($R41*5/10)*0.5/6 -> 1.5 | BX41: 周凯 | BY41: =($R41*5/10)*0.5/6 -> 1.5 | BZ41: 赵建超 | CA41: =($R41*5/10)*0.5/6 -> 1.5 | CB41: 任吉洪 | CC41: =($R41*5/10)*0.5/6 -> 1.5 | CD41: 张弘 | CE41: =($R41*5/10)*0.5/6 -> 1.5 | CG41: 易涛 | CH41: =($R41*5/10)*0.5/6 -> 1.5 | CI41: 央宗娜姆 | CJ41: =($R41*5/10)*0.5/6 -> 1.5 | CK41: 周凯 | CL41: =($R41*5/10)*0.5/6 -> 1.5 | CM41: 赵建超 | CN41: =($R41*5/10)*0.5/6 -> 1.5 | CO41: 任吉洪 | CP41: =($R41*5/10)*0.5/6 -> 1.5 | CQ41: 张弘 | CR41: =($R41*5/10)*0.5/6 -> 1.5
A42: 陈是友 | B42: 513422199901200979 | C42: 统招 | D42: 理科 | E42: 1 | G42: 103 | H42: 106 | I42: 113 | J42: 61.5 | K42: 56.5 | L42: 50 | M42: =SUM(G42:L42) -> 490 | N42: 本科 | O42: =IF(E42>0,IF(N42="本科",(2-E42)*36,-(E42)*36),IF(N42="本科",2*36,0)) -> 36 | Q42: =IF(F42>0,IF(P42="重本",(2-F42)*72,-(F42)*72),IF(P42="重本",2*72,0)) -> 0 | R42: =O42+Q42 -> 36 | T42: 岳贵敏 | U42: =($R42*2/10)*0.5/6 -> 0.6 | V42: 央宗娜姆 | W42: =($R42*2/10)*0.5/6 -> 0.6 | X42: 周凯 | Y42: =($R42*2/10)*0.5/6 -> 0.6 | Z42: 赵建超 | AA42: =($R42*2/10)*0.5/6 -> 0.6 | AB42: 任吉洪 | AC42: =($R42*2/10)*0.5/6 -> 0.6 | AD42: 张弘 | AE42: =($R42*2/10)*0.5/6 -> 0.6 | AG42: 岳贵敏 | AH42: =($R42*2/10)*0.5/6 -> 0.6 | AI42: 央宗娜姆 | AJ42: =($R42*2/10)*0.5/6 -> 0.6 | AK42: 周凯 | AL42: =($R42*2/10)*0.5/6 -> 0.6 | AM42: 赵建超 | AN42: =($R42*2/10)*0.5/6 -> 0.6 | AO42: 余英 | AP42: =($R42*2/10)*0.5/6 -> 0.6 | AQ42: 辜英琼 | AR42: =($R42*2/10)*0.5/6 -> 0.6 | AT42: 岳贵敏 | AU42: =($R42*3/10)*0.5/6 -> 0.9 | AV42: 黄金华 | AW42: =($R42*3/10)*0.5/6 -> 0.9 | AX42: 周凯 | AY42: =($R42*3/10)*0.5/6 -> 0.9 | AZ42: 赵建超 | BA42: =($R42*3/10)*0.5/6 -> 0.9 | BB42: 任吉洪 | BC42: =($R42*3/10)*0.5/6 -> 0.9 | BD42: 辜英琼 | BE42: =($R42*3/10)*0.5/6 -> 0.9 | BG42: 岳贵敏 | BH42: =($R42*3/10)*0.5/6 -> 0.9 | BI42: 央宗娜姆 | BJ42: =($R42*3/10)*0.5/6 -> 0.9 | BK42: 周凯 | BL42: =($R42*3/10)*0.5/6 -> 0.9 | BM42: 赵建超 | BN42: =($R42*3/10)*0.5/6 -> 0.9 | BO42: 任吉洪 | BP42: =($R42*3/10)*0.5/6 -> 0.9 | BQ42: 辜英琼 | BR42: =($R42*3/10)*0.5/6 -> 0.9 | BT42: 易涛 | BU42: =($R42*5/10)*0.5/6 -> 1.5 | BV42: 央宗娜姆 | BW42: =($R42*5/10)*0.5/6 -> 1.5 | BX42: 周凯 | BY42: =($R42*5/10)*0.5/6 -> 1.5 | BZ42: 赵建超 | CA42: =($R42*5/10)*0.5/6 -> 1.5 | CB42: 任吉洪 | CC42: =($R42*5/10)*0.5/6 -> 1.5 | CD42: 张弘 | CE42: =($R42*5/10)*0.5/6 -> 1.5 | CG42: 易涛 | CH42: =($R42*5/10)*0.5/6 -> 1.5 | CI42: 央宗娜姆 | CJ42: =($R42*5/10)*0.5/6 -> 1.5 | CK42: 周凯 | CL42: =($R42*5/10)*0.5/6 -> 1.5 | CM42: 赵建超 | CN42: =($R42*5/10)*0.5/6 -> 1.5 | CO42: 任吉洪 | CP42: =($R42*5/10)*0.5/6 -> 1.5 | CQ42: 张弘 | CR42: =($R42*5/10)*0.5/6 -> 1.5
A43: 吴忠宝 | B43: 513422200008103610 | C43: 统招 | D43: 理科 | G43: 103 | H43: 98 | I43: 86 | J43: 50.5 | K43: 73 | L43: 78 | M43: =SUM(G43:L43) -> 488.5 | N43: 本科 | O43: =IF(E43>0,IF(N43="本科",(2-E43)*36,-(E43)*36),IF(N43="本科",2*36,0)) -> 72 | Q43: =IF(F43>0,IF(P43="重本",(2-F43)*72,-(F43)*72),IF(P43="重本",2*72,0)) -> 0 | R43: =O43+Q43 -> 72 | T43: 易涛 | U43: =($R43*2/10)*0.5/6 -> 1.2 | V43: 周军 | W43: =($R43*2/10)*0.5/6 -> 1.2 | X43: 彭丹 | Y43: =($R43*2/10)*0.5/6 -> 1.2 | Z43: 宋加友 | AA43: =($R43*2/10)*0.5/6 -> 1.2 | AB43: 任吉洪 | AC43: =($R43*2/10)*0.5/6 -> 1.2 | AD43: 张弘 | AE43: =($R43*2/10)*0.5/6 -> 1.2 | AG43: 李志友 | AH43: =($R43*2/10)*0.5/6 -> 1.2 | AI43: 赵云川 | AJ43: =($R43*2/10)*0.5/6 -> 1.2 | AK43: 张翠莲 | AL43: =($R43*2/10)*0.5/6 -> 1.2 | AM43: 宋加友 | AN43: =($R43*2/10)*0.5/6 -> 1.2 | AO43: 任吉洪 | AP43: =($R43*2/10)*0.5/6 -> 1.2 | AQ43: 彭桦 | AR43: =($R43*2/10)*0.5/6 -> 1.2 | AT43: 李志友 | AU43: =($R43*3/10)*0.5/6 -> 1.8 | AV43: 赵云川 | AW43: =($R43*3/10)*0.5/6 -> 1.8 | AX43: 周凯 | AY43: =($R43*3/10)*0.5/6 -> 1.8 | AZ43: 赵建超 | BA43: =($R43*3/10)*0.5/6 -> 1.8 | BB43: 任吉洪 | BC43: =($R43*3/10)*0.5/6 -> 1.8 | BD43: 张弘 | BE43: =($R43*3/10)*0.5/6 -> 1.8 | BG43: 李志友 | BH43: =($R43*3/10)*0.5/6 -> 1.8 | BI43: 赵云川 | BJ43: =($R43*3/10)*0.5/6 -> 1.8 | BK43: 周凯 | BL43: =($R43*3/10)*0.5/6 -> 1.8 | BM43: 赵建超 | BN43: =($R43*3/10)*0.5/6 -> 1.8 | BO43: 任吉洪 | BP43: =($R43*3/10)*0.5/6 -> 1.8 | BQ43: 张弘 | BR43: =($R43*3/10)*0.5/6 -> 1.8 | BT43: 李志友 | BU43: =($R43*5/10)*0.5/6 -> 3 | BV43: 赵云川 | BW43: =($R43*5/10)*0.5/6 -> 3 | BX43: 彭丹 | BY43: =($R43*5/10)*0.5/6 -> 3 | BZ43: 赵建超 | CA43: =($R43*5/10)*0.5/6 -> 3 | CB43: 任吉洪 | CC43: =($R43*5/10)*0.5/6 -> 3 | CD43: 张弘 | CE43: =($R43*5/10)*0.5/6 -> 3 | CG43: 李志友 | CH43: =($R43*5/10)*0.5/6 -> 3 | CI43: 赵云川 | CJ43: =($R43*5/10)*0.5/6 -> 3 | CK43: 彭丹 | CL43: =($R43*5/10)*0.5/6 -> 3 | CM43: 赵建超 | CN43: =($R43*5/10)*0.5/6 -> 3 | CO43: 任吉洪 | CP43: =($R43*5/10)*0.5/6 -> 3 | CQ43: 张弘 | CR43: =($R43*5/10)*0.5/6 -> 3
A44: 马次尔秧千 | B44: 513422199709062529 | C44: 统招 | D44: 理科 | E44: 1 | G44: 92 | H44: 102 | I44: 119 | J44: 63.5 | K44: 44 | L44: 66.5 | M44: =SUM(G44:L44) -> 487 | N44: 本科 | O44: =IF(E44>0,IF(N44="本科",(2-E44)*36,-(E44)*36),IF(N44="本科",2*36,0)) -> 36 | Q44: =IF(F44>0,IF(P44="重本",(2-F44)*72,-(F44)*72),IF(P44="重本",2*72,0)) -> 0 | R44: =O44+Q44 -> 36 | T44: 易涛 | U44: =($R44*2/10)*0.5/6 -> 0.6 | V44: 王江 | W44: =($R44*2/10)*0.5/6 -> 0.6 | X44: 雷敏 | Y44: =($R44*2/10)*0.5/6 -> 0.6 | Z44: 兰举银 | AA44: =($R44*2/10)*0.5/6 -> 0.6 | AB44: 余英 | AC44: =($R44*2/10)*0.5/6 -> 0.6 | AD44: 彭桦 | AE44: =($R44*2/10)*0.5/6 -> 0.6 | AG44: 易涛 | AH44: =($R44*2/10)*0.5/6 -> 0.6 | AI44: 王江 | AJ44: =($R44*2/10)*0.5/6 -> 0.6 | AK44: 雷敏 | AL44: =($R44*2/10)*0.5/6 -> 0.6 | AM44: 兰举银 | AN44: =($R44*2/10)*0.5/6 -> 0.6 | AO44: 任吉洪 | AP44: =($R44*2/10)*0.5/6 -> 0.6 | AQ44: 彭桦 | AR44: =($R44*2/10)*0.5/6 -> 0.6 | AT44: 易涛 | AU44: =($R44*3/10)*0.5/6 -> 0.9 | AV44: 王江 | AW44: =($R44*3/10)*0.5/6 -> 0.9 | AX44: 雷敏 | AY44: =($R44*3/10)*0.5/6 -> 0.9 | AZ44: 兰举银 | BA44: =($R44*3/10)*0.5/6 -> 0.9 | BB44: 余英 | BC44: =($R44*3/10)*0.5/6 -> 0.9 | BD44: 彭桦 | BE44: =($R44*3/10)*0.5/6 -> 0.9 | BG44: 易涛 | BH44: =($R44*3/10)*0.5/6 -> 0.9 | BI44: 王江 | BJ44: =($R44*3/10)*0.5/6 -> 0.9 | BK44: 聂艳梅 | BL44: =($R44*3/10)*0.5/6 -> 0.9 | BM44: 兰举银 | BN44: =($R44*3/10)*0.5/6 -> 0.9 | BO44: 余英 | BP44: =($R44*3/10)*0.5/6 -> 0.9 | BQ44: 彭桦 | BR44: =($R44*3/10)*0.5/6 -> 0.9 | BT44: 杨宗国 | BU44: =($R44*5/10)*0.5/6 -> 1.5 | BV44: 王江 | BW44: =($R44*5/10)*0.5/6 -> 1.5 | BX44: 雷敏 | BY44: =($R44*5/10)*0.5/6 -> 1.5 | BZ44: 兰举银 | CA44: =($R44*5/10)*0.5/6 -> 1.5 | CB44: 余英 | CC44: =($R44*5/10)*0.5/6 -> 1.5 | CD44: 彭桦 | CE44: =($R44*5/10)*0.5/6 -> 1.5 | CG44: 杨宗国 | CH44: =($R44*5/10)*0.5/6 -> 1.5 | CI44: 王江 | CJ44: =($R44*5/10)*0.5/6 -> 1.5 | CK44: 雷敏 | CL44: =($R44*5/10)*0.5/6 -> 1.5 | CM44: 兰举银 | CN44: =($R44*5/10)*0.5/6 -> 1.5 | CO44: 余英 | CP44: =($R44*5/10)*0.5/6 -> 1.5 | CQ44: 彭桦 | CR44: =($R44*5/10)*0.5/6 -> 1.5
A45: 车成美 | B45: 51342220010723232X | C45: 统招 | D45: 理科 | E45: 1 | G45: 112 | H45: 105 | I45: 110 | J45: 50 | K45: 45 | L45: 62 | M45: =SUM(G45:L45) -> 484 | N45: 本科 | O45: =IF(E45>0,IF(N45="本科",(2-E45)*36,-(E45)*36),IF(N45="本科",2*36,0)) -> 36 | Q45: =IF(F45>0,IF(P45="重本",(2-F45)*72,-(F45)*72),IF(P45="重本",2*72,0)) -> 0 | R45: =O45+Q45 -> 36 | T45: 岳贵敏 | U45: =($R45*2/10)*0.5/6 -> 0.6 | V45: 央宗娜姆 | W45: =($R45*2/10)*0.5/6 -> 0.6 | X45: 周凯 | Y45: =($R45*2/10)*0.5/6 -> 0.6 | Z45: 赵建超 | AA45: =($R45*2/10)*0.5/6 -> 0.6 | AB45: 任吉洪 | AC45: =($R45*2/10)*0.5/6 -> 0.6 | AD45: 张弘 | AE45: =($R45*2/10)*0.5/6 -> 0.6 | AG45: 岳贵敏 | AH45: =($R45*2/10)*0.5/6 -> 0.6 | AI45: 央宗娜姆 | AJ45: =($R45*2/10)*0.5/6 -> 0.6 | AK45: 周凯 | AL45: =($R45*2/10)*0.5/6 -> 0.6 | AM45: 赵建超 | AN45: =($R45*2/10)*0.5/6 -> 0.6 | AO45: 余英 | AP45: =($R45*2/10)*0.5/6 -> 0.6 | AQ45: 彭桦 | AR45: =($R45*2/10)*0.5/6 -> 0.6 | AT45: 易涛 | AU45: =($R45*3/10)*0.5/6 -> 0.9 | AV45: 王江 | AW45: =($R45*3/10)*0.5/6 -> 0.9 | AX45: 雷敏 | AY45: =($R45*3/10)*0.5/6 -> 0.9 | AZ45: 兰举银 | BA45: =($R45*3/10)*0.5/6 -> 0.9 | BB45: 余英 | BC45: =($R45*3/10)*0.5/6 -> 0.9 | BD45: 彭桦 | BE45: =($R45*3/10)*0.5/6 -> 0.9 | BG45: 易涛 | BH45: =($R45*3/10)*0.5/6 -> 0.9 | BI45: 王江 | BJ45: =($R45*3/10)*0.5/6 -> 0.9 | BK45: 聂艳梅 | BL45: =($R45*3/10)*0.5/6 -> 0.9 | BM45: 兰举银 | BN45: =($R45*3/10)*0.5/6 -> 0.9 | BO45: 余英 | BP45: =($R45*3/10)*0.5/6 -> 0.9 | BQ45: 彭桦 | BR45: =($R45*3/10)*0.5/6 -> 0.9 | BT45: 易涛 | BU45: =($R45*5/10)*0.5/6 -> 1.5 | BV45: 央宗娜姆 | BW45: =($R45*5/10)*0.5/6 -> 1.5 | BX45: 周凯 | BY45: =($R45*5/10)*0.5/6 -> 1.5 | BZ45: 赵建超 | CA45: =($R45*5/10)*0.5/6 -> 1.5 | CB45: 任吉洪 | CC45: =($R45*5/10)*0.5/6 -> 1.5 | CD45: 张弘 | CE45: =($R45*5/10)*0.5/6 -> 1.5 | CG45: 易涛 | CH45: =($R45*5/10)*0.5/6 -> 1.5 | CI45: 央宗娜姆 | CJ45: =($R45*5/10)*0.5/6 -> 1.5 | CK45: 周凯 | CL45: =($R45*5/10)*0.5/6 -> 1.5 | CM45: 赵建超 | CN45: =($R45*5/10)*0.5/6 -> 1.5 | CO45: 任吉洪 | CP45: =($R45*5/10)*0.5/6 -> 1.5 | CQ45: 张弘 | CR45: =($R45*5/10)*0.5/6 -> 1.5
A46: 熊米包 | B46: 51342219960208113X | C46: 统招 | D46: 理科 | E46: 0.6 | G46: 99 | H46: 111 | I46: 84 | J46: 61.5 | K46: 63 | L46: 65.5 | M46: =SUM(G46:L46) -> 484 | N46: 本科 | O46: =IF(E46>0,IF(N46="本科",(2-E46)*36,-(E46)*36),IF(N46="本科",2*36,0)) -> 50.4 | Q46: =IF(F46>0,IF(P46="重本",(2-F46)*72,-(F46)*72),IF(P46="重本",2*72,0)) -> 0 | R46: =O46+Q46 -> 50.4 | T46: 岳贵敏 | U46: =($R46*2/10)*0.5/6 -> 0.84 | V46: 央宗娜姆 | W46: =($R46*2/10)*0.5/6 -> 0.84 | X46: 周凯 | Y46: =($R46*2/10)*0.5/6 -> 0.84 | Z46: 王友春 | AA46: =($R46*2/10)*0.5/6 -> 0.84 | AB46: 陈文惠 | AC46: =($R46*2/10)*0.5/6 -> 0.84 | AD46: 陈文惠 | AE46: =($R46*2/10)*0.5/6 -> 0.84 | AG46: 岳贵敏 | AH46: =($R46*2/10)*0.5/6 -> 0.84 | AI46: 王江 | AJ46: =($R46*2/10)*0.5/6 -> 0.84 | AK46: 彭丹 | AL46: =($R46*2/10)*0.5/6 -> 0.84 | AM46: 兰举银 | AN46: =($R46*2/10)*0.5/6 -> 0.84 | AO46: 任吉洪 | AP46: =($R46*2/10)*0.5/6 -> 0.84 | AQ46: 彭桦 | AR46: =($R46*2/10)*0.5/6 -> 0.84 | AT46: 岳贵敏 | AU46: =($R46*3/10)*0.5/6 -> 1.26 | AV46: 黄金华 | AW46: =($R46*3/10)*0.5/6 -> 1.26 | AX46: 彭丹 | AY46: =($R46*3/10)*0.5/6 -> 1.26 | AZ46: 兰举银 | BA46: =($R46*3/10)*0.5/6 -> 1.26 | BB46: 余英 | BC46: =($R46*3/10)*0.5/6 -> 1.26 | BD46: 彭桦 | BE46: =($R46*3/10)*0.5/6 -> 1.26 | BG46: 岳贵敏 | BH46: =($R46*3/10)*0.5/6 -> 1.26 | BI46: 央宗娜姆 | BJ46: =($R46*3/10)*0.5/6 -> 1.26 | BK46: 彭丹 | BL46: =($R46*3/10)*0.5/6 -> 1.26 | BM46: 兰举银 | BN46: =($R46*3/10)*0.5/6 -> 1.26 | BO46: 余英 | BP46: =($R46*3/10)*0.5/6 -> 1.26 | BQ46: 彭桦 | BR46: =($R46*3/10)*0.5/6 -> 1.26 | BT46: 李志友 | BU46: =($R46*5/10)*0.5/6 -> 2.1 | BV46: 赵云川 | BW46: =($R46*5/10)*0.5/6 -> 2.1 | BX46: 彭丹 | BY46: =($R46*5/10)*0.5/6 -> 2.1 | BZ46: 赵建超 | CA46: =($R46*5/10)*0.5/6 -> 2.1 | CB46: 任吉洪 | CC46: =($R46*5/10)*0.5/6 -> 2.1 | CD46: 张弘 | CE46: =($R46*5/10)*0.5/6 -> 2.1 | CG46: 李志友 | CH46: =($R46*5/10)*0.5/6 -> 2.1 | CI46: 赵云川 | CJ46: =($R46*5/10)*0.5/6 -> 2.1 | CK46: 彭丹 | CL46: =($R46*5/10)*0.5/6 -> 2.1 | CM46: 赵建超 | CN46: =($R46*5/10)*0.5/6 -> 2.1 | CO46: 任吉洪 | CP46: =($R46*5/10)*0.5/6 -> 2.1 | CQ46: 张弘 | CR46: =($R46*5/10)*0.5/6 -> 2.1
A47: 祝玛拉初 | B47: 513422200008086021 | C47: 统招 | D47: 理科 | E47: 1 | F47: 1 | G47: 101 | H47: 96 | I47: 130 | J47: 53.5 | K47: 42 | L47: 60 | M47: =SUM(G47:L47) -> 482.5 | N47: 本科 | O47: =IF(E47>0,IF(N47="本科",(2-E47)*36,-(E47)*36),IF(N47="本科",2*36,0)) -> 36 | Q47: =IF(F47>0,IF(P47="重本",(2-F47)*72,-(F47)*72),IF(P47="重本",2*72,0)) -> -72 | R47: =O47+Q47 -> -36 | T47: 易涛 | U47: =($R47*2/10)*0.5/6 -> -0.6 | V47: 王江 | W47: =($R47*2/10)*0.5/6 -> -0.6 | X47: 雷敏 | Y47: =($R47*2/10)*0.5/6 -> -0.6 | Z47: 兰举银 | AA47: =($R47*2/10)*0.5/6 -> -0.6 | AB47: 余英 | AC47: =($R47*2/10)*0.5/6 -> -0.6 | AD47: 彭桦 | AE47: =($R47*2/10)*0.5/6 -> -0.6 | AG47: 易涛 | AH47: =($R47*2/10)*0.5/6 -> -0.6 | AI47: 王江 | AJ47: =($R47*2/10)*0.5/6 -> -0.6 | AK47: 雷敏 | AL47: =($R47*2/10)*0.5/6 -> -0.6 | AM47: 王友春 | AN47: =($R47*2/10)*0.5/6 -> -0.6 | AO47: 任吉洪 | AP47: =($R47*2/10)*0.5/6 -> -0.6 | AQ47: 彭桦 | AR47: =($R47*2/10)*0.5/6 -> -0.6 | AT47: 易涛 | AU47: =($R47*3/10)*0.5/6 -> -0.9 | AV47: 王江 | AW47: =($R47*3/10)*0.5/6 -> -0.9 | AX47: 雷敏 | AY47: =($R47*3/10)*0.5/6 -> -0.9 | AZ47: 王友春 | BA47: =($R47*3/10)*0.5/6 -> -0.9 | BB47: 任吉洪 | BC47: =($R47*3/10)*0.5/6 -> -0.9 | BD47: 张弘 | BE47: =($R47*3/10)*0.5/6 -> -0.9 | BG47: 易涛 | BH47: =($R47*3/10)*0.5/6 -> -0.9 | BI47: 王江 | BJ47: =($R47*3/10)*0.5/6 -> -0.9 | BK47: 聂艳梅 | BL47: =($R47*3/10)*0.5/6 -> -0.9 | BM47: 王友春 | BN47: =($R47*3/10)*0.5/6 -> -0.9 | BO47: 任吉洪 | BP47: =($R47*3/10)*0.5/6 -> -0.9 | BQ47: 张弘 | BR47: =($R47*3/10)*0.5/6 -> -0.9 | BT47: 杨宗国 | BU47: =($R47*5/10)*0.5/6 -> -1.5 | BV47: 王江 | BW47: =($R47*5/10)*0.5/6 -> -1.5 | BX47: 雷敏 | BY47: =($R47*5/10)*0.5/6 -> -1.5 | BZ47: 兰举银 | CA47: =($R47*5/10)*0.5/6 -> -1.5 | CB47: 余英 | CC47: =($R47*5/10)*0.5/6 -> -1.5 | CD47: 彭桦 | CE47: =($R47*5/10)*0.5/6 -> -1.5 | CG47: 杨宗国 | CH47: =($R47*5/10)*0.5/6 -> -1.5 | CI47: 王江 | CJ47: =($R47*5/10)*0.5/6 -> -1.5 | CK47: 雷敏 | CL47: =($R47*5/10)*0.5/6 -> -1.5 | CM47: 兰举银 | CN47: =($R47*5/10)*0.5/6 -> -1.5 | CO47: 余英 | CP47: =($R47*5/10)*0.5/6 -> -1.5 | CQ47: 彭桦 | CR47: =($R47*5/10)*0.5/6 -> -1.5
A48: 阿呷 | B48: 51342219980120442X | C48: 统招 | D48: 理科 | E48: 0.8 | G48: 97 | H48: 81 | I48: 119 | J48: 65 | K48: 59 | L48: 61.5 | M48: =SUM(G48:L48) -> 482.5 | N48: 本科 | O48: =IF(E48>0,IF(N48="本科",(2-E48)*36,-(E48)*36),IF(N48="本科",2*36,0)) -> 43.2 | Q48: =IF(F48>0,IF(P48="重本",(2-F48)*72,-(F48)*72),IF(P48="重本",2*72,0)) -> 0 | R48: =O48+Q48 -> 43.2 | T48: 岳子琦 | U48: =($R48*2/10)*0.5/6 -> 0.72 | V48: 王江 | W48: =($R48*2/10)*0.5/6 -> 0.72 | X48: 雷敏 | Y48: =($R48*2/10)*0.5/6 -> 0.72 | Z48: 兰举银 | AA48: =($R48*2/10)*0.5/6 -> 0.72 | AB48: 陈文惠 | AC48: =($R48*2/10)*0.5/6 -> 0.72 | AD48: 陆正超 | AE48: =($R48*2/10)*0.5/6 -> 0.72 | AG48: 李正琪 | AH48: =($R48*2/10)*0.5/6 -> 0.72 | AI48: 央宗娜姆 | AJ48: =($R48*2/10)*0.5/6 -> 0.72 | AK48: 周凯 | AL48: =($R48*2/10)*0.5/6 -> 0.72 | AM48: 兰举银 | AN48: =($R48*2/10)*0.5/6 -> 0.72 | AO48: 任吉洪 | AP48: =($R48*2/10)*0.5/6 -> 0.72 | AQ48: 彭桦 | AR48: =($R48*2/10)*0.5/6 -> 0.72 | AT48: 李正琪 | AU48: =($R48*3/10)*0.5/6 -> 1.08 | AV48: 黄金华 | AW48: =($R48*3/10)*0.5/6 -> 1.08 | AX48: 周凯 | AY48: =($R48*3/10)*0.5/6 -> 1.08 | AZ48: 赵建超 | BA48: =($R48*3/10)*0.5/6 -> 1.08 | BB48: 任吉洪 | BC48: =($R48*3/10)*0.5/6 -> 1.08 | BD48: 张弘 | BE48: =($R48*3/10)*0.5/6 -> 1.08 | BG48: 李正琪 | BH48: =($R48*3/10)*0.5/6 -> 1.08 | BI48: 央宗娜姆 | BJ48: =($R48*3/10)*0.5/6 -> 1.08 | BK48: 周凯 | BL48: =($R48*3/10)*0.5/6 -> 1.08 | BM48: 赵建超 | BN48: =($R48*3/10)*0.5/6 -> 1.08 | BO48: 任吉洪 | BP48: =($R48*3/10)*0.5/6 -> 1.08 | BQ48: 张弘 | BR48: =($R48*3/10)*0.5/6 -> 1.08 | BT48: 易涛 | BU48: =($R48*5/10)*0.5/6 -> 1.8 | BV48: 央宗娜姆 | BW48: =($R48*5/10)*0.5/6 -> 1.8 | BX48: 周凯 | BY48: =($R48*5/10)*0.5/6 -> 1.8 | BZ48: 赵建超 | CA48: =($R48*5/10)*0.5/6 -> 1.8 | CB48: 任吉洪 | CC48: =($R48*5/10)*0.5/6 -> 1.8 | CD48: 张弘 | CE48: =($R48*5/10)*0.5/6 -> 1.8 | CG48: 易涛 | CH48: =($R48*5/10)*0.5/6 -> 1.8 | CI48: 央宗娜姆 | CJ48: =($R48*5/10)*0.5/6 -> 1.8 | CK48: 周凯 | CL48: =($R48*5/10)*0.5/6 -> 1.8 | CM48: 赵建超 | CN48: =($R48*5/10)*0.5/6 -> 1.8 | CO48: 任吉洪 | CP48: =($R48*5/10)*0.5/6 -> 1.8 | CQ48: 张弘 | CR48: =($R48*5/10)*0.5/6 -> 1.8
A49: 瞿海蓉 | B49: 513422200109080040 | C49: 统招 | D49: 理科 | E49: 0.8 | G49: 97 | H49: 99 | I49: 123 | J49: 51 | K49: 63 | L49: 49 | M49: =SUM(G49:L49) -> 482 | N49: 本科 | O49: =IF(E49>0,IF(N49="本科",(2-E49)*36,-(E49)*36),IF(N49="本科",2*36,0)) -> 43.2 | Q49: =IF(F49>0,IF(P49="重本",(2-F49)*72,-(F49)*72),IF(P49="重本",2*72,0)) -> 0 | R49: =O49+Q49 -> 43.2 | T49: 易涛 | U49: =($R49*2/10)*0.5/6 -> 0.72 | V49: 王江 | W49: =($R49*2/10)*0.5/6 -> 0.72 | X49: 雷敏 | Y49: =($R49*2/10)*0.5/6 -> 0.72 | Z49: 兰举银 | AA49: =($R49*2/10)*0.5/6 -> 0.72 | AB49: 余英 | AC49: =($R49*2/10)*0.5/6 -> 0.72 | AD49: 彭桦 | AE49: =($R49*2/10)*0.5/6 -> 0.72 | AG49: 易涛 | AH49: =($R49*2/10)*0.5/6 -> 0.72 | AI49: 王江 | AJ49: =($R49*2/10)*0.5/6 -> 0.72 | AK49: 雷敏 | AL49: =($R49*2/10)*0.5/6 -> 0.72 | AM49: 王友春 | AN49: =($R49*2/10)*0.5/6 -> 0.72 | AO49: 余英 | AP49: =($R49*2/10)*0.5/6 -> 0.72 | AQ49: 辜英琼 | AR49: =($R49*2/10)*0.5/6 -> 0.72 | AT49: 易涛 | AU49: =($R49*3/10)*0.5/6 -> 1.08 | AV49: 王江 | AW49: =($R49*3/10)*0.5/6 -> 1.08 | AX49: 雷敏 | AY49: =($R49*3/10)*0.5/6 -> 1.08 | AZ49: 兰举银 | BA49: =($R49*3/10)*0.5/6 -> 1.08 | BB49: 任吉洪 | BC49: =($R49*3/10)*0.5/6 -> 1.08 | BD49: 彭桦 | BE49: =($R49*3/10)*0.5/6 -> 1.08 | BG49: 易涛 | BH49: =($R49*3/10)*0.5/6 -> 1.08 | BI49: 王江 | BJ49: =($R49*3/10)*0.5/6 -> 1.08 | BK49: 聂艳梅 | BL49: =($R49*3/10)*0.5/6 -> 1.08 | BM49: 兰举银 | BN49: =($R49*3/10)*0.5/6 -> 1.08 | BO49: 任吉洪 | BP49: =($R49*3/10)*0.5/6 -> 1.08 | BQ49: 彭桦 | BR49: =($R49*3/10)*0.5/6 -> 1.08 | BT49: 杨宗国 | BU49: =($R49*5/10)*0.5/6 -> 1.8 | BV49: 王江 | BW49: =($R49*5/10)*0.5/6 -> 1.8 | BX49: 雷敏 | BY49: =($R49*5/10)*0.5/6 -> 1.8 | BZ49: 王友春 | CA49: =($R49*5/10)*0.5/6 -> 1.8 | CB49: 余英 | CC49: =($R49*5/10)*0.5/6 -> 1.8 | CD49: 辜英琼 | CE49: =($R49*5/10)*0.5/6 -> 1.8 | CG49: 杨宗国 | CH49: =($R49*5/10)*0.5/6 -> 1.8 | CI49: 王江 | CJ49: =($R49*5/10)*0.5/6 -> 1.8 | CK49: 雷敏 | CL49: =($R49*5/10)*0.5/6 -> 1.8 | CM49: 王友春 | CN49: =($R49*5/10)*0.5/6 -> 1.8 | CO49: 余英 | CP49: =($R49*5/10)*0.5/6 -> 1.8 | CQ49: 辜英琼 | CR49: =($R49*5/10)*0.5/6 -> 1.8
A50: 泽仁卓玛 | B50: 513422199904204027 | C50: 统招 | D50: 理科 | E50: 1 | G50: 97 | H50: 101 | I50: 109 | J50: 54.5 | K50: 53 | L50: 65.5 | M50: =SUM(G50:L50) -> 480 | N50: 本科 | O50: =IF(E50>0,IF(N50="本科",(2-E50)*36,-(E50)*36),IF(N50="本科",2*36,0)) -> 36 | Q50: =IF(F50>0,IF(P50="重本",(2-F50)*72,-(F50)*72),IF(P50="重本",2*72,0)) -> 0 | R50: =O50+Q50 -> 36 | T50: 岳贵敏 | U50: =($R50*2/10)*0.5/6 -> 0.6 | V50: 央宗娜姆 | W50: =($R50*2/10)*0.5/6 -> 0.6 | X50: 周凯 | Y50: =($R50*2/10)*0.5/6 -> 0.6 | Z50: 赵建超 | AA50: =($R50*2/10)*0.5/6 -> 0.6 | AB50: 任吉洪 | AC50: =($R50*2/10)*0.5/6 -> 0.6 | AD50: 张弘 | AE50: =($R50*2/10)*0.5/6 -> 0.6 | AG50: 岳贵敏 | AH50: =($R50*2/10)*0.5/6 -> 0.6 | AI50: 央宗娜姆 | AJ50: =($R50*2/10)*0.5/6 -> 0.6 | AK50: 周凯 | AL50: =($R50*2/10)*0.5/6 -> 0.6 | AM50: 赵建超 | AN50: =($R50*2/10)*0.5/6 -> 0.6 | AO50: 余英 | AP50: =($R50*2/10)*0.5/6 -> 0.6 | AQ50: 彭桦 | AR50: =($R50*2/10)*0.5/6 -> 0.6 | AT50: 岳贵敏 | AU50: =($R50*3/10)*0.5/6 -> 0.9 | AV50: 黄金华 | AW50: =($R50*3/10)*0.5/6 -> 0.9 | AX50: 周凯 | AY50: =($R50*3/10)*0.5/6 -> 0.9 | AZ50: 赵建超 | BA50: =($R50*3/10)*0.5/6 -> 0.9 | BB50: 任吉洪 | BC50: =($R50*3/10)*0.5/6 -> 0.9 | BD50: 张弘 | BE50: =($R50*3/10)*0.5/6 -> 0.9 | BG50: 岳贵敏 | BH50: =($R50*3/10)*0.5/6 -> 0.9 | BI50: 央宗娜姆 | BJ50: =($R50*3/10)*0.5/6 -> 0.9 | BK50: 周凯 | BL50: =($R50*3/10)*0.5/6 -> 0.9 | BM50: 赵建超 | BN50: =($R50*3/10)*0.5/6 -> 0.9 | BO50: 任吉洪 | BP50: =($R50*3/10)*0.5/6 -> 0.9 | BQ50: 张弘 | BR50: =($R50*3/10)*0.5/6 -> 0.9 | BT50: 易涛 | BU50: =($R50*5/10)*0.5/6 -> 1.5 | BV50: 央宗娜姆 | BW50: =($R50*5/10)*0.5/6 -> 1.5 | BX50: 周凯 | BY50: =($R50*5/10)*0.5/6 -> 1.5 | BZ50: 赵建超 | CA50: =($R50*5/10)*0.5/6 -> 1.5 | CB50: 任吉洪 | CC50: =($R50*5/10)*0.5/6 -> 1.5 | CD50: 张弘 | CE50: =($R50*5/10)*0.5/6 -> 1.5 | CG50: 易涛 | CH50: =($R50*5/10)*0.5/6 -> 1.5 | CI50: 央宗娜姆 | CJ50: =($R50*5/10)*0.5/6 -> 1.5 | CK50: 周凯 | CL50: =($R50*5/10)*0.5/6 -> 1.5 | CM50: 赵建超 | CN50: =($R50*5/10)*0.5/6 -> 1.5 | CO50: 任吉洪 | CP50: =($R50*5/10)*0.5/6 -> 1.5 | CQ50: 张弘 | CR50: =($R50*5/10)*0.5/6 -> 1.5
A51: 次仁拥青 | B51: 513422199911126426 | C51: 统招 | D51: 理科 | E51: 1 | G51: 117 | H51: 73 | I51: 97 | J51: 57.5 | K51: 65.5 | L51: 68.5 | M51: =SUM(G51:L51) -> 478.5 | N51: 本科 | O51: =IF(E51>0,IF(N51="本科",(2-E51)*36,-(E51)*36),IF(N51="本科",2*36,0)) -> 36 | Q51: =IF(F51>0,IF(P51="重本",(2-F51)*72,-(F51)*72),IF(P51="重本",2*72,0)) -> 0 | R51: =O51+Q51 -> 36 | T51: 岳贵敏 | U51: =($R51*2/10)*0.5/6 -> 0.6 | V51: 央宗娜姆 | W51: =($R51*2/10)*0.5/6 -> 0.6 | X51: 周凯 | Y51: =($R51*2/10)*0.5/6 -> 0.6 | Z51: 赵建超 | AA51: =($R51*2/10)*0.5/6 -> 0.6 | AB51: 任吉洪 | AC51: =($R51*2/10)*0.5/6 -> 0.6 | AD51: 张弘 | AE51: =($R51*2/10)*0.5/6 -> 0.6 | AG51: 岳贵敏 | AH51: =($R51*2/10)*0.5/6 -> 0.6 | AI51: 王江 | AJ51: =($R51*2/10)*0.5/6 -> 0.6 | AK51: 彭丹 | AL51: =($R51*2/10)*0.5/6 -> 0.6 | AM51: 赵建超 | AN51: =($R51*2/10)*0.5/6 -> 0.6 | AO51: 余英 | AP51: =($R51*2/10)*0.5/6 -> 0.6 | AQ51: 彭桦 | AR51: =($R51*2/10)*0.5/6 -> 0.6 | AT51: 岳贵敏 | AU51: =($R51*3/10)*0.5/6 -> 0.9 | AV51: 黄金华 | AW51: =($R51*3/10)*0.5/6 -> 0.9 | AX51: 彭丹 | AY51: =($R51*3/10)*0.5/6 -> 0.9 | AZ51: 兰举银 | BA51: =($R51*3/10)*0.5/6 -> 0.9 | BB51: 余英 | BC51: =($R51*3/10)*0.5/6 -> 0.9 | BD51: 彭桦 | BE51: =($R51*3/10)*0.5/6 -> 0.9 | BG51: 岳贵敏 | BH51: =($R51*3/10)*0.5/6 -> 0.9 | BI51: 央宗娜姆 | BJ51: =($R51*3/10)*0.5/6 -> 0.9 | BK51: 彭丹 | BL51: =($R51*3/10)*0.5/6 -> 0.9 | BM51: 兰举银 | BN51: =($R51*3/10)*0.5/6 -> 0.9 | BO51: 余英 | BP51: =($R51*3/10)*0.5/6 -> 0.9 | BQ51: 彭桦 | BR51: =($R51*3/10)*0.5/6 -> 0.9 | BT51: 易涛 | BU51: =($R51*5/10)*0.5/6 -> 1.5 | BV51: 央宗娜姆 | BW51: =($R51*5/10)*0.5/6 -> 1.5 | BX51: 周凯 | BY51: =($R51*5/10)*0.5/6 -> 1.5 | BZ51: 赵建超 | CA51: =($R51*5/10)*0.5/6 -> 1.5 | CB51: 任吉洪 | CC51: =($R51*5/10)*0.5/6 -> 1.5 | CD51: 张弘 | CE51: =($R51*5/10)*0.5/6 -> 1.5 | CG51: 易涛 | CH51: =($R51*5/10)*0.5/6 -> 1.5 | CI51: 央宗娜姆 | CJ51: =($R51*5/10)*0.5/6 -> 1.5 | CK51: 周凯 | CL51: =($R51*5/10)*0.5/6 -> 1.5 | CM51: 赵建超 | CN51: =($R51*5/10)*0.5/6 -> 1.5 | CO51: 任吉洪 | CP51: =($R51*5/10)*0.5/6 -> 1.5 | CQ51: 张弘 | CR51: =($R51*5/10)*0.5/6 -> 1.5
A52: 央青祝玛 | B52: 513422200012140027 | C52: 统招 | D52: 理科 | E52: 1 | G52: 105 | H52: 107 | I52: 101 | J52: 42 | K52: 55 | L52: 65 | M52: =SUM(G52:L52) -> 475 | N52: 本科 | O52: =IF(E52>0,IF(N52="本科",(2-E52)*36,-(E52)*36),IF(N52="本科",2*36,0)) -> 36 | Q52: =IF(F52>0,IF(P52="重本",(2-F52)*72,-(F52)*72),IF(P52="重本",2*72,0)) -> 0 | R52: =O52+Q52 -> 36 | T52: 岳贵敏 | U52: =($R52*2/10)*0.5/6 -> 0.6 | V52: 央宗娜姆 | W52: =($R52*2/10)*0.5/6 -> 0.6 | X52: 周凯 | Y52: =($R52*2/10)*0.5/6 -> 0.6 | Z52: 赵建超 | AA52: =($R52*2/10)*0.5/6 -> 0.6 | AB52: 任吉洪 | AC52: =($R52*2/10)*0.5/6 -> 0.6 | AD52: 张弘 | AE52: =($R52*2/10)*0.5/6 -> 0.6 | AG52: 岳贵敏 | AH52: =($R52*2/10)*0.5/6 -> 0.6 | AI52: 央宗娜姆 | AJ52: =($R52*2/10)*0.5/6 -> 0.6 | AK52: 雷敏 | AL52: =($R52*2/10)*0.5/6 -> 0.6 | AM52: 王友春 | AN52: =($R52*2/10)*0.5/6 -> 0.6 | AO52: 任吉洪 | AP52: =($R52*2/10)*0.5/6 -> 0.6 | AQ52: 彭桦 | AR52: =($R52*2/10)*0.5/6 -> 0.6 | AT52: 易涛 | AU52: =($R52*3/10)*0.5/6 -> 0.9 | AV52: 王江 | AW52: =($R52*3/10)*0.5/6 -> 0.9 | AX52: 雷敏 | AY52: =($R52*3/10)*0.5/6 -> 0.9 | AZ52: 王友春 | BA52: =($R52*3/10)*0.5/6 -> 0.9 | BB52: 任吉洪 | BC52: =($R52*3/10)*0.5/6 -> 0.9 | BD52: 张弘 | BE52: =($R52*3/10)*0.5/6 -> 0.9 | BG52: 易涛 | BH52: =($R52*3/10)*0.5/6 -> 0.9 | BI52: 王江 | BJ52: =($R52*3/10)*0.5/6 -> 0.9 | BK52: 聂艳梅 | BL52: =($R52*3/10)*0.5/6 -> 0.9 | BM52: 王友春 | BN52: =($R52*3/10)*0.5/6 -> 0.9 | BO52: 任吉洪 | BP52: =($R52*3/10)*0.5/6 -> 0.9 | BQ52: 张弘 | BR52: =($R52*3/10)*0.5/6 -> 0.9 | BT52: 易涛 | BU52: =($R52*5/10)*0.5/6 -> 1.5 | BV52: 央宗娜姆 | BW52: =($R52*5/10)*0.5/6 -> 1.5 | BX52: 周凯 | BY52: =($R52*5/10)*0.5/6 -> 1.5 | BZ52: 王友春 | CA52: =($R52*5/10)*0.5/6 -> 1.5 | CB52: 余英 | CC52: =($R52*5/10)*0.5/6 -> 1.5 | CD52: 辜英琼 | CE52: =($R52*5/10)*0.5/6 -> 1.5 | CG52: 易涛 | CH52: =($R52*5/10)*0.5/6 -> 1.5 | CI52: 央宗娜姆 | CJ52: =($R52*5/10)*0.5/6 -> 1.5 | CK52: 周凯 | CL52: =($R52*5/10)*0.5/6 -> 1.5 | CM52: 王友春 | CN52: =($R52*5/10)*0.5/6 -> 1.5 | CO52: 余英 | CP52: =($R52*5/10)*0.5/6 -> 1.5 | CQ52: 辜英琼 | CR52: =($R52*5/10)*0.5/6 -> 1.5
A53: 次仁祝玛 | B53: 51342219970706642X | C53: 统招 | D53: 理科 | E53: 1 | G53: 97 | H53: 86 | I53: 130 | J53: 65 | K53: 45 | L53: 49 | M53: =SUM(G53:L53) -> 472 | N53: 本科 | O53: =IF(E53>0,IF(N53="本科",(2-E53)*36,-(E53)*36),IF(N53="本科",2*36,0)) -> 36 | Q53: =IF(F53>0,IF(P53="重本",(2-F53)*72,-(F53)*72),IF(P53="重本",2*72,0)) -> 0 | R53: =O53+Q53 -> 36 | T53: 易涛 | U53: =($R53*2/10)*0.5/6 -> 0.6 | V53: 王江 | W53: =($R53*2/10)*0.5/6 -> 0.6 | X53: 雷敏 | Y53: =($R53*2/10)*0.5/6 -> 0.6 | Z53: 兰举银 | AA53: =($R53*2/10)*0.5/6 -> 0.6 | AB53: 余英 | AC53: =($R53*2/10)*0.5/6 -> 0.6 | AD53: 彭桦 | AE53: =($R53*2/10)*0.5/6 -> 0.6 | AG53: 李正琪 | AH53: =($R53*2/10)*0.5/6 -> 0.6 | AI53: 赵云川 | AJ53: =($R53*2/10)*0.5/6 -> 0.6 | AK53: 雷敏 | AL53: =($R53*2/10)*0.5/6 -> 0.6 | AM53: 王友春 | AN53: =($R53*2/10)*0.5/6 -> 0.6 | AO53: 余英 | AP53: =($R53*2/10)*0.5/6 -> 0.6 | AQ53: 张弘 | AR53: =($R53*2/10)*0.5/6 -> 0.6 | AT53: 李正琪 | AU53: =($R53*3/10)*0.5/6 -> 0.9 | AV53: 赵云川 | AW53: =($R53*3/10)*0.5/6 -> 0.9 | AX53: 周凯 | AY53: =($R53*3/10)*0.5/6 -> 0.9 | AZ53: 王友春 | BA53: =($R53*3/10)*0.5/6 -> 0.9 | BB53: 任吉洪 | BC53: =($R53*3/10)*0.5/6 -> 0.9 | BD53: 张弘 | BE53: =($R53*3/10)*0.5/6 -> 0.9 | BG53: 李正琪 | BH53: =($R53*3/10)*0.5/6 -> 0.9 | BI53: 赵云川 | BJ53: =($R53*3/10)*0.5/6 -> 0.9 | BK53: 周凯 | BL53: =($R53*3/10)*0.5/6 -> 0.9 | BM53: 王友春 | BN53: =($R53*3/10)*0.5/6 -> 0.9 | BO53: 任吉洪 | BP53: =($R53*3/10)*0.5/6 -> 0.9 | BQ53: 张弘 | BR53: =($R53*3/10)*0.5/6 -> 0.9 | BT53: 杨宗国 | BU53: =($R53*5/10)*0.5/6 -> 1.5 | BV53: 王江 | BW53: =($R53*5/10)*0.5/6 -> 1.5 | BX53: 雷敏 | BY53: =($R53*5/10)*0.5/6 -> 1.5 | BZ53: 兰举银 | CA53: =($R53*5/10)*0.5/6 -> 1.5 | CB53: 余英 | CC53: =($R53*5/10)*0.5/6 -> 1.5 | CD53: 彭桦 | CE53: =($R53*5/10)*0.5/6 -> 1.5 | CG53: 杨宗国 | CH53: =($R53*5/10)*0.5/6 -> 1.5 | CI53: 王江 | CJ53: =($R53*5/10)*0.5/6 -> 1.5 | CK53: 雷敏 | CL53: =($R53*5/10)*0.5/6 -> 1.5 | CM53: 兰举银 | CN53: =($R53*5/10)*0.5/6 -> 1.5 | CO53: 余英 | CP53: =($R53*5/10)*0.5/6 -> 1.5 | CQ53: 彭桦 | CR53: =($R53*5/10)*0.5/6 -> 1.5
A54: 扎西次尔 | B54: 513422200002064016 | C54: 统招 | D54: 理科 | E54: 0.9 | G54: 97 | H54: 87 | I54: 99 | J54: 73 | K54: 50 | L54: 65.5 | M54: =SUM(G54:L54) -> 471.5 | N54: 本科 | O54: =IF(E54>0,IF(N54="本科",(2-E54)*36,-(E54)*36),IF(N54="本科",2*36,0)) -> 39.6 | Q54: =IF(F54>0,IF(P54="重本",(2-F54)*72,-(F54)*72),IF(P54="重本",2*72,0)) -> 0 | R54: =O54+Q54 -> 39.6 | T54: 岳贵敏 | U54: =($R54*2/10)*0.5/6 -> 0.66 | V54: 央宗娜姆 | W54: =($R54*2/10)*0.5/6 -> 0.66 | X54: 周凯 | Y54: =($R54*2/10)*0.5/6 -> 0.66 | Z54: 赵建超 | AA54: =($R54*2/10)*0.5/6 -> 0.66 | AB54: 任吉洪 | AC54: =($R54*2/10)*0.5/6 -> 0.66 | AD54: 张弘 | AE54: =($R54*2/10)*0.5/6 -> 0.66 | AG54: 李正琪 | AH54: =($R54*2/10)*0.5/6 -> 0.66 | AI54: 央宗娜姆 | AJ54: =($R54*2/10)*0.5/6 -> 0.66 | AK54: 周凯 | AL54: =($R54*2/10)*0.5/6 -> 0.66 | AM54: 兰举银 | AN54: =($R54*2/10)*0.5/6 -> 0.66 | AO54: 任吉洪 | AP54: =($R54*2/10)*0.5/6 -> 0.66 | AQ54: 彭桦 | AR54: =($R54*2/10)*0.5/6 -> 0.66 | AT54: 易涛 | AU54: =($R54*3/10)*0.5/6 -> 0.99 | AV54: 王江 | AW54: =($R54*3/10)*0.5/6 -> 0.99 | AX54: 雷敏 | AY54: =($R54*3/10)*0.5/6 -> 0.99 | AZ54: 兰举银 | BA54: =($R54*3/10)*0.5/6 -> 0.99 | BB54: 余英 | BC54: =($R54*3/10)*0.5/6 -> 0.99 | BD54: 彭桦 | BE54: =($R54*3/10)*0.5/6 -> 0.99 | BG54: 易涛 | BH54: =($R54*3/10)*0.5/6 -> 0.99 | BI54: 王江 | BJ54: =($R54*3/10)*0.5/6 -> 0.99 | BK54: 聂艳梅 | BL54: =($R54*3/10)*0.5/6 -> 0.99 | BM54: 兰举银 | BN54: =($R54*3/10)*0.5/6 -> 0.99 | BO54: 余英 | BP54: =($R54*3/10)*0.5/6 -> 0.99 | BQ54: 彭桦 | BR54: =($R54*3/10)*0.5/6 -> 0.99 | BT54: 易涛 | BU54: =($R54*5/10)*0.5/6 -> 1.65 | BV54: 央宗娜姆 | BW54: =($R54*5/10)*0.5/6 -> 1.65 | BX54: 周凯 | BY54: =($R54*5/10)*0.5/6 -> 1.65 | BZ54: 赵建超 | CA54: =($R54*5/10)*0.5/6 -> 1.65 | CB54: 任吉洪 | CC54: =($R54*5/10)*0.5/6 -> 1.65 | CD54: 张弘 | CE54: =($R54*5/10)*0.5/6 -> 1.65 | CG54: 易涛 | CH54: =($R54*5/10)*0.5/6 -> 1.65 | CI54: 央宗娜姆 | CJ54: =($R54*5/10)*0.5/6 -> 1.65 | CK54: 周凯 | CL54: =($R54*5/10)*0.5/6 -> 1.65 | CM54: 赵建超 | CN54: =($R54*5/10)*0.5/6 -> 1.65 | CO54: 任吉洪 | CP54: =($R54*5/10)*0.5/6 -> 1.65 | CQ54: 张弘 | CR54: =($R54*5/10)*0.5/6 -> 1.65
A55: 田芳芳 | B55: 513422200110210025 | C55: 统招 | D55: 理科 | E55: 0.8 | G55: 114 | H55: 79 | I55: 112 | J55: 52.5 | K55: 49 | L55: 64.5 | M55: =SUM(G55:L55) -> 471 | N55: 本科 | O55: =IF(E55>0,IF(N55="本科",(2-E55)*36,-(E55)*36),IF(N55="本科",2*36,0)) -> 43.2 | Q55: =IF(F55>0,IF(P55="重本",(2-F55)*72,-(F55)*72),IF(P55="重本",2*72,0)) -> 0 | R55: =O55+Q55 -> 43.2 | T55: 岳贵敏 | U55: =($R55*2/10)*0.5/6 -> 0.72 | V55: 央宗娜姆 | W55: =($R55*2/10)*0.5/6 -> 0.72 | X55: 周凯 | Y55: =($R55*2/10)*0.5/6 -> 0.72 | Z55: 赵建超 | AA55: =($R55*2/10)*0.5/6 -> 0.72 | AB55: 任吉洪 | AC55: =($R55*2/10)*0.5/6 -> 0.72 | AD55: 张弘 | AE55: =($R55*2/10)*0.5/6 -> 0.72 | AG55: 李正琪 | AH55: =($R55*2/10)*0.5/6 -> 0.72 | AI55: 王江 | AJ55: =($R55*2/10)*0.5/6 -> 0.72 | AK55: 雷敏 | AL55: =($R55*2/10)*0.5/6 -> 0.72 | AM55: 王友春 | AN55: =($R55*2/10)*0.5/6 -> 0.72 | AO55: 余英 | AP55: =($R55*2/10)*0.5/6 -> 0.72 | AQ55: 彭桦 | AR55: =($R55*2/10)*0.5/6 -> 0.72 | AT55: 李正琪 | AU55: =($R55*3/10)*0.5/6 -> 1.08 | AV55: 黄金华 | AW55: =($R55*3/10)*0.5/6 -> 1.08 | AX55: 周凯 | AY55: =($R55*3/10)*0.5/6 -> 1.08 | AZ55: 王友春 | BA55: =($R55*3/10)*0.5/6 -> 1.08 | BB55: 余英 | BC55: =($R55*3/10)*0.5/6 -> 1.08 | BD55: 彭桦 | BE55: =($R55*3/10)*0.5/6 -> 1.08 | BG55: 李正琪 | BH55: =($R55*3/10)*0.5/6 -> 1.08 | BI55: 央宗娜姆 | BJ55: =($R55*3/10)*0.5/6 -> 1.08 | BK55: 周凯 | BL55: =($R55*3/10)*0.5/6 -> 1.08 | BM55: 王友春 | BN55: =($R55*3/10)*0.5/6 -> 1.08 | BO55: 余英 | BP55: =($R55*3/10)*0.5/6 -> 1.08 | BQ55: 彭桦 | BR55: =($R55*3/10)*0.5/6 -> 1.08 | BT55: 李志友 | BU55: =($R55*5/10)*0.5/6 -> 1.8 | BV55: 刘宗林 | BW55: =($R55*5/10)*0.5/6 -> 1.8 | BX55: 彭丹 | BY55: =($R55*5/10)*0.5/6 -> 1.8 | BZ55: 赵建超 | CA55: =($R55*5/10)*0.5/6 -> 1.8 | CB55: 任吉洪 | CC55: =($R55*5/10)*0.5/6 -> 1.8 | CD55: 张弘 | CE55: =($R55*5/10)*0.5/6 -> 1.8 | CG55: 李志友 | CH55: =($R55*5/10)*0.5/6 -> 1.8 | CI55: 刘宗林 | CJ55: =($R55*5/10)*0.5/6 -> 1.8 | CK55: 彭丹 | CL55: =($R55*5/10)*0.5/6 -> 1.8 | CM55: 赵建超 | CN55: =($R55*5/10)*0.5/6 -> 1.8 | CO55: 任吉洪 | CP55: =($R55*5/10)*0.5/6 -> 1.8 | CQ55: 张弘 | CR55: =($R55*5/10)*0.5/6 -> 1.8
A56: 鲁绒偏初 | B56: 513422200211023819 | C56: 统招 | D56: 理科 | E56: 0.6 | G56: 94 | H56: 96 | I56: 95 | J56: 78 | K56: 47 | L56: 60.5 | M56: =SUM(G56:L56) -> 470.5 | N56: 本科 | O56: =IF(E56>0,IF(N56="本科",(2-E56)*36,-(E56)*36),IF(N56="本科",2*36,0)) -> 50.4 | Q56: =IF(F56>0,IF(P56="重本",(2-F56)*72,-(F56)*72),IF(P56="重本",2*72,0)) -> 0 | R56: =O56+Q56 -> 50.4 | T56: 岳贵敏 | U56: =($R56*2/10)*0.5/6 -> 0.84 | V56: 央宗娜姆 | W56: =($R56*2/10)*0.5/6 -> 0.84 | X56: 周凯 | Y56: =($R56*2/10)*0.5/6 -> 0.84 | Z56: 赵建超 | AA56: =($R56*2/10)*0.5/6 -> 0.84 | AB56: 任吉洪 | AC56: =($R56*2/10)*0.5/6 -> 0.84 | AD56: 张弘 | AE56: =($R56*2/10)*0.5/6 -> 0.84 | AG56: 李正琪 | AH56: =($R56*2/10)*0.5/6 -> 0.84 | AI56: 央宗娜姆 | AJ56: =($R56*2/10)*0.5/6 -> 0.84 | AK56: 雷敏 | AL56: =($R56*2/10)*0.5/6 -> 0.84 | AM56: 兰举银 | AN56: =($R56*2/10)*0.5/6 -> 0.84 | AO56: 任吉洪 | AP56: =($R56*2/10)*0.5/6 -> 0.84 | AQ56: 彭桦 | AR56: =($R56*2/10)*0.5/6 -> 0.84 | AT56: 李正琪 | AU56: =($R56*3/10)*0.5/6 -> 1.26 | AV56: 黄金华 | AW56: =($R56*3/10)*0.5/6 -> 1.26 | AX56: 雷敏 | AY56: =($R56*3/10)*0.5/6 -> 1.26 | AZ56: 兰举银 | BA56: =($R56*3/10)*0.5/6 -> 1.26 | BB56: 余英 | BC56: =($R56*3/10)*0.5/6 -> 1.26 | BD56: 彭桦 | BE56: =($R56*3/10)*0.5/6 -> 1.26 | BG56: 李正琪 | BH56: =($R56*3/10)*0.5/6 -> 1.26 | BI56: 央宗娜姆 | BJ56: =($R56*3/10)*0.5/6 -> 1.26 | BK56: 周凯 | BL56: =($R56*3/10)*0.5/6 -> 1.26 | BM56: 兰举银 | BN56: =($R56*3/10)*0.5/6 -> 1.26 | BO56: 余英 | BP56: =($R56*3/10)*0.5/6 -> 1.26 | BQ56: 彭桦 | BR56: =($R56*3/10)*0.5/6 -> 1.26 | BT56: 李志友 | BU56: =($R56*5/10)*0.5/6 -> 2.1 | BV56: 赵云川 | BW56: =($R56*5/10)*0.5/6 -> 2.1 | BX56: 彭丹 | BY56: =($R56*5/10)*0.5/6 -> 2.1 | BZ56: 赵建超 | CA56: =($R56*5/10)*0.5/6 -> 2.1 | CB56: 任吉洪 | CC56: =($R56*5/10)*0.5/6 -> 2.1 | CD56: 张弘 | CE56: =($R56*5/10)*0.5/6 -> 2.1 | CG56: 李志友 | CH56: =($R56*5/10)*0.5/6 -> 2.1 | CI56: 赵云川 | CJ56: =($R56*5/10)*0.5/6 -> 2.1 | CK56: 彭丹 | CL56: =($R56*5/10)*0.5/6 -> 2.1 | CM56: 赵建超 | CN56: =($R56*5/10)*0.5/6 -> 2.1 | CO56: 任吉洪 | CP56: =($R56*5/10)*0.5/6 -> 2.1 | CQ56: 张弘 | CR56: =($R56*5/10)*0.5/6 -> 2.1
A57: 苏朗翁丁 | B57: 513422199707156417 | C57: 统招 | D57: 理科 | E57: 1 | G57: 98 | H57: 96 | I57: 99 | J57: 56 | K57: 45 | L57: 74 | M57: =SUM(G57:L57) -> 468 | N57: 本科 | O57: =IF(E57>0,IF(N57="本科",(2-E57)*36,-(E57)*36),IF(N57="本科",2*36,0)) -> 36 | Q57: =IF(F57>0,IF(P57="重本",(2-F57)*72,-(F57)*72),IF(P57="重本",2*72,0)) -> 0 | R57: =O57+Q57 -> 36 | T57: 易涛 | U57: =($R57*2/10)*0.5/6 -> 0.6 | V57: 王江 | W57: =($R57*2/10)*0.5/6 -> 0.6 | X57: 雷敏 | Y57: =($R57*2/10)*0.5/6 -> 0.6 | Z57: 兰举银 | AA57: =($R57*2/10)*0.5/6 -> 0.6 | AB57: 余英 | AC57: =($R57*2/10)*0.5/6 -> 0.6 | AD57: 彭桦 | AE57: =($R57*2/10)*0.5/6 -> 0.6 | AG57: 易涛 | AH57: =($R57*2/10)*0.5/6 -> 0.6 | AI57: 王江 | AJ57: =($R57*2/10)*0.5/6 -> 0.6 | AK57: 雷敏 | AL57: =($R57*2/10)*0.5/6 -> 0.6 | AM57: 赵建超 | AN57: =($R57*2/10)*0.5/6 -> 0.6 | AO57: 余英 | AP57: =($R57*2/10)*0.5/6 -> 0.6 | AQ57: 张弘 | AR57: =($R57*2/10)*0.5/6 -> 0.6 | AT57: 易涛 | AU57: =($R57*3/10)*0.5/6 -> 0.9 | AV57: 王江 | AW57: =($R57*3/10)*0.5/6 -> 0.9 | AX57: 雷敏 | AY57: =($R57*3/10)*0.5/6 -> 0.9 | AZ57: 兰举银 | BA57: =($R57*3/10)*0.5/6 -> 0.9 | BB57: 余英 | BC57: =($R57*3/10)*0.5/6 -> 0.9 | BD57: 彭桦 | BE57: =($R57*3/10)*0.5/6 -> 0.9 | BG57: 易涛 | BH57: =($R57*3/10)*0.5/6 -> 0.9 | BI57: 王江 | BJ57: =($R57*3/10)*0.5/6 -> 0.9 | BK57: 聂艳梅 | BL57: =($R57*3/10)*0.5/6 -> 0.9 | BM57: 兰举银 | BN57: =($R57*3/10)*0.5/6 -> 0.9 | BO57: 余英 | BP57: =($R57*3/10)*0.5/6 -> 0.9 | BQ57: 彭桦 | BR57: =($R57*3/10)*0.5/6 -> 0.9 | BT57: 杨宗国 | BU57: =($R57*5/10)*0.5/6 -> 1.5 | BV57: 王江 | BW57: =($R57*5/10)*0.5/6 -> 1.5 | BX57: 雷敏 | BY57: =($R57*5/10)*0.5/6 -> 1.5 | BZ57: 兰举银 | CA57: =($R57*5/10)*0.5/6 -> 1.5 | CB57: 余英 | CC57: =($R57*5/10)*0.5/6 -> 1.5 | CD57: 彭桦 | CE57: =($R57*5/10)*0.5/6 -> 1.5 | CG57: 杨宗国 | CH57: =($R57*5/10)*0.5/6 -> 1.5 | CI57: 王江 | CJ57: =($R57*5/10)*0.5/6 -> 1.5 | CK57: 雷敏 | CL57: =($R57*5/10)*0.5/6 -> 1.5 | CM57: 兰举银 | CN57: =($R57*5/10)*0.5/6 -> 1.5 | CO57: 余英 | CP57: =($R57*5/10)*0.5/6 -> 1.5 | CQ57: 彭桦 | CR57: =($R57*5/10)*0.5/6 -> 1.5
A58: 沈顺安 | B58: 513422200005030911 | C58: 统招 | D58: 理科 | G58: 94 | H58: 96 | I58: 83 | J58: 62 | K58: 73 | L58: 60 | M58: =SUM(G58:L58) -> 468 | N58: 本科 | O58: =IF(E58>0,IF(N58="本科",(2-E58)*36,-(E58)*36),IF(N58="本科",2*36,0)) -> 72 | Q58: =IF(F58>0,IF(P58="重本",(2-F58)*72,-(F58)*72),IF(P58="重本",2*72,0)) -> 0 | R58: =O58+Q58 -> 72 | T58: 岳子琦 | U58: =($R58*2/10)*0.5/6 -> 1.2 | V58: 王江 | W58: =($R58*2/10)*0.5/6 -> 1.2 | X58: 雷敏 | Y58: =($R58*2/10)*0.5/6 -> 1.2 | Z58: 兰举银 | AA58: =($R58*2/10)*0.5/6 -> 1.2 | AB58: 陈文惠 | AC58: =($R58*2/10)*0.5/6 -> 1.2 | AD58: 陆正超 | AE58: =($R58*2/10)*0.5/6 -> 1.2 | AG58: 李志友 | AH58: =($R58*2/10)*0.5/6 -> 1.2 | AI58: 赵云川 | AJ58: =($R58*2/10)*0.5/6 -> 1.2 | AK58: 张翠莲 | AL58: =($R58*2/10)*0.5/6 -> 1.2 | AM58: 王友春 | AN58: =($R58*2/10)*0.5/6 -> 1.2 | AO58: 余英 | AP58: =($R58*2/10)*0.5/6 -> 1.2 | AQ58: 彭桦 | AR58: =($R58*2/10)*0.5/6 -> 1.2 | AT58: 李志友 | AU58: =($R58*3/10)*0.5/6 -> 1.8 | AV58: 赵云川 | AW58: =($R58*3/10)*0.5/6 -> 1.8 | AX58: 周凯 | AY58: =($R58*3/10)*0.5/6 -> 1.8 | AZ58: 王友春 | BA58: =($R58*3/10)*0.5/6 -> 1.8 | BB58: 余英 | BC58: =($R58*3/10)*0.5/6 -> 1.8 | BD58: 张弘 | BE58: =($R58*3/10)*0.5/6 -> 1.8 | BG58: 李志友 | BH58: =($R58*3/10)*0.5/6 -> 1.8 | BI58: 赵云川 | BJ58: =($R58*3/10)*0.5/6 -> 1.8 | BK58: 周凯 | BL58: =($R58*3/10)*0.5/6 -> 1.8 | BM58: 王友春 | BN58: =($R58*3/10)*0.5/6 -> 1.8 | BO58: 余英 | BP58: =($R58*3/10)*0.5/6 -> 1.8 | BQ58: 张弘 | BR58: =($R58*3/10)*0.5/6 -> 1.8 | BT58: 李志友 | BU58: =($R58*5/10)*0.5/6 -> 3 | BV58: 刘宗林 | BW58: =($R58*5/10)*0.5/6 -> 3 | BX58: 雷敏 | BY58: =($R58*5/10)*0.5/6 -> 3 | BZ58: 赵建超 | CA58: =($R58*5/10)*0.5/6 -> 3 | CB58: 任吉洪 | CC58: =($R58*5/10)*0.5/6 -> 3 | CD58: 张弘 | CE58: =($R58*5/10)*0.5/6 -> 3 | CG58: 李志友 | CH58: =($R58*5/10)*0.5/6 -> 3 | CI58: 刘宗林 | CJ58: =($R58*5/10)*0.5/6 -> 3 | CK58: 雷敏 | CL58: =($R58*5/10)*0.5/6 -> 3 | CM58: 赵建超 | CN58: =($R58*5/10)*0.5/6 -> 3 | CO58: 任吉洪 | CP58: =($R58*5/10)*0.5/6 -> 3 | CQ58: 张弘 | CR58: =($R58*5/10)*0.5/6 -> 3
A59: 俞平健 | B59: 513422199910202730 | C59: 统招 | D59: 理科 | E59: 0.9 | G59: 106 | H59: 102 | I59: 85 | J59: 69 | K59: 42.5 | L59: 63 | M59: =SUM(G59:L59) -> 467.5 | N59: 本科 | O59: =IF(E59>0,IF(N59="本科",(2-E59)*36,-(E59)*36),IF(N59="本科",2*36,0)) -> 39.6 | Q59: =IF(F59>0,IF(P59="重本",(2-F59)*72,-(F59)*72),IF(P59="重本",2*72,0)) -> 0 | R59: =O59+Q59 -> 39.6 | T59: 易涛 | U59: =($R59*2/10)*0.5/6 -> 0.66 | V59: 王江 | W59: =($R59*2/10)*0.5/6 -> 0.66 | X59: 雷敏 | Y59: =($R59*2/10)*0.5/6 -> 0.66 | Z59: 兰举银 | AA59: =($R59*2/10)*0.5/6 -> 0.66 | AB59: 余英 | AC59: =($R59*2/10)*0.5/6 -> 0.66 | AD59: 彭桦 | AE59: =($R59*2/10)*0.5/6 -> 0.66 | AG59: 易涛 | AH59: =($R59*2/10)*0.5/6 -> 0.66 | AI59: 央宗娜姆 | AJ59: =($R59*2/10)*0.5/6 -> 0.66 | AK59: 雷敏 | AL59: =($R59*2/10)*0.5/6 -> 0.66 | AM59: 赵建超 | AN59: =($R59*2/10)*0.5/6 -> 0.66 | AO59: 余英 | AP59: =($R59*2/10)*0.5/6 -> 0.66 | AQ59: 辜英琼 | AR59: =($R59*2/10)*0.5/6 -> 0.66 | AT59: 易涛 | AU59: =($R59*3/10)*0.5/6 -> 0.99 | AV59: 黄金华 | AW59: =($R59*3/10)*0.5/6 -> 0.99 | AX59: 周凯 | AY59: =($R59*3/10)*0.5/6 -> 0.99 | AZ59: 赵建超 | BA59: =($R59*3/10)*0.5/6 -> 0.99 | BB59: 任吉洪 | BC59: =($R59*3/10)*0.5/6 -> 0.99 | BD59: 辜英琼 | BE59: =($R59*3/10)*0.5/6 -> 0.99 | BG59: 易涛 | BH59: =($R59*3/10)*0.5/6 -> 0.99 | BI59: 央宗娜姆 | BJ59: =($R59*3/10)*0.5/6 -> 0.99 | BK59: 周凯 | BL59: =($R59*3/10)*0.5/6 -> 0.99 | BM59: 赵建超 | BN59: =($R59*3/10)*0.5/6 -> 0.99 | BO59: 任吉洪 | BP59: =($R59*3/10)*0.5/6 -> 0.99 | BQ59: 辜英琼 | BR59: =($R59*3/10)*0.5/6 -> 0.99 | BT59: 杨宗国 | BU59: =($R59*5/10)*0.5/6 -> 1.65 | BV59: 王江 | BW59: =($R59*5/10)*0.5/6 -> 1.65 | BX59: 雷敏 | BY59: =($R59*5/10)*0.5/6 -> 1.65 | BZ59: 兰举银 | CA59: =($R59*5/10)*0.5/6 -> 1.65 | CB59: 余英 | CC59: =($R59*5/10)*0.5/6 -> 1.65 | CD59: 彭桦 | CE59: =($R59*5/10)*0.5/6 -> 1.65 | CG59: 杨宗国 | CH59: =($R59*5/10)*0.5/6 -> 1.65 | CI59: 王江 | CJ59: =($R59*5/10)*0.5/6 -> 1.65 | CK59: 雷敏 | CL59: =($R59*5/10)*0.5/6 -> 1.65 | CM59: 兰举银 | CN59: =($R59*5/10)*0.5/6 -> 1.65 | CO59: 余英 | CP59: =($R59*5/10)*0.5/6 -> 1.65 | CQ59: 彭桦 | CR59: =($R59*5/10)*0.5/6 -> 1.65
A60: 贾比哈 | B60: 513422200101084418 | C60: 统招 | D60: 理科 | G60: 117 | H60: 78 | I60: 93 | J60: 60 | K60: 51 | L60: 68 | M60: =SUM(G60:L60) -> 467 | N60: 本科 | O60: =IF(E60>0,IF(N60="本科",(2-E60)*36,-(E60)*36),IF(N60="本科",2*36,0)) -> 72 | Q60: =IF(F60>0,IF(P60="重本",(2-F60)*72,-(F60)*72),IF(P60="重本",2*72,0)) -> 0 | R60: =O60+Q60 -> 72 | T60: 岳贵敏 | U60: =($R60*2/10)*0.5/6 -> 1.2 | V60: 央宗娜姆 | W60: =($R60*2/10)*0.5/6 -> 1.2 | X60: 周凯 | Y60: =($R60*2/10)*0.5/6 -> 1.2 | Z60: 王友春 | AA60: =($R60*2/10)*0.5/6 -> 1.2 | AB60: 陈文惠 | AC60: =($R60*2/10)*0.5/6 -> 1.2 | AD60: 陈文惠 | AE60: =($R60*2/10)*0.5/6 -> 1.2 | AG60: 岳贵敏 | AH60: =($R60*2/10)*0.5/6 -> 1.2 | AI60: 赵云川 | AJ60: =($R60*2/10)*0.5/6 -> 1.2 | AK60: 彭丹 | AL60: =($R60*2/10)*0.5/6 -> 1.2 | AM60: 兰举银 | AN60: =($R60*2/10)*0.5/6 -> 1.2 | AO60: 郑富全 | AP60: =($R60*2/10)*0.5/6 -> 1.2 | AQ60: 辜英琼 | AR60: =($R60*2/10)*0.5/6 -> 1.2 | AT60: 岳贵敏 | AU60: =($R60*3/10)*0.5/6 -> 1.8 | AV60: 赵云川 | AW60: =($R60*3/10)*0.5/6 -> 1.8 | AX60: 彭丹 | AY60: =($R60*3/10)*0.5/6 -> 1.8 | AZ60: 赵建超 | BA60: =($R60*3/10)*0.5/6 -> 1.8 | BB60: 郑富全 | BC60: =($R60*3/10)*0.5/6 -> 1.8 | BD60: 辜英琼 | BE60: =($R60*3/10)*0.5/6 -> 1.8 | BG60: 岳贵敏 | BH60: =($R60*3/10)*0.5/6 -> 1.8 | BI60: 赵云川 | BJ60: =($R60*3/10)*0.5/6 -> 1.8 | BK60: 彭丹 | BL60: =($R60*3/10)*0.5/6 -> 1.8 | BM60: 赵建超 | BN60: =($R60*3/10)*0.5/6 -> 1.8 | BO60: 郑富全 | BP60: =($R60*3/10)*0.5/6 -> 1.8 | BQ60: 辜英琼 | BR60: =($R60*3/10)*0.5/6 -> 1.8 | BT60: 李志友 | BU60: =($R60*5/10)*0.5/6 -> 3 | BV60: 赵云川 | BW60: =($R60*5/10)*0.5/6 -> 3 | BX60: 彭丹 | BY60: =($R60*5/10)*0.5/6 -> 3 | BZ60: 宋加友 | CA60: =($R60*5/10)*0.5/6 -> 3 | CB60: 郑富全 | CC60: =($R60*5/10)*0.5/6 -> 3 | CD60: 彭桦 | CE60: =($R60*5/10)*0.5/6 -> 3 | CG60: 李志友 | CH60: =($R60*5/10)*0.5/6 -> 3 | CI60: 赵云川 | CJ60: =($R60*5/10)*0.5/6 -> 3 | CK60: 彭丹 | CL60: =($R60*5/10)*0.5/6 -> 3 | CM60: 宋加友 | CN60: =($R60*5/10)*0.5/6 -> 3 | CO60: 郑富全 | CP60: =($R60*5/10)*0.5/6 -> 3 | CQ60: 彭桦 | CR60: =($R60*5/10)*0.5/6 -> 3
A61: 鲁伍几 | B61: 513422199911201529 | C61: 统招 | D61: 理科 | E61: 0.9 | G61: 91 | H61: 87 | I61: 117 | J61: 46.5 | K61: 56 | L61: 69 | M61: =SUM(G61:L61) -> 466.5 | N61: 本科 | O61: =IF(E61>0,IF(N61="本科",(2-E61)*36,-(E61)*36),IF(N61="本科",2*36,0)) -> 39.6 | Q61: =IF(F61>0,IF(P61="重本",(2-F61)*72,-(F61)*72),IF(P61="重本",2*72,0)) -> 0 | R61: =O61+Q61 -> 39.6 | T61: 易涛 | U61: =($R61*2/10)*0.5/6 -> 0.66 | V61: 王江 | W61: =($R61*2/10)*0.5/6 -> 0.66 | X61: 雷敏 | Y61: =($R61*2/10)*0.5/6 -> 0.66 | Z61: 兰举银 | AA61: =($R61*2/10)*0.5/6 -> 0.66 | AB61: 余英 | AC61: =($R61*2/10)*0.5/6 -> 0.66 | AD61: 彭桦 | AE61: =($R61*2/10)*0.5/6 -> 0.66 | AG61: 易涛 | AH61: =($R61*2/10)*0.5/6 -> 0.66 | AI61: 央宗娜姆 | AJ61: =($R61*2/10)*0.5/6 -> 0.66 | AK61: 周凯 | AL61: =($R61*2/10)*0.5/6 -> 0.66 | AM61: 赵建超 | AN61: =($R61*2/10)*0.5/6 -> 0.66 | AO61: 余英 | AP61: =($R61*2/10)*0.5/6 -> 0.66 | AQ61: 辜英琼 | AR61: =($R61*2/10)*0.5/6 -> 0.66 | AT61: 易涛 | AU61: =($R61*3/10)*0.5/6 -> 0.99 | AV61: 王江 | AW61: =($R61*3/10)*0.5/6 -> 0.99 | AX61: 雷敏 | AY61: =($R61*3/10)*0.5/6 -> 0.99 | AZ61: 赵建超 | BA61: =($R61*3/10)*0.5/6 -> 0.99 | BB61: 任吉洪 | BC61: =($R61*3/10)*0.5/6 -> 0.99 | BD61: 辜英琼 | BE61: =($R61*3/10)*0.5/6 -> 0.99 | BG61: 易涛 | BH61: =($R61*3/10)*0.5/6 -> 0.99 | BI61: 王江 | BJ61: =($R61*3/10)*0.5/6 -> 0.99 | BK61: 聂艳梅 | BL61: =($R61*3/10)*0.5/6 -> 0.99 | BM61: 赵建超 | BN61: =($R61*3/10)*0.5/6 -> 0.99 | BO61: 任吉洪 | BP61: =($R61*3/10)*0.5/6 -> 0.99 | BQ61: 辜英琼 | BR61: =($R61*3/10)*0.5/6 -> 0.99 | BT61: 杨宗国 | BU61: =($R61*5/10)*0.5/6 -> 1.65 | BV61: 王江 | BW61: =($R61*5/10)*0.5/6 -> 1.65 | BX61: 雷敏 | BY61: =($R61*5/10)*0.5/6 -> 1.65 | BZ61: 王友春 | CA61: =($R61*5/10)*0.5/6 -> 1.65 | CB61: 余英 | CC61: =($R61*5/10)*0.5/6 -> 1.65 | CD61: 辜英琼 | CE61: =($R61*5/10)*0.5/6 -> 1.65 | CG61: 杨宗国 | CH61: =($R61*5/10)*0.5/6 -> 1.65 | CI61: 王江 | CJ61: =($R61*5/10)*0.5/6 -> 1.65 | CK61: 雷敏 | CL61: =($R61*5/10)*0.5/6 -> 1.65 | CM61: 王友春 | CN61: =($R61*5/10)*0.5/6 -> 1.65 | CO61: 余英 | CP61: =($R61*5/10)*0.5/6 -> 1.65 | CQ61: 辜英琼 | CR61: =($R61*5/10)*0.5/6 -> 1.65
A62: 李史龙 | B62: 513422200104051910 | C62: 统招 | D62: 理科 | E62: 0.5 | G62: 106 | H62: 89 | I62: 107 | J62: 64.5 | K62: 40.5 | L62: 59 | M62: =SUM(G62:L62) -> 466 | N62: 本科 | O62: =IF(E62>0,IF(N62="本科",(2-E62)*36,-(E62)*36),IF(N62="本科",2*36,0)) -> 54 | Q62: =IF(F62>0,IF(P62="重本",(2-F62)*72,-(F62)*72),IF(P62="重本",2*72,0)) -> 0 | R62: =O62+Q62 -> 54 | T62: 岳贵敏 | U62: =($R62*2/10)*0.5/6 -> 0.9 | V62: 央宗娜姆 | W62: =($R62*2/10)*0.5/6 -> 0.9 | X62: 周凯 | Y62: =($R62*2/10)*0.5/6 -> 0.9 | Z62: 王友春 | AA62: =($R62*2/10)*0.5/6 -> 0.9 | AB62: 陈文惠 | AC62: =($R62*2/10)*0.5/6 -> 0.9 | AD62: 陈文惠 | AE62: =($R62*2/10)*0.5/6 -> 0.9 | AG62: 岳子琦 | AH62: =($R62*2/10)*0.5/6 -> 0.9 | AI62: 赵云川 | AJ62: =($R62*2/10)*0.5/6 -> 0.9 | AK62: 雷敏 | AL62: =($R62*2/10)*0.5/6 -> 0.9 | AM62: 王友春 | AN62: =($R62*2/10)*0.5/6 -> 0.9 | AO62: 余英 | AP62: =($R62*2/10)*0.5/6 -> 0.9 | AQ62: 彭桦 | AR62: =($R62*2/10)*0.5/6 -> 0.9 | AT62: 岳子琦 | AU62: =($R62*3/10)*0.5/6 -> 1.35 | AV62: 赵云川 | AW62: =($R62*3/10)*0.5/6 -> 1.35 | AX62: 周凯 | AY62: =($R62*3/10)*0.5/6 -> 1.35 | AZ62: 宋加友 | BA62: =($R62*3/10)*0.5/6 -> 1.35 | BB62: 郑富全 | BC62: =($R62*3/10)*0.5/6 -> 1.35 | BD62: 彭桦 | BE62: =($R62*3/10)*0.5/6 -> 1.35 | BG62: 岳子琦 | BH62: =($R62*3/10)*0.5/6 -> 1.35 | BI62: 赵云川 | BJ62: =($R62*3/10)*0.5/6 -> 1.35 | BK62: 周凯 | BL62: =($R62*3/10)*0.5/6 -> 1.35 | BM62: 宋加友 | BN62: =($R62*3/10)*0.5/6 -> 1.35 | BO62: 郑富全 | BP62: =($R62*3/10)*0.5/6 -> 1.35 | BQ62: 彭桦 | BR62: =($R62*3/10)*0.5/6 -> 1.35 | BT62: 李志友 | BU62: =($R62*5/10)*0.5/6 -> 2.25 | BV62: 赵云川 | BW62: =($R62*5/10)*0.5/6 -> 2.25 | BX62: 彭丹 | BY62: =($R62*5/10)*0.5/6 -> 2.25 | BZ62: 宋加友 | CA62: =($R62*5/10)*0.5/6 -> 2.25 | CB62: 郑富全 | CC62: =($R62*5/10)*0.5/6 -> 2.25 | CD62: 彭桦 | CE62: =($R62*5/10)*0.5/6 -> 2.25 | CG62: 李志友 | CH62: =($R62*5/10)*0.5/6 -> 2.25 | CI62: 赵云川 | CJ62: =($R62*5/10)*0.5/6 -> 2.25 | CK62: 彭丹 | CL62: =($R62*5/10)*0.5/6 -> 2.25 | CM62: 宋加友 | CN62: =($R62*5/10)*0.5/6 -> 2.25 | CO62: 郑富全 | CP62: =($R62*5/10)*0.5/6 -> 2.25 | CQ62: 彭桦 | CR62: =($R62*5/10)*0.5/6 -> 2.25
A63: 公布翁丁 | B63: 513422199610186812 | C63: 统招 | D63: 理科 | E63: 1 | G63: 98 | H63: 89 | I63: 118 | J63: 63 | K63: 52.5 | L63: 44.5 | M63: =SUM(G63:L63) -> 465 | N63: 本科 | O63: =IF(E63>0,IF(N63="本科",(2-E63)*36,-(E63)*36),IF(N63="本科",2*36,0)) -> 36 | Q63: =IF(F63>0,IF(P63="重本",(2-F63)*72,-(F63)*72),IF(P63="重本",2*72,0)) -> 0 | R63: =O63+Q63 -> 36 | T63: 易涛 | U63: =($R63*2/10)*0.5/6 -> 0.6 | V63: 王江 | W63: =($R63*2/10)*0.5/6 -> 0.6 | X63: 雷敏 | Y63: =($R63*2/10)*0.5/6 -> 0.6 | Z63: 兰举银 | AA63: =($R63*2/10)*0.5/6 -> 0.6 | AB63: 余英 | AC63: =($R63*2/10)*0.5/6 -> 0.6 | AD63: 彭桦 | AE63: =($R63*2/10)*0.5/6 -> 0.6 | AG63: 易涛 | AH63: =($R63*2/10)*0.5/6 -> 0.6 | AI63: 央宗娜姆 | AJ63: =($R63*2/10)*0.5/6 -> 0.6 | AK63: 周凯 | AL63: =($R63*2/10)*0.5/6 -> 0.6 | AM63: 王友春 | AN63: =($R63*2/10)*0.5/6 -> 0.6 | AO63: 余英 | AP63: =($R63*2/10)*0.5/6 -> 0.6 | AQ63: 张弘 | AR63: =($R63*2/10)*0.5/6 -> 0.6 | AT63: 易涛 | AU63: =($R63*3/10)*0.5/6 -> 0.9 | AV63: 王江 | AW63: =($R63*3/10)*0.5/6 -> 0.9 | AX63: 雷敏 | AY63: =($R63*3/10)*0.5/6 -> 0.9 | AZ63: 王友春 | BA63: =($R63*3/10)*0.5/6 -> 0.9 | BB63: 任吉洪 | BC63: =($R63*3/10)*0.5/6 -> 0.9 | BD63: 张弘 | BE63: =($R63*3/10)*0.5/6 -> 0.9 | BG63: 易涛 | BH63: =($R63*3/10)*0.5/6 -> 0.9 | BI63: 王江 | BJ63: =($R63*3/10)*0.5/6 -> 0.9 | BK63: 聂艳梅 | BL63: =($R63*3/10)*0.5/6 -> 0.9 | BM63: 王友春 | BN63: =($R63*3/10)*0.5/6 -> 0.9 | BO63: 任吉洪 | BP63: =($R63*3/10)*0.5/6 -> 0.9 | BQ63: 张弘 | BR63: =($R63*3/10)*0.5/6 -> 0.9 | BT63: 杨宗国 | BU63: =($R63*5/10)*0.5/6 -> 1.5 | BV63: 王江 | BW63: =($R63*5/10)*0.5/6 -> 1.5 | BX63: 雷敏 | BY63: =($R63*5/10)*0.5/6 -> 1.5 | BZ63: 兰举银 | CA63: =($R63*5/10)*0.5/6 -> 1.5 | CB63: 余英 | CC63: =($R63*5/10)*0.5/6 -> 1.5 | CD63: 彭桦 | CE63: =($R63*5/10)*0.5/6 -> 1.5 | CG63: 杨宗国 | CH63: =($R63*5/10)*0.5/6 -> 1.5 | CI63: 王江 | CJ63: =($R63*5/10)*0.5/6 -> 1.5 | CK63: 雷敏 | CL63: =($R63*5/10)*0.5/6 -> 1.5 | CM63: 兰举银 | CN63: =($R63*5/10)*0.5/6 -> 1.5 | CO63: 余英 | CP63: =($R63*5/10)*0.5/6 -> 1.5 | CQ63: 彭桦 | CR63: =($R63*5/10)*0.5/6 -> 1.5
A64: 马克布 | B64: 513422199902111310 | C64: 统招 | D64: 理科 | E64: 0.6 | G64: 92 | H64: 107 | I64: 96 | J64: 60.5 | K64: 60 | L64: 46.5 | M64: =SUM(G64:L64) -> 462 | N64: 本科 | O64: =IF(E64>0,IF(N64="本科",(2-E64)*36,-(E64)*36),IF(N64="本科",2*36,0)) -> 50.4 | Q64: =IF(F64>0,IF(P64="重本",(2-F64)*72,-(F64)*72),IF(P64="重本",2*72,0)) -> 0 | R64: =O64+Q64 -> 50.4 | T64: 岳贵敏 | U64: =($R64*2/10)*0.5/6 -> 0.84 | V64: 央宗娜姆 | W64: =($R64*2/10)*0.5/6 -> 0.84 | X64: 周凯 | Y64: =($R64*2/10)*0.5/6 -> 0.84 | Z64: 王友春 | AA64: =($R64*2/10)*0.5/6 -> 0.84 | AB64: 陈文惠 | AC64: =($R64*2/10)*0.5/6 -> 0.84 | AD64: 陈文惠 | AE64: =($R64*2/10)*0.5/6 -> 0.84 | AG64: 李志友 | AH64: =($R64*2/10)*0.5/6 -> 0.84 | AI64: 央宗娜姆 | AJ64: =($R64*2/10)*0.5/6 -> 0.84 | AK64: 雷敏 | AL64: =($R64*2/10)*0.5/6 -> 0.84 | AM64: 兰举银 | AN64: =($R64*2/10)*0.5/6 -> 0.84 | AO64: 任吉洪 | AP64: =($R64*2/10)*0.5/6 -> 0.84 | AQ64: 彭桦 | AR64: =($R64*2/10)*0.5/6 -> 0.84 | AT64: 周菊明 | AU64: =($R64*3/10)*0.5/6 -> 1.26 | AV64: 王江 | AW64: =($R64*3/10)*0.5/6 -> 1.26 | AX64: 雷敏 | AY64: =($R64*3/10)*0.5/6 -> 1.26 | AZ64: 兰举银 | BA64: =($R64*3/10)*0.5/6 -> 1.26 | BB64: 余英 | BC64: =($R64*3/10)*0.5/6 -> 1.26 | BD64: 彭桦 | BE64: =($R64*3/10)*0.5/6 -> 1.26 | BG64: 周菊明 | BH64: =($R64*3/10)*0.5/6 -> 1.26 | BI64: 王江 | BJ64: =($R64*3/10)*0.5/6 -> 1.26 | BK64: 曾春兰 | BL64: =($R64*3/10)*0.5/6 -> 1.26 | BM64: 兰举银 | BN64: =($R64*3/10)*0.5/6 -> 1.26 | BO64: 余英 | BP64: =($R64*3/10)*0.5/6 -> 1.26 | BQ64: 彭桦 | BR64: =($R64*3/10)*0.5/6 -> 1.26 | BT64: 易涛 | BU64: =($R64*5/10)*0.5/6 -> 2.1 | BV64: 央宗娜姆 | BW64: =($R64*5/10)*0.5/6 -> 2.1 | BX64: 周凯 | BY64: =($R64*5/10)*0.5/6 -> 2.1 | BZ64: 赵建超 | CA64: =($R64*5/10)*0.5/6 -> 2.1 | CB64: 任吉洪 | CC64: =($R64*5/10)*0.5/6 -> 2.1 | CD64: 张弘 | CE64: =($R64*5/10)*0.5/6 -> 2.1 | CG64: 易涛 | CH64: =($R64*5/10)*0.5/6 -> 2.1 | CI64: 央宗娜姆 | CJ64: =($R64*5/10)*0.5/6 -> 2.1 | CK64: 周凯 | CL64: =($R64*5/10)*0.5/6 -> 2.1 | CM64: 赵建超 | CN64: =($R64*5/10)*0.5/6 -> 2.1 | CO64: 任吉洪 | CP64: =($R64*5/10)*0.5/6 -> 2.1 | CQ64: 张弘 | CR64: =($R64*5/10)*0.5/6 -> 2.1
A65: 杨超 | B65: 513422199709210915 | C65: 统招 | D65: 理科 | E65: 1 | G65: 90 | H65: 103 | I65: 103 | J65: 57 | K65: 56 | L65: 52.5 | M65: =SUM(G65:L65) -> 461.5 | N65: 本科 | O65: =IF(E65>0,IF(N65="本科",(2-E65)*36,-(E65)*36),IF(N65="本科",2*36,0)) -> 36 | Q65: =IF(F65>0,IF(P65="重本",(2-F65)*72,-(F65)*72),IF(P65="重本",2*72,0)) -> 0 | R65: =O65+Q65 -> 36 | T65: 易涛 | U65: =($R65*2/10)*0.5/6 -> 0.6 | V65: 王江 | W65: =($R65*2/10)*0.5/6 -> 0.6 | X65: 雷敏 | Y65: =($R65*2/10)*0.5/6 -> 0.6 | Z65: 兰举银 | AA65: =($R65*2/10)*0.5/6 -> 0.6 | AB65: 余英 | AC65: =($R65*2/10)*0.5/6 -> 0.6 | AD65: 彭桦 | AE65: =($R65*2/10)*0.5/6 -> 0.6 | AG65: 易涛 | AH65: =($R65*2/10)*0.5/6 -> 0.6 | AI65: 王江 | AJ65: =($R65*2/10)*0.5/6 -> 0.6 | AK65: 彭丹 | AL65: =($R65*2/10)*0.5/6 -> 0.6 | AM65: 赵建超 | AN65: =($R65*2/10)*0.5/6 -> 0.6 | AO65: 余英 | AP65: =($R65*2/10)*0.5/6 -> 0.6 | AQ65: 辜英琼 | AR65: =($R65*2/10)*0.5/6 -> 0.6 | AT65: 岳贵敏 | AU65: =($R65*3/10)*0.5/6 -> 0.9 | AV65: 黄金华 | AW65: =($R65*3/10)*0.5/6 -> 0.9 | AX65: 彭丹 | AY65: =($R65*3/10)*0.5/6 -> 0.9 | AZ65: 赵建超 | BA65: =($R65*3/10)*0.5/6 -> 0.9 | BB65: 任吉洪 | BC65: =($R65*3/10)*0.5/6 -> 0.9 | BD65: 辜英琼 | BE65: =($R65*3/10)*0.5/6 -> 0.9 | BG65: 岳贵敏 | BH65: =($R65*3/10)*0.5/6 -> 0.9 | BI65: 央宗娜姆 | BJ65: =($R65*3/10)*0.5/6 -> 0.9 | BK65: 彭丹 | BL65: =($R65*3/10)*0.5/6 -> 0.9 | BM65: 赵建超 | BN65: =($R65*3/10)*0.5/6 -> 0.9 | BO65: 任吉洪 | BP65: =($R65*3/10)*0.5/6 -> 0.9 | BQ65: 辜英琼 | BR65: =($R65*3/10)*0.5/6 -> 0.9 | BT65: 杨宗国 | BU65: =($R65*5/10)*0.5/6 -> 1.5 | BV65: 王江 | BW65: =($R65*5/10)*0.5/6 -> 1.5 | BX65: 雷敏 | BY65: =($R65*5/10)*0.5/6 -> 1.5 | BZ65: 兰举银 | CA65: =($R65*5/10)*0.5/6 -> 1.5 | CB65: 余英 | CC65: =($R65*5/10)*0.5/6 -> 1.5 | CD65: 彭桦 | CE65: =($R65*5/10)*0.5/6 -> 1.5 | CG65: 杨宗国 | CH65: =($R65*5/10)*0.5/6 -> 1.5 | CI65: 王江 | CJ65: =($R65*5/10)*0.5/6 -> 1.5 | CK65: 雷敏 | CL65: =($R65*5/10)*0.5/6 -> 1.5 | CM65: 兰举银 | CN65: =($R65*5/10)*0.5/6 -> 1.5 | CO65: 余英 | CP65: =($R65*5/10)*0.5/6 -> 1.5 | CQ65: 彭桦 | CR65: =($R65*5/10)*0.5/6 -> 1.5
A66: 伍金当朵 | B66: 513422200107055423 | C66: 统招 | D66: 理科 | E66: 0.7 | G66: 108 | H66: 102 | I66: 119 | J66: 34 | K66: 43.5 | L66: 49.5 | M66: =SUM(G66:L66) -> 456 | O66: =IF(E66>0,IF(N66="本科",(2-E66)*36,-(E66)*36),IF(N66="本科",2*36,0)) -> -25.2 | Q66: =IF(F66>0,IF(P66="重本",(2-F66)*72,-(F66)*72),IF(P66="重本",2*72,0)) -> 0 | R66: =O66+Q66 -> -25.2 | T66: 易涛 | U66: =($R66*2/10)*0.5/6 -> -0.42 | V66: 王江 | W66: =($R66*2/10)*0.5/6 -> -0.42 | X66: 雷敏 | Y66: =($R66*2/10)*0.5/6 -> -0.42 | Z66: 兰举银 | AA66: =($R66*2/10)*0.5/6 -> -0.42 | AB66: 余英 | AC66: =($R66*2/10)*0.5/6 -> -0.42 | AD66: 彭桦 | AE66: =($R66*2/10)*0.5/6 -> -0.42 | AG66: 易涛 | AH66: =($R66*2/10)*0.5/6 -> -0.42 | AI66: 王江 | AJ66: =($R66*2/10)*0.5/6 -> -0.42 | AK66: 雷敏 | AL66: =($R66*2/10)*0.5/6 -> -0.42 | AM66: 兰举银 | AN66: =($R66*2/10)*0.5/6 -> -0.42 | AO66: 余英 | AP66: =($R66*2/10)*0.5/6 -> -0.42 | AQ66: 辜英琼 | AR66: =($R66*2/10)*0.5/6 -> -0.42 | AT66: 易涛 | AU66: =($R66*3/10)*0.5/6 -> -0.63 | AV66: 王江 | AW66: =($R66*3/10)*0.5/6 -> -0.63 | AX66: 雷敏 | AY66: =($R66*3/10)*0.5/6 -> -0.63 | AZ66: 赵建超 | BA66: =($R66*3/10)*0.5/6 -> -0.63 | BB66: 余英 | BC66: =($R66*3/10)*0.5/6 -> -0.63 | BD66: 辜英琼 | BE66: =($R66*3/10)*0.5/6 -> -0.63 | BG66: 易涛 | BH66: =($R66*3/10)*0.5/6 -> -0.63 | BI66: 王江 | BJ66: =($R66*3/10)*0.5/6 -> -0.63 | BK66: 聂艳梅 | BL66: =($R66*3/10)*0.5/6 -> -0.63 | BM66: 赵建超 | BN66: =($R66*3/10)*0.5/6 -> -0.63 | BO66: 余英 | BP66: =($R66*3/10)*0.5/6 -> -0.63 | BQ66: 辜英琼 | BR66: =($R66*3/10)*0.5/6 -> -0.63 | BT66: 杨宗国 | BU66: =($R66*5/10)*0.5/6 -> -1.05 | BV66: 王江 | BW66: =($R66*5/10)*0.5/6 -> -1.05 | BX66: 雷敏 | BY66: =($R66*5/10)*0.5/6 -> -1.05 | BZ66: 兰举银 | CA66: =($R66*5/10)*0.5/6 -> -1.05 | CB66: 余英 | CC66: =($R66*5/10)*0.5/6 -> -1.05 | CD66: 彭桦 | CE66: =($R66*5/10)*0.5/6 -> -1.05 | CG66: 杨宗国 | CH66: =($R66*5/10)*0.5/6 -> -1.05 | CI66: 王江 | CJ66: =($R66*5/10)*0.5/6 -> -1.05 | CK66: 雷敏 | CL66: =($R66*5/10)*0.5/6 -> -1.05 | CM66: 兰举银 | CN66: =($R66*5/10)*0.5/6 -> -1.05 | CO66: 余英 | CP66: =($R66*5/10)*0.5/6 -> -1.05 | CQ66: 彭桦 | CR66: =($R66*5/10)*0.5/6 -> -1.05
A67: 降初祝玛 | B67: 513422200001104020 | C67: 统招 | D67: 理科 | E67: 1 | G67: 94 | H67: 95 | I67: 113 | J67: 51 | K67: 35 | L67: 67.5 | M67: =SUM(G67:L67) -> 455.5 | O67: =IF(E67>0,IF(N67="本科",(2-E67)*36,-(E67)*36),IF(N67="本科",2*36,0)) -> -36 | Q67: =IF(F67>0,IF(P67="重本",(2-F67)*72,-(F67)*72),IF(P67="重本",2*72,0)) -> 0 | R67: =O67+Q67 -> -36 | T67: 易涛 | U67: =($R67*2/10)*0.5/6 -> -0.6 | V67: 王江 | W67: =($R67*2/10)*0.5/6 -> -0.6 | X67: 雷敏 | Y67: =($R67*2/10)*0.5/6 -> -0.6 | Z67: 兰举银 | AA67: =($R67*2/10)*0.5/6 -> -0.6 | AB67: 余英 | AC67: =($R67*2/10)*0.5/6 -> -0.6 | AD67: 彭桦 | AE67: =($R67*2/10)*0.5/6 -> -0.6 | AG67: 易涛 | AH67: =($R67*2/10)*0.5/6 -> -0.6 | AI67: 央宗娜姆 | AJ67: =($R67*2/10)*0.5/6 -> -0.6 | AK67: 周凯 | AL67: =($R67*2/10)*0.5/6 -> -0.6 | AM67: 赵建超 | AN67: =($R67*2/10)*0.5/6 -> -0.6 | AO67: 余英 | AP67: =($R67*2/10)*0.5/6 -> -0.6 | AQ67: 张弘 | AR67: =($R67*2/10)*0.5/6 -> -0.6 | AT67: 易涛 | AU67: =($R67*3/10)*0.5/6 -> -0.9 | AV67: 王江 | AW67: =($R67*3/10)*0.5/6 -> -0.9 | AX67: 雷敏 | AY67: =($R67*3/10)*0.5/6 -> -0.9 | AZ67: 兰举银 | BA67: =($R67*3/10)*0.5/6 -> -0.9 | BB67: 余英 | BC67: =($R67*3/10)*0.5/6 -> -0.9 | BD67: 彭桦 | BE67: =($R67*3/10)*0.5/6 -> -0.9 | BG67: 易涛 | BH67: =($R67*3/10)*0.5/6 -> -0.9 | BI67: 王江 | BJ67: =($R67*3/10)*0.5/6 -> -0.9 | BK67: 聂艳梅 | BL67: =($R67*3/10)*0.5/6 -> -0.9 | BM67: 兰举银 | BN67: =($R67*3/10)*0.5/6 -> -0.9 | BO67: 余英 | BP67: =($R67*3/10)*0.5/6 -> -0.9 | BQ67: 彭桦 | BR67: =($R67*3/10)*0.5/6 -> -0.9 | BT67: 杨宗国 | BU67: =($R67*5/10)*0.5/6 -> -1.5 | BV67: 王江 | BW67: =($R67*5/10)*0.5/6 -> -1.5 | BX67: 雷敏 | BY67: =($R67*5/10)*0.5/6 -> -1.5 | BZ67: 兰举银 | CA67: =($R67*5/10)*0.5/6 -> -1.5 | CB67: 余英 | CC67: =($R67*5/10)*0.5/6 -> -1.5 | CD67: 彭桦 | CE67: =($R67*5/10)*0.5/6 -> -1.5 | CG67: 杨宗国 | CH67: =($R67*5/10)*0.5/6 -> -1.5 | CI67: 王江 | CJ67: =($R67*5/10)*0.5/6 -> -1.5 | CK67: 雷敏 | CL67: =($R67*5/10)*0.5/6 -> -1.5 | CM67: 兰举银 | CN67: =($R67*5/10)*0.5/6 -> -1.5 | CO67: 余英 | CP67: =($R67*5/10)*0.5/6 -> -1.5 | CQ67: 彭桦 | CR67: =($R67*5/10)*0.5/6 -> -1.5
A68: 边玛次尔 | B68: 513422199906014032 | C68: 统招 | D68: 理科 | G68: 93 | H68: 105 | I68: 86 | J68: 60.5 | K68: 61.5 | L68: 47 | M68: =SUM(G68:L68) -> 453 | O68: =IF(E68>0,IF(N68="本科",(2-E68)*36,-(E68)*36),IF(N68="本科",2*36,0)) -> 0 | Q68: =IF(F68>0,IF(P68="重本",(2-F68)*72,-(F68)*72),IF(P68="重本",2*72,0)) -> 0 | R68: =O68+Q68 -> 0 | T68: 岳贵敏 | U68: =($R68*2/10)*0.5/6 -> 0 | V68: 央宗娜姆 | W68: =($R68*2/10)*0.5/6 -> 0 | X68: 周凯 | Y68: =($R68*2/10)*0.5/6 -> 0 | Z68: 王友春 | AA68: =($R68*2/10)*0.5/6 -> 0 | AB68: 陈文惠 | AC68: =($R68*2/10)*0.5/6 -> 0 | AD68: 陈文惠 | AE68: =($R68*2/10)*0.5/6 -> 0 | AG68: 李志友 | AH68: =($R68*2/10)*0.5/6 -> 0 | AI68: 央宗娜姆 | AJ68: =($R68*2/10)*0.5/6 -> 0 | AK68: 雷敏 | AL68: =($R68*2/10)*0.5/6 -> 0 | AM68: 王友春 | AN68: =($R68*2/10)*0.5/6 -> 0 | AO68: 郑富全 | AP68: =($R68*2/10)*0.5/6 -> 0 | AQ68: 辜英琼 | AR68: =($R68*2/10)*0.5/6 -> 0 | AT68: 周菊明 | AU68: =($R68*3/10)*0.5/6 -> 0 | AV68: 王江 | AW68: =($R68*3/10)*0.5/6 -> 0 | AX68: 雷敏 | AY68: =($R68*3/10)*0.5/6 -> 0 | AZ68: 王友春 | BA68: =($R68*3/10)*0.5/6 -> 0 | BB68: 郑富全 | BC68: =($R68*3/10)*0.5/6 -> 0 | BD68: 辜英琼 | BE68: =($R68*3/10)*0.5/6 -> 0 | BG68: 周菊明 | BH68: =($R68*3/10)*0.5/6 -> 0 | BI68: 王江 | BJ68: =($R68*3/10)*0.5/6 -> 0 | BK68: 曾春兰 | BL68: =($R68*3/10)*0.5/6 -> 0 | BM68: 王友春 | BN68: =($R68*3/10)*0.5/6 -> 0 | BO68: 郑富全 | BP68: =($R68*3/10)*0.5/6 -> 0 | BQ68: 辜英琼 | BR68: =($R68*3/10)*0.5/6 -> 0 | BT68: 易涛 | BU68: =($R68*5/10)*0.5/6 -> 0 | BV68: 央宗娜姆 | BW68: =($R68*5/10)*0.5/6 -> 0 | BX68: 周凯 | BY68: =($R68*5/10)*0.5/6 -> 0 | BZ68: 赵建超 | CA68: =($R68*5/10)*0.5/6 -> 0 | CB68: 余英 | CC68: =($R68*5/10)*0.5/6 -> 0 | CD68: 辜英琼 | CE68: =($R68*5/10)*0.5/6 -> 0 | CG68: 易涛 | CH68: =($R68*5/10)*0.5/6 -> 0 | CI68: 央宗娜姆 | CJ68: =($R68*5/10)*0.5/6 -> 0 | CK68: 周凯 | CL68: =($R68*5/10)*0.5/6 -> 0 | CM68: 赵建超 | CN68: =($R68*5/10)*0.5/6 -> 0 | CO68: 余英 | CP68: =($R68*5/10)*0.5/6 -> 0 | CQ68: 辜英琼 | CR68: =($R68*5/10)*0.5/6 -> 0
A69: 仁青拉姆 | B69: 513422199806184827 | C69: 统招 | D69: 理科 | E69: 1 | G69: 94 | H69: 88 | I69: 115 | J69: 57 | K69: 38 | L69: 59.5 | M69: =SUM(G69:L69) -> 451.5 | O69: =IF(E69>0,IF(N69="本科",(2-E69)*36,-(E69)*36),IF(N69="本科",2*36,0)) -> -36 | Q69: =IF(F69>0,IF(P69="重本",(2-F69)*72,-(F69)*72),IF(P69="重本",2*72,0)) -> 0 | R69: =O69+Q69 -> -36 | T69: 易涛 | U69: =($R69*2/10)*0.5/6 -> -0.6 | V69: 王江 | W69: =($R69*2/10)*0.5/6 -> -0.6 | X69: 雷敏 | Y69: =($R69*2/10)*0.5/6 -> -0.6 | Z69: 兰举银 | AA69: =($R69*2/10)*0.5/6 -> -0.6 | AB69: 余英 | AC69: =($R69*2/10)*0.5/6 -> -0.6 | AD69: 彭桦 | AE69: =($R69*2/10)*0.5/6 -> -0.6 | AG69: 易涛 | AH69: =($R69*2/10)*0.5/6 -> -0.6 | AI69: 王江 | AJ69: =($R69*2/10)*0.5/6 -> -0.6 | AK69: 雷敏 | AL69: =($R69*2/10)*0.5/6 -> -0.6 | AM69: 赵建超 | AN69: =($R69*2/10)*0.5/6 -> -0.6 | AO69: 余英 | AP69: =($R69*2/10)*0.5/6 -> -0.6 | AQ69: 辜英琼 | AR69: =($R69*2/10)*0.5/6 -> -0.6 | AT69: 易涛 | AU69: =($R69*3/10)*0.5/6 -> -0.9 | AV69: 王江 | AW69: =($R69*3/10)*0.5/6 -> -0.9 | AX69: 雷敏 | AY69: =($R69*3/10)*0.5/6 -> -0.9 | AZ69: 赵建超 | BA69: =($R69*3/10)*0.5/6 -> -0.9 | BB69: 任吉洪 | BC69: =($R69*3/10)*0.5/6 -> -0.9 | BD69: 辜英琼 | BE69: =($R69*3/10)*0.5/6 -> -0.9 | BG69: 易涛 | BH69: =($R69*3/10)*0.5/6 -> -0.9 | BI69: 王江 | BJ69: =($R69*3/10)*0.5/6 -> -0.9 | BK69: 聂艳梅 | BL69: =($R69*3/10)*0.5/6 -> -0.9 | BM69: 赵建超 | BN69: =($R69*3/10)*0.5/6 -> -0.9 | BO69: 任吉洪 | BP69: =($R69*3/10)*0.5/6 -> -0.9 | BQ69: 辜英琼 | BR69: =($R69*3/10)*0.5/6 -> -0.9 | BT69: 杨宗国 | BU69: =($R69*5/10)*0.5/6 -> -1.5 | BV69: 王江 | BW69: =($R69*5/10)*0.5/6 -> -1.5 | BX69: 雷敏 | BY69: =($R69*5/10)*0.5/6 -> -1.5 | BZ69: 王友春 | CA69: =($R69*5/10)*0.5/6 -> -1.5 | CB69: 余英 | CC69: =($R69*5/10)*0.5/6 -> -1.5 | CD69: 辜英琼 | CE69: =($R69*5/10)*0.5/6 -> -1.5 | CG69: 杨宗国 | CH69: =($R69*5/10)*0.5/6 -> -1.5 | CI69: 王江 | CJ69: =($R69*5/10)*0.5/6 -> -1.5 | CK69: 雷敏 | CL69: =($R69*5/10)*0.5/6 -> -1.5 | CM69: 王友春 | CN69: =($R69*5/10)*0.5/6 -> -1.5 | CO69: 余英 | CP69: =($R69*5/10)*0.5/6 -> -1.5 | CQ69: 辜英琼 | CR69: =($R69*5/10)*0.5/6 -> -1.5
A70: 杨兰卡祝玛 | B70: 513422200009161724 | C70: 统招 | D70: 理科 | G70: 92 | H70: 80 | I70: 103 | J70: 48.5 | K70: 62 | L70: 63 | M70: =SUM(G70:L70) -> 448.5 | O70: =IF(E70>0,IF(N70="本科",(2-E70)*36,-(E70)*36),IF(N70="本科",2*36,0)) -> 0 | Q70: =IF(F70>0,IF(P70="重本",(2-F70)*72,-(F70)*72),IF(P70="重本",2*72,0)) -> 0 | R70: =O70+Q70 -> 0 | T70: 周菊明 | U70: =($R70*2/10)*0.5/6 -> 0 | V70: 徐万雄 | W70: =($R70*2/10)*0.5/6 -> 0 | X70: 张翠莲 | Y70: =($R70*2/10)*0.5/6 -> 0 | Z70: 赵建超 | AA70: =($R70*2/10)*0.5/6 -> 0 | AB70: 余英 | AC70: =($R70*2/10)*0.5/6 -> 0 | AD70: 彭桦 | AE70: =($R70*2/10)*0.5/6 -> 0 | AG70: 李正琪 | AH70: =($R70*2/10)*0.5/6 -> 0 | AI70: 孙文 | AJ70: =($R70*2/10)*0.5/6 -> 0 | AK70: 彭丹 | AL70: =($R70*2/10)*0.5/6 -> 0 | AM70: 宋加友 | AN70: =($R70*2/10)*0.5/6 -> 0 | AO70: 郑富全 | AP70: =($R70*2/10)*0.5/6 -> 0 | AQ70: 辜英琼 | AR70: =($R70*2/10)*0.5/6 -> 0 | AT70: 李正琪 | AU70: =($R70*3/10)*0.5/6 -> 0 | AV70: 孙文 | AW70: =($R70*3/10)*0.5/6 -> 0 | AX70: 彭丹 | AY70: =($R70*3/10)*0.5/6 -> 0 | AZ70: 兰举银 | BA70: =($R70*3/10)*0.5/6 -> 0 | BB70: 郑富全 | BC70: =($R70*3/10)*0.5/6 -> 0 | BD70: 辜英琼 | BE70: =($R70*3/10)*0.5/6 -> 0 | BG70: 李正琪 | BH70: =($R70*3/10)*0.5/6 -> 0 | BI70: 孙文 | BJ70: =($R70*3/10)*0.5/6 -> 0 | BK70: 彭丹 | BL70: =($R70*3/10)*0.5/6 -> 0 | BM70: 兰举银 | BN70: =($R70*3/10)*0.5/6 -> 0 | BO70: 郑富全 | BP70: =($R70*3/10)*0.5/6 -> 0 | BQ70: 辜英琼 | BR70: =($R70*3/10)*0.5/6 -> 0 | BT70: 李志友 | BU70: =($R70*5/10)*0.5/6 -> 0 | BV70: 刘宗林 | BW70: =($R70*5/10)*0.5/6 -> 0 | BX70: 雷敏 | BY70: =($R70*5/10)*0.5/6 -> 0 | BZ70: 宋加友 | CA70: =($R70*5/10)*0.5/6 -> 0 | CB70: 郑富全 | CC70: =($R70*5/10)*0.5/6 -> 0 | CD70: 彭桦 | CE70: =($R70*5/10)*0.5/6 -> 0 | CG70: 李志友 | CH70: =($R70*5/10)*0.5/6 -> 0 | CI70: 刘宗林 | CJ70: =($R70*5/10)*0.5/6 -> 0 | CK70: 雷敏 | CL70: =($R70*5/10)*0.5/6 -> 0 | CM70: 宋加友 | CN70: =($R70*5/10)*0.5/6 -> 0 | CO70: 郑富全 | CP70: =($R70*5/10)*0.5/6 -> 0 | CQ70: 彭桦 | CR70: =($R70*5/10)*0.5/6 -> 0
A71: 沈志友 | B71: 513422199804120512 | C71: 统招 | D71: 理科 | E71: 0.9 | G71: 101 | H71: 69 | I71: 114 | J71: 53 | K71: 45 | L71: 64.5 | M71: =SUM(G71:L71) -> 446.5 | O71: =IF(E71>0,IF(N71="本科",(2-E71)*36,-(E71)*36),IF(N71="本科",2*36,0)) -> -32.4 | Q71: =IF(F71>0,IF(P71="重本",(2-F71)*72,-(F71)*72),IF(P71="重本",2*72,0)) -> 0 | R71: =O71+Q71 -> -32.4 | T71: 易涛 | U71: =($R71*2/10)*0.5/6 -> -0.54 | V71: 王江 | W71: =($R71*2/10)*0.5/6 -> -0.54 | X71: 雷敏 | Y71: =($R71*2/10)*0.5/6 -> -0.54 | Z71: 兰举银 | AA71: =($R71*2/10)*0.5/6 -> -0.54 | AB71: 余英 | AC71: =($R71*2/10)*0.5/6 -> -0.54 | AD71: 彭桦 | AE71: =($R71*2/10)*0.5/6 -> -0.54 | AG71: 易涛 | AH71: =($R71*2/10)*0.5/6 -> -0.54 | AI71: 央宗娜姆 | AJ71: =($R71*2/10)*0.5/6 -> -0.54 | AK71: 周凯 | AL71: =($R71*2/10)*0.5/6 -> -0.54 | AM71: 兰举银 | AN71: =($R71*2/10)*0.5/6 -> -0.54 | AO71: 任吉洪 | AP71: =($R71*2/10)*0.5/6 -> -0.54 | AQ71: 彭桦 | AR71: =($R71*2/10)*0.5/6 -> -0.54 | AT71: 易涛 | AU71: =($R71*3/10)*0.5/6 -> -0.81 | AV71: 王江 | AW71: =($R71*3/10)*0.5/6 -> -0.81 | AX71: 雷敏 | AY71: =($R71*3/10)*0.5/6 -> -0.81 | AZ71: 兰举银 | BA71: =($R71*3/10)*0.5/6 -> -0.81 | BB71: 余英 | BC71: =($R71*3/10)*0.5/6 -> -0.81 | BD71: 彭桦 | BE71: =($R71*3/10)*0.5/6 -> -0.81 | BG71: 易涛 | BH71: =($R71*3/10)*0.5/6 -> -0.81 | BI71: 王江 | BJ71: =($R71*3/10)*0.5/6 -> -0.81 | BK71: 聂艳梅 | BL71: =($R71*3/10)*0.5/6 -> -0.81 | BM71: 兰举银 | BN71: =($R71*3/10)*0.5/6 -> -0.81 | BO71: 余英 | BP71: =($R71*3/10)*0.5/6 -> -0.81 | BQ71: 彭桦 | BR71: =($R71*3/10)*0.5/6 -> -0.81 | BT71: 杨宗国 | BU71: =($R71*5/10)*0.5/6 -> -1.35 | BV71: 王江 | BW71: =($R71*5/10)*0.5/6 -> -1.35 | BX71: 雷敏 | BY71: =($R71*5/10)*0.5/6 -> -1.35 | BZ71: 兰举银 | CA71: =($R71*5/10)*0.5/6 -> -1.35 | CB71: 余英 | CC71: =($R71*5/10)*0.5/6 -> -1.35 | CD71: 彭桦 | CE71: =($R71*5/10)*0.5/6 -> -1.35 | CG71: 杨宗国 | CH71: =($R71*5/10)*0.5/6 -> -1.35 | CI71: 王江 | CJ71: =($R71*5/10)*0.5/6 -> -1.35 | CK71: 雷敏 | CL71: =($R71*5/10)*0.5/6 -> -1.35 | CM71: 兰举银 | CN71: =($R71*5/10)*0.5/6 -> -1.35 | CO71: 余英 | CP71: =($R71*5/10)*0.5/6 -> -1.35 | CQ71: 彭桦 | CR71: =($R71*5/10)*0.5/6 -> -1.35
A72: 央章杜基 | B72: 513422200010155014 | C72: 统招 | D72: 理科 | G72: 94 | H72: 102 | I72: 56 | J72: 71 | K72: 55 | L72: 67.5 | M72: =SUM(G72:L72) -> 445.5 | O72: =IF(E72>0,IF(N72="本科",(2-E72)*36,-(E72)*36),IF(N72="本科",2*36,0)) -> 0 | Q72: =IF(F72>0,IF(P72="重本",(2-F72)*72,-(F72)*72),IF(P72="重本",2*72,0)) -> 0 | R72: =O72+Q72 -> 0 | T72: 岳子琦 | U72: =($R72*2/10)*0.5/6 -> 0 | V72: 王江 | W72: =($R72*2/10)*0.5/6 -> 0 | X72: 雷敏 | Y72: =($R72*2/10)*0.5/6 -> 0 | Z72: 兰举银 | AA72: =($R72*2/10)*0.5/6 -> 0 | AB72: 陈文惠 | AC72: =($R72*2/10)*0.5/6 -> 0 | AD72: 陆正超 | AE72: =($R72*2/10)*0.5/6 -> 0 | AG72: 李正琪 | AH72: =($R72*2/10)*0.5/6 -> 0 | AI72: 央宗娜姆 | AJ72: =($R72*2/10)*0.5/6 -> 0 | AK72: 雷敏 | AL72: =($R72*2/10)*0.5/6 -> 0 | AM72: 王友春 | AN72: =($R72*2/10)*0.5/6 -> 0 | AO72: 郑富全 | AP72: =($R72*2/10)*0.5/6 -> 0 | AQ72: 彭桦 | AR72: =($R72*2/10)*0.5/6 -> 0 | AT72: 李正琪 | AU72: =($R72*3/10)*0.5/6 -> 0 | AV72: 黄金华 | AW72: =($R72*3/10)*0.5/6 -> 0 | AX72: 雷敏 | AY72: =($R72*3/10)*0.5/6 -> 0 | AZ72: 王友春 | BA72: =($R72*3/10)*0.5/6 -> 0 | BB72: 郑富全 | BC72: =($R72*3/10)*0.5/6 -> 0 | BD72: 张弘 | BE72: =($R72*3/10)*0.5/6 -> 0 | BG72: 李正琪 | BH72: =($R72*3/10)*0.5/6 -> 0 | BI72: 央宗娜姆 | BJ72: =($R72*3/10)*0.5/6 -> 0 | BK72: 曾春兰 | BL72: =($R72*3/10)*0.5/6 -> 0 | BM72: 王友春 | BN72: =($R72*3/10)*0.5/6 -> 0 | BO72: 郑富全 | BP72: =($R72*3/10)*0.5/6 -> 0 | BQ72: 张弘 | BR72: =($R72*3/10)*0.5/6 -> 0 | BT72: 杨宗国 | BU72: =($R72*5/10)*0.5/6 -> 0 | BV72: 王江 | BW72: =($R72*5/10)*0.5/6 -> 0 | BX72: 雷敏 | BY72: =($R72*5/10)*0.5/6 -> 0 | BZ72: 兰举银 | CA72: =($R72*5/10)*0.5/6 -> 0 | CB72: 余英 | CC72: =($R72*5/10)*0.5/6 -> 0 | CD72: 彭桦 | CE72: =($R72*5/10)*0.5/6 -> 0 | CG72: 杨宗国 | CH72: =($R72*5/10)*0.5/6 -> 0 | CI72: 王江 | CJ72: =($R72*5/10)*0.5/6 -> 0 | CK72: 雷敏 | CL72: =($R72*5/10)*0.5/6 -> 0 | CM72: 兰举银 | CN72: =($R72*5/10)*0.5/6 -> 0 | CO72: 余英 | CP72: =($R72*5/10)*0.5/6 -> 0 | CQ72: 彭桦 | CR72: =($R72*5/10)*0.5/6 -> 0
A73: 鲁绒克珠 | B73: 513422200009206419 | C73: 统招 | D73: 理科 | E73: 1 | G73: 94 | H73: 83 | I73: 124 | J73: 59.5 | K73: 38 | L73: 46 | M73: =SUM(G73:L73) -> 444.5 | O73: =IF(E73>0,IF(N73="本科",(2-E73)*36,-(E73)*36),IF(N73="本科",2*36,0)) -> -36 | Q73: =IF(F73>0,IF(P73="重本",(2-F73)*72,-(F73)*72),IF(P73="重本",2*72,0)) -> 0 | R73: =O73+Q73 -> -36 | T73: 岳贵敏 | U73: =($R73*2/10)*0.5/6 -> -0.6 | V73: 央宗娜姆 | W73: =($R73*2/10)*0.5/6 -> -0.6 | X73: 周凯 | Y73: =($R73*2/10)*0.5/6 -> -0.6 | Z73: 赵建超 | AA73: =($R73*2/10)*0.5/6 -> -0.6 | AB73: 任吉洪 | AC73: =($R73*2/10)*0.5/6 -> -0.6 | AD73: 张弘 | AE73: =($R73*2/10)*0.5/6 -> -0.6 | AG73: 李正琪 | AH73: =($R73*2/10)*0.5/6 -> -0.6 | AI73: 赵云川 | AJ73: =($R73*2/10)*0.5/6 -> -0.6 | AK73: 雷敏 | AL73: =($R73*2/10)*0.5/6 -> -0.6 | AM73: 赵建超 | AN73: =($R73*2/10)*0.5/6 -> -0.6 | AO73: 余英 | AP73: =($R73*2/10)*0.5/6 -> -0.6 | AQ73: 彭桦 | AR73: =($R73*2/10)*0.5/6 -> -0.6 | AT73: 李正琪 | AU73: =($R73*3/10)*0.5/6 -> -0.9 | AV73: 赵云川 | AW73: =($R73*3/10)*0.5/6 -> -0.9 | AX73: 彭丹 | AY73: =($R73*3/10)*0.5/6 -> -0.9 | AZ73: 王友春 | BA73: =($R73*3/10)*0.5/6 -> -0.9 | BB73: 余英 | BC73: =($R73*3/10)*0.5/6 -> -0.9 | BD73: 彭桦 | BE73: =($R73*3/10)*0.5/6 -> -0.9 | BG73: 李正琪 | BH73: =($R73*3/10)*0.5/6 -> -0.9 | BI73: 赵云川 | BJ73: =($R73*3/10)*0.5/6 -> -0.9 | BK73: 彭丹 | BL73: =($R73*3/10)*0.5/6 -> -0.9 | BM73: 王友春 | BN73: =($R73*3/10)*0.5/6 -> -0.9 | BO73: 余英 | BP73: =($R73*3/10)*0.5/6 -> -0.9 | BQ73: 彭桦 | BR73: =($R73*3/10)*0.5/6 -> -0.9 | BT73: 李志友 | BU73: =($R73*5/10)*0.5/6 -> -1.5 | BV73: 赵云川 | BW73: =($R73*5/10)*0.5/6 -> -1.5 | BX73: 彭丹 | BY73: =($R73*5/10)*0.5/6 -> -1.5 | BZ73: 王友春 | CA73: =($R73*5/10)*0.5/6 -> -1.5 | CB73: 余英 | CC73: =($R73*5/10)*0.5/6 -> -1.5 | CD73: 辜英琼 | CE73: =($R73*5/10)*0.5/6 -> -1.5 | CG73: 李志友 | CH73: =($R73*5/10)*0.5/6 -> -1.5 | CI73: 赵云川 | CJ73: =($R73*5/10)*0.5/6 -> -1.5 | CK73: 彭丹 | CL73: =($R73*5/10)*0.5/6 -> -1.5 | CM73: 王友春 | CN73: =($R73*5/10)*0.5/6 -> -1.5 | CO73: 余英 | CP73: =($R73*5/10)*0.5/6 -> -1.5 | CQ73: 辜英琼 | CR73: =($R73*5/10)*0.5/6 -> -1.5
A74: 邱小华 | B74: 513422200002151515 | C74: 统招 | D74: 理科 | G74: 95 | H74: 83 | I74: 101 | J74: 41.5 | K74: 55 | L74: 66 | M74: =SUM(G74:L74) -> 441.5 | O74: =IF(E74>0,IF(N74="本科",(2-E74)*36,-(E74)*36),IF(N74="本科",2*36,0)) -> 0 | Q74: =IF(F74>0,IF(P74="重本",(2-F74)*72,-(F74)*72),IF(P74="重本",2*72,0)) -> 0 | R74: =O74+Q74 -> 0 | T74: 易涛 | U74: =($R74*2/10)*0.5/6 -> 0 | V74: 周军 | W74: =($R74*2/10)*0.5/6 -> 0 | X74: 彭丹 | Y74: =($R74*2/10)*0.5/6 -> 0 | Z74: 宋加友 | AA74: =($R74*2/10)*0.5/6 -> 0 | AB74: 任吉洪 | AC74: =($R74*2/10)*0.5/6 -> 0 | AD74: 张弘 | AE74: =($R74*2/10)*0.5/6 -> 0 | AG74: 周菊明 | AH74: =($R74*2/10)*0.5/6 -> 0 | AI74: 赵云川 | AJ74: =($R74*2/10)*0.5/6 -> 0 | AK74: 曾佳瑶 | AL74: =($R74*2/10)*0.5/6 -> 0 | AM74: 兰举银 | AN74: =($R74*2/10)*0.5/6 -> 0 | AO74: 郑富全 | AP74: =($R74*2/10)*0.5/6 -> 0 | AQ74: 彭桦 | AR74: =($R74*2/10)*0.5/6 -> 0 | AT74: 李志友 | AU74: =($R74*3/10)*0.5/6 -> 0 | AV74: 赵云川 | AW74: =($R74*3/10)*0.5/6 -> 0 | AX74: 周凯 | AY74: =($R74*3/10)*0.5/6 -> 0 | AZ74: 宋加友 | BA74: =($R74*3/10)*0.5/6 -> 0 | BB74: 郑富全 | BC74: =($R74*3/10)*0.5/6 -> 0 | BD74: 彭桦 | BE74: =($R74*3/10)*0.5/6 -> 0 | BG74: 李志友 | BH74: =($R74*3/10)*0.5/6 -> 0 | BI74: 赵云川 | BJ74: =($R74*3/10)*0.5/6 -> 0 | BK74: 周凯 | BL74: =($R74*3/10)*0.5/6 -> 0 | BM74: 宋加友 | BN74: =($R74*3/10)*0.5/6 -> 0 | BO74: 郑富全 | BP74: =($R74*3/10)*0.5/6 -> 0 | BQ74: 彭桦 | BR74: =($R74*3/10)*0.5/6 -> 0 | BT74: 杨宗国 | BU74: =($R74*5/10)*0.5/6 -> 0 | BV74: 王江 | BW74: =($R74*5/10)*0.5/6 -> 0 | BX74: 雷敏 | BY74: =($R74*5/10)*0.5/6 -> 0 | BZ74: 王友春 | CA74: =($R74*5/10)*0.5/6 -> 0 | CB74: 余英 | CC74: =($R74*5/10)*0.5/6 -> 0 | CD74: 辜英琼 | CE74: =($R74*5/10)*0.5/6 -> 0 | CG74: 杨宗国 | CH74: =($R74*5/10)*0.5/6 -> 0 | CI74: 王江 | CJ74: =($R74*5/10)*0.5/6 -> 0 | CK74: 雷敏 | CL74: =($R74*5/10)*0.5/6 -> 0 | CM74: 王友春 | CN74: =($R74*5/10)*0.5/6 -> 0 | CO74: 余英 | CP74: =($R74*5/10)*0.5/6 -> 0 | CQ74: 辜英琼 | CR74: =($R74*5/10)*0.5/6 -> 0
A75: 严马其莫 | B75: 513422200009132923 | C75: 统招 | D75: 理科 | G75: 104 | H75: 74 | I75: 116 | J75: 41.5 | K75: 53 | L75: 53 | M75: =SUM(G75:L75) -> 441.5 | O75: =IF(E75>0,IF(N75="本科",(2-E75)*36,-(E75)*36),IF(N75="本科",2*36,0)) -> 0 | Q75: =IF(F75>0,IF(P75="重本",(2-F75)*72,-(F75)*72),IF(P75="重本",2*72,0)) -> 0 | R75: =O75+Q75 -> 0 | T75: 李志友 | U75: =($R75*2/10)*0.5/6 -> 0 | V75: 周军 | W75: =($R75*2/10)*0.5/6 -> 0 | X75: 彭丹 | Y75: =($R75*2/10)*0.5/6 -> 0 | Z75: 兰举银 | AA75: =($R75*2/10)*0.5/6 -> 0 | AB75: 余英 | AC75: =($R75*2/10)*0.5/6 -> 0 | AD75: 彭桦 | AE75: =($R75*2/10)*0.5/6 -> 0 | AG75: 李正琪 | AH75: =($R75*2/10)*0.5/6 -> 0 | AI75: 徐万雄 | AJ75: =($R75*2/10)*0.5/6 -> 0 | AK75: 周凯 | AL75: =($R75*2/10)*0.5/6 -> 0 | AM75: 宋加友 | AN75: =($R75*2/10)*0.5/6 -> 0 | AO75: 余英 | AP75: =($R75*2/10)*0.5/6 -> 0 | AQ75: 彭桦 | AR75: =($R75*2/10)*0.5/6 -> 0 | AT75: 李正琪 | AU75: =($R75*3/10)*0.5/6 -> 0 | AV75: 孙文 | AW75: =($R75*3/10)*0.5/6 -> 0 | AX75: 彭丹 | AY75: =($R75*3/10)*0.5/6 -> 0 | AZ75: 赵建超 | BA75: =($R75*3/10)*0.5/6 -> 0 | BB75: 郑富全 | BC75: =($R75*3/10)*0.5/6 -> 0 | BD75: 彭桦 | BE75: =($R75*3/10)*0.5/6 -> 0 | BG75: 李正琪 | BH75: =($R75*3/10)*0.5/6 -> 0 | BI75: 孙文 | BJ75: =($R75*3/10)*0.5/6 -> 0 | BK75: 彭丹 | BL75: =($R75*3/10)*0.5/6 -> 0 | BM75: 赵建超 | BN75: =($R75*3/10)*0.5/6 -> 0 | BO75: 郑富全 | BP75: =($R75*3/10)*0.5/6 -> 0 | BQ75: 彭桦 | BR75: =($R75*3/10)*0.5/6 -> 0 | BT75: 李志友 | BU75: =($R75*5/10)*0.5/6 -> 0 | BV75: 赵云川 | BW75: =($R75*5/10)*0.5/6 -> 0 | BX75: 彭丹 | BY75: =($R75*5/10)*0.5/6 -> 0 | BZ75: 王友春 | CA75: =($R75*5/10)*0.5/6 -> 0 | CB75: 余英 | CC75: =($R75*5/10)*0.5/6 -> 0 | CD75: 辜英琼 | CE75: =($R75*5/10)*0.5/6 -> 0 | CG75: 李志友 | CH75: =($R75*5/10)*0.5/6 -> 0 | CI75: 赵云川 | CJ75: =($R75*5/10)*0.5/6 -> 0 | CK75: 彭丹 | CL75: =($R75*5/10)*0.5/6 -> 0 | CM75: 王友春 | CN75: =($R75*5/10)*0.5/6 -> 0 | CO75: 余英 | CP75: =($R75*5/10)*0.5/6 -> 0 | CQ75: 辜英琼 | CR75: =($R75*5/10)*0.5/6 -> 0
A76: 张小兰 | B76: 513422199905283628 | C76: 统招 | D76: 理科 | E76: 0.7 | G76: 98 | H76: 101 | I76: 85 | J76: 47.5 | K76: 48.5 | L76: 61 | M76: =SUM(G76:L76) -> 441 | O76: =IF(E76>0,IF(N76="本科",(2-E76)*36,-(E76)*36),IF(N76="本科",2*36,0)) -> -25.2 | Q76: =IF(F76>0,IF(P76="重本",(2-F76)*72,-(F76)*72),IF(P76="重本",2*72,0)) -> 0 | R76: =O76+Q76 -> -25.2 | T76: 岳贵敏 | U76: =($R76*2/10)*0.5/6 -> -0.42 | V76: 央宗娜姆 | W76: =($R76*2/10)*0.5/6 -> -0.42 | X76: 周凯 | Y76: =($R76*2/10)*0.5/6 -> -0.42 | Z76: 王友春 | AA76: =($R76*2/10)*0.5/6 -> -0.42 | AB76: 陈文惠 | AC76: =($R76*2/10)*0.5/6 -> -0.42 | AD76: 陈文惠 | AE76: =($R76*2/10)*0.5/6 -> -0.42 | AG76: 李志友 | AH76: =($R76*2/10)*0.5/6 -> -0.42 | AI76: 赵云川 | AJ76: =($R76*2/10)*0.5/6 -> -0.42 | AK76: 张翠莲 | AL76: =($R76*2/10)*0.5/6 -> -0.42 | AM76: 宋加友 | AN76: =($R76*2/10)*0.5/6 -> -0.42 | AO76: 郑富全 | AP76: =($R76*2/10)*0.5/6 -> -0.42 | AQ76: 彭桦 | AR76: =($R76*2/10)*0.5/6 -> -0.42 | AT76: 岳子琦 | AU76: =($R76*3/10)*0.5/6 -> -0.63 | AV76: 赵云川 | AW76: =($R76*3/10)*0.5/6 -> -0.63 | AX76: 雷敏 | AY76: =($R76*3/10)*0.5/6 -> -0.63 | AZ76: 兰举银 | BA76: =($R76*3/10)*0.5/6 -> -0.63 | BB76: 郑富全 | BC76: =($R76*3/10)*0.5/6 -> -0.63 | BD76: 张弘 | BE76: =($R76*3/10)*0.5/6 -> -0.63 | BG76: 岳子琦 | BH76: =($R76*3/10)*0.5/6 -> -0.63 | BI76: 赵云川 | BJ76: =($R76*3/10)*0.5/6 -> -0.63 | BK76: 曾春兰 | BL76: =($R76*3/10)*0.5/6 -> -0.63 | BM76: 兰举银 | BN76: =($R76*3/10)*0.5/6 -> -0.63 | BO76: 郑富全 | BP76: =($R76*3/10)*0.5/6 -> -0.63 | BQ76: 张弘 | BR76: =($R76*3/10)*0.5/6 -> -0.63 | BT76: 李志友 | BU76: =($R76*5/10)*0.5/6 -> -1.05 | BV76: 刘宗林 | BW76: =($R76*5/10)*0.5/6 -> -1.05 | BX76: 雷敏 | BY76: =($R76*5/10)*0.5/6 -> -1.05 | BZ76: 兰举银 | CA76: =($R76*5/10)*0.5/6 -> -1.05 | CB76: 余英 | CC76: =($R76*5/10)*0.5/6 -> -1.05 | CD76: 彭桦 | CE76: =($R76*5/10)*0.5/6 -> -1.05 | CG76: 李志友 | CH76: =($R76*5/10)*0.5/6 -> -1.05 | CI76: 刘宗林 | CJ76: =($R76*5/10)*0.5/6 -> -1.05 | CK76: 雷敏 | CL76: =($R76*5/10)*0.5/6 -> -1.05 | CM76: 兰举银 | CN76: =($R76*5/10)*0.5/6 -> -1.05 | CO76: 余英 | CP76: =($R76*5/10)*0.5/6 -> -1.05 | CQ76: 彭桦 | CR76: =($R76*5/10)*0.5/6 -> -1.05
A77: 呷绒拉姆 | B77: 513422199607054827 | C77: 统招 | D77: 理科 | E77: 1 | G77: 108 | H77: 86 | I77: 94 | J77: 50.5 | K77: 44.5 | L77: 57.5 | M77: =SUM(G77:L77) -> 440.5 | O77: =IF(E77>0,IF(N77="本科",(2-E77)*36,-(E77)*36),IF(N77="本科",2*36,0)) -> -36 | Q77: =IF(F77>0,IF(P77="重本",(2-F77)*72,-(F77)*72),IF(P77="重本",2*72,0)) -> 0 | R77: =O77+Q77 -> -36 | T77: 岳贵敏 | U77: =($R77*2/10)*0.5/6 -> -0.6 | V77: 央宗娜姆 | W77: =($R77*2/10)*0.5/6 -> -0.6 | X77: 周凯 | Y77: =($R77*2/10)*0.5/6 -> -0.6 | Z77: 赵建超 | AA77: =($R77*2/10)*0.5/6 -> -0.6 | AB77: 任吉洪 | AC77: =($R77*2/10)*0.5/6 -> -0.6 | AD77: 张弘 | AE77: =($R77*2/10)*0.5/6 -> -0.6 | AG77: 岳贵敏 | AH77: =($R77*2/10)*0.5/6 -> -0.6 | AI77: 央宗娜姆 | AJ77: =($R77*2/10)*0.5/6 -> -0.6 | AK77: 周凯 | AL77: =($R77*2/10)*0.5/6 -> -0.6 | AM77: 赵建超 | AN77: =($R77*2/10)*0.5/6 -> -0.6 | AO77: 余英 | AP77: =($R77*2/10)*0.5/6 -> -0.6 | AQ77: 辜英琼 | AR77: =($R77*2/10)*0.5/6 -> -0.6 | AT77: 易涛 | AU77: =($R77*3/10)*0.5/6 -> -0.9 | AV77: 王江 | AW77: =($R77*3/10)*0.5/6 -> -0.9 | AX77: 雷敏 | AY77: =($R77*3/10)*0.5/6 -> -0.9 | AZ77: 赵建超 | BA77: =($R77*3/10)*0.5/6 -> -0.9 | BB77: 任吉洪 | BC77: =($R77*3/10)*0.5/6 -> -0.9 | BD77: 辜英琼 | BE77: =($R77*3/10)*0.5/6 -> -0.9 | BG77: 易涛 | BH77: =($R77*3/10)*0.5/6 -> -0.9 | BI77: 王江 | BJ77: =($R77*3/10)*0.5/6 -> -0.9 | BK77: 聂艳梅 | BL77: =($R77*3/10)*0.5/6 -> -0.9 | BM77: 赵建超 | BN77: =($R77*3/10)*0.5/6 -> -0.9 | BO77: 任吉洪 | BP77: =($R77*3/10)*0.5/6 -> -0.9 | BQ77: 辜英琼 | BR77: =($R77*3/10)*0.5/6 -> -0.9 | BT77: 易涛 | BU77: =($R77*5/10)*0.5/6 -> -1.5 | BV77: 央宗娜姆 | BW77: =($R77*5/10)*0.5/6 -> -1.5 | BX77: 周凯 | BY77: =($R77*5/10)*0.5/6 -> -1.5 | BZ77: 赵建超 | CA77: =($R77*5/10)*0.5/6 -> -1.5 | CB77: 任吉洪 | CC77: =($R77*5/10)*0.5/6 -> -1.5 | CD77: 张弘 | CE77: =($R77*5/10)*0.5/6 -> -1.5 | CG77: 易涛 | CH77: =($R77*5/10)*0.5/6 -> -1.5 | CI77: 央宗娜姆 | CJ77: =($R77*5/10)*0.5/6 -> -1.5 | CK77: 周凯 | CL77: =($R77*5/10)*0.5/6 -> -1.5 | CM77: 赵建超 | CN77: =($R77*5/10)*0.5/6 -> -1.5 | CO77: 任吉洪 | CP77: =($R77*5/10)*0.5/6 -> -1.5 | CQ77: 张弘 | CR77: =($R77*5/10)*0.5/6 -> -1.5
A78: 马伍斤 | B78: 513422200009250022 | C78: 统招 | D78: 理科 | E78: 0.5 | G78: 109 | H78: 85 | I78: 66 | J78: 54.5 | K78: 59 | L78: 66 | M78: =SUM(G78:L78) -> 439.5 | O78: =IF(E78>0,IF(N78="本科",(2-E78)*36,-(E78)*36),IF(N78="本科",2*36,0)) -> -18 | Q78: =IF(F78>0,IF(P78="重本",(2-F78)*72,-(F78)*72),IF(P78="重本",2*72,0)) -> 0 | R78: =O78+Q78 -> -18 | T78: 岳子琦 | U78: =($R78*2/10)*0.5/6 -> -0.3 | V78: 王江 | W78: =($R78*2/10)*0.5/6 -> -0.3 | X78: 雷敏 | Y78: =($R78*2/10)*0.5/6 -> -0.3 | Z78: 兰举银 | AA78: =($R78*2/10)*0.5/6 -> -0.3 | AB78: 陈文惠 | AC78: =($R78*2/10)*0.5/6 -> -0.3 | AD78: 陆正超 | AE78: =($R78*2/10)*0.5/6 -> -0.3 | AG78: 易涛 | AH78: =($R78*2/10)*0.5/6 -> -0.3 | AI78: 王江 | AJ78: =($R78*2/10)*0.5/6 -> -0.3 | AK78: 张翠莲 | AL78: =($R78*2/10)*0.5/6 -> -0.3 | AM78: 赵建超 | AN78: =($R78*2/10)*0.5/6 -> -0.3 | AO78: 余英 | AP78: =($R78*2/10)*0.5/6 -> -0.3 | AQ78: 彭桦 | AR78: =($R78*2/10)*0.5/6 -> -0.3 | AT78: 易涛 | AU78: =($R78*3/10)*0.5/6 -> -0.45 | AV78: 王江 | AW78: =($R78*3/10)*0.5/6 -> -0.45 | AX78: 张翠莲 | AY78: =($R78*3/10)*0.5/6 -> -0.45 | AZ78: 兰举银 | BA78: =($R78*3/10)*0.5/6 -> -0.45 | BB78: 余英 | BC78: =($R78*3/10)*0.5/6 -> -0.45 | BD78: 彭桦 | BE78: =($R78*3/10)*0.5/6 -> -0.45 | BG78: 易涛 | BH78: =($R78*3/10)*0.5/6 -> -0.45 | BI78: 王江 | BJ78: =($R78*3/10)*0.5/6 -> -0.45 | BK78: 张翠莲 | BL78: =($R78*3/10)*0.5/6 -> -0.45 | BM78: 兰举银 | BN78: =($R78*3/10)*0.5/6 -> -0.45 | BO78: 余英 | BP78: =($R78*3/10)*0.5/6 -> -0.45 | BQ78: 彭桦 | BR78: =($R78*3/10)*0.5/6 -> -0.45 | BT78: 岳子琦 | BU78: =($R78*5/10)*0.5/6 -> -0.75 | BV78: 李黎明 | BW78: =($R78*5/10)*0.5/6 -> -0.75 | BX78: 周凯 | BY78: =($R78*5/10)*0.5/6 -> -0.75 | BZ78: 赵建超 | CA78: =($R78*5/10)*0.5/6 -> -0.75 | CB78: 余英 | CC78: =($R78*5/10)*0.5/6 -> -0.75 | CD78: 辜英琼 | CE78: =($R78*5/10)*0.5/6 -> -0.75 | CG78: 岳子琦 | CH78: =($R78*5/10)*0.5/6 -> -0.75 | CI78: 李黎明 | CJ78: =($R78*5/10)*0.5/6 -> -0.75 | CK78: 周凯 | CL78: =($R78*5/10)*0.5/6 -> -0.75 | CM78: 赵建超 | CN78: =($R78*5/10)*0.5/6 -> -0.75 | CO78: 余英 | CP78: =($R78*5/10)*0.5/6 -> -0.75 | CQ78: 辜英琼 | CR78: =($R78*5/10)*0.5/6 -> -0.75
A79: 胡晓虎 | B79: 513422199803261719 | C79: 统招 | D79: 理科 | E79: 1 | G79: 94 | H79: 82 | I79: 91 | J79: 66 | K79: 38 | L79: 68 | M79: =SUM(G79:L79) -> 439 | O79: =IF(E79>0,IF(N79="本科",(2-E79)*36,-(E79)*36),IF(N79="本科",2*36,0)) -> -36 | Q79: =IF(F79>0,IF(P79="重本",(2-F79)*72,-(F79)*72),IF(P79="重本",2*72,0)) -> 0 | R79: =O79+Q79 -> -36 | T79: 易涛 | U79: =($R79*2/10)*0.5/6 -> -0.6 | V79: 王江 | W79: =($R79*2/10)*0.5/6 -> -0.6 | X79: 雷敏 | Y79: =($R79*2/10)*0.5/6 -> -0.6 | Z79: 兰举银 | AA79: =($R79*2/10)*0.5/6 -> -0.6 | AB79: 余英 | AC79: =($R79*2/10)*0.5/6 -> -0.6 | AD79: 彭桦 | AE79: =($R79*2/10)*0.5/6 -> -0.6 | AG79: 易涛 | AH79: =($R79*2/10)*0.5/6 -> -0.6 | AI79: 王江 | AJ79: =($R79*2/10)*0.5/6 -> -0.6 | AK79: 雷敏 | AL79: =($R79*2/10)*0.5/6 -> -0.6 | AM79: 赵建超 | AN79: =($R79*2/10)*0.5/6 -> -0.6 | AO79: 余英 | AP79: =($R79*2/10)*0.5/6 -> -0.6 | AQ79: 张弘 | AR79: =($R79*2/10)*0.5/6 -> -0.6 | AT79: 易涛 | AU79: =($R79*3/10)*0.5/6 -> -0.9 | AV79: 王江 | AW79: =($R79*3/10)*0.5/6 -> -0.9 | AX79: 雷敏 | AY79: =($R79*3/10)*0.5/6 -> -0.9 | AZ79: 兰举银 | BA79: =($R79*3/10)*0.5/6 -> -0.9 | BB79: 余英 | BC79: =($R79*3/10)*0.5/6 -> -0.9 | BD79: 彭桦 | BE79: =($R79*3/10)*0.5/6 -> -0.9 | BG79: 易涛 | BH79: =($R79*3/10)*0.5/6 -> -0.9 | BI79: 王江 | BJ79: =($R79*3/10)*0.5/6 -> -0.9 | BK79: 聂艳梅 | BL79: =($R79*3/10)*0.5/6 -> -0.9 | BM79: 兰举银 | BN79: =($R79*3/10)*0.5/6 -> -0.9 | BO79: 余英 | BP79: =($R79*3/10)*0.5/6 -> -0.9 | BQ79: 彭桦 | BR79: =($R79*3/10)*0.5/6 -> -0.9 | BT79: 李志友 | BU79: =($R79*5/10)*0.5/6 -> -1.5 | BV79: 赵云川 | BW79: =($R79*5/10)*0.5/6 -> -1.5 | BX79: 彭丹 | BY79: =($R79*5/10)*0.5/6 -> -1.5 | BZ79: 王友春 | CA79: =($R79*5/10)*0.5/6 -> -1.5 | CB79: 余英 | CC79: =($R79*5/10)*0.5/6 -> -1.5 | CD79: 辜英琼 | CE79: =($R79*5/10)*0.5/6 -> -1.5 | CG79: 李志友 | CH79: =($R79*5/10)*0.5/6 -> -1.5 | CI79: 赵云川 | CJ79: =($R79*5/10)*0.5/6 -> -1.5 | CK79: 彭丹 | CL79: =($R79*5/10)*0.5/6 -> -1.5 | CM79: 王友春 | CN79: =($R79*5/10)*0.5/6 -> -1.5 | CO79: 余英 | CP79: =($R79*5/10)*0.5/6 -> -1.5 | CQ79: 辜英琼 | CR79: =($R79*5/10)*0.5/6 -> -1.5
A80: 罗拉初 | B80: 513422199802171922 | C80: 统招 | D80: 理科 | E80: 1 | G80: 106 | H80: 75 | I80: 106 | J80: 48 | K80: 39 | L80: 62 | M80: =SUM(G80:L80) -> 436 | O80: =IF(E80>0,IF(N80="本科",(2-E80)*36,-(E80)*36),IF(N80="本科",2*36,0)) -> -36 | Q80: =IF(F80>0,IF(P80="重本",(2-F80)*72,-(F80)*72),IF(P80="重本",2*72,0)) -> 0 | R80: =O80+Q80 -> -36 | T80: 易涛 | U80: =($R80*2/10)*0.5/6 -> -0.6 | V80: 王江 | W80: =($R80*2/10)*0.5/6 -> -0.6 | X80: 雷敏 | Y80: =($R80*2/10)*0.5/6 -> -0.6 | Z80: 兰举银 | AA80: =($R80*2/10)*0.5/6 -> -0.6 | AB80: 余英 | AC80: =($R80*2/10)*0.5/6 -> -0.6 | AD80: 彭桦 | AE80: =($R80*2/10)*0.5/6 -> -0.6 | AG80: 易涛 | AH80: =($R80*2/10)*0.5/6 -> -0.6 | AI80: 王江 | AJ80: =($R80*2/10)*0.5/6 -> -0.6 | AK80: 彭丹 | AL80: =($R80*2/10)*0.5/6 -> -0.6 | AM80: 王友春 | AN80: =($R80*2/10)*0.5/6 -> -0.6 | AO80: 余英 | AP80: =($R80*2/10)*0.5/6 -> -0.6 | AQ80: 张弘 | AR80: =($R80*2/10)*0.5/6 -> -0.6 | AT80: 岳贵敏 | AU80: =($R80*3/10)*0.5/6 -> -0.9 | AV80: 黄金华 | AW80: =($R80*3/10)*0.5/6 -> -0.9 | AX80: 彭丹 | AY80: =($R80*3/10)*0.5/6 -> -0.9 | AZ80: 王友春 | BA80: =($R80*3/10)*0.5/6 -> -0.9 | BB80: 任吉洪 | BC80: =($R80*3/10)*0.5/6 -> -0.9 | BD80: 张弘 | BE80: =($R80*3/10)*0.5/6 -> -0.9 | BG80: 岳贵敏 | BH80: =($R80*3/10)*0.5/6 -> -0.9 | BI80: 央宗娜姆 | BJ80: =($R80*3/10)*0.5/6 -> -0.9 | BK80: 彭丹 | BL80: =($R80*3/10)*0.5/6 -> -0.9 | BM80: 王友春 | BN80: =($R80*3/10)*0.5/6 -> -0.9 | BO80: 任吉洪 | BP80: =($R80*3/10)*0.5/6 -> -0.9 | BQ80: 张弘 | BR80: =($R80*3/10)*0.5/6 -> -0.9 | BT80: 杨宗国 | BU80: =($R80*5/10)*0.5/6 -> -1.5 | BV80: 王江 | BW80: =($R80*5/10)*0.5/6 -> -1.5 | BX80: 雷敏 | BY80: =($R80*5/10)*0.5/6 -> -1.5 | BZ80: 王友春 | CA80: =($R80*5/10)*0.5/6 -> -1.5 | CB80: 余英 | CC80: =($R80*5/10)*0.5/6 -> -1.5 | CD80: 辜英琼 | CE80: =($R80*5/10)*0.5/6 -> -1.5 | CG80: 杨宗国 | CH80: =($R80*5/10)*0.5/6 -> -1.5 | CI80: 王江 | CJ80: =($R80*5/10)*0.5/6 -> -1.5 | CK80: 雷敏 | CL80: =($R80*5/10)*0.5/6 -> -1.5 | CM80: 王友春 | CN80: =($R80*5/10)*0.5/6 -> -1.5 | CO80: 余英 | CP80: =($R80*5/10)*0.5/6 -> -1.5 | CQ80: 辜英琼 | CR80: =($R80*5/10)*0.5/6 -> -1.5
A81: 撒朗降初 | B81: 513422200012114814 | C81: 统招 | D81: 理科 | G81: 109 | H81: 87 | I81: 78 | J81: 42 | K81: 45 | L81: 74.5 | M81: =SUM(G81:L81) -> 435.5 | O81: =IF(E81>0,IF(N81="本科",(2-E81)*36,-(E81)*36),IF(N81="本科",2*36,0)) -> 0 | Q81: =IF(F81>0,IF(P81="重本",(2-F81)*72,-(F81)*72),IF(P81="重本",2*72,0)) -> 0 | R81: =O81+Q81 -> 0 | T81: 岳贵敏 | U81: =($R81*2/10)*0.5/6 -> 0 | V81: 央宗娜姆 | W81: =($R81*2/10)*0.5/6 -> 0 | X81: 周凯 | Y81: =($R81*2/10)*0.5/6 -> 0 | Z81: 王友春 | AA81: =($R81*2/10)*0.5/6 -> 0 | AB81: 陈文惠 | AC81: =($R81*2/10)*0.5/6 -> 0 | AD81: 陈文惠 | AE81: =($R81*2/10)*0.5/6 -> 0 | AG81: 李志友 | AH81: =($R81*2/10)*0.5/6 -> 0 | AI81: 赵云川 | AJ81: =($R81*2/10)*0.5/6 -> 0 | AK81: 张翠莲 | AL81: =($R81*2/10)*0.5/6 -> 0 | AM81: 王友春 | AN81: =($R81*2/10)*0.5/6 -> 0 | AO81: 余英 | AP81: =($R81*2/10)*0.5/6 -> 0 | AQ81: 辜英琼 | AR81: =($R81*2/10)*0.5/6 -> 0 | AT81: 岳子琦 | AU81: =($R81*3/10)*0.5/6 -> 0 | AV81: 赵云川 | AW81: =($R81*3/10)*0.5/6 -> 0 | AX81: 雷敏 | AY81: =($R81*3/10)*0.5/6 -> 0 | AZ81: 王友春 | BA81: =($R81*3/10)*0.5/6 -> 0 | BB81: 余英 | BC81: =($R81*3/10)*0.5/6 -> 0 | BD81: 张弘 | BE81: =($R81*3/10)*0.5/6 -> 0 | BG81: 岳子琦 | BH81: =($R81*3/10)*0.5/6 -> 0 | BI81: 赵云川 | BJ81: =($R81*3/10)*0.5/6 -> 0 | BK81: 曾春兰 | BL81: =($R81*3/10)*0.5/6 -> 0 | BM81: 王友春 | BN81: =($R81*3/10)*0.5/6 -> 0 | BO81: 余英 | BP81: =($R81*3/10)*0.5/6 -> 0 | BQ81: 张弘 | BR81: =($R81*3/10)*0.5/6 -> 0 | BT81: 周菊明 | BU81: =($R81*5/10)*0.5/6 -> 0 | BV81: 央宗娜姆 | BW81: =($R81*5/10)*0.5/6 -> 0 | BX81: 张翠莲 | BY81: =($R81*5/10)*0.5/6 -> 0 | BZ81: 王友春 | CA81: =($R81*5/10)*0.5/6 -> 0 | CB81: 余英 | CC81: =($R81*5/10)*0.5/6 -> 0 | CD81: 辜英琼 | CE81: =($R81*5/10)*0.5/6 -> 0 | CG81: 周菊明 | CH81: =($R81*5/10)*0.5/6 -> 0 | CI81: 央宗娜姆 | CJ81: =($R81*5/10)*0.5/6 -> 0 | CK81: 张翠莲 | CL81: =($R81*5/10)*0.5/6 -> 0 | CM81: 王友春 | CN81: =($R81*5/10)*0.5/6 -> 0 | CO81: 余英 | CP81: =($R81*5/10)*0.5/6 -> 0 | CQ81: 辜英琼 | CR81: =($R81*5/10)*0.5/6 -> 0
A82: 毛小龙 | B82: 513422200101042111 | C82: 统招 | D82: 理科 | G82: 98 | H82: 104 | I82: 43 | J82: 84.5 | K82: 57 | L82: 46.5 | M82: =SUM(G82:L82) -> 433 | O82: =IF(E82>0,IF(N82="本科",(2-E82)*36,-(E82)*36),IF(N82="本科",2*36,0)) -> 0 | Q82: =IF(F82>0,IF(P82="重本",(2-F82)*72,-(F82)*72),IF(P82="重本",2*72,0)) -> 0 | R82: =O82+Q82 -> 0 | T82: 李志友 | U82: =($R82*2/10)*0.5/6 -> 0 | V82: 赵云川 | W82: =($R82*2/10)*0.5/6 -> 0 | X82: 曾春兰 | Y82: =($R82*2/10)*0.5/6 -> 0 | Z82: 宋加友 | AA82: =($R82*2/10)*0.5/6 -> 0 | AB82: 余英 | AC82: =($R82*2/10)*0.5/6 -> 0 | AD82: 张弘 | AE82: =($R82*2/10)*0.5/6 -> 0 | AG82: 李志友 | AH82: =($R82*2/10)*0.5/6 -> 0 | AI82: 赵云川 | AJ82: =($R82*2/10)*0.5/6 -> 0 | AK82: 张翠莲 | AL82: =($R82*2/10)*0.5/6 -> 0 | AM82: 兰举银 | AN82: =($R82*2/10)*0.5/6 -> 0 | AO82: 任吉洪 | AP82: =($R82*2/10)*0.5/6 -> 0 | AQ82: 彭桦 | AR82: =($R82*2/10)*0.5/6 -> 0 | AT82: 李志友 | AU82: =($R82*3/10)*0.5/6 -> 0 | AV82: 赵云川 | AW82: =($R82*3/10)*0.5/6 -> 0 | AX82: 周凯 | AY82: =($R82*3/10)*0.5/6 -> 0 | AZ82: 兰举银 | BA82: =($R82*3/10)*0.5/6 -> 0 | BB82: 余英 | BC82: =($R82*3/10)*0.5/6 -> 0 | BD82: 彭桦 | BE82: =($R82*3/10)*0.5/6 -> 0 | BG82: 李志友 | BH82: =($R82*3/10)*0.5/6 -> 0 | BI82: 赵云川 | BJ82: =($R82*3/10)*0.5/6 -> 0 | BK82: 周凯 | BL82: =($R82*3/10)*0.5/6 -> 0 | BM82: 兰举银 | BN82: =($R82*3/10)*0.5/6 -> 0 | BO82: 余英 | BP82: =($R82*3/10)*0.5/6 -> 0 | BQ82: 彭桦 | BR82: =($R82*3/10)*0.5/6 -> 0 | BT82: 岳子琦 | BU82: =($R82*5/10)*0.5/6 -> 0 | BV82: 李黎明 | BW82: =($R82*5/10)*0.5/6 -> 0 | BX82: 周凯 | BY82: =($R82*5/10)*0.5/6 -> 0 | BZ82: 赵建超 | CA82: =($R82*5/10)*0.5/6 -> 0 | CB82: 任吉洪 | CC82: =($R82*5/10)*0.5/6 -> 0 | CD82: 张弘 | CE82: =($R82*5/10)*0.5/6 -> 0 | CG82: 岳子琦 | CH82: =($R82*5/10)*0.5/6 -> 0 | CI82: 李黎明 | CJ82: =($R82*5/10)*0.5/6 -> 0 | CK82: 周凯 | CL82: =($R82*5/10)*0.5/6 -> 0 | CM82: 赵建超 | CN82: =($R82*5/10)*0.5/6 -> 0 | CO82: 任吉洪 | CP82: =($R82*5/10)*0.5/6 -> 0 | CQ82: 张弘 | CR82: =($R82*5/10)*0.5/6 -> 0
A83: 彭友香 | B83: 513422200102075011 | C83: 统招 | D83: 理科 | E83: 0.6 | G83: 107 | H83: 78 | I83: 114 | J83: 35 | K83: 35 | L83: 61.5 | M83: =SUM(G83:L83) -> 430.5 | O83: =IF(E83>0,IF(N83="本科",(2-E83)*36,-(E83)*36),IF(N83="本科",2*36,0)) -> -21.6 | Q83: =IF(F83>0,IF(P83="重本",(2-F83)*72,-(F83)*72),IF(P83="重本",2*72,0)) -> 0 | R83: =O83+Q83 -> -21.6 | T83: 岳子琦 | U83: =($R83*2/10)*0.5/6 -> -0.36 | V83: 王江 | W83: =($R83*2/10)*0.5/6 -> -0.36 | X83: 雷敏 | Y83: =($R83*2/10)*0.5/6 -> -0.36 | Z83: 兰举银 | AA83: =($R83*2/10)*0.5/6 -> -0.36 | AB83: 陈文惠 | AC83: =($R83*2/10)*0.5/6 -> -0.36 | AD83: 陆正超 | AE83: =($R83*2/10)*0.5/6 -> -0.36 | AG83: 李志友 | AH83: =($R83*2/10)*0.5/6 -> -0.36 | AI83: 赵云川 | AJ83: =($R83*2/10)*0.5/6 -> -0.36 | AK83: 雷敏 | AL83: =($R83*2/10)*0.5/6 -> -0.36 | AM83: 宋加友 | AN83: =($R83*2/10)*0.5/6 -> -0.36 | AO83: 任吉洪 | AP83: =($R83*2/10)*0.5/6 -> -0.36 | AQ83: 张弘 | AR83: =($R83*2/10)*0.5/6 -> -0.36 | AT83: 岳子琦 | AU83: =($R83*3/10)*0.5/6 -> -0.54 | AV83: 赵云川 | AW83: =($R83*3/10)*0.5/6 -> -0.54 | AX83: 周凯 | AY83: =($R83*3/10)*0.5/6 -> -0.54 | AZ83: 赵建超 | BA83: =($R83*3/10)*0.5/6 -> -0.54 | BB83: 余英 | BC83: =($R83*3/10)*0.5/6 -> -0.54 | BD83: 张弘 | BE83: =($R83*3/10)*0.5/6 -> -0.54 | BG83: 岳贵敏 | BH83: =($R83*3/10)*0.5/6 -> -0.54 | BI83: 赵云川 | BJ83: =($R83*3/10)*0.5/6 -> -0.54 | BK83: 周凯 | BL83: =($R83*3/10)*0.5/6 -> -0.54 | BM83: 兰举银 | BN83: =($R83*3/10)*0.5/6 -> -0.54 | BO83: 余英 | BP83: =($R83*3/10)*0.5/6 -> -0.54 | BQ83: 彭桦 | BR83: =($R83*3/10)*0.5/6 -> -0.54 | BT83: 易涛 | BU83: =($R83*5/10)*0.5/6 -> -0.9 | BV83: 央宗娜姆 | BW83: =($R83*5/10)*0.5/6 -> -0.9 | BX83: 周凯 | BY83: =($R83*5/10)*0.5/6 -> -0.9 | BZ83: 赵建超 | CA83: =($R83*5/10)*0.5/6 -> -0.9 | CB83: 任吉洪 | CC83: =($R83*5/10)*0.5/6 -> -0.9 | CD83: 张弘 | CE83: =($R83*5/10)*0.5/6 -> -0.9 | CG83: 易涛 | CH83: =($R83*5/10)*0.5/6 -> -0.9 | CI83: 央宗娜姆 | CJ83: =($R83*5/10)*0.5/6 -> -0.9 | CK83: 周凯 | CL83: =($R83*5/10)*0.5/6 -> -0.9 | CM83: 赵建超 | CN83: =($R83*5/10)*0.5/6 -> -0.9 | CO83: 任吉洪 | CP83: =($R83*5/10)*0.5/6 -> -0.9 | CQ83: 张弘 | CR83: =($R83*5/10)*0.5/6 -> -0.9
A84: 罗建兴 | B84: 513422199911052316 | C84: 统招 | D84: 理科 | G84: 88 | H84: 60 | I84: 104 | J84: 54 | K84: 56.5 | L84: 68 | M84: =SUM(G84:L84) -> 430.5 | O84: =IF(E84>0,IF(N84="本科",(2-E84)*36,-(E84)*36),IF(N84="本科",2*36,0)) -> 0 | Q84: =IF(F84>0,IF(P84="重本",(2-F84)*72,-(F84)*72),IF(P84="重本",2*72,0)) -> 0 | R84: =O84+Q84 -> 0 | T84: 周菊明 | U84: =($R84*2/10)*0.5/6 -> 0 | V84: 徐万雄 | W84: =($R84*2/10)*0.5/6 -> 0 | X84: 张翠莲 | Y84: =($R84*2/10)*0.5/6 -> 0 | Z84: 赵建超 | AA84: =($R84*2/10)*0.5/6 -> 0 | AB84: 余英 | AC84: =($R84*2/10)*0.5/6 -> 0 | AD84: 彭桦 | AE84: =($R84*2/10)*0.5/6 -> 0 | AG84: 李志友 | AH84: =($R84*2/10)*0.5/6 -> 0 | AI84: 徐万雄 | AJ84: =($R84*2/10)*0.5/6 -> 0 | AK84: 雷敏 | AL84: =($R84*2/10)*0.5/6 -> 0 | AM84: 宋加友 | AN84: =($R84*2/10)*0.5/6 -> 0 | AO84: 郑富全 | AP84: =($R84*2/10)*0.5/6 -> 0 | AQ84: 彭桦 | AR84: =($R84*2/10)*0.5/6 -> 0 | AT84: 岳子琦 | AU84: =($R84*3/10)*0.5/6 -> 0 | AV84: 周军 | AW84: =($R84*3/10)*0.5/6 -> 0 | AX84: 张翠莲 | AY84: =($R84*3/10)*0.5/6 -> 0 | AZ84: 赵建超 | BA84: =($R84*3/10)*0.5/6 -> 0 | BB84: 郑富全 | BC84: =($R84*3/10)*0.5/6 -> 0 | BD84: 张弘 | BE84: =($R84*3/10)*0.5/6 -> 0 | BG84: 岳子琦 | BH84: =($R84*3/10)*0.5/6 -> 0 | BI84: 周军 | BJ84: =($R84*3/10)*0.5/6 -> 0 | BK84: 张翠莲 | BL84: =($R84*3/10)*0.5/6 -> 0 | BM84: 赵建超 | BN84: =($R84*3/10)*0.5/6 -> 0 | BO84: 郑富全 | BP84: =($R84*3/10)*0.5/6 -> 0 | BQ84: 张弘 | BR84: =($R84*3/10)*0.5/6 -> 0 | BT84: 李志友 | BU84: =($R84*5/10)*0.5/6 -> 0 | BV84: 赵云川 | BW84: =($R84*5/10)*0.5/6 -> 0 | BX84: 彭丹 | BY84: =($R84*5/10)*0.5/6 -> 0 | BZ84: 兰举银 | CA84: =($R84*5/10)*0.5/6 -> 0 | CB84: 余英 | CC84: =($R84*5/10)*0.5/6 -> 0 | CD84: 彭桦 | CE84: =($R84*5/10)*0.5/6 -> 0 | CG84: 李志友 | CH84: =($R84*5/10)*0.5/6 -> 0 | CI84: 赵云川 | CJ84: =($R84*5/10)*0.5/6 -> 0 | CK84: 彭丹 | CL84: =($R84*5/10)*0.5/6 -> 0 | CM84: 兰举银 | CN84: =($R84*5/10)*0.5/6 -> 0 | CO84: 余英 | CP84: =($R84*5/10)*0.5/6 -> 0 | CQ84: 彭桦 | CR84: =($R84*5/10)*0.5/6 -> 0
A85: 克若 | B85: 51342219980712501X | C85: 统招 | D85: 理科 | G85: 102 | H85: 99 | I85: 101 | J85: 57 | K85: 5.5 | L85: 66 | M85: =SUM(G85:L85) -> 430.5 | O85: =IF(E85>0,IF(N85="本科",(2-E85)*36,-(E85)*36),IF(N85="本科",2*36,0)) -> 0 | Q85: =IF(F85>0,IF(P85="重本",(2-F85)*72,-(F85)*72),IF(P85="重本",2*72,0)) -> 0 | R85: =O85+Q85 -> 0 | T85: 李志友 | U85: =($R85*2/10)*0.5/6 -> 0 | V85: 赵云川 | W85: =($R85*2/10)*0.5/6 -> 0 | X85: 曾春兰 | Y85: =($R85*2/10)*0.5/6 -> 0 | Z85: 宋加友 | AA85: =($R85*2/10)*0.5/6 -> 0 | AB85: 余英 | AC85: =($R85*2/10)*0.5/6 -> 0 | AD85: 张弘 | AE85: =($R85*2/10)*0.5/6 -> 0 | AG85: 易涛 | AH85: =($R85*2/10)*0.5/6 -> 0 | AI85: 王江 | AJ85: =($R85*2/10)*0.5/6 -> 0 | AK85: 张翠莲 | AL85: =($R85*2/10)*0.5/6 -> 0 | AM85: 兰举银 | AN85: =($R85*2/10)*0.5/6 -> 0 | AO85: 郑富全 | AP85: =($R85*2/10)*0.5/6 -> 0 | AQ85: 辜英琼 | AR85: =($R85*2/10)*0.5/6 -> 0 | AT85: 岳贵敏 | AU85: =($R85*3/10)*0.5/6 -> 0 | AV85: 黄金华 | AW85: =($R85*3/10)*0.5/6 -> 0 | AX85: 雷敏 | AY85: =($R85*3/10)*0.5/6 -> 0 | AZ85: 赵建超 | BA85: =($R85*3/10)*0.5/6 -> 0 | BB85: 郑富全 | BC85: =($R85*3/10)*0.5/6 -> 0 | BD85: 辜英琼 | BE85: =($R85*3/10)*0.5/6 -> 0 | BG85: 岳贵敏 | BH85: =($R85*3/10)*0.5/6 -> 0 | BI85: 央宗娜姆 | BJ85: =($R85*3/10)*0.5/6 -> 0 | BK85: 曾春兰 | BL85: =($R85*3/10)*0.5/6 -> 0 | BM85: 兰举银 | BN85: =($R85*3/10)*0.5/6 -> 0 | BO85: 郑富全 | BP85: =($R85*3/10)*0.5/6 -> 0 | BQ85: 彭桦 | BR85: =($R85*3/10)*0.5/6 -> 0 | BT85: 易涛 | BU85: =($R85*5/10)*0.5/6 -> 0 | BV85: 央宗娜姆 | BW85: =($R85*5/10)*0.5/6 -> 0 | BX85: 周凯 | BY85: =($R85*5/10)*0.5/6 -> 0 | BZ85: 王友春 | CA85: =($R85*5/10)*0.5/6 -> 0 | CB85: 余英 | CC85: =($R85*5/10)*0.5/6 -> 0 | CD85: 辜英琼 | CE85: =($R85*5/10)*0.5/6 -> 0 | CG85: 易涛 | CH85: =($R85*5/10)*0.5/6 -> 0 | CI85: 央宗娜姆 | CJ85: =($R85*5/10)*0.5/6 -> 0 | CK85: 周凯 | CL85: =($R85*5/10)*0.5/6 -> 0 | CM85: 王友春 | CN85: =($R85*5/10)*0.5/6 -> 0 | CO85: 余英 | CP85: =($R85*5/10)*0.5/6 -> 0 | CQ85: 辜英琼 | CR85: =($R85*5/10)*0.5/6 -> 0
A86: 扎西龙布 | B86: 513422200001154239 | C86: 统招 | D86: 理科 | G86: 97 | H86: 94 | I86: 97 | J86: 50.5 | K86: 49 | L86: 42.5 | M86: =SUM(G86:L86) -> 430 | O86: =IF(E86>0,IF(N86="本科",(2-E86)*36,-(E86)*36),IF(N86="本科",2*36,0)) -> 0 | Q86: =IF(F86>0,IF(P86="重本",(2-F86)*72,-(F86)*72),IF(P86="重本",2*72,0)) -> 0 | R86: =O86+Q86 -> 0 | T86: 岳子琦 | U86: =($R86*2/10)*0.5/6 -> 0 | V86: 孙文 | W86: =($R86*2/10)*0.5/6 -> 0 | X86: 曾佳瑶 | Y86: =($R86*2/10)*0.5/6 -> 0 | Z86: 王友春 | AA86: =($R86*2/10)*0.5/6 -> 0 | AB86: 余英 | AC86: =($R86*2/10)*0.5/6 -> 0 | AD86: 彭桦 | AE86: =($R86*2/10)*0.5/6 -> 0 | AG86: 岳子琦 | AH86: =($R86*2/10)*0.5/6 -> 0 | AI86: 孙文 | AJ86: =($R86*2/10)*0.5/6 -> 0 | AK86: 彭丹 | AL86: =($R86*2/10)*0.5/6 -> 0 | AM86: 赵建超 | AN86: =($R86*2/10)*0.5/6 -> 0 | AO86: 余英 | AP86: =($R86*2/10)*0.5/6 -> 0 | AQ86: 彭桦 | AR86: =($R86*2/10)*0.5/6 -> 0 | AT86: 周菊明 | AU86: =($R86*3/10)*0.5/6 -> 0 | AV86: 余玉红 | AW86: =($R86*3/10)*0.5/6 -> 0 | AX86: 彭丹 | AY86: =($R86*3/10)*0.5/6 -> 0 | AZ86: 宋加友 | BA86: =($R86*3/10)*0.5/6 -> 0 | BB86: 郑富全 | BC86: =($R86*3/10)*0.5/6 -> 0 | BD86: 彭桦 | BE86: =($R86*3/10)*0.5/6 -> 0 | BG86: 周菊明 | BH86: =($R86*3/10)*0.5/6 -> 0 | BI86: 央宗娜姆 | BJ86: =($R86*3/10)*0.5/6 -> 0 | BK86: 彭丹 | BL86: =($R86*3/10)*0.5/6 -> 0 | BM86: 宋加友 | BN86: =($R86*3/10)*0.5/6 -> 0 | BO86: 郑富全 | BP86: =($R86*3/10)*0.5/6 -> 0 | BQ86: 彭桦 | BR86: =($R86*3/10)*0.5/6 -> 0 | BT86: 易涛 | BU86: =($R86*5/10)*0.5/6 -> 0 | BV86: 央宗娜姆 | BW86: =($R86*5/10)*0.5/6 -> 0 | BX86: 周凯 | BY86: =($R86*5/10)*0.5/6 -> 0 | BZ86: 王友春 | CA86: =($R86*5/10)*0.5/6 -> 0 | CB86: 余英 | CC86: =($R86*5/10)*0.5/6 -> 0 | CD86: 辜英琼 | CE86: =($R86*5/10)*0.5/6 -> 0 | CG86: 易涛 | CH86: =($R86*5/10)*0.5/6 -> 0 | CI86: 央宗娜姆 | CJ86: =($R86*5/10)*0.5/6 -> 0 | CK86: 周凯 | CL86: =($R86*5/10)*0.5/6 -> 0 | CM86: 王友春 | CN86: =($R86*5/10)*0.5/6 -> 0 | CO86: 余英 | CP86: =($R86*5/10)*0.5/6 -> 0 | CQ86: 辜英琼 | CR86: =($R86*5/10)*0.5/6 -> 0
A87: 李燕潇 | B87: 513422200101171722 | C87: 统招 | D87: 理科 | G87: 95 | H87: 66 | I87: 74 | J87: 64 | K87: 60 | L87: 69.5 | M87: =SUM(G87:L87) -> 428.5 | O87: =IF(E87>0,IF(N87="本科",(2-E87)*36,-(E87)*36),IF(N87="本科",2*36,0)) -> 0 | Q87: =IF(F87>0,IF(P87="重本",(2-F87)*72,-(F87)*72),IF(P87="重本",2*72,0)) -> 0 | R87: =O87+Q87 -> 0 | T87: 李正琪 | U87: =($R87*2/10)*0.5/6 -> 0 | V87: 孙文 | W87: =($R87*2/10)*0.5/6 -> 0 | X87: 曾佳瑶 | Y87: =($R87*2/10)*0.5/6 -> 0 | Z87: 赵建超 | AA87: =($R87*2/10)*0.5/6 -> 0 | AB87: 郑富全 | AC87: =($R87*2/10)*0.5/6 -> 0 | AD87: 彭桦 | AE87: =($R87*2/10)*0.5/6 -> 0 | AG87: 李正琪 | AH87: =($R87*2/10)*0.5/6 -> 0 | AI87: 孙文 | AJ87: =($R87*2/10)*0.5/6 -> 0 | AK87: 张翠莲 | AL87: =($R87*2/10)*0.5/6 -> 0 | AM87: 赵建超 | AN87: =($R87*2/10)*0.5/6 -> 0 | AO87: 余英 | AP87: =($R87*2/10)*0.5/6 -> 0 | AQ87: 彭桦 | AR87: =($R87*2/10)*0.5/6 -> 0 | AT87: 李正琪 | AU87: =($R87*3/10)*0.5/6 -> 0 | AV87: 周军 | AW87: =($R87*3/10)*0.5/6 -> 0 | AX87: 张翠莲 | AY87: =($R87*3/10)*0.5/6 -> 0 | AZ87: 宋加友 | BA87: =($R87*3/10)*0.5/6 -> 0 | BB87: 余英 | BC87: =($R87*3/10)*0.5/6 -> 0 | BD87: 彭桦 | BE87: =($R87*3/10)*0.5/6 -> 0 | BG87: 李正琪 | BH87: =($R87*3/10)*0.5/6 -> 0 | BI87: 周军 | BJ87: =($R87*3/10)*0.5/6 -> 0 | BK87: 张翠莲 | BL87: =($R87*3/10)*0.5/6 -> 0 | BM87: 宋加友 | BN87: =($R87*3/10)*0.5/6 -> 0 | BO87: 余英 | BP87: =($R87*3/10)*0.5/6 -> 0 | BQ87: 彭桦 | BR87: =($R87*3/10)*0.5/6 -> 0 | BT87: 李志友 | BU87: =($R87*5/10)*0.5/6 -> 0 | BV87: 刘宗林 | BW87: =($R87*5/10)*0.5/6 -> 0 | BX87: 雷敏 | BY87: =($R87*5/10)*0.5/6 -> 0 | BZ87: 兰举银 | CA87: =($R87*5/10)*0.5/6 -> 0 | CB87: 余英 | CC87: =($R87*5/10)*0.5/6 -> 0 | CD87: 彭桦 | CE87: =($R87*5/10)*0.5/6 -> 0 | CG87: 李志友 | CH87: =($R87*5/10)*0.5/6 -> 0 | CI87: 刘宗林 | CJ87: =($R87*5/10)*0.5/6 -> 0 | CK87: 雷敏 | CL87: =($R87*5/10)*0.5/6 -> 0 | CM87: 兰举银 | CN87: =($R87*5/10)*0.5/6 -> 0 | CO87: 余英 | CP87: =($R87*5/10)*0.5/6 -> 0 | CQ87: 彭桦 | CR87: =($R87*5/10)*0.5/6 -> 0
A88: 马婷宜 | B88: 51342220000715212X | C88: 统招 | D88: 理科 | E88: 0.6 | G88: 110 | H88: 76 | I88: 93 | J88: 24.5 | K88: 58 | L88: 66 | M88: =SUM(G88:L88) -> 427.5 | O88: =IF(E88>0,IF(N88="本科",(2-E88)*36,-(E88)*36),IF(N88="本科",2*36,0)) -> -21.6 | Q88: =IF(F88>0,IF(P88="重本",(2-F88)*72,-(F88)*72),IF(P88="重本",2*72,0)) -> 0 | R88: =O88+Q88 -> -21.6 | T88: 岳贵敏 | U88: =($R88*2/10)*0.5/6 -> -0.36 | V88: 央宗娜姆 | W88: =($R88*2/10)*0.5/6 -> -0.36 | X88: 周凯 | Y88: =($R88*2/10)*0.5/6 -> -0.36 | Z88: 王友春 | AA88: =($R88*2/10)*0.5/6 -> -0.36 | AB88: 陈文惠 | AC88: =($R88*2/10)*0.5/6 -> -0.36 | AD88: 陈文惠 | AE88: =($R88*2/10)*0.5/6 -> -0.36 | AG88: 岳贵敏 | AH88: =($R88*2/10)*0.5/6 -> -0.36 | AI88: 赵云川 | AJ88: =($R88*2/10)*0.5/6 -> -0.36 | AK88: 雷敏 | AL88: =($R88*2/10)*0.5/6 -> -0.36 | AM88: 王友春 | AN88: =($R88*2/10)*0.5/6 -> -0.36 | AO88: 郑富全 | AP88: =($R88*2/10)*0.5/6 -> -0.36 | AQ88: 辜英琼 | AR88: =($R88*2/10)*0.5/6 -> -0.36 | AT88: 岳贵敏 | AU88: =($R88*3/10)*0.5/6 -> -0.54 | AV88: 赵云川 | AW88: =($R88*3/10)*0.5/6 -> -0.54 | AX88: 周凯 | AY88: =($R88*3/10)*0.5/6 -> -0.54 | AZ88: 兰举银 | BA88: =($R88*3/10)*0.5/6 -> -0.54 | BB88: 郑富全 | BC88: =($R88*3/10)*0.5/6 -> -0.54 | BD88: 辜英琼 | BE88: =($R88*3/10)*0.5/6 -> -0.54 | BG88: 岳贵敏 | BH88: =($R88*3/10)*0.5/6 -> -0.54 | BI88: 赵云川 | BJ88: =($R88*3/10)*0.5/6 -> -0.54 | BK88: 周凯 | BL88: =($R88*3/10)*0.5/6 -> -0.54 | BM88: 兰举银 | BN88: =($R88*3/10)*0.5/6 -> -0.54 | BO88: 郑富全 | BP88: =($R88*3/10)*0.5/6 -> -0.54 | BQ88: 辜英琼 | BR88: =($R88*3/10)*0.5/6 -> -0.54 | BT88: 李志友 | BU88: =($R88*5/10)*0.5/6 -> -0.9 | BV88: 赵云川 | BW88: =($R88*5/10)*0.5/6 -> -0.9 | BX88: 彭丹 | BY88: =($R88*5/10)*0.5/6 -> -0.9 | BZ88: 兰举银 | CA88: =($R88*5/10)*0.5/6 -> -0.9 | CB88: 郑富全 | CC88: =($R88*5/10)*0.5/6 -> -0.9 | CD88: 彭桦 | CE88: =($R88*5/10)*0.5/6 -> -0.9 | CG88: 李志友 | CH88: =($R88*5/10)*0.5/6 -> -0.9 | CI88: 赵云川 | CJ88: =($R88*5/10)*0.5/6 -> -0.9 | CK88: 彭丹 | CL88: =($R88*5/10)*0.5/6 -> -0.9 | CM88: 兰举银 | CN88: =($R88*5/10)*0.5/6 -> -0.9 | CO88: 郑富全 | CP88: =($R88*5/10)*0.5/6 -> -0.9 | CQ88: 彭桦 | CR88: =($R88*5/10)*0.5/6 -> -0.9
A89: 伍小华 | B89: 513422199908102511 | C89: 统招 | D89: 理科 | G89: 85 | H89: 106 | I89: 77 | J89: 70.5 | K89: 49 | L89: 37 | M89: =SUM(G89:L89) -> 424.5 | O89: =IF(E89>0,IF(N89="本科",(2-E89)*36,-(E89)*36),IF(N89="本科",2*36,0)) -> 0 | Q89: =IF(F89>0,IF(P89="重本",(2-F89)*72,-(F89)*72),IF(P89="重本",2*72,0)) -> 0 | R89: =O89+Q89 -> 0 | T89: 岳子琦 | U89: =($R89*2/10)*0.5/6 -> 0 | V89: 孙文 | W89: =($R89*2/10)*0.5/6 -> 0 | X89: 曾佳瑶 | Y89: =($R89*2/10)*0.5/6 -> 0 | Z89: 王友春 | AA89: =($R89*2/10)*0.5/6 -> 0 | AB89: 余英 | AC89: =($R89*2/10)*0.5/6 -> 0 | AD89: 彭桦 | AE89: =($R89*2/10)*0.5/6 -> 0 | AG89: 岳子琦 | AH89: =($R89*2/10)*0.5/6 -> 0 | AI89: 王江 | AJ89: =($R89*2/10)*0.5/6 -> 0 | AK89: 彭丹 | AL89: =($R89*2/10)*0.5/6 -> 0 | AM89: 赵建超 | AN89: =($R89*2/10)*0.5/6 -> 0 | AO89: 余英 | AP89: =($R89*2/10)*0.5/6 -> 0 | AQ89: 彭桦 | AR89: =($R89*2/10)*0.5/6 -> 0 | AT89: 易涛 | AU89: =($R89*3/10)*0.5/6 -> 0 | AV89: 王江 | AW89: =($R89*3/10)*0.5/6 -> 0 | AX89: 雷敏 | AY89: =($R89*3/10)*0.5/6 -> 0 | AZ89: 赵建超 | BA89: =($R89*3/10)*0.5/6 -> 0 | BB89: 任吉洪 | BC89: =($R89*3/10)*0.5/6 -> 0 | BD89: 张弘 | BE89: =($R89*3/10)*0.5/6 -> 0 | BG89: 易涛 | BH89: =($R89*3/10)*0.5/6 -> 0 | BI89: 王江 | BJ89: =($R89*3/10)*0.5/6 -> 0 | BK89: 聂艳梅 | BL89: =($R89*3/10)*0.5/6 -> 0 | BM89: 赵建超 | BN89: =($R89*3/10)*0.5/6 -> 0 | BO89: 任吉洪 | BP89: =($R89*3/10)*0.5/6 -> 0 | BQ89: 张弘 | BR89: =($R89*3/10)*0.5/6 -> 0 | BT89: 李志友 | BU89: =($R89*5/10)*0.5/6 -> 0 | BV89: 赵云川 | BW89: =($R89*5/10)*0.5/6 -> 0 | BX89: 彭丹 | BY89: =($R89*5/10)*0.5/6 -> 0 | BZ89: 赵建超 | CA89: =($R89*5/10)*0.5/6 -> 0 | CB89: 余英 | CC89: =($R89*5/10)*0.5/6 -> 0 | CD89: 辜英琼 | CE89: =($R89*5/10)*0.5/6 -> 0 | CG89: 李志友 | CH89: =($R89*5/10)*0.5/6 -> 0 | CI89: 赵云川 | CJ89: =($R89*5/10)*0.5/6 -> 0 | CK89: 彭丹 | CL89: =($R89*5/10)*0.5/6 -> 0 | CM89: 赵建超 | CN89: =($R89*5/10)*0.5/6 -> 0 | CO89: 余英 | CP89: =($R89*5/10)*0.5/6 -> 0 | CQ89: 辜英琼 | CR89: =($R89*5/10)*0.5/6 -> 0
A90: 王嘉柔 | B90: 513422200004110012 | C90: 降级 | D90: 理科 | G90: 96 | H90: 89 | I90: 111 | J90: 43 | K90: 42 | L90: 43 | M90: =SUM(G90:L90) -> 424 | O90: =IF(E90>0,IF(N90="本科",(2-E90)*36,-(E90)*36),IF(N90="本科",2*36,0)) -> 0 | Q90: =IF(F90>0,IF(P90="重本",(2-F90)*72,-(F90)*72),IF(P90="重本",2*72,0)) -> 0 | R90: =O90+Q90 -> 0 | T90: 易涛 | U90: =($R90*2/10)*0.5/6 -> 0 | V90: 王江 | W90: =($R90*2/10)*0.5/6 -> 0 | X90: 雷敏 | Y90: =($R90*2/10)*0.5/6 -> 0 | Z90: 兰举银 | AA90: =($R90*2/10)*0.5/6 -> 0 | AB90: 余英 | AC90: =($R90*2/10)*0.5/6 -> 0 | AD90: 彭桦 | AE90: =($R90*2/10)*0.5/6 -> 0 | AG90: 易涛 | AH90: =($R90*2/10)*0.5/6 -> 0 | AI90: 王江 | AJ90: =($R90*2/10)*0.5/6 -> 0 | AK90: 雷敏 | AL90: =($R90*2/10)*0.5/6 -> 0 | AM90: 兰举银 | AN90: =($R90*2/10)*0.5/6 -> 0 | AO90: 任吉洪 | AP90: =($R90*2/10)*0.5/6 -> 0 | AQ90: 彭桦 | AR90: =($R90*2/10)*0.5/6 -> 0 | AT90: 易涛 | AU90: =($R90*3/10)*0.5/6 -> 0 | AV90: 王江 | AW90: =($R90*3/10)*0.5/6 -> 0 | AX90: 雷敏 | AY90: =($R90*3/10)*0.5/6 -> 0 | AZ90: 兰举银 | BA90: =($R90*3/10)*0.5/6 -> 0 | BB90: 余英 | BC90: =($R90*3/10)*0.5/6 -> 0 | BD90: 彭桦 | BE90: =($R90*3/10)*0.5/6 -> 0 | BG90: 易涛 | BH90: =($R90*3/10)*0.5/6 -> 0 | BI90: 王江 | BJ90: =($R90*3/10)*0.5/6 -> 0 | BK90: 聂艳梅 | BL90: =($R90*3/10)*0.5/6 -> 0 | BM90: 兰举银 | BN90: =($R90*3/10)*0.5/6 -> 0 | BO90: 余英 | BP90: =($R90*3/10)*0.5/6 -> 0 | BQ90: 彭桦 | BR90: =($R90*3/10)*0.5/6 -> 0 | BT90: 杨宗国 | BU90: =($R90*5/10)*0.5/6 -> 0 | BV90: 王江 | BW90: =($R90*5/10)*0.5/6 -> 0 | BX90: 雷敏 | BY90: =($R90*5/10)*0.5/6 -> 0 | BZ90: 兰举银 | CA90: =($R90*5/10)*0.5/6 -> 0 | CB90: 余英 | CC90: =($R90*5/10)*0.5/6 -> 0 | CD90: 彭桦 | CE90: =($R90*5/10)*0.5/6 -> 0 | CG90: 杨宗国 | CH90: =($R90*5/10)*0.5/6 -> 0 | CI90: 王江 | CJ90: =($R90*5/10)*0.5/6 -> 0 | CK90: 雷敏 | CL90: =($R90*5/10)*0.5/6 -> 0 | CM90: 兰举银 | CN90: =($R90*5/10)*0.5/6 -> 0 | CO90: 余英 | CP90: =($R90*5/10)*0.5/6 -> 0 | CQ90: 彭桦 | CR90: =($R90*5/10)*0.5/6 -> 0
A91: 鲁茸杜基 | B91: 513422200102130914 | C91: 统招 | D91: 理科 | E91: 1 | G91: 107 | H91: 73 | I91: 80 | J91: 72.5 | K91: 37.5 | L91: 53 | M91: =SUM(G91:L91) -> 423 | O91: =IF(E91>0,IF(N91="本科",(2-E91)*36,-(E91)*36),IF(N91="本科",2*36,0)) -> -36 | Q91: =IF(F91>0,IF(P91="重本",(2-F91)*72,-(F91)*72),IF(P91="重本",2*72,0)) -> 0 | R91: =O91+Q91 -> -36 | T91: 岳贵敏 | U91: =($R91*2/10)*0.5/6 -> -0.6 | V91: 央宗娜姆 | W91: =($R91*2/10)*0.5/6 -> -0.6 | X91: 周凯 | Y91: =($R91*2/10)*0.5/6 -> -0.6 | Z91: 赵建超 | AA91: =($R91*2/10)*0.5/6 -> -0.6 | AB91: 任吉洪 | AC91: =($R91*2/10)*0.5/6 -> -0.6 | AD91: 张弘 | AE91: =($R91*2/10)*0.5/6 -> -0.6 | AG91: 岳贵敏 | AH91: =($R91*2/10)*0.5/6 -> -0.6 | AI91: 孙文 | AJ91: =($R91*2/10)*0.5/6 -> -0.6 | AK91: 彭丹 | AL91: =($R91*2/10)*0.5/6 -> -0.6 | AM91: 赵建超 | AN91: =($R91*2/10)*0.5/6 -> -0.6 | AO91: 余英 | AP91: =($R91*2/10)*0.5/6 -> -0.6 | AQ91: 辜英琼 | AR91: =($R91*2/10)*0.5/6 -> -0.6 | BG91: 李志友 | BH91: =($R91*3/10)/6 -> -1.8 | BI91: 李志友 | BJ91: =($R91*3/10)/6 -> -1.8 | BK91: 李志友 | BL91: =($R91*3/10)/6 -> -1.8 | BM91: 王友春 | BN91: =($R91*3/10)/6 -> -1.8 | BO91: 郑富全 | BP91: =($R91*3/10)/6 -> -1.8 | BQ91: 辜英琼 | BR91: =($R91*3/10)/6 -> -1.8 | BT91: 李志友 | BU91: =($R91*5/10)*0.5/6 -> -1.5 | BV91: 李志友 | BW91: =($R91*5/10)*0.5/6 -> -1.5 | BX91: 李志友 | BY91: =($R91*5/10)*0.5/6 -> -1.5 | BZ91: 李志友 | CA91: =($R91*5/10)*0.5/6 -> -1.5 | CB91: 郑富全 | CC91: =($R91*5/10)*0.5/6 -> -1.5 | CD91: 彭桦 | CE91: =($R91*5/10)*0.5/6 -> -1.5 | CG91: 李志友 | CH91: =($R91*5/10)*0.5/6 -> -1.5 | CI91: 赵云川 | CJ91: =($R91*5/10)*0.5/6 -> -1.5 | CK91: 彭丹 | CL91: =($R91*5/10)*0.5/6 -> -1.5 | CM91: 兰举银 | CN91: =($R91*5/10)*0.5/6 -> -1.5 | CO91: 郑富全 | CP91: =($R91*5/10)*0.5/6 -> -1.5 | CQ91: 彭桦 | CR91: =($R91*5/10)*0.5/6 -> -1.5
A92: 哈美 | B92: 51342220000515501X | C92: 统招 | D92: 理科 | G92: 76 | H92: 91 | I92: 63 | J92: 85 | K92: 36 | L92: 70.5 | M92: =SUM(G92:L92) -> 421.5 | O92: =IF(E92>0,IF(N92="本科",(2-E92)*36,-(E92)*36),IF(N92="本科",2*36,0)) -> 0 | Q92: =IF(F92>0,IF(P92="重本",(2-F92)*72,-(F92)*72),IF(P92="重本",2*72,0)) -> 0 | R92: =O92+Q92 -> 0 | T92: 李正琪 | U92: =($R92*2/10)*0.5/6 -> 0 | V92: 孙文 | W92: =($R92*2/10)*0.5/6 -> 0 | X92: 曾佳瑶 | Y92: =($R92*2/10)*0.5/6 -> 0 | Z92: 赵建超 | AA92: =($R92*2/10)*0.5/6 -> 0 | AB92: 郑富全 | AC92: =($R92*2/10)*0.5/6 -> 0 | AD92: 彭桦 | AE92: =($R92*2/10)*0.5/6 -> 0 | AG92: 岳子琦 | AH92: =($R92*2/10)*0.5/6 -> 0 | AI92: 徐万雄 | AJ92: =($R92*2/10)*0.5/6 -> 0 | AK92: 雷敏 | AL92: =($R92*2/10)*0.5/6 -> 0 | AM92: 王友春 | AN92: =($R92*2/10)*0.5/6 -> 0 | AO92: 余英 | AP92: =($R92*2/10)*0.5/6 -> 0 | AQ92: 彭桦 | AR92: =($R92*2/10)*0.5/6 -> 0 | AT92: 李志友 | AU92: =($R92*3/10)*0.5/6 -> 0 | AV92: 余玉红 | AW92: =($R92*3/10)*0.5/6 -> 0 | AX92: 张翠莲 | AY92: =($R92*3/10)*0.5/6 -> 0 | AZ92: 王友春 | BA92: =($R92*3/10)*0.5/6 -> 0 | BB92: 郑富全 | BC92: =($R92*3/10)*0.5/6 -> 0 | BD92: 彭桦 | BE92: =($R92*3/10)*0.5/6 -> 0 | BG92: 李志友 | BH92: =($R92*3/10)*0.5/6 -> 0 | BI92: 央宗娜姆 | BJ92: =($R92*3/10)*0.5/6 -> 0 | BK92: 张翠莲 | BL92: =($R92*3/10)*0.5/6 -> 0 | BM92: 王友春 | BN92: =($R92*3/10)*0.5/6 -> 0 | BO92: 郑富全 | BP92: =($R92*3/10)*0.5/6 -> 0 | BQ92: 彭桦 | BR92: =($R92*3/10)*0.5/6 -> 0 | BT92: 岳子琦 | BU92: =($R92*5/10)*0.5/6 -> 0 | BV92: 李黎明 | BW92: =($R92*5/10)*0.5/6 -> 0 | BX92: 周凯 | BY92: =($R92*5/10)*0.5/6 -> 0 | BZ92: 赵建超 | CA92: =($R92*5/10)*0.5/6 -> 0 | CB92: 任吉洪 | CC92: =($R92*5/10)*0.5/6 -> 0 | CD92: 张弘 | CE92: =($R92*5/10)*0.5/6 -> 0 | CG92: 岳子琦 | CH92: =($R92*5/10)*0.5/6 -> 0 | CI92: 李黎明 | CJ92: =($R92*5/10)*0.5/6 -> 0 | CK92: 周凯 | CL92: =($R92*5/10)*0.5/6 -> 0 | CM92: 赵建超 | CN92: =($R92*5/10)*0.5/6 -> 0 | CO92: 任吉洪 | CP92: =($R92*5/10)*0.5/6 -> 0 | CQ92: 张弘 | CR92: =($R92*5/10)*0.5/6 -> 0
A93: 刘秋兰 | B93: 513422199606046227 | C93: 统招 | D93: 理科 | E93: 1 | G93: 98 | H93: 76 | I93: 100 | J93: 32.5 | K93: 58 | L93: 56.5 | M93: =SUM(G93:L93) -> 421 | O93: =IF(E93>0,IF(N93="本科",(2-E93)*36,-(E93)*36),IF(N93="本科",2*36,0)) -> -36 | Q93: =IF(F93>0,IF(P93="重本",(2-F93)*72,-(F93)*72),IF(P93="重本",2*72,0)) -> 0 | R93: =O93+Q93 -> -36 | T93: 易涛 | U93: =($R93*2/10)*0.5/6 -> -0.6 | V93: 王江 | W93: =($R93*2/10)*0.5/6 -> -0.6 | X93: 雷敏 | Y93: =($R93*2/10)*0.5/6 -> -0.6 | Z93: 兰举银 | AA93: =($R93*2/10)*0.5/6 -> -0.6 | AB93: 余英 | AC93: =($R93*2/10)*0.5/6 -> -0.6 | AD93: 彭桦 | AE93: =($R93*2/10)*0.5/6 -> -0.6 | AG93: 李正琪 | AH93: =($R93*2/10)*0.5/6 -> -0.6 | AI93: 央宗娜姆 | AJ93: =($R93*2/10)*0.5/6 -> -0.6 | AK93: 周凯 | AL93: =($R93*2/10)*0.5/6 -> -0.6 | AM93: 赵建超 | AN93: =($R93*2/10)*0.5/6 -> -0.6 | AO93: 余英 | AP93: =($R93*2/10)*0.5/6 -> -0.6 | AQ93: 张弘 | AR93: =($R93*2/10)*0.5/6 -> -0.6 | AT93: 李正琪 | AU93: =($R93*3/10)*0.5/6 -> -0.9 | AV93: 黄金华 | AW93: =($R93*3/10)*0.5/6 -> -0.9 | AX93: 周凯 | AY93: =($R93*3/10)*0.5/6 -> -0.9 | AZ93: 兰举银 | BA93: =($R93*3/10)*0.5/6 -> -0.9 | BB93: 余英 | BC93: =($R93*3/10)*0.5/6 -> -0.9 | BD93: 彭桦 | BE93: =($R93*3/10)*0.5/6 -> -0.9 | BG93: 李正琪 | BH93: =($R93*3/10)*0.5/6 -> -0.9 | BI93: 央宗娜姆 | BJ93: =($R93*3/10)*0.5/6 -> -0.9 | BK93: 周凯 | BL93: =($R93*3/10)*0.5/6 -> -0.9 | BM93: 兰举银 | BN93: =($R93*3/10)*0.5/6 -> -0.9 | BO93: 余英 | BP93: =($R93*3/10)*0.5/6 -> -0.9 | BQ93: 彭桦 | BR93: =($R93*3/10)*0.5/6 -> -0.9 | BT93: 杨宗国 | BU93: =($R93*5/10)*0.5/6 -> -1.5 | BV93: 王江 | BW93: =($R93*5/10)*0.5/6 -> -1.5 | BX93: 雷敏 | BY93: =($R93*5/10)*0.5/6 -> -1.5 | BZ93: 王友春 | CA93: =($R93*5/10)*0.5/6 -> -1.5 | CB93: 余英 | CC93: =($R93*5/10)*0.5/6 -> -1.5 | CD93: 辜英琼 | CE93: =($R93*5/10)*0.5/6 -> -1.5 | CG93: 杨宗国 | CH93: =($R93*5/10)*0.5/6 -> -1.5 | CI93: 王江 | CJ93: =($R93*5/10)*0.5/6 -> -1.5 | CK93: 雷敏 | CL93: =($R93*5/10)*0.5/6 -> -1.5 | CM93: 王友春 | CN93: =($R93*5/10)*0.5/6 -> -1.5 | CO93: 余英 | CP93: =($R93*5/10)*0.5/6 -> -1.5 | CQ93: 辜英琼 | CR93: =($R93*5/10)*0.5/6 -> -1.5
