Workbook
Name 班主任: '高考-超额学校目标奖'!#REF!,'高考-超额学校目标奖'!#REF!,'高考-超额学校目标奖'!#REF!,'高考-超额学校目标奖'!#REF!,'高考-超额学校目标奖'!#REF!,'高考-超额学校目标奖'!#REF!
Name 高2016级质量奖: #REF!
Name 高2017级质量奖: #REF!
Name 高2018级质量奖: #REF!
Name 基本奖: '高考-工作量'!$B$5:$Q$62
Name 文化贡献奖: #REF!
Name 文化贡献奖: #REF!

Sheet 高考-总额分配
C1: 项目 | D1: 金额 | E1: 算法/说明
A2: 总额分配 | C2: 总额 | D2: 1938000 | E2: 总额=学生奖金+学校奖金
C3: 学生奖金 | D3: 836000
C4: 学校奖金 | D4: =D2-D3 -> 1102000
A6: 学校奖金分配 | C6: 1.学校提留 | D6: =D4*0.2 -> 220400 | E6: 学校提留=学校奖金*20%
C7: 年级管理奖 | D7: 27200 | E7: 按照政府目标，文化和艺体超额部分的8%作为年级管理奖。文化本科超额350000元，艺体超额75000元，合计超额425000元。年级管理奖=425000*80%*8%
C8: 2.教师奖励 | D8: =D4-D6-D7 -> 854400 | E8: 剩余的教师奖励=学校奖金-学校提留-年级管理奖
C9: 超额完成学校目标奖 | D9: =2000*4 -> 8000 | E9: 学校本科目标81人，奋斗目标100人。实际完成85人，超过学校基本目标4人，超额奖2000*4=8000元
A11: 教师奖励分配 | C11: 2.1工作量（30%） | D11: =D8*0.3 -> 256320 | E11: 工作量=教师奖励*30%
C12: 2.2业绩（70%） | D12: =D8*0.7 -> 598080 | E12: 业绩=教师奖励*70%
A14: 2.2业绩 | C14: 2.2.1文化本科质量奖 | D14: =889000*D12/(889000+213000) -> 482480.15 | E14: 艺体双语总奖金：艺体硬上线奖金175000+4个照顾上线8000元+10个双语30000=213000元； 文化总奖金：889000元
C15: 2.2.2艺体双语质量奖 | D15: =213000*D12/(889000+213000) -> 115599.85
A17: 2.2.1文化本科质量奖 | C17: 2.2.1.1过程评价奖 | D17: =D14*3/7 -> 206777.21 | E17: 过程评价奖=文化本科质量奖*3/7
C18: 2.2.1.2上线质量奖 | D18: =D14*4/7 -> 275702.94 | E18: 上线质量奖=文化本科质量奖*4/7
A20: 2.2.1.2文化上线质量奖 | C20: 2.2.1.2.1总分上线质量奖 | D20: =D18*0.6 -> 165421.76 | E20: 总分上线质量奖=上线质量奖*60%
C21: 2.2.1.2.2单双上线质量奖 | D21: =D18*0.4 -> 110281.18 | E21: 总分上线质量奖=上线质量奖*40%
A23: 2.2.2艺体双语质量奖 | C23: 2.2.2.1双语质量奖 | D23: 15456 | E23: 双语本科录取10人，3000*10=30000元。双语质量奖=双语总奖金30000*0.8*0.92*0.7
C24: 2.2.2.2艺体质量奖 | D24: =D15-D23 -> 100143.85 | E24: 艺体质量奖=艺体双语质量奖-双语质量奖
A26: 2.2.2.2艺体质量奖 | C26: 艺体上线质量奖 | D26: =D24*175000/(175000+8000) -> 95765.981 | E26: 按比附分配，艺体硬上线175000元，艺体照顾上线8000元。
C27: 艺体照顾上线质量奖 | D27: =D24*8000/(175000+8000) -> 4377.8734
A29: 木里县2019年奖金明细参见附件1

Sheet 高考-分数线
C1: 总分 | D1: 语文 | E1: 数学 | F1: 英语 | G1: 物理/政治 | H1: 化学/历史 | I1: 生物/地理
A2: 本科线 | B2: 理科 | C2: 459 | D2: 101 | E2: 89 | F2: 104 | G2: 51.5 | H2: 53.5 | I2: 65
B3: 文科 | C3: 472 | D3: 106 | E3: 78 | F3: 112 | G3: 65.5 | H3: 61.5 | I3: 65
C5: 总分 | D5: 语文 | E5: 数学 | F5: 英语 | G5: 物理/政治 | H5: 化学/历史 | I5: 生物/地理
A6: 重本线 | B6: 理科 | C6: 547 | D6: 110 | E6: 111 | F6: 127 | G6: 76 | H6: 70 | I6: 75.5
B7: 文科 | C7: 540 | D7: 115 | E7: 104 | F7: 134 | G7: 74 | H7: 73 | I7: 76

Sheet 高考-工作量
A1: 木里中学2019年高考基本奖（工作量）
A2: 序号 | B2: 姓名 | C2: 科目 | D2: 16-17学年 | H2: 17-18学年 | L2: 18-19学年 | P2: 高三年级主任/班主任 | Q2: 基本奖合计
D3: 16-17上 | E3: 16-17下 | F3: 16-17小计 | G3: 金额小计 | H3: 17-18上 | I3: 17-18下 | J3: 17-18小计 | K3: 金额小计 | L3: 18-19上 | M3: 18-19下 | N3: 18-19小计 | O3: 金额小计
G4: =$G$65/SUM(F$5:F$64) -> 53.713024 | K4: =$K$65/SUM(J$5:J$64) -> 73.43662 | O4: =$O$65/SUM(N$5:N$64) -> 132.45509
A5: 1 | B5: 易涛 | C5: 语文 | D5: 12 | E5: 14 | F5: =SUM(D5:E5) -> 26 | G5: =$G$4*F5 -> 1396.5386 | H5: 14 | I5: 15 | J5: =SUM(H5:I5) -> 29 | K5: =$K$4*J5 -> 2129.662 | L5: 16 | M5: 21 | N5: =SUM(L5:M5) -> 37 | O5: =$O$4*N5 -> 4900.8383 | P5: 1000 | Q5: =G5+K5+O5+P5 -> 9427.0389
A6: 2 | B6: 岳子琦 | C6: 语文 | D6: 13 | E6: 14 | F6: =SUM(D6:E6) -> 27 | G6: =$G$4*F6 -> 1450.2517 | H6: 14 | I6: 17 | J6: =SUM(H6:I6) -> 31 | K6: =$K$4*J6 -> 2276.5352 | L6: 16 | N6: =SUM(L6:M6) -> 16 | O6: =$O$4*N6 -> 2119.2814 | Q6: =G6+K6+O6+P6 -> 5846.0683
A7: 3 | B7: 李志友 | C7: 语文 | D7: 12 | E7: 14 | F7: =SUM(D7:E7) -> 26 | G7: =$G$4*F7 -> 1396.5386 | H7: 14 | I7: 23 | J7: =SUM(H7:I7) -> 37 | K7: =$K$4*J7 -> 2717.1549 | L7: 24 | M7: 21 | N7: =SUM(L7:M7) -> 45 | O7: =$O$4*N7 -> 5960.479 | Q7: =G7+K7+O7+P7 -> 10074.173
A8: 4 | B8: 岳贵敏 | C8: 语文 | D8: 11 | E8: 14 | F8: =SUM(D8:E8) -> 25 | G8: =$G$4*F8 -> 1342.8256 | H8: 14 | I8: 17 | J8: =SUM(H8:I8) -> 31 | K8: =$K$4*J8 -> 2276.5352 | N8: =SUM(L8:M8) -> 0 | O8: =$O$4*N8 -> 0 | Q8: =G8+K8+O8+P8 -> 3619.3608
A9: 5 | B9: 周菊明 | C9: 语文 | D9: 12 | E9: 14 | F9: =SUM(D9:E9) -> 26 | G9: =$G$4*F9 -> 1396.5386 | H9: 14 | I9: 17 | J9: =SUM(H9:I9) -> 31 | K9: =$K$4*J9 -> 2276.5352 | L9: 16 | M9: 21 | N9: =SUM(L9:M9) -> 37 | O9: =$O$4*N9 -> 4900.8383 | P9: 1000 | Q9: =G9+K9+O9+P9 -> 9573.9122
A10: 6 | B10: 李正琪 | C10: 语文 | D10: 6 | E10: 7 | F10: =SUM(D10:E10) -> 13 | G10: =$G$4*F10 -> 698.26932 | H10: 7 | I10: 8 | J10: =SUM(H10:I10) -> 15 | K10: =$K$4*J10 -> 1101.5493 | N10: =SUM(L10:M10) -> 0 | O10: =$O$4*N10 -> 0 | Q10: =G10+K10+O10+P10 -> 1799.8186
A11: 7 | B11: 孙文 | C11: 数学 | D11: 14 | E11: 14 | F11: =SUM(D11:E11) -> 28 | G11: =$G$4*F11 -> 1503.9647 | H11: 14 | I11: 15 | J11: =SUM(H11:I11) -> 29 | K11: =$K$4*J11 -> 2129.662 | N11: =SUM(L11:M11) -> 0 | O11: =$O$4*N11 -> 0 | Q11: =G11+K11+O11+P11 -> 3633.6267
A12: 8 | B12: 周军 | C12: 数学 | D12: 14 | E12: 14 | F12: =SUM(D12:E12) -> 28 | G12: =$G$4*F12 -> 1503.9647 | H12: 14 | I12: 15 | J12: =SUM(H12:I12) -> 29 | K12: =$K$4*J12 -> 2129.662 | L12: 8 | M12: 7 | N12: =SUM(L12:M12) -> 15 | O12: =$O$4*N12 -> 1986.8263 | Q12: =G12+K12+O12+P12 -> 5620.453
A13: 9 | B13: 赵云川 | C13: 数学 | D13: 14 | E13: 14 | F13: =SUM(D13:E13) -> 28 | G13: =$G$4*F13 -> 1503.9647 | H13: 14 | I13: 16 | J13: =SUM(H13:I13) -> 30 | K13: =$K$4*J13 -> 2203.0986 | L13: 16 | M13: 14 | N13: =SUM(L13:M13) -> 30 | O13: =$O$4*N13 -> 3973.6527 | P13: 1000 | Q13: =G13+K13+O13+P13 -> 8680.716
A14: 10 | B14: 徐万雄 | C14: 数学 | D14: 7 | E14: 7 | F14: =SUM(D14:E14) -> 14 | G14: =$G$4*F14 -> 751.98234 | J14: =SUM(H14:I14) -> 0 | K14: =$K$4*J14 -> 0 | N14: =SUM(L14:M14) -> 0 | O14: =$O$4*N14 -> 0 | Q14: =G14+K14+O14+P14 -> 751.98234
A15: 11 | B15: 央宗娜姆 | C15: 数学 | D15: 14 | E15: 14 | F15: =SUM(D15:E15) -> 28 | G15: =$G$4*F15 -> 1503.9647 | I15: 16 | J15: =SUM(H15:I15) -> 16 | K15: =$K$4*J15 -> 1174.9859 | L15: 16 | M15: 14 | N15: =SUM(L15:M15) -> 30 | O15: =$O$4*N15 -> 3973.6527 | P15: 1000 | Q15: =G15+K15+O15+P15 -> 7652.6033
A16: 12 | B16: 王江 | C16: 数学 | D16: 14 | E16: 14 | F16: =SUM(D16:E16) -> 28 | G16: =$G$4*F16 -> 1503.9647 | H16: 14 | I16: 16 | J16: =SUM(H16:I16) -> 30 | K16: =$K$4*J16 -> 2203.0986 | L16: 16 | M16: 14 | N16: =SUM(L16:M16) -> 30 | O16: =$O$4*N16 -> 3973.6527 | P16: 1000 | Q16: =G16+K16+O16+P16 -> 8680.716
A17: 13 | B17: 周凯 | C17: 英语 | D17: 12 | E17: 14 | F17: =SUM(D17:E17) -> 26 | G17: =$G$4*F17 -> 1396.5386 | H17: 14 | I17: 15 | J17: =SUM(H17:I17) -> 29 | K17: =$K$4*J17 -> 2129.662 | L17: 24 | M17: 21 | N17: =SUM(L17:M17) -> 45 | O17: =$O$4*N17 -> 5960.479 | P17: 1000 | Q17: =G17+K17+O17+P17 -> 10486.68
A18: 14 | B18: 曾佳瑶 | C18: 英语 | D18: 14 | E18: 14 | F18: =SUM(D18:E18) -> 28 | G18: =$G$4*F18 -> 1503.9647 | H18: 14 | I18: 16 | J18: =SUM(H18:I18) -> 30 | K18: =$K$4*J18 -> 2203.0986 | L18: 16 | M18: 14 | N18: =SUM(L18:M18) -> 30 | O18: =$O$4*N18 -> 3973.6527 | P18: 1000 | Q18: =G18+K18+O18+P18 -> 8680.716
A19: 15 | B19: 曾春兰 | C19: 英语 | D19: 7 | E19: 7 | F19: =SUM(D19:E19) -> 14 | G19: =$G$4*F19 -> 751.98234 | H19: 7 | I19: 16 | J19: =SUM(H19:I19) -> 23 | K19: =$K$4*J19 -> 1689.0423 | N19: =SUM(L19:M19) -> 0 | O19: =$O$4*N19 -> 0 | Q19: =G19+K19+O19+P19 -> 2441.0246
A20: 16 | B20: 雷敏 | C20: 英语 | D20: 14 | E20: 14 | F20: =SUM(D20:E20) -> 28 | G20: =$G$4*F20 -> 1503.9647 | H20: 14 | J20: =SUM(H20:I20) -> 14 | K20: =$K$4*J20 -> 1028.1127 | L20: 16 | M20: 14 | N20: =SUM(L20:M20) -> 30 | O20: =$O$4*N20 -> 3973.6527 | Q20: =G20+K20+O20+P20 -> 6505.7301
A21: 17 | B21: 彭丹 | C21: 英语 | D21: 14 | E21: 14 | F21: =SUM(D21:E21) -> 28 | G21: =$G$4*F21 -> 1503.9647 | H21: 14 | I21: 16 | J21: =SUM(H21:I21) -> 30 | K21: =$K$4*J21 -> 2203.0986 | L21: 16 | M21: 14 | N21: =SUM(L21:M21) -> 30 | O21: =$O$4*N21 -> 3973.6527 | P21: 1000 | Q21: =G21+K21+O21+P21 -> 8680.716
A22: 18 | B22: 张翠莲 | C22: 英语 | D22: 14 | E22: 14 | F22: =SUM(D22:E22) -> 28 | G22: =$G$4*F22 -> 1503.9647 | H22: 14 | I22: 15 | J22: =SUM(H22:I22) -> 29 | K22: =$K$4*J22 -> 2129.662 | L22: 16 | M22: 14 | N22: =SUM(L22:M22) -> 30 | O22: =$O$4*N22 -> 3973.6527 | Q22: =G22+K22+O22+P22 -> 7607.2793
A23: 19 | B23: 王友春 | C23: 物理 | D23: 7 | E23: 8 | F23: =SUM(D23:E23) -> 15 | G23: =$G$4*F23 -> 805.69536 | H23: 8 | I23: 7 | J23: =SUM(H23:I23) -> 15 | K23: =$K$4*J23 -> 1101.5493 | L23: 8 | M23: 6 | N23: =SUM(L23:M23) -> 14 | O23: =$O$4*N23 -> 1854.3713 | P23: 2000 | Q23: =G23+K23+O23+P23 -> 5761.6159
A24: 20 | B24: 兰举银 | C24: 物理 | D24: 12 | E24: 16 | F24: =SUM(D24:E24) -> 28 | G24: =$G$4*F24 -> 1503.9647 | H24: 12 | I24: 18 | J24: =SUM(H24:I24) -> 30 | K24: =$K$4*J24 -> 2203.0986 | L24: 15 | M24: 13 | N24: =SUM(L24:M24) -> 28 | O24: =$O$4*N24 -> 3708.7425 | P24: 1000 | Q24: =G24+K24+O24+P24 -> 8415.8058
A25: 21 | B25: 赵建超 | C25: 物理 | D25: 9 | E25: 17 | F25: =SUM(D25:E25) -> 26 | G25: =$G$4*F25 -> 1396.5386 | H25: 14 | I25: 13 | J25: =SUM(H25:I25) -> 27 | K25: =$K$4*J25 -> 1982.7887 | L25: 14 | M25: 13 | N25: =SUM(L25:M25) -> 27 | O25: =$O$4*N25 -> 3576.2874 | Q25: =G25+K25+O25+P25 -> 6955.6148
A26: 22 | B26: 宋加友 | C26: 物理 | D26: 6 | E26: 6 | F26: =SUM(D26:E26) -> 12 | G26: =$G$4*F26 -> 644.55629 | H26: 7 | I26: 6 | J26: =SUM(H26:I26) -> 13 | K26: =$K$4*J26 -> 954.67606 | L26: 7 | M26: 6 | N26: =SUM(L26:M26) -> 13 | O26: =$O$4*N26 -> 1721.9162 | Q26: =G26+K26+O26+P26 -> 3321.1485
A27: 23 | B27: 余英 | C27: 化学 | D27: 15 | E27: 18 | F27: =SUM(D27:E27) -> 33 | G27: =$G$4*F27 -> 1772.5298 | H27: 15.5 | I27: 15 | J27: =SUM(H27:I27) -> 30.5 | K27: =$K$4*J27 -> 2239.8169 | L27: 18 | M27: 16 | N27: =SUM(L27:M27) -> 34 | O27: =$O$4*N27 -> 4503.4731 | Q27: =G27+K27+O27+P27 -> 8515.8198
A28: 24 | B28: 任吉洪 | C28: 化学 | D28: 6 | E28: 5 | F28: =SUM(D28:E28) -> 11 | G28: =$G$4*F28 -> 590.84327 | H28: 5 | I28: 5 | J28: =SUM(H28:I28) -> 10 | K28: =$K$4*J28 -> 734.3662 | L28: 6 | M28: 5 | N28: =SUM(L28:M28) -> 11 | O28: =$O$4*N28 -> 1457.006 | Q28: =G28+K28+O28+P28 -> 2782.2155
A29: 25 | B29: 郑富全 | C29: 化学 | D29: 3 | E29: 5 | F29: =SUM(D29:E29) -> 8 | G29: =$G$4*F29 -> 429.70419 | H29: 12 | I29: 10 | J29: =SUM(H29:I29) -> 22 | K29: =$K$4*J29 -> 1615.6056 | L29: 12 | M29: 11 | N29: =SUM(L29:M29) -> 23 | O29: =$O$4*N29 -> 3046.4671 | Q29: =G29+K29+O29+P29 -> 5091.7769
A30: 26 | B30: 陆正超 | C30: 生物 | D30: 3 | F30: =SUM(D30:E30) -> 3 | G30: =$G$4*F30 -> 161.13907 | J30: =SUM(H30:I30) -> 0 | K30: =$K$4*J30 -> 0 | N30: =SUM(L30:M30) -> 0 | O30: =$O$4*N30 -> 0 | Q30: =G30+K30+O30+P30 -> 161.13907
A31: 27 | B31: 彭桦 | C31: 生物 | D31: 15 | E31: 14 | F31: =SUM(D31:E31) -> 29 | G31: =$G$4*F31 -> 1557.6777 | H31: 13 | I31: 14 | J31: =SUM(H31:I31) -> 27 | K31: =$K$4*J31 -> 1982.7887 | L31: 15 | M31: 13 | N31: =SUM(L31:M31) -> 28 | O31: =$O$4*N31 -> 3708.7425 | P31: 1000 | Q31: =G31+K31+O31+P31 -> 8249.209
A32: 28 | B32: 汪绍伦 | C32: 地理 | D32: 12 | E32: 17 | F32: =SUM(D32:E32) -> 29 | G32: =$G$4*F32 -> 1557.6777 | H32: 11 | I32: 10 | J32: =SUM(H32:I32) -> 21 | K32: =$K$4*J32 -> 1542.169 | N32: =SUM(L32:M32) -> 0 | O32: =$O$4*N32 -> 0 | Q32: =G32+K32+O32+P32 -> 3099.8467
A33: 29 | B33: 纪春权 | C33: 政治 | D33: 10 | E33: 12 | F33: =SUM(D33:E33) -> 22 | G33: =$G$4*F33 -> 1181.6865 | H33: 11 | I33: 13 | J33: =SUM(H33:I33) -> 24 | K33: =$K$4*J33 -> 1762.4789 | L33: 18 | M33: 11 | N33: =SUM(L33:M33) -> 29 | O33: =$O$4*N33 -> 3841.1976 | P33: 1000 | Q33: =G33+K33+O33+P33 -> 7785.363
A34: 30 | B34: 尹伦 | C34: 政治 | D34: 6 | E34: 10 | F34: =SUM(D34:E34) -> 16 | G34: =$G$4*F34 -> 859.40839 | H34: 10 | I34: 11 | J34: =SUM(H34:I34) -> 21 | K34: =$K$4*J34 -> 1542.169 | N34: =SUM(L34:M34) -> 0 | O34: =$O$4*N34 -> 0 | Q34: =G34+K34+O34+P34 -> 2401.5774
A35: 31 | B35: 金明龙 | C35: 历史 | D35: 4 | E35: 3 | F35: =SUM(D35:E35) -> 7 | G35: =$G$4*F35 -> 375.99117 | J35: =SUM(H35:I35) -> 0 | K35: =$K$4*J35 -> 0 | L35: 18 | M35: 16 | N35: =SUM(L35:M35) -> 34 | O35: =$O$4*N35 -> 4503.4731 | Q35: =G35+K35+O35+P35 -> 4879.4642
A36: 32 | B36: 胡军 | C36: 历史 | D36: 10 | E36: 16 | F36: =SUM(D36:E36) -> 26 | G36: =$G$4*F36 -> 1396.5386 | J36: =SUM(H36:I36) -> 0 | K36: =$K$4*J36 -> 0 | N36: =SUM(L36:M36) -> 0 | O36: =$O$4*N36 -> 0 | Q36: =G36+K36+O36+P36 -> 1396.5386
A37: 33 | B37: 央青拉姆 | C37: 历史 | D37: 8 | E37: 12 | F37: =SUM(D37:E37) -> 20 | G37: =$G$4*F37 -> 1074.2605 | H37: 12 | I37: 13 | J37: =SUM(H37:I37) -> 25 | K37: =$K$4*J37 -> 1835.9155 | L37: 12 | M37: 11 | N37: =SUM(L37:M37) -> 23 | O37: =$O$4*N37 -> 3046.4671 | Q37: =G37+K37+O37+P37 -> 5956.643
A38: 34 | B38: 李树海 | C38: 地理 | D38: 10 | E38: 6 | F38: =SUM(D38:E38) -> 16 | G38: =$G$4*F38 -> 859.40839 | H38: 14 | I38: 10 | J38: =SUM(H38:I38) -> 24 | K38: =$K$4*J38 -> 1762.4789 | L38: 12 | M38: 10 | N38: =SUM(L38:M38) -> 22 | O38: =$O$4*N38 -> 2914.012 | Q38: =G38+K38+O38+P38 -> 5535.8992
A39: 35 | B39: 郭禧唐 | C39: 音乐 | D39: 11 | E39: 9 | F39: =SUM(D39:E39) -> 20 | G39: =$G$4*F39 -> 1074.2605 | H39: 10 | I39: 5.5 | J39: =SUM(H39:I39) -> 15.5 | K39: =$K$4*J39 -> 1138.2676 | N39: =SUM(L39:M39) -> 0 | O39: =$O$4*N39 -> 0 | Q39: =G39+K39+O39+P39 -> 2212.5281
A40: 36 | B40: 鲁绒旦友 | C40: 体育 | D40: 22 | E40: 19 | F40: =SUM(D40:E40) -> 41 | G40: =$G$4*F40 -> 2202.234 | H40: 12 | I40: 15.5 | J40: =SUM(H40:I40) -> 27.5 | K40: =$K$4*J40 -> 2019.507 | L40: 3 | M40: 3 | N40: =SUM(L40:M40) -> 6 | O40: =$O$4*N40 -> 794.73054 | Q40: =G40+K40+O40+P40 -> 5016.4716
...

Sheet 高考-文化过程评价奖
A1: 学科 | B1: 教师 | C1: 得分 | D1: 金额
A2: 地理 | B2: 李树海 | C2: 599.1458 | D2: ='高考-总额分配'!$D$17*C2/SUM(C$2:C$50) -> 5809.5247
A3: 地理 | B3: 汪绍伦 | C3: 396.79849 | D3: ='高考-总额分配'!$D$17*C3/SUM(C$2:C$50) -> 3847.4952
A4: 地理 | B4: 付兴秋 | C4: 121.08229 | D4: ='高考-总额分配'!$D$17*C4/SUM(C$2:C$50) -> 1174.0557
A5: 地理 | B5: 胡柔殳 | C5: 405.84687 | D5: ='高考-总额分配'!$D$17*C5/SUM(C$2:C$50) -> 3935.2314
A6: 历史 | B6: 金明龙 | C6: 300.26108 | D6: ='高考-总额分配'!$D$17*C6/SUM(C$2:C$50) -> 2911.4351
A7: 历史 | B7: 央青拉姆 | C7: 610.31204 | D7: ='高考-总额分配'!$D$17*C7/SUM(C$2:C$50) -> 5917.7964
A8: 历史 | B8: 胡军 | C8: 185.23111 | D8: ='高考-总额分配'!$D$17*C8/SUM(C$2:C$50) -> 1796.0648
A9: 历史 | B9: 勾中文 | C9: 205.83321 | D9: ='高考-总额分配'!$D$17*C9/SUM(C$2:C$50) -> 1995.83
A10: 历史 | B10: 胡也 | C10: 199.80807 | D10: ='高考-总额分配'!$D$17*C10/SUM(C$2:C$50) -> 1937.4081
A11: 政治 | B11: 纪春权 | C11: 614.9197 | D11: ='高考-总额分配'!$D$17*C11/SUM(C$2:C$50) -> 5962.4739
A12: 政治 | B12: 王长发 | C12: 579.87305 | D12: ='高考-总额分配'!$D$17*C12/SUM(C$2:C$50) -> 5622.6494
A13: 政治 | B13: 尹伦 | C13: 402.11225 | D13: ='高考-总额分配'!$D$17*C13/SUM(C$2:C$50) -> 3899.0193
... A50: 语文 | B50: 杨宗国 | C50: 200.39187 | D50: ='高考-总额分配'!$D$17*C50/SUM(C$2:C$50) -> 1943.0688
B51: 合计 | C51: =SUM(C2:C50) -> 21325.272 | D51: =SUM(D2:D50) -> 206777.21
A53: 详细算法见附件2

Sheet 高考-文化总分上线奖
G1: 高考成绩 | N1: 目标得分 | S1: 16-17学年上 | AF1: 16-17学年下 | AS1: 17-18学年上 | BF1: 17-18学年下 | BS1: 18-19学年上 | CF1: 18-19学年下
S2: 班级 | T2: 语文 | V2: 数学 | X2: 英语 | Z2: 物理/政治 | AB2: 化学/历史 | AD2: 生物/地理 | AF2: 班级 | AG2: 语文 | AI2: 数学 | AK2: 英语 | AM2: 物理/政治 | AO2: 化学/历史 | AQ2: 生物/地理 | AS2: 班级 | AT2: 语文 | AV2: 数学 | AX2: 英语 | AZ2: 物理 | BB2: 化学 | BD2: 生物 | BF2: 班级 | BG2: 语文 | BI2: 数学 | BK2: 英语 | BM2: 物理/政治 | BO2: 化学/历史 | BQ2: 生物/地理 | BS2: 班级 | BT2: 语文 | BV2: 数学 | BX2: 英语 | BZ2: 物理/政治 | CB2: 化学/历史 | CD2: 生物/地理 | CF2: 班级 | CG2: 语文 | CI2: 数学 | CK2: 英语 | CM2: 物理/政治 | CO2: 化学/历史 | CQ2: 生物/地理
A3: 姓名 | B3: 身份证号码 | C3: 类别 | D3: 科类 | E3: 本科目标 | F3: 重本目标 | G3: 语文 | H3: 数学 | I3: 英语 | J3: 物理/政治 | K3: 化学/历史 | L3: 生物/地理 | M3: 总分 | N3: 是否上本科 | O3: 本科得分 | P3: 是否上重本 | Q3: 重本得分 | R3: 目标得分合计 | S3: 班级 | T3: 教师 姓名 | U3: 得分 | V3: 教师 姓名 | W3: 得分 | X3: 教师 姓名 | Y3: 得分 | Z3: 教师 姓名 | AA3: 得分 | AB3: 教师 姓名 | AC3: 得分 | AD3: 教师 姓名 | AE3: 得分 | AF3: 班级 | AG3: 教师 姓名 | AH3: 得分 | AI3: 教师 姓名 | AJ3: 得分 | AK3: 教师 姓名 | AL3: 得分 | AM3: 教师 姓名 | AN3: 得分 | AO3: 教师 姓名 | AP3: 得分 | AQ3: 教师 姓名 | AR3: 得分 | AS3: 班级 | AT3: 教师 姓名 | AU3: 得分 | AV3: 教师 姓名 | AW3: 得分 | AX3: 教师 姓名 | AY3: 得分 | AZ3: 教师 姓名 | BA3: 得分 | BB3: 教师 姓名 | BC3: 得分 | BD3: 教师 姓名 | BE3: 得分 | BF3: 班级 | BG3: 教师 姓名 | BH3: 得分 | BI3: 教师 姓名 | BJ3: 得分 | BK3: 教师 姓名 | BL3: 得分 | BM3: 教师 姓名 | BN3: 得分 | BO3: 教师 姓名 | BP3: 得分 | BQ3: 教师 姓名 | BR3: 得分 | BS3: 班级 | BT3: 教师 姓名 | BU3: 得分 | BV3: 教师 姓名 | BW3: 得分 | BX3: 教师 姓名 | BY3: 得分 | BZ3: 教师 姓名 | CA3: 得分 | CB3: 教师 姓名 | CC3: 得分 | CD3: 教师 姓名 | CE3: 得分 | CF3: 班级 | CG3: 教师 姓名 | CH3: 得分 | CI3: 教师 姓名 | CJ3: 得分 | CK3: 教师 姓名 | CL3: 得分 | CM3: 教师 姓名 | CN3: 得分 | CO3: 教师 姓名 | CP3: 得分 | CQ3: 教师 姓名 | CR3: 得分
A4: 苏朗扎西 | B4: 513422200106213813 | C4: 统招 | D4: 理科 | E4: 1 | F4: 1 | G4: 118 | H4: 108 | I4: 139 | J4: 70 | K4: 73 | L4: 80 | M4: =SUM(G4:L4) -> 588 | N4: 本科 | O4: =IF(E4>0,IF(N4="本科",(2-E4)*36,-(E4)*36),IF(N4="本科",2*36,0)) -> 36 | P4: 重本 | Q4: =IF(F4>0,IF(P4="重本",(2-F4)*72,-(F4)*72),IF(P4="重本",2*72,0)) -> 72 | R4: =O4+Q4 -> 108 | T4: 岳贵敏 | U4: =($R4*2/10)*0.5/6 -> 1.8 | V4: 央宗娜姆 | W4: =($R4*2/10)*0.5/6 -> 1.8 | X4: 周凯 | Y4: =($R4*2/10)*0.5/6 -> 1.8 | Z4: 赵建超 | AA4: =($R4*2/10)*0.5/6 -> 1.8 | AB4: 任吉洪 | AC4: =($R4*2/10)*0.5/6 -> 1.8 | AD4: 张弘 | AE4: =($R4*2/10)*0.5/6 -> 1.8 | AG4: 岳贵敏 | AH4: =($R4*2/10)*0.5/6 -> 1.8 | AI4: 央宗娜姆 | AJ4: =($R4*2/10)*0.5/6 -> 1.8 | AK4: 周凯 | AL4: =($R4*2/10)*0.5/6 -> 1.8 | AM4: 赵建超 | AN4: =($R4*2/10)*0.5/6 -> 1.8 | AO4: 余英 | AP4: =($R4*2/10)*0.5/6 -> 1.8 | AQ4: 彭桦 | AR4: =($R4*2/10)*0.5/6 -> 1.8 | AT4: 岳贵敏 | AU4: =($R4*3/10)*0.5/6 -> 2.7 | AV4: 黄金华 | AW4: =($R4*3/10)*0.5/6 -> 2.7 | AX4: 周凯 | AY4: =($R4*3/10)*0.5/6 -> 2.7 | AZ4: 兰举银 | BA4: =($R4*3/10)*0.5/6 -> 2.7 | BB4: 余英 | BC4: =($R4*3/10)*0.5/6 -> 2.7 | BD4: 彭桦 | BE4: =($R4*3/10)*0.5/6 -> 2.7 | BG4: 岳贵敏 | BH4: =($R4*3/10)*0.5/6 -> 2.7 | BI4: 央宗娜姆 | BJ4: =($R4*3/10)*0.5/6 -> 2.7 | BK4: 周凯 | BL4: =($R4*3/10)*0.5/6 -> 2.7 | BM4: 兰举银 | BN4: =($R4*3/10)*0.5/6 -> 2.7 | BO4: 余英 | BP4: =($R4*3/10)*0.5/6 -> 2.7 | BQ4: 彭桦 | BR4: =($R4*3/10)*0.5/6 -> 2.7 | BT4: 易涛 | BU4: =($R4*5/10)*0.5/6 -> 4.5 | BV4: 央宗娜姆 | BW4: =($R4*5/10)*0.5/6 -> 4.5 | BX4: 周凯 | BY4: =($R4*5/10)*0.5/6 -> 4.5 | BZ4: 赵建超 | CA4: =($R4*5/10)*0.5/6 -> 4.5 | CB4: 任吉洪 | CC4: =($R4*5/10)*0.5/6 -> 4.5 | CD4: 张弘 | CE4: =($R4*5/10)*0.5/6 -> 4.5 | CG4: 易涛 | CH4: =($R4*5/10)*0.5/6 -> 4.5 | CI4: 央宗娜姆 | CJ4: =($R4*5/10)*0.5/6 -> 4.5 | CK4: 周凯 | CL4: =($R4*5/10)*0.5/6 -> 4.5 | CM4: 赵建超 | CN4: =($R4*5/10)*0.5/6 -> 4.5 | CO4: 任吉洪 | CP4: =($R4*5/10)*0.5/6 -> 4.5 | CQ4: 张弘 | CR4: =($R4*5/10)*0.5/6 -> 4.5
A5: 邝世杰 | B5: 513422200202283619 | C5: 统招 | D5: 理科 | E5: 1 | G5: 116 | H5: 110 | I5: 135 | J5: 95.5 | K5: 46.5 | L5: 74.5 | M5: =SUM(G5:L5) -> 577.5 | N5: 本科 | O5: =IF(E5>0,IF(N5="本科",(2-E5)*36,-(E5)*36),IF(N5="本科",2*36,0)) -> 36 | P5: 重本 | Q5: =IF(F5>0,IF(P5="重本",(2-F5)*72,-(F5)*72),IF(P5="重本",2*72,0)) -> 144 | R5: =O5+Q5 -> 180 | T5: 易涛 | U5: =($R5*2/10)*0.5/6 -> 3 | V5: 王江 | W5: =($R5*2/10)*0.5/6 -> 3 | X5: 雷敏 | Y5: =($R5*2/10)*0.5/6 -> 3 | Z5: 兰举银 | AA5: =($R5*2/10)*0.5/6 -> 3 | AB5: 余英 | AC5: =($R5*2/10)*0.5/6 -> 3 | AD5: 彭桦 | AE5: =($R5*2/10)*0.5/6 -> 3 | AG5: 易涛 | AH5: =($R5*2/10)*0.5/6 -> 3 | AI5: 王江 | AJ5: =($R5*2/10)*0.5/6 -> 3 | AK5: 雷敏 | AL5: =($R5*2/10)*0.5/6 -> 3 | AM5: 兰举银 | AN5: =($R5*2/10)*0.5/6 -> 3 | AO5: 任吉洪 | AP5: =($R5*2/10)*0.5/6 -> 3 | AQ5: 彭桦 | AR5: =($R5*2/10)*0.5/6 -> 3 | AT5: 易涛 | AU5: =($R5*3/10)*0.5/6 -> 4.5 | AV5: 王江 | AW5: =($R5*3/10)*0.5/6 -> 4.5 | AX5: 雷敏 | AY5: =($R5*3/10)*0.5/6 -> 4.5 | AZ5: 兰举银 | BA5: =($R5*3/10)*0.5/6 -> 4.5 | BB5: 余英 | BC5: =($R5*3/10)*0.5/6 -> 4.5 | BD5: 彭桦 | BE5: =($R5*3/10)*0.5/6 -> 4.5 | BG5: 易涛 | BH5: =($R5*3/10)*0.5/6 -> 4.5 | BI5: 王江 | BJ5: =($R5*3/10)*0.5/6 -> 4.5 | BK5: 聂艳梅 | BL5: =($R5*3/10)*0.5/6 -> 4.5 | BM5: 兰举银 | BN5: =($R5*3/10)*0.5/6 -> 4.5 | BO5: 余英 | BP5: =($R5*3/10)*0.5/6 -> 4.5 | BQ5: 彭桦 | BR5: =($R5*3/10)*0.5/6 -> 4.5 | BT5: 杨宗国 | BU5: =($R5*5/10)*0.5/6 -> 7.5 | BV5: 王江 | BW5: =($R5*5/10)*0.5/6 -> 7.5 | BX5: 雷敏 | BY5: =($R5*5/10)*0.5/6 -> 7.5 | BZ5: 兰举银 | CA5: =($R5*5/10)*0.5/6 -> 7.5 | CB5: 余英 | CC5: =($R5*5/10)*0.5/6 -> 7.5 | CD5: 彭桦 | CE5: =($R5*5/10)*0.5/6 -> 7.5 | CG5: 杨宗国 | CH5: =($R5*5/10)*0.5/6 -> 7.5 | CI5: 王江 | CJ5: =($R5*5/10)*0.5/6 -> 7.5 | CK5: 雷敏 | CL5: =($R5*5/10)*0.5/6 -> 7.5 | CM5: 兰举银 | CN5: =($R5*5/10)*0.5/6 -> 7.5 | CO5: 余英 | CP5: =($R5*5/10)*0.5/6 -> 7.5 | CQ5: 彭桦 | CR5: =($R5*5/10)*0.5/6 -> 7.5
A6: 杨露 | B6: 51342220010627232X | C6: 统招 | D6: 理科 | E6: 1 | F6: 1 | G6: 116 | H6: 110 | I6: 142 | J6: 74.5 | K6: 57 | L6: 69 | M6: =SUM(G6:L6) -> 568.5 | N6: 本科 | O6: =IF(E6>0,IF(N6="本科",(2-E6)*36,-(E6)*36),IF(N6="本科",2*36,0)) -> 36 | P6: 重本 | Q6: =IF(F6>0,IF(P6="重本",(2-F6)*72,-(F6)*72),IF(P6="重本",2*72,0)) -> 72 | R6: =O6+Q6 -> 108 | T6: 岳贵敏 | U6: =($R6*2/10)*0.5/6 -> 1.8 | V6: 央宗娜姆 | W6: =($R6*2/10)*0.5/6 -> 1.8 | X6: 周凯 | Y6: =($R6*2/10)*0.5/6 -> 1.8 | Z6: 赵建超 | AA6: =($R6*2/10)*0.5/6 -> 1.8 | AB6: 任吉洪 | AC6: =($R6*2/10)*0.5/6 -> 1.8 | AD6: 张弘 | AE6: =($R6*2/10)*0.5/6 -> 1.8 | AG6: 岳贵敏 | AH6: =($R6*2/10)*0.5/6 -> 1.8 | AI6: 央宗娜姆 | AJ6: =($R6*2/10)*0.5/6 -> 1.8 | AK6: 周凯 | AL6: =($R6*2/10)*0.5/6 -> 1.8 | AM6: 赵建超 | AN6: =($R6*2/10)*0.5/6 -> 1.8 | AO6: 余英 | AP6: =($R6*2/10)*0.5/6 -> 1.8 | AQ6: 彭桦 | AR6: =($R6*2/10)*0.5/6 -> 1.8 | AT6: 岳贵敏 | AU6: =($R6*3/10)*0.5/6 -> 2.7 | AV6: 黄金华 | AW6: =($R6*3/10)*0.5/6 -> 2.7 | AX6: 周凯 | AY6: =($R6*3/10)*0.5/6 -> 2.7 | AZ6: 赵建超 | BA6: =($R6*3/10)*0.5/6 -> 2.7 | BB6: 任吉洪 | BC6: =($R6*3/10)*0.5/6 -> 2.7 | BD6: 张弘 | BE6: =($R6*3/10)*0.5/6 -> 2.7 | BG6: 岳贵敏 | BH6: =($R6*3/10)*0.5/6 -> 2.7 | BI6: 央宗娜姆 | BJ6: =($R6*3/10)*0.5/6 -> 2.7 | BK6: 周凯 | BL6: =($R6*3/10)*0.5/6 -> 2.7 | BM6: 赵建超 | BN6: =($R6*3/10)*0.5/6 -> 2.7 | BO6: 任吉洪 | BP6: =($R6*3/10)*0.5/6 -> 2.7 | BQ6: 张弘 | BR6: =($R6*3/10)*0.5/6 -> 2.7 | BT6: 易涛 | BU6: =($R6*5/10)*0.5/6 -> 4.5 | BV6: 央宗娜姆 | BW6: =($R6*5/10)*0.5/6 -> 4.5 | BX6: 周凯 | BY6: =($R6*5/10)*0.5/6 -> 4.5 | BZ6: 赵建超 | CA6: =($R6*5/10)*0.5/6 -> 4.5 | CB6: 任吉洪 | CC6: =($R6*5/10)*0.5/6 -> 4.5 | CD6: 张弘 | CE6: =($R6*5/10)*0.5/6 -> 4.5 | CG6: 易涛 | CH6: =($R6*5/10)*0.5/6 -> 4.5 | CI6: 央宗娜姆 | CJ6: =($R6*5/10)*0.5/6 -> 4.5 | CK6: 周凯 | CL6: =($R6*5/10)*0.5/6 -> 4.5 | CM6: 赵建超 | CN6: =($R6*5/10)*0.5/6 -> 4.5 | CO6: 任吉洪 | CP6: =($R6*5/10)*0.5/6 -> 4.5 | CQ6: 张弘 | CR6: =($R6*5/10)*0.5/6 -> 4.5
A7: 吴泓兵 | B7: 513422200010040014 | C7: 统招 | D7: 理科 | E7: 1 | G7: 105 | H7: 117 | I7: 118 | J7: 90 | K7: 61.5 | L7: 76.5 | M7: =SUM(G7:L7) -> 568 | N7: 本科 | O7: =IF(E7>0,IF(N7="本科",(2-E7)*36,-(E7)*36),IF(N7="本科",2*36,0)) -> 36 | P7: 重本 | Q7: =IF(F7>0,IF(P7="重本",(2-F7)*72,-(F7)*72),IF(P7="重本",2*72,0)) -> 144 | R7: =O7+Q7 -> 180 | T7: 易涛 | U7: =($R7*2/10)*0.5/6 -> 3 | V7: 王江 | W7: =($R7*2/10)*0.5/6 -> 3 | X7: 雷敏 | Y7: =($R7*2/10)*0.5/6 -> 3 | Z7: 兰举银 | AA7: =($R7*2/10)*0.5/6 -> 3 | AB7: 余英 | AC7: =($R7*2/10)*0.5/6 -> 3 | AD7: 彭桦 | AE7: =($R7*2/10)*0.5/6 -> 3 | AG7: 易涛 | AH7: =($R7*2/10)*0.5/6 -> 3 | AI7: 王江 | AJ7: =($R7*2/10)*0.5/6 -> 3 | AK7: 雷敏 | AL7: =($R7*2/10)*0.5/6 -> 3 | AM7: 兰举银 | AN7: =($R7*2/10)*0.5/6 -> 3 | AO7: 任吉洪 | AP7: =($R7*2/10)*0.5/6 -> 3 | AQ7: 张弘 | AR7: =($R7*2/10)*0.5/6 -> 3 | AT7: 易涛 | AU7: =($R7*3/10)*0.5/6 -> 4.5 | AV7: 王江 | AW7: =($R7*3/10)*0.5/6 -> 4.5 | AX7: 雷敏 | AY7: =($R7*3/10)*0.5/6 -> 4.5 | AZ7: 兰举银 | BA7: =($R7*3/10)*0.5/6 -> 4.5 | BB7: 余英 | BC7: =($R7*3/10)*0.5/6 -> 4.5 | BD7: 彭桦 | BE7: =($R7*3/10)*0.5/6 -> 4.5 | BG7: 易涛 | BH7: =($R7*3/10)*0.5/6 -> 4.5 | BI7: 王江 | BJ7: =($R7*3/10)*0.5/6 -> 4.5 | BK7: 聂艳梅 | BL7: =($R7*3/10)*0.5/6 -> 4.5 | BM7: 兰举银 | BN7: =($R7*3/10)*0.5/6 -> 4.5 | BO7: 余英 | BP7: =($R7*3/10)*0.5/6 -> 4.5 | BQ7: 彭桦 | BR7: =($R7*3/10)*0.5/6 -> 4.5 | BT7: 杨宗国 | BU7: =($R7*5/10)*0.5/6 -> 7.5 | BV7: 王江 | BW7: =($R7*5/10)*0.5/6 -> 7.5 | BX7: 雷敏 | BY7: =($R7*5/10)*0.5/6 -> 7.5 | BZ7: 兰举银 | CA7: =($R7*5/10)*0.5/6 -> 7.5 | CB7: 余英 | CC7: =($R7*5/10)*0.5/6 -> 7.5 | CD7: 彭桦 | CE7: =($R7*5/10)*0.5/6 -> 7.5 | CG7: 杨宗国 | CH7: =($R7*5/10)*0.5/6 -> 7.5 | CI7: 王江 | CJ7: =($R7*5/10)*0.5/6 -> 7.5 | CK7: 雷敏 | CL7: =($R7*5/10)*0.5/6 -> 7.5 | CM7: 兰举银 | CN7: =($R7*5/10)*0.5/6 -> 7.5 | CO7: 余英 | CP7: =($R7*5/10)*0.5/6 -> 7.5 | CQ7: 彭桦 | CR7: =($R7*5/10)*0.5/6 -> 7.5
A8: 唐春兰 | B8: 513422200104100321 | C8: 统招 | D8: 理科 | E8: 1 | F8: 1 | G8: 112 | H8: 120 | I8: 121 | J8: 76 | K8: 66 | L8: 71 | M8: =SUM(G8:L8) -> 566 | N8: 本科 | O8: =IF(E8>0,IF(N8="本科",(2-E8)*36,-(E8)*36),IF(N8="本科",2*36,0)) -> 36 | P8: 重本 | Q8: =IF(F8>0,IF(P8="重本",(2-F8)*72,-(F8)*72),IF(P8="重本",2*72,0)) -> 72 | R8: =O8+Q8 -> 108 | T8: 岳贵敏 | U8: =($R8*2/10)*0.5/6 -> 1.8 | V8: 央宗娜姆 | W8: =($R8*2/10)*0.5/6 -> 1.8 | X8: 周凯 | Y8: =($R8*2/10)*0.5/6 -> 1.8 | Z8: 赵建超 | AA8: =($R8*2/10)*0.5/6 -> 1.8 | AB8: 任吉洪 | AC8: =($R8*2/10)*0.5/6 -> 1.8 | AD8: 张弘 | AE8: =($R8*2/10)*0.5/6 -> 1.8 | AG8: 岳贵敏 | AH8: =($R8*2/10)*0.5/6 -> 1.8 | AI8: 央宗娜姆 | AJ8: =($R8*2/10)*0.5/6 -> 1.8 | AK8: 周凯 | AL8: =($R8*2/10)*0.5/6 -> 1.8 | AM8: 赵建超 | AN8: =($R8*2/10)*0.5/6 -> 1.8 | AO8: 余英 | AP8: =($R8*2/10)*0.5/6 -> 1.8 | AQ8: 彭桦 | AR8: =($R8*2/10)*0.5/6 -> 1.8 | AT8: 易涛 | AU8: =($R8*3/10)*0.5/6 -> 2.7 | AV8: 王江 | AW8: =($R8*3/10)*0.5/6 -> 2.7 | AX8: 雷敏 | AY8: =($R8*3/10)*0.5/6 -> 2.7 | AZ8: 赵建超 | BA8: =($R8*3/10)*0.5/6 -> 2.7 | BB8: 任吉洪 | BC8: =($R8*3/10)*0.5/6 -> 2.7 | BD8: 张弘 | BE8: =($R8*3/10)*0.5/6 -> 2.7 | BG8: 易涛 | BH8: =($R8*3/10)*0.5/6 -> 2.7 | BI8: 王江 | BJ8: =($R8*3/10)*0.5/6 -> 2.7 | BK8: 聂艳梅 | BL8: =($R8*3/10)*0.5/6 -> 2.7 | BM8: 赵建超 | BN8: =($R8*3/10)*0.5/6 -> 2.7 | BO8: 任吉洪 | BP8: =($R8*3/10)*0.5/6 -> 2.7 | BQ8: 张弘 | BR8: =($R8*3/10)*0.5/6 -> 2.7 | BT8: 易涛 | BU8: =($R8*5/10)*0.5/6 -> 4.5 | BV8: 央宗娜姆 | BW8: =($R8*5/10)*0.5/6 -> 4.5 | BX8: 周凯 | BY8: =($R8*5/10)*0.5/6 -> 4.5 | BZ8: 赵建超 | CA8: =($R8*5/10)*0.5/6 -> 4.5 | CB8: 任吉洪 | CC8: =($R8*5/10)*0.5/6 -> 4.5 | CD8: 张弘 | CE8: =($R8*5/10)*0.5/6 -> 4.5 | CG8: 易涛 | CH8: =($R8*5/10)*0.5/6 -> 4.5 | CI8: 央宗娜姆 | CJ8: =($R8*5/10)*0.5/6 -> 4.5 | CK8: 周凯 | CL8: =($R8*5/10)*0.5/6 -> 4.5 | CM8: 赵建超 | CN8: =($R8*5/10)*0.5/6 -> 4.5 | CO8: 任吉洪 | CP8: =($R8*5/10)*0.5/6 -> 4.5 | CQ8: 张弘 | CR8: =($R8*5/10)*0.5/6 -> 4.5
A9: 周斌 | B9: 513422200110192111 | C9: 统招 | D9: 理科 | E9: 1 | G9: 107 | H9: 116 | I9: 141 | J9: 58 | K9: 64 | L9: 77 | M9: =SUM(G9:L9) -> 563 | N9: 本科 | O9: =IF(E9>0,IF(N9="本科",(2-E9)*36,-(E9)*36),IF(N9="本科",2*36,0)) -> 36 | P9: 重本 | Q9: =IF(F9>0,IF(P9="重本",(2-F9)*72,-(F9)*72),IF(P9="重本",2*72,0)) -> 144 | R9: =O9+Q9 -> 180 | T9: 岳贵敏 | U9: =($R9*2/10)*0.5/6 -> 3 | V9: 央宗娜姆 | W9: =($R9*2/10)*0.5/6 -> 3 | X9: 周凯 | Y9: =($R9*2/10)*0.5/6 -> 3 | Z9: 赵建超 | AA9: =($R9*2/10)*0.5/6 -> 3 | AB9: 任吉洪 | AC9: =($R9*2/10)*0.5/6 -> 3 | AD9: 张弘 | AE9: =($R9*2/10)*0.5/6 -> 3 | AG9: 李正琪 | AH9: =($R9*2/10)*0.5/6 -> 3 | AI9: 央宗娜姆 | AJ9: =($R9*2/10)*0.5/6 -> 3 | AK9: 周凯 | AL9: =($R9*2/10)*0.5/6 -> 3 | AM9: 赵建超 | AN9: =($R9*2/10)*0.5/6 -> 3 | AO9: 余英 | AP9: =($R9*2/10)*0.5/6 -> 3 | AQ9: 张弘 | AR9: =($R9*2/10)*0.5/6 -> 3 | AT9: 李正琪 | AU9: =($R9*3/10)*0.5/6 -> 4.5 | AV9: 黄金华 | AW9: =($R9*3/10)*0.5/6 -> 4.5 | AX9: 周凯 | AY9: =($R9*3/10)*0.5/6 -> 4.5 | AZ9: 兰举银 | BA9: =($R9*3/10)*0.5/6 -> 4.5 | BB9: 余英 | BC9: =($R9*3/10)*0.5/6 -> 4.5 | BD9: 彭桦 | BE9: =($R9*3/10)*0.5/6 -> 4.5 | BG9: 李正琪 | BH9: =($R9*3/10)*0.5/6 -> 4.5 | BI9: 央宗娜姆 | BJ9: =($R9*3/10)*0.5/6 -> 4.5 | BK9: 周凯 | BL9: =($R9*3/10)*0.5/6 -> 4.5 | BM9: 兰举银 | BN9: =($R9*3/10)*0.5/6 -> 4.5 | BO9: 余英 | BP9: =($R9*3/10)*0.5/6 -> 4.5 | BQ9: 彭桦 | BR9: =($R9*3/10)*0.5/6 -> 4.5 | BT9: 易涛 | BU9: =($R9*5/10)*0.5/6 -> 7.5 | BV9: 央宗娜姆 | BW9: =($R9*5/10)*0.5/6 -> 7.5 | BX9: 周凯 | BY9: =($R9*5/10)*0.5/6 -> 7.5 | BZ9: 赵建超 | CA9: =($R9*5/10)*0.5/6 -> 7.5 | CB9: 任吉洪 | CC9: =($R9*5/10)*0.5/6 -> 7.5 | CD9: 张弘 | CE9: =($R9*5/10)*0.5/6 -> 7.5 | CG9: 易涛 | CH9: =($R9*5/10)*0.5/6 -> 7.5 | CI9: 央宗娜姆 | CJ9: =($R9*5/10)*0.5/6 -> 7.5 | CK9: 周凯 | CL9: =($R9*5/10)*0.5/6 -> 7.5 | CM9: 赵建超 | CN9: =($R9*5/10)*0.5/6 -> 7.5 | CO9: 任吉洪 | CP9: =($R9*5/10)*0.5/6 -> 7.5 | CQ9: 张弘 | CR9: =($R9*5/10)*0.5/6 -> 7.5
A10: 仁青 | B10: 513422200104054214 | C10: 统招 | D10: 理科 | E10: 1 | G10: 109 | H10: 106 | I10: 113 | J10: 87 | K10: 63 | L10: 68.5 | M10: =SUM(G10:L10) -> 546.5 | N10: 本科 | O10: =IF(E10>0,IF(N10="本科",(2-E10)*36,-(E10)*36),IF(N10="本科",2*36,0)) -> 36 | P10: 重本 | Q10: =IF(F10>0,IF(P10="重本",(2-F10)*72,-(F10)*72),IF(P10="重本",2*72,0)) -> 144 | R10: =O10+Q10 -> 180 | T10: 易涛 | U10: =($R10*2/10)*0.5/6 -> 3 | V10: 王江 | W10: =($R10*2/10)*0.5/6 -> 3 | X10: 雷敏 | Y10: =($R10*2/10)*0.5/6 -> 3 | Z10: 兰举银 | AA10: =($R10*2/10)*0.5/6 -> 3 | AB10: 余英 | AC10: =($R10*2/10)*0.5/6 -> 3 | AD10: 彭桦 | AE10: =($R10*2/10)*0.5/6 -> 3 | AG10: 易涛 | AH10: =($R10*2/10)*0.5/6 -> 3 | AI10: 王江 | AJ10: =($R10*2/10)*0.5/6 -> 3 | AK10: 雷敏 | AL10: =($R10*2/10)*0.5/6 -> 3 | AM10: 兰举银 | AN10: =($R10*2/10)*0.5/6 -> 3 | AO10: 任吉洪 | AP10: =($R10*2/10)*0.5/6 -> 3 | AQ10: 彭桦 | AR10: =($R10*2/10)*0.5/6 -> 3 | AT10: 易涛 | AU10: =($R10*3/10)*0.5/6 -> 4.5 | AV10: 王江 | AW10: =($R10*3/10)*0.5/6 -> 4.5 | AX10: 雷敏 | AY10: =($R10*3/10)*0.5/6 -> 4.5 | AZ10: 兰举银 | BA10: =($R10*3/10)*0.5/6 -> 4.5 | BB10: 余英 | BC10: =($R10*3/10)*0.5/6 -> 4.5 | BD10: 彭桦 | BE10: =($R10*3/10)*0.5/6 -> 4.5 | BG10: 易涛 | BH10: =($R10*3/10)*0.5/6 -> 4.5 | BI10: 王江 | BJ10: =($R10*3/10)*0.5/6 -> 4.5 | BK10: 聂艳梅 | BL10: =($R10*3/10)*0.5/6 -> 4.5 | BM10: 兰举银 | BN10: =($R10*3/10)*0.5/6 -> 4.5 | BO10: 余英 | BP10: =($R10*3/10)*0.5/6 -> 4.5 | BQ10: 彭桦 | BR10: =($R10*3/10)*0.5/6 -> 4.5 | BT10: 杨宗国 | BU10: =($R10*5/10)*0.5/6 -> 7.5 | BV10: 王江 | BW10: =($R10*5/10)*0.5/6 -> 7.5 | BX10: 雷敏 | BY10: =($R10*5/10)*0.5/6 -> 7.5 | BZ10: 兰举银 | CA10: =($R10*5/10)*0.5/6 -> 7.5 | CB10: 余英 | CC10: =($R10*5/10)*0.5/6 -> 7.5 | CD10: 彭桦 | CE10: =($R10*5/10)*0.5/6 -> 7.5 | CG10: 杨宗国 | CH10: =($R10*5/10)*0.5/6 -> 7.5 | CI10: 王江 | CJ10: =($R10*5/10)*0.5/6 -> 7.5 | CK10: 雷敏 | CL10: =($R10*5/10)*0.5/6 -> 7.5 | CM10: 兰举银 | CN10: =($R10*5/10)*0.5/6 -> 7.5 | CO10: 余英 | CP10: =($R10*5/10)*0.5/6 -> 7.5 | CQ10: 彭桦 | CR10: =($R10*5/10)*0.5/6 -> 7.5
A11: 祝玛拉姆 | B11: 513422199807052324 | C11: 统招 | D11: 理科 | E11: 1 | F11: 1 | G11: 109 | H11: 109 | I11: 143 | J11: 64 | K11: 49.5 | L11: 71 | M11: =SUM(G11:L11) -> 545.5 | N11: 本科 | O11: =IF(E11>0,IF(N11="本科",(2-E11)*36,-(E11)*36),IF(N11="本科",2*36,0)) -> 36 | Q11: =IF(F11>0,IF(P11="重本",(2-F11)*72,-(F11)*72),IF(P11="重本",2*72,0)) -> -72 | R11: =O11+Q11 -> -36 | T11: 易涛 | U11: =($R11*2/10)*0.5/6 -> -0.6 | V11: 王江 | W11: =($R11*2/10)*0.5/6 -> -0.6 | X11: 雷敏 | Y11: =($R11*2/10)*0.5/6 -> -0.6 | Z11: 兰举银 | AA11: =($R11*2/10)*0.5/6 -> -0.6 | AB11: 余英 | AC11: =($R11*2/10)*0.5/6 -> -0.6 | AD11: 彭桦 | AE11: =($R11*2/10)*0.5/6 -> -0.6 | AG11: 易涛 | AH11: =($R11*2/10)*0.5/6 -> -0.6 | AI11: 王江 | AJ11: =($R11*2/10)*0.5/6 -> -0.6 | AK11: 雷敏 | AL11: =($R11*2/10)*0.5/6 -> -0.6 | AM11: 兰举银 | AN11: =($R11*2/10)*0.5/6 -> -0.6 | AO11: 任吉洪 | AP11: =($R11*2/10)*0.5/6 -> -0.6 | AQ11: 彭桦 | AR11: =($R11*2/10)*0.5/6 -> -0.6 | AT11: 易涛 | AU11: =($R11*3/10)*0.5/6 -> -0.9 | AV11: 王江 | AW11: =($R11*3/10)*0.5/6 -> -0.9 | AX11: 雷敏 | AY11: =($R11*3/10)*0.5/6 -> -0.9 | AZ11: 兰举银 | BA11: =($R11*3/10)*0.5/6 -> -0.9 | BB11: 余英 | BC11: =($R11*3/10)*0.5/6 -> -0.9 | BD11: 彭桦 | BE11: =($R11*3/10)*0.5/6 -> -0.9 | BG11: 易涛 | BH11: =($R11*3/10)*0.5/6 -> -0.9 | BI11: 王江 | BJ11: =($R11*3/10)*0.5/6 -> -0.9 | BK11: 聂艳梅 | BL11: =($R11*3/10)*0.5/6 -> -0.9 | BM11: 兰举银 | BN11: =($R11*3/10)*0.5/6 -> -0.9 | BO11: 余英 | BP11: =($R11*3/10)*0.5/6 -> -0.9 | BQ11: 彭桦 | BR11: =($R11*3/10)*0.5/6 -> -0.9 | BT11: 杨宗国 | BU11: =($R11*5/10)*0.5/6 -> -1.5 | BV11: 王江 | BW11: =($R11*5/10)*0.5/6 -> -1.5 | BX11: 雷敏 | BY11: =($R11*5/10)*0.5/6 -> -1.5 | BZ11: 兰举银 | CA11: =($R11*5/10)*0.5/6 -> -1.5 | CB11: 余英 | CC11: =($R11*5/10)*0.5/6 -> -1.5 | CD11: 彭桦 | CE11: =($R11*5/10)*0.5/6 -> -1.5 | CG11: 杨宗国 | CH11: =($R11*5/10)*0.5/6 -> -1.5 | CI11: 王江 | CJ11: =($R11*5/10)*0.5/6 -> -1.5 | CK11: 雷敏 | CL11: =($R11*5/10)*0.5/6 -> -1.5 | CM11: 兰举银 | CN11: =($R11*5/10)*0.5/6 -> -1.5 | CO11: 余英 | CP11: =($R11*5/10)*0.5/6 -> -1.5 | CQ11: 彭桦 | CR11: =($R11*5/10)*0.5/6 -> -1.5
A12: 杨富琴 | B12: 513422199909231323 | C12: 统招 | D12: 理科 | E12: 1 | F12: 1 | G12: 117 | H12: 109 | I12: 125 | J12: 59.5 | K12: 66 | L12: 67 | M12: =SUM(G12:L12) -> 543.5 | N12: 本科 | O12: =IF(E12>0,IF(N12="本科",(2-E12)*36,-(E12)*36),IF(N12="本科",2*36,0)) -> 36 | Q12: =IF(F12>0,IF(P12="重本",(2-F12)*72,-(F12)*72),IF(P12="重本",2*72,0)) -> -72 | R12: =O12+Q12 -> -36 | T12: 易涛 | U12: =($R12*2/10)*0.5/6 -> -0.6 | V12: 王江 | W12: =($R12*2/10)*0.5/6 -> -0.6 | X12: 雷敏 | Y12: =($R12*2/10)*0.5/6 -> -0.6 | Z12: 兰举银 | AA12: =($R12*2/10)*0.5/6 -> -0.6 | AB12: 余英 | AC12: =($R12*2/10)*0.5/6 -> -0.6 | AD12: 彭桦 | AE12: =($R12*2/10)*0.5/6 -> -0.6 | AG12: 易涛 | AH12: =($R12*2/10)*0.5/6 -> -0.6 | AI12: 王江 | AJ12: =($R12*2/10)*0.5/6 -> -0.6 | AK12: 雷敏 | AL12: =($R12*2/10)*0.5/6 -> -0.6 | AM12: 兰举银 | AN12: =($R12*2/10)*0.5/6 -> -0.6 | AO12: 任吉洪 | AP12: =($R12*2/10)*0.5/6 -> -0.6 | AQ12: 张弘 | AR12: =($R12*2/10)*0.5/6 -> -0.6 | AT12: 易涛 | AU12: =($R12*3/10)*0.5/6 -> -0.9 | AV12: 王江 | AW12: =($R12*3/10)*0.5/6 -> -0.9 | AX12: 雷敏 | AY12: =($R12*3/10)*0.5/6 -> -0.9 | AZ12: 兰举银 | BA12: =($R12*3/10)*0.5/6 -> -0.9 | BB12: 余英 | BC12: =($R12*3/10)*0.5/6 -> -0.9 | BD12: 彭桦 | BE12: =($R12*3/10)*0.5/6 -> -0.9 | BG12: 易涛 | BH12: =($R12*3/10)*0.5/6 -> -0.9 | BI12: 王江 | BJ12: =($R12*3/10)*0.5/6 -> -0.9 | BK12: 聂艳梅 | BL12: =($R12*3/10)*0.5/6 -> -0.9 | BM12: 兰举银 | BN12: =($R12*3/10)*0.5/6 -> -0.9 | BO12: 余英 | BP12: =($R12*3/10)*0.5/6 -> -0.9 | BQ12: 彭桦 | BR12: =($R12*3/10)*0.5/6 -> -0.9 | BT12: 杨宗国 | BU12: =($R12*5/10)*0.5/6 -> -1.5 | BV12: 王江 | BW12: =($R12*5/10)*0.5/6 -> -1.5 | BX12: 雷敏 | BY12: =($R12*5/10)*0.5/6 -> -1.5 | BZ12: 兰举银 | CA12: =($R12*5/10)*0.5/6 -> -1.5 | CB12: 余英 | CC12: =($R12*5/10)*0.5/6 -> -1.5 | CD12: 彭桦 | CE12: =($R12*5/10)*0.5/6 -> -1.5 | CG12: 杨宗国 | CH12: =($R12*5/10)*0.5/6 -> -1.5 | CI12: 王江 | CJ12: =($R12*5/10)*0.5/6 -> -1.5 | CK12: 雷敏 | CL12: =($R12*5/10)*0.5/6 -> -1.5 | CM12: 兰举银 | CN12: =($R12*5/10)*0.5/6 -> -1.5 | CO12: 余英 | CP12: =($R12*5/10)*0.5/6 -> -1.5 | CQ12: 彭桦 | CR12: =($R12*5/10)*0.5/6 -> -1.5
A13: 彭友青 | B13: 513422200210205012 | C13: 云南转入 | D13: 理科 | E13: 1 | G13: 94 | H13: 117 | I13: 91 | J13: 82.5 | K13: 82 | L13: 77 | M13: =SUM(G13:L13) -> 543.5 | N13: 本科 | O13: =IF(E13>0,IF(N13="本科",(2-E13)*36,-(E13)*36),IF(N13="本科",2*36,0)) -> 36 | Q13: =IF(F13>0,IF(P13="重本",(2-F13)*72,-(F13)*72),IF(P13="重本",2*72,0)) -> 0 | R13: =O13+Q13 -> 36 | T13: 周菊明 | U13: =($R13*2/10)*0.5/6 -> 0.6 | V13: 徐万雄 | W13: =($R13*2/10)*0.5/6 -> 0.6 | X13: 张翠莲 | Y13: =($R13*2/10)*0.5/6 -> 0.6 | Z13: 赵建超 | AA13: =($R13*2/10)*0.5/6 -> 0.6 | AB13: 余英 | AC13: =($R13*2/10)*0.5/6 -> 0.6 | AD13: 彭桦 | AE13: =($R13*2/10)*0.5/6 -> 0.6 | AG13: 李正琪 | AH13: =($R13*2/10)*0.5/6 -> 0.6 | AI13: 赵云川 | AJ13: =($R13*2/10)*0.5/6 -> 0.6 | AK13: 张翠莲 | AL13: =($R13*2/10)*0.5/6 -> 0.6 | AM13: 兰举银 | AN13: =($R13*2/10)*0.5/6 -> 0.6 | AO13: 任吉洪 | AP13: =($R13*2/10)*0.5/6 -> 0.6 | AQ13: 彭桦 | AR13: =($R13*2/10)*0.5/6 -> 0.6 | AT13: 李正琪 | AU13: =($R13*3/10)*0.5/6 -> 0.9 | AV13: 赵云川 | AW13: =($R13*3/10)*0.5/6 -> 0.9 | AX13: 雷敏 | AY13: =($R13*3/10)*0.5/6 -> 0.9 | AZ13: 兰举银 | BA13: =($R13*3/10)*0.5/6 -> 0.9 | BB13: 余英 | BC13: =($R13*3/10)*0.5/6 -> 0.9 | BD13: 彭桦 | BE13: =($R13*3/10)*0.5/6 -> 0.9 | BG13: 李正琪 | BH13: =($R13*3/10)*0.5/6 -> 0.9 | BI13: 赵云川 | BJ13: =($R13*3/10)*0.5/6 -> 0.9 | BK13: 曾春兰 | BL13: =($R13*3/10)*0.5/6 -> 0.9 | BM13: 兰举银 | BN13: =($R13*3/10)*0.5/6 -> 0.9 | BO13: 余英 | BP13: =($R13*3/10)*0.5/6 -> 0.9 | BQ13: 彭桦 | BR13: =($R13*3/10)*0.5/6 -> 0.9 | BT13: 易涛 | BU13: =($R13*5/10)*0.5/6 -> 1.5 | BV13: 央宗娜姆 | BW13: =($R13*5/10)*0.5/6 -> 1.5 | BX13: 周凯 | BY13: =($R13*5/10)*0.5/6 -> 1.5 | BZ13: 赵建超 | CA13: =($R13*5/10)*0.5/6 -> 1.5 | CB13: 任吉洪 | CC13: =($R13*5/10)*0.5/6 -> 1.5 | CD13: 张弘 | CE13: =($R13*5/10)*0.5/6 -> 1.5 | CG13: 易涛 | CH13: =($R13*5/10)*0.5/6 -> 1.5 | CI13: 央宗娜姆 | CJ13: =($R13*5/10)*0.5/6 -> 1.5 | CK13: 周凯 | CL13: =($R13*5/10)*0.5/6 -> 1.5 | CM13: 赵建超 | CN13: =($R13*5/10)*0.5/6 -> 1.5 | CO13: 任吉洪 | CP13: =($R13*5/10)*0.5/6 -> 1.5 | CQ13: 张弘 | CR13: =($R13*5/10)*0.5/6 -> 1.5
A14: 吴扎西 | B14: 513422200004023613 | C14: 统招 | D14: 理科 | E14: 1 | F14: 1 | G14: 110 | H14: 85 | I14: 139 | J14: 70 | K14: 61 | L14: 75.5 | M14: =SUM(G14:L14) -> 540.5 | N14: 本科 | O14: =IF(E14>0,IF(N14="本科",(2-E14)*36,-(E14)*36),IF(N14="本科",2*36,0)) -> 36 | Q14: =IF(F14>0,IF(P14="重本",(2-F14)*72,-(F14)*72),IF(P14="重本",2*72,0)) -> -72 | R14: =O14+Q14 -> -36 | T14: 岳贵敏 | U14: =($R14*2/10)*0.5/6 -> -0.6 | V14: 央宗娜姆 | W14: =($R14*2/10)*0.5/6 -> -0.6 | X14: 周凯 | Y14: =($R14*2/10)*0.5/6 -> -0.6 | Z14: 赵建超 | AA14: =($R14*2/10)*0.5/6 -> -0.6 | AB14: 任吉洪 | AC14: =($R14*2/10)*0.5/6 -> -0.6 | AD14: 张弘 | AE14: =($R14*2/10)*0.5/6 -> -0.6 | AG14: 岳贵敏 | AH14: =($R14*2/10)*0.5/6 -> -0.6 | AI14: 央宗娜姆 | AJ14: =($R14*2/10)*0.5/6 -> -0.6 | AK14: 周凯 | AL14: =($R14*2/10)*0.5/6 -> -0.6 | AM14: 赵建超 | AN14: =($R14*2/10)*0.5/6 -> -0.6 | AO14: 余英 | AP14: =($R14*2/10)*0.5/6 -> -0.6 | AQ14: 张弘 | AR14: =($R14*2/10)*0.5/6 -> -0.6 | AT14: 岳贵敏 | AU14: =($R14*3/10)*0.5/6 -> -0.9 | AV14: 黄金华 | AW14: =($R14*3/10)*0.5/6 -> -0.9 | AX14: 周凯 | AY14: =($R14*3/10)*0.5/6 -> -0.9 | AZ14: 兰举银 | BA14: =($R14*3/10)*0.5/6 -> -0.9 | BB14: 余英 | BC14: =($R14*3/10)*0.5/6 -> -0.9 | BD14: 彭桦 | BE14: =($R14*3/10)*0.5/6 -> -0.9 | BG14: 岳贵敏 | BH14: =($R14*3/10)*0.5/6 -> -0.9 | BI14: 央宗娜姆 | BJ14: =($R14*3/10)*0.5/6 -> -0.9 | BK14: 周凯 | BL14: =($R14*3/10)*0.5/6 -> -0.9 | BM14: 兰举银 | BN14: =($R14*3/10)*0.5/6 -> -0.9 | BO14: 余英 | BP14: =($R14*3/10)*0.5/6 -> -0.9 | BQ14: 彭桦 | BR14: =($R14*3/10)*0.5/6 -> -0.9 | BT14: 易涛 | BU14: =($R14*5/10)*0.5/6 -> -1.5 | BV14: 央宗娜姆 | BW14: =($R14*5/10)*0.5/6 -> -1.5 | BX14: 周凯 | BY14: =($R14*5/10)*0.5/6 -> -1.5 | BZ14: 赵建超 | CA14: =($R14*5/10)*0.5/6 -> -1.5 | CB14: 任吉洪 | CC14: =($R14*5/10)*0.5/6 -> -1.5 | CD14: 张弘 | CE14: =($R14*5/10)*0.5/6 -> -1.5 | CG14: 易涛 | CH14: =($R14*5/10)*0.5/6 -> -1.5 | CI14: 央宗娜姆 | CJ14: =($R14*5/10)*0.5/6 -> -1.5 | CK14: 周凯 | CL14: =($R14*5/10)*0.5/6 -> -1.5 | CM14: 赵建超 | CN14: =($R14*5/10)*0.5/6 -> -1.5 | CO14: 任吉洪 | CP14: =($R14*5/10)*0.5/6 -> -1.5 | CQ14: 张弘 | CR14: =($R14*5/10)*0.5/6 -> -1.5
A15: 彭友军 | B15: 513422200003075016 | C15: 云南转入 | D15: 理科 | E15: 1 | G15: 104 | H15: 120 | I15: 85 | J15: 79 | K15: 82 | L15: 70 | M15: =SUM(G15:L15) -> 540 | N15: 本科 | O15: =IF(E15>0,IF(N15="本科",(2-E15)*36,-(E15)*36),IF(N15="本科",2*36,0)) -> 36 | Q15: =IF(F15>0,IF(P15="重本",(2-F15)*72,-(F15)*72),IF(P15="重本",2*72,0)) -> 0 | R15: =O15+Q15 -> 36 | T15: 周菊明 | U15: =($R15*2/10)*0.5/6 -> 0.6 | V15: 赵云川 | W15: =($R15*2/10)*0.5/6 -> 0.6 | X15: 张翠莲 | Y15: =($R15*2/10)*0.5/6 -> 0.6 | Z15: 兰举银 | AA15: =($R15*2/10)*0.5/6 -> 0.6 | AB15: 陈文惠 | AC15: =($R15*2/10)*0.5/6 -> 0.6 | AD15: 彭桦 | AE15: =($R15*2/10)*0.5/6 -> 0.6 | AG15: 李志友 | AH15: =($R15*2/10)*0.5/6 -> 0.6 | AI15: 央宗娜姆 | AJ15: =($R15*2/10)*0.5/6 -> 0.6 | AK15: 雷敏 | AL15: =($R15*2/10)*0.5/6 -> 0.6 | AM15: 兰举银 | AN15: =($R15*2/10)*0.5/6 -> 0.6 | AO15: 任吉洪 | AP15: =($R15*2/10)*0.5/6 -> 0.6 | AQ15: 张弘 | AR15: =($R15*2/10)*0.5/6 -> 0.6 | AT15: 岳子琦 | AU15: =($R15*3/10)*0.5/6 -> 0.9 | AV15: 黄金华 | AW15: =($R15*3/10)*0.5/6 -> 0.9 | AX15: 雷敏 | AY15: =($R15*3/10)*0.5/6 -> 0.9 | AZ15: 兰举银 | BA15: =($R15*3/10)*0.5/6 -> 0.9 | BB15: 余英 | BC15: =($R15*3/10)*0.5/6 -> 0.9 | BD15: 彭桦 | BE15: =($R15*3/10)*0.5/6 -> 0.9 | BG15: 岳子琦 | BH15: =($R15*3/10)*0.5/6 -> 0.9 | BI15: 央宗娜姆 | BJ15: =($R15*3/10)*0.5/6 -> 0.9 | BK15: 曾春兰 | BL15: =($R15*3/10)*0.5/6 -> 0.9 | BM15: 兰举银 | BN15: =($R15*3/10)*0.5/6 -> 0.9 | BO15: 余英 | BP15: =($R15*3/10)*0.5/6 -> 0.9 | BQ15: 彭桦 | BR15: =($R15*3/10)*0.5/6 -> 0.9 | BT15: 李志友 | BU15: =($R15*5/10)*0.5/6 -> 1.5 | BV15: 赵云川 | BW15: =($R15*5/10)*0.5/6 -> 1.5 | BX15: 彭丹 | BY15: =($R15*5/10)*0.5/6 -> 1.5 | BZ15: 赵建超 | CA15: =($R15*5/10)*0.5/6 -> 1.5 | CB15: 任吉洪 | CC15: =($R15*5/10)*0.5/6 -> 1.5 | CD15: 张弘 | CE15: =($R15*5/10)*0.5/6 -> 1.5 | CG15: 李志友 | CH15: =($R15*5/10)*0.5/6 -> 1.5 | CI15: 赵云川 | CJ15: =($R15*5/10)*0.5/6 -> 1.5 | CK15: 彭丹 | CL15: =($R15*5/10)*0.5/6 -> 1.5 | CM15: 赵建超 | CN15: =($R15*5/10)*0.5/6 -> 1.5 | CO15: 任吉洪 | CP15: =($R15*5/10)*0.5/6 -> 1.5 | CQ15: 张弘 | CR15: =($R15*5/10)*0.5/6 -> 1.5
A16: 王小红 | B16: 513422200110100723 | C16: 统招 | D16: 理科 | E16: 1 | F16: 1 | G16: 104 | H16: 118 | I16: 128 | J16: 56 | K16: 59 | L16: 74 | M16: =SUM(G16:L16) -> 539 | N16: 本科 | O16: =IF(E16>0,IF(N16="本科",(2-E16)*36,-(E16)*36),IF(N16="本科",2*36,0)) -> 36 | Q16: =IF(F16>0,IF(P16="重本",(2-F16)*72,-(F16)*72),IF(P16="重本",2*72,0)) -> -72 | R16: =O16+Q16 -> -36 | T16: 易涛 | U16: =($R16*2/10)*0.5/6 -> -0.6 | V16: 王江 | W16: =($R16*2/10)*0.5/6 -> -0.6 | X16: 雷敏 | Y16: =($R16*2/10)*0.5/6 -> -0.6 | Z16: 兰举银 | AA16: =($R16*2/10)*0.5/6 -> -0.6 | AB16: 余英 | AC16: =($R16*2/10)*0.5/6 -> -0.6 | AD16: 彭桦 | AE16: =($R16*2/10)*0.5/6 -> -0.6 | AG16: 易涛 | AH16: =($R16*2/10)*0.5/6 -> -0.6 | AI16: 王江 | AJ16: =($R16*2/10)*0.5/6 -> -0.6 | AK16: 雷敏 | AL16: =($R16*2/10)*0.5/6 -> -0.6 | AM16: 兰举银 | AN16: =($R16*2/10)*0.5/6 -> -0.6 | AO16: 任吉洪 | AP16: =($R16*2/10)*0.5/6 -> -0.6 | AQ16: 张弘 | AR16: =($R16*2/10)*0.5/6 -> -0.6 | AT16: 易涛 | AU16: =($R16*3/10)*0.5/6 -> -0.9 | AV16: 王江 | AW16: =($R16*3/10)*0.5/6 -> -0.9 | AX16: 雷敏 | AY16: =($R16*3/10)*0.5/6 -> -0.9 | AZ16: 兰举银 | BA16: =($R16*3/10)*0.5/6 -> -0.9 | BB16: 余英 | BC16: =($R16*3/10)*0.5/6 -> -0.9 | BD16: 彭桦 | BE16: =($R16*3/10)*0.5/6 -> -0.9 | BG16: 易涛 | BH16: =($R16*3/10)*0.5/6 -> -0.9 | BI16: 王江 | BJ16: =($R16*3/10)*0.5/6 -> -0.9 | BK16: 聂艳梅 | BL16: =($R16*3/10)*0.5/6 -> -0.9 | BM16: 兰举银 | BN16: =($R16*3/10)*0.5/6 -> -0.9 | BO16: 余英 | BP16: =($R16*3/10)*0.5/6 -> -0.9 | BQ16: 彭桦 | BR16: =($R16*3/10)*0.5/6 -> -0.9 | BT16: 杨宗国 | BU16: =($R16*5/10)*0.5/6 -> -1.5 | BV16: 王江 | BW16: =($R16*5/10)*0.5/6 -> -1.5 | BX16: 雷敏 | BY16: =($R16*5/10)*0.5/6 -> -1.5 | BZ16: 兰举银 | CA16: =($R16*5/10)*0.5/6 -> -1.5 | CB16: 余英 | CC16: =($R16*5/10)*0.5/6 -> -1.5 | CD16: 彭桦 | CE16: =($R16*5/10)*0.5/6 -> -1.5 | CG16: 杨宗国 | CH16: =($R16*5/10)*0.5/6 -> -1.5 | CI16: 王江 | CJ16: =($R16*5/10)*0.5/6 -> -1.5 | CK16: 雷敏 | CL16: =($R16*5/10)*0.5/6 -> -1.5 | CM16: 兰举银 | CN16: =($R16*5/10)*0.5/6 -> -1.5 | CO16: 余英 | CP16: =($R16*5/10)*0.5/6 -> -1.5 | CQ16: 彭桦 | CR16: =($R16*5/10)*0.5/6 -> -1.5
A17: 胡碧龙 | B17: 51342220010605172X | C17: 统招 | D17: 理科 | E17: 1 | F17: 1 | G17: 114 | H17: 111 | I17: 117 | J17: 65 | K17: 67 | L17: 65 | M17: =SUM(G17:L17) -> 539 | N17: 本科 | O17: =IF(E17>0,IF(N17="本科",(2-E17)*36,-(E17)*36),IF(N17="本科",2*36,0)) -> 36 | Q17: =IF(F17>0,IF(P17="重本",(2-F17)*72,-(F17)*72),IF(P17="重本",2*72,0)) -> -72 | R17: =O17+Q17 -> -36 | T17: 岳贵敏 | U17: =($R17*2/10)*0.5/6 -> -0.6 | V17: 央宗娜姆 | W17: =($R17*2/10)*0.5/6 -> -0.6 | X17: 周凯 | Y17: =($R17*2/10)*0.5/6 -> -0.6 | Z17: 赵建超 | AA17: =($R17*2/10)*0.5/6 -> -0.6 | AB17: 任吉洪 | AC17: =($R17*2/10)*0.5/6 -> -0.6 | AD17: 张弘 | AE17: =($R17*2/10)*0.5/6 -> -0.6 | AG17: 岳贵敏 | AH17: =($R17*2/10)*0.5/6 -> -0.6 | AI17: 央宗娜姆 | AJ17: =($R17*2/10)*0.5/6 -> -0.6 | AK17: 周凯 | AL17: =($R17*2/10)*0.5/6 -> -0.6 | AM17: 赵建超 | AN17: =($R17*2/10)*0.5/6 -> -0.6 | AO17: 余英 | AP17: =($R17*2/10)*0.5/6 -> -0.6 | AQ17: 张弘 | AR17: =($R17*2/10)*0.5/6 -> -0.6 | AT17: 岳贵敏 | AU17: =($R17*3/10)*0.5/6 -> -0.9 | AV17: 黄金华 | AW17: =($R17*3/10)*0.5/6 -> -0.9 | AX17: 周凯 | AY17: =($R17*3/10)*0.5/6 -> -0.9 | AZ17: 赵建超 | BA17: =($R17*3/10)*0.5/6 -> -0.9 | BB17: 任吉洪 | BC17: =($R17*3/10)*0.5/6 -> -0.9 | BD17: 张弘 | BE17: =($R17*3/10)*0.5/6 -> -0.9 | BG17: 岳贵敏 | BH17: =($R17*3/10)*0.5/6 -> -0.9 | BI17: 央宗娜姆 | BJ17: =($R17*3/10)*0.5/6 -> -0.9 | BK17: 周凯 | BL17: =($R17*3/10)*0.5/6 -> -0.9 | BM17: 赵建超 | BN17: =($R17*3/10)*0.5/6 -> -0.9 | BO17: 任吉洪 | BP17: =($R17*3/10)*0.5/6 -> -0.9 | BQ17: 张弘 | BR17: =($R17*3/10)*0.5/6 -> -0.9 | BT17: 易涛 | BU17: =($R17*5/10)*0.5/6 -> -1.5 | BV17: 央宗娜姆 | BW17: =($R17*5/10)*0.5/6 -> -1.5 | BX17: 周凯 | BY17: =($R17*5/10)*0.5/6 -> -1.5 | BZ17: 赵建超 | CA17: =($R17*5/10)*0.5/6 -> -1.5 | CB17: 任吉洪 | CC17: =($R17*5/10)*0.5/6 -> -1.5 | CD17: 张弘 | CE17: =($R17*5/10)*0.5/6 -> -1.5 | CG17: 易涛 | CH17: =($R17*5/10)*0.5/6 -> -1.5 | CI17: 央宗娜姆 | CJ17: =($R17*5/10)*0.5/6 -> -1.5 | CK17: 周凯 | CL17: =($R17*5/10)*0.5/6 -> -1.5 | CM17: 赵建超 | CN17: =($R17*5/10)*0.5/6 -> -1.5 | CO17: 任吉洪 | CP17: =($R17*5/10)*0.5/6 -> -1.5 | CQ17: 张弘 | CR17: =($R17*5/10)*0.5/6 -> -1.5
A18: 邱友落 | B18: 513422199908195623 | C18: 统招 | D18: 理科 | E18: 1 | G18: 106 | H18: 101 | I18: 125 | J18: 70 | K18: 64 | L18: 62 | M18: =SUM(G18:L18) -> 528 | N18: 本科 | O18: =IF(E18>0,IF(N18="本科",(2-E18)*36,-(E18)*36),IF(N18="本科",2*36,0)) -> 36 | Q18: =IF(F18>0,IF(P18="重本",(2-F18)*72,-(F18)*72),IF(P18="重本",2*72,0)) -> 0 | R18: =O18+Q18 -> 36 | T18: 岳贵敏 | U18: =($R18*2/10)*0.5/6 -> 0.6 | V18: 央宗娜姆 | W18: =($R18*2/10)*0.5/6 -> 0.6 | X18: 周凯 | Y18: =($R18*2/10)*0.5/6 -> 0.6 | Z18: 赵建超 | AA18: =($R18*2/10)*0.5/6 -> 0.6 | AB18: 任吉洪 | AC18: =($R18*2/10)*0.5/6 -> 0.6 | AD18: 张弘 | AE18: =($R18*2/10)*0.5/6 -> 0.6 | AG18: 岳贵敏 | AH18: =($R18*2/10)*0.5/6 -> 0.6 | AI18: 央宗娜姆 | AJ18: =($R18*2/10)*0.5/6 -> 0.6 | AK18: 周凯 | AL18: =($R18*2/10)*0.5/6 -> 0.6 | AM18: 赵建超 | AN18: =($R18*2/10)*0.5/6 -> 0.6 | AO18: 余英 | AP18: =($R18*2/10)*0.5/6 -> 0.6 | AQ18: 张弘 | AR18: =($R18*2/10)*0.5/6 -> 0.6 | AT18: 岳贵敏 | AU18: =($R18*3/10)*0.5/6 -> 0.9 | AV18: 黄金华 | AW18: =($R18*3/10)*0.5/6 -> 0.9 | AX18: 周凯 | AY18: =($R18*3/10)*0.5/6 -> 0.9 | AZ18: 兰举银 | BA18: =($R18*3/10)*0.5/6 -> 0.9 | BB18: 余英 | BC18: =($R18*3/10)*0.5/6 -> 0.9 | BD18: 彭桦 | BE18: =($R18*3/10)*0.5/6 -> 0.9 | BG18: 岳贵敏 | BH18: =($R18*3/10)*0.5/6 -> 0.9 | BI18: 央宗娜姆 | BJ18: =($R18*3/10)*0.5/6 -> 0.9 | BK18: 周凯 | BL18: =($R18*3/10)*0.5/6 -> 0.9 | BM18: 兰举银 | BN18: =($R18*3/10)*0.5/6 -> 0.9 | BO18: 余英 | BP18: =($R18*3/10)*0.5/6 -> 0.9 | BQ18: 彭桦 | BR18: =($R18*3/10)*0.5/6 -> 0.9 | BT18: 易涛 | BU18: =($R18*5/10)*0.5/6 -> 1.5 | BV18: 央宗娜姆 | BW18: =($R18*5/10)*0.5/6 -> 1.5 | BX18: 周凯 | BY18: =($R18*5/10)*0.5/6 -> 1.5 | BZ18: 赵建超 | CA18: =($R18*5/10)*0.5/6 -> 1.5 | CB18: 任吉洪 | CC18: =($R18*5/10)*0.5/6 -> 1.5 | CD18: 张弘 | CE18: =($R18*5/10)*0.5/6 -> 1.5 | CG18: 易涛 | CH18: =($R18*5/10)*0.5/6 -> 1.5 | CI18: 央宗娜姆 | CJ18: =($R18*5/10)*0.5/6 -> 1.5 | CK18: 周凯 | CL18: =($R18*5/10)*0.5/6 -> 1.5 | CM18: 赵建超 | CN18: =($R18*5/10)*0.5/6 -> 1.5 | CO18: 任吉洪 | CP18: =($R18*5/10)*0.5/6 -> 1.5 | CQ18: 张弘 | CR18: =($R18*5/10)*0.5/6 -> 1.5
A19: 高学良 | B19: 513422200109235612 | C19: 统招 | D19: 理科 | G19: 101 | H19: 121 | I19: 108 | J19: 65.5 | K19: 58 | L19: 70 | M19: =SUM(G19:L19) -> 523.5 | N19: 本科 | O19: =IF(E19>0,IF(N19="本科",(2-E19)*36,-(E19)*36),IF(N19="本科",2*36,0)) -> 72 | Q19: =IF(F19>0,IF(P19="重本",(2-F19)*72,-(F19)*72),IF(P19="重本",2*72,0)) -> 0 | R19: =O19+Q19 -> 72 | T19: 易涛 | U19: =($R19*2/10)*0.5/6 -> 1.2 | V19: 周军 | W19: =($R19*2/10)*0.5/6 -> 1.2 | X19: 彭丹 | Y19: =($R19*2/10)*0.5/6 -> 1.2 | Z19: 宋加友 | AA19: =($R19*2/10)*0.5/6 -> 1.2 | AB19: 任吉洪 | AC19: =($R19*2/10)*0.5/6 -> 1.2 | AD19: 张弘 | AE19: =($R19*2/10)*0.5/6 -> 1.2 | AG19: 李志友 | AH19: =($R19*2/10)*0.5/6 -> 1.2 | AI19: 央宗娜姆 | AJ19: =($R19*2/10)*0.5/6 -> 1.2 | AK19: 周凯 | AL19: =($R19*2/10)*0.5/6 -> 1.2 | AM19: 赵建超 | AN19: =($R19*2/10)*0.5/6 -> 1.2 | AO19: 余英 | AP19: =($R19*2/10)*0.5/6 -> 1.2 | AQ19: 辜英琼 | AR19: =($R19*2/10)*0.5/6 -> 1.2 | AT19: 周菊明 | AU19: =($R19*3/10)*0.5/6 -> 1.8 | AV19: 王江 | AW19: =($R19*3/10)*0.5/6 -> 1.8 | AX19: 周凯 | AY19: =($R19*3/10)*0.5/6 -> 1.8 | AZ19: 赵建超 | BA19: =($R19*3/10)*0.5/6 -> 1.8 | BB19: 任吉洪 | BC19: =($R19*3/10)*0.5/6 -> 1.8 | BD19: 辜英琼 | BE19: =($R19*3/10)*0.5/6 -> 1.8 | BG19: 周菊明 | BH19: =($R19*3/10)*0.5/6 -> 1.8 | BI19: 王江 | BJ19: =($R19*3/10)*0.5/6 -> 1.8 | BK19: 周凯 | BL19: =($R19*3/10)*0.5/6 -> 1.8 | BM19: 赵建超 | BN19: =($R19*3/10)*0.5/6 -> 1.8 | BO19: 任吉洪 | BP19: =($R19*3/10)*0.5/6 -> 1.8 | BQ19: 辜英琼 | BR19: =($R19*3/10)*0.5/6 -> 1.8 | BT19: 易涛 | BU19: =($R19*5/10)*0.5/6 -> 3 | BV19: 央宗娜姆 | BW19: =($R19*5/10)*0.5/6 -> 3 | BX19: 周凯 | BY19: =($R19*5/10)*0.5/6 -> 3 | BZ19: 赵建超 | CA19: =($R19*5/10)*0.5/6 -> 3 | CB19: 任吉洪 | CC19: =($R19*5/10)*0.5/6 -> 3 | CD19: 张弘 | CE19: =($R19*5/10)*0.5/6 -> 3 | CG19: 易涛 | CH19: =($R19*5/10)*0.5/6 -> 3 | CI19: 央宗娜姆 | CJ19: =($R19*5/10)*0.5/6 -> 3 | CK19: 周凯 | CL19: =($R19*5/10)*0.5/6 -> 3 | CM19: 赵建超 | CN19: =($R19*5/10)*0.5/6 -> 3 | CO19: 任吉洪 | CP19: =($R19*5/10)*0.5/6 -> 3 | CQ19: 张弘 | CR19: =($R19*5/10)*0.5/6 -> 3
A20: 陈志龙 | B20: 513422200008255817 | C20: 统招 | D20: 理科 | E20: 0.7 | G20: 99 | H20: 79 | I20: 133 | J20: 79 | K20: 57 | L20: 75.5 | M20: =SUM(G20:L20) -> 522.5 | N20: 本科 | O20: =IF(E20>0,IF(N20="本科",(2-E20)*36,-(E20)*36),IF(N20="本科",2*36,0)) -> 46.8 | Q20: =IF(F20>0,IF(P20="重本",(2-F20)*72,-(F20)*72),IF(P20="重本",2*72,0)) -> 0 | R20: =O20+Q20 -> 46.8 | T20: 岳贵敏 | U20: =($R20*2/10)*0.5/6 -> 0.78 | V20: 央宗娜姆 | W20: =($R20*2/10)*0.5/6 -> 0.78 | X20: 周凯 | Y20: =($R20*2/10)*0.5/6 -> 0.78 | Z20: 王友春 | AA20: =($R20*2/10)*0.5/6 -> 0.78 | AB20: 陈文惠 | AC20: =($R20*2/10)*0.5/6 -> 0.78 | AD20: 陈文惠 | AE20: =($R20*2/10)*0.5/6 -> 0.78 | AG20: 岳贵敏 | AH20: =($R20*2/10)*0.5/6 -> 0.78 | AI20: 赵云川 | AJ20: =($R20*2/10)*0.5/6 -> 0.78 | AK20: 雷敏 | AL20: =($R20*2/10)*0.5/6 -> 0.78 | AM20: 兰举银 | AN20: =($R20*2/10)*0.5/6 -> 0.78 | AO20: 任吉洪 | AP20: =($R20*2/10)*0.5/6 -> 0.78 | AQ20: 彭桦 | AR20: =($R20*2/10)*0.5/6 -> 0.78 | AT20: 岳贵敏 | AU20: =($R20*3/10)*0.5/6 -> 1.17 | AV20: 黄金华 | AW20: =($R20*3/10)*0.5/6 -> 1.17 | AX20: 周凯 | AY20: =($R20*3/10)*0.5/6 -> 1.17 | AZ20: 兰举银 | BA20: =($R20*3/10)*0.5/6 -> 1.17 | BB20: 余英 | BC20: =($R20*3/10)*0.5/6 -> 1.17 | BD20: 彭桦 | BE20: =($R20*3/10)*0.5/6 -> 1.17 | BG20: 岳贵敏 | BH20: =($R20*3/10)*0.5/6 -> 1.17 | BI20: 央宗娜姆 | BJ20: =($R20*3/10)*0.5/6 -> 1.17 | BK20: 周凯 | BL20: =($R20*3/10)*0.5/6 -> 1.17 | BM20: 兰举银 | BN20: =($R20*3/10)*0.5/6 -> 1.17 | BO20: 余英 | BP20: =($R20*3/10)*0.5/6 -> 1.17 | BQ20: 彭桦 | BR20: =($R20*3/10)*0.5/6 -> 1.17 | BT20: 易涛 | BU20: =($R20*5/10)*0.5/6 -> 1.95 | BV20: 央宗娜姆 | BW20: =($R20*5/10)*0.5/6 -> 1.95 | BX20: 周凯 | BY20: =($R20*5/10)*0.5/6 -> 1.95 | BZ20: 赵建超 | CA20: =($R20*5/10)*0.5/6 -> 1.95 | CB20: 任吉洪 | CC20: =($R20*5/10)*0.5/6 -> 1.95 | CD20: 张弘 | CE20: =($R20*5/10)*0.5/6 -> 1.95 | CG20: 易涛 | CH20: =($R20*5/10)*0.5/6 -> 1.95 | CI20: 央宗娜姆 | CJ20: =($R20*5/10)*0.5/6 -> 1.95 | CK20: 周凯 | CL20: =($R20*5/10)*0.5/6 -> 1.95 | CM20: 赵建超 | CN20: =($R20*5/10)*0.5/6 -> 1.95 | CO20: 任吉洪 | CP20: =($R20*5/10)*0.5/6 -> 1.95 | CQ20: 张弘 | CR20: =($R20*5/10)*0.5/6 -> 1.95
A21: 杨顺金 | B21: 513422200006046210 | C21: 统招 | D21: 理科 | G21: 109 | H21: 104 | I21: 116 | J21: 65.5 | K21: 53 | L21: 73 | M21: =SUM(G21:L21) -> 520.5 | N21: 本科 | O21: =IF(E21>0,IF(N21="本科",(2-E21)*36,-(E21)*36),IF(N21="本科",2*36,0)) -> 72 | Q21: =IF(F21>0,IF(P21="重本",(2-F21)*72,-(F21)*72),IF(P21="重本",2*72,0)) -> 0 | R21: =O21+Q21 -> 72 | T21: 李志友 | U21: =($R21*2/10)*0.5/6 -> 1.2 | V21: 赵云川 | W21: =($R21*2/10)*0.5/6 -> 1.2 | X21: 曾春兰 | Y21: =($R21*2/10)*0.5/6 -> 1.2 | Z21: 宋加友 | AA21: =($R21*2/10)*0.5/6 -> 1.2 | AB21: 余英 | AC21: =($R21*2/10)*0.5/6 -> 1.2 | AD21: 张弘 | AE21: =($R21*2/10)*0.5/6 -> 1.2 | AG21: 李志友 | AH21: =($R21*2/10)*0.5/6 -> 1.2 | AI21: 赵云川 | AJ21: =($R21*2/10)*0.5/6 -> 1.2 | AK21: 张翠莲 | AL21: =($R21*2/10)*0.5/6 -> 1.2 | AM21: 王友春 | AN21: =($R21*2/10)*0.5/6 -> 1.2 | AO21: 余英 | AP21: =($R21*2/10)*0.5/6 -> 1.2 | AQ21: 张弘 | AR21: =($R21*2/10)*0.5/6 -> 1.2 | AT21: 李志友 | AU21: =($R21*3/10)*0.5/6 -> 1.8 | AV21: 赵云川 | AW21: =($R21*3/10)*0.5/6 -> 1.8 | AX21: 周凯 | AY21: =($R21*3/10)*0.5/6 -> 1.8 | AZ21: 王友春 | BA21: =($R21*3/10)*0.5/6 -> 1.8 | BB21: 余英 | BC21: =($R21*3/10)*0.5/6 -> 1.8 | BD21: 张弘 | BE21: =($R21*3/10)*0.5/6 -> 1.8 | BG21: 李志友 | BH21: =($R21*3/10)*0.5/6 -> 1.8 | BI21: 赵云川 | BJ21: =($R21*3/10)*0.5/6 -> 1.8 | BK21: 周凯 | BL21: =($R21*3/10)*0.5/6 -> 1.8 | BM21: 王友春 | BN21: =($R21*3/10)*0.5/6 -> 1.8 | BO21: 余英 | BP21: =($R21*3/10)*0.5/6 -> 1.8 | BQ21: 张弘 | BR21: =($R21*3/10)*0.5/6 -> 1.8 | BT21: 杨宗国 | BU21: =($R21*5/10)*0.5/6 -> 3 | BV21: 王江 | BW21: =($R21*5/10)*0.5/6 -> 3 | BX21: 雷敏 | BY21: =($R21*5/10)*0.5/6 -> 3 | BZ21: 兰举银 | CA21: =($R21*5/10)*0.5/6 -> 3 | CB21: 余英 | CC21: =($R21*5/10)*0.5/6 -> 3 | CD21: 彭桦 | CE21: =($R21*5/10)*0.5/6 -> 3 | CG21: 杨宗国 | CH21: =($R21*5/10)*0.5/6 -> 3 | CI21: 王江 | CJ21: =($R21*5/10)*0.5/6 -> 3 | CK21: 雷敏 | CL21: =($R21*5/10)*0.5/6 -> 3 | CM21: 兰举银 | CN21: =($R21*5/10)*0.5/6 -> 3 | CO21: 余英 | CP21: =($R21*5/10)*0.5/6 -> 3 | CQ21: 彭桦 | CR21: =($R21*5/10)*0.5/6 -> 3
A22: 顾友凤 | B22: 513422200103093828 | C22: 统招 | D22: 理科 | E22: 0.7 | G22: 107 | H22: 102 | I22: 110 | J22: 57.5 | K22: 70 | L22: 71.5 | M22: =SUM(G22:L22) -> 518 | N22: 本科 | O22: =IF(E22>0,IF(N22="本科",(2-E22)*36,-(E22)*36),IF(N22="本科",2*36,0)) -> 46.8 | Q22: =IF(F22>0,IF(P22="重本",(2-F22)*72,-(F22)*72),IF(P22="重本",2*72,0)) -> 0 | R22: =O22+Q22 -> 46.8 | T22: 岳贵敏 | U22: =($R22*2/10)*0.5/6 -> 0.78 | V22: 央宗娜姆 | W22: =($R22*2/10)*0.5/6 -> 0.78 | X22: 周凯 | Y22: =($R22*2/10)*0.5/6 -> 0.78 | Z22: 赵建超 | AA22: =($R22*2/10)*0.5/6 -> 0.78 | AB22: 任吉洪 | AC22: =($R22*2/10)*0.5/6 -> 0.78 | AD22: 张弘 | AE22: =($R22*2/10)*0.5/6 -> 0.78 | AG22: 李正琪 | AH22: =($R22*2/10)*0.5/6 -> 0.78 | AI22: 央宗娜姆 | AJ22: =($R22*2/10)*0.5/6 -> 0.78 | AK22: 周凯 | AL22: =($R22*2/10)*0.5/6 -> 0.78 | AM22: 宋加友 | AN22: =($R22*2/10)*0.5/6 -> 0.78 | AO22: 任吉洪 | AP22: =($R22*2/10)*0.5/6 -> 0.78 | AQ22: 彭桦 | AR22: =($R22*2/10)*0.5/6 -> 0.78 | AT22: 李正琪 | AU22: =($R22*3/10)*0.5/6 -> 1.17 | AV22: 黄金华 | AW22: =($R22*3/10)*0.5/6 -> 1.17 | AX22: 彭丹 | AY22: =($R22*3/10)*0.5/6 -> 1.17 | AZ22: 宋加友 | BA22: =($R22*3/10)*0.5/6 -> 1.17 | BB22: 余英 | BC22: =($R22*3/10)*0.5/6 -> 1.17 | BD22: 彭桦 | BE22: =($R22*3/10)*0.5/6 -> 1.17 | BG22: 李正琪 | BH22: =($R22*3/10)*0.5/6 -> 1.17 | BI22: 央宗娜姆 | BJ22: =($R22*3/10)*0.5/6 -> 1.17 | BK22: 彭丹 | BL22: =($R22*3/10)*0.5/6 -> 1.17 | BM22: 宋加友 | BN22: =($R22*3/10)*0.5/6 -> 1.17 | BO22: 余英 | BP22: =($R22*3/10)*0.5/6 -> 1.17 | BQ22: 彭桦 | BR22: =($R22*3/10)*0.5/6 -> 1.17 | BT22: 易涛 | BU22: =($R22*5/10)*0.5/6 -> 1.95 | BV22: 央宗娜姆 | BW22: =($R22*5/10)*0.5/6 -> 1.95 | BX22: 周凯 | BY22: =($R22*5/10)*0.5/6 -> 1.95 | BZ22: 赵建超 | CA22: =($R22*5/10)*0.5/6 -> 1.95 | CB22: 任吉洪 | CC22: =($R22*5/10)*0.5/6 -> 1.95 | CD22: 张弘 | CE22: =($R22*5/10)*0.5/6 -> 1.95 | CG22: 易涛 | CH22: =($R22*5/10)*0.5/6 -> 1.95 | CI22: 央宗娜姆 | CJ22: =($R22*5/10)*0.5/6 -> 1.95 | CK22: 周凯 | CL22: =($R22*5/10)*0.5/6 -> 1.95 | CM22: 赵建超 | CN22: =($R22*5/10)*0.5/6 -> 1.95 | CO22: 任吉洪 | CP22: =($R22*5/10)*0.5/6 -> 1.95 | CQ22: 张弘 | CR22: =($R22*5/10)*0.5/6 -> 1.95
A23: 赵芝美 | B23: 513422199905062120 | C23: 统招 | D23: 理科 | E23: 1 | F23: 1 | G23: 114 | H23: 104 | I23: 115 | J23: 50 | K23: 65 | L23: 68 | M23: =SUM(G23:L23) -> 516 | N23: 本科 | O23: =IF(E23>0,IF(N23="本科",(2-E23)*36,-(E23)*36),IF(N23="本科",2*36,0)) -> 36 | Q23: =IF(F23>0,IF(P23="重本",(2-F23)*72,-(F23)*72),IF(P23="重本",2*72,0)) -> -72 | R23: =O23+Q23 -> -36 | T23: 岳贵敏 | U23: =($R23*2/10)*0.5/6 -> -0.6 | V23: 央宗娜姆 | W23: =($R23*2/10)*0.5/6 -> -0.6 | X23: 周凯 | Y23: =($R23*2/10)*0.5/6 -> -0.6 | Z23: 赵建超 | AA23: =($R23*2/10)*0.5/6 -> -0.6 | AB23: 任吉洪 | AC23: =($R23*2/10)*0.5/6 -> -0.6 | AD23: 张弘 | AE23: =($R23*2/10)*0.5/6 -> -0.6 | AG23: 岳贵敏 | AH23: =($R23*2/10)*0.5/6 -> -0.6 | AI23: 央宗娜姆 | AJ23: =($R23*2/10)*0.5/6 -> -0.6 | AK23: 周凯 | AL23: =($R23*2/10)*0.5/6 -> -0.6 | AM23: 赵建超 | AN23: =($R23*2/10)*0.5/6 -> -0.6 | AO23: 余英 | AP23: =($R23*2/10)*0.5/6 -> -0.6 | AQ23: 彭桦 | AR23: =($R23*2/10)*0.5/6 -> -0.6 | AT23: 岳贵敏 | AU23: =($R23*3/10)*0.5/6 -> -0.9 | AV23: 黄金华 | AW23: =($R23*3/10)*0.5/6 -> -0.9 | AX23: 周凯 | AY23: =($R23*3/10)*0.5/6 -> -0.9 | AZ23: 赵建超 | BA23: =($R23*3/10)*0.5/6 -> -0.9 | BB23: 任吉洪 | BC23: =($R23*3/10)*0.5/6 -> -0.9 | BD23: 张弘 | BE23: =($R23*3/10)*0.5/6 -> -0.9 | BG23: 岳贵敏 | BH23: =($R23*3/10)*0.5/6 -> -0.9 | BI23: 央宗娜姆 | BJ23: =($R23*3/10)*0.5/6 -> -0.9 | BK23: 周凯 | BL23: =($R23*3/10)*0.5/6 -> -0.9 | BM23: 赵建超 | BN23: =($R23*3/10)*0.5/6 -> -0.9 | BO23: 任吉洪 | BP23: =($R23*3/10)*0.5/6 -> -0.9 | BQ23: 张弘 | BR23: =($R23*3/10)*0.5/6 -> -0.9 | BT23: 易涛 | BU23: =($R23*5/10)*0.5/6 -> -1.5 | BV23: 央宗娜姆 | BW23: =($R23*5/10)*0.5/6 -> -1.5 | BX23: 周凯 | BY23: =($R23*5/10)*0.5/6 -> -1.5 | BZ23: 赵建超 | CA23: =($R23*5/10)*0.5/6 -> -1.5 | CB23: 任吉洪 | CC23: =($R23*5/10)*0.5/6 -> -1.5 | CD23: 张弘 | CE23: =($R23*5/10)*0.5/6 -> -1.5 | CG23: 易涛 | CH23: =($R23*5/10)*0.5/6 -> -1.5 | CI23: 央宗娜姆 | CJ23: =($R23*5/10)*0.5/6 -> -1.5 | CK23: 周凯 | CL23: =($R23*5/10)*0.5/6 -> -1.5 | CM23: 赵建超 | CN23: =($R23*5/10)*0.5/6 -> -1.5 | CO23: 任吉洪 | CP23: =($R23*5/10)*0.5/6 -> -1.5 | CQ23: 张弘 | CR23: =($R23*5/10)*0.5/6 -> -1.5
A24: 杨太芬 | B24: 513422200011306224 | C24: 统招 | D24: 理科 | G24: 110 | H24: 103 | I24: 106 | J24: 70 | K24: 58 | L24: 66.5 | M24: =SUM(G24:L24) -> 513.5 | N24: 本科 | O24: =IF(E24>0,IF(N24="本科",(2-E24)*36,-(E24)*36),IF(N24="本科",2*36,0)) -> 72 | Q24: =IF(F24>0,IF(P24="重本",(2-F24)*72,-(F24)*72),IF(P24="重本",2*72,0)) -> 0 | R24: =O24+Q24 -> 72 | T24: 岳子琦 | U24: =($R24*2/10)*0.5/6 -> 1.2 | V24: 王江 | W24: =($R24*2/10)*0.5/6 -> 1.2 | X24: 雷敏 | Y24: =($R24*2/10)*0.5/6 -> 1.2 | Z24: 兰举银 | AA24: =($R24*2/10)*0.5/6 -> 1.2 | AB24: 陈文惠 | AC24: =($R24*2/10)*0.5/6 -> 1.2 | AD24: 陆正超 | AE24: =($R24*2/10)*0.5/6 -> 1.2 | AG24: 岳贵敏 | AH24: =($R24*2/10)*0.5/6 -> 1.2 | AI24: 央宗娜姆 | AJ24: =($R24*2/10)*0.5/6 -> 1.2 | AK24: 雷敏 | AL24: =($R24*2/10)*0.5/6 -> 1.2 | AM24: 王友春 | AN24: =($R24*2/10)*0.5/6 -> 1.2 | AO24: 余英 | AP24: =($R24*2/10)*0.5/6 -> 1.2 | AQ24: 彭桦 | AR24: =($R24*2/10)*0.5/6 -> 1.2 | AT24: 易涛 | AU24: =($R24*3/10)*0.5/6 -> 1.8 | AV24: 黄金华 | AW24: =($R24*3/10)*0.5/6 -> 1.8 | AX24: 周凯 | AY24: =($R24*3/10)*0.5/6 -> 1.8 | AZ24: 王友春 | BA24: =($R24*3/10)*0.5/6 -> 1.8 | BB24: 余英 | BC24: =($R24*3/10)*0.5/6 -> 1.8 | BD24: 张弘 | BE24: =($R24*3/10)*0.5/6 -> 1.8 | BG24: 易涛 | BH24: =($R24*3/10)*0.5/6 -> 1.8 | BI24: 央宗娜姆 | BJ24: =($R24*3/10)*0.5/6 -> 1.8 | BK24: 周凯 | BL24: =($R24*3/10)*0.5/6 -> 1.8 | BM24: 王友春 | BN24: =($R24*3/10)*0.5/6 -> 1.8 | BO24: 余英 | BP24: =($R24*3/10)*0.5/6 -> 1.8 | BQ24: 张弘 | BR24: =($R24*3/10)*0.5/6 -> 1.8 | BT24: 易涛 | BU24: =($R24*5/10)*0.5/6 -> 3 | BV24: 央宗娜姆 | BW24: =($R24*5/10)*0.5/6 -> 3 | BX24: 周凯 | BY24: =($R24*5/10)*0.5/6 -> 3 | BZ24: 赵建超 | CA24: =($R24*5/10)*0.5/6 -> 3 | CB24: 任吉洪 | CC24: =($R24*5/10)*0.5/6 -> 3 | CD24: 张弘 | CE24: =($R24*5/10)*0.5/6 -> 3 | CG24: 易涛 | CH24: =($R24*5/10)*0.5/6 -> 3 | CI24: 央宗娜姆 | CJ24: =($R24*5/10)*0.5/6 -> 3 | CK24: 周凯 | CL24: =($R24*5/10)*0.5/6 -> 3 | CM24: 赵建超 | CN24: =($R24*5/10)*0.5/6 -> 3 | CO24: 任吉洪 | CP24: =($R24*5/10)*0.5/6 -> 3 | CQ24: 张弘 | CR24: =($R24*5/10)*0.5/6 -> 3
A25: 石大衔 | B25: 513422200105243818 | C25: 统招 | D25: 理科 | E25: 0.9 | G25: 107 | H25: 127 | I25: 79 | J25: 78 | K25: 52.5 | L25: 69.5 | M25: =SUM(G25:L25) -> 513 | N25: 本科 | O25: =IF(E25>0,IF(N25="本科",(2-E25)*36,-(E25)*36),IF(N25="本科",2*36,0)) -> 39.6 | Q25: =IF(F25>0,IF(P25="重本",(2-F25)*72,-(F25)*72),IF(P25="重本",2*72,0)) -> 0 | R25: =O25+Q25 -> 39.6 | T25: 岳贵敏 | U25: =($R25*2/10)*0.5/6 -> 0.66 | V25: 央宗娜姆 | W25: =($R25*2/10)*0.5/6 -> 0.66 | X25: 周凯 | Y25: =($R25*2/10)*0.5/6 -> 0.66 | Z25: 赵建超 | AA25: =($R25*2/10)*0.5/6 -> 0.66 | AB25: 任吉洪 | AC25: =($R25*2/10)*0.5/6 -> 0.66 | AD25: 张弘 | AE25: =($R25*2/10)*0.5/6 -> 0.66 | AG25: 岳贵敏 | AH25: =($R25*2/10)*0.5/6 -> 0.66 | AI25: 央宗娜姆 | AJ25: =($R25*2/10)*0.5/6 -> 0.66 | AK25: 雷敏 | AL25: =($R25*2/10)*0.5/6 -> 0.66 | AM25: 兰举银 | AN25: =($R25*2/10)*0.5/6 -> 0.66 | AO25: 任吉洪 | AP25: =($R25*2/10)*0.5/6 -> 0.66 | AQ25: 彭桦 | AR25: =($R25*2/10)*0.5/6 -> 0.66 | AT25: 易涛 | AU25: =($R25*3/10)*0.5/6 -> 0.99 | AV25: 黄金华 | AW25: =($R25*3/10)*0.5/6 -> 0.99 | AX25: 周凯 | AY25: =($R25*3/10)*0.5/6 -> 0.99 | AZ25: 赵建超 | BA25: =($R25*3/10)*0.5/6 -> 0.99 | BB25: 任吉洪 | BC25: =($R25*3/10)*0.5/6 -> 0.99 | BD25: 张弘 | BE25: =($R25*3/10)*0.5/6 -> 0.99 | BG25: 易涛 | BH25: =($R25*3/10)*0.5/6 -> 0.99 | BI25: 央宗娜姆 | BJ25: =($R25*3/10)*0.5/6 -> 0.99 | BK25: 周凯 | BL25: =($R25*3/10)*0.5/6 -> 0.99 | BM25: 赵建超 | BN25: =($R25*3/10)*0.5/6 -> 0.99 | BO25: 任吉洪 | BP25: =($R25*3/10)*0.5/6 -> 0.99 | BQ25: 张弘 | BR25: =($R25*3/10)*0.5/6 -> 0.99 | BT25: 易涛 | BU25: =($R25*5/10)*0.5/6 -> 1.65 | BV25: 央宗娜姆 | BW25: =($R25*5/10)*0.5/6 -> 1.65 | BX25: 周凯 | BY25: =($R25*5/10)*0.5/6 -> 1.65 | BZ25: 赵建超 | CA25: =($R25*5/10)*0.5/6 -> 1.65 | CB25: 任吉洪 | CC25: =($R25*5/10)*0.5/6 -> 1.65 | CD25: 张弘 | CE25: =($R25*5/10)*0.5/6 -> 1.65 | CG25: 易涛 | CH25: =($R25*5/10)*0.5/6 -> 1.65 | CI25: 央宗娜姆 | CJ25: =($R25*5/10)*0.5/6 -> 1.65 | CK25: 周凯 | CL25: =($R25*5/10)*0.5/6 -> 1.65 | CM25: 赵建超 | CN25: =($R25*5/10)*0.5/6 -> 1.65 | CO25: 任吉洪 | CP25: =($R25*5/10)*0.5/6 -> 1.65 | CQ25: 张弘 | CR25: =($R25*5/10)*0.5/6 -> 1.65
