Workbook

Sheet 管理奖
A1: 总金额 | B1: 姓名 | C1: 管理人员奖 | D1: 班主任管理奖
A2: 52480 | C2: =A2*0.4 -> 20992 | D2: =A2*0.6 -> 31488
A3: 类别 | C3: 奖金 | D3: 基本奖 | E3: 过程奖 | F3: 质量奖 | G3: 奖金 | H3: 班级 | I3: 班主任
A4: 年级主任 | B4: 龙志云 | C4: =C2*0.6*0.55 -> 6927.36 | D4: =D2*0.4*0.1 -> 1259.52 | E4: 940 | F4: =质量奖!G2 -> 1229.5314 | G4: =SUM(D4:F4) -> 3429.0514 | H4: 1班 | I4: 车梦德
B5: 扎拉 | C5: =C2*0.6*0.45 -> 5667.84 | D5: =D2*0.4*0.1 -> 1259.52 | E5: 926.4 | F5: =质量奖!G3 -> 239.90857 | G5: =SUM(D5:F5) -> 2425.8286 | H5: 2班 | I5: 吴文艺/刘玲君 | J5: =G5*0.35 -> 849.04
A6: 校长 | B6: 黄河 | C6: =C2*0.4*0.55 -> 4618.24 | D6: =D2*0.4*0.1 -> 1259.52 | E6: 960 | F6: =质量奖!G4 -> 539.79429 | G6: =SUM(D6:F6) -> 2759.3143 | H6: 3班 | I6: 降初里
A7: 分管行政 | B7: 李树海 | C7: =C2*0.4*0.45 -> 3778.56 | D7: =D2*0.4*0.1 -> 1259.52 | E7: 935 | F7: =质量奖!G5 -> 359.86286 | G7: =SUM(D7:F7) -> 2554.3829 | H7: 5班 | I7: 次儿祝玛
D8: =D2*0.4*0.1 -> 1259.52 | E8: 935 | F8: =质量奖!G6 -> 719.72571 | G8: =SUM(D8:F8) -> 2914.2457 | H8: 6班 | I8: 高琴
D9: =D2*0.4*0.1 -> 1259.52 | E9: 940 | F9: =质量奖!G7 -> 479.81714 | G9: =SUM(D9:F9) -> 2679.3371 | H9: 7班 | I9: 辜英琼/兰举银
D10: =D2*0.4*0.1 -> 1259.52 | E10: 940 | F10: =质量奖!G8 -> 359.86286 | G10: =SUM(D10:F10) -> 2559.3829 | H10: 8班 | I10: 潘勇
D11: =D2*0.4*0.1 -> 1259.52 | E11: 960 | F11: =质量奖!G9 -> 1679.36 | G11: =SUM(D11:F11) -> 3898.88 | H11: 9班 | I11: 扎拉
D12: =D2*0.4*0.1 -> 1259.52 | E12: 945 | F12: =质量奖!G10 -> 1829.3029 | G12: =SUM(D12:F12) -> 4033.8229 | H12: 10班 | I12: 田友米
D13: =D2*0.4*0.1 -> 1259.52 | E13: 965 | F13: =质量奖!G11 -> 2009.2343 | G13: =SUM(D13:F13) -> 4233.7543 | H13: 11班 | I13: 胡万春/任吉洪
D14: =SUM(D4:D13) -> 12595.2 | E14: =SUM(E4:E13) -> 9446.4 | F14: =SUM(F4:F13) -> 9446.4 | G14: =SUM(G4:G13) -> 31488
A15: 班级 | B15: 班主任 | C15: 目标内上线 | D15: 目标外上线 | E15: 艺体上线 | F15: 得分 | G15: 奖金
A16: 1班 | B16: 车梦德 | C16: 7 | D16: 5 | E16: 7 | F16: 41 | G16: 1229.5314
A17: 2班 | B17: 吴文艺/刘玲君 | D17: 1 | E17: 2 | F17: 8 | G17: 239.90857
A18: 3班 | B18: 降初里 | D18: 1 | E18: 7 | F18: 18 | G18: 539.79429
A19: 5班 | B19: 次儿祝玛 | E19: 6 | F19: 12 | G19: 359.86286
A20: 6班 | B20: 高琴 | D20: 5 | E20: 2 | F20: 24 | G20: 719.72571
A21: 7班 | B21: 辜英琼/兰举银 | D21: 4 | F21: 16 | G21: 479.81714
A22: 8班 | B22: 潘勇 | D22: 3 | F22: 12 | G22: 359.86286
A23: 9班 | B23: 扎拉 | C23: 4 | D23: 13 | F23: 56 | G23: 1679.36
A24: 10班 | B24: 田友米 | C24: 37 | D24: 6 | F24: 61 | G24: 1829.3029
A25: 11班 | B25: 胡万春/任吉洪 | C25: 31 | D25: 9 | F25: 67 | G25: 2009.2343

Sheet 质量奖
A1: 班级 | B1: 班主任 | C1: 目标内上线 | D1: 目标外上线 | E1: 艺体上线 | F1: 得分 | G1: 奖金
A2: 1班 | B2: 车梦德 | C2: 7 | D2: 5 | E2: 7 | F2: =C2+D2*4+E2*2 -> 41 | G2: =$E$13/$F$12*F2 -> 1229.5314
A3: 2班 | B3: 吴文艺/刘玲君 | D3: 1 | E3: 2 | F3: =C3+D3*4+E3*2 -> 8 | G3: =$E$13/$F$12*F3 -> 239.90857
A4: 3班 | B4: 降初里 | D4: 1 | E4: 7 | F4: =C4+D4*4+E4*2 -> 18 | G4: =$E$13/$F$12*F4 -> 539.79429
A5: 5班 | B5: 次儿祝玛 | E5: 6 | F5: =C5+D5*4+E5*2 -> 12 | G5: =$E$13/$F$12*F5 -> 359.86286
A6: 6班 | B6: 高琴 | D6: 5 | E6: 2 | F6: =C6+D6*4+E6*2 -> 24 | G6: =$E$13/$F$12*F6 -> 719.72571
A7: 7班 | B7: 辜英琼/兰举银 | D7: 4 | F7: 16 | G7: =$E$13/$F$12*F7 -> 479.81714
A8: 8班 | B8: 潘勇 | D8: 3 | F8: =C8+D8*4+E8*2 -> 12 | G8: =$E$13/$F$12*F8 -> 359.86286
A9: 9班 | B9: 扎拉 | C9: 4 | D9: 13 | F9: =C9+D9*4+E9*2 -> 56 | G9: =$E$13/$F$12*F9 -> 1679.36
A10: 10班 | B10: 田友米 | C10: 37 | D10: 6 | F10: =C10+D10*4+E10*2 -> 61 | G10: =$E$13/$F$12*F10 -> 1829.3029
A11: 11班 | B11: 胡万春/任吉洪 | C11: 31 | D11: 9 | F11: 67 | G11: =$E$13/$F$12*F11 -> 2009.2343
E12: 31488 | F12: =SUM(F2:F11) -> 315
E13: =E12*0.3 -> 9446.4
A14: 总金额 | B14: 姓名 | C14: 管理人员奖 | D14: 班主任管理奖
A15: 52480 | C15: 20992 | D15: 31488
A16: 类别 | C16: 奖金 | D16: 基本奖 | E16: 过程奖 | F16: 质量奖 | G16: 奖金 | H16: 班级 | I16: 班主任
A17: 年级主任 | B17: 龙志云 | C17: 6927.36 | D17: 1259.52 | E17: 940 | F17: 1229.5314 | G17: 3429.0514 | H17: 1班 | I17: 车梦德
B18: 扎拉 | C18: 5667.84 | D18: 1259.52 | E18: 926.4 | F18: 239.90857 | G18: 2425.8286 | H18: 2班 | I18: 吴文艺/刘玲君
A19: 校长 | B19: 黄河 | C19: 4618.24 | D19: 1259.52 | E19: 960 | F19: 539.79429 | G19: 2759.3143 | H19: 3班 | I19: 降初里
A20: 分管行政 | B20: 李树海 | C20: 3778.56 | D20: 1259.52 | E20: 935 | F20: 359.86286 | G20: 2554.3829 | H20: 5班 | I20: 次儿祝玛
D21: 1259.52 | E21: 935 | F21: 719.72571 | G21: 2914.2457 | H21: 6班 | I21: 高琴
D22: 1259.52 | E22: 940 | F22: 479.81714 | G22: 2679.3371 | H22: 7班 | I22: 辜英琼/兰举银
D23: 1259.52 | E23: 940 | F23: 359.86286 | G23: 2559.3829 | H23: 8班 | I23: 潘勇
D24: 1259.52 | E24: 960 | F24: 1679.36 | G24: 3898.88 | H24: 9班 | I24: 扎拉
D25: 1259.52 | E25: 945 | F25: 1829.3029 | G25: 4033.8229 | H25: 10班 | I25: 田友米
D26: 1259.52 | E26: 965 | F26: 2009.2343 | G26: 4233.7543 | H26: 11班 | I26: 胡万春/任吉洪
D27: 12595.2 | E27: 9446.4 | F27: 9446.4 | G27: 31488

Sheet 汇总
A1: 姓名 | B1: 年级管理奖 | C1: 班级管理奖 | D1: 奖金
A2: 龙志云 | B2: 6927.36 | D2: =SUM(B2:C2) -> 6927.36
A3: 扎拉 | B3: 5667.84 | C3: 3898.88 | D3: =SUM(B3:C3) -> 9566.72
A4: 黄河 | B4: 4618.24 | D4: =SUM(B4:C4) -> 4618.24
A5: 李树海 | B5: 3778.56 | D5: =SUM(B5:C5) -> 3778.56
A6: 车梦德 | C6: 3429.0514 | D6: =SUM(B6:C6) -> 3429.0514
A7: 刘玲君 | C7: 1576.7886 | D7: =SUM(B7:C7) -> 1576.7886
A8: 降初里 | C8: 2759.3143 | D8: =SUM(B8:C8) -> 2759.3143
A9: 次儿祝玛 | C9: 2554.3829 | D9: =SUM(B9:C9) -> 2554.3829
A10: 高琴 | C10: 2914.2457 | D10: =SUM(B10:C10) -> 2914.2457
A11: 兰举银 | C11: 2679.3371 | D11: =SUM(B11:C11) -> 2679.3371
A12: 潘勇 | C12: 2559.3829 | D12: =SUM(B12:C12) -> 2559.3829
A13: 吴文艺 | C13: 849.04 | D13: =SUM(B13:C13) -> 849.04
A14: 田友米 | C14: 4033.8229 | D14: =SUM(B14:C14) -> 4033.8229
A15: 任吉洪 | C15: 4233.7543 | D15: =SUM(B15:C15) -> 4233.7543
D16: =SUM(D2:D15) -> 52480
