Workbook

Sheet 汇总
A1: 姓名 | B1: 得分
A2: =语文计算!O2 -> 格绒燚西 | B2: =语文计算!P2 -> 599.24425
A3: =语文计算!O3 -> 李正琪 | B3: =语文计算!P3 -> 194.60114
A4: =语文计算!O4 -> 周菊明 | B4: =语文计算!P4 -> 604.6925
A5: =语文计算!O5 -> 易涛 | B5: =语文计算!P5 -> 621.35625
A6: =语文计算!O6 -> 肖锐 | B6: =语文计算!P6 -> 603.05349
A7: =语文计算!O7 -> 岳子琦 | B7: =语文计算!P7 -> 505.28361
A8: =语文计算!O8 -> 胡美华 | B8: =语文计算!P8 -> 98.94775
A9: =语文计算!O9 -> 陈丽娇 | B9: =语文计算!P9 -> 294.08312
A10: =数学计算!M4 -> 马俊 | B10: =数学计算!N4 -> 604.47679
A11: =数学计算!M5 -> 潘勇 | B11: =数学计算!N5 -> 199.28938
A12: =数学计算!M6 -> 赵云川 | B12: =数学计算!N6 -> 600.30349
A13: =数学计算!M7 -> 央宗娜姆 | B13: =数学计算!N7 -> 619.27964
A14: =数学计算!M8 -> 邓国华 | B14: =数学计算!N8 -> 199.19074
A15: =数学计算!M9 -> 刘宗林 | B15: =数学计算!N9 -> 583.94404
A16: =数学计算!M10 -> 王江 | B16: =数学计算!N10 -> 410.02736
A17: =数学计算!M11 -> 李黎明 | B17: =数学计算!N11 -> 392.80516
A18: =英语计算!M2 -> 拉初 | B18: =英语计算!N2 -> 601.26212
A19: =英语计算!M3 -> 汪睿 | B19: =英语计算!N3 -> 196.00871
A20: =英语计算!M4 -> 张翠莲 | B20: =英语计算!N4 -> 605.06956
A21: =英语计算!M5 -> 兰卡布尺 | B21: =英语计算!N5 -> 397.98608
A22: =英语计算!M6 -> 曾佳瑶 | B22: =英语计算!N6 -> 607.87346
A23: =英语计算!M7 -> 彭丹 | B23: =英语计算!N7 -> 485.89982
A24: =英语计算!M8 -> 陈强 | B24: =英语计算!N8 -> 202.12257
A25: =英语计算!M9 -> 邵辉 | B25: =英语计算!N9 -> 103.2364
A26: =英语计算!M10 -> 王图雄 | B26: =英语计算!N10 -> 96.937591
A27: =英语计算!M11 -> 周凯 | B27: =英语计算!N11 -> 202.23754
A28: =英语计算!M12 -> 雷敏 | B28: =英语计算!N12 -> 98.365934
A29: ='物理（政治）计算'!H2 -> 纪春权 | B29: ='物理（政治）计算'!I2 -> 600.00927
A30: ='物理（政治）计算'!H3 -> 吴文艺 | B30: ='物理（政治）计算'!I3 -> 307.4238
A31: ='物理（政治）计算'!H4 -> 马巫各 | B31: ='物理（政治）计算'!I4 -> 395.67489
A32: ='物理（政治）计算'!H5 -> 沈志霞 | B32: ='物理（政治）计算'!I5 -> 201.813
A33: ='物理（政治）计算'!H6 -> 赵建超 | B33: ='物理（政治）计算'!I6 -> 602.80336
A34: ='物理（政治）计算'!H7 -> 王友春 | B34: ='物理（政治）计算'!I7 -> 599.97102
A35: ='物理（政治）计算'!H8 -> 夏宇 | B35: ='物理（政治）计算'!I8 -> 94.751513
A36: ='物理（政治）计算'!H9 -> 周强 | B36: ='物理（政治）计算'!I9 -> 197.16386
A37: ='物理（政治）计算'!H10 -> 那士信 | B37: ='物理（政治）计算'!I10 -> 288.30648
A38: ='物理（政治）计算'!H11 -> 王春波 | B38: ='物理（政治）计算'!I11 -> 297.97799
A39: ='物理（政治）计算'!H12 -> 杨艳 | B39: ='物理（政治）计算'!I12 -> 319.16508
A40: ='化学（历史）计算'!G2 -> 杨琴 | B40: ='化学（历史）计算'!H2 -> 598.99725
...

Sheet 语文
A1: 身份证号码 | B1: 班级 | C1: 姓名 | D1: 科类 | E1: 高三下 | H1: 高三下标准分 | I1: 高三上 | L1: 高三上标准分 | M1: 高二下 | P1: 高二下标准分 | Q1: 高二上 | T1: 高二上标准分 | U1: 高一下 | X1: 高一下标准分 | Y1: 高一上 | AB1: 高一上标准分 | AC1: 中考
E3: 成绩 | F3: 教师 | G3: 排名 | I3: 成绩 | J3: 教师 | K3: 排名 | M3: 成绩 | N3: 教师 | O3: 排名 | Q3: 成绩 | R3: 教师 | S3: 排名 | U3: 成绩 | V3: 教师 | W3: 排名 | Y3: 成绩 | Z3: 教师 | AA3: 排名 | AC3: 成绩 | AD3: 排名
A4: 513422200006282328 | B4: 1 | C4: 黄关英 | D4: 文科 | E4: 75 | F4: 格绒燚西 | G4: =RANK(E4,$E$4:$E$263,0) -> 215 | H4: =IF(OR(I4=0,E4=0),100,((K4-G4)/COUNTA($D$4:$D$263))*100+100) -> 52.307692 | I4: =VLOOKUP(A4,[1]高三上!A$3:Q$588,5,0) -> 93.5 | J4: =VLOOKUP(A4,[1]高三上!A$3:Q$588,6,0) -> 格绒燚西 | K4: =RANK(I4,$I$4:$I$263,0) -> 91 | L4: =IF(OR(I4=0,M4=0),100,((O4-K4)/COUNTA($D$4:$D$263))*100+100) -> 105.76923 | M4: =VLOOKUP(A4,[1]高二下!$A$3:$F$536,5,0) -> 85 | N4: =VLOOKUP(A4,[1]高二下!$A$3:$F$536,6,0) -> 格绒燚西 | O4: =RANK(M4,$M$4:$M$263,0) -> 106 | P4: =IF(OR(Q4=0,M4=0),100,((S4-O4)/COUNTA($D$4:$D$263))*100+100) -> 91.153846 | Q4: =VLOOKUP(A4,[1]高二上!$A$3:$F$583,5,0) -> 86 | R4: =VLOOKUP(A4,[1]高二上!$A$3:$F$583,6,0) -> 格绒燚西 | S4: =RANK(Q4,$Q$4:$Q$263,0) -> 83 | T4: =IF(OR(Q4=0,U4=0),100,((W4-S4)/COUNTA($D$4:$D$263))*100+100) -> 140.38462 | U4: =VLOOKUP(A4,[1]高一下!$A$3:$F$585,5,0) -> 73 | V4: =VLOOKUP(A4,[1]高一下!$A$3:$F$585,6,0) -> 格绒燚西 | W4: =RANK(U4,$U$4:$U$263,0) -> 188 | X4: =IF(OR(Y4=0,U4=0),100,((AA4-W4)/COUNTA($D$4:$D$263))*100+100) -> 95.384615 | Y4: =VLOOKUP(A4,[1]高一上!$A$3:$F$587,5,0) -> 79 | Z4: =VLOOKUP(A4,[1]高一上!$A$3:$F$587,6,0) -> 格绒燚西 | AA4: =RANK(Y4,$Y$4:$Y$263,0) -> 176 | AB4: =IF(OR(Y4=0,AC4=0),100,((AD4-AA4)/COUNTA($D$4:$D$263))*100+100) -> 50.769231 | AC4: =VLOOKUP(A4,[1]中考!$A$2:$E$571,5,0) -> 97 | AD4: =RANK(AC4,$AC$4:$AC$263,0) -> 48 | AF4: 文科人数 | AG4: =COUNTA(D4:D263) -> 260
A5: 513422200103134220 | B5: 1 | C5: 次仁央宗 | D5: 文科 | E5: 87 | F5: 格绒燚西 | G5: =RANK(E5,$E$4:$E$263,0) -> 128 | H5: =IF(OR(I5=0,E5=0),100,((K5-G5)/COUNTA($D$4:$D$263))*100+100) -> 82.307692 | I5: =VLOOKUP(A5,[1]高三上!A$3:Q$588,5,0) -> 94 | J5: =VLOOKUP(A5,[1]高三上!A$3:Q$588,6,0) -> 格绒燚西 | K5: =RANK(I5,$I$4:$I$263,0) -> 82 | L5: =IF(OR(I5=0,M5=0),100,((O5-K5)/COUNTA($D$4:$D$263))*100+100) -> 128.84615 | M5: =VLOOKUP(A5,[1]高二下!$A$3:$F$536,5,0) -> 82 | N5: =VLOOKUP(A5,[1]高二下!$A$3:$F$536,6,0) -> 格绒燚西 | O5: =RANK(M5,$M$4:$M$263,0) -> 157 | P5: =IF(OR(Q5=0,M5=0),100,((S5-O5)/COUNTA($D$4:$D$263))*100+100) -> 86.923077 | Q5: =VLOOKUP(A5,[1]高二上!$A$3:$F$583,5,0) -> 83 | R5: =VLOOKUP(A5,[1]高二上!$A$3:$F$583,6,0) -> 格绒燚西 | S5: =RANK(Q5,$Q$4:$Q$263,0) -> 123 | T5: =IF(OR(Q5=0,U5=0),100,((W5-S5)/COUNTA($D$4:$D$263))*100+100) -> 127.69231 | U5: =VLOOKUP(A5,[1]高一下!$A$3:$F$585,5,0) -> 72 | V5: =VLOOKUP(A5,[1]高一下!$A$3:$F$585,6,0) -> 格绒燚西 | W5: =RANK(U5,$U$4:$U$263,0) -> 195 | X5: =IF(OR(Y5=0,U5=0),100,((AA5-W5)/COUNTA($D$4:$D$263))*100+100) -> 88.846154 | Y5: =VLOOKUP(A5,[1]高一上!$A$3:$F$587,5,0) -> 80 | Z5: =VLOOKUP(A5,[1]高一上!$A$3:$F$587,6,0) -> 格绒燚西 | AA5: =RANK(Y5,$Y$4:$Y$263,0) -> 166 | AB5: =IF(OR(Y5=0,AC5=0),100,((AD5-AA5)/COUNTA($D$4:$D$263))*100+100) -> 70.384615 | AC5: =VLOOKUP(A5,[1]中考!$A$2:$E$571,5,0) -> 92 | AD5: =RANK(AC5,$AC$4:$AC$263,0) -> 89 | AF5: 理科人数 | AG5: =COUNTA(D264:D550) -> 287
A6: 513422200105120025 | B6: 1 | C6: 马阿英莫 | D6: 文科 | E6: 84 | F6: 格绒燚西 | G6: =RANK(E6,$E$4:$E$263,0) -> 149 | H6: =IF(OR(I6=0,E6=0),100,((K6-G6)/COUNTA($D$4:$D$263))*100+100) -> 82.692308 | I6: =VLOOKUP(A6,[1]高三上!A$3:Q$588,5,0) -> 92.5 | J6: =VLOOKUP(A6,[1]高三上!A$3:Q$588,6,0) -> 格绒燚西 | K6: =RANK(I6,$I$4:$I$263,0) -> 104 | L6: =IF(OR(I6=0,M6=0),100,((O6-K6)/COUNTA($D$4:$D$263))*100+100) -> 97.692308 | M6: =VLOOKUP(A6,[1]高二下!$A$3:$F$536,5,0) -> 86 | N6: =VLOOKUP(A6,[1]高二下!$A$3:$F$536,6,0) -> 格绒燚西 | O6: =RANK(M6,$M$4:$M$263,0) -> 98 | P6: =IF(OR(Q6=0,M6=0),100,((S6-O6)/COUNTA($D$4:$D$263))*100+100) -> 64.230769 | Q6: =VLOOKUP(A6,[1]高二上!$A$3:$F$583,5,0) -> 96 | R6: =VLOOKUP(A6,[1]高二上!$A$3:$F$583,6,0) -> 格绒燚西 | S6: =RANK(Q6,$Q$4:$Q$263,0) -> 5 | T6: =IF(OR(Q6=0,U6=0),100,((W6-S6)/COUNTA($D$4:$D$263))*100+100) -> 98.461538 | U6: =VLOOKUP(A6,[1]高一下!$A$3:$F$585,5,0) -> 97 | V6: =VLOOKUP(A6,[1]高一下!$A$3:$F$585,6,0) -> 格绒燚西 | W6: =RANK(U6,$U$4:$U$263,0) -> 1 | X6: =IF(OR(Y6=0,U6=0),100,((AA6-W6)/COUNTA($D$4:$D$263))*100+100) -> 118.07692 | Y6: =VLOOKUP(A6,[1]高一上!$A$3:$F$587,5,0) -> 92 | Z6: =VLOOKUP(A6,[1]高一上!$A$3:$F$587,6,0) -> 易涛 | AA6: =RANK(Y6,$Y$4:$Y$263,0) -> 48 | AB6: =IF(OR(Y6=0,AC6=0),100,((AD6-AA6)/COUNTA($D$4:$D$263))*100+100) -> 82.307692 | AC6: =VLOOKUP(A6,[1]中考!$A$2:$E$571,5,0) -> 112 | AD6: =RANK(AC6,$AC$4:$AC$263,0) -> 2
A7: 513422200108032725 | B7: 1 | C7: 苏国英 | D7: 文科 | E7: 101 | F7: 格绒燚西 | G7: =RANK(E7,$E$4:$E$263,0) -> 22 | H7: =IF(OR(I7=0,E7=0),100,((K7-G7)/COUNTA($D$4:$D$263))*100+100) -> 100 | I7: =VLOOKUP(A7,[1]高三上!A$3:Q$588,5,0) -> 99.5 | J7: =VLOOKUP(A7,[1]高三上!A$3:Q$588,6,0) -> 格绒燚西 | K7: =RANK(I7,$I$4:$I$263,0) -> 22 | L7: =IF(OR(I7=0,M7=0),100,((O7-K7)/COUNTA($D$4:$D$263))*100+100) -> 138.46154 | M7: =VLOOKUP(A7,[1]高二下!$A$3:$F$536,5,0) -> 84 | N7: =VLOOKUP(A7,[1]高二下!$A$3:$F$536,6,0) -> 格绒燚西 | O7: =RANK(M7,$M$4:$M$263,0) -> 122 | P7: =IF(OR(Q7=0,M7=0),100,((S7-O7)/COUNTA($D$4:$D$263))*100+100) -> 72.692308 | Q7: =VLOOKUP(A7,[1]高二上!$A$3:$F$583,5,0) -> 89 | R7: =VLOOKUP(A7,[1]高二上!$A$3:$F$583,6,0) -> 格绒燚西 | S7: =RANK(Q7,$Q$4:$Q$263,0) -> 51 | T7: =IF(OR(Q7=0,U7=0),100,((W7-S7)/COUNTA($D$4:$D$263))*100+100) -> 117.30769 | U7: =VLOOKUP(A7,[1]高一下!$A$3:$F$585,5,0) -> 80 | V7: =VLOOKUP(A7,[1]高一下!$A$3:$F$585,6,0) -> 格绒燚西 | W7: =RANK(U7,$U$4:$U$263,0) -> 96 | X7: =IF(OR(Y7=0,U7=0),100,((AA7-W7)/COUNTA($D$4:$D$263))*100+100) -> 106.15385 | Y7: =VLOOKUP(A7,[1]高一上!$A$3:$F$587,5,0) -> 85 | Z7: =VLOOKUP(A7,[1]高一上!$A$3:$F$587,6,0) -> 格绒燚西 | AA7: =RANK(Y7,$Y$4:$Y$263,0) -> 112 | AB7: =IF(OR(Y7=0,AC7=0),100,((AD7-AA7)/COUNTA($D$4:$D$263))*100+100) -> 60.769231 | AC7: =VLOOKUP(A7,[1]中考!$A$2:$E$571,5,0) -> 105 | AD7: =RANK(AC7,$AC$4:$AC$263,0) -> 10
A8: 513422200110043829 | B8: 1 | C8: 宋明芳 | D8: 文科 | E8: 83 | F8: 格绒燚西 | G8: =RANK(E8,$E$4:$E$263,0) -> 156 | H8: =IF(OR(I8=0,E8=0),100,((K8-G8)/COUNTA($D$4:$D$263))*100+100) -> 95.769231 | I8: =VLOOKUP(A8,[1]高三上!A$3:Q$588,5,0) -> 89.5 | J8: =VLOOKUP(A8,[1]高三上!A$3:Q$588,6,0) -> 格绒燚西 | K8: =RANK(I8,$I$4:$I$263,0) -> 145 | L8: =IF(OR(I8=0,M8=0),100,((O8-K8)/COUNTA($D$4:$D$263))*100+100) -> 97.692308 | M8: =VLOOKUP(A8,[1]高二下!$A$3:$F$536,5,0) -> 83 | N8: =VLOOKUP(A8,[1]高二下!$A$3:$F$536,6,0) -> 格绒燚西 | O8: =RANK(M8,$M$4:$M$263,0) -> 139 | P8: =IF(OR(Q8=0,M8=0),100,((S8-O8)/COUNTA($D$4:$D$263))*100+100) -> 48.461538 | Q8: =VLOOKUP(A8,[1]高二上!$A$3:$F$583,5,0) -> 96 | R8: =VLOOKUP(A8,[1]高二上!$A$3:$F$583,6,0) -> 格绒燚西 | S8: =RANK(Q8,$Q$4:$Q$263,0) -> 5 | T8: =IF(OR(Q8=0,U8=0),100,((W8-S8)/COUNTA($D$4:$D$263))*100+100) -> 113.84615 | U8: =VLOOKUP(A8,[1]高一下!$A$3:$F$585,5,0) -> 84 | V8: =VLOOKUP(A8,[1]高一下!$A$3:$F$585,6,0) -> 格绒燚西 | W8: =RANK(U8,$U$4:$U$263,0) -> 41 | X8: =IF(OR(Y8=0,U8=0),100,((AA8-W8)/COUNTA($D$4:$D$263))*100+100) -> 86.923077 | Y8: =VLOOKUP(A8,[1]高一上!$A$3:$F$587,5,0) -> 101 | Z8: =VLOOKUP(A8,[1]高一上!$A$3:$F$587,6,0) -> 肖锐 | AA8: =RANK(Y8,$Y$4:$Y$263,0) -> 7 | AB8: =IF(OR(Y8=0,AC8=0),100,((AD8-AA8)/COUNTA($D$4:$D$263))*100+100) -> 102.30769 | AC8: =VLOOKUP(A8,[1]中考!$A$2:$E$571,5,0) -> 104 | AD8: =RANK(AC8,$AC$4:$AC$263,0) -> 13
A9: 513422200110231125 | B9: 1 | C9: 吕秀云 | D9: 文科 | E9: 97 | F9: 格绒燚西 | G9: =RANK(E9,$E$4:$E$263,0) -> 42 | H9: =IF(OR(I9=0,E9=0),100,((K9-G9)/COUNTA($D$4:$D$263))*100+100) -> 124.61538 | I9: =VLOOKUP(A9,[1]高三上!A$3:Q$588,5,0) -> 92 | J9: =VLOOKUP(A9,[1]高三上!A$3:Q$588,6,0) -> 格绒燚西 | K9: =RANK(I9,$I$4:$I$263,0) -> 106 | L9: =IF(OR(I9=0,M9=0),100,((O9-K9)/COUNTA($D$4:$D$263))*100+100) -> 124.61538 | M9: =VLOOKUP(A9,[1]高二下!$A$3:$F$536,5,0) -> 81 | N9: =VLOOKUP(A9,[1]高二下!$A$3:$F$536,6,0) -> 格绒燚西 | O9: =RANK(M9,$M$4:$M$263,0) -> 170 | P9: =IF(OR(Q9=0,M9=0),100,((S9-O9)/COUNTA($D$4:$D$263))*100+100) -> 116.92308 | Q9: =VLOOKUP(A9,[1]高二上!$A$3:$F$583,5,0) -> 74 | R9: =VLOOKUP(A9,[1]高二上!$A$3:$F$583,6,0) -> 格绒燚西 | S9: =RANK(Q9,$Q$4:$Q$263,0) -> 214 | T9: =IF(OR(Q9=0,U9=0),100,((W9-S9)/COUNTA($D$4:$D$263))*100+100) -> 69.230769 | U9: =VLOOKUP(A9,[1]高一下!$A$3:$F$585,5,0) -> 77 | V9: =VLOOKUP(A9,[1]高一下!$A$3:$F$585,6,0) -> 格绒燚西 | W9: =RANK(U9,$U$4:$U$263,0) -> 134 | X9: =IF(OR(Y9=0,U9=0),100,((AA9-W9)/COUNTA($D$4:$D$263))*100+100) -> 63.846154 | Y9: =VLOOKUP(A9,[1]高一上!$A$3:$F$587,5,0) -> 93 | Z9: =VLOOKUP(A9,[1]高一上!$A$3:$F$587,6,0) -> 格绒燚西 | AA9: =RANK(Y9,$Y$4:$Y$263,0) -> 40 | AB9: =IF(OR(Y9=0,AC9=0),100,((AD9-AA9)/COUNTA($D$4:$D$263))*100+100) -> 103.07692 | AC9: =VLOOKUP(A9,[1]中考!$A$2:$E$571,5,0) -> 97 | AD9: =RANK(AC9,$AC$4:$AC$263,0) -> 48
A10: 513422200111122924 | B10: 1 | C10: 严冬丽 | D10: 文科 | E10: 84 | F10: 格绒燚西 | G10: =RANK(E10,$E$4:$E$263,0) -> 149 | H10: =IF(OR(I10=0,E10=0),100,((K10-G10)/COUNTA($D$4:$D$263))*100+100) -> 111.15385 | I10: =VLOOKUP(A10,[1]高三上!A$3:Q$588,5,0) -> 85.5 | J10: =VLOOKUP(A10,[1]高三上!A$3:Q$588,6,0) -> 格绒燚西 | K10: =RANK(I10,$I$4:$I$263,0) -> 178 | L10: =IF(OR(I10=0,M10=0),100,((O10-K10)/COUNTA($D$4:$D$263))*100+100) -> 63.461538 | M10: =VLOOKUP(A10,[1]高二下!$A$3:$F$536,5,0) -> 87 | N10: =VLOOKUP(A10,[1]高二下!$A$3:$F$536,6,0) -> 格绒燚西 | O10: =RANK(M10,$M$4:$M$263,0) -> 83 | P10: =IF(OR(Q10=0,M10=0),100,((S10-O10)/COUNTA($D$4:$D$263))*100+100) -> 80.769231 | Q10: =VLOOKUP(A10,[1]高二上!$A$3:$F$583,5,0) -> 91 | R10: =VLOOKUP(A10,[1]高二上!$A$3:$F$583,6,0) -> 格绒燚西 | S10: =RANK(Q10,$Q$4:$Q$263,0) -> 33 | T10: =IF(OR(Q10=0,U10=0),100,((W10-S10)/COUNTA($D$4:$D$263))*100+100) -> 93.076923 | U10: =VLOOKUP(A10,[1]高一下!$A$3:$F$585,5,0) -> 87 | V10: =VLOOKUP(A10,[1]高一下!$A$3:$F$585,6,0) -> 格绒燚西 | W10: =RANK(U10,$U$4:$U$263,0) -> 15 | X10: =IF(OR(Y10=0,U10=0),100,((AA10-W10)/COUNTA($D$4:$D$263))*100+100) -> 145.76923 | Y10: =VLOOKUP(A10,[1]高一上!$A$3:$F$587,5,0) -> 83 | Z10: =VLOOKUP(A10,[1]高一上!$A$3:$F$587,6,0) -> 格绒燚西 | AA10: =RANK(Y10,$Y$4:$Y$263,0) -> 134 | AB10: =IF(OR(Y10=0,AC10=0),100,((AD10-AA10)/COUNTA($D$4:$D$263))*100+100) -> 64.230769 | AC10: =VLOOKUP(A10,[1]中考!$A$2:$E$571,5,0) -> 98 | AD10: =RANK(AC10,$AC$4:$AC$263,0) -> 41
A11: 513422200112070919 | B11: 1 | C11: 苏你哈 | D11: 文科 | E11: 81 | F11: 格绒燚西 | G11: =RANK(E11,$E$4:$E$263,0) -> 175 | H11: =IF(OR(I11=0,E11=0),100,((K11-G11)/COUNTA($D$4:$D$263))*100+100) -> 116.92308 | I11: =VLOOKUP(A11,[1]高三上!A$3:Q$588,5,0) -> 80 | J11: =VLOOKUP(A11,[1]高三上!A$3:Q$588,6,0) -> 格绒燚西 | K11: =RANK(I11,$I$4:$I$263,0) -> 219 | L11: =IF(OR(I11=0,M11=0),100,((O11-K11)/COUNTA($D$4:$D$263))*100+100) -> 62.692308 | M11: =VLOOKUP(A11,[1]高二下!$A$3:$F$536,5,0) -> 84 | N11: =VLOOKUP(A11,[1]高二下!$A$3:$F$536,6,0) -> 格绒燚西 | O11: =RANK(M11,$M$4:$M$263,0) -> 122 | P11: =IF(OR(Q11=0,M11=0),100,((S11-O11)/COUNTA($D$4:$D$263))*100+100) -> 72.692308 | Q11: =VLOOKUP(A11,[1]高二上!$A$3:$F$583,5,0) -> 89 | R11: =VLOOKUP(A11,[1]高二上!$A$3:$F$583,6,0) -> 格绒燚西 | S11: =RANK(Q11,$Q$4:$Q$263,0) -> 51 | T11: =IF(OR(Q11=0,U11=0),100,((W11-S11)/COUNTA($D$4:$D$263))*100+100) -> 171.15385 | U11: =VLOOKUP(A11,[1]高一下!$A$3:$F$585,5,0) -> 67 | V11: =VLOOKUP(A11,[1]高一下!$A$3:$F$585,6,0) -> 格绒燚西 | W11: =RANK(U11,$U$4:$U$263,0) -> 236 | X11: =IF(OR(Y11=0,U11=0),100,((AA11-W11)/COUNTA($D$4:$D$263))*100+100) -> 107.30769 | Y11: =VLOOKUP(A11,[1]高一上!$A$3:$F$587,5,0) -> 63 | Z11: =VLOOKUP(A11,[1]高一上!$A$3:$F$587,6,0) -> 格绒燚西 | AA11: =RANK(Y11,$Y$4:$Y$263,0) -> 255 | AB11: =IF(OR(Y11=0,AC11=0),100,((AD11-AA11)/COUNTA($D$4:$D$263))*100+100) -> 50.384615 | AC11: =VLOOKUP(A11,[1]中考!$A$2:$E$571,5,0) -> 89 | AD11: =RANK(AC11,$AC$4:$AC$263,0) -> 126
A12: 513422200201033810 | B12: 1 | C12: 徐晓伟 | D12: 文科 | E12: 88 | F12: 格绒燚西 | G12: =RANK(E12,$E$4:$E$263,0) -> 116 | H12: =IF(OR(I12=0,E12=0),100,((K12-G12)/COUNTA($D$4:$D$263))*100+100) -> 130.38462 | I12: =VLOOKUP(A12,[1]高三上!A$3:Q$588,5,0) -> 83 | J12: =VLOOKUP(A12,[1]高三上!A$3:Q$588,6,0) -> 格绒燚西 | K12: =RANK(I12,$I$4:$I$263,0) -> 195 | L12: =IF(OR(I12=0,M12=0),100,((O12-K12)/COUNTA($D$4:$D$263))*100+100) -> 45 | M12: =VLOOKUP(A12,[1]高二下!$A$3:$F$536,5,0) -> 89 | N12: =VLOOKUP(A12,[1]高二下!$A$3:$F$536,6,0) -> 格绒燚西 | O12: =RANK(M12,$M$4:$M$263,0) -> 52 | P12: =IF(OR(Q12=0,M12=0),100,((S12-O12)/COUNTA($D$4:$D$263))*100+100) -> 162.30769 | Q12: =VLOOKUP(A12,[1]高二上!$A$3:$F$583,5,0) -> 74 | R12: =VLOOKUP(A12,[1]高二上!$A$3:$F$583,6,0) -> 格绒燚西 | S12: =RANK(Q12,$Q$4:$Q$263,0) -> 214 | T12: =IF(OR(Q12=0,U12=0),100,((W12-S12)/COUNTA($D$4:$D$263))*100+100) -> 110 | U12: =VLOOKUP(A12,[1]高一下!$A$3:$F$585,5,0) -> 66 | V12: =VLOOKUP(A12,[1]高一下!$A$3:$F$585,6,0) -> 格绒燚西 | W12: =RANK(U12,$U$4:$U$263,0) -> 240 | X12: =IF(OR(Y12=0,U12=0),100,((AA12-W12)/COUNTA($D$4:$D$263))*100+100) -> 86.153846 | Y12: =VLOOKUP(A12,[1]高一上!$A$3:$F$587,5,0) -> 76 | Z12: =VLOOKUP(A12,[1]高一上!$A$3:$F$587,6,0) -> 易涛 | AA12: =RANK(Y12,$Y$4:$Y$263,0) -> 204 | AB12: =IF(OR(Y12=0,AC12=0),100,((AD12-AA12)/COUNTA($D$4:$D$263))*100+100) -> 115.76923 | AC12: =VLOOKUP(A12,[1]中考!$A$2:$E$571,5,0) -> 66 | AD12: =RANK(AC12,$AC$4:$AC$263,0) -> 245
A13: 513422200203084021 | B13: 1 | C13: 祝玛央青 | D13: 文科 | E13: 90 | F13: 格绒燚西 | G13: =RANK(E13,$E$4:$E$263,0) -> 97 | H13: =IF(OR(I13=0,E13=0),100,((K13-G13)/COUNTA($D$4:$D$263))*100+100) -> 103.46154 | I13: =VLOOKUP(A13,[1]高三上!A$3:Q$588,5,0) -> 92 | J13: =VLOOKUP(A13,[1]高三上!A$3:Q$588,6,0) -> 格绒燚西 | K13: =RANK(I13,$I$4:$I$263,0) -> 106 | L13: =IF(OR(I13=0,M13=0),100,((O13-K13)/COUNTA($D$4:$D$263))*100+100) -> 112.69231 | M13: =VLOOKUP(A13,[1]高二下!$A$3:$F$536,5,0) -> 83 | N13: =VLOOKUP(A13,[1]高二下!$A$3:$F$536,6,0) -> 格绒燚西 | O13: =RANK(M13,$M$4:$M$263,0) -> 139 | P13: =IF(OR(Q13=0,M13=0),100,((S13-O13)/COUNTA($D$4:$D$263))*100+100) -> 98.461538 | Q13: =VLOOKUP(A13,[1]高二上!$A$3:$F$583,5,0) -> 82 | R13: =VLOOKUP(A13,[1]高二上!$A$3:$F$583,6,0) -> 格绒燚西 | S13: =RANK(Q13,$Q$4:$Q$263,0) -> 135 | T13: =IF(OR(Q13=0,U13=0),100,((W13-S13)/COUNTA($D$4:$D$263))*100+100) -> 49.230769 | U13: =VLOOKUP(A13,[1]高一下!$A$3:$F$585,5,0) -> 94 | V13: =VLOOKUP(A13,[1]高一下!$A$3:$F$585,6,0) -> 格绒燚西 | W13: =RANK(U13,$U$4:$U$263,0) -> 3 | X13: =IF(OR(Y13=0,U13=0),100,((AA13-W13)/COUNTA($D$4:$D$263))*100+100) -> 141.92308 | Y13: =VLOOKUP(A13,[1]高一上!$A$3:$F$587,5,0) -> 85 | Z13: =VLOOKUP(A13,[1]高一上!$A$3:$F$587,6,0) -> 格绒燚西 | AA13: =RANK(Y13,$Y$4:$Y$263,0) -> 112 | AB13: =IF(OR(Y13=0,AC13=0),100,((AD13-AA13)/COUNTA($D$4:$D$263))*100+100) -> 105.38462 | AC13: =VLOOKUP(A13,[1]中考!$A$2:$E$571,5,0) -> 89 | AD13: =RANK(AC13,$AC$4:$AC$263,0) -> 126
A14: 513422200204253624 | B14: 1 | C14: 王兴萍 | D14: 文科 | E14: 88 | F14: 格绒燚西 | G14: =RANK(E14,$E$4:$E$263,0) -> 116 | H14: =IF(OR(I14=0,E14=0),100,((K14-G14)/COUNTA($D$4:$D$263))*100+100) -> 62.692308 | I14: =VLOOKUP(A14,[1]高三上!A$3:Q$588,5,0) -> 100.5 | J14: =VLOOKUP(A14,[1]高三上!A$3:Q$588,6,0) -> 格绒燚西 | K14: =RANK(I14,$I$4:$I$263,0) -> 19 | L14: =IF(OR(I14=0,M14=0),100,((O14-K14)/COUNTA($D$4:$D$263))*100+100) -> 93.076923 | M14: =VLOOKUP(A14,[1]高二下!$A$3:$F$536,5,0) -> 103 | N14: =VLOOKUP(A14,[1]高二下!$A$3:$F$536,6,0) -> 格绒燚西 | O14: =RANK(M14,$M$4:$M$263,0) -> 1 | P14: =IF(OR(Q14=0,M14=0),100,((S14-O14)/COUNTA($D$4:$D$263))*100+100) -> 110 | Q14: =VLOOKUP(A14,[1]高二上!$A$3:$F$583,5,0) -> 92 | R14: =VLOOKUP(A14,[1]高二上!$A$3:$F$583,6,0) -> 格绒燚西 | S14: =RANK(Q14,$Q$4:$Q$263,0) -> 27 | T14: =IF(OR(Q14=0,U14=0),100,((W14-S14)/COUNTA($D$4:$D$263))*100+100) -> 99.230769 | U14: =VLOOKUP(A14,[1]高一下!$A$3:$F$585,5,0) -> 85 | V14: =VLOOKUP(A14,[1]高一下!$A$3:$F$585,6,0) -> 格绒燚西 | W14: =RANK(U14,$U$4:$U$263,0) -> 25 | X14: =IF(OR(Y14=0,U14=0),100,((AA14-W14)/COUNTA($D$4:$D$263))*100+100) -> 149.61538 | Y14: =VLOOKUP(A14,[1]高一上!$A$3:$F$587,5,0) -> 81 | Z14: =VLOOKUP(A14,[1]高一上!$A$3:$F$587,6,0) -> 格绒燚西 | AA14: =RANK(Y14,$Y$4:$Y$263,0) -> 154 | AB14: =IF(OR(Y14=0,AC14=0),100,((AD14-AA14)/COUNTA($D$4:$D$263))*100+100) -> 66.153846 | AC14: =VLOOKUP(A14,[1]中考!$A$2:$E$571,5,0) -> 95 | AD14: =RANK(AC14,$AC$4:$AC$263,0) -> 66
A15: 513422200205254629 | B15: 1 | C15: 尔歪莫 | D15: 文科 | E15: 91 | F15: 格绒燚西 | G15: =RANK(E15,$E$4:$E$263,0) -> 86 | H15: =IF(OR(I15=0,E15=0),100,((K15-G15)/COUNTA($D$4:$D$263))*100+100) -> 135.38462 | I15: =VLOOKUP(A15,[1]高三上!A$3:Q$588,5,0) -> 85.5 | J15: =VLOOKUP(A15,[1]高三上!A$3:Q$588,6,0) -> 格绒燚西 | K15: =RANK(I15,$I$4:$I$263,0) -> 178 | L15: =IF(OR(I15=0,M15=0),100,((O15-K15)/COUNTA($D$4:$D$263))*100+100) -> 34.615385 | M15: =VLOOKUP(A15,[1]高二下!$A$3:$F$536,5,0) -> 97 | N15: =VLOOKUP(A15,[1]高二下!$A$3:$F$536,6,0) -> 格绒燚西 | O15: =RANK(M15,$M$4:$M$263,0) -> 8 | P15: =IF(OR(Q15=0,M15=0),100,((S15-O15)/COUNTA($D$4:$D$263))*100+100) -> 135.76923 | Q15: =VLOOKUP(A15,[1]高二上!$A$3:$F$583,5,0) -> 85 | R15: =VLOOKUP(A15,[1]高二上!$A$3:$F$583,6,0) -> 格绒燚西 | S15: =RANK(Q15,$Q$4:$Q$263,0) -> 101 | T15: =IF(OR(Q15=0,U15=0),100,((W15-S15)/COUNTA($D$4:$D$263))*100+100) -> 108.84615 | U15: =VLOOKUP(A15,[1]高一下!$A$3:$F$585,5,0) -> 78 | V15: =VLOOKUP(A15,[1]高一下!$A$3:$F$585,6,0) -> 格绒燚西 | W15: =RANK(U15,$U$4:$U$263,0) -> 124 | X15: =IF(OR(Y15=0,U15=0),100,((AA15-W15)/COUNTA($D$4:$D$263))*100+100) -> 58.076923 | Y15: =VLOOKUP(A15,[1]高一上!$A$3:$F$587,5,0) -> 97 | Z15: =VLOOKUP(A15,[1]高一上!$A$3:$F$587,6,0) -> 格绒燚西 | AA15: =RANK(Y15,$Y$4:$Y$263,0) -> 15 | AB15: =IF(OR(Y15=0,AC15=0),100,((AD15-AA15)/COUNTA($D$4:$D$263))*100+100) -> 149.61538 | AC15: =VLOOKUP(A15,[1]中考!$A$2:$E$571,5,0) -> 87 | AD15: =RANK(AC15,$AC$4:$AC$263,0) -> 144
A16: 513422200301013622 | B16: 1 | C16: 祝玛央宗 | D16: 文科 | E16: 97 | F16: 格绒燚西 | G16: =RANK(E16,$E$4:$E$263,0) -> 42 | H16: =IF(OR(I16=0,E16=0),100,((K16-G16)/COUNTA($D$4:$D$263))*100+100) -> 112.30769 | I16: =VLOOKUP(A16,[1]高三上!A$3:Q$588,5,0) -> 94.5 | J16: =VLOOKUP(A16,[1]高三上!A$3:Q$588,6,0) -> 格绒燚西 | K16: =RANK(I16,$I$4:$I$263,0) -> 74 | L16: =IF(OR(I16=0,M16=0),100,((O16-K16)/COUNTA($D$4:$D$263))*100+100) -> 143.07692 | M16: =VLOOKUP(A16,[1]高二下!$A$3:$F$536,5,0) -> 79 | N16: =VLOOKUP(A16,[1]高二下!$A$3:$F$536,6,0) -> 格绒燚西 | O16: =RANK(M16,$M$4:$M$263,0) -> 186 | P16: =IF(OR(Q16=0,M16=0),100,((S16-O16)/COUNTA($D$4:$D$263))*100+100) -> 75.769231 | Q16: =VLOOKUP(A16,[1]高二上!$A$3:$F$583,5,0) -> 83 | R16: =VLOOKUP(A16,[1]高二上!$A$3:$F$583,6,0) -> 格绒燚西 | S16: =RANK(Q16,$Q$4:$Q$263,0) -> 123 | T16: =IF(OR(Q16=0,U16=0),100,((W16-S16)/COUNTA($D$4:$D$263))*100+100) -> 78.076923 | U16: =VLOOKUP(A16,[1]高一下!$A$3:$F$585,5,0) -> 82 | V16: =VLOOKUP(A16,[1]高一下!$A$3:$F$585,6,0) -> 格绒燚西 | W16: =RANK(U16,$U$4:$U$263,0) -> 66 | X16: =IF(OR(Y16=0,U16=0),100,((AA16-W16)/COUNTA($D$4:$D$263))*100+100) -> 84.615385 | Y16: =VLOOKUP(A16,[1]高一上!$A$3:$F$587,5,0) -> 95 | Z16: =VLOOKUP(A16,[1]高一上!$A$3:$F$587,6,0) -> 陈丽娇 | AA16: =RANK(Y16,$Y$4:$Y$263,0) -> 26 | AB16: =IF(OR(Y16=0,AC16=0),100,((AD16-AA16)/COUNTA($D$4:$D$263))*100+100) -> 115.38462 | AC16: =VLOOKUP(A16,[1]中考!$A$2:$E$571,5,0) -> 95 | AD16: =RANK(AC16,$AC$4:$AC$263,0) -> 66
A17: 513422200302122126 | B17: 1 | C17: 吕林明 | D17: 文科 | E17: 101 | F17: 格绒燚西 | G17: =RANK(E17,$E$4:$E$263,0) -> 22 | H17: =IF(OR(I17=0,E17=0),100,((K17-G17)/COUNTA($D$4:$D$263))*100+100) -> 116.92308 | I17: =VLOOKUP(A17,[1]高三上!A$3:Q$588,5,0) -> 95.5 | J17: =VLOOKUP(A17,[1]高三上!A$3:Q$588,6,0) -> 格绒燚西 | K17: =RANK(I17,$I$4:$I$263,0) -> 66 | L17: =IF(OR(I17=0,M17=0),100,((O17-K17)/COUNTA($D$4:$D$263))*100+100) -> 121.53846 | M17: =VLOOKUP(A17,[1]高二下!$A$3:$F$536,5,0) -> 84 | N17: =VLOOKUP(A17,[1]高二下!$A$3:$F$536,6,0) -> 格绒燚西 | O17: =RANK(M17,$M$4:$M$263,0) -> 122 | P17: =IF(OR(Q17=0,M17=0),100,((S17-O17)/COUNTA($D$4:$D$263))*100+100) -> 81.538462 | Q17: =VLOOKUP(A17,[1]高二上!$A$3:$F$583,5,0) -> 87 | R17: =VLOOKUP(A17,[1]高二上!$A$3:$F$583,6,0) -> 格绒燚西 | S17: =RANK(Q17,$Q$4:$Q$263,0) -> 74 | T17: =IF(OR(Q17=0,U17=0),100,((W17-S17)/COUNTA($D$4:$D$263))*100+100) -> 123.07692 | U17: =VLOOKUP(A17,[1]高一下!$A$3:$F$585,5,0) -> 77 | V17: =VLOOKUP(A17,[1]高一下!$A$3:$F$585,6,0) -> 格绒燚西 | W17: =RANK(U17,$U$4:$U$263,0) -> 134 | X17: =IF(OR(Y17=0,U17=0),100,((AA17-W17)/COUNTA($D$4:$D$263))*100+100) -> 53.846154 | Y17: =VLOOKUP(A17,[1]高一上!$A$3:$F$587,5,0) -> 98 | Z17: =VLOOKUP(A17,[1]高一上!$A$3:$F$587,6,0) -> 格绒燚西 | AA17: =RANK(Y17,$Y$4:$Y$263,0) -> 14 | AB17: =IF(OR(Y17=0,AC17=0),100,((AD17-AA17)/COUNTA($D$4:$D$263))*100+100) -> 104.61538 | AC17: =VLOOKUP(A17,[1]中考!$A$2:$E$571,5,0) -> 100 | AD17: =RANK(AC17,$AC$4:$AC$263,0) -> 26
... A54: 51342220021118601X | B54: 1 | C54: 次尔扎西 | D54: 文科 | E54: 82 | F54: 格绒燚西 | G54: =RANK(E54,$E$4:$E$263,0) -> 165 | H54: =IF(OR(I54=0,E54=0),100,((K54-G54)/COUNTA($D$4:$D$263))*100+100) -> 65 | I54: =VLOOKUP(A54,[1]高三上!A$3:Q$588,5,0) -> 94.5 | J54: =VLOOKUP(A54,[1]高三上!A$3:Q$588,6,0) -> 格绒燚西 | K54: =RANK(I54,$I$4:$I$263,0) -> 74 | L54: =IF(OR(I54=0,M54=0),100,((O54-K54)/COUNTA($D$4:$D$263))*100+100) -> 98.076923 | M54: =VLOOKUP(A54,[1]高二下!$A$3:$F$536,5,0) -> 88 | N54: =VLOOKUP(A54,[1]高二下!$A$3:$F$536,6,0) -> 格绒燚西 | O54: =RANK(M54,$M$4:$M$263,0) -> 69 | P54: =IF(OR(Q54=0,M54=0),100,((S54-O54)/COUNTA($D$4:$D$263))*100+100) -> 150.38462 | Q54: =VLOOKUP(A54,[1]高二上!$A$3:$F$583,5,0) -> 75 | R54: =VLOOKUP(A54,[1]高二上!$A$3:$F$583,6,0) -> 格绒燚西 | S54: =RANK(Q54,$Q$4:$Q$263,0) -> 200 | T54: =IF(OR(Q54=0,U54=0),100,((W54-S54)/COUNTA($D$4:$D$263))*100+100) -> 86.153846 | U54: =VLOOKUP(A54,[1]高一下!$A$3:$F$585,5,0) -> 75 | V54: =VLOOKUP(A54,[1]高一下!$A$3:$F$585,6,0) -> 格绒燚西 | W54: =RANK(U54,$U$4:$U$263,0) -> 164 | X54: =IF(OR(Y54=0,U54=0),100,((AA54-W54)/COUNTA($D$4:$D$263))*100+100) -> 61.923077 | Y54: =VLOOKUP(A54,[1]高一上!$A$3:$F$587,5,0) -> 90 | Z54: =VLOOKUP(A54,[1]高一上!$A$3:$F$587,6,0) -> 格绒燚西 | AA54: =RANK(Y54,$Y$4:$Y$263,0) -> 65 | AB54: =IF(OR(Y54=0,AC54=0),100,((AD54-AA54)/COUNTA($D$4:$D$263))*100+100) -> 115.76923 | AC54: =VLOOKUP(A54,[1]中考!$A$2:$E$571,5,0) -> 91 | AD54: =RANK(AC54,$AC$4:$AC$263,0) -> 106
A55: 513223200408251829 | B55: 2 | C55: 李思韵 | D55: 文科 | E55: 92 | F55: 格绒燚西 | G55: =RANK(E55,$E$4:$E$263,0) -> 76 | H55: =IF(OR(I55=0,E55=0),100,((K55-G55)/COUNTA($D$4:$D$263))*100+100) -> 71.923077 | I55: =VLOOKUP(A55,[1]高三上!A$3:Q$588,5,0) -> 105.5 | J55: =VLOOKUP(A55,[1]高三上!A$3:Q$588,6,0) -> 格绒燚西 | K55: =RANK(I55,$I$4:$I$263,0) -> 3 | L55: =IF(OR(I55=0,M55=0),100,((O55-K55)/COUNTA($D$4:$D$263))*100+100) -> 100 | M55: 0 | N55: 格绒燚西 | O55: =RANK(M55,$M$4:$M$263,0) -> 236 | P55: =IF(OR(Q55=0,M55=0),100,((S55-O55)/COUNTA($D$4:$D$263))*100+100) -> 100 | Q55: =VLOOKUP(A55,[1]高二上!$A$3:$F$583,5,0) -> 83 | R55: =VLOOKUP(A55,[1]高二上!$A$3:$F$583,6,0) -> 格绒燚西 | S55: =RANK(Q55,$Q$4:$Q$263,0) -> 123 | T55: =IF(OR(Q55=0,U55=0),100,((W55-S55)/COUNTA($D$4:$D$263))*100+100) -> 140 | U55: =VLOOKUP(A55,[1]高一下!$A$3:$F$585,5,0) -> 69 | V55: =VLOOKUP(A55,[1]高一下!$A$3:$F$585,6,0) -> 格绒燚西 | W55: =RANK(U55,$U$4:$U$263,0) -> 227 | X55: =IF(OR(Y55=0,U55=0),100,((AA55-W55)/COUNTA($D$4:$D$263))*100+100) -> 67.692308 | Y55: =VLOOKUP(A55,[1]高一上!$A$3:$F$587,5,0) -> 82 | Z55: =VLOOKUP(A55,[1]高一上!$A$3:$F$587,6,0) -> 格绒燚西 | AA55: =RANK(Y55,$Y$4:$Y$263,0) -> 143 | AB55: =IF(OR(Y55=0,AC55=0),100,((AD55-AA55)/COUNTA($D$4:$D$263))*100+100) -> 79.230769 | AC55: =VLOOKUP(A55,[1]中考!$A$2:$E$571,5,0) -> 92 | AD55: =RANK(AC55,$AC$4:$AC$263,0) -> 89
A56: 513422199903152560 | B56: 2 | C56: 伍春秀 | D56: 文科 | E56: 91 | F56: 格绒燚西 | G56: =RANK(E56,$E$4:$E$263,0) -> 86 | H56: =IF(OR(I56=0,E56=0),100,((K56-G56)/COUNTA($D$4:$D$263))*100+100) -> 116.92308 | I56: =VLOOKUP(A56,[1]高三上!A$3:Q$588,5,0) -> 90.5 | J56: =VLOOKUP(A56,[1]高三上!A$3:Q$588,6,0) -> 格绒燚西 | K56: =RANK(I56,$I$4:$I$263,0) -> 130 | L56: =IF(OR(I56=0,M56=0),100,((O56-K56)/COUNTA($D$4:$D$263))*100+100) -> 53.846154 | M56: =VLOOKUP(A56,[1]高二下!$A$3:$F$536,5,0) -> 96 | N56: =VLOOKUP(A56,[1]高二下!$A$3:$F$536,6,0) -> 格绒燚西 | O56: =RANK(M56,$M$4:$M$263,0) -> 10 | P56: =IF(OR(Q56=0,M56=0),100,((S56-O56)/COUNTA($D$4:$D$263))*100+100) -> 178.46154 | Q56: =VLOOKUP(A56,[1]高二上!$A$3:$F$583,5,0) -> 74 | R56: =VLOOKUP(A56,[1]高二上!$A$3:$F$583,6,0) -> 格绒燚西 | S56: =RANK(Q56,$Q$4:$Q$263,0) -> 214 | T56: =IF(OR(Q56=0,U56=0),100,((W56-S56)/COUNTA($D$4:$D$263))*100+100) -> 69.230769 | U56: =VLOOKUP(A56,[1]高一下!$A$3:$F$585,5,0) -> 77 | V56: =VLOOKUP(A56,[1]高一下!$A$3:$F$585,6,0) -> 格绒燚西 | W56: =RANK(U56,$U$4:$U$263,0) -> 134 | X56: =IF(OR(Y56=0,U56=0),100,((AA56-W56)/COUNTA($D$4:$D$263))*100+100) -> 139.61538 | Y56: =VLOOKUP(A56,[1]高一上!$A$3:$F$587,5,0) -> 71 | Z56: =VLOOKUP(A56,[1]高一上!$A$3:$F$587,6,0) -> 格绒燚西 | AA56: =RANK(Y56,$Y$4:$Y$263,0) -> 237 | AB56: =IF(OR(Y56=0,AC56=0),100,((AD56-AA56)/COUNTA($D$4:$D$263))*100+100) -> 57.307692 | AC56: =VLOOKUP(A56,[1]中考!$A$2:$E$571,5,0) -> 89 | AD56: =RANK(AC56,$AC$4:$AC$263,0) -> 126
A57: 513422199905064222 | B57: 2 | C57: 央青祝玛 | D57: 文科 | E57: 68 | F57: 格绒燚西 | G57: =RANK(E57,$E$4:$E$263,0) -> 255 | H57: =IF(OR(I57=0,E57=0),100,((K57-G57)/COUNTA($D$4:$D$263))*100+100) -> 92.692308 | I57: =VLOOKUP(A57,[1]高三上!A$3:Q$588,5,0) -> 69 | J57: =VLOOKUP(A57,[1]高三上!A$3:Q$588,6,0) -> 格绒燚西 | K57: =RANK(I57,$I$4:$I$263,0) -> 236 | L57: =IF(OR(I57=0,M57=0),100,((O57-K57)/COUNTA($D$4:$D$263))*100+100) -> 99.230769 | M57: =VLOOKUP(A57,[1]高二下!$A$3:$F$536,5,0) -> 66 | N57: =VLOOKUP(A57,[1]高二下!$A$3:$F$536,6,0) -> 格绒燚西 | O57: =RANK(M57,$M$4:$M$263,0) -> 234 | P57: =IF(OR(Q57=0,M57=0),100,((S57-O57)/COUNTA($D$4:$D$263))*100+100) -> 105 | Q57: =VLOOKUP(A57,[1]高二上!$A$3:$F$583,5,0) -> 64 | R57: =VLOOKUP(A57,[1]高二上!$A$3:$F$583,6,0) -> 格绒燚西 | S57: =RANK(Q57,$Q$4:$Q$263,0) -> 247 | T57: =IF(OR(Q57=0,U57=0),100,((W57-S57)/COUNTA($D$4:$D$263))*100+100) -> 64.230769 | U57: =VLOOKUP(A57,[1]高一下!$A$3:$F$585,5,0) -> 76 | V57: =VLOOKUP(A57,[1]高一下!$A$3:$F$585,6,0) -> 格绒燚西 | W57: =RANK(U57,$U$4:$U$263,0) -> 154 | X57: =IF(OR(Y57=0,U57=0),100,((AA57-W57)/COUNTA($D$4:$D$263))*100+100) -> 138.07692 | Y57: =VLOOKUP(A57,[1]高一上!$A$3:$F$587,5,0) -> 64 | Z57: =VLOOKUP(A57,[1]高一上!$A$3:$F$587,6,0) -> 格绒燚西 | AA57: =RANK(Y57,$Y$4:$Y$263,0) -> 253 | AB57: =IF(OR(Y57=0,AC57=0),100,((AD57-AA57)/COUNTA($D$4:$D$263))*100+100) -> 97.307692 | AC57: =VLOOKUP(A57,[1]中考!$A$2:$E$571,5,0) -> 65 | AD57: =RANK(AC57,$AC$4:$AC$263,0) -> 246
A58: 513422199905184224 | B58: 2 | C58: 次尔央宗 | D58: 文科 | E58: 87 | F58: 格绒燚西 | G58: =RANK(E58,$E$4:$E$263,0) -> 128 | H58: =IF(OR(I58=0,E58=0),100,((K58-G58)/COUNTA($D$4:$D$263))*100+100) -> 110.38462 | I58: =VLOOKUP(A58,[1]高三上!A$3:Q$588,5,0) -> 88 | J58: 格绒燚西 | K58: =RANK(I58,$I$4:$I$263,0) -> 155 | L58: =IF(OR(I58=0,M58=0),100,((O58-K58)/COUNTA($D$4:$D$263))*100+100) -> 81.153846 | M58: =VLOOKUP(A58,[1]高二下!$A$3:$F$536,5,0) -> 85 | N58: =VLOOKUP(A58,[1]高二下!$A$3:$F$536,6,0) -> 格绒燚西 | O58: =RANK(M58,$M$4:$M$263,0) -> 106 | P58: =IF(OR(Q58=0,M58=0),100,((S58-O58)/COUNTA($D$4:$D$263))*100+100) -> 151.53846 | Q58: =VLOOKUP(A58,[1]高二上!$A$3:$F$583,5,0) -> 66 | R58: =VLOOKUP(A58,[1]高二上!$A$3:$F$583,6,0) -> 格绒燚西 | S58: =RANK(Q58,$Q$4:$Q$263,0) -> 240 | T58: =IF(OR(Q58=0,U58=0),100,((W58-S58)/COUNTA($D$4:$D$263))*100+100) -> 92.692308 | U58: =VLOOKUP(A58,[1]高一下!$A$3:$F$585,5,0) -> 70 | V58: =VLOOKUP(A58,[1]高一下!$A$3:$F$585,6,0) -> 格绒燚西 | W58: =RANK(U58,$U$4:$U$263,0) -> 221 | X58: =IF(OR(Y58=0,U58=0),100,((AA58-W58)/COUNTA($D$4:$D$263))*100+100) -> 58.076923 | Y58: =VLOOKUP(A58,[1]高一上!$A$3:$F$587,5,0) -> 85 | Z58: =VLOOKUP(A58,[1]高一上!$A$3:$F$587,6,0) -> 格绒燚西 | AA58: =RANK(Y58,$Y$4:$Y$263,0) -> 112 | AB58: =IF(OR(Y58=0,AC58=0),100,((AD58-AA58)/COUNTA($D$4:$D$263))*100+100) -> 97.692308 | AC58: =VLOOKUP(A58,[1]中考!$A$2:$E$571,5,0) -> 91 | AD58: =RANK(AC58,$AC$4:$AC$263,0) -> 106
A59: 513422199910282160 | B59: 2 | C59: 马阿支 | D59: 文科 | E59: 78 | F59: 格绒燚西 | G59: =RANK(E59,$E$4:$E$263,0) -> 198 | H59: =IF(OR(I59=0,E59=0),100,((K59-G59)/COUNTA($D$4:$D$263))*100+100) -> 100 | I59: 0 | J59: 格绒燚西 | K59: =RANK(I59,$I$4:$I$263,0) -> 241 | L59: =IF(OR(I59=0,M59=0),100,((O59-K59)/COUNTA($D$4:$D$263))*100+100) -> 100 | M59: 0 | N59: 格绒燚西 | O59: =RANK(M59,$M$4:$M$263,0) -> 236 | P59: =IF(OR(Q59=0,M59=0),100,((S59-O59)/COUNTA($D$4:$D$263))*100+100) -> 100 | Q59: =VLOOKUP(A59,[1]高二上!$A$3:$F$583,5,0) -> 75 | R59: =VLOOKUP(A59,[1]高二上!$A$3:$F$583,6,0) -> 格绒燚西 | S59: =RANK(Q59,$Q$4:$Q$263,0) -> 200 | T59: =IF(OR(Q59=0,U59=0),100,((W59-S59)/COUNTA($D$4:$D$263))*100+100) -> 53.461538 | U59: =VLOOKUP(A59,[1]高一下!$A$3:$F$585,5,0) -> 81 | V59: =VLOOKUP(A59,[1]高一下!$A$3:$F$585,6,0) -> 格绒燚西 | W59: =RANK(U59,$U$4:$U$263,0) -> 79 | X59: =IF(OR(Y59=0,U59=0),100,((AA59-W59)/COUNTA($D$4:$D$263))*100+100) -> 97.692308 | Y59: =VLOOKUP(A59,[1]高一上!$A$3:$F$587,5,0) -> 89 | Z59: =VLOOKUP(A59,[1]高一上!$A$3:$F$587,6,0) -> 格绒燚西 | AA59: =RANK(Y59,$Y$4:$Y$263,0) -> 73 | AB59: =IF(OR(Y59=0,AC59=0),100,((AD59-AA59)/COUNTA($D$4:$D$263))*100+100) -> 100 | AC59: 0 | AD59: =RANK(AC59,$AC$4:$AC$263,0) -> 255
A60: 513422200003255025 | B60: 2 | C60: 降初 | D60: 文科 | E60: 79 | F60: 格绒燚西 | G60: =RANK(E60,$E$4:$E$263,0) -> 192 | H60: =IF(OR(I60=0,E60=0),100,((K60-G60)/COUNTA($D$4:$D$263))*100+100) -> 92.307692 | I60: =VLOOKUP(A60,[1]高三上!A$3:Q$588,5,0) -> 86 | J60: =VLOOKUP(A60,[1]高三上!A$3:Q$588,6,0) -> 格绒燚西 | K60: =RANK(I60,$I$4:$I$263,0) -> 172 | L60: =IF(OR(I60=0,M60=0),100,((O60-K60)/COUNTA($D$4:$D$263))*100+100) -> 35 | M60: =VLOOKUP(A60,[1]高二下!$A$3:$F$536,5,0) -> 99 | N60: =VLOOKUP(A60,[1]高二下!$A$3:$F$536,6,0) -> 格绒燚西 | O60: =RANK(M60,$M$4:$M$263,0) -> 3 | P60: =IF(OR(Q60=0,M60=0),100,((S60-O60)/COUNTA($D$4:$D$263))*100+100) -> 146.15385 | Q60: =VLOOKUP(A60,[1]高二上!$A$3:$F$583,5,0) -> 83 | R60: =VLOOKUP(A60,[1]高二上!$A$3:$F$583,6,0) -> 格绒燚西 | S60: =RANK(Q60,$Q$4:$Q$263,0) -> 123 | T60: =IF(OR(Q60=0,U60=0),100,((W60-S60)/COUNTA($D$4:$D$263))*100+100) -> 132.30769 | U60: =VLOOKUP(A60,[1]高一下!$A$3:$F$585,5,0) -> 71 | V60: =VLOOKUP(A60,[1]高一下!$A$3:$F$585,6,0) -> 格绒燚西 | W60: =RANK(U60,$U$4:$U$263,0) -> 207 | X60: =IF(OR(Y60=0,U60=0),100,((AA60-W60)/COUNTA($D$4:$D$263))*100+100) -> 38.846154 | Y60: =VLOOKUP(A60,[1]高一上!$A$3:$F$587,5,0) -> 92 | Z60: =VLOOKUP(A60,[1]高一上!$A$3:$F$587,6,0) -> 格绒燚西 | AA60: =RANK(Y60,$Y$4:$Y$263,0) -> 48 | AB60: =IF(OR(Y60=0,AC60=0),100,((AD60-AA60)/COUNTA($D$4:$D$263))*100+100) -> 134.23077 | AC60: =VLOOKUP(A60,[1]中考!$A$2:$E$571,5,0) -> 88 | AD60: =RANK(AC60,$AC$4:$AC$263,0) -> 137
A61: 513422200004064829 | B61: 2 | C61: 央宗 | D61: 文科 | E61: 80 | F61: 格绒燚西 | G61: =RANK(E61,$E$4:$E$263,0) -> 183 | H61: =IF(OR(I61=0,E61=0),100,((K61-G61)/COUNTA($D$4:$D$263))*100+100) -> 61.153846 | I61: =VLOOKUP(A61,[1]高三上!A$3:Q$588,5,0) -> 94 | J61: =VLOOKUP(A61,[1]高三上!A$3:Q$588,6,0) -> 格绒燚西 | K61: =RANK(I61,$I$4:$I$263,0) -> 82 | L61: =IF(OR(I61=0,M61=0),100,((O61-K61)/COUNTA($D$4:$D$263))*100+100) -> 128.84615 | M61: =VLOOKUP(A61,[1]高二下!$A$3:$F$536,5,0) -> 82 | N61: =VLOOKUP(A61,[1]高二下!$A$3:$F$536,6,0) -> 格绒燚西 | O61: =RANK(M61,$M$4:$M$263,0) -> 157 | P61: =IF(OR(Q61=0,M61=0),100,((S61-O61)/COUNTA($D$4:$D$263))*100+100) -> 106.92308 | Q61: =VLOOKUP(A61,[1]高二上!$A$3:$F$583,5,0) -> 78 | R61: =VLOOKUP(A61,[1]高二上!$A$3:$F$583,6,0) -> 格绒燚西 | S61: =RANK(Q61,$Q$4:$Q$263,0) -> 175 | T61: =IF(OR(Q61=0,U61=0),100,((W61-S61)/COUNTA($D$4:$D$263))*100+100) -> 69.615385 | U61: =VLOOKUP(A61,[1]高一下!$A$3:$F$585,5,0) -> 80 | V61: =VLOOKUP(A61,[1]高一下!$A$3:$F$585,6,0) -> 格绒燚西 | W61: =RANK(U61,$U$4:$U$263,0) -> 96 | X61: =IF(OR(Y61=0,U61=0),100,((AA61-W61)/COUNTA($D$4:$D$263))*100+100) -> 133.46154 | Y61: =VLOOKUP(A61,[1]高一上!$A$3:$F$587,5,0) -> 78 | Z61: =VLOOKUP(A61,[1]高一上!$A$3:$F$587,6,0) -> 格绒燚西 | AA61: =RANK(Y61,$Y$4:$Y$263,0) -> 183 | AB61: =IF(OR(Y61=0,AC61=0),100,((AD61-AA61)/COUNTA($D$4:$D$263))*100+100) -> 76.538462 | AC61: =VLOOKUP(A61,[1]中考!$A$2:$E$571,5,0) -> 90 | AD61: =RANK(AC61,$AC$4:$AC$263,0) -> 122
A62: 513422200101166229 | B62: 2 | C62: 胡秀珍 | D62: 文科 | E62: 99 | F62: 格绒燚西 | G62: =RANK(E62,$E$4:$E$263,0) -> 31 | H62: =IF(OR(I62=0,E62=0),100,((K62-G62)/COUNTA($D$4:$D$263))*100+100) -> 126.53846 | I62: =VLOOKUP(A62,[1]高三上!A$3:Q$588,5,0) -> 93 | J62: =VLOOKUP(A62,[1]高三上!A$3:Q$588,6,0) -> 格绒燚西 | K62: =RANK(I62,$I$4:$I$263,0) -> 100 | L62: =IF(OR(I62=0,M62=0),100,((O62-K62)/COUNTA($D$4:$D$263))*100+100) -> 102.30769 | M62: =VLOOKUP(A62,[1]高二下!$A$3:$F$536,5,0) -> 85 | N62: =VLOOKUP(A62,[1]高二下!$A$3:$F$536,6,0) -> 格绒燚西 | O62: =RANK(M62,$M$4:$M$263,0) -> 106 | P62: =IF(OR(Q62=0,M62=0),100,((S62-O62)/COUNTA($D$4:$D$263))*100+100) -> 60 | Q62: =VLOOKUP(A62,[1]高二上!$A$3:$F$583,5,0) -> 101 | R62: =VLOOKUP(A62,[1]高二上!$A$3:$F$583,6,0) -> 格绒燚西 | S62: =RANK(Q62,$Q$4:$Q$263,0) -> 2 | T62: =IF(OR(Q62=0,U62=0),100,((W62-S62)/COUNTA($D$4:$D$263))*100+100) -> 136.15385 | U62: =VLOOKUP(A62,[1]高一下!$A$3:$F$585,5,0) -> 80 | V62: =VLOOKUP(A62,[1]高一下!$A$3:$F$585,6,0) -> 格绒燚西 | W62: =RANK(U62,$U$4:$U$263,0) -> 96 | X62: =IF(OR(Y62=0,U62=0),100,((AA62-W62)/COUNTA($D$4:$D$263))*100+100) -> 65 | Y62: =VLOOKUP(A62,[1]高一上!$A$3:$F$587,5,0) -> 102 | Z62: =VLOOKUP(A62,[1]高一上!$A$3:$F$587,6,0) -> 格绒燚西 | AA62: =RANK(Y62,$Y$4:$Y$263,0) -> 5 | AB62: =IF(OR(Y62=0,AC62=0),100,((AD62-AA62)/COUNTA($D$4:$D$263))*100+100) -> 98.461538 | AC62: =VLOOKUP(A62,[1]中考!$A$2:$E$571,5,0) -> 114 | AD62: =RANK(AC62,$AC$4:$AC$263,0) -> 1
A63: 513422200101214219 | B63: 2 | C63: 仁青 | D63: 文科 | E63: 75 | F63: 格绒燚西 | G63: =RANK(E63,$E$4:$E$263,0) -> 215 | H63: =IF(OR(I63=0,E63=0),100,((K63-G63)/COUNTA($D$4:$D$263))*100+100) -> 101.15385 | I63: =VLOOKUP(A63,[1]高三上!A$3:Q$588,5,0) -> 80.5 | J63: =VLOOKUP(A63,[1]高三上!A$3:Q$588,6,0) -> 格绒燚西 | K63: =RANK(I63,$I$4:$I$263,0) -> 218 | L63: =IF(OR(I63=0,M63=0),100,((O63-K63)/COUNTA($D$4:$D$263))*100+100) -> 76.538462 | M63: =VLOOKUP(A63,[1]高二下!$A$3:$F$536,5,0) -> 82 | N63: =VLOOKUP(A63,[1]高二下!$A$3:$F$536,6,0) -> 格绒燚西 | O63: =RANK(M63,$M$4:$M$263,0) -> 157 | P63: =IF(OR(Q63=0,M63=0),100,((S63-O63)/COUNTA($D$4:$D$263))*100+100) -> 106.92308 | Q63: =VLOOKUP(A63,[1]高二上!$A$3:$F$583,5,0) -> 78 | R63: =VLOOKUP(A63,[1]高二上!$A$3:$F$583,6,0) -> 格绒燚西 | S63: =RANK(Q63,$Q$4:$Q$263,0) -> 175 | T63: =IF(OR(Q63=0,U63=0),100,((W63-S63)/COUNTA($D$4:$D$263))*100+100) -> 107.69231 | U63: =VLOOKUP(A63,[1]高一下!$A$3:$F$585,5,0) -> 72 | V63: =VLOOKUP(A63,[1]高一下!$A$3:$F$585,6,0) -> 格绒燚西 | W63: =RANK(U63,$U$4:$U$263,0) -> 195 | X63: =IF(OR(Y63=0,U63=0),100,((AA63-W63)/COUNTA($D$4:$D$263))*100+100) -> 103.46154 | Y63: =VLOOKUP(A63,[1]高一上!$A$3:$F$587,5,0) -> 76 | Z63: =VLOOKUP(A63,[1]高一上!$A$3:$F$587,6,0) -> 陈丽娇 | AA63: =RANK(Y63,$Y$4:$Y$263,0) -> 204 | AB63: =IF(OR(Y63=0,AC63=0),100,((AD63-AA63)/COUNTA($D$4:$D$263))*100+100) -> 100.38462 | AC63: =VLOOKUP(A63,[1]中考!$A$2:$E$571,5,0) -> 77 | AD63: =RANK(AC63,$AC$4:$AC$263,0) -> 205
A64: 513422200102066828 | B64: 2 | C64: 韩琴琴 | D64: 文科 | E64: 97 | F64: 格绒燚西 | G64: =RANK(E64,$E$4:$E$263,0) -> 42 | H64: =IF(OR(I64=0,E64=0),100,((K64-G64)/COUNTA($D$4:$D$263))*100+100) -> 106.53846 | I64: =VLOOKUP(A64,[1]高三上!A$3:Q$588,5,0) -> 96 | J64: =VLOOKUP(A64,[1]高三上!A$3:Q$588,6,0) -> 格绒燚西 | K64: =RANK(I64,$I$4:$I$263,0) -> 59 | L64: =IF(OR(I64=0,M64=0),100,((O64-K64)/COUNTA($D$4:$D$263))*100+100) -> 79.615385 | M64: =VLOOKUP(A64,[1]高二下!$A$3:$F$536,5,0) -> 98 | N64: =VLOOKUP(A64,[1]高二下!$A$3:$F$536,6,0) -> 格绒燚西 | O64: =RANK(M64,$M$4:$M$263,0) -> 6 | P64: =IF(OR(Q64=0,M64=0),100,((S64-O64)/COUNTA($D$4:$D$263))*100+100) -> 129.61538 | Q64: =VLOOKUP(A64,[1]高二上!$A$3:$F$583,5,0) -> 86 | R64: =VLOOKUP(A64,[1]高二上!$A$3:$F$583,6,0) -> 格绒燚西 | S64: =RANK(Q64,$Q$4:$Q$263,0) -> 83 | T64: =IF(OR(Q64=0,U64=0),100,((W64-S64)/COUNTA($D$4:$D$263))*100+100) -> 93.461538 | U64: =VLOOKUP(A64,[1]高一下!$A$3:$F$585,5,0) -> 82 | V64: =VLOOKUP(A64,[1]高一下!$A$3:$F$585,6,0) -> 格绒燚西 | W64: =RANK(U64,$U$4:$U$263,0) -> 66 | X64: =IF(OR(Y64=0,U64=0),100,((AA64-W64)/COUNTA($D$4:$D$263))*100+100) -> 102.69231 | Y64: =VLOOKUP(A64,[1]高一上!$A$3:$F$587,5,0) -> 89 | Z64: =VLOOKUP(A64,[1]高一上!$A$3:$F$587,6,0) -> 格绒燚西 | AA64: =RANK(Y64,$Y$4:$Y$263,0) -> 73 | AB64: =IF(OR(Y64=0,AC64=0),100,((AD64-AA64)/COUNTA($D$4:$D$263))*100+100) -> 74.230769 | AC64: =VLOOKUP(A64,[1]中考!$A$2:$E$571,5,0) -> 106 | AD64: =RANK(AC64,$AC$4:$AC$263,0) -> 6
A65: 513422200105056422 | B65: 2 | C65: 启色拉姆 | D65: 文科 | E65: 103 | F65: 格绒燚西 | G65: =RANK(E65,$E$4:$E$263,0) -> 14 | H65: =IF(OR(I65=0,E65=0),100,((K65-G65)/COUNTA($D$4:$D$263))*100+100) -> 120 | I65: =VLOOKUP(A65,[1]高三上!A$3:Q$588,5,0) -> 95.5 | J65: =VLOOKUP(A65,[1]高三上!A$3:Q$588,6,0) -> 格绒燚西 | K65: =RANK(I65,$I$4:$I$263,0) -> 66 | L65: =IF(OR(I65=0,M65=0),100,((O65-K65)/COUNTA($D$4:$D$263))*100+100) -> 146.15385 | M65: =VLOOKUP(A65,[1]高二下!$A$3:$F$536,5,0) -> 79 | N65: =VLOOKUP(A65,[1]高二下!$A$3:$F$536,6,0) -> 格绒燚西 | O65: =RANK(M65,$M$4:$M$263,0) -> 186 | P65: =IF(OR(Q65=0,M65=0),100,((S65-O65)/COUNTA($D$4:$D$263))*100+100) -> 60.384615 | Q65: =VLOOKUP(A65,[1]高二上!$A$3:$F$583,5,0) -> 86 | R65: =VLOOKUP(A65,[1]高二上!$A$3:$F$583,6,0) -> 格绒燚西 | S65: =RANK(Q65,$Q$4:$Q$263,0) -> 83 | T65: =IF(OR(Q65=0,U65=0),100,((W65-S65)/COUNTA($D$4:$D$263))*100+100) -> 77.692308 | U65: =VLOOKUP(A65,[1]高一下!$A$3:$F$585,5,0) -> 85 | V65: =VLOOKUP(A65,[1]高一下!$A$3:$F$585,6,0) -> 格绒燚西 | W65: =RANK(U65,$U$4:$U$263,0) -> 25 | X65: =IF(OR(Y65=0,U65=0),100,((AA65-W65)/COUNTA($D$4:$D$263))*100+100) -> 154.23077 | Y65: =VLOOKUP(A65,[1]高一上!$A$3:$F$587,5,0) -> 80 | Z65: =VLOOKUP(A65,[1]高一上!$A$3:$F$587,6,0) -> 格绒燚西 | AA65: =RANK(Y65,$Y$4:$Y$263,0) -> 166 | AB65: =IF(OR(Y65=0,AC65=0),100,((AD65-AA65)/COUNTA($D$4:$D$263))*100+100) -> 121.92308 | AC65: =VLOOKUP(A65,[1]中考!$A$2:$E$571,5,0) -> 74 | AD65: =RANK(AC65,$AC$4:$AC$263,0) -> 223
A66: 513422200107021928 | B66: 2 | C66: 王英 | D66: 文科 | E66: 93 | F66: 格绒燚西 | G66: =RANK(E66,$E$4:$E$263,0) -> 68 | H66: =IF(OR(I66=0,E66=0),100,((K66-G66)/COUNTA($D$4:$D$263))*100+100) -> 138.46154 | I66: =VLOOKUP(A66,[1]高三上!A$3:Q$588,5,0) -> 86.5 | J66: =VLOOKUP(A66,[1]高三上!A$3:Q$588,6,0) -> 格绒燚西 | K66: =RANK(I66,$I$4:$I$263,0) -> 168 | L66: =IF(OR(I66=0,M66=0),100,((O66-K66)/COUNTA($D$4:$D$263))*100+100) -> 50.769231 | M66: =VLOOKUP(A66,[1]高二下!$A$3:$F$536,5,0) -> 91 | N66: =VLOOKUP(A66,[1]高二下!$A$3:$F$536,6,0) -> 格绒燚西 | O66: =RANK(M66,$M$4:$M$263,0) -> 40 | P66: =IF(OR(Q66=0,M66=0),100,((S66-O66)/COUNTA($D$4:$D$263))*100+100) -> 143.07692 | Q66: =VLOOKUP(A66,[1]高二上!$A$3:$F$583,5,0) -> 80 | R66: =VLOOKUP(A66,[1]高二上!$A$3:$F$583,6,0) -> 格绒燚西 | S66: =RANK(Q66,$Q$4:$Q$263,0) -> 152 | T66: =IF(OR(Q66=0,U66=0),100,((W66-S66)/COUNTA($D$4:$D$263))*100+100) -> 78.461538 | U66: =VLOOKUP(A66,[1]高一下!$A$3:$F$585,5,0) -> 80 | V66: =VLOOKUP(A66,[1]高一下!$A$3:$F$585,6,0) -> 格绒燚西 | W66: =RANK(U66,$U$4:$U$263,0) -> 96 | X66: =IF(OR(Y66=0,U66=0),100,((AA66-W66)/COUNTA($D$4:$D$263))*100+100) -> 118.07692 | Y66: =VLOOKUP(A66,[1]高一上!$A$3:$F$587,5,0) -> 82 | Z66: =VLOOKUP(A66,[1]高一上!$A$3:$F$587,6,0) -> 格绒燚西 | AA66: =RANK(Y66,$Y$4:$Y$263,0) -> 143 | AB66: =IF(OR(Y66=0,AC66=0),100,((AD66-AA66)/COUNTA($D$4:$D$263))*100+100) -> 85.769231 | AC66: =VLOOKUP(A66,[1]中考!$A$2:$E$571,5,0) -> 91 | AD66: =RANK(AC66,$AC$4:$AC$263,0) -> 106
A67: 513422200111094222 | B67: 2 | C67: 仁青娜姆 | D67: 文科 | E67: 92 | F67: 格绒燚西 | G67: =RANK(E67,$E$4:$E$263,0) -> 76 | H67: =IF(OR(I67=0,E67=0),100,((K67-G67)/COUNTA($D$4:$D$263))*100+100) -> 135.38462 | I67: =VLOOKUP(A67,[1]高三上!A$3:Q$588,5,0) -> 86.5 | J67: 格绒燚西 | K67: =RANK(I67,$I$4:$I$263,0) -> 168 | L67: =IF(OR(I67=0,M67=0),100,((O67-K67)/COUNTA($D$4:$D$263))*100+100) -> 42.692308 | M67: =VLOOKUP(A67,[1]高二下!$A$3:$F$536,5,0) -> 94 | N67: =VLOOKUP(A67,[1]高二下!$A$3:$F$536,6,0) -> 格绒燚西 | O67: =RANK(M67,$M$4:$M$263,0) -> 19 | P67: =IF(OR(Q67=0,M67=0),100,((S67-O67)/COUNTA($D$4:$D$263))*100+100) -> 115.38462 | Q67: =VLOOKUP(A67,[1]高二上!$A$3:$F$583,5,0) -> 88 | R67: =VLOOKUP(A67,[1]高二上!$A$3:$F$583,6,0) -> 格绒燚西 | S67: =RANK(Q67,$Q$4:$Q$263,0) -> 59 | T67: =IF(OR(Q67=0,U67=0),100,((W67-S67)/COUNTA($D$4:$D$263))*100+100) -> 86.923077 | U67: =VLOOKUP(A67,[1]高一下!$A$3:$F$585,5,0) -> 85 | V67: =VLOOKUP(A67,[1]高一下!$A$3:$F$585,6,0) -> 格绒燚西 | W67: =RANK(U67,$U$4:$U$263,0) -> 25 | X67: =IF(OR(Y67=0,U67=0),100,((AA67-W67)/COUNTA($D$4:$D$263))*100+100) -> 93.076923 | Y67: =VLOOKUP(A67,[1]高一上!$A$3:$F$587,5,0) -> 101 | Z67: =VLOOKUP(A67,[1]高一上!$A$3:$F$587,6,0) -> 格绒燚西 | AA67: =RANK(Y67,$Y$4:$Y$263,0) -> 7 | AB67: =IF(OR(Y67=0,AC67=0),100,((AD67-AA67)/COUNTA($D$4:$D$263))*100+100) -> 113.07692 | AC67: =VLOOKUP(A67,[1]中考!$A$2:$E$571,5,0) -> 98 | AD67: =RANK(AC67,$AC$4:$AC$263,0) -> 41
A68: 513422200111231522 | B68: 2 | C68: 马克的莫 | D68: 文科 | E68: 74 | F68: 格绒燚西 | G68: =RANK(E68,$E$4:$E$263,0) -> 228 | H68: =IF(OR(I68=0,E68=0),100,((K68-G68)/COUNTA($D$4:$D$263))*100+100) -> 100 | I68: 0 | J68: 格绒燚西 | K68: =RANK(I68,$I$4:$I$263,0) -> 241 | L68: =IF(OR(I68=0,M68=0),100,((O68-K68)/COUNTA($D$4:$D$263))*100+100) -> 100 | M68: 0 | N68: 格绒燚西 | O68: =RANK(M68,$M$4:$M$263,0) -> 236 | P68: =IF(OR(Q68=0,M68=0),100,((S68-O68)/COUNTA($D$4:$D$263))*100+100) -> 100 | Q68: =VLOOKUP(A68,[1]高二上!$A$3:$F$583,5,0) -> 80 | R68: =VLOOKUP(A68,[1]高二上!$A$3:$F$583,6,0) -> 格绒燚西 | S68: =RANK(Q68,$Q$4:$Q$263,0) -> 152 | T68: =IF(OR(Q68=0,U68=0),100,((W68-S68)/COUNTA($D$4:$D$263))*100+100) -> 136.92308 | U68: =VLOOKUP(A68,[1]高一下!$A$3:$F$585,5,0) -> 64 | V68: =VLOOKUP(A68,[1]高一下!$A$3:$F$585,6,0) -> 格绒燚西 | W68: =RANK(U68,$U$4:$U$263,0) -> 248 | X68: =IF(OR(Y68=0,U68=0),100,((AA68-W68)/COUNTA($D$4:$D$263))*100+100) -> 94.615385 | Y68: =VLOOKUP(A68,[1]高一上!$A$3:$F$587,5,0) -> 72 | Z68: =VLOOKUP(A68,[1]高一上!$A$3:$F$587,6,0) -> 格绒燚西 | AA68: =RANK(Y68,$Y$4:$Y$263,0) -> 234 | AB68: =IF(OR(Y68=0,AC68=0),100,((AD68-AA68)/COUNTA($D$4:$D$263))*100+100) -> 95.769231 | AC68: =VLOOKUP(A68,[1]中考!$A$2:$E$571,5,0) -> 74 | AD68: =RANK(AC68,$AC$4:$AC$263,0) -> 223
A69: 513422200111253828 | B69: 2 | C69: 蒋永琼 | D69: 文科 | E69: 89 | F69: 格绒燚西 | G69: =RANK(E69,$E$4:$E$263,0) -> 105 | H69: =IF(OR(I69=0,E69=0),100,((K69-G69)/COUNTA($D$4:$D$263))*100+100) -> 119.23077 | I69: =VLOOKUP(A69,[1]高三上!A$3:Q$588,5,0) -> 88 | J69: =VLOOKUP(A69,[1]高三上!A$3:Q$588,6,0) -> 格绒燚西 | K69: =RANK(I69,$I$4:$I$263,0) -> 155 | L69: =IF(OR(I69=0,M69=0),100,((O69-K69)/COUNTA($D$4:$D$263))*100+100) -> 50 | M69: =VLOOKUP(A69,[1]高二下!$A$3:$F$536,5,0) -> 93 | N69: =VLOOKUP(A69,[1]高二下!$A$3:$F$536,6,0) -> 格绒燚西 | O69: =RANK(M69,$M$4:$M$263,0) -> 25 | P69: =IF(OR(Q69=0,M69=0),100,((S69-O69)/COUNTA($D$4:$D$263))*100+100) -> 133.46154 | Q69: =VLOOKUP(A69,[1]高二上!$A$3:$F$583,5,0) -> 84 | R69: =VLOOKUP(A69,[1]高二上!$A$3:$F$583,6,0) -> 格绒燚西 | S69: =RANK(Q69,$Q$4:$Q$263,0) -> 112 | T69: =IF(OR(Q69=0,U69=0),100,((W69-S69)/COUNTA($D$4:$D$263))*100+100) -> 72.692308 | U69: =VLOOKUP(A69,[1]高一下!$A$3:$F$585,5,0) -> 84 | V69: =VLOOKUP(A69,[1]高一下!$A$3:$F$585,6,0) -> 格绒燚西 | W69: =RANK(U69,$U$4:$U$263,0) -> 41 | X69: =IF(OR(Y69=0,U69=0),100,((AA69-W69)/COUNTA($D$4:$D$263))*100+100) -> 109.23077 | Y69: =VLOOKUP(A69,[1]高一上!$A$3:$F$587,5,0) -> 90 | Z69: =VLOOKUP(A69,[1]高一上!$A$3:$F$587,6,0) -> 格绒燚西 | AA69: =RANK(Y69,$Y$4:$Y$263,0) -> 65 | AB69: =IF(OR(Y69=0,AC69=0),100,((AD69-AA69)/COUNTA($D$4:$D$263))*100+100) -> 105 | AC69: =VLOOKUP(A69,[1]中考!$A$2:$E$571,5,0) -> 94 | AD69: =RANK(AC69,$AC$4:$AC$263,0) -> 78
A70: 513422200112122125 | B70: 2 | C70: 马尔其 | D70: 文科 | E70: 82 | F70: 格绒燚西 | G70: =RANK(E70,$E$4:$E$263,0) -> 165 | H70: =IF(OR(I70=0,E70=0),100,((K70-G70)/COUNTA($D$4:$D$263))*100+100) -> 59.230769 | I70: =VLOOKUP(A70,[1]高三上!A$3:Q$588,5,0) -> 96 | J70: =VLOOKUP(A70,[1]高三上!A$3:Q$588,6,0) -> 格绒燚西 | K70: =RANK(I70,$I$4:$I$263,0) -> 59 | L70: =IF(OR(I70=0,M70=0),100,((O70-K70)/COUNTA($D$4:$D$263))*100+100) -> 103.84615 | M70: =VLOOKUP(A70,[1]高二下!$A$3:$F$536,5,0) -> 88 | N70: =VLOOKUP(A70,[1]高二下!$A$3:$F$536,6,0) -> 格绒燚西 | O70: =RANK(M70,$M$4:$M$263,0) -> 69 | P70: =IF(OR(Q70=0,M70=0),100,((S70-O70)/COUNTA($D$4:$D$263))*100+100) -> 89.230769 | Q70: =VLOOKUP(A70,[1]高二上!$A$3:$F$583,5,0) -> 90 | R70: =VLOOKUP(A70,[1]高二上!$A$3:$F$583,6,0) -> 格绒燚西 | S70: =RANK(Q70,$Q$4:$Q$263,0) -> 41 | T70: =IF(OR(Q70=0,U70=0),100,((W70-S70)/COUNTA($D$4:$D$263))*100+100) -> 114.61538 | U70: =VLOOKUP(A70,[1]高一下!$A$3:$F$585,5,0) -> 81 | V70: =VLOOKUP(A70,[1]高一下!$A$3:$F$585,6,0) -> 格绒燚西 | W70: =RANK(U70,$U$4:$U$263,0) -> 79 | X70: =IF(OR(Y70=0,U70=0),100,((AA70-W70)/COUNTA($D$4:$D$263))*100+100) -> 112.69231 | Y70: =VLOOKUP(A70,[1]高一上!$A$3:$F$587,5,0) -> 85 | Z70: =VLOOKUP(A70,[1]高一上!$A$3:$F$587,6,0) -> 格绒燚西 | AA70: =RANK(Y70,$Y$4:$Y$263,0) -> 112 | AB70: =IF(OR(Y70=0,AC70=0),100,((AD70-AA70)/COUNTA($D$4:$D$263))*100+100) -> 137.69231 | AC70: =VLOOKUP(A70,[1]中考!$A$2:$E$571,5,0) -> 76 | AD70: =RANK(AC70,$AC$4:$AC$263,0) -> 210
A71: 513422200201254824 | B71: 2 | C71: 祝玛拉初 | D71: 文科 | E71: 83 | F71: 格绒燚西 | G71: =RANK(E71,$E$4:$E$263,0) -> 156 | H71: =IF(OR(I71=0,E71=0),100,((K71-G71)/COUNTA($D$4:$D$263))*100+100) -> 99.615385 | I71: =VLOOKUP(A71,[1]高三上!A$3:Q$588,5,0) -> 88 | J71: =VLOOKUP(A71,[1]高三上!A$3:Q$588,6,0) -> 格绒燚西 | K71: =RANK(I71,$I$4:$I$263,0) -> 155 | L71: =IF(OR(I71=0,M71=0),100,((O71-K71)/COUNTA($D$4:$D$263))*100+100) -> 66.923077 | M71: =VLOOKUP(A71,[1]高二下!$A$3:$F$536,5,0) -> 88 | N71: =VLOOKUP(A71,[1]高二下!$A$3:$F$536,6,0) -> 格绒燚西 | O71: =RANK(M71,$M$4:$M$263,0) -> 69 | P71: =IF(OR(Q71=0,M71=0),100,((S71-O71)/COUNTA($D$4:$D$263))*100+100) -> 125.38462 | Q71: =VLOOKUP(A71,[1]高二上!$A$3:$F$583,5,0) -> 82 | R71: =VLOOKUP(A71,[1]高二上!$A$3:$F$583,6,0) -> 格绒燚西 | S71: =RANK(Q71,$Q$4:$Q$263,0) -> 135 | T71: =IF(OR(Q71=0,U71=0),100,((W71-S71)/COUNTA($D$4:$D$263))*100+100) -> 116.15385 | U71: =VLOOKUP(A71,[1]高一下!$A$3:$F$585,5,0) -> 74 | V71: =VLOOKUP(A71,[1]高一下!$A$3:$F$585,6,0) -> 格绒燚西 | W71: =RANK(U71,$U$4:$U$263,0) -> 177 | X71: =IF(OR(Y71=0,U71=0),100,((AA71-W71)/COUNTA($D$4:$D$263))*100+100) -> 99.615385 | Y71: =VLOOKUP(A71,[1]高一上!$A$3:$F$587,5,0) -> 79 | Z71: =VLOOKUP(A71,[1]高一上!$A$3:$F$587,6,0) -> 格绒燚西 | AA71: =RANK(Y71,$Y$4:$Y$263,0) -> 176 | AB71: =IF(OR(Y71=0,AC71=0),100,((AD71-AA71)/COUNTA($D$4:$D$263))*100+100) -> 38.461538 | AC71: =VLOOKUP(A71,[1]中考!$A$2:$E$571,5,0) -> 103 | AD71: =RANK(AC71,$AC$4:$AC$263,0) -> 16
A72: 513422200202011517 | B72: 2 | C72: 马东林 | D72: 文科 | E72: 73 | F72: 格绒燚西 | G72: =RANK(E72,$E$4:$E$263,0) -> 232 | H72: =IF(OR(I72=0,E72=0),100,((K72-G72)/COUNTA($D$4:$D$263))*100+100) -> 85.769231 | I72: =VLOOKUP(A72,[1]高三上!A$3:Q$588,5,0) -> 83 | J72: =VLOOKUP(A72,[1]高三上!A$3:Q$588,6,0) -> 格绒燚西 | K72: =RANK(I72,$I$4:$I$263,0) -> 195 | L72: =IF(OR(I72=0,M72=0),100,((O72-K72)/COUNTA($D$4:$D$263))*100+100) -> 105.76923 | M72: =VLOOKUP(A72,[1]高二下!$A$3:$F$536,5,0) -> 76 | N72: =VLOOKUP(A72,[1]高二下!$A$3:$F$536,6,0) -> 格绒燚西 | O72: =RANK(M72,$M$4:$M$263,0) -> 210 | P72: =IF(OR(Q72=0,M72=0),100,((S72-O72)/COUNTA($D$4:$D$263))*100+100) -> 96.153846 | Q72: =VLOOKUP(A72,[1]高二上!$A$3:$F$583,5,0) -> 75 | R72: =VLOOKUP(A72,[1]高二上!$A$3:$F$583,6,0) -> 格绒燚西 | S72: =RANK(Q72,$Q$4:$Q$263,0) -> 200 | T72: =IF(OR(Q72=0,U72=0),100,((W72-S72)/COUNTA($D$4:$D$263))*100+100) -> 98.076923 | U72: =VLOOKUP(A72,[1]高一下!$A$3:$F$585,5,0) -> 72 | V72: =VLOOKUP(A72,[1]高一下!$A$3:$F$585,6,0) -> 格绒燚西 | W72: =RANK(U72,$U$4:$U$263,0) -> 195 | X72: =IF(OR(Y72=0,U72=0),100,((AA72-W72)/COUNTA($D$4:$D$263))*100+100) -> 113.07692 | Y72: =VLOOKUP(A72,[1]高一上!$A$3:$F$587,5,0) -> 73 | Z72: =VLOOKUP(A72,[1]高一上!$A$3:$F$587,6,0) -> 格绒燚西 | AA72: =RANK(Y72,$Y$4:$Y$263,0) -> 229 | AB72: =IF(OR(Y72=0,AC72=0),100,((AD72-AA72)/COUNTA($D$4:$D$263))*100+100) -> 107.69231 | AC72: =VLOOKUP(A72,[1]中考!$A$2:$E$571,5,0) -> 64 | AD72: =RANK(AC72,$AC$4:$AC$263,0) -> 249
A73: 513422200202100720 | B73: 2 | C73: 马布几嫫 | D73: 文科 | E73: 89 | F73: 格绒燚西 | G73: =RANK(E73,$E$4:$E$263,0) -> 105 | H73: =IF(OR(I73=0,E73=0),100,((K73-G73)/COUNTA($D$4:$D$263))*100+100) -> 112.69231 | I73: =VLOOKUP(A73,[1]高三上!A$3:Q$588,5,0) -> 90 | J73: =VLOOKUP(A73,[1]高三上!A$3:Q$588,6,0) -> 格绒燚西 | K73: =RANK(I73,$I$4:$I$263,0) -> 138 | L73: =IF(OR(I73=0,M73=0),100,((O73-K73)/COUNTA($D$4:$D$263))*100+100) -> 93.846154 | M73: =VLOOKUP(A73,[1]高二下!$A$3:$F$536,5,0) -> 84 | N73: =VLOOKUP(A73,[1]高二下!$A$3:$F$536,6,0) -> 格绒燚西 | O73: =RANK(M73,$M$4:$M$263,0) -> 122 | P73: =IF(OR(Q73=0,M73=0),100,((S73-O73)/COUNTA($D$4:$D$263))*100+100) -> 59.230769 | Q73: =VLOOKUP(A73,[1]高二上!$A$3:$F$583,5,0) -> 94 | R73: =VLOOKUP(A73,[1]高二上!$A$3:$F$583,6,0) -> 格绒燚西 | S73: =RANK(Q73,$Q$4:$Q$263,0) -> 16 | T73: =IF(OR(Q73=0,U73=0),100,((W73-S73)/COUNTA($D$4:$D$263))*100+100) -> 115.38462 | U73: =VLOOKUP(A73,[1]高一下!$A$3:$F$585,5,0) -> 83 | V73: =VLOOKUP(A73,[1]高一下!$A$3:$F$585,6,0) -> 格绒燚西 | W73: =RANK(U73,$U$4:$U$263,0) -> 56 | X73: =IF(OR(Y73=0,U73=0),100,((AA73-W73)/COUNTA($D$4:$D$263))*100+100) -> 133.46154 | Y73: =VLOOKUP(A73,[1]高一上!$A$3:$F$587,5,0) -> 82 | Z73: =VLOOKUP(A73,[1]高一上!$A$3:$F$587,6,0) -> 格绒燚西 | AA73: =RANK(Y73,$Y$4:$Y$263,0) -> 143 | AB73: =IF(OR(Y73=0,AC73=0),100,((AD73-AA73)/COUNTA($D$4:$D$263))*100+100) -> 79.230769 | AC73: =VLOOKUP(A73,[1]中考!$A$2:$E$571,5,0) -> 92 | AD73: =RANK(AC73,$AC$4:$AC$263,0) -> 89
A74: 513422200202141127 | B74: 2 | C74: 马建萍 | D74: 文科 | E74: 91 | F74: 格绒燚西 | G74: =RANK(E74,$E$4:$E$263,0) -> 86 | H74: =IF(OR(I74=0,E74=0),100,((K74-G74)/COUNTA($D$4:$D$263))*100+100) -> 92.307692 | I74: =VLOOKUP(A74,[1]高三上!A$3:Q$588,5,0) -> 95.5 | J74: =VLOOKUP(A74,[1]高三上!A$3:Q$588,6,0) -> 格绒燚西 | K74: =RANK(I74,$I$4:$I$263,0) -> 66 | L74: =IF(OR(I74=0,M74=0),100,((O74-K74)/COUNTA($D$4:$D$263))*100+100) -> 86.538462 | M74: =VLOOKUP(A74,[1]高二下!$A$3:$F$536,5,0) -> 92 | N74: =VLOOKUP(A74,[1]高二下!$A$3:$F$536,6,0) -> 格绒燚西 | O74: =RANK(M74,$M$4:$M$263,0) -> 31 | P74: =IF(OR(Q74=0,M74=0),100,((S74-O74)/COUNTA($D$4:$D$263))*100+100) -> 143.46154 | Q74: =VLOOKUP(A74,[1]高二上!$A$3:$F$583,5,0) -> 81 | R74: =VLOOKUP(A74,[1]高二上!$A$3:$F$583,6,0) -> 格绒燚西 | S74: =RANK(Q74,$Q$4:$Q$263,0) -> 144 | T74: =IF(OR(Q74=0,U74=0),100,((W74-S74)/COUNTA($D$4:$D$263))*100+100) -> 50.384615 | U74: =VLOOKUP(A74,[1]高一下!$A$3:$F$585,5,0) -> 87 | V74: =VLOOKUP(A74,[1]高一下!$A$3:$F$585,6,0) -> 格绒燚西 | W74: =RANK(U74,$U$4:$U$263,0) -> 15 | X74: =IF(OR(Y74=0,U74=0),100,((AA74-W74)/COUNTA($D$4:$D$263))*100+100) -> 161.92308 | Y74: =VLOOKUP(A74,[1]高一上!$A$3:$F$587,5,0) -> 79 | Z74: =VLOOKUP(A74,[1]高一上!$A$3:$F$587,6,0) -> 格绒燚西 | AA74: =RANK(Y74,$Y$4:$Y$263,0) -> 176 | AB74: =IF(OR(Y74=0,AC74=0),100,((AD74-AA74)/COUNTA($D$4:$D$263))*100+100) -> 107.30769 | AC74: =VLOOKUP(A74,[1]中考!$A$2:$E$571,5,0) -> 79 | AD74: =RANK(AC74,$AC$4:$AC$263,0) -> 195
A75: 513422200203010938 | B75: 2 | C75: 熊绍友 | D75: 文科 | E75: 89 | F75: 格绒燚西 | G75: =RANK(E75,$E$4:$E$263,0) -> 105 | H75: =IF(OR(I75=0,E75=0),100,((K75-G75)/COUNTA($D$4:$D$263))*100+100) -> 100 | I75: 0 | J75: 格绒燚西 | K75: =RANK(I75,$I$4:$I$263,0) -> 241 | L75: =IF(OR(I75=0,M75=0),100,((O75-K75)/COUNTA($D$4:$D$263))*100+100) -> 100 | M75: =VLOOKUP(A75,[1]高二下!$A$3:$F$536,5,0) -> 88 | N75: =VLOOKUP(A75,[1]高二下!$A$3:$F$536,6,0) -> 格绒燚西 | O75: =RANK(M75,$M$4:$M$263,0) -> 69 | P75: =IF(OR(Q75=0,M75=0),100,((S75-O75)/COUNTA($D$4:$D$263))*100+100) -> 148.46154 | Q75: =VLOOKUP(A75,[1]高二上!$A$3:$F$583,5,0) -> 76 | R75: =VLOOKUP(A75,[1]高二上!$A$3:$F$583,6,0) -> 格绒燚西 | S75: =RANK(Q75,$Q$4:$Q$263,0) -> 195 | T75: =IF(OR(Q75=0,U75=0),100,((W75-S75)/COUNTA($D$4:$D$263))*100+100) -> 104.61538 | U75: =VLOOKUP(A75,[1]高一下!$A$3:$F$585,5,0) -> 71 | V75: =VLOOKUP(A75,[1]高一下!$A$3:$F$585,6,0) -> 格绒燚西 | W75: =RANK(U75,$U$4:$U$263,0) -> 207 | X75: =IF(OR(Y75=0,U75=0),100,((AA75-W75)/COUNTA($D$4:$D$263))*100+100) -> 98.846154 | Y75: =VLOOKUP(A75,[1]高一上!$A$3:$F$587,5,0) -> 76 | Z75: =VLOOKUP(A75,[1]高一上!$A$3:$F$587,6,0) -> 格绒燚西 | AA75: =RANK(Y75,$Y$4:$Y$263,0) -> 204 | AB75: =IF(OR(Y75=0,AC75=0),100,((AD75-AA75)/COUNTA($D$4:$D$263))*100+100) -> 62.307692 | AC75: =VLOOKUP(A75,[1]中考!$A$2:$E$571,5,0) -> 91 | AD75: =RANK(AC75,$AC$4:$AC$263,0) -> 106
A76: 513422200203110920 | B76: 2 | C76: 杨国兰 | D76: 文科 | E76: 69 | F76: 格绒燚西 | G76: =RANK(E76,$E$4:$E$263,0) -> 252 | H76: =IF(OR(I76=0,E76=0),100,((K76-G76)/COUNTA($D$4:$D$263))*100+100) -> 91.538462 | I76: =VLOOKUP(A76,[1]高三上!A$3:Q$588,5,0) -> 75.5 | J76: =VLOOKUP(A76,[1]高三上!A$3:Q$588,6,0) -> 格绒燚西 | K76: =RANK(I76,$I$4:$I$263,0) -> 230 | L76: =IF(OR(I76=0,M76=0),100,((O76-K76)/COUNTA($D$4:$D$263))*100+100) -> 52.307692 | M76: =VLOOKUP(A76,[1]高二下!$A$3:$F$536,5,0) -> 85 | N76: =VLOOKUP(A76,[1]高二下!$A$3:$F$536,6,0) -> 格绒燚西 | O76: =RANK(M76,$M$4:$M$263,0) -> 106 | P76: =IF(OR(Q76=0,M76=0),100,((S76-O76)/COUNTA($D$4:$D$263))*100+100) -> 131.15385 | Q76: =VLOOKUP(A76,[1]高二上!$A$3:$F$583,5,0) -> 77 | R76: =VLOOKUP(A76,[1]高二上!$A$3:$F$583,6,0) -> 格绒燚西 | S76: =RANK(Q76,$Q$4:$Q$263,0) -> 187 | T76: =IF(OR(Q76=0,U76=0),100,((W76-S76)/COUNTA($D$4:$D$263))*100+100) -> 87.307692 | U76: =VLOOKUP(A76,[1]高一下!$A$3:$F$585,5,0) -> 76 | V76: =VLOOKUP(A76,[1]高一下!$A$3:$F$585,6,0) -> 格绒燚西 | W76: =RANK(U76,$U$4:$U$263,0) -> 154 | X76: =IF(OR(Y76=0,U76=0),100,((AA76-W76)/COUNTA($D$4:$D$263))*100+100) -> 111.15385 | Y76: =VLOOKUP(A76,[1]高一上!$A$3:$F$587,5,0) -> 78 | Z76: =VLOOKUP(A76,[1]高一上!$A$3:$F$587,6,0) -> 陈丽娇 | AA76: =RANK(Y76,$Y$4:$Y$263,0) -> 183 | AB76: =IF(OR(Y76=0,AC76=0),100,((AD76-AA76)/COUNTA($D$4:$D$263))*100+100) -> 70.384615 | AC76: =VLOOKUP(A76,[1]中考!$A$2:$E$571,5,0) -> 91 | AD76: =RANK(AC76,$AC$4:$AC$263,0) -> 106
A77: 513422200203250923 | B77: 2 | C77: 毛秀英 | D77: 文科 | E77: 81 | F77: 格绒燚西 | G77: =RANK(E77,$E$4:$E$263,0) -> 175 | H77: =IF(OR(I77=0,E77=0),100,((K77-G77)/COUNTA($D$4:$D$263))*100+100) -> 105.76923 | I77: =VLOOKUP(A77,[1]高三上!A$3:Q$588,5,0) -> 84 | J77: =VLOOKUP(A77,[1]高三上!A$3:Q$588,6,0) -> 格绒燚西 | K77: =RANK(I77,$I$4:$I$263,0) -> 190 | L77: =IF(OR(I77=0,M77=0),100,((O77-K77)/COUNTA($D$4:$D$263))*100+100) -> 107.69231 | M77: =VLOOKUP(A77,[1]高二下!$A$3:$F$536,5,0) -> 76 | N77: =VLOOKUP(A77,[1]高二下!$A$3:$F$536,6,0) -> 格绒燚西 | O77: =RANK(M77,$M$4:$M$263,0) -> 210 | P77: =IF(OR(Q77=0,M77=0),100,((S77-O77)/COUNTA($D$4:$D$263))*100+100) -> 96.153846 | Q77: =VLOOKUP(A77,[1]高二上!$A$3:$F$583,5,0) -> 75 | R77: =VLOOKUP(A77,[1]高二上!$A$3:$F$583,6,0) -> 格绒燚西 | S77: =RANK(Q77,$Q$4:$Q$263,0) -> 200 | T77: =IF(OR(Q77=0,U77=0),100,((W77-S77)/COUNTA($D$4:$D$263))*100+100) -> 44.615385 | U77: =VLOOKUP(A77,[1]高一下!$A$3:$F$585,5,0) -> 83 | V77: =VLOOKUP(A77,[1]高一下!$A$3:$F$585,6,0) -> 格绒燚西 | W77: =RANK(U77,$U$4:$U$263,0) -> 56 | X77: =IF(OR(Y77=0,U77=0),100,((AA77-W77)/COUNTA($D$4:$D$263))*100+100) -> 137.69231 | Y77: =VLOOKUP(A77,[1]高一上!$A$3:$F$587,5,0) -> 81 | Z77: =VLOOKUP(A77,[1]高一上!$A$3:$F$587,6,0) -> 格绒燚西 | AA77: =RANK(Y77,$Y$4:$Y$263,0) -> 154 | AB77: =IF(OR(Y77=0,AC77=0),100,((AD77-AA77)/COUNTA($D$4:$D$263))*100+100) -> 75 | AC77: =VLOOKUP(A77,[1]中考!$A$2:$E$571,5,0) -> 92 | AD77: =RANK(AC77,$AC$4:$AC$263,0) -> 89
...

Sheet 语文计算
B1: 学年 | C1: 姓名 | D1: 得分和 | E1: 人数 | F1: 得分
A2: 高三下 | B2: 文科 | C2: 格绒燚西 | D2: =SUMIF(语文!$F$4:$F$263,C2,语文!$H$4:$H$263) -> 10388.846 | E2: =COUNTIF(语文!$F$4:$F$263,C2) -> 103 | F2: =D2/E2 -> 100.86258 | H2: 高三下 | I2: 格绒燚西 | J2: =AVERAGEIF($C$2:$C$7,I2,$F$2:$F$7) -> 100.86258 | O2: 格绒燚西 | P2: =SUMIF($I$2:$I$36,O2,$J$2:$J$36) -> 599.24425
C3: 李正琪 | D3: =SUMIF(语文!$F$4:$F$263,C3,语文!$H$4:$H$263) -> 5531.1538 | E3: =COUNTIF(语文!$F$4:$F$263,C3) -> 54 | F3: =D3/E3 -> 102.42877 | I3: 李正琪 | J3: =AVERAGEIF($C$2:$C$7,I3,$F$2:$F$7) -> 102.42877 | O3: 李正琪 | P3: =SUMIF($I$2:$I$36,O3,$J$2:$J$36) -> 194.60114
C4: 周菊明 | D4: =SUMIF(语文!$F$4:$F$263,C4,语文!$H$4:$H$263) -> 9595 | E4: =COUNTIF(语文!$F$4:$F$263,C4) -> 103 | F4: =D4/E4 -> 93.15534 | I4: 周菊明 | J4: =AVERAGEIF($C$2:$C$7,I4,$F$2:$F$7) -> 93.15534 | O4: 周菊明 | P4: =SUMIF($I$2:$I$36,O4,$J$2:$J$36) -> 604.6925
B5: 理科 | C5: 易涛 | D5: =SUMIF(语文!$F$264:$F$550,C5,语文!$H$264:$H$550) -> 9751.2195 | E5: =COUNTIF(语文!$F$264:$F$550,C5) -> 94 | F5: =D5/E5 -> 103.73638 | I5: 易涛 | J5: =AVERAGEIF($C$2:$C$7,I5,$F$2:$F$7) -> 103.73638 | O5: 易涛 | P5: =SUMIF($I$2:$I$36,O5,$J$2:$J$36) -> 621.35625
C6: 肖锐 | D6: =SUMIF(语文!$F$264:$F$550,C6,语文!$H$264:$H$550) -> 9887.8049 | E6: =COUNTIF(语文!$F$264:$F$550,C6) -> 101 | F6: =D6/E6 -> 97.899058 | I6: 肖锐 | J6: =AVERAGEIF($C$2:$C$7,I6,$F$2:$F$7) -> 97.899058 | O6: 肖锐 | P6: =SUMIF($I$2:$I$36,O6,$J$2:$J$36) -> 603.05349
C7: 岳子琦 | D7: =SUMIF(语文!$F$264:$F$550,C7,语文!$H$264:$H$550) -> 8859.5819 | E7: =COUNTIF(语文!$F$264:$F$550,C7) -> 92 | F7: =D7/E7 -> 96.299803 | I7: 岳子琦 | J7: =AVERAGEIF($C$2:$C$7,I7,$F$2:$F$7) -> 96.299803 | O7: 岳子琦 | P7: =SUMIF($I$2:$I$36,O7,$J$2:$J$36) -> 505.28361
A8: 高三上 | B8: 文科 | C8: 格绒燚西 | D8: =SUMIF(语文!$J$4:$J$263,C8,语文!$L$4:$L$263) -> 10241.923 | E8: =COUNTIF(语文!$J$4:$J$263,C8) -> 103 | F8: =D8/E8 -> 99.436146 | H8: 高三上 | I8: 格绒燚西 | J8: =AVERAGEIF($C$8:$C$13,I8,$F$8:$F$13) -> 99.436146 | O8: 胡美华 | P8: =SUMIF($I$2:$I$36,O8,$J$2:$J$36) -> 98.94775
C9: 李正琪 | D9: =SUMIF(语文!$J$4:$J$263,C9,语文!$L$4:$L$263) -> 4977.3077 | E9: =COUNTIF(语文!$J$4:$J$263,C9) -> 54 | F9: =D9/E9 -> 92.172365 | I9: 李正琪 | J9: =AVERAGEIF($C$8:$C$13,I9,$F$8:$F$13) -> 92.172365 | O9: 陈丽娇 | P9: =SUMIF($I$2:$I$36,O9,$J$2:$J$36) -> 294.08312
C10: 周菊明 | D10: =SUMIF(语文!$J$4:$J$263,C10,语文!$L$4:$L$263) -> 10311.154 | E10: =COUNTIF(语文!$J$4:$J$263,C10) -> 103 | F10: =D10/E10 -> 100.10829 | I10: 周菊明 | J10: =AVERAGEIF($C$8:$C$13,I10,$F$8:$F$13) -> 100.10829
B11: 理科 | C11: 易涛 | D11: =SUMIF(语文!$J$264:$J$550,C11,语文!$L$264:$L$550) -> 9489.1986 | E11: =COUNTIF(语文!$J$264:$J$550,C11) -> 94 | F11: =D11/E11 -> 100.94892 | I11: 易涛 | J11: =AVERAGEIF($C$8:$C$13,I11,$F$8:$F$13) -> 100.94892
C12: 肖锐 | D12: =SUMIF(语文!$J$264:$J$550,C12,语文!$L$264:$L$550) -> 10321.254 | E12: =COUNTIF(语文!$J$264:$J$550,C12) -> 101 | F12: =D12/E12 -> 102.19064 | I12: 肖锐 | J12: =AVERAGEIF($C$8:$C$13,I12,$F$8:$F$13) -> 102.19064
C13: 岳子琦 | D13: =SUMIF(语文!$J$264:$J$550,C13,语文!$L$264:$L$550) -> 8660.9756 | E13: =COUNTIF(语文!$J$264:$J$550,C13) -> 92 | F13: =D13/E13 -> 94.141039 | I13: 岳子琦 | J13: =AVERAGEIF($C$8:$C$13,I13,$F$8:$F$13) -> 94.141039
A14: 高二下 | B14: 文科 | C14: 格绒燚西 | D14: =SUMIF(语文!$N$4:$N$263,C14,语文!$P$4:$P$263) -> 10712.692 | E14: =COUNTIF(语文!$N$4:$N$263,C14) -> 103 | F14: =D14/E14 -> 104.00672 | H14: 高二下 | I14: 格绒燚西 | J14: =AVERAGEIF($C$14:$C$19,I14,$F$14:$F$19) -> 104.00672
C15: 岳子琦 | D15: =SUMIF(语文!$N$4:$N$263,C15,语文!$P$4:$P$263) -> 5658.4615 | E15: =COUNTIF(语文!$N$4:$N$263,C15) -> 54 | F15: =D15/E15 -> 104.78632 | I15: 岳子琦 | J15: =AVERAGEIF($C$14:$C$19,I15,$F$14:$F$19) -> 107.08563
C16: 周菊明 | D16: =SUMIF(语文!$N$4:$N$263,C16,语文!$P$4:$P$263) -> 10791.154 | E16: =COUNTIF(语文!$N$4:$N$263,C16) -> 103 | F16: =D16/E16 -> 104.76848 | I16: 周菊明 | J16: =AVERAGEIF($C$14:$C$19,I16,$F$14:$F$19) -> 104.76848
B17: 理科 | C17: 易涛 | D17: =SUMIF(语文!$N$264:$N$550,C17,语文!$P$264:$P$550) -> 9311.8467 | E17: =COUNTIF(语文!$N$264:$N$550,C17) -> 94 | F17: =D17/E17 -> 99.062199 | I17: 易涛 | J17: =AVERAGEIF($C$14:$C$19,I17,$F$14:$F$19) -> 99.062199
C18: 肖锐 | D18: =SUMIF(语文!$N$264:$N$550,C18,语文!$P$264:$P$550) -> 9950.5226 | E18: =COUNTIF(语文!$N$264:$N$550,C18) -> 101 | F18: =D18/E18 -> 98.520026 | I18: 肖锐 | J18: =AVERAGEIF($C$14:$C$19,I18,$F$14:$F$19) -> 98.520026
C19: 岳子琦 | D19: =SUMIF(语文!$N$264:$N$550,C19,语文!$P$264:$P$550) -> 10063.415 | E19: =COUNTIF(语文!$N$264:$N$550,C19) -> 92 | F19: =D19/E19 -> 109.38494 | H19: 高二上 | I19: 格绒燚西 | J19: =AVERAGEIF($C$20:$C$26,I19,$F$20:$F$26) -> 98.510558
