Workbook

Sheet 汇总
A1: 姓名 | B1: 得分
A2: =语文计算!O2 -> 格绒燚西 | B2: =语文计算!P2 -> 599.24425
A3: =语文计算!O3 -> 李正琪 | B3: =语文计算!P3 -> 194.60114
A4: =语文计算!O4 -> 周菊明 | B4: =语文计算!P4 -> 604.6925
A5: =语文计算!O5 -> 易涛 | B5: =语文计算!P5 -> 621.35625
A6: =语文计算!O6 -> 肖锐 | B6: =语文计算!P6 -> 603.05349
A7: =语文计算!O7 -> 岳子琦 | B7: =语文计算!P7 -> 505.28361
A8: =语文计算!O8 -> 胡美华 | B8: =语文计算!P8 -> 98.94775
A9: =语文计算!O9 -> 陈丽娇 | B9: =语文计算!P9 -> 294.08312
A10: =数学计算!M4 -> 马俊 | B10: =数学计算!N4 -> 604.47679
A11: =数学计算!M5 -> 潘勇 | B11: =数学计算!N5 -> 199.28938
A12: =数学计算!M6 -> 赵云川 | B12: =数学计算!N6 -> 600.30349
A13: =数学计算!M7 -> 央宗娜姆 | B13: =数学计算!N7 -> 619.27964
A14: =数学计算!M8 -> 邓国华 | B14: =数学计算!N8 -> 199.19074
A15: =数学计算!M9 -> 刘宗林 | B15: =数学计算!N9 -> 583.94404
A16: =数学计算!M10 -> 王江 | B16: =数学计算!N10 -> 410.02736
A17: =数学计算!M11 -> 李黎明 | B17: =数学计算!N11 -> 392.80516
A18: =英语计算!M2 -> 拉初 | B18: =英语计算!N2 -> 601.26212
A19: =英语计算!M3 -> 汪睿 | B19: =英语计算!N3 -> 196.00871
A20: =英语计算!M4 -> 张翠莲 | B20: =英语计算!N4 -> 605.06956
A21: =英语计算!M5 -> 兰卡布尺 | B21: =英语计算!N5 -> 397.98608
A22: =英语计算!M6 -> 曾佳瑶 | B22: =英语计算!N6 -> 607.87346
A23: =英语计算!M7 -> 彭丹 | B23: =英语计算!N7 -> 485.89982
A24: =英语计算!M8 -> 陈强 | B24: =英语计算!N8 -> 202.12257
A25: =英语计算!M9 -> 邵辉 | B25: =英语计算!N9 -> 103.2364
A26: =英语计算!M10 -> 王图雄 | B26: =英语计算!N10 -> 96.937591
A27: =英语计算!M11 -> 周凯 | B27: =英语计算!N11 -> 202.23754
A28: =英语计算!M12 -> 雷敏 | B28: =英语计算!N12 -> 98.365934
A29: ='物理（政治）计算'!H2 -> 纪春权 | B29: ='物理（政治）计算'!I2 -> 600.00927
A30: ='物理（政治）计算'!H3 -> 吴文艺 | B30: ='物理（政治）计算'!I3 -> 307.4238
A31: ='物理（政治）计算'!H4 -> 马巫各 | B31: ='物理（政治）计算'!I4 -> 395.67489
A32: ='物理（政治）计算'!H5 -> 沈志霞 | B32: ='物理（政治）计算'!I5 -> 201.813
A33: ='物理（政治）计算'!H6 -> 赵建超 | B33: ='物理（政治）计算'!I6 -> 602.80336
A34: ='物理（政治）计算'!H7 -> 王友春 | B34: ='物理（政治）计算'!I7 -> 599.97102
A35: ='物理（政治）计算'!H8 -> 夏宇 | B35: ='物理（政治）计算'!I8 -> 94.751513
A36: ='物理（政治）计算'!H9 -> 周强 | B36: ='物理（政治）计算'!I9 -> 197.16386
A37: ='物理（政治）计算'!H10 -> 那士信 | B37: ='物理（政治）计算'!I10 -> 288.30648
A38: ='物理（政治）计算'!H11 -> 王春波 | B38: ='物理（政治）计算'!I11 -> 297.97799
A39: ='物理（政治）计算'!H12 -> 杨艳 | B39: ='物理（政治）计算'!I12 -> 319.16508
A40: ='化学（历史）计算'!G2 -> 杨琴 | B40: ='化学（历史）计算'!H2 -> 598.99725
A41: ='化学（历史）计算'!G3 -> 降初里 | B41: ='化学（历史）计算'!H3 -> 399.5917
A42: ='化学（历史）计算'!G4 -> 叶小军 | B42: ='化学（历史）计算'!H4 -> 606.3378
A43: ='化学（历史）计算'!G5 -> 李荣鑫 | B43: ='化学（历史）计算'!H5 -> 405.84161
A44: ='化学（历史）计算'!G6 -> 万饶 | B44: ='化学（历史）计算'!H6 -> 583.57059
A45: ='化学（历史）计算'!G7 -> 勾中文 | B45: ='化学（历史）计算'!H7 -> 192.97018
A46: ='化学（历史）计算'!G8 -> 宋欣洲 | B46: ='化学（历史）计算'!H8 -> 392.18057
A47: ='化学（历史）计算'!G9 -> 熊治国 | B47: ='化学（历史）计算'!H9 -> 99.320222
A48: ='化学（历史）计算'!G10 -> 金明龙 | B48: ='化学（历史）计算'!H10 -> 201.08942
A49: ='化学（历史）计算'!G11 -> 郑福全 | B49: ='化学（历史）计算'!H11 -> 200.00303
A50: ='化学（历史）计算'!G12 -> 潘润 | B50: ='化学（历史）计算'!H12 -> 101.13024
A51: ='生物（地理）计算'!H2 -> 邓倩 | B51: ='生物（地理）计算'!I2 -> 603.83624
A52: ='生物（地理）计算'!H3 -> 胡柔殳 | B52: ='生物（地理）计算'!I3 -> 595.7511
A53: ='生物（地理）计算'!H4 -> 张弘 | B53: ='生物（地理）计算'!I4 -> 593.70759
A54: ='生物（地理）计算'!H5 -> 彭桦 | B54: ='生物（地理）计算'!I5 -> 503.77089
A55: ='生物（地理）计算'!H6 -> 杜建清 | B55: ='生物（地理）计算'!I6 -> 398.0721
A56: ='生物（地理）计算'!H7 -> 刘壑 | B56: ='生物（地理）计算'!I7 -> 293.39515
A57: ='生物（地理）计算'!H8 -> 高琴 | B57: ='生物（地理）计算'!I8 -> 296.06331
A58: ='生物（地理）计算'!H9 -> 辜英琼 | B58: ='生物（地理）计算'!I9 -> 202.37786
A59: ='生物（地理）计算'!H10 -> 肖霞 | B59: ='生物（地理）计算'!I10 -> 99.578978
A60: ='生物（地理）计算'!H11 -> 金勇 | B60: ='生物（地理）计算'!I11 -> 96.167247

Sheet 语文
A1: 身份证号码 | B1: 班级 | C1: 姓名 | D1: 科类 | E1: 高三下 | H1: 高三下标准分 | I1: 高三上 | L1: 高三上标准分 | M1: 高二下 | P1: 高二下标准分 | Q1: 高二上 | T1: 高二上标准分 | U1: 高一下 | X1: 高一下标准分 | Y1: 高一上 | AB1: 高一上标准分 | AC1: 中考
E3: 成绩 | F3: 教师 | G3: 排名 | I3: 成绩 | J3: 教师 | K3: 排名 | M3: 成绩 | N3: 教师 | O3: 排名 | Q3: 成绩 | R3: 教师 | S3: 排名 | U3: 成绩 | V3: 教师 | W3: 排名 | Y3: 成绩 | Z3: 教师 | AA3: 排名 | AC3: 成绩 | AD3: 排名
A4: 513422200006282328 | B4: 1 | C4: 黄关英 | D4: 文科 | E4: 75 | F4: 格绒燚西 | G4: =RANK(E4,$E$4:$E$263,0) -> 215 | H4: =IF(OR(I4=0,E4=0),100,((K4-G4)/COUNTA($D$4:$D$263))*100+100) -> 52.307692 | I4: =VLOOKUP(A4,[1]高三上!A$3:Q$588,5,0) -> 93.5 | J4: =VLOOKUP(A4,[1]高三上!A$3:Q$588,6,0) -> 格绒燚西 | K4: =RANK(I4,$I$4:$I$263,0) -> 91 | L4: =IF(OR(I4=0,M4=0),100,((O4-K4)/COUNTA($D$4:$D$263))*100+100) -> 105.76923 | M4: =VLOOKUP(A4,[1]高二下!$A$3:$F$536,5,0) -> 85 | N4: =VLOOKUP(A4,[1]高二下!$A$3:$F$536,6,0) -> 格绒燚西 | O4: =RANK(M4,$M$4:$M$263,0) -> 106 | P4: =IF(OR(Q4=0,M4=0),100,((S4-O4)/COUNTA($D$4:$D$263))*100+100) -> 91.153846 | Q4: =VLOOKUP(A4,[1]高二上!$A$3:$F$583,5,0) -> 86 | R4: =VLOOKUP(A4,[1]高二上!$A$3:$F$583,6,0) -> 格绒燚西 | S4: =RANK(Q4,$Q$4:$Q$263,0) -> 83 | T4: =IF(OR(Q4=0,U4=0),100,((W4-S4)/COUNTA($D$4:$D$263))*100+100) -> 140.38462 | U4: =VLOOKUP(A4,[1]高一下!$A$3:$F$585,5,0) -> 73 | V4: =VLOOKUP(A4,[1]高一下!$A$3:$F$585,6,0) -> 格绒燚西 | W4: =RANK(U4,$U$4:$U$263,0) -> 188 | X4: =IF(OR(Y4=0,U4=0),100,((AA4-W4)/COUNTA($D$4:$D$263))*100+100) -> 95.384615 | Y4: =VLOOKUP(A4,[1]高一上!$A$3:$F$587,5,0) -> 79 | Z4: =VLOOKUP(A4,[1]高一上!$A$3:$F$587,6,0) -> 格绒燚西 | AA4: =RANK(Y4,$Y$4:$Y$263,0) -> 176 | AB4: =IF(OR(Y4=0,AC4=0),100,((AD4-AA4)/COUNTA($D$4:$D$263))*100+100) -> 50.769231 | AC4: =VLOOKUP(A4,[1]中考!$A$2:$E$571,5,0) -> 97 | AD4: =RANK(AC4,$AC$4:$AC$263,0) -> 48 | AF4: 文科人数 | AG4: =COUNTA(D4:D263) -> 260
A5: 513422200103134220 | B5: 1 | C5: 次仁央宗 | D5: 文科 | E5: 87 | F5: 格绒燚西 | G5: =RANK(E5,$E$4:$E$263,0) -> 128 | H5: =IF(OR(I5=0,E5=0),100,((K5-G5)/COUNTA($D$4:$D$263))*100+100) -> 82.307692 | I5: =VLOOKUP(A5,[1]高三上!A$3:Q$588,5,0) -> 94 | J5: =VLOOKUP(A5,[1]高三上!A$3:Q$588,6,0) -> 格绒燚西 | K5: =RANK(I5,$I$4:$I$263,0) -> 82 | L5: =IF(OR(I5=0,M5=0),100,((O5-K5)/COUNTA($D$4:$D$263))*100+100) -> 128.84615 | M5: =VLOOKUP(A5,[1]高二下!$A$3:$F$536,5,0) -> 82 | N5: =VLOOKUP(A5,[1]高二下!$A$3:$F$536,6,0) -> 格绒燚西 | O5: =RANK(M5,$M$4:$M$263,0) -> 157 | P5: =IF(OR(Q5=0,M5=0),100,((S5-O5)/COUNTA($D$4:$D$263))*100+100) -> 86.923077 | Q5: =VLOOKUP(A5,[1]高二上!$A$3:$F$583,5,0) -> 83 | R5: =VLOOKUP(A5,[1]高二上!$A$3:$F$583,6,0) -> 格绒燚西 | S5: =RANK(Q5,$Q$4:$Q$263,0) -> 123 | T5: =IF(OR(Q5=0,U5=0),100,((W5-S5)/COUNTA($D$4:$D$263))*100+100) -> 127.69231 | U5: =VLOOKUP(A5,[1]高一下!$A$3:$F$585,5,0) -> 72 | V5: =VLOOKUP(A5,[1]高一下!$A$3:$F$585,6,0) -> 格绒燚西 | W5: =RANK(U5,$U$4:$U$263,0) -> 195 | X5: =IF(OR(Y5=0,U5=0),100,((AA5-W5)/COUNTA($D$4:$D$263))*100+100) -> 88.846154 | Y5: =VLOOKUP(A5,[1]高一上!$A$3:$F$587,5,0) -> 80 | Z5: =VLOOKUP(A5,[1]高一上!$A$3:$F$587,6,0) -> 格绒燚西 | AA5: =RANK(Y5,$Y$4:$Y$263,0) -> 166 | AB5: =IF(OR(Y5=0,AC5=0),100,((AD5-AA5)/COUNTA($D$4:$D$263))*100+100) -> 70.384615 | AC5: =VLOOKUP(A5,[1]中考!$A$2:$E$571,5,0) -> 92 | AD5: =RANK(AC5,$AC$4:$AC$263,0) -> 89 | AF5: 理科人数 | AG5: =COUNTA(D264:D550) -> 287
A6: 513422200105120025 | B6: 1 | C6: 马阿英莫 | D6: 文科 | E6: 84 | F6: 格绒燚西 | G6: =RANK(E6,$E$4:$E$263,0) -> 149 | H6: =IF(OR(I6=0,E6=0),100,((K6-G6)/COUNTA($D$4:$D$263))*100+100) -> 82.692308 | I6: =VLOOKUP(A6,[1]高三上!A$3:Q$588,5,0) -> 92.5 | J6: =VLOOKUP(A6,[1]高三上!A$3:Q$588,6,0) -> 格绒燚西 | K6: =RANK(I6,$I$4:$I$263,0) -> 104 | L6: =IF(OR(I6=0,M6=0),100,((O6-K6)/COUNTA($D$4:$D$263))*100+100) -> 97.692308 | M6: =VLOOKUP(A6,[1]高二下!$A$3:$F$536,5,0) -> 86 | N6: =VLOOKUP(A6,[1]高二下!$A$3:$F$536,6,0) -> 格绒燚西 | O6: =RANK(M6,$M$4:$M$263,0) -> 98 | P6: =IF(OR(Q6=0,M6=0),100,((S6-O6)/COUNTA($D$4:$D$263))*100+100) -> 64.230769 | Q6: =VLOOKUP(A6,[1]高二上!$A$3:$F$583,5,0) -> 96 | R6: =VLOOKUP(A6,[1]高二上!$A$3:$F$583,6,0) -> 格绒燚西 | S6: =RANK(Q6,$Q$4:$Q$263,0) -> 5 | T6: =IF(OR(Q6=0,U6=0),100,((W6-S6)/COUNTA($D$4:$D$263))*100+100) -> 98.461538 | U6: =VLOOKUP(A6,[1]高一下!$A$3:$F$585,5,0) -> 97 | V6: =VLOOKUP(A6,[1]高一下!$A$3:$F$585,6,0) -> 格绒燚西 | W6: =RANK(U6,$U$4:$U$263,0) -> 1 | X6: =IF(OR(Y6=0,U6=0),100,((AA6-W6)/COUNTA($D$4:$D$263))*100+100) -> 118.07692 | Y6: =VLOOKUP(A6,[1]高一上!$A$3:$F$587,5,0) -> 92 | Z6: =VLOOKUP(A6,[1]高一上!$A$3:$F$587,6,0) -> 易涛 | AA6: =RANK(Y6,$Y$4:$Y$263,0) -> 48 | AB6: =IF(OR(Y6=0,AC6=0),100,((AD6-AA6)/COUNTA($D$4:$D$263))*100+100) -> 82.307692 | AC6: =VLOOKUP(A6,[1]中考!$A$2:$E$571,5,0) -> 112 | AD6: =RANK(AC6,$AC$4:$AC$263,0) -> 2
A7: 513422200108032725 | B7: 1 | C7: 苏国英 | D7: 文科 | E7: 101 | F7: 格绒燚西 | G7: =RANK(E7,$E$4:$E$263,0) -> 22 | H7: =IF(OR(I7=0,E7=0),100,((K7-G7)/COUNTA($D$4:$D$263))*100+100) -> 100 | I7: =VLOOKUP(A7,[1]高三上!A$3:Q$588,5,0) -> 99.5 | J7: =VLOOKUP(A7,[1]高三上!A$3:Q$588,6,0) -> 格绒燚西 | K7: =RANK(I7,$I$4:$I$263,0) -> 22 | L7: =IF(OR(I7=0,M7=0),100,((O7-K7)/COUNTA($D$4:$D$263))*100+100) -> 138.46154 | M7: =VLOOKUP(A7,[1]高二下!$A$3:$F$536,5,0) -> 84 | N7: =VLOOKUP(A7,[1]高二下!$A$3:$F$536,6,0) -> 格绒燚西 | O7: =RANK(M7,$M$4:$M$263,0) -> 122 | P7: =IF(OR(Q7=0,M7=0),100,((S7-O7)/COUNTA($D$4:$D$263))*100+100) -> 72.692308 | Q7: =VLOOKUP(A7,[1]高二上!$A$3:$F$583,5,0) -> 89 | R7: =VLOOKUP(A7,[1]高二上!$A$3:$F$583,6,0) -> 格绒燚西 | S7: =RANK(Q7,$Q$4:$Q$263,0) -> 51 | T7: =IF(OR(Q7=0,U7=0),100,((W7-S7)/COUNTA($D$4:$D$263))*100+100) -> 117.30769 | U7: =VLOOKUP(A7,[1]高一下!$A$3:$F$585,5,0) -> 80 | V7: =VLOOKUP(A7,[1]高一下!$A$3:$F$585,6,0) -> 格绒燚西 | W7: =RANK(U7,$U$4:$U$263,0) -> 96 | X7: =IF(OR(Y7=0,U7=0),100,((AA7-W7)/COUNTA($D$4:$D$263))*100+100) -> 106.15385 | Y7: =VLOOKUP(A7,[1]高一上!$A$3:$F$587,5,0) -> 85 | Z7: =VLOOKUP(A7,[1]高一上!$A$3:$F$587,6,0) -> 格绒燚西 | AA7: =RANK(Y7,$Y$4:$Y$263,0) -> 112 | AB7: =IF(OR(Y7=0,AC7=0),100,((AD7-AA7)/COUNTA($D$4:$D$263))*100+100) -> 60.769231 | AC7: =VLOOKUP(A7,[1]中考!$A$2:$E$571,5,0) -> 105 | AD7: =RANK(AC7,$AC$4:$AC$263,0) -> 10
A8: 513422200110043829 | B8: 1 | C8: 宋明芳 | D8: 文科 | E8: 83 | F8: 格绒燚西 | G8: =RANK(E8,$E$4:$E$263,0) -> 156 | H8: =IF(OR(I8=0,E8=0),100,((K8-G8)/COUNTA($D$4:$D$263))*100+100) -> 95.769231 | I8: =VLOOKUP(A8,[1]高三上!A$3:Q$588,5,0) -> 89.5 | J8: =VLOOKUP(A8,[1]高三上!A$3:Q$588,6,0) -> 格绒燚西 | K8: =RANK(I8,$I$4:$I$263,0) -> 145 | L8: =IF(OR(I8=0,M8=0),100,((O8-K8)/COUNTA($D$4:$D$263))*100+100) -> 97.692308 | M8: =VLOOKUP(A8,[1]高二下!$A$3:$F$536,5,0) -> 83 | N8: =VLOOKUP(A8,[1]高二下!$A$3:$F$536,6,0) -> 格绒燚西 | O8: =RANK(M8,$M$4:$M$263,0) -> 139 | P8: =IF(OR(Q8=0,M8=0),100,((S8-O8)/COUNTA($D$4:$D$263))*100+100) -> 48.461538 | Q8: =VLOOKUP(A8,[1]高二上!$A$3:$F$583,5,0) -> 96 | R8: =VLOOKUP(A8,[1]高二上!$A$3:$F$583,6,0) -> 格绒燚西 | S8: =RANK(Q8,$Q$4:$Q$263,0) -> 5 | T8: =IF(OR(Q8=0,U8=0),100,((W8-S8)/COUNTA($D$4:$D$263))*100+100) -> 113.84615 | U8: =VLOOKUP(A8,[1]高一下!$A$3:$F$585,5,0) -> 84 | V8: =VLOOKUP(A8,[1]高一下!$A$3:$F$585,6,0) -> 格绒燚西 | W8: =RANK(U8,$U$4:$U$263,0) -> 41 | X8: =IF(OR(Y8=0,U8=0),100,((AA8-W8)/COUNTA($D$4:$D$263))*100+100) -> 86.923077 | Y8: =VLOOKUP(A8,[1]高一上!$A$3:$F$587,5,0) -> 101 | Z8: =VLOOKUP(A8,[1]高一上!$A$3:$F$587,6,0) -> 肖锐 | AA8: =RANK(Y8,$Y$4:$Y$263,0) -> 7 | AB8: =IF(OR(Y8=0,AC8=0),100,((AD8-AA8)/COUNTA($D$4:$D$263))*100+100) -> 102.30769 | AC8: =VLOOKUP(A8,[1]中考!$A$2:$E$571,5,0) -> 104 | AD8: =RANK(AC8,$AC$4:$AC$263,0) -> 13
A9: 513422200110231125 | B9: 1 | C9: 吕秀云 | D9: 文科 | E9: 97 | F9: 格绒燚西 | G9: =RANK(E9,$E$4:$E$263,0) -> 42 | H9: =IF(OR(I9=0,E9=0),100,((K9-G9)/COUNTA($D$4:$D$263))*100+100) -> 124.61538 | I9: =VLOOKUP(A9,[1]高三上!A$3:Q$588,5,0) -> 92 | J9: =VLOOKUP(A9,[1]高三上!A$3:Q$588,6,0) -> 格绒燚西 | K9: =RANK(I9,$I$4:$I$263,0) -> 106 | L9: =IF(OR(I9=0,M9=0),100,((O9-K9)/COUNTA($D$4:$D$263))*100+100) -> 124.61538 | M9: =VLOOKUP(A9,[1]高二下!$A$3:$F$536,5,0) -> 81 | N9: =VLOOKUP(A9,[1]高二下!$A$3:$F$536,6,0) -> 格绒燚西 | O9: =RANK(M9,$M$4:$M$263,0) -> 170 | P9: =IF(OR(Q9=0,M9=0),100,((S9-O9)/COUNTA($D$4:$D$263))*100+100) -> 116.92308 | Q9: =VLOOKUP(A9,[1]高二上!$A$3:$F$583,5,0) -> 74 | R9: =VLOOKUP(A9,[1]高二上!$A$3:$F$583,6,0) -> 格绒燚西 | S9: =RANK(Q9,$Q$4:$Q$263,0) -> 214 | T9: =IF(OR(Q9=0,U9=0),100,((W9-S9)/COUNTA($D$4:$D$263))*100+100) -> 69.230769 | U9: =VLOOKUP(A9,[1]高一下!$A$3:$F$585,5,0) -> 77 | V9: =VLOOKUP(A9,[1]高一下!$A$3:$F$585,6,0) -> 格绒燚西 | W9: =RANK(U9,$U$4:$U$263,0) -> 134 | X9: =IF(OR(Y9=0,U9=0),100,((AA9-W9)/COUNTA($D$4:$D$263))*100+100) -> 63.846154 | Y9: =VLOOKUP(A9,[1]高一上!$A$3:$F$587,5,0) -> 93 | Z9: =VLOOKUP(A9,[1]高一上!$A$3:$F$587,6,0) -> 格绒燚西 | AA9: =RANK(Y9,$Y$4:$Y$263,0) -> 40 | AB9: =IF(OR(Y9=0,AC9=0),100,((AD9-AA9)/COUNTA($D$4:$D$263))*100+100) -> 103.07692 | AC9: =VLOOKUP(A9,[1]中考!$A$2:$E$571,5,0) -> 97 | AD9: =RANK(AC9,$AC$4:$AC$263,0) -> 48
A10: 513422200111122924 | B10: 1 | C10: 严冬丽 | D10: 文科 | E10: 84 | F10: 格绒燚西 | G10: =RANK(E10,$E$4:$E$263,0) -> 149 | H10: =IF(OR(I10=0,E10=0),100,((K10-G10)/COUNTA($D$4:$D$263))*100+100) -> 111.15385 | I10: =VLOOKUP(A10,[1]高三上!A$3:Q$588,5,0) -> 85.5 | J10: =VLOOKUP(A10,[1]高三上!A$3:Q$588,6,0) -> 格绒燚西 | K10: =RANK(I10,$I$4:$I$263,0) -> 178 | L10: =IF(OR(I10=0,M10=0),100,((O10-K10)/COUNTA($D$4:$D$263))*100+100) -> 63.461538 | M10: =VLOOKUP(A10,[1]高二下!$A$3:$F$536,5,0) -> 87 | N10: =VLOOKUP(A10,[1]高二下!$A$3:$F$536,6,0) -> 格绒燚西 | O10: =RANK(M10,$M$4:$M$263,0) -> 83 | P10: =IF(OR(Q10=0,M10=0),100,((S10-O10)/COUNTA($D$4:$D$263))*100+100) -> 80.769231 | Q10: =VLOOKUP(A10,[1]高二上!$A$3:$F$583,5,0) -> 91 | R10: =VLOOKUP(A10,[1]高二上!$A$3:$F$583,6,0) -> 格绒燚西 | S10: =RANK(Q10,$Q$4:$Q$263,0) -> 33 | T10: =IF(OR(Q10=0,U10=0),100,((W10-S10)/COUNTA($D$4:$D$263))*100+100) -> 93.076923 | U10: =VLOOKUP(A10,[1]高一下!$A$3:$F$585,5,0) -> 87 | V10: =VLOOKUP(A10,[1]高一下!$A$3:$F$585,6,0) -> 格绒燚西 | W10: =RANK(U10,$U$4:$U$263,0) -> 15 | X10: =IF(OR(Y10=0,U10=0),100,((AA10-W10)/COUNTA($D$4:$D$263))*100+100) -> 145.76923 | Y10: =VLOOKUP(A10,[1]高一上!$A$3:$F$587,5,0) -> 83 | Z10: =VLOOKUP(A10,[1]高一上!$A$3:$F$587,6,0) -> 格绒燚西 | AA10: =RANK(Y10,$Y$4:$Y$263,0) -> 134 | AB10: =IF(OR(Y10=0,AC10=0),100,((AD10-AA10)/COUNTA($D$4:$D$263))*100+100) -> 64.230769 | AC10: =VLOOKUP(A10,[1]中考!$A$2:$E$571,5,0) -> 98 | AD10: =RANK(AC10,$AC$4:$AC$263,0) -> 41
A11: 513422200112070919 | B11: 1 | C11: 苏你哈 | D11: 文科 | E11: 81 | F11: 格绒燚西 | G11: =RANK(E11,$E$4:$E$263,0) -> 175 | H11: =IF(OR(I11=0,E11=0),100,((K11-G11)/COUNTA($D$4:$D$263))*100+100) -> 116.92308 | I11: =VLOOKUP(A11,[1]高三上!A$3:Q$588,5,0) -> 80 | J11: =VLOOKUP(A11,[1]高三上!A$3:Q$588,6,0) -> 格绒燚西 | K11: =RANK(I11,$I$4:$I$263,0) -> 219 | L11: =IF(OR(I11=0,M11=0),100,((O11-K11)/COUNTA($D$4:$D$263))*100+100) -> 62.692308 | M11: =VLOOKUP(A11,[1]高二下!$A$3:$F$536,5,0) -> 84 | N11: =VLOOKUP(A11,[1]高二下!$A$3:$F$536,6,0) -> 格绒燚西 | O11: =RANK(M11,$M$4:$M$263,0) -> 122 | P11: =IF(OR(Q11=0,M11=0),100,((S11-O11)/COUNTA($D$4:$D$263))*100+100) -> 72.692308 | Q11: =VLOOKUP(A11,[1]高二上!$A$3:$F$583,5,0) -> 89 | R11: =VLOOKUP(A11,[1]高二上!$A$3:$F$583,6,0) -> 格绒燚西 | S11: =RANK(Q11,$Q$4:$Q$263,0) -> 51 | T11: =IF(OR(Q11=0,U11=0),100,((W11-S11)/COUNTA($D$4:$D$263))*100+100) -> 171.15385 | U11: =VLOOKUP(A11,[1]高一下!$A$3:$F$585,5,0) -> 67 | V11: =VLOOKUP(A11,[1]高一下!$A$3:$F$585,6,0) -> 格绒燚西 | W11: =RANK(U11,$U$4:$U$263,0) -> 236 | X11: =IF(OR(Y11=0,U11=0),100,((AA11-W11)/COUNTA($D$4:$D$263))*100+100) -> 107.30769 | Y11: =VLOOKUP(A11,[1]高一上!$A$3:$F$587,5,0) -> 63 | Z11: =VLOOKUP(A11,[1]高一上!$A$3:$F$587,6,0) -> 格绒燚西 | AA11: =RANK(Y11,$Y$4:$Y$263,0) -> 255 | AB11: =IF(OR(Y11=0,AC11=0),100,((AD11-AA11)/COUNTA($D$4:$D$263))*100+100) -> 50.384615 | AC11: =VLOOKUP(A11,[1]中考!$A$2:$E$571,5,0) -> 89 | AD11: =RANK(AC11,$AC$4:$AC$263,0) -> 126
A12: 513422200201033810 | B12: 1 | C12: 徐晓伟 | D12: 文科 | E12: 88 | F12: 格绒燚西 | G12: =RANK(E12,$E$4:$E$263,0) -> 116 | H12: =IF(OR(I12=0,E12=0),100,((K12-G12)/COUNTA($D$4:$D$263))*100+100) -> 130.38462 | I12: =VLOOKUP(A12,[1]高三上!A$3:Q$588,5,0) -> 83 | J12: =VLOOKUP(A12,[1]高三上!A$3:Q$588,6,0) -> 格绒燚西 | K12: =RANK(I12,$I$4:$I$263,0) -> 195 | L12: =IF(OR(I12=0,M12=0),100,((O12-K12)/COUNTA($D$4:$D$263))*100+100) -> 45 | M12: =VLOOKUP(A12,[1]高二下!$A$3:$F$536,5,0) -> 89 | N12: =VLOOKUP(A12,[1]高二下!$A$3:$F$536,6,0) -> 格绒燚西 | O12: =RANK(M12,$M$4:$M$263,0) -> 52 | P12: =IF(OR(Q12=0,M12=0),100,((S12-O12)/COUNTA($D$4:$D$263))*100+100) -> 162.30769 | Q12: =VLOOKUP(A12,[1]高二上!$A$3:$F$583,5,0) -> 74 | R12: =VLOOKUP(A12,[1]高二上!$A$3:$F$583,6,0) -> 格绒燚西 | S12: =RANK(Q12,$Q$4:$Q$263,0) -> 214 | T12: =IF(OR(Q12=0,U12=0),100,((W12-S12)/COUNTA($D$4:$D$263))*100+100) -> 110 | U12: =VLOOKUP(A12,[1]高一下!$A$3:$F$585,5,0) -> 66 | V12: =VLOOKUP(A12,[1]高一下!$A$3:$F$585,6,0) -> 格绒燚西 | W12: =RANK(U12,$U$4:$U$263,0) -> 240 | X12: =IF(OR(Y12=0,U12=0),100,((AA12-W12)/COUNTA($D$4:$D$263))*100+100) -> 86.153846 | Y12: =VLOOKUP(A12,[1]高一上!$A$3:$F$587,5,0) -> 76 | Z12: =VLOOKUP(A12,[1]高一上!$A$3:$F$587,6,0) -> 易涛 | AA12: =RANK(Y12,$Y$4:$Y$263,0) -> 204 | AB12: =IF(OR(Y12=0,AC12=0),100,((AD12-AA12)/COUNTA($D$4:$D$263))*100+100) -> 115.76923 | AC12: =VLOOKUP(A12,[1]中考!$A$2:$E$571,5,0) -> 66 | AD12: =RANK(AC12,$AC$4:$AC$263,0) -> 245
A13: 513422200203084021 | B13: 1 | C13: 祝玛央青 | D13: 文科 | E13: 90 | F13: 格绒燚西 | G13: =RANK(E13,$E$4:$E$263,0) -> 97 | H13: =IF(OR(I13=0,E13=0),100,((K13-G13)/COUNTA($D$4:$D$263))*100+100) -> 103.46154 | I13: =VLOOKUP(A13,[1]高三上!A$3:Q$588,5,0) -> 92 | J13: =VLOOKUP(A13,[1]高三上!A$3:Q$588,6,0) -> 格绒燚西 | K13: =RANK(I13,$I$4:$I$263,0) -> 106 | L13: =IF(OR(I13=0,M13=0),100,((O13-K13)/COUNTA($D$4:$D$263))*100+100) -> 112.69231 | M13: =VLOOKUP(A13,[1]高二下!$A$3:$F$536,5,0) -> 83 | N13: =VLOOKUP(A13,[1]高二下!$A$3:$F$536,6,0) -> 格绒燚西 | O13: =RANK(M13,$M$4:$M$263,0) -> 139 | P13: =IF(OR(Q13=0,M13=0),100,((S13-O13)/COUNTA($D$4:$D$263))*100+100) -> 98.461538 | Q13: =VLOOKUP(A13,[1]高二上!$A$3:$F$583,5,0) -> 82 | R13: =VLOOKUP(A13,[1]高二上!$A$3:$F$583,6,0) -> 格绒燚西 | S13: =RANK(Q13,$Q$4:$Q$263,0) -> 135 | T13: =IF(OR(Q13=0,U13=0),100,((W13-S13)/COUNTA($D$4:$D$263))*100+100) -> 49.230769 | U13: =VLOOKUP(A13,[1]高一下!$A$3:$F$585,5,0) -> 94 | V13: =VLOOKUP(A13,[1]高一下!$A$3:$F$585,6,0) -> 格绒燚西 | W13: =RANK(U13,$U$4:$U$263,0) -> 3 | X13: =IF(OR(Y13=0,U13=0),100,((AA13-W13)/COUNTA($D$4:$D$263))*100+100) -> 141.92308 | Y13: =VLOOKUP(A13,[1]高一上!$A$3:$F$587,5,0) -> 85 | Z13: =VLOOKUP(A13,[1]高一上!$A$3:$F$587,6,0) -> 格绒燚西 | AA13: =RANK(Y13,$Y$4:$Y$263,0) -> 112 | AB13: =IF(OR(Y13=0,AC13=0),100,((AD13-AA13)/COUNTA($D$4:$D$263))*100+100) -> 105.38462 | AC13: =VLOOKUP(A13,[1]中考!$A$2:$E$571,5,0) -> 89 | AD13: =RANK(AC13,$AC$4:$AC$263,0) -> 126
A14: 513422200204253624 | B14: 1 | C14: 王兴萍 | D14: 文科 | E14: 88 | F14: 格绒燚西 | G14: =RANK(E14,$E$4:$E$263,0) -> 116 | H14: =IF(OR(I14=0,E14=0),100,((K14-G14)/COUNTA($D$4:$D$263))*100+100) -> 62.692308 | I14: =VLOOKUP(A14,[1]高三上!A$3:Q$588,5,0) -> 100.5 | J14: =VLOOKUP(A14,[1]高三上!A$3:Q$588,6,0) -> 格绒燚西 | K14: =RANK(I14,$I$4:$I$263,0) -> 19 | L14: =IF(OR(I14=0,M14=0),100,((O14-K14)/COUNTA($D$4:$D$263))*100+100) -> 93.076923 | M14: =VLOOKUP(A14,[1]高二下!$A$3:$F$536,5,0) -> 103 | N14: =VLOOKUP(A14,[1]高二下!$A$3:$F$536,6,0) -> 格绒燚西 | O14: =RANK(M14,$M$4:$M$263,0) -> 1 | P14: =IF(OR(Q14=0,M14=0),100,((S14-O14)/COUNTA($D$4:$D$263))*100+100) -> 110 | Q14: =VLOOKUP(A14,[1]高二上!$A$3:$F$583,5,0) -> 92 | R14: =VLOOKUP(A14,[1]高二上!$A$3:$F$583,6,0) -> 格绒燚西 | S14: =RANK(Q14,$Q$4:$Q$263,0) -> 27 | T14: =IF(OR(Q14=0,U14=0),100,((W14-S14)/COUNTA($D$4:$D$263))*100+100) -> 99.230769 | U14: =VLOOKUP(A14,[1]高一下!$A$3:$F$585,5,0) -> 85 | V14: =VLOOKUP(A14,[1]高一下!$A$3:$F$585,6,0) -> 格绒燚西 | W14: =RANK(U14,$U$4:$U$263,0) -> 25 | X14: =IF(OR(Y14=0,U14=0),100,((AA14-W14)/COUNTA($D$4:$D$263))*100+100) -> 149.61538 | Y14: =VLOOKUP(A14,[1]高一上!$A$3:$F$587,5,0) -> 81 | Z14: =VLOOKUP(A14,[1]高一上!$A$3:$F$587,6,0) -> 格绒燚西 | AA14: =RANK(Y14,$Y$4:$Y$263,0) -> 154 | AB14: =IF(OR(Y14=0,AC14=0),100,((AD14-AA14)/COUNTA($D$4:$D$263))*100+100) -> 66.153846 | AC14: =VLOOKUP(A14,[1]中考!$A$2:$E$571,5,0) -> 95 | AD14: =RANK(AC14,$AC$4:$AC$263,0) -> 66
A15: 513422200205254629 | B15: 1 | C15: 尔歪莫 | D15: 文科 | E15: 91 | F15: 格绒燚西 | G15: =RANK(E15,$E$4:$E$263,0) -> 86 | H15: =IF(OR(I15=0,E15=0),100,((K15-G15)/COUNTA($D$4:$D$263))*100+100) -> 135.38462 | I15: =VLOOKUP(A15,[1]高三上!A$3:Q$588,5,0) -> 85.5 | J15: =VLOOKUP(A15,[1]高三上!A$3:Q$588,6,0) -> 格绒燚西 | K15: =RANK(I15,$I$4:$I$263,0) -> 178 | L15: =IF(OR(I15=0,M15=0),100,((O15-K15)/COUNTA($D$4:$D$263))*100+100) -> 34.615385 | M15: =VLOOKUP(A15,[1]高二下!$A$3:$F$536,5,0) -> 97 | N15: =VLOOKUP(A15,[1]高二下!$A$3:$F$536,6,0) -> 格绒燚西 | O15: =RANK(M15,$M$4:$M$263,0) -> 8 | P15: =IF(OR(Q15=0,M15=0),100,((S15-O15)/COUNTA($D$4:$D$263))*100+100) -> 135.76923 | Q15: =VLOOKUP(A15,[1]高二上!$A$3:$F$583,5,0) -> 85 | R15: =VLOOKUP(A15,[1]高二上!$A$3:$F$583,6,0) -> 格绒燚西 | S15: =RANK(Q15,$Q$4:$Q$263,0) -> 101 | T15: =IF(OR(Q15=0,U15=0),100,((W15-S15)/COUNTA($D$4:$D$263))*100+100) -> 108.84615 | U15: =VLOOKUP(A15,[1]高一下!$A$3:$F$585,5,0) -> 78 | V15: =VLOOKUP(A15,[1]高一下!$A$3:$F$585,6,0) -> 格绒燚西 | W15: =RANK(U15,$U$4:$U$263,0) -> 124 | X15: =IF(OR(Y15=0,U15=0),100,((AA15-W15)/COUNTA($D$4:$D$263))*100+100) -> 58.076923 | Y15: =VLOOKUP(A15,[1]高一上!$A$3:$F$587,5,0) -> 97 | Z15: =VLOOKUP(A15,[1]高一上!$A$3:$F$587,6,0) -> 格绒燚西 | AA15: =RANK(Y15,$Y$4:$Y$263,0) -> 15 | AB15: =IF(OR(Y15=0,AC15=0),100,((AD15-AA15)/COUNTA($D$4:$D$263))*100+100) -> 149.61538 | AC15: =VLOOKUP(A15,[1]中考!$A$2:$E$571,5,0) -> 87 | AD15: =RANK(AC15,$AC$4:$AC$263,0) -> 144
A16: 513422200301013622 | B16: 1 | C16: 祝玛央宗 | D16: 文科 | E16: 97 | F16: 格绒燚西 | G16: =RANK(E16,$E$4:$E$263,0) -> 42 | H16: =IF(OR(I16=0,E16=0),100,((K16-G16)/COUNTA($D$4:$D$263))*100+100) -> 112.30769 | I16: =VLOOKUP(A16,[1]高三上!A$3:Q$588,5,0) -> 94.5 | J16: =VLOOKUP(A16,[1]高三上!A$3:Q$588,6,0) -> 格绒燚西 | K16: =RANK(I16,$I$4:$I$263,0) -> 74 | L16: =IF(OR(I16=0,M16=0),100,((O16-K16)/COUNTA($D$4:$D$263))*100+100) -> 143.07692 | M16: =VLOOKUP(A16,[1]高二下!$A$3:$F$536,5,0) -> 79 | N16: =VLOOKUP(A16,[1]高二下!$A$3:$F$536,6,0) -> 格绒燚西 | O16: =RANK(M16,$M$4:$M$263,0) -> 186 | P16: =IF(OR(Q16=0,M16=0),100,((S16-O16)/COUNTA($D$4:$D$263))*100+100) -> 75.769231 | Q16: =VLOOKUP(A16,[1]高二上!$A$3:$F$583,5,0) -> 83 | R16: =VLOOKUP(A16,[1]高二上!$A$3:$F$583,6,0) -> 格绒燚西 | S16: =RANK(Q16,$Q$4:$Q$263,0) -> 123 | T16: =IF(OR(Q16=0,U16=0),100,((W16-S16)/COUNTA($D$4:$D$263))*100+100) -> 78.076923 | U16: =VLOOKUP(A16,[1]高一下!$A$3:$F$585,5,0) -> 82 | V16: =VLOOKUP(A16,[1]高一下!$A$3:$F$585,6,0) -> 格绒燚西 | W16: =RANK(U16,$U$4:$U$263,0) -> 66 | X16: =IF(OR(Y16=0,U16=0),100,((AA16-W16)/COUNTA($D$4:$D$263))*100+100) -> 84.615385 | Y16: =VLOOKUP(A16,[1]高一上!$A$3:$F$587,5,0) -> 95 | Z16: =VLOOKUP(A16,[1]高一上!$A$3:$F$587,6,0) -> 陈丽娇 | AA16: =RANK(Y16,$Y$4:$Y$263,0) -> 26 | AB16: =IF(OR(Y16=0,AC16=0),100,((AD16-AA16)/COUNTA($D$4:$D$263))*100+100) -> 115.38462 | AC16: =VLOOKUP(A16,[1]中考!$A$2:$E$571,5,0) -> 95 | AD16: =RANK(AC16,$AC$4:$AC$263,0) -> 66
A17: 513422200302122126 | B17: 1 | C17: 吕林明 | D17: 文科 | E17: 101 | F17: 格绒燚西 | G17: =RANK(E17,$E$4:$E$263,0) -> 22 | H17: =IF(OR(I17=0,E17=0),100,((K17-G17)/COUNTA($D$4:$D$263))*100+100) -> 116.92308 | I17: =VLOOKUP(A17,[1]高三上!A$3:Q$588,5,0) -> 95.5 | J17: =VLOOKUP(A17,[1]高三上!A$3:Q$588,6,0) -> 格绒燚西 | K17: =RANK(I17,$I$4:$I$263,0) -> 66 | L17: =IF(OR(I17=0,M17=0),100,((O17-K17)/COUNTA($D$4:$D$263))*100+100) -> 121.53846 | M17: =VLOOKUP(A17,[1]高二下!$A$3:$F$536,5,0) -> 84 | N17: =VLOOKUP(A17,[1]高二下!$A$3:$F$536,6,0) -> 格绒燚西 | O17: =RANK(M17,$M$4:$M$263,0) -> 122 | P17: =IF(OR(Q17=0,M17=0),100,((S17-O17)/COUNTA($D$4:$D$263))*100+100) -> 81.538462 | Q17: =VLOOKUP(A17,[1]高二上!$A$3:$F$583,5,0) -> 87 | R17: =VLOOKUP(A17,[1]高二上!$A$3:$F$583,6,0) -> 格绒燚西 | S17: =RANK(Q17,$Q$4:$Q$263,0) -> 74 | T17: =IF(OR(Q17=0,U17=0),100,((W17-S17)/COUNTA($D$4:$D$263))*100+100) -> 123.07692 | U17: =VLOOKUP(A17,[1]高一下!$A$3:$F$585,5,0) -> 77 | V17: =VLOOKUP(A17,[1]高一下!$A$3:$F$585,6,0) -> 格绒燚西 | W17: =RANK(U17,$U$4:$U$263,0) -> 134 | X17: =IF(OR(Y17=0,U17=0),100,((AA17-W17)/COUNTA($D$4:$D$263))*100+100) -> 53.846154 | Y17: =VLOOKUP(A17,[1]高一上!$A$3:$F$587,5,0) -> 98 | Z17: =VLOOKUP(A17,[1]高一上!$A$3:$F$587,6,0) -> 格绒燚西 | AA17: =RANK(Y17,$Y$4:$Y$263,0) -> 14 | AB17: =IF(OR(Y17=0,AC17=0),100,((AD17-AA17)/COUNTA($D$4:$D$263))*100+100) -> 104.61538 | AC17: =VLOOKUP(A17,[1]中考!$A$2:$E$571,5,0) -> 100 | AD17: =RANK(AC17,$AC$4:$AC$263,0) -> 26
... A54: 51342220021118601X | B54: 1 | C54: 次尔扎西 | D54: 文科 | E54: 82 | F54: 格绒燚西 | G54: =RANK(E54,$E$4:$E$263,0) -> 165 | H54: =IF(OR(I54=0,E54=0),100,((K54-G54)/COUNTA($D$4:$D$263))*100+100) -> 65 | I54: =VLOOKUP(A54,[1]高三上!A$3:Q$588,5,0) -> 94.5 | J54: =VLOOKUP(A54,[1]高三上!A$3:Q$588,6,0) -> 格绒燚西 | K54: =RANK(I54,$I$4:$I$263,0) -> 74 | L54: =IF(OR(I54=0,M54=0),100,((O54-K54)/COUNTA($D$4:$D$263))*100+100) -> 98.076923 | M54: =VLOOKUP(A54,[1]高二下!$A$3:$F$536,5,0) -> 88 | N54: =VLOOKUP(A54,[1]高二下!$A$3:$F$536,6,0) -> 格绒燚西 | O54: =RANK(M54,$M$4:$M$263,0) -> 69 | P54: =IF(OR(Q54=0,M54=0),100,((S54-O54)/COUNTA($D$4:$D$263))*100+100) -> 150.38462 | Q54: =VLOOKUP(A54,[1]高二上!$A$3:$F$583,5,0) -> 75 | R54: =VLOOKUP(A54,[1]高二上!$A$3:$F$583,6,0) -> 格绒燚西 | S54: =RANK(Q54,$Q$4:$Q$263,0) -> 200 | T54: =IF(OR(Q54=0,U54=0),100,((W54-S54)/COUNTA($D$4:$D$263))*100+100) -> 86.153846 | U54: =VLOOKUP(A54,[1]高一下!$A$3:$F$585,5,0) -> 75 | V54: =VLOOKUP(A54,[1]高一下!$A$3:$F$585,6,0) -> 格绒燚西 | W54: =RANK(U54,$U$4:$U$263,0) -> 164 | X54: =IF(OR(Y54=0,U54=0),100,((AA54-W54)/COUNTA($D$4:$D$263))*100+100) -> 61.923077 | Y54: =VLOOKUP(A54,[1]高一上!$A$3:$F$587,5,0) -> 90 | Z54: =VLOOKUP(A54,[1]高一上!$A$3:$F$587,6,0) -> 格绒燚西 | AA54: =RANK(Y54,$Y$4:$Y$263,0) -> 65 | AB54: =IF(OR(Y54=0,AC54=0),100,((AD54-AA54)/COUNTA($D$4:$D$263))*100+100) -> 115.76923 | AC54: =VLOOKUP(A54,[1]中考!$A$2:$E$571,5,0) -> 91 | AD54: =RANK(AC54,$AC$4:$AC$263,0) -> 106
A55: 513223200408251829 | B55: 2 | C55: 李思韵 | D55: 文科 | E55: 92 | F55: 格绒燚西 | G55: =RANK(E55,$E$4:$E$263,0) -> 76 | H55: =IF(OR(I55=0,E55=0),100,((K55-G55)/COUNTA($D$4:$D$263))*100+100) -> 71.923077 | I55: =VLOOKUP(A55,[1]高三上!A$3:Q$588,5,0) -> 105.5 | J55: =VLOOKUP(A55,[1]高三上!A$3:Q$588,6,0) -> 格绒燚西 | K55: =RANK(I55,$I$4:$I$263,0) -> 3 | L55: =IF(OR(I55=0,M55=0),100,((O55-K55)/COUNTA($D$4:$D$263))*100+100) -> 100 | M55: 0 | N55: 格绒燚西 | O55: =RANK(M55,$M$4:$M$263,0) -> 236 | P55: =IF(OR(Q55=0,M55=0),100,((S55-O55)/COUNTA($D$4:$D$263))*100+100) -> 100 | Q55: =VLOOKUP(A55,[1]高二上!$A$3:$F$583,5,0) -> 83 | R55: =VLOOKUP(A55,[1]高二上!$A$3:$F$583,6,0) -> 格绒燚西 | S55: =RANK(Q55,$Q$4:$Q$263,0) -> 123 | T55: =IF(OR(Q55=0,U55=0),100,((W55-S55)/COUNTA($D$4:$D$263))*100+100) -> 140 | U55: =VLOOKUP(A55,[1]高一下!$A$3:$F$585,5,0) -> 69 | V55: =VLOOKUP(A55,[1]高一下!$A$3:$F$585,6,0) -> 格绒燚西 | W55: =RANK(U55,$U$4:$U$263,0) -> 227 | X55: =IF(OR(Y55=0,U55=0),100,((AA55-W55)/COUNTA($D$4:$D$263))*100+100) -> 67.692308 | Y55: =VLOOKUP(A55,[1]高一上!$A$3:$F$587,5,0) -> 82 | Z55: =VLOOKUP(A55,[1]高一上!$A$3:$F$587,6,0) -> 格绒燚西 | AA55: =RANK(Y55,$Y$4:$Y$263,0) -> 143 | AB55: =IF(OR(Y55=0,AC55=0),100,((AD55-AA55)/COUNTA($D$4:$D$263))*100+100) -> 79.230769 | AC55: =VLOOKUP(A55,[1]中考!$A$2:$E$571,5,0) -> 92 | AD55: =RANK(AC55,$AC$4:$AC$263,0) -> 89
A56: 513422199903152560 | B56: 2 | C56: 伍春秀 | D56: 文科 | E56: 91 | F56: 格绒燚西 | G56: =RANK(E56,$E$4:$E$263,0) -> 86 | H56: =IF(OR(I56=0,E56=0),100,((K56-G56)/COUNTA($D$4:$D$263))*100+100) -> 116.92308 | I56: =VLOOKUP(A56,[1]高三上!A$3:Q$588,5,0) -> 90.5 | J56: =VLOOKUP(A56,[1]高三上!A$3:Q$588,6,0) -> 格绒燚西 | K56: =RANK(I56,$I$4:$I$263,0) -> 130 | L56: =IF(OR(I56=0,M56=0),100,((O56-K56)/COUNTA($D$4:$D$263))*100+100) -> 53.846154 | M56: =VLOOKUP(A56,[1]高二下!$A$3:$F$536,5,0) -> 96 | N56: =VLOOKUP(A56,[1]高二下!$A$3:$F$536,6,0) -> 格绒燚西 | O56: =RANK(M56,$M$4:$M$263,0) -> 10 | P56: =IF(OR(Q56=0,M56=0),100,((S56-O56)/COUNTA($D$4:$D$263))*100+100) -> 178.46154 | Q56: =VLOOKUP(A56,[1]高二上!$A$3:$F$583,5,0) -> 74 | R56: =VLOOKUP(A56,[1]高二上!$A$3:$F$583,6,0) -> 格绒燚西 | S56: =RANK(Q56,$Q$4:$Q$263,0) -> 214 | T56: =IF(OR(Q56=0,U56=0),100,((W56-S56)/COUNTA($D$4:$D$263))*100+100) -> 69.230769 | U56: =VLOOKUP(A56,[1]高一下!$A$3:$F$585,5,0) -> 77 | V56: =VLOOKUP(A56,[1]高一下!$A$3:$F$585,6,0) -> 格绒燚西 | W56: =RANK(U56,$U$4:$U$263,0) -> 134 | X56: =IF(OR(Y56=0,U56=0),100,((AA56-W56)/COUNTA($D$4:$D$263))*100+100) -> 139.61538 | Y56: =VLOOKUP(A56,[1]高一上!$A$3:$F$587,5,0) -> 71 | Z56: =VLOOKUP(A56,[1]高一上!$A$3:$F$587,6,0) -> 格绒燚西 | AA56: =RANK(Y56,$Y$4:$Y$263,0) -> 237 | AB56: =IF(OR(Y56=0,AC56=0),100,((AD56-AA56)/COUNTA($D$4:$D$263))*100+100) -> 57.307692 | AC56: =VLOOKUP(A56,[1]中考!$A$2:$E$571,5,0) -> 89 | AD56: =RANK(AC56,$AC$4:$AC$263,0) -> 126
A57: 513422199905064222 | B57: 2 | C57: 央青祝玛 | D57: 文科 | E57: 68 | F57: 格绒燚西 | G57: =RANK(E57,$E$4:$E$263,0) -> 255 | H57: =IF(OR(I57=0,E57=0),100,((K57-G57)/COUNTA($D$4:$D$263))*100+100) -> 92.692308 | I57: =VLOOKUP(A57,[1]高三上!A$3:Q$588,5,0) -> 69 | J57: =VLOOKUP(A57,[1]高三上!A$3:Q$588,6,0) -> 格绒燚西 | K57: =RANK(I57,$I$4:$I$263,0) -> 236 | L57: =IF(OR(I57=0,M57=0),100,((O57-K57)/COUNTA($D$4:$D$263))*100+100) -> 99.230769 | M57: =VLOOKUP(A57,[1]高二下!$A$3:$F$536,5,0) -> 66 | N57: =VLOOKUP(A57,[1]高二下!$A$3:$F$536,6,0) -> 格绒燚西 | O57: =RANK(M57,$M$4:$M$263,0) -> 234 | P57: =IF(OR(Q57=0,M57=0),100,((S57-O57)/COUNTA($D$4:$D$263))*100+100) -> 105 | Q57: =VLOOKUP(A57,[1]高二上!$A$3:$F$583,5,0) -> 64 | R57: =VLOOKUP(A57,[1]高二上!$A$3:$F$583,6,0) -> 格绒燚西 | S57: =RANK(Q57,$Q$4:$Q$263,0) -> 247 | T57: =IF(OR(Q57=0,U57=0),100,((W57-S57)/COUNTA($D$4:$D$263))*100+100) -> 64.230769 | U57: =VLOOKUP(A57,[1]高一下!$A$3:$F$585,5,0) -> 76 | V57: =VLOOKUP(A57,[1]高一下!$A$3:$F$585,6,0) -> 格绒燚西 | W57: =RANK(U57,$U$4:$U$263,0) -> 154 | X57: =IF(OR(Y57=0,U57=0),100,((AA57-W57)/COUNTA($D$4:$D$263))*100+100) -> 138.07692 | Y57: =VLOOKUP(A57,[1]高一上!$A$3:$F$587,5,0) -> 64 | Z57: =VLOOKUP(A57,[1]高一上!$A$3:$F$587,6,0) -> 格绒燚西 | AA57: =RANK(Y57,$Y$4:$Y$263,0) -> 253 | AB57: =IF(OR(Y57=0,AC57=0),100,((AD57-AA57)/COUNTA($D$4:$D$263))*100+100) -> 97.307692 | AC57: =VLOOKUP(A57,[1]中考!$A$2:$E$571,5,0) -> 65 | AD57: =RANK(AC57,$AC$4:$AC$263,0) -> 246
A58: 513422199905184224 | B58: 2 | C58: 次尔央宗 | D58: 文科 | E58: 87 | F58: 格绒燚西 | G58: =RANK(E58,$E$4:$E$263,0) -> 128 | H58: =IF(OR(I58=0,E58=0),100,((K58-G58)/COUNTA($D$4:$D$263))*100+100) -> 110.38462 | I58: =VLOOKUP(A58,[1]高三上!A$3:Q$588,5,0) -> 88 | J58: 格绒燚西 | K58: =RANK(I58,$I$4:$I$263,0) -> 155 | L58: =IF(OR(I58=0,M58=0),100,((O58-K58)/COUNTA($D$4:$D$263))*100+100) -> 81.153846 | M58: =VLOOKUP(A58,[1]高二下!$A$3:$F$536,5,0) -> 85 | N58: =VLOOKUP(A58,[1]高二下!$A$3:$F$536,6,0) -> 格绒燚西 | O58: =RANK(M58,$M$4:$M$263,0) -> 106 | P58: =IF(OR(Q58=0,M58=0),100,((S58-O58)/COUNTA($D$4:$D$263))*100+100) -> 151.53846 | Q58: =VLOOKUP(A58,[1]高二上!$A$3:$F$583,5,0) -> 66 | R58: =VLOOKUP(A58,[1]高二上!$A$3:$F$583,6,0) -> 格绒燚西 | S58: =RANK(Q58,$Q$4:$Q$263,0) -> 240 | T58: =IF(OR(Q58=0,U58=0),100,((W58-S58)/COUNTA($D$4:$D$263))*100+100) -> 92.692308 | U58: =VLOOKUP(A58,[1]高一下!$A$3:$F$585,5,0) -> 70 | V58: =VLOOKUP(A58,[1]高一下!$A$3:$F$585,6,0) -> 格绒燚西 | W58: =RANK(U58,$U$4:$U$263,0) -> 221 | X58: =IF(OR(Y58=0,U58=0),100,((AA58-W58)/COUNTA($D$4:$D$263))*100+100) -> 58.076923 | Y58: =VLOOKUP(A58,[1]高一上!$A$3:$F$587,5,0) -> 85 | Z58: =VLOOKUP(A58,[1]高一上!$A$3:$F$587,6,0) -> 格绒燚西 | AA58: =RANK(Y58,$Y$4:$Y$263,0) -> 112 | AB58: =IF(OR(Y58=0,AC58=0),100,((AD58-AA58)/COUNTA($D$4:$D$263))*100+100) -> 97.692308 | AC58: =VLOOKUP(A58,[1]中考!$A$2:$E$571,5,0) -> 91 | AD58: =RANK(AC58,$AC$4:$AC$263,0) -> 106
A59: 513422199910282160 | B59: 2 | C59: 马阿支 | D59: 文科 | E59: 78 | F59: 格绒燚西 | G59: =RANK(E59,$E$4:$E$263,0) -> 198 | H59: =IF(OR(I59=0,E59=0),100,((K59-G59)/COUNTA($D$4:$D$263))*100+100) -> 100 | I59: 0 | J59: 格绒燚西 | K59: =RANK(I59,$I$4:$I$263,0) -> 241 | L59: =IF(OR(I59=0,M59=0),100,((O59-K59)/COUNTA($D$4:$D$263))*100+100) -> 100 | M59: 0 | N59: 格绒燚西 | O59: =RANK(M59,$M$4:$M$263,0) -> 236 | P59: =IF(OR(Q59=0,M59=0),100,((S59-O59)/COUNTA($D$4:$D$263))*100+100) -> 100 | Q59: =VLOOKUP(A59,[1]高二上!$A$3:$F$583,5,0) -> 75 | R59: =VLOOKUP(A59,[1]高二上!$A$3:$F$583,6,0) -> 格绒燚西 | S59: =RANK(Q59,$Q$4:$Q$263,0) -> 200 | T59: =IF(OR(Q59=0,U59=0),100,((W59-S59)/COUNTA($D$4:$D$263))*100+100) -> 53.461538 | U59: =VLOOKUP(A59,[1]高一下!$A$3:$F$585,5,0) -> 81 | V59: =VLOOKUP(A59,[1]高一下!$A$3:$F$585,6,0) -> 格绒燚西 | W59: =RANK(U59,$U$4:$U$263,0) -> 79 | X59: =IF(OR(Y59=0,U59=0),100,((AA59-W59)/COUNTA($D$4:$D$263))*100+100) -> 97.692308 | Y59: =VLOOKUP(A59,[1]高一上!$A$3:$F$587,5,0) -> 89 | Z59: =VLOOKUP(A59,[1]高一上!$A$3:$F$587,6,0) -> 格绒燚西 | AA59: =RANK(Y59,$Y$4:$Y$263,0) -> 73 | AB59: =IF(OR(Y59=0,AC59=0),100,((AD59-AA59)/COUNTA($D$4:$D$263))*100+100) -> 100 | AC59: 0 | AD59: =RANK(AC59,$AC$4:$AC$263,0) -> 255
A60: 513422200003255025 | B60: 2 | C60: 降初 | D60: 文科 | E60: 79 | F60: 格绒燚西 | G60: =RANK(E60,$E$4:$E$263,0) -> 192 | H60: =IF(OR(I60=0,E60=0),100,((K60-G60)/COUNTA($D$4:$D$263))*100+100) -> 92.307692 | I60: =VLOOKUP(A60,[1]高三上!A$3:Q$588,5,0) -> 86 | J60: =VLOOKUP(A60,[1]高三上!A$3:Q$588,6,0) -> 格绒燚西 | K60: =RANK(I60,$I$4:$I$263,0) -> 172 | L60: =IF(OR(I60=0,M60=0),100,((O60-K60)/COUNTA($D$4:$D$263))*100+100) -> 35 | M60: =VLOOKUP(A60,[1]高二下!$A$3:$F$536,5,0) -> 99 | N60: =VLOOKUP(A60,[1]高二下!$A$3:$F$536,6,0) -> 格绒燚西 | O60: =RANK(M60,$M$4:$M$263,0) -> 3 | P60: =IF(OR(Q60=0,M60=0),100,((S60-O60)/COUNTA($D$4:$D$263))*100+100) -> 146.15385 | Q60: =VLOOKUP(A60,[1]高二上!$A$3:$F$583,5,0) -> 83 | R60: =VLOOKUP(A60,[1]高二上!$A$3:$F$583,6,0) -> 格绒燚西 | S60: =RANK(Q60,$Q$4:$Q$263,0) -> 123 | T60: =IF(OR(Q60=0,U60=0),100,((W60-S60)/COUNTA($D$4:$D$263))*100+100) -> 132.30769 | U60: =VLOOKUP(A60,[1]高一下!$A$3:$F$585,5,0) -> 71 | V60: =VLOOKUP(A60,[1]高一下!$A$3:$F$585,6,0) -> 格绒燚西 | W60: =RANK(U60,$U$4:$U$263,0) -> 207 | X60: =IF(OR(Y60=0,U60=0),100,((AA60-W60)/COUNTA($D$4:$D$263))*100+100) -> 38.846154 | Y60: =VLOOKUP(A60,[1]高一上!$A$3:$F$587,5,0) -> 92 | Z60: =VLOOKUP(A60,[1]高一上!$A$3:$F$587,6,0) -> 格绒燚西 | AA60: =RANK(Y60,$Y$4:$Y$263,0) -> 48 | AB60: =IF(OR(Y60=0,AC60=0),100,((AD60-AA60)/COUNTA($D$4:$D$263))*100+100) -> 134.23077 | AC60: =VLOOKUP(A60,[1]中考!$A$2:$E$571,5,0) -> 88 | AD60: =RANK(AC60,$AC$4:$AC$263,0) -> 137
A61: 513422200004064829 | B61: 2 | C61: 央宗 | D61: 文科 | E61: 80 | F61: 格绒燚西 | G61: =RANK(E61,$E$4:$E$263,0) -> 183 | H61: =IF(OR(I61=0,E61=0),100,((K61-G61)/COUNTA($D$4:$D$263))*100+100) -> 61.153846 | I61: =VLOOKUP(A61,[1]高三上!A$3:Q$588,5,0) -> 94 | J61: =VLOOKUP(A61,[1]高三上!A$3:Q$588,6,0) -> 格绒燚西 | K61: =RANK(I61,$I$4:$I$263,0) -> 82 | L61: =IF(OR(I61=0,M61=0),100,((O61-K61)/COUNTA($D$4:$D$263))*100+100) -> 128.84615 | M61: =VLOOKUP(A61,[1]高二下!$A$3:$F$536,5,0) -> 82 | N61: =VLOOKUP(A61,[1]高二下!$A$3:$F$536,6,0) -> 格绒燚西 | O61: =RANK(M61,$M$4:$M$263,0) -> 157 | P61: =IF(OR(Q61=0,M61=0),100,((S61-O61)/COUNTA($D$4:$D$263))*100+100) -> 106.92308 | Q61: =VLOOKUP(A61,[1]高二上!$A$3:$F$583,5,0) -> 78 | R61: =VLOOKUP(A61,[1]高二上!$A$3:$F$583,6,0) -> 格绒燚西 | S61: =RANK(Q61,$Q$4:$Q$263,0) -> 175 | T61: =IF(OR(Q61=0,U61=0),100,((W61-S61)/COUNTA($D$4:$D$263))*100+100) -> 69.615385 | U61: =VLOOKUP(A61,[1]高一下!$A$3:$F$585,5,0) -> 80 | V61: =VLOOKUP(A61,[1]高一下!$A$3:$F$585,6,0) -> 格绒燚西 | W61: =RANK(U61,$U$4:$U$263,0) -> 96 | X61: =IF(OR(Y61=0,U61=0),100,((AA61-W61)/COUNTA($D$4:$D$263))*100+100) -> 133.46154 | Y61: =VLOOKUP(A61,[1]高一上!$A$3:$F$587,5,0) -> 78 | Z61: =VLOOKUP(A61,[1]高一上!$A$3:$F$587,6,0) -> 格绒燚西 | AA61: =RANK(Y61,$Y$4:$Y$263,0) -> 183 | AB61: =IF(OR(Y61=0,AC61=0),100,((AD61-AA61)/COUNTA($D$4:$D$263))*100+100) -> 76.538462 | AC61: =VLOOKUP(A61,[1]中考!$A$2:$E$571,5,0) -> 90 | AD61: =RANK(AC61,$AC$4:$AC$263,0) -> 122
A62: 513422200101166229 | B62: 2 | C62: 胡秀珍 | D62: 文科 | E62: 99 | F62: 格绒燚西 | G62: =RANK(E62,$E$4:$E$263,0) -> 31 | H62: =IF(OR(I62=0,E62=0),100,((K62-G62)/COUNTA($D$4:$D$263))*100+100) -> 126.53846 | I62: =VLOOKUP(A62,[1]高三上!A$3:Q$588,5,0) -> 93 | J62: =VLOOKUP(A62,[1]高三上!A$3:Q$588,6,0) -> 格绒燚西 | K62: =RANK(I62,$I$4:$I$263,0) -> 100 | L62: =IF(OR(I62=0,M62=0),100,((O62-K62)/COUNTA($D$4:$D$263))*100+100) -> 102.30769 | M62: =VLOOKUP(A62,[1]高二下!$A$3:$F$536,5,0) -> 85 | N62: =VLOOKUP(A62,[1]高二下!$A$3:$F$536,6,0) -> 格绒燚西 | O62: =RANK(M62,$M$4:$M$263,0) -> 106 | P62: =IF(OR(Q62=0,M62=0),100,((S62-O62)/COUNTA($D$4:$D$263))*100+100) -> 60 | Q62: =VLOOKUP(A62,[1]高二上!$A$3:$F$583,5,0) -> 101 | R62: =VLOOKUP(A62,[1]高二上!$A$3:$F$583,6,0) -> 格绒燚西 | S62: =RANK(Q62,$Q$4:$Q$263,0) -> 2 | T62: =IF(OR(Q62=0,U62=0),100,((W62-S62)/COUNTA($D$4:$D$263))*100+100) -> 136.15385 | U62: =VLOOKUP(A62,[1]高一下!$A$3:$F$585,5,0) -> 80 | V62: =VLOOKUP(A62,[1]高一下!$A$3:$F$585,6,0) -> 格绒燚西 | W62: =RANK(U62,$U$4:$U$263,0) -> 96 | X62: =IF(OR(Y62=0,U62=0),100,((AA62-W62)/COUNTA($D$4:$D$263))*100+100) -> 65 | Y62: =VLOOKUP(A62,[1]高一上!$A$3:$F$587,5,0) -> 102 | Z62: =VLOOKUP(A62,[1]高一上!$A$3:$F$587,6,0) -> 格绒燚西 | AA62: =RANK(Y62,$Y$4:$Y$263,0) -> 5 | AB62: =IF(OR(Y62=0,AC62=0),100,((AD62-AA62)/COUNTA($D$4:$D$263))*100+100) -> 98.461538 | AC62: =VLOOKUP(A62,[1]中考!$A$2:$E$571,5,0) -> 114 | AD62: =RANK(AC62,$AC$4:$AC$263,0) -> 1
A63: 513422200101214219 | B63: 2 | C63: 仁青 | D63: 文科 | E63: 75 | F63: 格绒燚西 | G63: =RANK(E63,$E$4:$E$263,0) -> 215 | H63: =IF(OR(I63=0,E63=0),100,((K63-G63)/COUNTA($D$4:$D$263))*100+100) -> 101.15385 | I63: =VLOOKUP(A63,[1]高三上!A$3:Q$588,5,0) -> 80.5 | J63: =VLOOKUP(A63,[1]高三上!A$3:Q$588,6,0) -> 格绒燚西 | K63: =RANK(I63,$I$4:$I$263,0) -> 218 | L63: =IF(OR(I63=0,M63=0),100,((O63-K63)/COUNTA($D$4:$D$263))*100+100) -> 76.538462 | M63: =VLOOKUP(A63,[1]高二下!$A$3:$F$536,5,0) -> 82 | N63: =VLOOKUP(A63,[1]高二下!$A$3:$F$536,6,0) -> 格绒燚西 | O63: =RANK(M63,$M$4:$M$263,0) -> 157 | P63: =IF(OR(Q63=0,M63=0),100,((S63-O63)/COUNTA($D$4:$D$263))*100+100) -> 106.92308 | Q63: =VLOOKUP(A63,[1]高二上!$A$3:$F$583,5,0) -> 78 | R63: =VLOOKUP(A63,[1]高二上!$A$3:$F$583,6,0) -> 格绒燚西 | S63: =RANK(Q63,$Q$4:$Q$263,0) -> 175 | T63: =IF(OR(Q63=0,U63=0),100,((W63-S63)/COUNTA($D$4:$D$263))*100+100) -> 107.69231 | U63: =VLOOKUP(A63,[1]高一下!$A$3:$F$585,5,0) -> 72 | V63: =VLOOKUP(A63,[1]高一下!$A$3:$F$585,6,0) -> 格绒燚西 | W63: =RANK(U63,$U$4:$U$263,0) -> 195 | X63: =IF(OR(Y63=0,U63=0),100,((AA63-W63)/COUNTA($D$4:$D$263))*100+100) -> 103.46154 | Y63: =VLOOKUP(A63,[1]高一上!$A$3:$F$587,5,0) -> 76 | Z63: =VLOOKUP(A63,[1]高一上!$A$3:$F$587,6,0) -> 陈丽娇 | AA63: =RANK(Y63,$Y$4:$Y$263,0) -> 204 | AB63: =IF(OR(Y63=0,AC63=0),100,((AD63-AA63)/COUNTA($D$4:$D$263))*100+100) -> 100.38462 | AC63: =VLOOKUP(A63,[1]中考!$A$2:$E$571,5,0) -> 77 | AD63: =RANK(AC63,$AC$4:$AC$263,0) -> 205
A64: 513422200102066828 | B64: 2 | C64: 韩琴琴 | D64: 文科 | E64: 97 | F64: 格绒燚西 | G64: =RANK(E64,$E$4:$E$263,0) -> 42 | H64: =IF(OR(I64=0,E64=0),100,((K64-G64)/COUNTA($D$4:$D$263))*100+100) -> 106.53846 | I64: =VLOOKUP(A64,[1]高三上!A$3:Q$588,5,0) -> 96 | J64: =VLOOKUP(A64,[1]高三上!A$3:Q$588,6,0) -> 格绒燚西 | K64: =RANK(I64,$I$4:$I$263,0) -> 59 | L64: =IF(OR(I64=0,M64=0),100,((O64-K64)/COUNTA($D$4:$D$263))*100+100) -> 79.615385 | M64: =VLOOKUP(A64,[1]高二下!$A$3:$F$536,5,0) -> 98 | N64: =VLOOKUP(A64,[1]高二下!$A$3:$F$536,6,0) -> 格绒燚西 | O64: =RANK(M64,$M$4:$M$263,0) -> 6 | P64: =IF(OR(Q64=0,M64=0),100,((S64-O64)/COUNTA($D$4:$D$263))*100+100) -> 129.61538 | Q64: =VLOOKUP(A64,[1]高二上!$A$3:$F$583,5,0) -> 86 | R64: =VLOOKUP(A64,[1]高二上!$A$3:$F$583,6,0) -> 格绒燚西 | S64: =RANK(Q64,$Q$4:$Q$263,0) -> 83 | T64: =IF(OR(Q64=0,U64=0),100,((W64-S64)/COUNTA($D$4:$D$263))*100+100) -> 93.461538 | U64: =VLOOKUP(A64,[1]高一下!$A$3:$F$585,5,0) -> 82 | V64: =VLOOKUP(A64,[1]高一下!$A$3:$F$585,6,0) -> 格绒燚西 | W64: =RANK(U64,$U$4:$U$263,0) -> 66 | X64: =IF(OR(Y64=0,U64=0),100,((AA64-W64)/COUNTA($D$4:$D$263))*100+100) -> 102.69231 | Y64: =VLOOKUP(A64,[1]高一上!$A$3:$F$587,5,0) -> 89 | Z64: =VLOOKUP(A64,[1]高一上!$A$3:$F$587,6,0) -> 格绒燚西 | AA64: =RANK(Y64,$Y$4:$Y$263,0) -> 73 | AB64: =IF(OR(Y64=0,AC64=0),100,((AD64-AA64)/COUNTA($D$4:$D$263))*100+100) -> 74.230769 | AC64: =VLOOKUP(A64,[1]中考!$A$2:$E$571,5,0) -> 106 | AD64: =RANK(AC64,$AC$4:$AC$263,0) -> 6
A65: 513422200105056422 | B65: 2 | C65: 启色拉姆 | D65: 文科 | E65: 103 | F65: 格绒燚西 | G65: =RANK(E65,$E$4:$E$263,0) -> 14 | H65: =IF(OR(I65=0,E65=0),100,((K65-G65)/COUNTA($D$4:$D$263))*100+100) -> 120 | I65: =VLOOKUP(A65,[1]高三上!A$3:Q$588,5,0) -> 95.5 | J65: =VLOOKUP(A65,[1]高三上!A$3:Q$588,6,0) -> 格绒燚西 | K65: =RANK(I65,$I$4:$I$263,0) -> 66 | L65: =IF(OR(I65=0,M65=0),100,((O65-K65)/COUNTA($D$4:$D$263))*100+100) -> 146.15385 | M65: =VLOOKUP(A65,[1]高二下!$A$3:$F$536,5,0) -> 79 | N65: =VLOOKUP(A65,[1]高二下!$A$3:$F$536,6,0) -> 格绒燚西 | O65: =RANK(M65,$M$4:$M$263,0) -> 186 | P65: =IF(OR(Q65=0,M65=0),100,((S65-O65)/COUNTA($D$4:$D$263))*100+100) -> 60.384615 | Q65: =VLOOKUP(A65,[1]高二上!$A$3:$F$583,5,0) -> 86 | R65: =VLOOKUP(A65,[1]高二上!$A$3:$F$583,6,0) -> 格绒燚西 | S65: =RANK(Q65,$Q$4:$Q$263,0) -> 83 | T65: =IF(OR(Q65=0,U65=0),100,((W65-S65)/COUNTA($D$4:$D$263))*100+100) -> 77.692308 | U65: =VLOOKUP(A65,[1]高一下!$A$3:$F$585,5,0) -> 85 | V65: =VLOOKUP(A65,[1]高一下!$A$3:$F$585,6,0) -> 格绒燚西 | W65: =RANK(U65,$U$4:$U$263,0) -> 25 | X65: =IF(OR(Y65=0,U65=0),100,((AA65-W65)/COUNTA($D$4:$D$263))*100+100) -> 154.23077 | Y65: =VLOOKUP(A65,[1]高一上!$A$3:$F$587,5,0) -> 80 | Z65: =VLOOKUP(A65,[1]高一上!$A$3:$F$587,6,0) -> 格绒燚西 | AA65: =RANK(Y65,$Y$4:$Y$263,0) -> 166 | AB65: =IF(OR(Y65=0,AC65=0),100,((AD65-AA65)/COUNTA($D$4:$D$263))*100+100) -> 121.92308 | AC65: =VLOOKUP(A65,[1]中考!$A$2:$E$571,5,0) -> 74 | AD65: =RANK(AC65,$AC$4:$AC$263,0) -> 223
A66: 513422200107021928 | B66: 2 | C66: 王英 | D66: 文科 | E66: 93 | F66: 格绒燚西 | G66: =RANK(E66,$E$4:$E$263,0) -> 68 | H66: =IF(OR(I66=0,E66=0),100,((K66-G66)/COUNTA($D$4:$D$263))*100+100) -> 138.46154 | I66: =VLOOKUP(A66,[1]高三上!A$3:Q$588,5,0) -> 86.5 | J66: =VLOOKUP(A66,[1]高三上!A$3:Q$588,6,0) -> 格绒燚西 | K66: =RANK(I66,$I$4:$I$263,0) -> 168 | L66: =IF(OR(I66=0,M66=0),100,((O66-K66)/COUNTA($D$4:$D$263))*100+100) -> 50.769231 | M66: =VLOOKUP(A66,[1]高二下!$A$3:$F$536,5,0) -> 91 | N66: =VLOOKUP(A66,[1]高二下!$A$3:$F$536,6,0) -> 格绒燚西 | O66: =RANK(M66,$M$4:$M$263,0) -> 40 | P66: =IF(OR(Q66=0,M66=0),100,((S66-O66)/COUNTA($D$4:$D$263))*100+100) -> 143.07692 | Q66: =VLOOKUP(A66,[1]高二上!$A$3:$F$583,5,0) -> 80 | R66: =VLOOKUP(A66,[1]高二上!$A$3:$F$583,6,0) -> 格绒燚西 | S66: =RANK(Q66,$Q$4:$Q$263,0) -> 152 | T66: =IF(OR(Q66=0,U66=0),100,((W66-S66)/COUNTA($D$4:$D$263))*100+100) -> 78.461538 | U66: =VLOOKUP(A66,[1]高一下!$A$3:$F$585,5,0) -> 80 | V66: =VLOOKUP(A66,[1]高一下!$A$3:$F$585,6,0) -> 格绒燚西 | W66: =RANK(U66,$U$4:$U$263,0) -> 96 | X66: =IF(OR(Y66=0,U66=0),100,((AA66-W66)/COUNTA($D$4:$D$263))*100+100) -> 118.07692 | Y66: =VLOOKUP(A66,[1]高一上!$A$3:$F$587,5,0) -> 82 | Z66: =VLOOKUP(A66,[1]高一上!$A$3:$F$587,6,0) -> 格绒燚西 | AA66: =RANK(Y66,$Y$4:$Y$263,0) -> 143 | AB66: =IF(OR(Y66=0,AC66=0),100,((AD66-AA66)/COUNTA($D$4:$D$263))*100+100) -> 85.769231 | AC66: =VLOOKUP(A66,[1]中考!$A$2:$E$571,5,0) -> 91 | AD66: =RANK(AC66,$AC$4:$AC$263,0) -> 106
A67: 513422200111094222 | B67: 2 | C67: 仁青娜姆 | D67: 文科 | E67: 92 | F67: 格绒燚西 | G67: =RANK(E67,$E$4:$E$263,0) -> 76 | H67: =IF(OR(I67=0,E67=0),100,((K67-G67)/COUNTA($D$4:$D$263))*100+100) -> 135.38462 | I67: =VLOOKUP(A67,[1]高三上!A$3:Q$588,5,0) -> 86.5 | J67: 格绒燚西 | K67: =RANK(I67,$I$4:$I$263,0) -> 168 | L67: =IF(OR(I67=0,M67=0),100,((O67-K67)/COUNTA($D$4:$D$263))*100+100) -> 42.692308 | M67: =VLOOKUP(A67,[1]高二下!$A$3:$F$536,5,0) -> 94 | N67: =VLOOKUP(A67,[1]高二下!$A$3:$F$536,6,0) -> 格绒燚西 | O67: =RANK(M67,$M$4:$M$263,0) -> 19 | P67: =IF(OR(Q67=0,M67=0),100,((S67-O67)/COUNTA($D$4:$D$263))*100+100) -> 115.38462 | Q67: =VLOOKUP(A67,[1]高二上!$A$3:$F$583,5,0) -> 88 | R67: =VLOOKUP(A67,[1]高二上!$A$3:$F$583,6,0) -> 格绒燚西 | S67: =RANK(Q67,$Q$4:$Q$263,0) -> 59 | T67: =IF(OR(Q67=0,U67=0),100,((W67-S67)/COUNTA($D$4:$D$263))*100+100) -> 86.923077 | U67: =VLOOKUP(A67,[1]高一下!$A$3:$F$585,5,0) -> 85 | V67: =VLOOKUP(A67,[1]高一下!$A$3:$F$585,6,0) -> 格绒燚西 | W67: =RANK(U67,$U$4:$U$263,0) -> 25 | X67: =IF(OR(Y67=0,U67=0),100,((AA67-W67)/COUNTA($D$4:$D$263))*100+100) -> 93.076923 | Y67: =VLOOKUP(A67,[1]高一上!$A$3:$F$587,5,0) -> 101 | Z67: =VLOOKUP(A67,[1]高一上!$A$3:$F$587,6,0) -> 格绒燚西 | AA67: =RANK(Y67,$Y$4:$Y$263,0) -> 7 | AB67: =IF(OR(Y67=0,AC67=0),100,((AD67-AA67)/COUNTA($D$4:$D$263))*100+100) -> 113.07692 | AC67: =VLOOKUP(A67,[1]中考!$A$2:$E$571,5,0) -> 98 | AD67: =RANK(AC67,$AC$4:$AC$263,0) -> 41
A68: 513422200111231522 | B68: 2 | C68: 马克的莫 | D68: 文科 | E68: 74 | F68: 格绒燚西 | G68: =RANK(E68,$E$4:$E$263,0) -> 228 | H68: =IF(OR(I68=0,E68=0),100,((K68-G68)/COUNTA($D$4:$D$263))*100+100) -> 100 | I68: 0 | J68: 格绒燚西 | K68: =RANK(I68,$I$4:$I$263,0) -> 241 | L68: =IF(OR(I68=0,M68=0),100,((O68-K68)/COUNTA($D$4:$D$263))*100+100) -> 100 | M68: 0 | N68: 格绒燚西 | O68: =RANK(M68,$M$4:$M$263,0) -> 236 | P68: =IF(OR(Q68=0,M68=0),100,((S68-O68)/COUNTA($D$4:$D$263))*100+100) -> 100 | Q68: =VLOOKUP(A68,[1]高二上!$A$3:$F$583,5,0) -> 80 | R68: =VLOOKUP(A68,[1]高二上!$A$3:$F$583,6,0) -> 格绒燚西 | S68: =RANK(Q68,$Q$4:$Q$263,0) -> 152 | T68: =IF(OR(Q68=0,U68=0),100,((W68-S68)/COUNTA($D$4:$D$263))*100+100) -> 136.92308 | U68: =VLOOKUP(A68,[1]高一下!$A$3:$F$585,5,0) -> 64 | V68: =VLOOKUP(A68,[1]高一下!$A$3:$F$585,6,0) -> 格绒燚西 | W68: =RANK(U68,$U$4:$U$263,0) -> 248 | X68: =IF(OR(Y68=0,U68=0),100,((AA68-W68)/COUNTA($D$4:$D$263))*100+100) -> 94.615385 | Y68: =VLOOKUP(A68,[1]高一上!$A$3:$F$587,5,0) -> 72 | Z68: =VLOOKUP(A68,[1]高一上!$A$3:$F$587,6,0) -> 格绒燚西 | AA68: =RANK(Y68,$Y$4:$Y$263,0) -> 234 | AB68: =IF(OR(Y68=0,AC68=0),100,((AD68-AA68)/COUNTA($D$4:$D$263))*100+100) -> 95.769231 | AC68: =VLOOKUP(A68,[1]中考!$A$2:$E$571,5,0) -> 74 | AD68: =RANK(AC68,$AC$4:$AC$263,0) -> 223
A69: 513422200111253828 | B69: 2 | C69: 蒋永琼 | D69: 文科 | E69: 89 | F69: 格绒燚西 | G69: =RANK(E69,$E$4:$E$263,0) -> 105 | H69: =IF(OR(I69=0,E69=0),100,((K69-G69)/COUNTA($D$4:$D$263))*100+100) -> 119.23077 | I69: =VLOOKUP(A69,[1]高三上!A$3:Q$588,5,0) -> 88 | J69: =VLOOKUP(A69,[1]高三上!A$3:Q$588,6,0) -> 格绒燚西 | K69: =RANK(I69,$I$4:$I$263,0) -> 155 | L69: =IF(OR(I69=0,M69=0),100,((O69-K69)/COUNTA($D$4:$D$263))*100+100) -> 50 | M69: =VLOOKUP(A69,[1]高二下!$A$3:$F$536,5,0) -> 93 | N69: =VLOOKUP(A69,[1]高二下!$A$3:$F$536,6,0) -> 格绒燚西 | O69: =RANK(M69,$M$4:$M$263,0) -> 25 | P69: =IF(OR(Q69=0,M69=0),100,((S69-O69)/COUNTA($D$4:$D$263))*100+100) -> 133.46154 | Q69: =VLOOKUP(A69,[1]高二上!$A$3:$F$583,5,0) -> 84 | R69: =VLOOKUP(A69,[1]高二上!$A$3:$F$583,6,0) -> 格绒燚西 | S69: =RANK(Q69,$Q$4:$Q$263,0) -> 112 | T69: =IF(OR(Q69=0,U69=0),100,((W69-S69)/COUNTA($D$4:$D$263))*100+100) -> 72.692308 | U69: =VLOOKUP(A69,[1]高一下!$A$3:$F$585,5,0) -> 84 | V69: =VLOOKUP(A69,[1]高一下!$A$3:$F$585,6,0) -> 格绒燚西 | W69: =RANK(U69,$U$4:$U$263,0) -> 41 | X69: =IF(OR(Y69=0,U69=0),100,((AA69-W69)/COUNTA($D$4:$D$263))*100+100) -> 109.23077 | Y69: =VLOOKUP(A69,[1]高一上!$A$3:$F$587,5,0) -> 90 | Z69: =VLOOKUP(A69,[1]高一上!$A$3:$F$587,6,0) -> 格绒燚西 | AA69: =RANK(Y69,$Y$4:$Y$263,0) -> 65 | AB69: =IF(OR(Y69=0,AC69=0),100,((AD69-AA69)/COUNTA($D$4:$D$263))*100+100) -> 105 | AC69: =VLOOKUP(A69,[1]中考!$A$2:$E$571,5,0) -> 94 | AD69: =RANK(AC69,$AC$4:$AC$263,0) -> 78
A70: 513422200112122125 | B70: 2 | C70: 马尔其 | D70: 文科 | E70: 82 | F70: 格绒燚西 | G70: =RANK(E70,$E$4:$E$263,0) -> 165 | H70: =IF(OR(I70=0,E70=0),100,((K70-G70)/COUNTA($D$4:$D$263))*100+100) -> 59.230769 | I70: =VLOOKUP(A70,[1]高三上!A$3:Q$588,5,0) -> 96 | J70: =VLOOKUP(A70,[1]高三上!A$3:Q$588,6,0) -> 格绒燚西 | K70: =RANK(I70,$I$4:$I$263,0) -> 59 | L70: =IF(OR(I70=0,M70=0),100,((O70-K70)/COUNTA($D$4:$D$263))*100+100) -> 103.84615 | M70: =VLOOKUP(A70,[1]高二下!$A$3:$F$536,5,0) -> 88 | N70: =VLOOKUP(A70,[1]高二下!$A$3:$F$536,6,0) -> 格绒燚西 | O70: =RANK(M70,$M$4:$M$263,0) -> 69 | P70: =IF(OR(Q70=0,M70=0),100,((S70-O70)/COUNTA($D$4:$D$263))*100+100) -> 89.230769 | Q70: =VLOOKUP(A70,[1]高二上!$A$3:$F$583,5,0) -> 90 | R70: =VLOOKUP(A70,[1]高二上!$A$3:$F$583,6,0) -> 格绒燚西 | S70: =RANK(Q70,$Q$4:$Q$263,0) -> 41 | T70: =IF(OR(Q70=0,U70=0),100,((W70-S70)/COUNTA($D$4:$D$263))*100+100) -> 114.61538 | U70: =VLOOKUP(A70,[1]高一下!$A$3:$F$585,5,0) -> 81 | V70: =VLOOKUP(A70,[1]高一下!$A$3:$F$585,6,0) -> 格绒燚西 | W70: =RANK(U70,$U$4:$U$263,0) -> 79 | X70: =IF(OR(Y70=0,U70=0),100,((AA70-W70)/COUNTA($D$4:$D$263))*100+100) -> 112.69231 | Y70: =VLOOKUP(A70,[1]高一上!$A$3:$F$587,5,0) -> 85 | Z70: =VLOOKUP(A70,[1]高一上!$A$3:$F$587,6,0) -> 格绒燚西 | AA70: =RANK(Y70,$Y$4:$Y$263,0) -> 112 | AB70: =IF(OR(Y70=0,AC70=0),100,((AD70-AA70)/COUNTA($D$4:$D$263))*100+100) -> 137.69231 | AC70: =VLOOKUP(A70,[1]中考!$A$2:$E$571,5,0) -> 76 | AD70: =RANK(AC70,$AC$4:$AC$263,0) -> 210
A71: 513422200201254824 | B71: 2 | C71: 祝玛拉初 | D71: 文科 | E71: 83 | F71: 格绒燚西 | G71: =RANK(E71,$E$4:$E$263,0) -> 156 | H71: =IF(OR(I71=0,E71=0),100,((K71-G71)/COUNTA($D$4:$D$263))*100+100) -> 99.615385 | I71: =VLOOKUP(A71,[1]高三上!A$3:Q$588,5,0) -> 88 | J71: =VLOOKUP(A71,[1]高三上!A$3:Q$588,6,0) -> 格绒燚西 | K71: =RANK(I71,$I$4:$I$263,0) -> 155 | L71: =IF(OR(I71=0,M71=0),100,((O71-K71)/COUNTA($D$4:$D$263))*100+100) -> 66.923077 | M71: =VLOOKUP(A71,[1]高二下!$A$3:$F$536,5,0) -> 88 | N71: =VLOOKUP(A71,[1]高二下!$A$3:$F$536,6,0) -> 格绒燚西 | O71: =RANK(M71,$M$4:$M$263,0) -> 69 | P71: =IF(OR(Q71=0,M71=0),100,((S71-O71)/COUNTA($D$4:$D$263))*100+100) -> 125.38462 | Q71: =VLOOKUP(A71,[1]高二上!$A$3:$F$583,5,0) -> 82 | R71: =VLOOKUP(A71,[1]高二上!$A$3:$F$583,6,0) -> 格绒燚西 | S71: =RANK(Q71,$Q$4:$Q$263,0) -> 135 | T71: =IF(OR(Q71=0,U71=0),100,((W71-S71)/COUNTA($D$4:$D$263))*100+100) -> 116.15385 | U71: =VLOOKUP(A71,[1]高一下!$A$3:$F$585,5,0) -> 74 | V71: =VLOOKUP(A71,[1]高一下!$A$3:$F$585,6,0) -> 格绒燚西 | W71: =RANK(U71,$U$4:$U$263,0) -> 177 | X71: =IF(OR(Y71=0,U71=0),100,((AA71-W71)/COUNTA($D$4:$D$263))*100+100) -> 99.615385 | Y71: =VLOOKUP(A71,[1]高一上!$A$3:$F$587,5,0) -> 79 | Z71: =VLOOKUP(A71,[1]高一上!$A$3:$F$587,6,0) -> 格绒燚西 | AA71: =RANK(Y71,$Y$4:$Y$263,0) -> 176 | AB71: =IF(OR(Y71=0,AC71=0),100,((AD71-AA71)/COUNTA($D$4:$D$263))*100+100) -> 38.461538 | AC71: =VLOOKUP(A71,[1]中考!$A$2:$E$571,5,0) -> 103 | AD71: =RANK(AC71,$AC$4:$AC$263,0) -> 16
A72: 513422200202011517 | B72: 2 | C72: 马东林 | D72: 文科 | E72: 73 | F72: 格绒燚西 | G72: =RANK(E72,$E$4:$E$263,0) -> 232 | H72: =IF(OR(I72=0,E72=0),100,((K72-G72)/COUNTA($D$4:$D$263))*100+100) -> 85.769231 | I72: =VLOOKUP(A72,[1]高三上!A$3:Q$588,5,0) -> 83 | J72: =VLOOKUP(A72,[1]高三上!A$3:Q$588,6,0) -> 格绒燚西 | K72: =RANK(I72,$I$4:$I$263,0) -> 195 | L72: =IF(OR(I72=0,M72=0),100,((O72-K72)/COUNTA($D$4:$D$263))*100+100) -> 105.76923 | M72: =VLOOKUP(A72,[1]高二下!$A$3:$F$536,5,0) -> 76 | N72: =VLOOKUP(A72,[1]高二下!$A$3:$F$536,6,0) -> 格绒燚西 | O72: =RANK(M72,$M$4:$M$263,0) -> 210 | P72: =IF(OR(Q72=0,M72=0),100,((S72-O72)/COUNTA($D$4:$D$263))*100+100) -> 96.153846 | Q72: =VLOOKUP(A72,[1]高二上!$A$3:$F$583,5,0) -> 75 | R72: =VLOOKUP(A72,[1]高二上!$A$3:$F$583,6,0) -> 格绒燚西 | S72: =RANK(Q72,$Q$4:$Q$263,0) -> 200 | T72: =IF(OR(Q72=0,U72=0),100,((W72-S72)/COUNTA($D$4:$D$263))*100+100) -> 98.076923 | U72: =VLOOKUP(A72,[1]高一下!$A$3:$F$585,5,0) -> 72 | V72: =VLOOKUP(A72,[1]高一下!$A$3:$F$585,6,0) -> 格绒燚西 | W72: =RANK(U72,$U$4:$U$263,0) -> 195 | X72: =IF(OR(Y72=0,U72=0),100,((AA72-W72)/COUNTA($D$4:$D$263))*100+100) -> 113.07692 | Y72: =VLOOKUP(A72,[1]高一上!$A$3:$F$587,5,0) -> 73 | Z72: =VLOOKUP(A72,[1]高一上!$A$3:$F$587,6,0) -> 格绒燚西 | AA72: =RANK(Y72,$Y$4:$Y$263,0) -> 229 | AB72: =IF(OR(Y72=0,AC72=0),100,((AD72-AA72)/COUNTA($D$4:$D$263))*100+100) -> 107.69231 | AC72: =VLOOKUP(A72,[1]中考!$A$2:$E$571,5,0) -> 64 | AD72: =RANK(AC72,$AC$4:$AC$263,0) -> 249
A73: 513422200202100720 | B73: 2 | C73: 马布几嫫 | D73: 文科 | E73: 89 | F73: 格绒燚西 | G73: =RANK(E73,$E$4:$E$263,0) -> 105 | H73: =IF(OR(I73=0,E73=0),100,((K73-G73)/COUNTA($D$4:$D$263))*100+100) -> 112.69231 | I73: =VLOOKUP(A73,[1]高三上!A$3:Q$588,5,0) -> 90 | J73: =VLOOKUP(A73,[1]高三上!A$3:Q$588,6,0) -> 格绒燚西 | K73: =RANK(I73,$I$4:$I$263,0) -> 138 | L73: =IF(OR(I73=0,M73=0),100,((O73-K73)/COUNTA($D$4:$D$263))*100+100) -> 93.846154 | M73: =VLOOKUP(A73,[1]高二下!$A$3:$F$536,5,0) -> 84 | N73: =VLOOKUP(A73,[1]高二下!$A$3:$F$536,6,0) -> 格绒燚西 | O73: =RANK(M73,$M$4:$M$263,0) -> 122 | P73: =IF(OR(Q73=0,M73=0),100,((S73-O73)/COUNTA($D$4:$D$263))*100+100) -> 59.230769 | Q73: =VLOOKUP(A73,[1]高二上!$A$3:$F$583,5,0) -> 94 | R73: =VLOOKUP(A73,[1]高二上!$A$3:$F$583,6,0) -> 格绒燚西 | S73: =RANK(Q73,$Q$4:$Q$263,0) -> 16 | T73: =IF(OR(Q73=0,U73=0),100,((W73-S73)/COUNTA($D$4:$D$263))*100+100) -> 115.38462 | U73: =VLOOKUP(A73,[1]高一下!$A$3:$F$585,5,0) -> 83 | V73: =VLOOKUP(A73,[1]高一下!$A$3:$F$585,6,0) -> 格绒燚西 | W73: =RANK(U73,$U$4:$U$263,0) -> 56 | X73: =IF(OR(Y73=0,U73=0),100,((AA73-W73)/COUNTA($D$4:$D$263))*100+100) -> 133.46154 | Y73: =VLOOKUP(A73,[1]高一上!$A$3:$F$587,5,0) -> 82 | Z73: =VLOOKUP(A73,[1]高一上!$A$3:$F$587,6,0) -> 格绒燚西 | AA73: =RANK(Y73,$Y$4:$Y$263,0) -> 143 | AB73: =IF(OR(Y73=0,AC73=0),100,((AD73-AA73)/COUNTA($D$4:$D$263))*100+100) -> 79.230769 | AC73: =VLOOKUP(A73,[1]中考!$A$2:$E$571,5,0) -> 92 | AD73: =RANK(AC73,$AC$4:$AC$263,0) -> 89
A74: 513422200202141127 | B74: 2 | C74: 马建萍 | D74: 文科 | E74: 91 | F74: 格绒燚西 | G74: =RANK(E74,$E$4:$E$263,0) -> 86 | H74: =IF(OR(I74=0,E74=0),100,((K74-G74)/COUNTA($D$4:$D$263))*100+100) -> 92.307692 | I74: =VLOOKUP(A74,[1]高三上!A$3:Q$588,5,0) -> 95.5 | J74: =VLOOKUP(A74,[1]高三上!A$3:Q$588,6,0) -> 格绒燚西 | K74: =RANK(I74,$I$4:$I$263,0) -> 66 | L74: =IF(OR(I74=0,M74=0),100,((O74-K74)/COUNTA($D$4:$D$263))*100+100) -> 86.538462 | M74: =VLOOKUP(A74,[1]高二下!$A$3:$F$536,5,0) -> 92 | N74: =VLOOKUP(A74,[1]高二下!$A$3:$F$536,6,0) -> 格绒燚西 | O74: =RANK(M74,$M$4:$M$263,0) -> 31 | P74: =IF(OR(Q74=0,M74=0),100,((S74-O74)/COUNTA($D$4:$D$263))*100+100) -> 143.46154 | Q74: =VLOOKUP(A74,[1]高二上!$A$3:$F$583,5,0) -> 81 | R74: =VLOOKUP(A74,[1]高二上!$A$3:$F$583,6,0) -> 格绒燚西 | S74: =RANK(Q74,$Q$4:$Q$263,0) -> 144 | T74: =IF(OR(Q74=0,U74=0),100,((W74-S74)/COUNTA($D$4:$D$263))*100+100) -> 50.384615 | U74: =VLOOKUP(A74,[1]高一下!$A$3:$F$585,5,0) -> 87 | V74: =VLOOKUP(A74,[1]高一下!$A$3:$F$585,6,0) -> 格绒燚西 | W74: =RANK(U74,$U$4:$U$263,0) -> 15 | X74: =IF(OR(Y74=0,U74=0),100,((AA74-W74)/COUNTA($D$4:$D$263))*100+100) -> 161.92308 | Y74: =VLOOKUP(A74,[1]高一上!$A$3:$F$587,5,0) -> 79 | Z74: =VLOOKUP(A74,[1]高一上!$A$3:$F$587,6,0) -> 格绒燚西 | AA74: =RANK(Y74,$Y$4:$Y$263,0) -> 176 | AB74: =IF(OR(Y74=0,AC74=0),100,((AD74-AA74)/COUNTA($D$4:$D$263))*100+100) -> 107.30769 | AC74: =VLOOKUP(A74,[1]中考!$A$2:$E$571,5,0) -> 79 | AD74: =RANK(AC74,$AC$4:$AC$263,0) -> 195
A75: 513422200203010938 | B75: 2 | C75: 熊绍友 | D75: 文科 | E75: 89 | F75: 格绒燚西 | G75: =RANK(E75,$E$4:$E$263,0) -> 105 | H75: =IF(OR(I75=0,E75=0),100,((K75-G75)/COUNTA($D$4:$D$263))*100+100) -> 100 | I75: 0 | J75: 格绒燚西 | K75: =RANK(I75,$I$4:$I$263,0) -> 241 | L75: =IF(OR(I75=0,M75=0),100,((O75-K75)/COUNTA($D$4:$D$263))*100+100) -> 100 | M75: =VLOOKUP(A75,[1]高二下!$A$3:$F$536,5,0) -> 88 | N75: =VLOOKUP(A75,[1]高二下!$A$3:$F$536,6,0) -> 格绒燚西 | O75: =RANK(M75,$M$4:$M$263,0) -> 69 | P75: =IF(OR(Q75=0,M75=0),100,((S75-O75)/COUNTA($D$4:$D$263))*100+100) -> 148.46154 | Q75: =VLOOKUP(A75,[1]高二上!$A$3:$F$583,5,0) -> 76 | R75: =VLOOKUP(A75,[1]高二上!$A$3:$F$583,6,0) -> 格绒燚西 | S75: =RANK(Q75,$Q$4:$Q$263,0) -> 195 | T75: =IF(OR(Q75=0,U75=0),100,((W75-S75)/COUNTA($D$4:$D$263))*100+100) -> 104.61538 | U75: =VLOOKUP(A75,[1]高一下!$A$3:$F$585,5,0) -> 71 | V75: =VLOOKUP(A75,[1]高一下!$A$3:$F$585,6,0) -> 格绒燚西 | W75: =RANK(U75,$U$4:$U$263,0) -> 207 | X75: =IF(OR(Y75=0,U75=0),100,((AA75-W75)/COUNTA($D$4:$D$263))*100+100) -> 98.846154 | Y75: =VLOOKUP(A75,[1]高一上!$A$3:$F$587,5,0) -> 76 | Z75: =VLOOKUP(A75,[1]高一上!$A$3:$F$587,6,0) -> 格绒燚西 | AA75: =RANK(Y75,$Y$4:$Y$263,0) -> 204 | AB75: =IF(OR(Y75=0,AC75=0),100,((AD75-AA75)/COUNTA($D$4:$D$263))*100+100) -> 62.307692 | AC75: =VLOOKUP(A75,[1]中考!$A$2:$E$571,5,0) -> 91 | AD75: =RANK(AC75,$AC$4:$AC$263,0) -> 106
A76: 513422200203110920 | B76: 2 | C76: 杨国兰 | D76: 文科 | E76: 69 | F76: 格绒燚西 | G76: =RANK(E76,$E$4:$E$263,0) -> 252 | H76: =IF(OR(I76=0,E76=0),100,((K76-G76)/COUNTA($D$4:$D$263))*100+100) -> 91.538462 | I76: =VLOOKUP(A76,[1]高三上!A$3:Q$588,5,0) -> 75.5 | J76: =VLOOKUP(A76,[1]高三上!A$3:Q$588,6,0) -> 格绒燚西 | K76: =RANK(I76,$I$4:$I$263,0) -> 230 | L76: =IF(OR(I76=0,M76=0),100,((O76-K76)/COUNTA($D$4:$D$263))*100+100) -> 52.307692 | M76: =VLOOKUP(A76,[1]高二下!$A$3:$F$536,5,0) -> 85 | N76: =VLOOKUP(A76,[1]高二下!$A$3:$F$536,6,0) -> 格绒燚西 | O76: =RANK(M76,$M$4:$M$263,0) -> 106 | P76: =IF(OR(Q76=0,M76=0),100,((S76-O76)/COUNTA($D$4:$D$263))*100+100) -> 131.15385 | Q76: =VLOOKUP(A76,[1]高二上!$A$3:$F$583,5,0) -> 77 | R76: =VLOOKUP(A76,[1]高二上!$A$3:$F$583,6,0) -> 格绒燚西 | S76: =RANK(Q76,$Q$4:$Q$263,0) -> 187 | T76: =IF(OR(Q76=0,U76=0),100,((W76-S76)/COUNTA($D$4:$D$263))*100+100) -> 87.307692 | U76: =VLOOKUP(A76,[1]高一下!$A$3:$F$585,5,0) -> 76 | V76: =VLOOKUP(A76,[1]高一下!$A$3:$F$585,6,0) -> 格绒燚西 | W76: =RANK(U76,$U$4:$U$263,0) -> 154 | X76: =IF(OR(Y76=0,U76=0),100,((AA76-W76)/COUNTA($D$4:$D$263))*100+100) -> 111.15385 | Y76: =VLOOKUP(A76,[1]高一上!$A$3:$F$587,5,0) -> 78 | Z76: =VLOOKUP(A76,[1]高一上!$A$3:$F$587,6,0) -> 陈丽娇 | AA76: =RANK(Y76,$Y$4:$Y$263,0) -> 183 | AB76: =IF(OR(Y76=0,AC76=0),100,((AD76-AA76)/COUNTA($D$4:$D$263))*100+100) -> 70.384615 | AC76: =VLOOKUP(A76,[1]中考!$A$2:$E$571,5,0) -> 91 | AD76: =RANK(AC76,$AC$4:$AC$263,0) -> 106
A77: 513422200203250923 | B77: 2 | C77: 毛秀英 | D77: 文科 | E77: 81 | F77: 格绒燚西 | G77: =RANK(E77,$E$4:$E$263,0) -> 175 | H77: =IF(OR(I77=0,E77=0),100,((K77-G77)/COUNTA($D$4:$D$263))*100+100) -> 105.76923 | I77: =VLOOKUP(A77,[1]高三上!A$3:Q$588,5,0) -> 84 | J77: =VLOOKUP(A77,[1]高三上!A$3:Q$588,6,0) -> 格绒燚西 | K77: =RANK(I77,$I$4:$I$263,0) -> 190 | L77: =IF(OR(I77=0,M77=0),100,((O77-K77)/COUNTA($D$4:$D$263))*100+100) -> 107.69231 | M77: =VLOOKUP(A77,[1]高二下!$A$3:$F$536,5,0) -> 76 | N77: =VLOOKUP(A77,[1]高二下!$A$3:$F$536,6,0) -> 格绒燚西 | O77: =RANK(M77,$M$4:$M$263,0) -> 210 | P77: =IF(OR(Q77=0,M77=0),100,((S77-O77)/COUNTA($D$4:$D$263))*100+100) -> 96.153846 | Q77: =VLOOKUP(A77,[1]高二上!$A$3:$F$583,5,0) -> 75 | R77: =VLOOKUP(A77,[1]高二上!$A$3:$F$583,6,0) -> 格绒燚西 | S77: =RANK(Q77,$Q$4:$Q$263,0) -> 200 | T77: =IF(OR(Q77=0,U77=0),100,((W77-S77)/COUNTA($D$4:$D$263))*100+100) -> 44.615385 | U77: =VLOOKUP(A77,[1]高一下!$A$3:$F$585,5,0) -> 83 | V77: =VLOOKUP(A77,[1]高一下!$A$3:$F$585,6,0) -> 格绒燚西 | W77: =RANK(U77,$U$4:$U$263,0) -> 56 | X77: =IF(OR(Y77=0,U77=0),100,((AA77-W77)/COUNTA($D$4:$D$263))*100+100) -> 137.69231 | Y77: =VLOOKUP(A77,[1]高一上!$A$3:$F$587,5,0) -> 81 | Z77: =VLOOKUP(A77,[1]高一上!$A$3:$F$587,6,0) -> 格绒燚西 | AA77: =RANK(Y77,$Y$4:$Y$263,0) -> 154 | AB77: =IF(OR(Y77=0,AC77=0),100,((AD77-AA77)/COUNTA($D$4:$D$263))*100+100) -> 75 | AC77: =VLOOKUP(A77,[1]中考!$A$2:$E$571,5,0) -> 92 | AD77: =RANK(AC77,$AC$4:$AC$263,0) -> 89
A78: 513422200305081729 | B78: 2 | C78: 何拉初 | D78: 文科 | E78: 79 | F78: 格绒燚西 | G78: =RANK(E78,$E$4:$E$263,0) -> 192 | H78: =IF(OR(I78=0,E78=0),100,((K78-G78)/COUNTA($D$4:$D$263))*100+100) -> 47.307692 | I78: =VLOOKUP(A78,[1]高三上!A$3:Q$588,5,0) -> 96.5 | J78: =VLOOKUP(A78,[1]高三上!A$3:Q$588,6,0) -> 格绒燚西 | K78: =RANK(I78,$I$4:$I$263,0) -> 55 | L78: =IF(OR(I78=0,M78=0),100,((O78-K78)/COUNTA($D$4:$D$263))*100+100) -> 132.30769 | M78: =VLOOKUP(A78,[1]高二下!$A$3:$F$536,5,0) -> 83 | N78: =VLOOKUP(A78,[1]高二下!$A$3:$F$536,6,0) -> 格绒燚西 | O78: =RANK(M78,$M$4:$M$263,0) -> 139 | P78: =IF(OR(Q78=0,M78=0),100,((S78-O78)/COUNTA($D$4:$D$263))*100+100) -> 123.46154 | Q78: =VLOOKUP(A78,[1]高二上!$A$3:$F$583,5,0) -> 75 | R78: =VLOOKUP(A78,[1]高二上!$A$3:$F$583,6,0) -> 格绒燚西 | S78: =RANK(Q78,$Q$4:$Q$263,0) -> 200 | T78: =IF(OR(Q78=0,U78=0),100,((W78-S78)/COUNTA($D$4:$D$263))*100+100) -> 86.153846 | U78: =VLOOKUP(A78,[1]高一下!$A$3:$F$585,5,0) -> 75 | V78: =VLOOKUP(A78,[1]高一下!$A$3:$F$585,6,0) -> 格绒燚西 | W78: =RANK(U78,$U$4:$U$263,0) -> 164 | X78: =IF(OR(Y78=0,U78=0),100,((AA78-W78)/COUNTA($D$4:$D$263))*100+100) -> 107.30769 | Y78: =VLOOKUP(A78,[1]高一上!$A$3:$F$587,5,0) -> 78 | Z78: =VLOOKUP(A78,[1]高一上!$A$3:$F$587,6,0) -> 格绒燚西 | AA78: =RANK(Y78,$Y$4:$Y$263,0) -> 183 | AB78: =IF(OR(Y78=0,AC78=0),100,((AD78-AA78)/COUNTA($D$4:$D$263))*100+100) -> 51.538462 | AC78: =VLOOKUP(A78,[1]中考!$A$2:$E$571,5,0) -> 96 | AD78: =RANK(AC78,$AC$4:$AC$263,0) -> 57
A79: 513422200306030317 | B79: 2 | C79: 陈枭 | D79: 文科 | E79: 92 | F79: 格绒燚西 | G79: =RANK(E79,$E$4:$E$263,0) -> 76 | H79: =IF(OR(I79=0,E79=0),100,((K79-G79)/COUNTA($D$4:$D$263))*100+100) -> 79.230769 | I79: =VLOOKUP(A79,[1]高三上!A$3:Q$588,5,0) -> 99.5 | J79: =VLOOKUP(A79,[1]高三上!A$3:Q$588,6,0) -> 格绒燚西 | K79: =RANK(I79,$I$4:$I$263,0) -> 22 | L79: =IF(OR(I79=0,M79=0),100,((O79-K79)/COUNTA($D$4:$D$263))*100+100) -> 98.846154 | M79: =VLOOKUP(A79,[1]高二下!$A$3:$F$536,5,0) -> 94 | N79: =VLOOKUP(A79,[1]高二下!$A$3:$F$536,6,0) -> 格绒燚西 | O79: =RANK(M79,$M$4:$M$263,0) -> 19 | P79: =IF(OR(Q79=0,M79=0),100,((S79-O79)/COUNTA($D$4:$D$263))*100+100) -> 135.76923 | Q79: =VLOOKUP(A79,[1]高二上!$A$3:$F$583,5,0) -> 84 | R79: =VLOOKUP(A79,[1]高二上!$A$3:$F$583,6,0) -> 格绒燚西 | S79: =RANK(Q79,$Q$4:$Q$263,0) -> 112 | T79: =IF(OR(Q79=0,U79=0),100,((W79-S79)/COUNTA($D$4:$D$263))*100+100) -> 60.769231 | U79: =VLOOKUP(A79,[1]高一下!$A$3:$F$585,5,0) -> 90 | V79: =VLOOKUP(A79,[1]高一下!$A$3:$F$585,6,0) -> 格绒燚西 | W79: =RANK(U79,$U$4:$U$263,0) -> 10 | X79: =IF(OR(Y79=0,U79=0),100,((AA79-W79)/COUNTA($D$4:$D$263))*100+100) -> 101.92308 | Y79: =VLOOKUP(A79,[1]高一上!$A$3:$F$587,5,0) -> 97 | Z79: =VLOOKUP(A79,[1]高一上!$A$3:$F$587,6,0) -> 格绒燚西 | AA79: =RANK(Y79,$Y$4:$Y$263,0) -> 15 | AB79: =IF(OR(Y79=0,AC79=0),100,((AD79-AA79)/COUNTA($D$4:$D$263))*100+100) -> 107.30769 | AC79: =VLOOKUP(A79,[1]中考!$A$2:$E$571,5,0) -> 99 | AD79: =RANK(AC79,$AC$4:$AC$263,0) -> 34
A80: 513422200306060014 | B80: 2 | C80: 次针江初 | D80: 文科 | E80: 73 | F80: 格绒燚西 | G80: =RANK(E80,$E$4:$E$263,0) -> 232 | H80: =IF(OR(I80=0,E80=0),100,((K80-G80)/COUNTA($D$4:$D$263))*100+100) -> 98.461538 | I80: =VLOOKUP(A80,[1]高三上!A$3:Q$588,5,0) -> 77.5 | J80: =VLOOKUP(A80,[1]高三上!A$3:Q$588,6,0) -> 格绒燚西 | K80: =RANK(I80,$I$4:$I$263,0) -> 228 | L80: =IF(OR(I80=0,M80=0),100,((O80-K80)/COUNTA($D$4:$D$263))*100+100) -> 100.38462 | M80: =VLOOKUP(A80,[1]高二下!$A$3:$F$536,5,0) -> 70 | N80: =VLOOKUP(A80,[1]高二下!$A$3:$F$536,6,0) -> 格绒燚西 | O80: =RANK(M80,$M$4:$M$263,0) -> 229 | P80: =IF(OR(Q80=0,M80=0),100,((S80-O80)/COUNTA($D$4:$D$263))*100+100) -> 100 | Q80: 0 | R80: 格绒燚西 | S80: =RANK(Q80,$Q$4:$Q$263,0) -> 260 | T80: =IF(OR(Q80=0,U80=0),100,((W80-S80)/COUNTA($D$4:$D$263))*100+100) -> 100 | U80: =VLOOKUP(A80,[1]高一下!$A$3:$F$585,5,0) -> 69 | V80: =VLOOKUP(A80,[1]高一下!$A$3:$F$585,6,0) -> 格绒燚西 | W80: =RANK(U80,$U$4:$U$263,0) -> 227 | X80: =IF(OR(Y80=0,U80=0),100,((AA80-W80)/COUNTA($D$4:$D$263))*100+100) -> 100 | Y80: 0 | Z80: 格绒燚西 | AA80: =RANK(Y80,$Y$4:$Y$263,0) -> 257 | AB80: =IF(OR(Y80=0,AC80=0),100,((AD80-AA80)/COUNTA($D$4:$D$263))*100+100) -> 100 | AC80: 0 | AD80: =RANK(AC80,$AC$4:$AC$263,0) -> 255
A81: 513422200306152349 | B81: 2 | C81: 杨银春 | D81: 文科 | E81: 79 | F81: 格绒燚西 | G81: =RANK(E81,$E$4:$E$263,0) -> 192 | H81: =IF(OR(I81=0,E81=0),100,((K81-G81)/COUNTA($D$4:$D$263))*100+100) -> 57.692308 | I81: =VLOOKUP(A81,[1]高三上!A$3:Q$588,5,0) -> 94 | J81: =VLOOKUP(A81,[1]高三上!A$3:Q$588,6,0) -> 格绒燚西 | K81: =RANK(I81,$I$4:$I$263,0) -> 82 | L81: =IF(OR(I81=0,M81=0),100,((O81-K81)/COUNTA($D$4:$D$263))*100+100) -> 136.53846 | M81: =VLOOKUP(A81,[1]高二下!$A$3:$F$536,5,0) -> 80 | N81: =VLOOKUP(A81,[1]高二下!$A$3:$F$536,6,0) -> 格绒燚西 | O81: =RANK(M81,$M$4:$M$263,0) -> 177 | P81: =IF(OR(Q81=0,M81=0),100,((S81-O81)/COUNTA($D$4:$D$263))*100+100) -> 90.384615 | Q81: =VLOOKUP(A81,[1]高二上!$A$3:$F$583,5,0) -> 80 | R81: =VLOOKUP(A81,[1]高二上!$A$3:$F$583,6,0) -> 格绒燚西 | S81: =RANK(Q81,$Q$4:$Q$263,0) -> 152 | T81: =IF(OR(Q81=0,U81=0),100,((W81-S81)/COUNTA($D$4:$D$263))*100+100) -> 121.15385 | U81: =VLOOKUP(A81,[1]高一下!$A$3:$F$585,5,0) -> 71 | V81: =VLOOKUP(A81,[1]高一下!$A$3:$F$585,6,0) -> 格绒燚西 | W81: =RANK(U81,$U$4:$U$263,0) -> 207 | X81: =IF(OR(Y81=0,U81=0),100,((AA81-W81)/COUNTA($D$4:$D$263))*100+100) -> 108.46154 | Y81: =VLOOKUP(A81,[1]高一上!$A$3:$F$587,5,0) -> 73 | Z81: =VLOOKUP(A81,[1]高一上!$A$3:$F$587,6,0) -> 格绒燚西 | AA81: =RANK(Y81,$Y$4:$Y$263,0) -> 229 | AB81: =IF(OR(Y81=0,AC81=0),100,((AD81-AA81)/COUNTA($D$4:$D$263))*100+100) -> 46.153846 | AC81: =VLOOKUP(A81,[1]中考!$A$2:$E$571,5,0) -> 92 | AD81: =RANK(AC81,$AC$4:$AC$263,0) -> 89
A82: 513422200307286023 | B82: 2 | C82: 边玛拉姆 | D82: 文科 | E82: 87 | F82: 格绒燚西 | G82: =RANK(E82,$E$4:$E$263,0) -> 128 | H82: =IF(OR(I82=0,E82=0),100,((K82-G82)/COUNTA($D$4:$D$263))*100+100) -> 59.230769 | I82: =VLOOKUP(A82,[1]高三上!A$3:Q$588,5,0) -> 99.5 | J82: =VLOOKUP(A82,[1]高三上!A$3:Q$588,6,0) -> 格绒燚西 | K82: =RANK(I82,$I$4:$I$263,0) -> 22 | L82: =IF(OR(I82=0,M82=0),100,((O82-K82)/COUNTA($D$4:$D$263))*100+100) -> 176.53846 | M82: =VLOOKUP(A82,[1]高二下!$A$3:$F$536,5,0) -> 74 | N82: =VLOOKUP(A82,[1]高二下!$A$3:$F$536,6,0) -> 格绒燚西 | O82: =RANK(M82,$M$4:$M$263,0) -> 221 | P82: =IF(OR(Q82=0,M82=0),100,((S82-O82)/COUNTA($D$4:$D$263))*100+100) -> 90 | Q82: =VLOOKUP(A82,[1]高二上!$A$3:$F$583,5,0) -> 76 | R82: =VLOOKUP(A82,[1]高二上!$A$3:$F$583,6,0) -> 格绒燚西 | S82: =RANK(Q82,$Q$4:$Q$263,0) -> 195 | T82: =IF(OR(Q82=0,U82=0),100,((W82-S82)/COUNTA($D$4:$D$263))*100+100) -> 112.30769 | U82: =VLOOKUP(A82,[1]高一下!$A$3:$F$585,5,0) -> 69 | V82: =VLOOKUP(A82,[1]高一下!$A$3:$F$585,6,0) -> 格绒燚西 | W82: =RANK(U82,$U$4:$U$263,0) -> 227 | X82: =IF(OR(Y82=0,U82=0),100,((AA82-W82)/COUNTA($D$4:$D$263))*100+100) -> 83.076923 | Y82: =VLOOKUP(A82,[1]高一上!$A$3:$F$587,5,0) -> 78 | Z82: =VLOOKUP(A82,[1]高一上!$A$3:$F$587,6,0) -> 格绒燚西 | AA82: =RANK(Y82,$Y$4:$Y$263,0) -> 183 | AB82: =IF(OR(Y82=0,AC82=0),100,((AD82-AA82)/COUNTA($D$4:$D$263))*100+100) -> 110.38462 | AC82: =VLOOKUP(A82,[1]中考!$A$2:$E$571,5,0) -> 76 | AD82: =RANK(AC82,$AC$4:$AC$263,0) -> 210
A83: 513422200309171713 | B83: 2 | C83: 杨小强 | D83: 文科 | E83: 86 | F83: 格绒燚西 | G83: =RANK(E83,$E$4:$E$263,0) -> 138 | H83: =IF(OR(I83=0,E83=0),100,((K83-G83)/COUNTA($D$4:$D$263))*100+100) -> 134.61538 | I83: =VLOOKUP(A83,[1]高三上!A$3:Q$588,5,0) -> 77.5 | J83: =VLOOKUP(A83,[1]高三上!A$3:Q$588,6,0) -> 格绒燚西 | K83: =RANK(I83,$I$4:$I$263,0) -> 228 | L83: =IF(OR(I83=0,M83=0),100,((O83-K83)/COUNTA($D$4:$D$263))*100+100) -> 100.38462 | M83: =VLOOKUP(A83,[1]高二下!$A$3:$F$536,5,0) -> 70 | N83: =VLOOKUP(A83,[1]高二下!$A$3:$F$536,6,0) -> 格绒燚西 | O83: =RANK(M83,$M$4:$M$263,0) -> 229 | P83: =IF(OR(Q83=0,M83=0),100,((S83-O83)/COUNTA($D$4:$D$263))*100+100) -> 106.92308 | Q83: =VLOOKUP(A83,[1]高二上!$A$3:$F$583,5,0) -> 64 | R83: =VLOOKUP(A83,[1]高二上!$A$3:$F$583,6,0) -> 格绒燚西 | S83: =RANK(Q83,$Q$4:$Q$263,0) -> 247 | T83: =IF(OR(Q83=0,U83=0),100,((W83-S83)/COUNTA($D$4:$D$263))*100+100) -> 95.769231 | U83: =VLOOKUP(A83,[1]高一下!$A$3:$F$585,5,0) -> 67 | V83: =VLOOKUP(A83,[1]高一下!$A$3:$F$585,6,0) -> 格绒燚西 | W83: =RANK(U83,$U$4:$U$263,0) -> 236 | X83: =IF(OR(Y83=0,U83=0),100,((AA83-W83)/COUNTA($D$4:$D$263))*100+100) -> 105 | Y83: =VLOOKUP(A83,[1]高一上!$A$3:$F$587,5,0) -> 65 | Z83: =VLOOKUP(A83,[1]高一上!$A$3:$F$587,6,0) -> 肖锐 | AA83: =RANK(Y83,$Y$4:$Y$263,0) -> 249 | AB83: =IF(OR(Y83=0,AC83=0),100,((AD83-AA83)/COUNTA($D$4:$D$263))*100+100) -> 73.076923 | AC83: =VLOOKUP(A83,[1]中考!$A$2:$E$571,5,0) -> 82 | AD83: =RANK(AC83,$AC$4:$AC$263,0) -> 179
A84: 513422200309260011 | B84: 2 | C84: 撒达次尔 | D84: 文科 | E84: 75 | F84: 格绒燚西 | G84: =RANK(E84,$E$4:$E$263,0) -> 215 | H84: =IF(OR(I84=0,E84=0),100,((K84-G84)/COUNTA($D$4:$D$263))*100+100) -> 100 | I84: 0 | J84: 格绒燚西 | K84: =RANK(I84,$I$4:$I$263,0) -> 241 | L84: =IF(OR(I84=0,M84=0),100,((O84-K84)/COUNTA($D$4:$D$263))*100+100) -> 100 | M84: 0 | N84: 格绒燚西 | O84: =RANK(M84,$M$4:$M$263,0) -> 236 | P84: =IF(OR(Q84=0,M84=0),100,((S84-O84)/COUNTA($D$4:$D$263))*100+100) -> 100 | Q84: =VLOOKUP(A84,[1]高二上!$A$3:$F$583,5,0) -> 66 | R84: =VLOOKUP(A84,[1]高二上!$A$3:$F$583,6,0) -> 格绒燚西 | S84: =RANK(Q84,$Q$4:$Q$263,0) -> 240 | T84: =IF(OR(Q84=0,U84=0),100,((W84-S84)/COUNTA($D$4:$D$263))*100+100) -> 100 | U84: =VLOOKUP(A84,[1]高一下!$A$3:$F$585,5,0) -> 66 | V84: =VLOOKUP(A84,[1]高一下!$A$3:$F$585,6,0) -> 格绒燚西 | W84: =RANK(U84,$U$4:$U$263,0) -> 240 | X84: =IF(OR(Y84=0,U84=0),100,((AA84-W84)/COUNTA($D$4:$D$263))*100+100) -> 40 | Y84: =VLOOKUP(A84,[1]高一上!$A$3:$F$587,5,0) -> 88 | Z84: =VLOOKUP(A84,[1]高一上!$A$3:$F$587,6,0) -> 格绒燚西 | AA84: =RANK(Y84,$Y$4:$Y$263,0) -> 84 | AB84: =IF(OR(Y84=0,AC84=0),100,((AD84-AA84)/COUNTA($D$4:$D$263))*100+100) -> 160.76923 | AC84: =VLOOKUP(A84,[1]中考!$A$2:$E$571,5,0) -> 67 | AD84: =RANK(AC84,$AC$4:$AC$263,0) -> 242
A85: 513422200310280917 | B85: 2 | C85: 熊咪桐 | D85: 文科 | E85: 85 | F85: 格绒燚西 | G85: =RANK(E85,$E$4:$E$263,0) -> 144 | H85: =IF(OR(I85=0,E85=0),100,((K85-G85)/COUNTA($D$4:$D$263))*100+100) -> 76.153846 | I85: =VLOOKUP(A85,[1]高三上!A$3:Q$588,5,0) -> 94 | J85: =VLOOKUP(A85,[1]高三上!A$3:Q$588,6,0) -> 格绒燚西 | K85: =RANK(I85,$I$4:$I$263,0) -> 82 | L85: =IF(OR(I85=0,M85=0),100,((O85-K85)/COUNTA($D$4:$D$263))*100+100) -> 128.84615 | M85: =VLOOKUP(A85,[1]高二下!$A$3:$F$536,5,0) -> 82 | N85: =VLOOKUP(A85,[1]高二下!$A$3:$F$536,6,0) -> 格绒燚西 | O85: =RANK(M85,$M$4:$M$263,0) -> 157 | P85: =IF(OR(Q85=0,M85=0),100,((S85-O85)/COUNTA($D$4:$D$263))*100+100) -> 138.07692 | Q85: =VLOOKUP(A85,[1]高二上!$A$3:$F$583,5,0) -> 59 | R85: =VLOOKUP(A85,[1]高二上!$A$3:$F$583,6,0) -> 格绒燚西 | S85: =RANK(Q85,$Q$4:$Q$263,0) -> 256 | T85: =IF(OR(Q85=0,U85=0),100,((W85-S85)/COUNTA($D$4:$D$263))*100+100) -> 76.538462 | U85: =VLOOKUP(A85,[1]高一下!$A$3:$F$585,5,0) -> 72 | V85: =VLOOKUP(A85,[1]高一下!$A$3:$F$585,6,0) -> 格绒燚西 | W85: =RANK(U85,$U$4:$U$263,0) -> 195 | X85: =IF(OR(Y85=0,U85=0),100,((AA85-W85)/COUNTA($D$4:$D$263))*100+100) -> 120.76923 | Y85: =VLOOKUP(A85,[1]高一上!$A$3:$F$587,5,0) -> 65 | Z85: =VLOOKUP(A85,[1]高一上!$A$3:$F$587,6,0) -> 陈丽娇 | AA85: =RANK(Y85,$Y$4:$Y$263,0) -> 249 | AB85: =IF(OR(Y85=0,AC85=0),100,((AD85-AA85)/COUNTA($D$4:$D$263))*100+100) -> 90 | AC85: =VLOOKUP(A85,[1]中考!$A$2:$E$571,5,0) -> 74 | AD85: =RANK(AC85,$AC$4:$AC$263,0) -> 223
A86: 513422200311104018 | B86: 2 | C86: 次尔苏朗 | D86: 文科 | E86: 80 | F86: 格绒燚西 | G86: =RANK(E86,$E$4:$E$263,0) -> 183 | H86: =IF(OR(I86=0,E86=0),100,((K86-G86)/COUNTA($D$4:$D$263))*100+100) -> 82.692308 | I86: =VLOOKUP(A86,[1]高三上!A$3:Q$588,5,0) -> 90 | J86: =VLOOKUP(A86,[1]高三上!A$3:Q$588,6,0) -> 格绒燚西 | K86: =RANK(I86,$I$4:$I$263,0) -> 138 | L86: =IF(OR(I86=0,M86=0),100,((O86-K86)/COUNTA($D$4:$D$263))*100+100) -> 118.46154 | M86: =VLOOKUP(A86,[1]高二下!$A$3:$F$536,5,0) -> 79 | N86: =VLOOKUP(A86,[1]高二下!$A$3:$F$536,6,0) -> 格绒燚西 | O86: =RANK(M86,$M$4:$M$263,0) -> 186 | P86: =IF(OR(Q86=0,M86=0),100,((S86-O86)/COUNTA($D$4:$D$263))*100+100) -> 105.38462 | Q86: =VLOOKUP(A86,[1]高二上!$A$3:$F$583,5,0) -> 75 | R86: =VLOOKUP(A86,[1]高二上!$A$3:$F$583,6,0) -> 格绒燚西 | S86: =RANK(Q86,$Q$4:$Q$263,0) -> 200 | T86: =IF(OR(Q86=0,U86=0),100,((W86-S86)/COUNTA($D$4:$D$263))*100+100) -> 70.769231 | U86: =VLOOKUP(A86,[1]高一下!$A$3:$F$585,5,0) -> 78 | V86: =VLOOKUP(A86,[1]高一下!$A$3:$F$585,6,0) -> 格绒燚西 | W86: =RANK(U86,$U$4:$U$263,0) -> 124 | X86: =IF(OR(Y86=0,U86=0),100,((AA86-W86)/COUNTA($D$4:$D$263))*100+100) -> 92.692308 | Y86: =VLOOKUP(A86,[1]高一上!$A$3:$F$587,5,0) -> 86 | Z86: =VLOOKUP(A86,[1]高一上!$A$3:$F$587,6,0) -> 格绒燚西 | AA86: =RANK(Y86,$Y$4:$Y$263,0) -> 105 | AB86: =IF(OR(Y86=0,AC86=0),100,((AD86-AA86)/COUNTA($D$4:$D$263))*100+100) -> 108.07692 | AC86: =VLOOKUP(A86,[1]中考!$A$2:$E$571,5,0) -> 89 | AD86: =RANK(AC86,$AC$4:$AC$263,0) -> 126
A87: 513422200311151914 | B87: 2 | C87: 伍辉 | D87: 文科 | E87: 80 | F87: 格绒燚西 | G87: =RANK(E87,$E$4:$E$263,0) -> 183 | H87: =IF(OR(I87=0,E87=0),100,((K87-G87)/COUNTA($D$4:$D$263))*100+100) -> 64.615385 | I87: =VLOOKUP(A87,[1]高三上!A$3:Q$588,5,0) -> 93.5 | J87: =VLOOKUP(A87,[1]高三上!A$3:Q$588,6,0) -> 格绒燚西 | K87: =RANK(I87,$I$4:$I$263,0) -> 91 | L87: =IF(OR(I87=0,M87=0),100,((O87-K87)/COUNTA($D$4:$D$263))*100+100) -> 85 | M87: =VLOOKUP(A87,[1]高二下!$A$3:$F$536,5,0) -> 89 | N87: =VLOOKUP(A87,[1]高二下!$A$3:$F$536,6,0) -> 格绒燚西 | O87: =RANK(M87,$M$4:$M$263,0) -> 52 | P87: =IF(OR(Q87=0,M87=0),100,((S87-O87)/COUNTA($D$4:$D$263))*100+100) -> 168.46154 | Q87: =VLOOKUP(A87,[1]高二上!$A$3:$F$583,5,0) -> 71 | R87: =VLOOKUP(A87,[1]高二上!$A$3:$F$583,6,0) -> 格绒燚西 | S87: =RANK(Q87,$Q$4:$Q$263,0) -> 230 | T87: =IF(OR(Q87=0,U87=0),100,((W87-S87)/COUNTA($D$4:$D$263))*100+100) -> 36.923077 | U87: =VLOOKUP(A87,[1]高一下!$A$3:$F$585,5,0) -> 82 | V87: =VLOOKUP(A87,[1]高一下!$A$3:$F$585,6,0) -> 格绒燚西 | W87: =RANK(U87,$U$4:$U$263,0) -> 66 | X87: =IF(OR(Y87=0,U87=0),100,((AA87-W87)/COUNTA($D$4:$D$263))*100+100) -> 153.07692 | Y87: =VLOOKUP(A87,[1]高一上!$A$3:$F$587,5,0) -> 76 | Z87: =VLOOKUP(A87,[1]高一上!$A$3:$F$587,6,0) -> 格绒燚西 | AA87: =RANK(Y87,$Y$4:$Y$263,0) -> 204 | AB87: =IF(OR(Y87=0,AC87=0),100,((AD87-AA87)/COUNTA($D$4:$D$263))*100+100) -> 74.230769 | AC87: =VLOOKUP(A87,[1]中考!$A$2:$E$571,5,0) -> 88 | AD87: =RANK(AC87,$AC$4:$AC$263,0) -> 137
A88: 513422200311163827 | B88: 2 | C88: 姚德凤 | D88: 文科 | E88: 82 | F88: 格绒燚西 | G88: =RANK(E88,$E$4:$E$263,0) -> 165 | H88: =IF(OR(I88=0,E88=0),100,((K88-G88)/COUNTA($D$4:$D$263))*100+100) -> 63.461538 | I88: =VLOOKUP(A88,[1]高三上!A$3:Q$588,5,0) -> 95 | J88: =VLOOKUP(A88,[1]高三上!A$3:Q$588,6,0) -> 格绒燚西 | K88: =RANK(I88,$I$4:$I$263,0) -> 70 | L88: =IF(OR(I88=0,M88=0),100,((O88-K88)/COUNTA($D$4:$D$263))*100+100) -> 126.53846 | M88: =VLOOKUP(A88,[1]高二下!$A$3:$F$536,5,0) -> 83 | N88: =VLOOKUP(A88,[1]高二下!$A$3:$F$536,6,0) -> 格绒燚西 | O88: =RANK(M88,$M$4:$M$263,0) -> 139 | P88: =IF(OR(Q88=0,M88=0),100,((S88-O88)/COUNTA($D$4:$D$263))*100+100) -> 113.84615 | Q88: =VLOOKUP(A88,[1]高二上!$A$3:$F$583,5,0) -> 78 | R88: =VLOOKUP(A88,[1]高二上!$A$3:$F$583,6,0) -> 格绒燚西 | S88: =RANK(Q88,$Q$4:$Q$263,0) -> 175 | T88: =IF(OR(Q88=0,U88=0),100,((W88-S88)/COUNTA($D$4:$D$263))*100+100) -> 63.076923 | U88: =VLOOKUP(A88,[1]高一下!$A$3:$F$585,5,0) -> 81 | V88: =VLOOKUP(A88,[1]高一下!$A$3:$F$585,6,0) -> 格绒燚西 | W88: =RANK(U88,$U$4:$U$263,0) -> 79 | X88: =IF(OR(Y88=0,U88=0),100,((AA88-W88)/COUNTA($D$4:$D$263))*100+100) -> 148.07692 | Y88: =VLOOKUP(A88,[1]高一上!$A$3:$F$587,5,0) -> 76 | Z88: =VLOOKUP(A88,[1]高一上!$A$3:$F$587,6,0) -> 格绒燚西 | AA88: =RANK(Y88,$Y$4:$Y$263,0) -> 204 | AB88: =IF(OR(Y88=0,AC88=0),100,((AD88-AA88)/COUNTA($D$4:$D$263))*100+100) -> 40 | AC88: =VLOOKUP(A88,[1]中考!$A$2:$E$571,5,0) -> 97 | AD88: =RANK(AC88,$AC$4:$AC$263,0) -> 48
A89: 513422200312180020 | B89: 2 | C89: 龚星美 | D89: 文科 | E89: 92 | F89: 格绒燚西 | G89: =RANK(E89,$E$4:$E$263,0) -> 76 | H89: =IF(OR(I89=0,E89=0),100,((K89-G89)/COUNTA($D$4:$D$263))*100+100) -> 100 | I89: 0 | J89: 格绒燚西 | K89: =RANK(I89,$I$4:$I$263,0) -> 241 | L89: =IF(OR(I89=0,M89=0),100,((O89-K89)/COUNTA($D$4:$D$263))*100+100) -> 100 | M89: 0 | N89: 格绒燚西 | O89: =RANK(M89,$M$4:$M$263,0) -> 236 | P89: =IF(OR(Q89=0,M89=0),100,((S89-O89)/COUNTA($D$4:$D$263))*100+100) -> 100 | Q89: =VLOOKUP(A89,[1]高二上!$A$3:$F$583,5,0) -> 93 | R89: =VLOOKUP(A89,[1]高二上!$A$3:$F$583,6,0) -> 易涛 | S89: =RANK(Q89,$Q$4:$Q$263,0) -> 22 | T89: =IF(OR(Q89=0,U89=0),100,((W89-S89)/COUNTA($D$4:$D$263))*100+100) -> 107.30769 | U89: =VLOOKUP(A89,[1]高一下!$A$3:$F$585,5,0) -> 84 | V89: =VLOOKUP(A89,[1]高一下!$A$3:$F$585,6,0) -> 易涛 | W89: =RANK(U89,$U$4:$U$263,0) -> 41 | X89: =IF(OR(Y89=0,U89=0),100,((AA89-W89)/COUNTA($D$4:$D$263))*100+100) -> 132.69231 | Y89: =VLOOKUP(A89,[1]高一上!$A$3:$F$587,5,0) -> 84 | Z89: =VLOOKUP(A89,[1]高一上!$A$3:$F$587,6,0) -> 易涛 | AA89: =RANK(Y89,$Y$4:$Y$263,0) -> 126 | AB89: =IF(OR(Y89=0,AC89=0),100,((AD89-AA89)/COUNTA($D$4:$D$263))*100+100) -> 83.846154 | AC89: =VLOOKUP(A89,[1]中考!$A$2:$E$571,5,0) -> 93 | AD89: =RANK(AC89,$AC$4:$AC$263,0) -> 84
A90: 513422200312260311 | B90: 2 | C90: 王正才 | D90: 文科 | E90: 101 | F90: 格绒燚西 | G90: =RANK(E90,$E$4:$E$263,0) -> 22 | H90: =IF(OR(I90=0,E90=0),100,((K90-G90)/COUNTA($D$4:$D$263))*100+100) -> 118.46154 | I90: =VLOOKUP(A90,[1]高三上!A$3:Q$588,5,0) -> 95 | J90: =VLOOKUP(A90,[1]高三上!A$3:Q$588,6,0) -> 格绒燚西 | K90: =RANK(I90,$I$4:$I$263,0) -> 70 | L90: =IF(OR(I90=0,M90=0),100,((O90-K90)/COUNTA($D$4:$D$263))*100+100) -> 75.384615 | M90: =VLOOKUP(A90,[1]高二下!$A$3:$F$536,5,0) -> 98 | N90: =VLOOKUP(A90,[1]高二下!$A$3:$F$536,6,0) -> 格绒燚西 | O90: =RANK(M90,$M$4:$M$263,0) -> 6 | P90: =IF(OR(Q90=0,M90=0),100,((S90-O90)/COUNTA($D$4:$D$263))*100+100) -> 113.46154 | Q90: =VLOOKUP(A90,[1]高二上!$A$3:$F$583,5,0) -> 90 | R90: =VLOOKUP(A90,[1]高二上!$A$3:$F$583,6,0) -> 格绒燚西 | S90: =RANK(Q90,$Q$4:$Q$263,0) -> 41 | T90: =IF(OR(Q90=0,U90=0),100,((W90-S90)/COUNTA($D$4:$D$263))*100+100) -> 152.30769 | U90: =VLOOKUP(A90,[1]高一下!$A$3:$F$585,5,0) -> 74 | V90: =VLOOKUP(A90,[1]高一下!$A$3:$F$585,6,0) -> 格绒燚西 | W90: =RANK(U90,$U$4:$U$263,0) -> 177 | X90: =IF(OR(Y90=0,U90=0),100,((AA90-W90)/COUNTA($D$4:$D$263))*100+100) -> 83.461538 | Y90: =VLOOKUP(A90,[1]高一上!$A$3:$F$587,5,0) -> 83 | Z90: =VLOOKUP(A90,[1]高一上!$A$3:$F$587,6,0) -> 格绒燚西 | AA90: =RANK(Y90,$Y$4:$Y$263,0) -> 134 | AB90: =IF(OR(Y90=0,AC90=0),100,((AD90-AA90)/COUNTA($D$4:$D$263))*100+100) -> 121.53846 | AC90: =VLOOKUP(A90,[1]中考!$A$2:$E$571,5,0) -> 80 | AD90: =RANK(AC90,$AC$4:$AC$263,0) -> 190
A91: 513422200401071117 | B91: 2 | C91: 沈史古 | D91: 文科 | E91: 80 | F91: 格绒燚西 | G91: =RANK(E91,$E$4:$E$263,0) -> 183 | H91: =IF(OR(I91=0,E91=0),100,((K91-G91)/COUNTA($D$4:$D$263))*100+100) -> 64.615385 | I91: =VLOOKUP(A91,[1]高三上!A$3:Q$588,5,0) -> 93.5 | J91: =VLOOKUP(A91,[1]高三上!A$3:Q$588,6,0) -> 格绒燚西 | K91: =RANK(I91,$I$4:$I$263,0) -> 91 | L91: =IF(OR(I91=0,M91=0),100,((O91-K91)/COUNTA($D$4:$D$263))*100+100) -> 105.76923 | M91: =VLOOKUP(A91,[1]高二下!$A$3:$F$536,5,0) -> 85 | N91: =VLOOKUP(A91,[1]高二下!$A$3:$F$536,6,0) -> 格绒燚西 | O91: =RANK(M91,$M$4:$M$263,0) -> 106 | P91: =IF(OR(Q91=0,M91=0),100,((S91-O91)/COUNTA($D$4:$D$263))*100+100) -> 141.53846 | Q91: =VLOOKUP(A91,[1]高二上!$A$3:$F$583,5,0) -> 74 | R91: =VLOOKUP(A91,[1]高二上!$A$3:$F$583,6,0) -> 格绒燚西 | S91: =RANK(Q91,$Q$4:$Q$263,0) -> 214 | T91: =IF(OR(Q91=0,U91=0),100,((W91-S91)/COUNTA($D$4:$D$263))*100+100) -> 80.769231 | U91: =VLOOKUP(A91,[1]高一下!$A$3:$F$585,5,0) -> 75 | V91: =VLOOKUP(A91,[1]高一下!$A$3:$F$585,6,0) -> 格绒燚西 | W91: =RANK(U91,$U$4:$U$263,0) -> 164 | X91: =IF(OR(Y91=0,U91=0),100,((AA91-W91)/COUNTA($D$4:$D$263))*100+100) -> 115.38462 | Y91: =VLOOKUP(A91,[1]高一上!$A$3:$F$587,5,0) -> 76 | Z91: =VLOOKUP(A91,[1]高一上!$A$3:$F$587,6,0) -> 格绒燚西 | AA91: =RANK(Y91,$Y$4:$Y$263,0) -> 204 | AB91: =IF(OR(Y91=0,AC91=0),100,((AD91-AA91)/COUNTA($D$4:$D$263))*100+100) -> 118.46154 | AC91: =VLOOKUP(A91,[1]中考!$A$2:$E$571,5,0) -> 61 | AD91: =RANK(AC91,$AC$4:$AC$263,0) -> 252
A92: 513422200402236227 | B92: 2 | C92: 杨万清 | D92: 文科 | E92: 75 | F92: 格绒燚西 | G92: =RANK(E92,$E$4:$E$263,0) -> 215 | H92: =IF(OR(I92=0,E92=0),100,((K92-G92)/COUNTA($D$4:$D$263))*100+100) -> 100 | I92: 0 | J92: 格绒燚西 | K92: =RANK(I92,$I$4:$I$263,0) -> 241 | L92: =IF(OR(I92=0,M92=0),100,((O92-K92)/COUNTA($D$4:$D$263))*100+100) -> 100 | M92: =VLOOKUP(A92,[1]高二下!$A$3:$F$536,5,0) -> 96 | N92: =VLOOKUP(A92,[1]高二下!$A$3:$F$536,6,0) -> 格绒燚西 | O92: =RANK(M92,$M$4:$M$263,0) -> 10 | P92: =IF(OR(Q92=0,M92=0),100,((S92-O92)/COUNTA($D$4:$D$263))*100+100) -> 100.38462 | Q92: =VLOOKUP(A92,[1]高二上!$A$3:$F$583,5,0) -> 95 | R92: =VLOOKUP(A92,[1]高二上!$A$3:$F$583,6,0) -> 格绒燚西 | S92: =RANK(Q92,$Q$4:$Q$263,0) -> 11 | T92: =IF(OR(Q92=0,U92=0),100,((W92-S92)/COUNTA($D$4:$D$263))*100+100) -> 105.38462 | U92: =VLOOKUP(A92,[1]高一下!$A$3:$F$585,5,0) -> 85 | V92: =VLOOKUP(A92,[1]高一下!$A$3:$F$585,6,0) -> 格绒燚西 | W92: =RANK(U92,$U$4:$U$263,0) -> 25 | X92: =IF(OR(Y92=0,U92=0),100,((AA92-W92)/COUNTA($D$4:$D$263))*100+100) -> 130.76923 | Y92: =VLOOKUP(A92,[1]高一上!$A$3:$F$587,5,0) -> 86 | Z92: =VLOOKUP(A92,[1]高一上!$A$3:$F$587,6,0) -> 格绒燚西 | AA92: =RANK(Y92,$Y$4:$Y$263,0) -> 105 | AB92: =IF(OR(Y92=0,AC92=0),100,((AD92-AA92)/COUNTA($D$4:$D$263))*100+100) -> 69.615385 | AC92: =VLOOKUP(A92,[1]中考!$A$2:$E$571,5,0) -> 100 | AD92: =RANK(AC92,$AC$4:$AC$263,0) -> 26
A93: 513422200403081319 | B93: 2 | C93: 王龙 | D93: 文科 | E93: 103 | F93: 格绒燚西 | G93: =RANK(E93,$E$4:$E$263,0) -> 14 | H93: =IF(OR(I93=0,E93=0),100,((K93-G93)/COUNTA($D$4:$D$263))*100+100) -> 172.69231 | I93: =VLOOKUP(A93,[1]高三上!A$3:Q$588,5,0) -> 82 | J93: =VLOOKUP(A93,[1]高三上!A$3:Q$588,6,0) -> 格绒燚西 | K93: =RANK(I93,$I$4:$I$263,0) -> 203 | L93: =IF(OR(I93=0,M93=0),100,((O93-K93)/COUNTA($D$4:$D$263))*100+100) -> 62.692308 | M93: =VLOOKUP(A93,[1]高二下!$A$3:$F$536,5,0) -> 85 | N93: =VLOOKUP(A93,[1]高二下!$A$3:$F$536,6,0) -> 格绒燚西 | O93: =RANK(M93,$M$4:$M$263,0) -> 106 | P93: =IF(OR(Q93=0,M93=0),100,((S93-O93)/COUNTA($D$4:$D$263))*100+100) -> 91.153846 | Q93: =VLOOKUP(A93,[1]高二上!$A$3:$F$583,5,0) -> 86 | R93: =VLOOKUP(A93,[1]高二上!$A$3:$F$583,6,0) -> 格绒燚西 | S93: =RANK(Q93,$Q$4:$Q$263,0) -> 83 | T93: =IF(OR(Q93=0,U93=0),100,((W93-S93)/COUNTA($D$4:$D$263))*100+100) -> 153.07692 | U93: =VLOOKUP(A93,[1]高一下!$A$3:$F$585,5,0) -> 70 | V93: =VLOOKUP(A93,[1]高一下!$A$3:$F$585,6,0) -> 格绒燚西 | W93: =RANK(U93,$U$4:$U$263,0) -> 221 | X93: =IF(OR(Y93=0,U93=0),100,((AA93-W93)/COUNTA($D$4:$D$263))*100+100) -> 52.307692 | Y93: =VLOOKUP(A93,[1]高一上!$A$3:$F$587,5,0) -> 87 | Z93: =VLOOKUP(A93,[1]高一上!$A$3:$F$587,6,0) -> 格绒燚西 | AA93: =RANK(Y93,$Y$4:$Y$263,0) -> 97 | AB93: =IF(OR(Y93=0,AC93=0),100,((AD93-AA93)/COUNTA($D$4:$D$263))*100+100) -> 118.07692 | AC93: =VLOOKUP(A93,[1]中考!$A$2:$E$571,5,0) -> 87 | AD93: =RANK(AC93,$AC$4:$AC$263,0) -> 144
A94: 513422200403202926 | B94: 2 | C94: 唐春兰 | D94: 文科 | E94: 104 | F94: 格绒燚西 | G94: =RANK(E94,$E$4:$E$263,0) -> 13 | H94: =IF(OR(I94=0,E94=0),100,((K94-G94)/COUNTA($D$4:$D$263))*100+100) -> 100 | I94: 0 | J94: 格绒燚西 | K94: =RANK(I94,$I$4:$I$263,0) -> 241 | L94: =IF(OR(I94=0,M94=0),100,((O94-K94)/COUNTA($D$4:$D$263))*100+100) -> 100 | M94: =VLOOKUP(A94,[1]高二下!$A$3:$F$536,5,0) -> 89 | N94: =VLOOKUP(A94,[1]高二下!$A$3:$F$536,6,0) -> 格绒燚西 | O94: =RANK(M94,$M$4:$M$263,0) -> 52 | P94: =IF(OR(Q94=0,M94=0),100,((S94-O94)/COUNTA($D$4:$D$263))*100+100) -> 138.46154 | Q94: =VLOOKUP(A94,[1]高二上!$A$3:$F$583,5,0) -> 80 | R94: =VLOOKUP(A94,[1]高二上!$A$3:$F$583,6,0) -> 格绒燚西 | S94: =RANK(Q94,$Q$4:$Q$263,0) -> 152 | T94: =IF(OR(Q94=0,U94=0),100,((W94-S94)/COUNTA($D$4:$D$263))*100+100) -> 78.461538 | U94: =VLOOKUP(A94,[1]高一下!$A$3:$F$585,5,0) -> 80 | V94: =VLOOKUP(A94,[1]高一下!$A$3:$F$585,6,0) -> 格绒燚西 | W94: =RANK(U94,$U$4:$U$263,0) -> 96 | X94: =IF(OR(Y94=0,U94=0),100,((AA94-W94)/COUNTA($D$4:$D$263))*100+100) -> 111.53846 | Y94: =VLOOKUP(A94,[1]高一上!$A$3:$F$587,5,0) -> 84 | Z94: =VLOOKUP(A94,[1]高一上!$A$3:$F$587,6,0) -> 格绒燚西 | AA94: =RANK(Y94,$Y$4:$Y$263,0) -> 126 | AB94: =IF(OR(Y94=0,AC94=0),100,((AD94-AA94)/COUNTA($D$4:$D$263))*100+100) -> 124.61538 | AC94: =VLOOKUP(A94,[1]中考!$A$2:$E$571,5,0) -> 80 | AD94: =RANK(AC94,$AC$4:$AC$263,0) -> 190
A95: 513422200405156441 | B95: 2 | C95: 次仁拥宗 | D95: 文科 | E95: 80 | F95: 格绒燚西 | G95: =RANK(E95,$E$4:$E$263,0) -> 183 | H95: =IF(OR(I95=0,E95=0),100,((K95-G95)/COUNTA($D$4:$D$263))*100+100) -> 100 | I95: 0 | J95: 格绒燚西 | K95: =RANK(I95,$I$4:$I$263,0) -> 241 | L95: =IF(OR(I95=0,M95=0),100,((O95-K95)/COUNTA($D$4:$D$263))*100+100) -> 100 | M95: 0 | N95: 格绒燚西 | O95: =RANK(M95,$M$4:$M$263,0) -> 236 | P95: =IF(OR(Q95=0,M95=0),100,((S95-O95)/COUNTA($D$4:$D$263))*100+100) -> 100 | Q95: =VLOOKUP(A95,[1]高二上!$A$3:$F$583,5,0) -> 81 | R95: =VLOOKUP(A95,[1]高二上!$A$3:$F$583,6,0) -> 格绒燚西 | S95: =RANK(Q95,$Q$4:$Q$263,0) -> 144 | T95: =IF(OR(Q95=0,U95=0),100,((W95-S95)/COUNTA($D$4:$D$263))*100+100) -> 103.84615 | U95: =VLOOKUP(A95,[1]高一下!$A$3:$F$585,5,0) -> 76 | V95: =VLOOKUP(A95,[1]高一下!$A$3:$F$585,6,0) -> 格绒燚西 | W95: =RANK(U95,$U$4:$U$263,0) -> 154 | X95: =IF(OR(Y95=0,U95=0),100,((AA95-W95)/COUNTA($D$4:$D$263))*100+100) -> 123.46154 | Y95: =VLOOKUP(A95,[1]高一上!$A$3:$F$587,5,0) -> 75 | Z95: =VLOOKUP(A95,[1]高一上!$A$3:$F$587,6,0) -> 肖锐 | AA95: =RANK(Y95,$Y$4:$Y$263,0) -> 215 | AB95: =IF(OR(Y95=0,AC95=0),100,((AD95-AA95)/COUNTA($D$4:$D$263))*100+100) -> 42.692308 | AC95: =VLOOKUP(A95,[1]中考!$A$2:$E$571,5,0) -> 95 | AD95: =RANK(AC95,$AC$4:$AC$263,0) -> 66
A96: 513422200406101514 | B96: 2 | C96: 吕拉龙 | D96: 文科 | E96: 110 | F96: 格绒燚西 | G96: =RANK(E96,$E$4:$E$263,0) -> 3 | H96: =IF(OR(I96=0,E96=0),100,((K96-G96)/COUNTA($D$4:$D$263))*100+100) -> 115.38462 | I96: =VLOOKUP(A96,[1]高三上!A$3:Q$588,5,0) -> 98 | J96: =VLOOKUP(A96,[1]高三上!A$3:Q$588,6,0) -> 格绒燚西 | K96: =RANK(I96,$I$4:$I$263,0) -> 43 | L96: =IF(OR(I96=0,M96=0),100,((O96-K96)/COUNTA($D$4:$D$263))*100+100) -> 110 | M96: =VLOOKUP(A96,[1]高二下!$A$3:$F$536,5,0) -> 88 | N96: =VLOOKUP(A96,[1]高二下!$A$3:$F$536,6,0) -> 格绒燚西 | O96: =RANK(M96,$M$4:$M$263,0) -> 69 | P96: =IF(OR(Q96=0,M96=0),100,((S96-O96)/COUNTA($D$4:$D$263))*100+100) -> 116.53846 | Q96: =VLOOKUP(A96,[1]高二上!$A$3:$F$583,5,0) -> 84 | R96: =VLOOKUP(A96,[1]高二上!$A$3:$F$583,6,0) -> 格绒燚西 | S96: =RANK(Q96,$Q$4:$Q$263,0) -> 112 | T96: =IF(OR(Q96=0,U96=0),100,((W96-S96)/COUNTA($D$4:$D$263))*100+100) -> 72.692308 | U96: =VLOOKUP(A96,[1]高一下!$A$3:$F$585,5,0) -> 84 | V96: =VLOOKUP(A96,[1]高一下!$A$3:$F$585,6,0) -> 格绒燚西 | W96: =RANK(U96,$U$4:$U$263,0) -> 41 | X96: =IF(OR(Y96=0,U96=0),100,((AA96-W96)/COUNTA($D$4:$D$263))*100+100) -> 132.69231 | Y96: =VLOOKUP(A96,[1]高一上!$A$3:$F$587,5,0) -> 84 | Z96: =VLOOKUP(A96,[1]高一上!$A$3:$F$587,6,0) -> 格绒燚西 | AA96: =RANK(Y96,$Y$4:$Y$263,0) -> 126 | AB96: =IF(OR(Y96=0,AC96=0),100,((AD96-AA96)/COUNTA($D$4:$D$263))*100+100) -> 85.769231 | AC96: =VLOOKUP(A96,[1]中考!$A$2:$E$571,5,0) -> 92 | AD96: =RANK(AC96,$AC$4:$AC$263,0) -> 89
A97: 513422200406230025 | B97: 2 | C97: 央千 | D97: 文科 | E97: 82 | F97: 格绒燚西 | G97: =RANK(E97,$E$4:$E$263,0) -> 165 | H97: =IF(OR(I97=0,E97=0),100,((K97-G97)/COUNTA($D$4:$D$263))*100+100) -> 100 | I97: 0 | J97: 格绒燚西 | K97: =RANK(I97,$I$4:$I$263,0) -> 241 | L97: =IF(OR(I97=0,M97=0),100,((O97-K97)/COUNTA($D$4:$D$263))*100+100) -> 100 | M97: 0 | N97: 格绒燚西 | O97: =RANK(M97,$M$4:$M$263,0) -> 236 | P97: =IF(OR(Q97=0,M97=0),100,((S97-O97)/COUNTA($D$4:$D$263))*100+100) -> 100 | Q97: =VLOOKUP(A97,[1]高二上!$A$3:$F$583,5,0) -> 94 | R97: =VLOOKUP(A97,[1]高二上!$A$3:$F$583,6,0) -> 格绒燚西 | S97: =RANK(Q97,$Q$4:$Q$263,0) -> 16 | T97: =IF(OR(Q97=0,U97=0),100,((W97-S97)/COUNTA($D$4:$D$263))*100+100) -> 103.46154 | U97: =VLOOKUP(A97,[1]高一下!$A$3:$F$585,5,0) -> 85 | V97: =VLOOKUP(A97,[1]高一下!$A$3:$F$585,6,0) -> 格绒燚西 | W97: =RANK(U97,$U$4:$U$263,0) -> 25 | X97: =IF(OR(Y97=0,U97=0),100,((AA97-W97)/COUNTA($D$4:$D$263))*100+100) -> 176.15385 | Y97: =VLOOKUP(A97,[1]高一上!$A$3:$F$587,5,0) -> 74 | Z97: =VLOOKUP(A97,[1]高一上!$A$3:$F$587,6,0) -> 格绒燚西 | AA97: =RANK(Y97,$Y$4:$Y$263,0) -> 223 | AB97: =IF(OR(Y97=0,AC97=0),100,((AD97-AA97)/COUNTA($D$4:$D$263))*100+100) -> 36.153846 | AC97: =VLOOKUP(A97,[1]中考!$A$2:$E$571,5,0) -> 96 | AD97: =RANK(AC97,$AC$4:$AC$263,0) -> 57
A98: 513422200407180023 | B98: 2 | C98: 鲁妍 | D98: 文科 | E98: 98 | F98: 格绒燚西 | G98: =RANK(E98,$E$4:$E$263,0) -> 39 | H98: =IF(OR(I98=0,E98=0),100,((K98-G98)/COUNTA($D$4:$D$263))*100+100) -> 144.61538 | I98: =VLOOKUP(A98,[1]高三上!A$3:Q$588,5,0) -> 88 | J98: =VLOOKUP(A98,[1]高三上!A$3:Q$588,6,0) -> 格绒燚西 | K98: =RANK(I98,$I$4:$I$263,0) -> 155 | L98: =IF(OR(I98=0,M98=0),100,((O98-K98)/COUNTA($D$4:$D$263))*100+100) -> 121.15385 | M98: =VLOOKUP(A98,[1]高二下!$A$3:$F$536,5,0) -> 76 | N98: =VLOOKUP(A98,[1]高二下!$A$3:$F$536,6,0) -> 格绒燚西 | O98: =RANK(M98,$M$4:$M$263,0) -> 210 | P98: =IF(OR(Q98=0,M98=0),100,((S98-O98)/COUNTA($D$4:$D$263))*100+100) -> 58.076923 | Q98: =VLOOKUP(A98,[1]高二上!$A$3:$F$583,5,0) -> 85 | R98: =VLOOKUP(A98,[1]高二上!$A$3:$F$583,6,0) -> 格绒燚西 | S98: =RANK(Q98,$Q$4:$Q$263,0) -> 101 | T98: =IF(OR(Q98=0,U98=0),100,((W98-S98)/COUNTA($D$4:$D$263))*100+100) -> 124.23077 | U98: =VLOOKUP(A98,[1]高一下!$A$3:$F$585,5,0) -> 75 | V98: =VLOOKUP(A98,[1]高一下!$A$3:$F$585,6,0) -> 格绒燚西 | W98: =RANK(U98,$U$4:$U$263,0) -> 164 | X98: =IF(OR(Y98=0,U98=0),100,((AA98-W98)/COUNTA($D$4:$D$263))*100+100) -> 46.923077 | Y98: =VLOOKUP(A98,[1]高一上!$A$3:$F$587,5,0) -> 95 | Z98: =VLOOKUP(A98,[1]高一上!$A$3:$F$587,6,0) -> 格绒燚西 | AA98: =RANK(Y98,$Y$4:$Y$263,0) -> 26 | AB98: =IF(OR(Y98=0,AC98=0),100,((AD98-AA98)/COUNTA($D$4:$D$263))*100+100) -> 130.76923 | AC98: =VLOOKUP(A98,[1]中考!$A$2:$E$571,5,0) -> 91 | AD98: =RANK(AC98,$AC$4:$AC$263,0) -> 106
A99: 513422200408212314 | B99: 2 | C99: 蔡跃 | D99: 文科 | E99: 51 | F99: 格绒燚西 | G99: =RANK(E99,$E$4:$E$263,0) -> 260 | H99: =IF(OR(I99=0,E99=0),100,((K99-G99)/COUNTA($D$4:$D$263))*100+100) -> 100 | I99: 0 | J99: 格绒燚西 | K99: =RANK(I99,$I$4:$I$263,0) -> 241 | L99: =IF(OR(I99=0,M99=0),100,((O99-K99)/COUNTA($D$4:$D$263))*100+100) -> 100 | M99: =VLOOKUP(A99,[1]高二下!$A$3:$F$536,5,0) -> 74 | N99: =VLOOKUP(A99,[1]高二下!$A$3:$F$536,6,0) -> 格绒燚西 | O99: =RANK(M99,$M$4:$M$263,0) -> 221 | P99: =IF(OR(Q99=0,M99=0),100,((S99-O99)/COUNTA($D$4:$D$263))*100+100) -> 110 | Q99: =VLOOKUP(A99,[1]高二上!$A$3:$F$583,5,0) -> 64 | R99: =VLOOKUP(A99,[1]高二上!$A$3:$F$583,6,0) -> 格绒燚西 | S99: =RANK(Q99,$Q$4:$Q$263,0) -> 247 | T99: =IF(OR(Q99=0,U99=0),100,((W99-S99)/COUNTA($D$4:$D$263))*100+100) -> 77.307692 | U99: =VLOOKUP(A99,[1]高一下!$A$3:$F$585,5,0) -> 73 | V99: =VLOOKUP(A99,[1]高一下!$A$3:$F$585,6,0) -> 格绒燚西 | W99: =RANK(U99,$U$4:$U$263,0) -> 188 | X99: =IF(OR(Y99=0,U99=0),100,((AA99-W99)/COUNTA($D$4:$D$263))*100+100) -> 123.46154 | Y99: =VLOOKUP(A99,[1]高一上!$A$3:$F$587,5,0) -> 65 | Z99: =VLOOKUP(A99,[1]高一上!$A$3:$F$587,6,0) -> 格绒燚西 | AA99: =RANK(Y99,$Y$4:$Y$263,0) -> 249 | AB99: =IF(OR(Y99=0,AC99=0),100,((AD99-AA99)/COUNTA($D$4:$D$263))*100+100) -> 91.538462 | AC99: =VLOOKUP(A99,[1]中考!$A$2:$E$571,5,0) -> 73 | AD99: =RANK(AC99,$AC$4:$AC$263,0) -> 227
A100: 513422200501064811 | B100: 2 | C100: 改绒次尔 | D100: 文科 | E100: 83 | F100: 格绒燚西 | G100: =RANK(E100,$E$4:$E$263,0) -> 156 | H100: =IF(OR(I100=0,E100=0),100,((K100-G100)/COUNTA($D$4:$D$263))*100+100) -> 118.07692 | I100: =VLOOKUP(A100,[1]高三上!A$3:Q$588,5,0) -> 82 | J100: =VLOOKUP(A100,[1]高三上!A$3:Q$588,6,0) -> 格绒燚西 | K100: =RANK(I100,$I$4:$I$263,0) -> 203 | L100: =IF(OR(I100=0,M100=0),100,((O100-K100)/COUNTA($D$4:$D$263))*100+100) -> 93.461538 | M100: =VLOOKUP(A100,[1]高二下!$A$3:$F$536,5,0) -> 79 | N100: =VLOOKUP(A100,[1]高二下!$A$3:$F$536,6,0) -> 格绒燚西 | O100: =RANK(M100,$M$4:$M$263,0) -> 186 | P100: =IF(OR(Q100=0,M100=0),100,((S100-O100)/COUNTA($D$4:$D$263))*100+100) -> 127.30769 | Q100: =VLOOKUP(A100,[1]高二上!$A$3:$F$583,5,0) -> 58 | R100: =VLOOKUP(A100,[1]高二上!$A$3:$F$583,6,0) -> 格绒燚西 | S100: =RANK(Q100,$Q$4:$Q$263,0) -> 257 | T100: =IF(OR(Q100=0,U100=0),100,((W100-S100)/COUNTA($D$4:$D$263))*100+100) -> 80.769231 | U100: =VLOOKUP(A100,[1]高一下!$A$3:$F$585,5,0) -> 71 | V100: =VLOOKUP(A100,[1]高一下!$A$3:$F$585,6,0) -> 格绒燚西 | W100: =RANK(U100,$U$4:$U$263,0) -> 207 | X100: =IF(OR(Y100=0,U100=0),100,((AA100-W100)/COUNTA($D$4:$D$263))*100+100) -> 114.61538 | Y100: =VLOOKUP(A100,[1]高一上!$A$3:$F$587,5,0) -> 69 | Z100: =VLOOKUP(A100,[1]高一上!$A$3:$F$587,6,0) -> 格绒燚西 | AA100: =RANK(Y100,$Y$4:$Y$263,0) -> 245 | AB100: =IF(OR(Y100=0,AC100=0),100,((AD100-AA100)/COUNTA($D$4:$D$263))*100+100) -> 102.30769 | AC100: =VLOOKUP(A100,[1]中考!$A$2:$E$571,5,0) -> 62 | AD100: =RANK(AC100,$AC$4:$AC$263,0) -> 251
A101: 513423200208309206 | B101: 2 | C101: 沈建英 | D101: 文科 | E101: 78 | F101: 格绒燚西 | G101: =RANK(E101,$E$4:$E$263,0) -> 198 | H101: =IF(OR(I101=0,E101=0),100,((K101-G101)/COUNTA($D$4:$D$263))*100+100) -> 69.615385 | I101: =VLOOKUP(A101,[1]高三上!A$3:Q$588,5,0) -> 91 | J101: =VLOOKUP(A101,[1]高三上!A$3:Q$588,6,0) -> 格绒燚西 | K101: =RANK(I101,$I$4:$I$263,0) -> 119 | L101: =IF(OR(I101=0,M101=0),100,((O101-K101)/COUNTA($D$4:$D$263))*100+100) -> 114.61538 | M101: =VLOOKUP(A101,[1]高二下!$A$3:$F$536,5,0) -> 82 | N101: =VLOOKUP(A101,[1]高二下!$A$3:$F$536,6,0) -> 格绒燚西 | O101: =RANK(M101,$M$4:$M$263,0) -> 157 | P101: =IF(OR(Q101=0,M101=0),100,((S101-O101)/COUNTA($D$4:$D$263))*100+100) -> 71.538462 | Q101: =VLOOKUP(A101,[1]高二上!$A$3:$F$583,5,0) -> 86 | R101: =VLOOKUP(A101,[1]高二上!$A$3:$F$583,6,0) -> 格绒燚西 | S101: =RANK(Q101,$Q$4:$Q$263,0) -> 83 | T101: =IF(OR(Q101=0,U101=0),100,((W101-S101)/COUNTA($D$4:$D$263))*100+100) -> 157.30769 | U101: =VLOOKUP(A101,[1]高一下!$A$3:$F$585,5,0) -> 68 | V101: =VLOOKUP(A101,[1]高一下!$A$3:$F$585,6,0) -> 格绒燚西 | W101: =RANK(U101,$U$4:$U$263,0) -> 232 | X101: =IF(OR(Y101=0,U101=0),100,((AA101-W101)/COUNTA($D$4:$D$263))*100+100) -> 31.538462 | Y101: =VLOOKUP(A101,[1]高一上!$A$3:$F$587,5,0) -> 91 | Z101: =VLOOKUP(A101,[1]高一上!$A$3:$F$587,6,0) -> 肖锐 | AA101: =RANK(Y101,$Y$4:$Y$263,0) -> 54 | AB101: =IF(OR(Y101=0,AC101=0),100,((AD101-AA101)/COUNTA($D$4:$D$263))*100+100) -> 89.230769 | AC101: =VLOOKUP(A101,[1]中考!$A$2:$E$571,5,0) -> 100 | AD101: =RANK(AC101,$AC$4:$AC$263,0) -> 26
A102: 51342220021027662X | B102: 2 | C102: 周健秀 | D102: 文科 | E102: 91 | F102: 格绒燚西 | G102: =RANK(E102,$E$4:$E$263,0) -> 86 | H102: =IF(OR(I102=0,E102=0),100,((K102-G102)/COUNTA($D$4:$D$263))*100+100) -> 86.153846 | I102: =VLOOKUP(A102,[1]高三上!A$3:Q$588,5,0) -> 97.5 | J102: =VLOOKUP(A102,[1]高三上!A$3:Q$588,6,0) -> 格绒燚西 | K102: =RANK(I102,$I$4:$I$263,0) -> 50 | L102: =IF(OR(I102=0,M102=0),100,((O102-K102)/COUNTA($D$4:$D$263))*100+100) -> 158.46154 | M102: =VLOOKUP(A102,[1]高二下!$A$3:$F$536,5,0) -> 77 | N102: =VLOOKUP(A102,[1]高二下!$A$3:$F$536,6,0) -> 格绒燚西 | O102: =RANK(M102,$M$4:$M$263,0) -> 202 | P102: =IF(OR(Q102=0,M102=0),100,((S102-O102)/COUNTA($D$4:$D$263))*100+100) -> 109.23077 | Q102: =VLOOKUP(A102,[1]高二上!$A$3:$F$583,5,0) -> 72 | R102: =VLOOKUP(A102,[1]高二上!$A$3:$F$583,6,0) -> 格绒燚西 | S102: =RANK(Q102,$Q$4:$Q$263,0) -> 226 | T102: =IF(OR(Q102=0,U102=0),100,((W102-S102)/COUNTA($D$4:$D$263))*100+100) -> 72.307692 | U102: =VLOOKUP(A102,[1]高一下!$A$3:$F$585,5,0) -> 76 | V102: =VLOOKUP(A102,[1]高一下!$A$3:$F$585,6,0) -> 格绒燚西 | W102: =RANK(U102,$U$4:$U$263,0) -> 154 | X102: =IF(OR(Y102=0,U102=0),100,((AA102-W102)/COUNTA($D$4:$D$263))*100+100) -> 123.46154 | Y102: =VLOOKUP(A102,[1]高一上!$A$3:$F$587,5,0) -> 75 | Z102: =VLOOKUP(A102,[1]高一上!$A$3:$F$587,6,0) -> 格绒燚西 | AA102: =RANK(Y102,$Y$4:$Y$263,0) -> 215 | AB102: =IF(OR(Y102=0,AC102=0),100,((AD102-AA102)/COUNTA($D$4:$D$263))*100+100) -> 81.153846 | AC102: =VLOOKUP(A102,[1]中考!$A$2:$E$571,5,0) -> 83 | AD102: =RANK(AC102,$AC$4:$AC$263,0) -> 166
A103: 51342220030505291X | B103: 2 | C103: 韩友真 | D103: 文科 | E103: 71 | F103: 格绒燚西 | G103: =RANK(E103,$E$4:$E$263,0) -> 244 | H103: =IF(OR(I103=0,E103=0),100,((K103-G103)/COUNTA($D$4:$D$263))*100+100) -> 91.923077 | I103: =VLOOKUP(A103,[1]高三上!A$3:Q$588,5,0) -> 79 | J103: =VLOOKUP(A103,[1]高三上!A$3:Q$588,6,0) -> 格绒燚西 | K103: =RANK(I103,$I$4:$I$263,0) -> 223 | L103: =IF(OR(I103=0,M103=0),100,((O103-K103)/COUNTA($D$4:$D$263))*100+100) -> 61.153846 | M103: =VLOOKUP(A103,[1]高二下!$A$3:$F$536,5,0) -> 84 | N103: =VLOOKUP(A103,[1]高二下!$A$3:$F$536,6,0) -> 格绒燚西 | O103: =RANK(M103,$M$4:$M$263,0) -> 122 | P103: =IF(OR(Q103=0,M103=0),100,((S103-O103)/COUNTA($D$4:$D$263))*100+100) -> 145.38462 | Q103: =VLOOKUP(A103,[1]高二上!$A$3:$F$583,5,0) -> 66 | R103: =VLOOKUP(A103,[1]高二上!$A$3:$F$583,6,0) -> 格绒燚西 | S103: =RANK(Q103,$Q$4:$Q$263,0) -> 240 | T103: =IF(OR(Q103=0,U103=0),100,((W103-S103)/COUNTA($D$4:$D$263))*100+100) -> 51.153846 | U103: =VLOOKUP(A103,[1]高一下!$A$3:$F$585,5,0) -> 79 | V103: =VLOOKUP(A103,[1]高一下!$A$3:$F$585,6,0) -> 格绒燚西 | W103: =RANK(U103,$U$4:$U$263,0) -> 113 | X103: =IF(OR(Y103=0,U103=0),100,((AA103-W103)/COUNTA($D$4:$D$263))*100+100) -> 135 | Y103: =VLOOKUP(A103,[1]高一上!$A$3:$F$587,5,0) -> 76 | Z103: =VLOOKUP(A103,[1]高一上!$A$3:$F$587,6,0) -> 格绒燚西 | AA103: =RANK(Y103,$Y$4:$Y$263,0) -> 204 | AB103: =IF(OR(Y103=0,AC103=0),100,((AD103-AA103)/COUNTA($D$4:$D$263))*100+100) -> 114.61538 | AC103: =VLOOKUP(A103,[1]中考!$A$2:$E$571,5,0) -> 67 | AD103: =RANK(AC103,$AC$4:$AC$263,0) -> 242
A104: 51342220030703212X | B104: 2 | C104: 次里祝玛 | D104: 文科 | E104: 106 | F104: 格绒燚西 | G104: =RANK(E104,$E$4:$E$263,0) -> 10 | H104: =IF(OR(I104=0,E104=0),100,((K104-G104)/COUNTA($D$4:$D$263))*100+100) -> 98.846154 | I104: =VLOOKUP(A104,[1]高三上!A$3:Q$588,5,0) -> 103.5 | J104: =VLOOKUP(A104,[1]高三上!A$3:Q$588,6,0) -> 格绒燚西 | K104: =RANK(I104,$I$4:$I$263,0) -> 7 | L104: =IF(OR(I104=0,M104=0),100,((O104-K104)/COUNTA($D$4:$D$263))*100+100) -> 129.23077 | M104: =VLOOKUP(A104,[1]高二下!$A$3:$F$536,5,0) -> 87 | N104: =VLOOKUP(A104,[1]高二下!$A$3:$F$536,6,0) -> 格绒燚西 | O104: =RANK(M104,$M$4:$M$263,0) -> 83 | P104: =IF(OR(Q104=0,M104=0),100,((S104-O104)/COUNTA($D$4:$D$263))*100+100) -> 90.769231 | Q104: =VLOOKUP(A104,[1]高二上!$A$3:$F$583,5,0) -> 88 | R104: =VLOOKUP(A104,[1]高二上!$A$3:$F$583,6,0) -> 格绒燚西 | S104: =RANK(Q104,$Q$4:$Q$263,0) -> 59 | T104: =IF(OR(Q104=0,U104=0),100,((W104-S104)/COUNTA($D$4:$D$263))*100+100) -> 136.53846 | U104: =VLOOKUP(A104,[1]高一下!$A$3:$F$585,5,0) -> 76 | V104: =VLOOKUP(A104,[1]高一下!$A$3:$F$585,6,0) -> 格绒燚西 | W104: =RANK(U104,$U$4:$U$263,0) -> 154 | X104: =IF(OR(Y104=0,U104=0),100,((AA104-W104)/COUNTA($D$4:$D$263))*100+100) -> 65.769231 | Y104: =VLOOKUP(A104,[1]高一上!$A$3:$F$587,5,0) -> 90 | Z104: =VLOOKUP(A104,[1]高一上!$A$3:$F$587,6,0) -> 格绒燚西 | AA104: =RANK(Y104,$Y$4:$Y$263,0) -> 65 | AB104: =IF(OR(Y104=0,AC104=0),100,((AD104-AA104)/COUNTA($D$4:$D$263))*100+100) -> 109.23077 | AC104: =VLOOKUP(A104,[1]中考!$A$2:$E$571,5,0) -> 92 | AD104: =RANK(AC104,$AC$4:$AC$263,0) -> 89
A105: 51342220040413542X | B105: 2 | C105: 刘玉珍 | D105: 文科 | E105: 91 | F105: 格绒燚西 | G105: =RANK(E105,$E$4:$E$263,0) -> 86 | H105: =IF(OR(I105=0,E105=0),100,((K105-G105)/COUNTA($D$4:$D$263))*100+100) -> 112.69231 | I105: =VLOOKUP(A105,[1]高三上!A$3:Q$588,5,0) -> 91 | J105: =VLOOKUP(A105,[1]高三上!A$3:Q$588,6,0) -> 格绒燚西 | K105: =RANK(I105,$I$4:$I$263,0) -> 119 | L105: =IF(OR(I105=0,M105=0),100,((O105-K105)/COUNTA($D$4:$D$263))*100+100) -> 107.69231 | M105: =VLOOKUP(A105,[1]高二下!$A$3:$F$536,5,0) -> 83 | N105: =VLOOKUP(A105,[1]高二下!$A$3:$F$536,6,0) -> 格绒燚西 | O105: =RANK(M105,$M$4:$M$263,0) -> 139 | P105: =IF(OR(Q105=0,M105=0),100,((S105-O105)/COUNTA($D$4:$D$263))*100+100) -> 93.846154 | Q105: =VLOOKUP(A105,[1]高二上!$A$3:$F$583,5,0) -> 83 | R105: =VLOOKUP(A105,[1]高二上!$A$3:$F$583,6,0) -> 格绒燚西 | S105: =RANK(Q105,$Q$4:$Q$263,0) -> 123 | T105: =IF(OR(Q105=0,U105=0),100,((W105-S105)/COUNTA($D$4:$D$263))*100+100) -> 62.307692 | U105: =VLOOKUP(A105,[1]高一下!$A$3:$F$585,5,0) -> 85 | V105: =VLOOKUP(A105,[1]高一下!$A$3:$F$585,6,0) -> 格绒燚西 | W105: =RANK(U105,$U$4:$U$263,0) -> 25 | X105: =IF(OR(Y105=0,U105=0),100,((AA105-W105)/COUNTA($D$4:$D$263))*100+100) -> 145.38462 | Y105: =VLOOKUP(A105,[1]高一上!$A$3:$F$587,5,0) -> 82 | Z105: =VLOOKUP(A105,[1]高一上!$A$3:$F$587,6,0) -> 格绒燚西 | AA105: =RANK(Y105,$Y$4:$Y$263,0) -> 143 | AB105: =IF(OR(Y105=0,AC105=0),100,((AD105-AA105)/COUNTA($D$4:$D$263))*100+100) -> 121.53846 | AC105: =VLOOKUP(A105,[1]中考!$A$2:$E$571,5,0) -> 78 | AD105: =RANK(AC105,$AC$4:$AC$263,0) -> 199
A106: 51342220040702272X | B106: 2 | C106: 沈建林 | D106: 文科 | E106: 88 | F106: 格绒燚西 | G106: =RANK(E106,$E$4:$E$263,0) -> 116 | H106: =IF(OR(I106=0,E106=0),100,((K106-G106)/COUNTA($D$4:$D$263))*100+100) -> 98.846154 | I106: =VLOOKUP(A106,[1]高三上!A$3:Q$588,5,0) -> 91.5 | J106: =VLOOKUP(A106,[1]高三上!A$3:Q$588,6,0) -> 格绒燚西 | K106: =RANK(I106,$I$4:$I$263,0) -> 113 | L106: =IF(OR(I106=0,M106=0),100,((O106-K106)/COUNTA($D$4:$D$263))*100+100) -> 124.61538 | M106: =VLOOKUP(A106,[1]高二下!$A$3:$F$536,5,0) -> 80 | N106: =VLOOKUP(A106,[1]高二下!$A$3:$F$536,6,0) -> 格绒燚西 | O106: =RANK(M106,$M$4:$M$263,0) -> 177 | P106: =IF(OR(Q106=0,M106=0),100,((S106-O106)/COUNTA($D$4:$D$263))*100+100) -> 75 | Q106: =VLOOKUP(A106,[1]高二上!$A$3:$F$583,5,0) -> 84 | R106: =VLOOKUP(A106,[1]高二上!$A$3:$F$583,6,0) -> 格绒燚西 | S106: =RANK(Q106,$Q$4:$Q$263,0) -> 112 | T106: =IF(OR(Q106=0,U106=0),100,((W106-S106)/COUNTA($D$4:$D$263))*100+100) -> 100.38462 | U106: =VLOOKUP(A106,[1]高一下!$A$3:$F$585,5,0) -> 79 | V106: =VLOOKUP(A106,[1]高一下!$A$3:$F$585,6,0) -> 格绒燚西 | W106: =RANK(U106,$U$4:$U$263,0) -> 113 | X106: =IF(OR(Y106=0,U106=0),100,((AA106-W106)/COUNTA($D$4:$D$263))*100+100) -> 142.30769 | Y106: =VLOOKUP(A106,[1]高一上!$A$3:$F$587,5,0) -> 74 | Z106: =VLOOKUP(A106,[1]高一上!$A$3:$F$587,6,0) -> 格绒燚西 | AA106: =RANK(Y106,$Y$4:$Y$263,0) -> 223 | AB106: =IF(OR(Y106=0,AC106=0),100,((AD106-AA106)/COUNTA($D$4:$D$263))*100+100) -> 69.615385 | AC106: =VLOOKUP(A106,[1]中考!$A$2:$E$571,5,0) -> 87 | AD106: =RANK(AC106,$AC$4:$AC$263,0) -> 144
A107: 513422199901092920 | B107: 3 | C107: 苟友玲 | D107: 文科 | E107: 85 | F107: 李正琪 | G107: =RANK(E107,$E$4:$E$263,0) -> 144 | H107: =IF(OR(I107=0,E107=0),100,((K107-G107)/COUNTA($D$4:$D$263))*100+100) -> 133.07692 | I107: =VLOOKUP(A107,[1]高三上!A$3:Q$588,5,0) -> 75.5 | J107: =VLOOKUP(A107,[1]高三上!A$3:Q$588,6,0) -> 李正琪 | K107: =RANK(I107,$I$4:$I$263,0) -> 230 | L107: =IF(OR(I107=0,M107=0),100,((O107-K107)/COUNTA($D$4:$D$263))*100+100) -> 65 | M107: =VLOOKUP(A107,[1]高二下!$A$3:$F$536,5,0) -> 83 | N107: =VLOOKUP(A107,[1]高二下!$A$3:$F$536,6,0) -> 岳子琦 | O107: =RANK(M107,$M$4:$M$263,0) -> 139 | P107: =IF(OR(Q107=0,M107=0),100,((S107-O107)/COUNTA($D$4:$D$263))*100+100) -> 137.69231 | Q107: =VLOOKUP(A107,[1]高二上!$A$3:$F$583,5,0) -> 67 | R107: =VLOOKUP(A107,[1]高二上!$A$3:$F$583,6,0) -> 胡美华 | S107: =RANK(Q107,$Q$4:$Q$263,0) -> 237 | T107: =IF(OR(Q107=0,U107=0),100,((W107-S107)/COUNTA($D$4:$D$263))*100+100) -> 76.923077 | U107: =VLOOKUP(A107,[1]高一下!$A$3:$F$585,5,0) -> 74 | V107: =VLOOKUP(A107,[1]高一下!$A$3:$F$585,6,0) -> 岳子琦 | W107: =RANK(U107,$U$4:$U$263,0) -> 177 | X107: =IF(OR(Y107=0,U107=0),100,((AA107-W107)/COUNTA($D$4:$D$263))*100+100) -> 117.69231 | Y107: =VLOOKUP(A107,[1]高一上!$A$3:$F$587,5,0) -> 74 | Z107: =VLOOKUP(A107,[1]高一上!$A$3:$F$587,6,0) -> 岳子琦 | AA107: =RANK(Y107,$Y$4:$Y$263,0) -> 223 | AB107: =IF(OR(Y107=0,AC107=0),100,((AD107-AA107)/COUNTA($D$4:$D$263))*100+100) -> 106.15385 | AC107: =VLOOKUP(A107,[1]中考!$A$2:$E$571,5,0) -> 70 | AD107: =RANK(AC107,$AC$4:$AC$263,0) -> 239
A108: 513422199905305428 | B108: 3 | C108: 祝玛泽仁 | D108: 文科 | E108: 77 | F108: 李正琪 | G108: =RANK(E108,$E$4:$E$263,0) -> 202 | H108: =IF(OR(I108=0,E108=0),100,((K108-G108)/COUNTA($D$4:$D$263))*100+100) -> 86.923077 | I108: =VLOOKUP(A108,[1]高三上!A$3:Q$588,5,0) -> 86.5 | J108: =VLOOKUP(A108,[1]高三上!A$3:Q$588,6,0) -> 李正琪 | K108: =RANK(I108,$I$4:$I$263,0) -> 168 | L108: =IF(OR(I108=0,M108=0),100,((O108-K108)/COUNTA($D$4:$D$263))*100+100) -> 76.153846 | M108: =VLOOKUP(A108,[1]高二下!$A$3:$F$536,5,0) -> 85 | N108: =VLOOKUP(A108,[1]高二下!$A$3:$F$536,6,0) -> 岳子琦 | O108: =RANK(M108,$M$4:$M$263,0) -> 106 | P108: =IF(OR(Q108=0,M108=0),100,((S108-O108)/COUNTA($D$4:$D$263))*100+100) -> 87.692308 | Q108: =VLOOKUP(A108,[1]高二上!$A$3:$F$583,5,0) -> 87 | R108: =VLOOKUP(A108,[1]高二上!$A$3:$F$583,6,0) -> 胡美华 | S108: =RANK(Q108,$Q$4:$Q$263,0) -> 74 | T108: =IF(OR(Q108=0,U108=0),100,((W108-S108)/COUNTA($D$4:$D$263))*100+100) -> 119.23077 | U108: =VLOOKUP(A108,[1]高一下!$A$3:$F$585,5,0) -> 78 | V108: =VLOOKUP(A108,[1]高一下!$A$3:$F$585,6,0) -> 岳子琦 | W108: =RANK(U108,$U$4:$U$263,0) -> 124 | X108: =IF(OR(Y108=0,U108=0),100,((AA108-W108)/COUNTA($D$4:$D$263))*100+100) -> 84.615385 | Y108: =VLOOKUP(A108,[1]高一上!$A$3:$F$587,5,0) -> 88 | Z108: =VLOOKUP(A108,[1]高一上!$A$3:$F$587,6,0) -> 岳子琦 | AA108: =RANK(Y108,$Y$4:$Y$263,0) -> 84 | AB108: =IF(OR(Y108=0,AC108=0),100,((AD108-AA108)/COUNTA($D$4:$D$263))*100+100) -> 93.076923 | AC108: =VLOOKUP(A108,[1]中考!$A$2:$E$571,5,0) -> 95 | AD108: =RANK(AC108,$AC$4:$AC$263,0) -> 66
A109: 513422199907251523 | B109: 3 | C109: 马志英 | D109: 文科 | E109: 83 | F109: 李正琪 | G109: =RANK(E109,$E$4:$E$263,0) -> 156 | H109: =IF(OR(I109=0,E109=0),100,((K109-G109)/COUNTA($D$4:$D$263))*100+100) -> 127.30769 | I109: =VLOOKUP(A109,[1]高三上!A$3:Q$588,5,0) -> 78 | J109: =VLOOKUP(A109,[1]高三上!A$3:Q$588,6,0) -> 李正琪 | K109: =RANK(I109,$I$4:$I$263,0) -> 227 | L109: =IF(OR(I109=0,M109=0),100,((O109-K109)/COUNTA($D$4:$D$263))*100+100) -> 101.92308 | M109: =VLOOKUP(A109,[1]高二下!$A$3:$F$536,5,0) -> 68 | N109: =VLOOKUP(A109,[1]高二下!$A$3:$F$536,6,0) -> 岳子琦 | O109: =RANK(M109,$M$4:$M$263,0) -> 232 | P109: =IF(OR(Q109=0,M109=0),100,((S109-O109)/COUNTA($D$4:$D$263))*100+100) -> 78.076923 | Q109: =VLOOKUP(A109,[1]高二上!$A$3:$F$583,5,0) -> 78 | R109: =VLOOKUP(A109,[1]高二上!$A$3:$F$583,6,0) -> 胡美华 | S109: =RANK(Q109,$Q$4:$Q$263,0) -> 175 | T109: =IF(OR(Q109=0,U109=0),100,((W109-S109)/COUNTA($D$4:$D$263))*100+100) -> 91.923077 | U109: =VLOOKUP(A109,[1]高一下!$A$3:$F$585,5,0) -> 76 | V109: =VLOOKUP(A109,[1]高一下!$A$3:$F$585,6,0) -> 岳子琦 | W109: =RANK(U109,$U$4:$U$263,0) -> 154 | X109: =IF(OR(Y109=0,U109=0),100,((AA109-W109)/COUNTA($D$4:$D$263))*100+100) -> 136.53846 | Y109: =VLOOKUP(A109,[1]高一上!$A$3:$F$587,5,0) -> 65 | Z109: =VLOOKUP(A109,[1]高一上!$A$3:$F$587,6,0) -> 岳子琦 | AA109: =RANK(Y109,$Y$4:$Y$263,0) -> 249 | AB109: =IF(OR(Y109=0,AC109=0),100,((AD109-AA109)/COUNTA($D$4:$D$263))*100+100) -> 101.53846 | AC109: =VLOOKUP(A109,[1]中考!$A$2:$E$571,5,0) -> 59 | AD109: =RANK(AC109,$AC$4:$AC$263,0) -> 253
A110: 513422200001111116 | B110: 3 | C110: 乔木呷 | D110: 文科 | E110: 77 | F110: 李正琪 | G110: =RANK(E110,$E$4:$E$263,0) -> 202 | H110: =IF(OR(I110=0,E110=0),100,((K110-G110)/COUNTA($D$4:$D$263))*100+100) -> 68.076923 | I110: =VLOOKUP(A110,[1]高三上!A$3:Q$588,5,0) -> 91 | J110: =VLOOKUP(A110,[1]高三上!A$3:Q$588,6,0) -> 李正琪 | K110: =RANK(I110,$I$4:$I$263,0) -> 119 | L110: =IF(OR(I110=0,M110=0),100,((O110-K110)/COUNTA($D$4:$D$263))*100+100) -> 140 | M110: =VLOOKUP(A110,[1]高二下!$A$3:$F$536,5,0) -> 73 | N110: =VLOOKUP(A110,[1]高二下!$A$3:$F$536,6,0) -> 岳子琦 | O110: =RANK(M110,$M$4:$M$263,0) -> 223 | P110: =IF(OR(Q110=0,M110=0),100,((S110-O110)/COUNTA($D$4:$D$263))*100+100) -> 102.69231 | Q110: =VLOOKUP(A110,[1]高二上!$A$3:$F$583,5,0) -> 71 | R110: =VLOOKUP(A110,[1]高二上!$A$3:$F$583,6,0) -> 胡美华 | S110: =RANK(Q110,$Q$4:$Q$263,0) -> 230 | T110: =IF(OR(Q110=0,U110=0),100,((W110-S110)/COUNTA($D$4:$D$263))*100+100) -> 103.84615 | U110: =VLOOKUP(A110,[1]高一下!$A$3:$F$585,5,0) -> 66 | V110: =VLOOKUP(A110,[1]高一下!$A$3:$F$585,6,0) -> 岳子琦 | W110: =RANK(U110,$U$4:$U$263,0) -> 240 | X110: =IF(OR(Y110=0,U110=0),100,((AA110-W110)/COUNTA($D$4:$D$263))*100+100) -> 100 | Y110: =VLOOKUP(A110,[1]高一上!$A$3:$F$587,5,0) -> 70 | Z110: =VLOOKUP(A110,[1]高一上!$A$3:$F$587,6,0) -> 岳子琦 | AA110: =RANK(Y110,$Y$4:$Y$263,0) -> 240 | AB110: =IF(OR(Y110=0,AC110=0),100,((AD110-AA110)/COUNTA($D$4:$D$263))*100+100) -> 68.846154 | AC110: =VLOOKUP(A110,[1]中考!$A$2:$E$571,5,0) -> 84 | AD110: =RANK(AC110,$AC$4:$AC$263,0) -> 159
A111: 513422200001153826 | B111: 3 | C111: 扎西拉姆 | D111: 文科 | E111: 79 | F111: 李正琪 | G111: =RANK(E111,$E$4:$E$263,0) -> 192 | H111: =IF(OR(I111=0,E111=0),100,((K111-G111)/COUNTA($D$4:$D$263))*100+100) -> 117.69231 | I111: =VLOOKUP(A111,[1]高三上!A$3:Q$588,5,0) -> 68 | J111: =VLOOKUP(A111,[1]高三上!A$3:Q$588,6,0) -> 李正琪 | K111: =RANK(I111,$I$4:$I$263,0) -> 238 | L111: =IF(OR(I111=0,M111=0),100,((O111-K111)/COUNTA($D$4:$D$263))*100+100) -> 61.923077 | M111: =VLOOKUP(A111,[1]高二下!$A$3:$F$536,5,0) -> 83 | N111: =VLOOKUP(A111,[1]高二下!$A$3:$F$536,6,0) -> 岳子琦 | O111: =RANK(M111,$M$4:$M$263,0) -> 139 | P111: =IF(OR(Q111=0,M111=0),100,((S111-O111)/COUNTA($D$4:$D$263))*100+100) -> 137.69231 | Q111: =VLOOKUP(A111,[1]高二上!$A$3:$F$583,5,0) -> 67 | R111: =VLOOKUP(A111,[1]高二上!$A$3:$F$583,6,0) -> 胡美华 | S111: =RANK(Q111,$Q$4:$Q$263,0) -> 237 | T111: =IF(OR(Q111=0,U111=0),100,((W111-S111)/COUNTA($D$4:$D$263))*100+100) -> 81.153846 | U111: =VLOOKUP(A111,[1]高一下!$A$3:$F$585,5,0) -> 73 | V111: =VLOOKUP(A111,[1]高一下!$A$3:$F$585,6,0) -> 岳子琦 | W111: =RANK(U111,$U$4:$U$263,0) -> 188 | X111: =IF(OR(Y111=0,U111=0),100,((AA111-W111)/COUNTA($D$4:$D$263))*100+100) -> 86.923077 | Y111: =VLOOKUP(A111,[1]高一上!$A$3:$F$587,5,0) -> 81 | Z111: =VLOOKUP(A111,[1]高一上!$A$3:$F$587,6,0) -> 岳子琦 | AA111: =RANK(Y111,$Y$4:$Y$263,0) -> 154 | AB111: =IF(OR(Y111=0,AC111=0),100,((AD111-AA111)/COUNTA($D$4:$D$263))*100+100) -> 130.76923 | AC111: =VLOOKUP(A111,[1]中考!$A$2:$E$571,5,0) -> 71 | AD111: =RANK(AC111,$AC$4:$AC$263,0) -> 234
... A118: 513422200105076810 | B118: 3 | C118: 董小青 | D118: 文科 | E118: 96 | F118: 李正琪 | G118: =RANK(E118,$E$4:$E$263,0) -> 47 | H118: =IF(OR(I118=0,E118=0),100,((K118-G118)/COUNTA($D$4:$D$263))*100+100) -> 131.92308 | I118: =VLOOKUP(A118,[1]高三上!A$3:Q$588,5,0) -> 90.5 | J118: =VLOOKUP(A118,[1]高三上!A$3:Q$588,6,0) -> 李正琪 | K118: =RANK(I118,$I$4:$I$263,0) -> 130 | L118: =IF(OR(I118=0,M118=0),100,((O118-K118)/COUNTA($D$4:$D$263))*100+100) -> 103.46154 | M118: =VLOOKUP(A118,[1]高二下!$A$3:$F$536,5,0) -> 83 | N118: =VLOOKUP(A118,[1]高二下!$A$3:$F$536,6,0) -> 岳子琦 | O118: =RANK(M118,$M$4:$M$263,0) -> 139 | P118: =IF(OR(Q118=0,M118=0),100,((S118-O118)/COUNTA($D$4:$D$263))*100+100) -> 110.38462 | Q118: =VLOOKUP(A118,[1]高二上!$A$3:$F$583,5,0) -> 79 | R118: =VLOOKUP(A118,[1]高二上!$A$3:$F$583,6,0) -> 胡美华 | S118: =RANK(Q118,$Q$4:$Q$263,0) -> 166 | T118: =IF(OR(Q118=0,U118=0),100,((W118-S118)/COUNTA($D$4:$D$263))*100+100) -> 132.30769 | U118: =VLOOKUP(A118,[1]高一下!$A$3:$F$585,5,0) -> 63 | V118: =VLOOKUP(A118,[1]高一下!$A$3:$F$585,6,0) -> 岳子琦 | W118: =RANK(U118,$U$4:$U$263,0) -> 250 | X118: =IF(OR(Y118=0,U118=0),100,((AA118-W118)/COUNTA($D$4:$D$263))*100+100) -> 86.538462 | Y118: =VLOOKUP(A118,[1]高一上!$A$3:$F$587,5,0) -> 75 | Z118: =VLOOKUP(A118,[1]高一上!$A$3:$F$587,6,0) -> 岳子琦 | AA118: =RANK(Y118,$Y$4:$Y$263,0) -> 215 | AB118: =IF(OR(Y118=0,AC118=0),100,((AD118-AA118)/COUNTA($D$4:$D$263))*100+100) -> 92.307692 | AC118: =VLOOKUP(A118,[1]中考!$A$2:$E$571,5,0) -> 79 | AD118: =RANK(AC118,$AC$4:$AC$263,0) -> 195
A119: 513422200105284417 | B119: 3 | C119: 沈阳 | D119: 文科 | E119: 74 | F119: 李正琪 | G119: =RANK(E119,$E$4:$E$263,0) -> 228 | H119: =IF(OR(I119=0,E119=0),100,((K119-G119)/COUNTA($D$4:$D$263))*100+100) -> 92.307692 | I119: =VLOOKUP(A119,[1]高三上!A$3:Q$588,5,0) -> 81.5 | J119: =VLOOKUP(A119,[1]高三上!A$3:Q$588,6,0) -> 李正琪 | K119: =RANK(I119,$I$4:$I$263,0) -> 208 | L119: =IF(OR(I119=0,M119=0),100,((O119-K119)/COUNTA($D$4:$D$263))*100+100) -> 88.076923 | M119: =VLOOKUP(A119,[1]高二下!$A$3:$F$536,5,0) -> 80 | N119: =VLOOKUP(A119,[1]高二下!$A$3:$F$536,6,0) -> 岳子琦 | O119: =RANK(M119,$M$4:$M$263,0) -> 177 | P119: =IF(OR(Q119=0,M119=0),100,((S119-O119)/COUNTA($D$4:$D$263))*100+100) -> 51.538462 | Q119: =VLOOKUP(A119,[1]高二上!$A$3:$F$583,5,0) -> 89 | R119: =VLOOKUP(A119,[1]高二上!$A$3:$F$583,6,0) -> 胡美华 | S119: =RANK(Q119,$Q$4:$Q$263,0) -> 51 | T119: =IF(OR(Q119=0,U119=0),100,((W119-S119)/COUNTA($D$4:$D$263))*100+100) -> 100 | U119: 0 | V119: 岳子琦 | W119: =RANK(U119,$U$4:$U$263,0) -> 258 | X119: =IF(OR(Y119=0,U119=0),100,((AA119-W119)/COUNTA($D$4:$D$263))*100+100) -> 100 | Y119: 0 | Z119: 岳子琦 | AA119: =RANK(Y119,$Y$4:$Y$263,0) -> 257 | AB119: =IF(OR(Y119=0,AC119=0),100,((AD119-AA119)/COUNTA($D$4:$D$263))*100+100) -> 100 | AC119: 0 | AD119: =RANK(AC119,$AC$4:$AC$263,0) -> 255
A120: 513422200109102115 | B120: 3 | C120: 马伍达 | D120: 文科 | E120: 75 | F120: 李正琪 | G120: =RANK(E120,$E$4:$E$263,0) -> 215 | H120: =IF(OR(I120=0,E120=0),100,((K120-G120)/COUNTA($D$4:$D$263))*100+100) -> 98.846154 | I120: =VLOOKUP(A120,[1]高三上!A$3:Q$588,5,0) -> 81 | J120: =VLOOKUP(A120,[1]高三上!A$3:Q$588,6,0) -> 李正琪 | K120: =RANK(I120,$I$4:$I$263,0) -> 212 | L120: =IF(OR(I120=0,M120=0),100,((O120-K120)/COUNTA($D$4:$D$263))*100+100) -> 65.384615 | M120: =VLOOKUP(A120,[1]高二下!$A$3:$F$536,5,0) -> 84 | N120: =VLOOKUP(A120,[1]高二下!$A$3:$F$536,6,0) -> 岳子琦 | O120: =RANK(M120,$M$4:$M$263,0) -> 122 | P120: =IF(OR(Q120=0,M120=0),100,((S120-O120)/COUNTA($D$4:$D$263))*100+100) -> 142.69231 | Q120: =VLOOKUP(A120,[1]高二上!$A$3:$F$583,5,0) -> 70 | R120: =VLOOKUP(A120,[1]高二上!$A$3:$F$583,6,0) -> 胡美华 | S120: =RANK(Q120,$Q$4:$Q$263,0) -> 233 | T120: =IF(OR(Q120=0,U120=0),100,((W120-S120)/COUNTA($D$4:$D$263))*100+100) -> 82.692308 | U120: =VLOOKUP(A120,[1]高一下!$A$3:$F$585,5,0) -> 73 | V120: =VLOOKUP(A120,[1]高一下!$A$3:$F$585,6,0) -> 岳子琦 | W120: =RANK(U120,$U$4:$U$263,0) -> 188 | X120: =IF(OR(Y120=0,U120=0),100,((AA120-W120)/COUNTA($D$4:$D$263))*100+100) -> 76.153846 | Y120: =VLOOKUP(A120,[1]高一上!$A$3:$F$587,5,0) -> 84 | Z120: =VLOOKUP(A120,[1]高一上!$A$3:$F$587,6,0) -> 岳子琦 | AA120: =RANK(Y120,$Y$4:$Y$263,0) -> 126 | AB120: =IF(OR(Y120=0,AC120=0),100,((AD120-AA120)/COUNTA($D$4:$D$263))*100+100) -> 141.53846 | AC120: =VLOOKUP(A120,[1]中考!$A$2:$E$571,5,0) -> 71 | AD120: =RANK(AC120,$AC$4:$AC$263,0) -> 234
A121: 513422200111213826 | B121: 3 | C121: 次尔祝玛 | D121: 文科 | E121: 88 | F121: 李正琪 | G121: =RANK(E121,$E$4:$E$263,0) -> 116 | H121: =IF(OR(I121=0,E121=0),100,((K121-G121)/COUNTA($D$4:$D$263))*100+100) -> 140.76923 | I121: =VLOOKUP(A121,[1]高三上!A$3:Q$588,5,0) -> 79.5 | J121: =VLOOKUP(A121,[1]高三上!A$3:Q$588,6,0) -> 李正琪 | K121: =RANK(I121,$I$4:$I$263,0) -> 222 | L121: =IF(OR(I121=0,M121=0),100,((O121-K121)/COUNTA($D$4:$D$263))*100+100) -> 41.153846 | M121: =VLOOKUP(A121,[1]高二下!$A$3:$F$536,5,0) -> 88 | N121: =VLOOKUP(A121,[1]高二下!$A$3:$F$536,6,0) -> 岳子琦 | O121: =RANK(M121,$M$4:$M$263,0) -> 69 | P121: =IF(OR(Q121=0,M121=0),100,((S121-O121)/COUNTA($D$4:$D$263))*100+100) -> 105.38462 | Q121: =VLOOKUP(A121,[1]高二上!$A$3:$F$583,5,0) -> 86 | R121: =VLOOKUP(A121,[1]高二上!$A$3:$F$583,6,0) -> 胡美华 | S121: =RANK(Q121,$Q$4:$Q$263,0) -> 83 | T121: =IF(OR(Q121=0,U121=0),100,((W121-S121)/COUNTA($D$4:$D$263))*100+100) -> 140.38462 | U121: =VLOOKUP(A121,[1]高一下!$A$3:$F$585,5,0) -> 73 | V121: =VLOOKUP(A121,[1]高一下!$A$3:$F$585,6,0) -> 岳子琦 | W121: =RANK(U121,$U$4:$U$263,0) -> 188 | X121: =IF(OR(Y121=0,U121=0),100,((AA121-W121)/COUNTA($D$4:$D$263))*100+100) -> 37.692308 | Y121: =VLOOKUP(A121,[1]高一上!$A$3:$F$587,5,0) -> 95 | Z121: =VLOOKUP(A121,[1]高一上!$A$3:$F$587,6,0) -> 岳子琦 | AA121: =RANK(Y121,$Y$4:$Y$263,0) -> 26 | AB121: =IF(OR(Y121=0,AC121=0),100,((AD121-AA121)/COUNTA($D$4:$D$263))*100+100) -> 108.46154 | AC121: =VLOOKUP(A121,[1]中考!$A$2:$E$571,5,0) -> 97 | AD121: =RANK(AC121,$AC$4:$AC$263,0) -> 48
A122: 513422200202042321 | B122: 3 | C122: 吴春秀 | D122: 文科 | E122: 82 | F122: 李正琪 | G122: =RANK(E122,$E$4:$E$263,0) -> 165 | H122: =IF(OR(I122=0,E122=0),100,((K122-G122)/COUNTA($D$4:$D$263))*100+100) -> 82.307692 | I122: =VLOOKUP(A122,[1]高三上!A$3:Q$588,5,0) -> 91 | J122: =VLOOKUP(A122,[1]高三上!A$3:Q$588,6,0) -> 李正琪 | K122: =RANK(I122,$I$4:$I$263,0) -> 119 | L122: =IF(OR(I122=0,M122=0),100,((O122-K122)/COUNTA($D$4:$D$263))*100+100) -> 58.076923 | M122: =VLOOKUP(A122,[1]高二下!$A$3:$F$536,5,0) -> 96 | N122: =VLOOKUP(A122,[1]高二下!$A$3:$F$536,6,0) -> 岳子琦 | O122: =RANK(M122,$M$4:$M$263,0) -> 10 | P122: =IF(OR(Q122=0,M122=0),100,((S122-O122)/COUNTA($D$4:$D$263))*100+100) -> 135 | Q122: =VLOOKUP(A122,[1]高二上!$A$3:$F$583,5,0) -> 85 | R122: =VLOOKUP(A122,[1]高二上!$A$3:$F$583,6,0) -> 胡美华 | S122: =RANK(Q122,$Q$4:$Q$263,0) -> 101 | T122: =IF(OR(Q122=0,U122=0),100,((W122-S122)/COUNTA($D$4:$D$263))*100+100) -> 98.076923 | U122: =VLOOKUP(A122,[1]高一下!$A$3:$F$585,5,0) -> 80 | V122: =VLOOKUP(A122,[1]高一下!$A$3:$F$585,6,0) -> 岳子琦 | W122: =RANK(U122,$U$4:$U$263,0) -> 96 | X122: =IF(OR(Y122=0,U122=0),100,((AA122-W122)/COUNTA($D$4:$D$263))*100+100) -> 145.76923 | Y122: =VLOOKUP(A122,[1]高一上!$A$3:$F$587,5,0) -> 75 | Z122: =VLOOKUP(A122,[1]高一上!$A$3:$F$587,6,0) -> 易涛 | AA122: =RANK(Y122,$Y$4:$Y$263,0) -> 215 | AB122: =IF(OR(Y122=0,AC122=0),100,((AD122-AA122)/COUNTA($D$4:$D$263))*100+100) -> 33.076923 | AC122: =VLOOKUP(A122,[1]中考!$A$2:$E$571,5,0) -> 98 | AD122: =RANK(AC122,$AC$4:$AC$263,0) -> 41
A123: 513422200202080328 | B123: 3 | C123: 陈志英 | D123: 文科 | E123: 94 | F123: 李正琪 | G123: =RANK(E123,$E$4:$E$263,0) -> 60 | H123: =IF(OR(I123=0,E123=0),100,((K123-G123)/COUNTA($D$4:$D$263))*100+100) -> 136.53846 | I123: =VLOOKUP(A123,[1]高三上!A$3:Q$588,5,0) -> 88 | J123: =VLOOKUP(A123,[1]高三上!A$3:Q$588,6,0) -> 李正琪 | K123: =RANK(I123,$I$4:$I$263,0) -> 155 | L123: =IF(OR(I123=0,M123=0),100,((O123-K123)/COUNTA($D$4:$D$263))*100+100) -> 72.307692 | M123: =VLOOKUP(A123,[1]高二下!$A$3:$F$536,5,0) -> 87 | N123: =VLOOKUP(A123,[1]高二下!$A$3:$F$536,6,0) -> 岳子琦 | O123: =RANK(M123,$M$4:$M$263,0) -> 83 | P123: =IF(OR(Q123=0,M123=0),100,((S123-O123)/COUNTA($D$4:$D$263))*100+100) -> 126.53846 | Q123: =VLOOKUP(A123,[1]高二上!$A$3:$F$583,5,0) -> 80 | R123: =VLOOKUP(A123,[1]高二上!$A$3:$F$583,6,0) -> 胡美华 | S123: =RANK(Q123,$Q$4:$Q$263,0) -> 152 | T123: =IF(OR(Q123=0,U123=0),100,((W123-S123)/COUNTA($D$4:$D$263))*100+100) -> 128.84615 | U123: =VLOOKUP(A123,[1]高一下!$A$3:$F$585,5,0) -> 69 | V123: =VLOOKUP(A123,[1]高一下!$A$3:$F$585,6,0) -> 岳子琦 | W123: =RANK(U123,$U$4:$U$263,0) -> 227 | X123: =IF(OR(Y123=0,U123=0),100,((AA123-W123)/COUNTA($D$4:$D$263))*100+100) -> 76.538462 | Y123: =VLOOKUP(A123,[1]高一上!$A$3:$F$587,5,0) -> 80 | Z123: =VLOOKUP(A123,[1]高一上!$A$3:$F$587,6,0) -> 岳子琦 | AA123: =RANK(Y123,$Y$4:$Y$263,0) -> 166 | AB123: =IF(OR(Y123=0,AC123=0),100,((AD123-AA123)/COUNTA($D$4:$D$263))*100+100) -> 61.538462 | AC123: =VLOOKUP(A123,[1]中考!$A$2:$E$571,5,0) -> 95 | AD123: =RANK(AC123,$AC$4:$AC$263,0) -> 66
A124: 513422200203156822 | B124: 3 | C124: 沈小琼 | D124: 文科 | E124: 89 | F124: 李正琪 | G124: =RANK(E124,$E$4:$E$263,0) -> 105 | H124: =IF(OR(I124=0,E124=0),100,((K124-G124)/COUNTA($D$4:$D$263))*100+100) -> 150 | I124: =VLOOKUP(A124,[1]高三上!A$3:Q$588,5,0) -> 71 | J124: =VLOOKUP(A124,[1]高三上!A$3:Q$588,6,0) -> 李正琪 | K124: =RANK(I124,$I$4:$I$263,0) -> 235 | L124: =IF(OR(I124=0,M124=0),100,((O124-K124)/COUNTA($D$4:$D$263))*100+100) -> 21.538462 | M124: =VLOOKUP(A124,[1]高二下!$A$3:$F$536,5,0) -> 92 | N124: =VLOOKUP(A124,[1]高二下!$A$3:$F$536,6,0) -> 岳子琦 | O124: =RANK(M124,$M$4:$M$263,0) -> 31 | P124: =IF(OR(Q124=0,M124=0),100,((S124-O124)/COUNTA($D$4:$D$263))*100+100) -> 146.53846 | Q124: =VLOOKUP(A124,[1]高二上!$A$3:$F$583,5,0) -> 80 | R124: =VLOOKUP(A124,[1]高二上!$A$3:$F$583,6,0) -> 胡美华 | S124: =RANK(Q124,$Q$4:$Q$263,0) -> 152 | T124: =IF(OR(Q124=0,U124=0),100,((W124-S124)/COUNTA($D$4:$D$263))*100+100) -> 109.61538 | U124: =VLOOKUP(A124,[1]高一下!$A$3:$F$585,5,0) -> 74 | V124: =VLOOKUP(A124,[1]高一下!$A$3:$F$585,6,0) -> 岳子琦 | W124: =RANK(U124,$U$4:$U$263,0) -> 177 | X124: =IF(OR(Y124=0,U124=0),100,((AA124-W124)/COUNTA($D$4:$D$263))*100+100) -> 110.38462 | Y124: =VLOOKUP(A124,[1]高一上!$A$3:$F$587,5,0) -> 76 | Z124: =VLOOKUP(A124,[1]高一上!$A$3:$F$587,6,0) -> 岳子琦 | AA124: =RANK(Y124,$Y$4:$Y$263,0) -> 204 | AB124: =IF(OR(Y124=0,AC124=0),100,((AD124-AA124)/COUNTA($D$4:$D$263))*100+100) -> 85.384615 | AC124: =VLOOKUP(A124,[1]中考!$A$2:$E$571,5,0) -> 83 | AD124: =RANK(AC124,$AC$4:$AC$263,0) -> 166
A125: 513422200204227020 | B125: 3 | C125: 次仁其珍 | D125: 文科 | E125: 87 | F125: 李正琪 | G125: =RANK(E125,$E$4:$E$263,0) -> 128 | H125: =IF(OR(I125=0,E125=0),100,((K125-G125)/COUNTA($D$4:$D$263))*100+100) -> 73.461538 | I125: =VLOOKUP(A125,[1]高三上!A$3:Q$588,5,0) -> 96 | J125: =VLOOKUP(A125,[1]高三上!A$3:Q$588,6,0) -> 李正琪 | K125: =RANK(I125,$I$4:$I$263,0) -> 59 | L125: =IF(OR(I125=0,M125=0),100,((O125-K125)/COUNTA($D$4:$D$263))*100+100) -> 152.30769 | M125: =VLOOKUP(A125,[1]高二下!$A$3:$F$536,5,0) -> 78 | N125: =VLOOKUP(A125,[1]高二下!$A$3:$F$536,6,0) -> 岳子琦 | O125: =RANK(M125,$M$4:$M$263,0) -> 195 | P125: =IF(OR(Q125=0,M125=0),100,((S125-O125)/COUNTA($D$4:$D$263))*100+100) -> 47.692308 | Q125: =VLOOKUP(A125,[1]高二上!$A$3:$F$583,5,0) -> 88 | R125: =VLOOKUP(A125,[1]高二上!$A$3:$F$583,6,0) -> 胡美华 | S125: =RANK(Q125,$Q$4:$Q$263,0) -> 59 | T125: =IF(OR(Q125=0,U125=0),100,((W125-S125)/COUNTA($D$4:$D$263))*100+100) -> 107.69231 | U125: =VLOOKUP(A125,[1]高一下!$A$3:$F$585,5,0) -> 81 | V125: =VLOOKUP(A125,[1]高一下!$A$3:$F$585,6,0) -> 岳子琦 | W125: =RANK(U125,$U$4:$U$263,0) -> 79 | X125: =IF(OR(Y125=0,U125=0),100,((AA125-W125)/COUNTA($D$4:$D$263))*100+100) -> 133.46154 | Y125: =VLOOKUP(A125,[1]高一上!$A$3:$F$587,5,0) -> 80 | Z125: =VLOOKUP(A125,[1]高一上!$A$3:$F$587,6,0) -> 陈丽娇 | AA125: =RANK(Y125,$Y$4:$Y$263,0) -> 166 | AB125: =IF(OR(Y125=0,AC125=0),100,((AD125-AA125)/COUNTA($D$4:$D$263))*100+100) -> 91.538462 | AC125: =VLOOKUP(A125,[1]中考!$A$2:$E$571,5,0) -> 87 | AD125: =RANK(AC125,$AC$4:$AC$263,0) -> 144
A126: 513422200205184827 | B126: 3 | C126: 斯格拉姆 | D126: 文科 | E126: 72 | F126: 李正琪 | G126: =RANK(E126,$E$4:$E$263,0) -> 236 | H126: =IF(OR(I126=0,E126=0),100,((K126-G126)/COUNTA($D$4:$D$263))*100+100) -> 82.307692 | I126: =VLOOKUP(A126,[1]高三上!A$3:Q$588,5,0) -> 84 | J126: =VLOOKUP(A126,[1]高三上!A$3:Q$588,6,0) -> 李正琪 | K126: =RANK(I126,$I$4:$I$263,0) -> 190 | L126: =IF(OR(I126=0,M126=0),100,((O126-K126)/COUNTA($D$4:$D$263))*100+100) -> 98.461538 | M126: =VLOOKUP(A126,[1]高二下!$A$3:$F$536,5,0) -> 79 | N126: =VLOOKUP(A126,[1]高二下!$A$3:$F$536,6,0) -> 岳子琦 | O126: =RANK(M126,$M$4:$M$263,0) -> 186 | P126: =IF(OR(Q126=0,M126=0),100,((S126-O126)/COUNTA($D$4:$D$263))*100+100) -> 60.384615 | Q126: =VLOOKUP(A126,[1]高二上!$A$3:$F$583,5,0) -> 86 | R126: =VLOOKUP(A126,[1]高二上!$A$3:$F$583,6,0) -> 胡美华 | S126: =RANK(Q126,$Q$4:$Q$263,0) -> 83 | T126: =IF(OR(Q126=0,U126=0),100,((W126-S126)/COUNTA($D$4:$D$263))*100+100) -> 143.07692 | U126: =VLOOKUP(A126,[1]高一下!$A$3:$F$585,5,0) -> 72 | V126: =VLOOKUP(A126,[1]高一下!$A$3:$F$585,6,0) -> 岳子琦 | W126: =RANK(U126,$U$4:$U$263,0) -> 195 | X126: =IF(OR(Y126=0,U126=0),100,((AA126-W126)/COUNTA($D$4:$D$263))*100+100) -> 80 | Y126: =VLOOKUP(A126,[1]高一上!$A$3:$F$587,5,0) -> 82 | Z126: =VLOOKUP(A126,[1]高一上!$A$3:$F$587,6,0) -> 岳子琦 | AA126: =RANK(Y126,$Y$4:$Y$263,0) -> 143 | AB126: =IF(OR(Y126=0,AC126=0),100,((AD126-AA126)/COUNTA($D$4:$D$263))*100+100) -> 79.230769 | AC126: =VLOOKUP(A126,[1]中考!$A$2:$E$571,5,0) -> 92 | AD126: =RANK(AC126,$AC$4:$AC$263,0) -> 89
A127: 513422200207242920 | B127: 3 | C127: 苟秀芬 | D127: 文科 | E127: 81 | F127: 李正琪 | G127: =RANK(E127,$E$4:$E$263,0) -> 175 | H127: =IF(OR(I127=0,E127=0),100,((K127-G127)/COUNTA($D$4:$D$263))*100+100) -> 95.384615 | I127: =VLOOKUP(A127,[1]高三上!A$3:Q$588,5,0) -> 87.5 | J127: =VLOOKUP(A127,[1]高三上!A$3:Q$588,6,0) -> 李正琪 | K127: =RANK(I127,$I$4:$I$263,0) -> 163 | L127: =IF(OR(I127=0,M127=0),100,((O127-K127)/COUNTA($D$4:$D$263))*100+100) -> 97.692308 | M127: =VLOOKUP(A127,[1]高二下!$A$3:$F$536,5,0) -> 82 | N127: =VLOOKUP(A127,[1]高二下!$A$3:$F$536,6,0) -> 岳子琦 | O127: =RANK(M127,$M$4:$M$263,0) -> 157 | P127: =IF(OR(Q127=0,M127=0),100,((S127-O127)/COUNTA($D$4:$D$263))*100+100) -> 121.92308 | Q127: =VLOOKUP(A127,[1]高二上!$A$3:$F$583,5,0) -> 74 | R127: =VLOOKUP(A127,[1]高二上!$A$3:$F$583,6,0) -> 胡美华 | S127: =RANK(Q127,$Q$4:$Q$263,0) -> 214 | T127: =IF(OR(Q127=0,U127=0),100,((W127-S127)/COUNTA($D$4:$D$263))*100+100) -> 65.384615 | U127: =VLOOKUP(A127,[1]高一下!$A$3:$F$585,5,0) -> 78 | V127: =VLOOKUP(A127,[1]高一下!$A$3:$F$585,6,0) -> 岳子琦 | W127: =RANK(U127,$U$4:$U$263,0) -> 124 | X127: =IF(OR(Y127=0,U127=0),100,((AA127-W127)/COUNTA($D$4:$D$263))*100+100) -> 144.61538 | Y127: =VLOOKUP(A127,[1]高一上!$A$3:$F$587,5,0) -> 70 | Z127: =VLOOKUP(A127,[1]高一上!$A$3:$F$587,6,0) -> 岳子琦 | AA127: =RANK(Y127,$Y$4:$Y$263,0) -> 240 | AB127: =IF(OR(Y127=0,AC127=0),100,((AD127-AA127)/COUNTA($D$4:$D$263))*100+100) -> 97.692308 | AC127: =VLOOKUP(A127,[1]中考!$A$2:$E$571,5,0) -> 71 | AD127: =RANK(AC127,$AC$4:$AC$263,0) -> 234
A128: 513422200210010311 | B128: 3 | C128: 小扎西 | D128: 文科 | E128: 69 | F128: 李正琪 | G128: =RANK(E128,$E$4:$E$263,0) -> 252 | H128: =IF(OR(I128=0,E128=0),100,((K128-G128)/COUNTA($D$4:$D$263))*100+100) -> 66.538462 | I128: =VLOOKUP(A128,[1]高三上!A$3:Q$588,5,0) -> 87 | J128: 李正琪 | K128: =RANK(I128,$I$4:$I$263,0) -> 165 | L128: =IF(OR(I128=0,M128=0),100,((O128-K128)/COUNTA($D$4:$D$263))*100+100) -> 100 | M128: 0 | N128: 岳子琦 | O128: =RANK(M128,$M$4:$M$263,0) -> 236 | P128: =IF(OR(Q128=0,M128=0),100,((S128-O128)/COUNTA($D$4:$D$263))*100+100) -> 100 | Q128: =VLOOKUP(A128,[1]高二上!$A$3:$F$583,5,0) -> 83 | R128: =VLOOKUP(A128,[1]高二上!$A$3:$F$583,6,0) -> 周菊明 | S128: =RANK(Q128,$Q$4:$Q$263,0) -> 123 | T128: =IF(OR(Q128=0,U128=0),100,((W128-S128)/COUNTA($D$4:$D$263))*100+100) -> 83.076923 | U128: =VLOOKUP(A128,[1]高一下!$A$3:$F$585,5,0) -> 81 | V128: =VLOOKUP(A128,[1]高一下!$A$3:$F$585,6,0) -> 周菊明 | W128: =RANK(U128,$U$4:$U$263,0) -> 79 | X128: =IF(OR(Y128=0,U128=0),100,((AA128-W128)/COUNTA($D$4:$D$263))*100+100) -> 90.384615 | Y128: =VLOOKUP(A128,[1]高一上!$A$3:$F$587,5,0) -> 91 | Z128: =VLOOKUP(A128,[1]高一上!$A$3:$F$587,6,0) -> 周菊明 | AA128: =RANK(Y128,$Y$4:$Y$263,0) -> 54 | AB128: =IF(OR(Y128=0,AC128=0),100,((AD128-AA128)/COUNTA($D$4:$D$263))*100+100) -> 100 | AC128: 0 | AD128: =RANK(AC128,$AC$4:$AC$263,0) -> 255
A129: 513422200210096856 | B129: 3 | C129: 旦珠 | D129: 文科 | E129: 80 | F129: 李正琪 | G129: =RANK(E129,$E$4:$E$263,0) -> 183 | H129: =IF(OR(I129=0,E129=0),100,((K129-G129)/COUNTA($D$4:$D$263))*100+100) -> 100 | I129: 0 | J129: 李正琪 | K129: =RANK(I129,$I$4:$I$263,0) -> 241 | L129: =IF(OR(I129=0,M129=0),100,((O129-K129)/COUNTA($D$4:$D$263))*100+100) -> 100 | M129: 0 | N129: 岳子琦 | O129: =RANK(M129,$M$4:$M$263,0) -> 236 | P129: =IF(OR(Q129=0,M129=0),100,((S129-O129)/COUNTA($D$4:$D$263))*100+100) -> 100 | Q129: =VLOOKUP(A129,[1]高二上!$A$3:$F$583,5,0) -> 75 | R129: =VLOOKUP(A129,[1]高二上!$A$3:$F$583,6,0) -> 胡美华 | S129: =RANK(Q129,$Q$4:$Q$263,0) -> 200 | T129: =IF(OR(Q129=0,U129=0),100,((W129-S129)/COUNTA($D$4:$D$263))*100+100) -> 86.153846 | U129: =VLOOKUP(A129,[1]高一下!$A$3:$F$585,5,0) -> 75 | V129: =VLOOKUP(A129,[1]高一下!$A$3:$F$585,6,0) -> 岳子琦 | W129: =RANK(U129,$U$4:$U$263,0) -> 164 | X129: =IF(OR(Y129=0,U129=0),100,((AA129-W129)/COUNTA($D$4:$D$263))*100+100) -> 96.153846 | Y129: =VLOOKUP(A129,[1]高一上!$A$3:$F$587,5,0) -> 81 | Z129: =VLOOKUP(A129,[1]高一上!$A$3:$F$587,6,0) -> 岳子琦 | AA129: =RANK(Y129,$Y$4:$Y$263,0) -> 154 | AB129: =IF(OR(Y129=0,AC129=0),100,((AD129-AA129)/COUNTA($D$4:$D$263))*100+100) -> 117.30769 | AC129: =VLOOKUP(A129,[1]中考!$A$2:$E$571,5,0) -> 78 | AD129: =RANK(AC129,$AC$4:$AC$263,0) -> 199
A130: 513422200210204415 | B130: 3 | C130: 李王勇 | D130: 文科 | E130: 83 | F130: 李正琪 | G130: =RANK(E130,$E$4:$E$263,0) -> 156 | H130: =IF(OR(I130=0,E130=0),100,((K130-G130)/COUNTA($D$4:$D$263))*100+100) -> 85.769231 | I130: =VLOOKUP(A130,[1]高三上!A$3:Q$588,5,0) -> 91 | J130: =VLOOKUP(A130,[1]高三上!A$3:Q$588,6,0) -> 李正琪 | K130: =RANK(I130,$I$4:$I$263,0) -> 119 | L130: =IF(OR(I130=0,M130=0),100,((O130-K130)/COUNTA($D$4:$D$263))*100+100) -> 100 | M130: 0 | N130: 岳子琦 | O130: =RANK(M130,$M$4:$M$263,0) -> 236 | P130: =IF(OR(Q130=0,M130=0),100,((S130-O130)/COUNTA($D$4:$D$263))*100+100) -> 100 | Q130: =VLOOKUP(A130,[1]高二上!$A$3:$F$583,5,0) -> 79 | R130: =VLOOKUP(A130,[1]高二上!$A$3:$F$583,6,0) -> 胡美华 | S130: =RANK(Q130,$Q$4:$Q$263,0) -> 166 | T130: =IF(OR(Q130=0,U130=0),100,((W130-S130)/COUNTA($D$4:$D$263))*100+100) -> 87.692308 | U130: =VLOOKUP(A130,[1]高一下!$A$3:$F$585,5,0) -> 77 | V130: =VLOOKUP(A130,[1]高一下!$A$3:$F$585,6,0) -> 岳子琦 | W130: =RANK(U130,$U$4:$U$263,0) -> 134 | X130: =IF(OR(Y130=0,U130=0),100,((AA130-W130)/COUNTA($D$4:$D$263))*100+100) -> 100 | Y130: =VLOOKUP(A130,[1]高一上!$A$3:$F$587,5,0) -> 83 | Z130: =VLOOKUP(A130,[1]高一上!$A$3:$F$587,6,0) -> 岳子琦 | AA130: =RANK(Y130,$Y$4:$Y$263,0) -> 134 | AB130: =IF(OR(Y130=0,AC130=0),100,((AD130-AA130)/COUNTA($D$4:$D$263))*100+100) -> 89.230769 | AC130: =VLOOKUP(A130,[1]中考!$A$2:$E$571,5,0) -> 91 | AD130: =RANK(AC130,$AC$4:$AC$263,0) -> 106
A131: 513422200210212925 | B131: 3 | C131: 乔落珍莫 | D131: 文科 | E131: 75 | F131: 李正琪 | G131: =RANK(E131,$E$4:$E$263,0) -> 215 | H131: =IF(OR(I131=0,E131=0),100,((K131-G131)/COUNTA($D$4:$D$263))*100+100) -> 87.307692 | I131: =VLOOKUP(A131,[1]高三上!A$3:Q$588,5,0) -> 85 | J131: =VLOOKUP(A131,[1]高三上!A$3:Q$588,6,0) -> 李正琪 | K131: =RANK(I131,$I$4:$I$263,0) -> 182 | L131: =IF(OR(I131=0,M131=0),100,((O131-K131)/COUNTA($D$4:$D$263))*100+100) -> 76.923077 | M131: =VLOOKUP(A131,[1]高二下!$A$3:$F$536,5,0) -> 84 | N131: =VLOOKUP(A131,[1]高二下!$A$3:$F$536,6,0) -> 岳子琦 | O131: =RANK(M131,$M$4:$M$263,0) -> 122 | P131: =IF(OR(Q131=0,M131=0),100,((S131-O131)/COUNTA($D$4:$D$263))*100+100) -> 151.15385 | Q131: =VLOOKUP(A131,[1]高二上!$A$3:$F$583,5,0) -> 62 | R131: =VLOOKUP(A131,[1]高二上!$A$3:$F$583,6,0) -> 胡美华 | S131: =RANK(Q131,$Q$4:$Q$263,0) -> 255 | T131: =IF(OR(Q131=0,U131=0),100,((W131-S131)/COUNTA($D$4:$D$263))*100+100) -> 53.461538 | U131: =VLOOKUP(A131,[1]高一下!$A$3:$F$585,5,0) -> 77 | V131: =VLOOKUP(A131,[1]高一下!$A$3:$F$585,6,0) -> 岳子琦 | W131: =RANK(U131,$U$4:$U$263,0) -> 134 | X131: =IF(OR(Y131=0,U131=0),100,((AA131-W131)/COUNTA($D$4:$D$263))*100+100) -> 123.84615 | Y131: =VLOOKUP(A131,[1]高一上!$A$3:$F$587,5,0) -> 77 | Z131: =VLOOKUP(A131,[1]高一上!$A$3:$F$587,6,0) -> 岳子琦 | AA131: =RANK(Y131,$Y$4:$Y$263,0) -> 196 | AB131: =IF(OR(Y131=0,AC131=0),100,((AD131-AA131)/COUNTA($D$4:$D$263))*100+100) -> 107.69231 | AC131: =VLOOKUP(A131,[1]中考!$A$2:$E$571,5,0) -> 75 | AD131: =RANK(AC131,$AC$4:$AC$263,0) -> 216
A132: 513422200211036812 | B132: 3 | C132: 马什林 | D132: 文科 | E132: 75 | F132: 李正琪 | G132: =RANK(E132,$E$4:$E$263,0) -> 215 | H132: =IF(OR(I132=0,E132=0),100,((K132-G132)/COUNTA($D$4:$D$263))*100+100) -> 63.076923 | I132: =VLOOKUP(A132,[1]高三上!A$3:Q$588,5,0) -> 91 | J132: =VLOOKUP(A132,[1]高三上!A$3:Q$588,6,0) -> 李正琪 | K132: =RANK(I132,$I$4:$I$263,0) -> 119 | L132: =IF(OR(I132=0,M132=0),100,((O132-K132)/COUNTA($D$4:$D$263))*100+100) -> 91.923077 | M132: =VLOOKUP(A132,[1]高二下!$A$3:$F$536,5,0) -> 86 | N132: =VLOOKUP(A132,[1]高二下!$A$3:$F$536,6,0) -> 岳子琦 | O132: =RANK(M132,$M$4:$M$263,0) -> 98 | P132: =IF(OR(Q132=0,M132=0),100,((S132-O132)/COUNTA($D$4:$D$263))*100+100) -> 144.61538 | Q132: =VLOOKUP(A132,[1]高二上!$A$3:$F$583,5,0) -> 74 | R132: =VLOOKUP(A132,[1]高二上!$A$3:$F$583,6,0) -> 胡美华 | S132: =RANK(Q132,$Q$4:$Q$263,0) -> 214 | T132: =IF(OR(Q132=0,U132=0),100,((W132-S132)/COUNTA($D$4:$D$263))*100+100) -> 113.84615 | U132: =VLOOKUP(A132,[1]高一下!$A$3:$F$585,5,0) -> 63 | V132: =VLOOKUP(A132,[1]高一下!$A$3:$F$585,6,0) -> 岳子琦 | W132: =RANK(U132,$U$4:$U$263,0) -> 250 | X132: =IF(OR(Y132=0,U132=0),100,((AA132-W132)/COUNTA($D$4:$D$263))*100+100) -> 101.15385 | Y132: =VLOOKUP(A132,[1]高一上!$A$3:$F$587,5,0) -> 64 | Z132: =VLOOKUP(A132,[1]高一上!$A$3:$F$587,6,0) -> 岳子琦 | AA132: =RANK(Y132,$Y$4:$Y$263,0) -> 253 | AB132: =IF(OR(Y132=0,AC132=0),100,((AD132-AA132)/COUNTA($D$4:$D$263))*100+100) -> 95.769231 | AC132: =VLOOKUP(A132,[1]中考!$A$2:$E$571,5,0) -> 67 | AD132: =RANK(AC132,$AC$4:$AC$263,0) -> 242
A133: 513422200212220021 | B133: 3 | C133: 潘秋霞 | D133: 文科 | E133: 82 | F133: 李正琪 | G133: =RANK(E133,$E$4:$E$263,0) -> 165 | H133: =IF(OR(I133=0,E133=0),100,((K133-G133)/COUNTA($D$4:$D$263))*100+100) -> 99.230769 | I133: =VLOOKUP(A133,[1]高三上!A$3:Q$588,5,0) -> 87.5 | J133: =VLOOKUP(A133,[1]高三上!A$3:Q$588,6,0) -> 李正琪 | K133: =RANK(I133,$I$4:$I$263,0) -> 163 | L133: =IF(OR(I133=0,M133=0),100,((O133-K133)/COUNTA($D$4:$D$263))*100+100) -> 100 | M133: 0 | N133: 岳子琦 | O133: =RANK(M133,$M$4:$M$263,0) -> 236 | P133: =IF(OR(Q133=0,M133=0),100,((S133-O133)/COUNTA($D$4:$D$263))*100+100) -> 100 | Q133: =VLOOKUP(A133,[1]高二上!$A$3:$F$583,5,0) -> 94 | R133: =VLOOKUP(A133,[1]高二上!$A$3:$F$583,6,0) -> 胡美华 | S133: =RANK(Q133,$Q$4:$Q$263,0) -> 16 | T133: =IF(OR(Q133=0,U133=0),100,((W133-S133)/COUNTA($D$4:$D$263))*100+100) -> 156.92308 | U133: =VLOOKUP(A133,[1]高一下!$A$3:$F$585,5,0) -> 75 | V133: =VLOOKUP(A133,[1]高一下!$A$3:$F$585,6,0) -> 岳子琦 | W133: =RANK(U133,$U$4:$U$263,0) -> 164 | X133: =IF(OR(Y133=0,U133=0),100,((AA133-W133)/COUNTA($D$4:$D$263))*100+100) -> 65 | Y133: =VLOOKUP(A133,[1]高一上!$A$3:$F$587,5,0) -> 89 | Z133: =VLOOKUP(A133,[1]高一上!$A$3:$F$587,6,0) -> 易涛 | AA133: =RANK(Y133,$Y$4:$Y$263,0) -> 73 | AB133: =IF(OR(Y133=0,AC133=0),100,((AD133-AA133)/COUNTA($D$4:$D$263))*100+100) -> 93.846154 | AC133: =VLOOKUP(A133,[1]中考!$A$2:$E$571,5,0) -> 96 | AD133: =RANK(AC133,$AC$4:$AC$263,0) -> 57
A134: 513422200212242116 | B134: 3 | C134: 次里旦珠 | D134: 文科 | E134: 73 | F134: 李正琪 | G134: =RANK(E134,$E$4:$E$263,0) -> 232 | H134: =IF(OR(I134=0,E134=0),100,((K134-G134)/COUNTA($D$4:$D$263))*100+100) -> 101.92308 | I134: =VLOOKUP(A134,[1]高三上!A$3:Q$588,5,0) -> 68.5 | J134: =VLOOKUP(A134,[1]高三上!A$3:Q$588,6,0) -> 李正琪 | K134: =RANK(I134,$I$4:$I$263,0) -> 237 | L134: =IF(OR(I134=0,M134=0),100,((O134-K134)/COUNTA($D$4:$D$263))*100+100) -> 96.923077 | M134: =VLOOKUP(A134,[1]高二下!$A$3:$F$536,5,0) -> 70 | N134: =VLOOKUP(A134,[1]高二下!$A$3:$F$536,6,0) -> 岳子琦 | O134: =RANK(M134,$M$4:$M$263,0) -> 229 | P134: =IF(OR(Q134=0,M134=0),100,((S134-O134)/COUNTA($D$4:$D$263))*100+100) -> 111.15385 | Q134: =VLOOKUP(A134,[1]高二上!$A$3:$F$583,5,0) -> 57 | R134: =VLOOKUP(A134,[1]高二上!$A$3:$F$583,6,0) -> 胡美华 | S134: =RANK(Q134,$Q$4:$Q$263,0) -> 258 | T134: =IF(OR(Q134=0,U134=0),100,((W134-S134)/COUNTA($D$4:$D$263))*100+100) -> 95 | U134: =VLOOKUP(A134,[1]高一下!$A$3:$F$585,5,0) -> 65 | V134: =VLOOKUP(A134,[1]高一下!$A$3:$F$585,6,0) -> 岳子琦 | W134: =RANK(U134,$U$4:$U$263,0) -> 245 | X134: =IF(OR(Y134=0,U134=0),100,((AA134-W134)/COUNTA($D$4:$D$263))*100+100) -> 100 | Y134: 0 | Z134: 岳子琦 | AA134: =RANK(Y134,$Y$4:$Y$263,0) -> 257 | AB134: =IF(OR(Y134=0,AC134=0),100,((AD134-AA134)/COUNTA($D$4:$D$263))*100+100) -> 100 | AC134: 0 | AD134: =RANK(AC134,$AC$4:$AC$263,0) -> 255
A135: 513422200302272124 | B135: 3 | C135: 罗兴珍 | D135: 文科 | E135: 103 | F135: 李正琪 | G135: =RANK(E135,$E$4:$E$263,0) -> 14 | H135: =IF(OR(I135=0,E135=0),100,((K135-G135)/COUNTA($D$4:$D$263))*100+100) -> 133.07692 | I135: =VLOOKUP(A135,[1]高三上!A$3:Q$588,5,0) -> 93 | J135: =VLOOKUP(A135,[1]高三上!A$3:Q$588,6,0) -> 李正琪 | K135: =RANK(I135,$I$4:$I$263,0) -> 100 | L135: =IF(OR(I135=0,M135=0),100,((O135-K135)/COUNTA($D$4:$D$263))*100+100) -> 126.92308 | M135: =VLOOKUP(A135,[1]高二下!$A$3:$F$536,5,0) -> 81 | N135: =VLOOKUP(A135,[1]高二下!$A$3:$F$536,6,0) -> 岳子琦 | O135: =RANK(M135,$M$4:$M$263,0) -> 170 | P135: =IF(OR(Q135=0,M135=0),100,((S135-O135)/COUNTA($D$4:$D$263))*100+100) -> 45 | Q135: =VLOOKUP(A135,[1]高二上!$A$3:$F$583,5,0) -> 92 | R135: =VLOOKUP(A135,[1]高二上!$A$3:$F$583,6,0) -> 胡美华 | S135: =RANK(Q135,$Q$4:$Q$263,0) -> 27 | T135: =IF(OR(Q135=0,U135=0),100,((W135-S135)/COUNTA($D$4:$D$263))*100+100) -> 152.69231 | U135: =VLOOKUP(A135,[1]高一下!$A$3:$F$585,5,0) -> 75 | V135: =VLOOKUP(A135,[1]高一下!$A$3:$F$585,6,0) -> 岳子琦 | W135: =RANK(U135,$U$4:$U$263,0) -> 164 | X135: =IF(OR(Y135=0,U135=0),100,((AA135-W135)/COUNTA($D$4:$D$263))*100+100) -> 119.61538 | Y135: =VLOOKUP(A135,[1]高一上!$A$3:$F$587,5,0) -> 75 | Z135: =VLOOKUP(A135,[1]高一上!$A$3:$F$587,6,0) -> 岳子琦 | AA135: =RANK(Y135,$Y$4:$Y$263,0) -> 215 | AB135: =IF(OR(Y135=0,AC135=0),100,((AD135-AA135)/COUNTA($D$4:$D$263))*100+100) -> 27.307692 | AC135: =VLOOKUP(A135,[1]中考!$A$2:$E$571,5,0) -> 100 | AD135: =RANK(AC135,$AC$4:$AC$263,0) -> 26
A136: 513422200303211526 | B136: 3 | C136: 扎西央初 | D136: 文科 | E136: 69 | F136: 李正琪 | G136: =RANK(E136,$E$4:$E$263,0) -> 252 | H136: =IF(OR(I136=0,E136=0),100,((K136-G136)/COUNTA($D$4:$D$263))*100+100) -> 100 | I136: 0 | J136: 李正琪 | K136: =RANK(I136,$I$4:$I$263,0) -> 241 | L136: =IF(OR(I136=0,M136=0),100,((O136-K136)/COUNTA($D$4:$D$263))*100+100) -> 100 | M136: 0 | N136: 岳子琦 | O136: =RANK(M136,$M$4:$M$263,0) -> 236 | P136: =IF(OR(Q136=0,M136=0),100,((S136-O136)/COUNTA($D$4:$D$263))*100+100) -> 100 | Q136: =VLOOKUP(A136,[1]高二上!$A$3:$F$583,5,0) -> 74 | R136: =VLOOKUP(A136,[1]高二上!$A$3:$F$583,6,0) -> 胡美华 | S136: =RANK(Q136,$Q$4:$Q$263,0) -> 214 | T136: =IF(OR(Q136=0,U136=0),100,((W136-S136)/COUNTA($D$4:$D$263))*100+100) -> 61.153846 | U136: =VLOOKUP(A136,[1]高一下!$A$3:$F$585,5,0) -> 79 | V136: =VLOOKUP(A136,[1]高一下!$A$3:$F$585,6,0) -> 岳子琦 | W136: =RANK(U136,$U$4:$U$263,0) -> 113 | X136: =IF(OR(Y136=0,U136=0),100,((AA136-W136)/COUNTA($D$4:$D$263))*100+100) -> 77.307692 | Y136: =VLOOKUP(A136,[1]高一上!$A$3:$F$587,5,0) -> 91 | Z136: =VLOOKUP(A136,[1]高一上!$A$3:$F$587,6,0) -> 岳子琦 | AA136: =RANK(Y136,$Y$4:$Y$263,0) -> 54 | AB136: =IF(OR(Y136=0,AC136=0),100,((AD136-AA136)/COUNTA($D$4:$D$263))*100+100) -> 111.53846 | AC136: =VLOOKUP(A136,[1]中考!$A$2:$E$571,5,0) -> 93 | AD136: =RANK(AC136,$AC$4:$AC$263,0) -> 84
A137: 513422200304101919 | B137: 3 | C137: 王金平 | D137: 文科 | E137: 90 | F137: 李正琪 | G137: =RANK(E137,$E$4:$E$263,0) -> 97 | H137: =IF(OR(I137=0,E137=0),100,((K137-G137)/COUNTA($D$4:$D$263))*100+100) -> 91.153846 | I137: =VLOOKUP(A137,[1]高三上!A$3:Q$588,5,0) -> 94.5 | J137: =VLOOKUP(A137,[1]高三上!A$3:Q$588,6,0) -> 李正琪 | K137: =RANK(I137,$I$4:$I$263,0) -> 74 | L137: =IF(OR(I137=0,M137=0),100,((O137-K137)/COUNTA($D$4:$D$263))*100+100) -> 103.46154 | M137: =VLOOKUP(A137,[1]高二下!$A$3:$F$536,5,0) -> 87 | N137: =VLOOKUP(A137,[1]高二下!$A$3:$F$536,6,0) -> 岳子琦 | O137: =RANK(M137,$M$4:$M$263,0) -> 83 | P137: =IF(OR(Q137=0,M137=0),100,((S137-O137)/COUNTA($D$4:$D$263))*100+100) -> 131.92308 | Q137: =VLOOKUP(A137,[1]高二上!$A$3:$F$583,5,0) -> 79 | R137: =VLOOKUP(A137,[1]高二上!$A$3:$F$583,6,0) -> 胡美华 | S137: =RANK(Q137,$Q$4:$Q$263,0) -> 166 | T137: =IF(OR(Q137=0,U137=0),100,((W137-S137)/COUNTA($D$4:$D$263))*100+100) -> 121.15385 | U137: =VLOOKUP(A137,[1]高一下!$A$3:$F$585,5,0) -> 70 | V137: =VLOOKUP(A137,[1]高一下!$A$3:$F$585,6,0) -> 岳子琦 | W137: =RANK(U137,$U$4:$U$263,0) -> 221 | X137: =IF(OR(Y137=0,U137=0),100,((AA137-W137)/COUNTA($D$4:$D$263))*100+100) -> 110 | Y137: =VLOOKUP(A137,[1]高一上!$A$3:$F$587,5,0) -> 67 | Z137: =VLOOKUP(A137,[1]高一上!$A$3:$F$587,6,0) -> 岳子琦 | AA137: =RANK(Y137,$Y$4:$Y$263,0) -> 247 | AB137: =IF(OR(Y137=0,AC137=0),100,((AD137-AA137)/COUNTA($D$4:$D$263))*100+100) -> 60.384615 | AC137: =VLOOKUP(A137,[1]中考!$A$2:$E$571,5,0) -> 87 | AD137: =RANK(AC137,$AC$4:$AC$263,0) -> 144
A138: 513422200304201522 | B138: 3 | C138: 毛学英 | D138: 文科 | E138: 64 | F138: 李正琪 | G138: =RANK(E138,$E$4:$E$263,0) -> 259 | H138: =IF(OR(I138=0,E138=0),100,((K138-G138)/COUNTA($D$4:$D$263))*100+100) -> 81.923077 | I138: =VLOOKUP(A138,[1]高三上!A$3:Q$588,5,0) -> 81 | J138: =VLOOKUP(A138,[1]高三上!A$3:Q$588,6,0) -> 李正琪 | K138: =RANK(I138,$I$4:$I$263,0) -> 212 | L138: =IF(OR(I138=0,M138=0),100,((O138-K138)/COUNTA($D$4:$D$263))*100+100) -> 86.538462 | M138: =VLOOKUP(A138,[1]高二下!$A$3:$F$536,5,0) -> 80 | N138: =VLOOKUP(A138,[1]高二下!$A$3:$F$536,6,0) -> 岳子琦 | O138: =RANK(M138,$M$4:$M$263,0) -> 177 | P138: =IF(OR(Q138=0,M138=0),100,((S138-O138)/COUNTA($D$4:$D$263))*100+100) -> 90.384615 | Q138: =VLOOKUP(A138,[1]高二上!$A$3:$F$583,5,0) -> 80 | R138: =VLOOKUP(A138,[1]高二上!$A$3:$F$583,6,0) -> 胡美华 | S138: =RANK(Q138,$Q$4:$Q$263,0) -> 152 | T138: =IF(OR(Q138=0,U138=0),100,((W138-S138)/COUNTA($D$4:$D$263))*100+100) -> 139.23077 | U138: =VLOOKUP(A138,[1]高一下!$A$3:$F$585,5,0) -> 60 | V138: =VLOOKUP(A138,[1]高一下!$A$3:$F$585,6,0) -> 岳子琦 | W138: =RANK(U138,$U$4:$U$263,0) -> 254 | X138: =IF(OR(Y138=0,U138=0),100,((AA138-W138)/COUNTA($D$4:$D$263))*100+100) -> 53.846154 | Y138: =VLOOKUP(A138,[1]高一上!$A$3:$F$587,5,0) -> 83 | Z138: =VLOOKUP(A138,[1]高一上!$A$3:$F$587,6,0) -> 岳子琦 | AA138: =RANK(Y138,$Y$4:$Y$263,0) -> 134 | AB138: =IF(OR(Y138=0,AC138=0),100,((AD138-AA138)/COUNTA($D$4:$D$263))*100+100) -> 121.53846 | AC138: =VLOOKUP(A138,[1]中考!$A$2:$E$571,5,0) -> 80 | AD138: =RANK(AC138,$AC$4:$AC$263,0) -> 190
A139: 513422200306152322 | B139: 3 | C139: 仁仟拉姆 | D139: 文科 | E139: 95 | F139: 李正琪 | G139: =RANK(E139,$E$4:$E$263,0) -> 50 | H139: =IF(OR(I139=0,E139=0),100,((K139-G139)/COUNTA($D$4:$D$263))*100+100) -> 85.769231 | I139: =VLOOKUP(A139,[1]高三上!A$3:Q$588,5,0) -> 101.5 | J139: =VLOOKUP(A139,[1]高三上!A$3:Q$588,6,0) -> 李正琪 | K139: =RANK(I139,$I$4:$I$263,0) -> 13 | L139: =IF(OR(I139=0,M139=0),100,((O139-K139)/COUNTA($D$4:$D$263))*100+100) -> 148.46154 | M139: =VLOOKUP(A139,[1]高二下!$A$3:$F$536,5,0) -> 83 | N139: =VLOOKUP(A139,[1]高二下!$A$3:$F$536,6,0) -> 岳子琦 | O139: =RANK(M139,$M$4:$M$263,0) -> 139 | P139: =IF(OR(Q139=0,M139=0),100,((S139-O139)/COUNTA($D$4:$D$263))*100+100) -> 75 | Q139: =VLOOKUP(A139,[1]高二上!$A$3:$F$583,5,0) -> 87 | R139: =VLOOKUP(A139,[1]高二上!$A$3:$F$583,6,0) -> 胡美华 | S139: =RANK(Q139,$Q$4:$Q$263,0) -> 74 | T139: =IF(OR(Q139=0,U139=0),100,((W139-S139)/COUNTA($D$4:$D$263))*100+100) -> 77.307692 | U139: =VLOOKUP(A139,[1]高一下!$A$3:$F$585,5,0) -> 87 | V139: =VLOOKUP(A139,[1]高一下!$A$3:$F$585,6,0) -> 岳子琦 | W139: =RANK(U139,$U$4:$U$263,0) -> 15 | X139: =IF(OR(Y139=0,U139=0),100,((AA139-W139)/COUNTA($D$4:$D$263))*100+100) -> 126.53846 | Y139: =VLOOKUP(A139,[1]高一上!$A$3:$F$587,5,0) -> 88 | Z139: =VLOOKUP(A139,[1]高一上!$A$3:$F$587,6,0) -> 岳子琦 | AA139: =RANK(Y139,$Y$4:$Y$263,0) -> 84 | AB139: =IF(OR(Y139=0,AC139=0),100,((AD139-AA139)/COUNTA($D$4:$D$263))*100+100) -> 83.461538 | AC139: =VLOOKUP(A139,[1]中考!$A$2:$E$571,5,0) -> 98 | AD139: =RANK(AC139,$AC$4:$AC$263,0) -> 41
A140: 513422200306270011 | B140: 3 | C140: 王正林 | D140: 文科 | E140: 85 | F140: 李正琪 | G140: =RANK(E140,$E$4:$E$263,0) -> 144 | H140: =IF(OR(I140=0,E140=0),100,((K140-G140)/COUNTA($D$4:$D$263))*100+100) -> 65.769231 | I140: =VLOOKUP(A140,[1]高三上!A$3:Q$588,5,0) -> 96.5 | J140: =VLOOKUP(A140,[1]高三上!A$3:Q$588,6,0) -> 李正琪 | K140: =RANK(I140,$I$4:$I$263,0) -> 55 | L140: =IF(OR(I140=0,M140=0),100,((O140-K140)/COUNTA($D$4:$D$263))*100+100) -> 100 | M140: 0 | N140: 岳子琦 | O140: =RANK(M140,$M$4:$M$263,0) -> 236 | P140: =IF(OR(Q140=0,M140=0),100,((S140-O140)/COUNTA($D$4:$D$263))*100+100) -> 100 | Q140: =VLOOKUP(A140,[1]高二上!$A$3:$F$583,5,0) -> 82 | R140: =VLOOKUP(A140,[1]高二上!$A$3:$F$583,6,0) -> 胡美华 | S140: =RANK(Q140,$Q$4:$Q$263,0) -> 135 | T140: =IF(OR(Q140=0,U140=0),100,((W140-S140)/COUNTA($D$4:$D$263))*100+100) -> 85 | U140: =VLOOKUP(A140,[1]高一下!$A$3:$F$585,5,0) -> 80 | V140: =VLOOKUP(A140,[1]高一下!$A$3:$F$585,6,0) -> 岳子琦 | W140: =RANK(U140,$U$4:$U$263,0) -> 96 | X140: =IF(OR(Y140=0,U140=0),100,((AA140-W140)/COUNTA($D$4:$D$263))*100+100) -> 103.46154 | Y140: =VLOOKUP(A140,[1]高一上!$A$3:$F$587,5,0) -> 86 | Z140: =VLOOKUP(A140,[1]高一上!$A$3:$F$587,6,0) -> 岳子琦 | AA140: =RANK(Y140,$Y$4:$Y$263,0) -> 105 | AB140: =IF(OR(Y140=0,AC140=0),100,((AD140-AA140)/COUNTA($D$4:$D$263))*100+100) -> 81.538462 | AC140: =VLOOKUP(A140,[1]中考!$A$2:$E$571,5,0) -> 96 | AD140: =RANK(AC140,$AC$4:$AC$263,0) -> 57
A141: 513422200307132323 | B141: 3 | C141: 张丽 | D141: 文科 | E141: 99 | F141: 李正琪 | G141: =RANK(E141,$E$4:$E$263,0) -> 31 | H141: =IF(OR(I141=0,E141=0),100,((K141-G141)/COUNTA($D$4:$D$263))*100+100) -> 99.615385 | I141: =VLOOKUP(A141,[1]高三上!A$3:Q$588,5,0) -> 99 | J141: =VLOOKUP(A141,[1]高三上!A$3:Q$588,6,0) -> 李正琪 | K141: =RANK(I141,$I$4:$I$263,0) -> 30 | L141: =IF(OR(I141=0,M141=0),100,((O141-K141)/COUNTA($D$4:$D$263))*100+100) -> 108.46154 | M141: =VLOOKUP(A141,[1]高二下!$A$3:$F$536,5,0) -> 89 | N141: =VLOOKUP(A141,[1]高二下!$A$3:$F$536,6,0) -> 岳子琦 | O141: =RANK(M141,$M$4:$M$263,0) -> 52 | P141: =IF(OR(Q141=0,M141=0),100,((S141-O141)/COUNTA($D$4:$D$263))*100+100) -> 99.615385 | Q141: =VLOOKUP(A141,[1]高二上!$A$3:$F$583,5,0) -> 89 | R141: =VLOOKUP(A141,[1]高二上!$A$3:$F$583,6,0) -> 胡美华 | S141: =RANK(Q141,$Q$4:$Q$263,0) -> 51 | T141: =IF(OR(Q141=0,U141=0),100,((W141-S141)/COUNTA($D$4:$D$263))*100+100) -> 117.30769 | U141: =VLOOKUP(A141,[1]高一下!$A$3:$F$585,5,0) -> 80 | V141: =VLOOKUP(A141,[1]高一下!$A$3:$F$585,6,0) -> 岳子琦 | W141: =RANK(U141,$U$4:$U$263,0) -> 96 | X141: =IF(OR(Y141=0,U141=0),100,((AA141-W141)/COUNTA($D$4:$D$263))*100+100) -> 81.538462 | Y141: =VLOOKUP(A141,[1]高一上!$A$3:$F$587,5,0) -> 92 | Z141: =VLOOKUP(A141,[1]高一上!$A$3:$F$587,6,0) -> 岳子琦 | AA141: =RANK(Y141,$Y$4:$Y$263,0) -> 48 | AB141: =IF(OR(Y141=0,AC141=0),100,((AD141-AA141)/COUNTA($D$4:$D$263))*100+100) -> 103.46154 | AC141: =VLOOKUP(A141,[1]中考!$A$2:$E$571,5,0) -> 96 | AD141: =RANK(AC141,$AC$4:$AC$263,0) -> 57
A142: 513422200309062525 | B142: 3 | C142: 陶国英 | D142: 文科 | E142: 88 | F142: 李正琪 | G142: =RANK(E142,$E$4:$E$263,0) -> 116 | H142: =IF(OR(I142=0,E142=0),100,((K142-G142)/COUNTA($D$4:$D$263))*100+100) -> 141.15385 | I142: =VLOOKUP(A142,[1]高三上!A$3:Q$588,5,0) -> 79 | J142: =VLOOKUP(A142,[1]高三上!A$3:Q$588,6,0) -> 李正琪 | K142: =RANK(I142,$I$4:$I$263,0) -> 223 | L142: =IF(OR(I142=0,M142=0),100,((O142-K142)/COUNTA($D$4:$D$263))*100+100) -> 89.230769 | M142: =VLOOKUP(A142,[1]高二下!$A$3:$F$536,5,0) -> 78 | N142: =VLOOKUP(A142,[1]高二下!$A$3:$F$536,6,0) -> 岳子琦 | O142: =RANK(M142,$M$4:$M$263,0) -> 195 | P142: =IF(OR(Q142=0,M142=0),100,((S142-O142)/COUNTA($D$4:$D$263))*100+100) -> 101.92308 | Q142: =VLOOKUP(A142,[1]高二上!$A$3:$F$583,5,0) -> 75 | R142: =VLOOKUP(A142,[1]高二上!$A$3:$F$583,6,0) -> 胡美华 | S142: =RANK(Q142,$Q$4:$Q$263,0) -> 200 | T142: =IF(OR(Q142=0,U142=0),100,((W142-S142)/COUNTA($D$4:$D$263))*100+100) -> 48.461538 | U142: =VLOOKUP(A142,[1]高一下!$A$3:$F$585,5,0) -> 82 | V142: =VLOOKUP(A142,[1]高一下!$A$3:$F$585,6,0) -> 岳子琦 | W142: =RANK(U142,$U$4:$U$263,0) -> 66 | X142: =IF(OR(Y142=0,U142=0),100,((AA142-W142)/COUNTA($D$4:$D$263))*100+100) -> 142.30769 | Y142: =VLOOKUP(A142,[1]高一上!$A$3:$F$587,5,0) -> 79 | Z142: =VLOOKUP(A142,[1]高一上!$A$3:$F$587,6,0) -> 岳子琦 | AA142: =RANK(Y142,$Y$4:$Y$263,0) -> 176 | AB142: =IF(OR(Y142=0,AC142=0),100,((AD142-AA142)/COUNTA($D$4:$D$263))*100+100) -> 62.307692 | AC142: =VLOOKUP(A142,[1]中考!$A$2:$E$571,5,0) -> 94 | AD142: =RANK(AC142,$AC$4:$AC$263,0) -> 78
A143: 513422200310204420 | B143: 3 | C143: 金晓花 | D143: 文科 | E143: 74 | F143: 李正琪 | G143: =RANK(E143,$E$4:$E$263,0) -> 228 | H143: =IF(OR(I143=0,E143=0),100,((K143-G143)/COUNTA($D$4:$D$263))*100+100) -> 104.61538 | I143: =VLOOKUP(A143,[1]高三上!A$3:Q$588,5,0) -> 67 | J143: =VLOOKUP(A143,[1]高三上!A$3:Q$588,6,0) -> 李正琪 | K143: =RANK(I143,$I$4:$I$263,0) -> 240 | L143: =IF(OR(I143=0,M143=0),100,((O143-K143)/COUNTA($D$4:$D$263))*100+100) -> 91.538462 | M143: =VLOOKUP(A143,[1]高二下!$A$3:$F$536,5,0) -> 75 | N143: =VLOOKUP(A143,[1]高二下!$A$3:$F$536,6,0) -> 岳子琦 | O143: =RANK(M143,$M$4:$M$263,0) -> 218 | P143: =IF(OR(Q143=0,M143=0),100,((S143-O143)/COUNTA($D$4:$D$263))*100+100) -> 110 | Q143: =VLOOKUP(A143,[1]高二上!$A$3:$F$583,5,0) -> 65 | R143: =VLOOKUP(A143,[1]高二上!$A$3:$F$583,6,0) -> 胡美华 | S143: =RANK(Q143,$Q$4:$Q$263,0) -> 244 | T143: =IF(OR(Q143=0,U143=0),100,((W143-S143)/COUNTA($D$4:$D$263))*100+100) -> 93.461538 | U143: =VLOOKUP(A143,[1]高一下!$A$3:$F$585,5,0) -> 69 | V143: =VLOOKUP(A143,[1]高一下!$A$3:$F$585,6,0) -> 岳子琦 | W143: =RANK(U143,$U$4:$U$263,0) -> 227 | X143: =IF(OR(Y143=0,U143=0),100,((AA143-W143)/COUNTA($D$4:$D$263))*100+100) -> 98.461538 | Y143: =VLOOKUP(A143,[1]高一上!$A$3:$F$587,5,0) -> 74 | Z143: =VLOOKUP(A143,[1]高一上!$A$3:$F$587,6,0) -> 岳子琦 | AA143: =RANK(Y143,$Y$4:$Y$263,0) -> 223 | AB143: =IF(OR(Y143=0,AC143=0),100,((AD143-AA143)/COUNTA($D$4:$D$263))*100+100) -> 90.769231 | AC143: =VLOOKUP(A143,[1]中考!$A$2:$E$571,5,0) -> 78 | AD143: =RANK(AC143,$AC$4:$AC$263,0) -> 199
...

Sheet 语文计算
B1: 学年 | C1: 姓名 | D1: 得分和 | E1: 人数 | F1: 得分
A2: 高三下 | B2: 文科 | C2: 格绒燚西 | D2: =SUMIF(语文!$F$4:$F$263,C2,语文!$H$4:$H$263) -> 10388.846 | E2: =COUNTIF(语文!$F$4:$F$263,C2) -> 103 | F2: =D2/E2 -> 100.86258 | H2: 高三下 | I2: 格绒燚西 | J2: =AVERAGEIF($C$2:$C$7,I2,$F$2:$F$7) -> 100.86258 | O2: 格绒燚西 | P2: =SUMIF($I$2:$I$36,O2,$J$2:$J$36) -> 599.24425
C3: 李正琪 | D3: =SUMIF(语文!$F$4:$F$263,C3,语文!$H$4:$H$263) -> 5531.1538 | E3: =COUNTIF(语文!$F$4:$F$263,C3) -> 54 | F3: =D3/E3 -> 102.42877 | I3: 李正琪 | J3: =AVERAGEIF($C$2:$C$7,I3,$F$2:$F$7) -> 102.42877 | O3: 李正琪 | P3: =SUMIF($I$2:$I$36,O3,$J$2:$J$36) -> 194.60114
C4: 周菊明 | D4: =SUMIF(语文!$F$4:$F$263,C4,语文!$H$4:$H$263) -> 9595 | E4: =COUNTIF(语文!$F$4:$F$263,C4) -> 103 | F4: =D4/E4 -> 93.15534 | I4: 周菊明 | J4: =AVERAGEIF($C$2:$C$7,I4,$F$2:$F$7) -> 93.15534 | O4: 周菊明 | P4: =SUMIF($I$2:$I$36,O4,$J$2:$J$36) -> 604.6925
B5: 理科 | C5: 易涛 | D5: =SUMIF(语文!$F$264:$F$550,C5,语文!$H$264:$H$550) -> 9751.2195 | E5: =COUNTIF(语文!$F$264:$F$550,C5) -> 94 | F5: =D5/E5 -> 103.73638 | I5: 易涛 | J5: =AVERAGEIF($C$2:$C$7,I5,$F$2:$F$7) -> 103.73638 | O5: 易涛 | P5: =SUMIF($I$2:$I$36,O5,$J$2:$J$36) -> 621.35625
C6: 肖锐 | D6: =SUMIF(语文!$F$264:$F$550,C6,语文!$H$264:$H$550) -> 9887.8049 | E6: =COUNTIF(语文!$F$264:$F$550,C6) -> 101 | F6: =D6/E6 -> 97.899058 | I6: 肖锐 | J6: =AVERAGEIF($C$2:$C$7,I6,$F$2:$F$7) -> 97.899058 | O6: 肖锐 | P6: =SUMIF($I$2:$I$36,O6,$J$2:$J$36) -> 603.05349
C7: 岳子琦 | D7: =SUMIF(语文!$F$264:$F$550,C7,语文!$H$264:$H$550) -> 8859.5819 | E7: =COUNTIF(语文!$F$264:$F$550,C7) -> 92 | F7: =D7/E7 -> 96.299803 | I7: 岳子琦 | J7: =AVERAGEIF($C$2:$C$7,I7,$F$2:$F$7) -> 96.299803 | O7: 岳子琦 | P7: =SUMIF($I$2:$I$36,O7,$J$2:$J$36) -> 505.28361
A8: 高三上 | B8: 文科 | C8: 格绒燚西 | D8: =SUMIF(语文!$J$4:$J$263,C8,语文!$L$4:$L$263) -> 10241.923 | E8: =COUNTIF(语文!$J$4:$J$263,C8) -> 103 | F8: =D8/E8 -> 99.436146 | H8: 高三上 | I8: 格绒燚西 | J8: =AVERAGEIF($C$8:$C$13,I8,$F$8:$F$13) -> 99.436146 | O8: 胡美华 | P8: =SUMIF($I$2:$I$36,O8,$J$2:$J$36) -> 98.94775
C9: 李正琪 | D9: =SUMIF(语文!$J$4:$J$263,C9,语文!$L$4:$L$263) -> 4977.3077 | E9: =COUNTIF(语文!$J$4:$J$263,C9) -> 54 | F9: =D9/E9 -> 92.172365 | I9: 李正琪 | J9: =AVERAGEIF($C$8:$C$13,I9,$F$8:$F$13) -> 92.172365 | O9: 陈丽娇 | P9: =SUMIF($I$2:$I$36,O9,$J$2:$J$36) -> 294.08312
C10: 周菊明 | D10: =SUMIF(语文!$J$4:$J$263,C10,语文!$L$4:$L$263) -> 10311.154 | E10: =COUNTIF(语文!$J$4:$J$263,C10) -> 103 | F10: =D10/E10 -> 100.10829 | I10: 周菊明 | J10: =AVERAGEIF($C$8:$C$13,I10,$F$8:$F$13) -> 100.10829
B11: 理科 | C11: 易涛 | D11: =SUMIF(语文!$J$264:$J$550,C11,语文!$L$264:$L$550) -> 9489.1986 | E11: =COUNTIF(语文!$J$264:$J$550,C11) -> 94 | F11: =D11/E11 -> 100.94892 | I11: 易涛 | J11: =AVERAGEIF($C$8:$C$13,I11,$F$8:$F$13) -> 100.94892
C12: 肖锐 | D12: =SUMIF(语文!$J$264:$J$550,C12,语文!$L$264:$L$550) -> 10321.254 | E12: =COUNTIF(语文!$J$264:$J$550,C12) -> 101 | F12: =D12/E12 -> 102.19064 | I12: 肖锐 | J12: =AVERAGEIF($C$8:$C$13,I12,$F$8:$F$13) -> 102.19064
C13: 岳子琦 | D13: =SUMIF(语文!$J$264:$J$550,C13,语文!$L$264:$L$550) -> 8660.9756 | E13: =COUNTIF(语文!$J$264:$J$550,C13) -> 92 | F13: =D13/E13 -> 94.141039 | I13: 岳子琦 | J13: =AVERAGEIF($C$8:$C$13,I13,$F$8:$F$13) -> 94.141039
A14: 高二下 | B14: 文科 | C14: 格绒燚西 | D14: =SUMIF(语文!$N$4:$N$263,C14,语文!$P$4:$P$263) -> 10712.692 | E14: =COUNTIF(语文!$N$4:$N$263,C14) -> 103 | F14: =D14/E14 -> 104.00672 | H14: 高二下 | I14: 格绒燚西 | J14: =AVERAGEIF($C$14:$C$19,I14,$F$14:$F$19) -> 104.00672
C15: 岳子琦 | D15: =SUMIF(语文!$N$4:$N$263,C15,语文!$P$4:$P$263) -> 5658.4615 | E15: =COUNTIF(语文!$N$4:$N$263,C15) -> 54 | F15: =D15/E15 -> 104.78632 | I15: 岳子琦 | J15: =AVERAGEIF($C$14:$C$19,I15,$F$14:$F$19) -> 107.08563
C16: 周菊明 | D16: =SUMIF(语文!$N$4:$N$263,C16,语文!$P$4:$P$263) -> 10791.154 | E16: =COUNTIF(语文!$N$4:$N$263,C16) -> 103 | F16: =D16/E16 -> 104.76848 | I16: 周菊明 | J16: =AVERAGEIF($C$14:$C$19,I16,$F$14:$F$19) -> 104.76848
B17: 理科 | C17: 易涛 | D17: =SUMIF(语文!$N$264:$N$550,C17,语文!$P$264:$P$550) -> 9311.8467 | E17: =COUNTIF(语文!$N$264:$N$550,C17) -> 94 | F17: =D17/E17 -> 99.062199 | I17: 易涛 | J17: =AVERAGEIF($C$14:$C$19,I17,$F$14:$F$19) -> 99.062199
C18: 肖锐 | D18: =SUMIF(语文!$N$264:$N$550,C18,语文!$P$264:$P$550) -> 9950.5226 | E18: =COUNTIF(语文!$N$264:$N$550,C18) -> 101 | F18: =D18/E18 -> 98.520026 | I18: 肖锐 | J18: =AVERAGEIF($C$14:$C$19,I18,$F$14:$F$19) -> 98.520026
C19: 岳子琦 | D19: =SUMIF(语文!$N$264:$N$550,C19,语文!$P$264:$P$550) -> 10063.415 | E19: =COUNTIF(语文!$N$264:$N$550,C19) -> 92 | F19: =D19/E19 -> 109.38494 | H19: 高二上 | I19: 格绒燚西 | J19: =AVERAGEIF($C$20:$C$26,I19,$F$20:$F$26) -> 98.510558
A20: 高二上 | B20: 文科 | C20: 格绒燚西 | D20: =SUMIF(语文!$R$4:$R$263,C20,语文!$T$4:$T$263) -> 10048.077 | E20: =COUNTIF(语文!$R$3:$R$263,C20) -> 102 | F20: =D20/E20 -> 98.510558 | I20: 易涛 | J20: =AVERAGEIF($C$20:$C$26,I20,$F$20:$F$26) -> 100.99056
C21: 易涛 | D21: =SUMIF(语文!$R$4:$R$263,C21,语文!$T$4:$T$263) -> 107.30769 | E21: =COUNTIF(语文!$R$3:$R$263,C21) -> 1 | F21: =D21/E21 -> 107.30769 | I21: 胡美华 | J21: =AVERAGEIF($C$20:$C$26,I21,$F$20:$F$26) -> 98.94775
C22: 胡美华 | D22: =SUMIF(语文!$R$4:$R$263,C22,语文!$T$4:$T$263) -> 5244.2308 | E22: =COUNTIF(语文!$R$3:$R$263,C22) -> 53 | F22: =D22/E22 -> 98.94775 | I22: 周菊明 | J22: =AVERAGEIF($C$20:$C$26,I22,$F$20:$F$26) -> 99.463757
C23: 周菊明 | D23: =SUMIF(语文!$R$4:$R$263,C23,语文!$T$4:$T$263) -> 10344.231 | E23: =COUNTIF(语文!$R$3:$R$263,C23) -> 104 | F23: =D23/E23 -> 99.463757 | I23: 肖锐 | J23: =AVERAGEIF($C$20:$C$26,I23,$F$20:$F$26) -> 103.08414
B24: 理科 | C24: 易涛 | D24: =SUMIF(语文!$R$264:$R$550,C24,语文!$T$264:$T$550) -> 8899.3031 | E24: =COUNTIF(语文!$R$264:$R$550,C24) -> 94 | F24: =D24/E24 -> 94.673438 | I24: 陈丽娇 | J24: =AVERAGEIF($C$20:$C$26,I24,$F$20:$F$26) -> 99.84472
C25: 肖锐 | D25: =SUMIF(语文!$R$264:$R$550,C25,语文!$T$264:$T$550) -> 10411.498 | E25: =COUNTIF(语文!$R$264:$R$550,C25) -> 101 | F25: =D25/E25 -> 103.08414 | H25: 高一下 | I25: 格绒燚西 | J25: =AVERAGEIF($C$27:$C$34,I25,$F$27:$F$34) -> 100.25148
C26: 陈丽娇 | D26: =SUMIF(语文!$R$264:$R$550,C26,语文!$T$264:$T$550) -> 9185.7143 | E26: =COUNTIF(语文!$R$264:$R$550,C26) -> 92 | F26: =D26/E26 -> 99.84472 | I26: 易涛 | J26: =AVERAGEIF($C$27:$C$34,I26,$F$27:$F$34) -> 118.12051
A27: 高一下 | B27: 文科 | C27: 格绒燚西 | D27: =SUMIF(语文!$V$4:$V$263,C27,语文!$X$4:$X$263) -> 10426.154 | E27: =COUNTIF(语文!$V$4:$V$263,C27) -> 104 | F27: =D27/E27 -> 100.25148 | I27: 岳子琦 | J27: =AVERAGEIF($C$27:$C$34,I27,$F$27:$F$34) -> 102.88824
C28: 易涛 | D28: =SUMIF(语文!$V$4:$V$263,C28,语文!$X$4:$X$263) -> 132.69231 | E28: =COUNTIF(语文!$V$4:$V$263,C28) -> 1 | F28: =D28/E28 -> 132.69231 | I28: 周菊明 | J28: =AVERAGEIF($C$27:$C$34,I28,$F$27:$F$34) -> 99.48591
C29: 岳子琦 | D29: =SUMIF(语文!$V$4:$V$263,C29,语文!$X$4:$X$263) -> 5453.0769 | E29: =COUNTIF(语文!$V$4:$V$263,C29) -> 53 | F29: =D29/E29 -> 102.88824 | I29: 陈丽娇 | J29: =AVERAGEIF($C$27:$C$34,I29,$F$27:$F$34) -> 90.392649
C30: 周菊明 | D30: =SUMIF(语文!$V$4:$V$263,C30,语文!$X$4:$X$263) -> 10048.077 | E30: =COUNTIF(语文!$V$4:$V$263,C30) -> 101 | F30: =D30/E30 -> 99.48591 | I30: 肖锐 | J30: =AVERAGEIF($C$27:$C$34,I30,$F$27:$F$34) -> 100.01025
C31: 陈丽娇 | D31: =SUMIF(语文!$V$4:$V$263,C31,语文!$X$4:$X$263) -> 82.692308 | E31: =COUNTIF(语文!$V$4:$V$263,C31) -> 1 | F31: =D31/E31 -> 82.692308 | H31: 高一上 | I31: 格绒燚西 | J31: =AVERAGEIF($C$35:$C$46,I31,$F$35:$F$46) -> 96.176765
B32: 理科 | C32: 易涛 | D32: =SUMIF(语文!$V$264:$V$550,C32,语文!$X$264:$X$550) -> 9526.4808 | E32: =COUNTIF(语文!$V$264:$V$550,C32) -> 92 | F32: =D32/E32 -> 103.5487 | I32: 易涛 | J32: =AVERAGEIF($C$35:$C$46,I32,$F$35:$F$46) -> 98.497683
C33: 肖锐 | D33: =SUMIF(语文!$V$264:$V$550,C33,语文!$X$264:$X$550) -> 10201.045 | E33: =COUNTIF(语文!$V$264:$V$550,C33) -> 102 | F33: =D33/E33 -> 100.01025 | I33: 肖锐 | J33: =AVERAGEIF($C$35:$C$46,I33,$F$35:$F$46) -> 101.34938
C34: 陈丽娇 | D34: =SUMIF(语文!$V$264:$V$550,C34,语文!$X$264:$X$550) -> 9122.6481 | E34: =COUNTIF(语文!$V$264:$V$550,C34) -> 93 | F34: =D34/E34 -> 98.09299 | I34: 陈丽娇 | J34: =AVERAGEIF($C$35:$C$46,I34,$F$35:$F$46) -> 103.84575
A35: 高一上 | B35: 文科 | C35: 格绒燚西 | D35: =SUMIF(语文!$Z$3:$Z$263,C35,语文!$AB$4:$AB$263) -> 8146.5385 | E35: =COUNTIF(语文!$Z$4:$Z$263,C35) -> 87 | F35: =D35/E35 -> 93.638373 | I35: 岳子琦 | J35: =AVERAGEIF($C$35:$C$46,I35,$F$35:$F$46) -> 104.86889
C36: 易涛 | D36: =SUMIF(语文!$Z$3:$Z$263,C36,语文!$AB$4:$AB$263) -> 1046.5385 | E36: =COUNTIF(语文!$Z$4:$Z$263,C36) -> 11 | F36: =D36/E36 -> 95.13986 | I36: 周菊明 | J36: =AVERAGEIF($C$35:$C$46,I36,$F$35:$F$46) -> 107.71072
C37: 肖锐 | D37: =SUMIF(语文!$Z$3:$Z$263,C37,语文!$AB$4:$AB$263) -> 1150 | E37: =COUNTIF(语文!$Z$4:$Z$263,C37) -> 11 | F37: =D37/E37 -> 104.54545
C38: 陈丽娇 | D38: =SUMIF(语文!$Z$3:$Z$263,C38,语文!$AB$4:$AB$263) -> 1638.4615 | E38: =COUNTIF(语文!$Z$4:$Z$263,C38) -> 15 | F38: =D38/E38 -> 109.23077
C39: 岳子琦 | D39: =SUMIF(语文!$Z$3:$Z$263,C39,语文!$AB$4:$AB$263) -> 4213.4615 | E39: =COUNTIF(语文!$Z$4:$Z$263,C39) -> 45 | F39: =D39/E39 -> 93.632479
C40: 周菊明 | D40: =SUMIF(语文!$Z$3:$Z$263,C40,语文!$AB$4:$AB$263) -> 9793.1064 | E40: =COUNTIF(语文!$Z$4:$Z$263,C40) -> 91 | F40: =D40/E40 -> 107.61655
B41: 理科 | C41: 易涛 | D41: =SUMIF(语文!$Z$264:$Z$550,C41,语文!$AB$264:$AB$550) -> 8454.007 | E41: =COUNTIF(语文!$Z$264:$Z$550,C41) -> 83 | F41: =D41/E41 -> 101.85551
C42: 格绒燚西 | D42: =SUMIF(语文!$Z$264:$Z$550,C42,语文!$AB$264:$AB$550) -> 1579.4425 | E42: =COUNTIF(语文!$Z$264:$Z$550,C42) -> 16 | F42: =D42/E42 -> 98.715157
C43: 周菊明 | D43: =SUMIF(语文!$Z$264:$Z$550,C43,语文!$AB$264:$AB$550) -> 1078.0488 | E43: =COUNTIF(语文!$Z$264:$Z$550,C43) -> 10 | F43: =D43/E43 -> 107.80488
C44: 肖锐 | D44: =SUMIF(语文!$Z$264:$Z$550,C44,语文!$AB$264:$AB$550) -> 8833.7979 | E44: =COUNTIF(语文!$Z$264:$Z$550,C44) -> 90 | F44: =D44/E44 -> 98.15331
C45: 陈丽娇 | D45: =SUMIF(语文!$Z$264:$Z$550,C45,语文!$AB$264:$AB$550) -> 7778.3972 | E45: =COUNTIF(语文!$Z$264:$Z$550,C45) -> 79 | F45: =D45/E45 -> 98.460724
C46: 岳子琦 | D46: =SUMIF(语文!$Z$264:$Z$550,C46,语文!$AB$264:$AB$550) -> 1044.9477 | E46: =COUNTIF(语文!$Z$264:$Z$550,C46) -> 9 | F46: =D46/E46 -> 116.1053

Sheet 数学
A1: 身份证号码 | B1: 班级 | C1: 姓名 | D1: 科类 | E1: 高三下 | H1: 高三下标准分 | I1: 高三上 | L1: 高三上标准分 | M1: 高二下 | P1: 高二下标准分 | Q1: 高二上 | T1: 高二上标准分 | U1: 高一下 | X1: 高一下标准分 | Y1: 高一上 | AB1: 高一上标准分 | AC1: 中考
E3: 成绩 | F3: 教师 | G3: 排名 | I3: 成绩 | J3: 教师 | K3: 排名 | M3: 成绩 | N3: 教师 | O3: 排名 | Q3: 成绩 | R3: 教师 | S3: 排名 | U3: 成绩 | V3: 教师 | W3: 排名 | Y3: 成绩 | Z3: 教师 | AA3: 排名 | AC3: 成绩 | AD3: 排名
A4: 513422200006282328 | B4: 1 | C4: 黄关英 | D4: 文科 | E4: =VLOOKUP(A4,'[1]高三下(高考)'!$A$3:$H$615,7,0) -> 65 | F4: =VLOOKUP(A4,'[1]高三下(高考)'!$A$3:$H$615,8,0) -> 马俊 | G4: =RANK(E4,$E$4:$E$263,0) -> 151 | H4: =IF(OR(I4=0,E4=0),100,((K4-G4)/COUNTA($D$4:$D$263))*100+100) -> 85.769231 | I4: =VLOOKUP(A4,[1]高三上!$A$3:$H$588,7,0) -> 51.5 | J4: =VLOOKUP(A4,[1]高三上!$A$3:$H$588,8,0) -> 马俊 | K4: =RANK(I4,$I$4:$I$263,0) -> 114 | L4: =IF(OR(I4=0,M4=0),100,((O4-K4)/COUNTA($D$4:$D$263))*100+100) -> 130.76923 | M4: =VLOOKUP(A4,[1]高二下!$A$3:$H$536,7,0) -> 64 | N4: =VLOOKUP(A4,[1]高二下!$A$3:$H$536,8,0) -> 马俊 | O4: =RANK(M4,$M$4:$M$263,0) -> 194 | P4: =IF(OR(Q4=0,M4=0),100,((S4-O4)/COUNTA($D$4:$D$263))*100+100) -> 59.230769 | Q4: =VLOOKUP(A4,[1]高二上!$A$3:$H$583,7,0) -> 77 | R4: =VLOOKUP(A4,[1]高二上!$A$3:$H$583,8,0) -> 马俊 | S4: =RANK(Q4,$Q$4:$Q$263,0) -> 88 | T4: =IF(OR(Q4=0,U4=0),100,((W4-S4)/COUNTA($D$4:$D$263))*100+100) -> 127.30769 | U4: =VLOOKUP(A4,[1]高一下!$A$3:$H$585,7,0) -> 69 | V4: =VLOOKUP(A4,[1]高一下!$A$3:$H$585,8,0) -> 马俊 | W4: =RANK(U4,$U$4:$U$263,0) -> 159 | X4: =IF(OR(Y4=0,U4=0),100,((AA4-W4)/COUNTA($D$4:$D$263))*100+100) -> 110.38462 | Y4: =VLOOKUP(A4,[1]高一上!$A$3:$H$587,7,0) -> 48 | Z4: =VLOOKUP(A4,[1]高一上!$A$3:$H$587,8,0) -> 马俊 | AA4: =RANK(Y4,$Y$4:$Y$263,0) -> 186 | AB4: =IF(OR(Y4=0,AC4=0),100,((AD4-AA4)/COUNTA($D$4:$D$263))*100+100) -> 49.615385 | AC4: =VLOOKUP(A4,[1]中考!$A$2:$F$571,6,0) -> 73 | AD4: =RANK(AC4,$AC$4:$AC$263,0) -> 55
A5: 513422200103134220 | B5: 1 | C5: 次仁央宗 | D5: 文科 | E5: =VLOOKUP(A5,'[1]高三下(高考)'!$A$3:$H$615,7,0) -> 88 | F5: =VLOOKUP(A5,'[1]高三下(高考)'!$A$3:$H$615,8,0) -> 马俊 | G5: =RANK(E5,$E$4:$E$263,0) -> 39 | H5: =IF(OR(I5=0,E5=0),100,((K5-G5)/COUNTA($D$4:$D$263))*100+100) -> 91.923077 | I5: =VLOOKUP(A5,[1]高三上!$A$3:$H$588,7,0) -> 77.5 | J5: =VLOOKUP(A5,[1]高三上!$A$3:$H$588,8,0) -> 马俊 | K5: =RANK(I5,$I$4:$I$263,0) -> 18 | L5: =IF(OR(I5=0,M5=0),100,((O5-K5)/COUNTA($D$4:$D$263))*100+100) -> 102.69231 | M5: =VLOOKUP(A5,[1]高二下!$A$3:$H$536,7,0) -> 105 | N5: =VLOOKUP(A5,[1]高二下!$A$3:$H$536,8,0) -> 马俊 | O5: =RANK(M5,$M$4:$M$263,0) -> 25 | P5: =IF(OR(Q5=0,M5=0),100,((S5-O5)/COUNTA($D$4:$D$263))*100+100) -> 93.846154 | Q5: =VLOOKUP(A5,[1]高二上!$A$3:$H$583,7,0) -> 108 | R5: =VLOOKUP(A5,[1]高二上!$A$3:$H$583,8,0) -> 马俊 | S5: =RANK(Q5,$Q$4:$Q$263,0) -> 9 | T5: =IF(OR(Q5=0,U5=0),100,((W5-S5)/COUNTA($D$4:$D$263))*100+100) -> 109.61538 | U5: =VLOOKUP(A5,[1]高一下!$A$3:$H$585,7,0) -> 98 | V5: =VLOOKUP(A5,[1]高一下!$A$3:$H$585,8,0) -> 马俊 | W5: =RANK(U5,$U$4:$U$263,0) -> 34 | X5: =IF(OR(Y5=0,U5=0),100,((AA5-W5)/COUNTA($D$4:$D$263))*100+100) -> 94.615385 | Y5: =VLOOKUP(A5,[1]高一上!$A$3:$H$587,7,0) -> 89 | Z5: =VLOOKUP(A5,[1]高一上!$A$3:$H$587,8,0) -> 马俊 | AA5: =RANK(Y5,$Y$4:$Y$263,0) -> 20 | AB5: =IF(OR(Y5=0,AC5=0),100,((AD5-AA5)/COUNTA($D$4:$D$263))*100+100) -> 100.76923 | AC5: =VLOOKUP(A5,[1]中考!$A$2:$F$571,6,0) -> 84 | AD5: =RANK(AC5,$AC$4:$AC$263,0) -> 22
A6: 513422200105120025 | B6: 1 | C6: 马阿英莫 | D6: 文科 | E6: =VLOOKUP(A6,'[1]高三下(高考)'!$A$3:$H$615,7,0) -> 57 | F6: =VLOOKUP(A6,'[1]高三下(高考)'!$A$3:$H$615,8,0) -> 马俊 | G6: =RANK(E6,$E$4:$E$263,0) -> 187 | H6: =IF(OR(I6=0,E6=0),100,((K6-G6)/COUNTA($D$4:$D$263))*100+100) -> 109.61538 | I6: =VLOOKUP(A6,[1]高三上!$A$3:$H$588,7,0) -> 33 | J6: =VLOOKUP(A6,[1]高三上!$A$3:$H$588,8,0) -> 马俊 | K6: =RANK(I6,$I$4:$I$263,0) -> 212 | L6: =IF(OR(I6=0,M6=0),100,((O6-K6)/COUNTA($D$4:$D$263))*100+100) -> 66.923077 | M6: =VLOOKUP(A6,[1]高二下!$A$3:$H$536,7,0) -> 80 | N6: =VLOOKUP(A6,[1]高二下!$A$3:$H$536,8,0) -> 马俊 | O6: =RANK(M6,$M$4:$M$263,0) -> 126 | P6: =IF(OR(Q6=0,M6=0),100,((S6-O6)/COUNTA($D$4:$D$263))*100+100) -> 107.30769 | Q6: =VLOOKUP(A6,[1]高二上!$A$3:$H$583,7,0) -> 67 | R6: =VLOOKUP(A6,[1]高二上!$A$3:$H$583,8,0) -> 马俊 | S6: =RANK(Q6,$Q$4:$Q$263,0) -> 145 | T6: =IF(OR(Q6=0,U6=0),100,((W6-S6)/COUNTA($D$4:$D$263))*100+100) -> 79.615385 | U6: =VLOOKUP(A6,[1]高一下!$A$3:$H$585,7,0) -> 81 | V6: =VLOOKUP(A6,[1]高一下!$A$3:$H$585,8,0) -> 马俊 | W6: =RANK(U6,$U$4:$U$263,0) -> 92 | X6: =IF(OR(Y6=0,U6=0),100,((AA6-W6)/COUNTA($D$4:$D$263))*100+100) -> 83.461538 | Y6: =VLOOKUP(A6,[1]高一上!$A$3:$H$587,7,0) -> 78 | Z6: =VLOOKUP(A6,[1]高一上!$A$3:$H$587,8,0) -> 央宗娜姆 | AA6: =RANK(Y6,$Y$4:$Y$263,0) -> 49 | AB6: =IF(OR(Y6=0,AC6=0),100,((AD6-AA6)/COUNTA($D$4:$D$263))*100+100) -> 105.38462 | AC6: =VLOOKUP(A6,[1]中考!$A$2:$F$571,6,0) -> 71 | AD6: =RANK(AC6,$AC$4:$AC$263,0) -> 63
A7: 513422200108032725 | B7: 1 | C7: 苏国英 | D7: 文科 | E7: =VLOOKUP(A7,'[1]高三下(高考)'!$A$3:$H$615,7,0) -> 73 | F7: =VLOOKUP(A7,'[1]高三下(高考)'!$A$3:$H$615,8,0) -> 马俊 | G7: =RANK(E7,$E$4:$E$263,0) -> 97 | H7: =IF(OR(I7=0,E7=0),100,((K7-G7)/COUNTA($D$4:$D$263))*100+100) -> 129.23077 | I7: =VLOOKUP(A7,[1]高三上!$A$3:$H$588,7,0) -> 41.5 | J7: =VLOOKUP(A7,[1]高三上!$A$3:$H$588,8,0) -> 马俊 | K7: =RANK(I7,$I$4:$I$263,0) -> 173 | L7: =IF(OR(I7=0,M7=0),100,((O7-K7)/COUNTA($D$4:$D$263))*100+100) -> 52.692308 | M7: =VLOOKUP(A7,[1]高二下!$A$3:$H$536,7,0) -> 96 | N7: =VLOOKUP(A7,[1]高二下!$A$3:$H$536,8,0) -> 马俊 | O7: =RANK(M7,$M$4:$M$263,0) -> 50 | P7: =IF(OR(Q7=0,M7=0),100,((S7-O7)/COUNTA($D$4:$D$263))*100+100) -> 123.84615 | Q7: =VLOOKUP(A7,[1]高二上!$A$3:$H$583,7,0) -> 72 | R7: =VLOOKUP(A7,[1]高二上!$A$3:$H$583,8,0) -> 马俊 | S7: =RANK(Q7,$Q$4:$Q$263,0) -> 112 | T7: =IF(OR(Q7=0,U7=0),100,((W7-S7)/COUNTA($D$4:$D$263))*100+100) -> 71.538462 | U7: =VLOOKUP(A7,[1]高一下!$A$3:$H$585,7,0) -> 96 | V7: =VLOOKUP(A7,[1]高一下!$A$3:$H$585,8,0) -> 马俊 | W7: =RANK(U7,$U$4:$U$263,0) -> 38 | X7: =IF(OR(Y7=0,U7=0),100,((AA7-W7)/COUNTA($D$4:$D$263))*100+100) -> 95 | Y7: =VLOOKUP(A7,[1]高一上!$A$3:$H$587,7,0) -> 87 | Z7: =VLOOKUP(A7,[1]高一上!$A$3:$H$587,8,0) -> 马俊 | AA7: =RANK(Y7,$Y$4:$Y$263,0) -> 25 | AB7: =IF(OR(Y7=0,AC7=0),100,((AD7-AA7)/COUNTA($D$4:$D$263))*100+100) -> 107.69231 | AC7: =VLOOKUP(A7,[1]中考!$A$2:$F$571,6,0) -> 75 | AD7: =RANK(AC7,$AC$4:$AC$263,0) -> 45
A8: 513422200110043829 | B8: 1 | C8: 宋明芳 | D8: 文科 | E8: =VLOOKUP(A8,'[1]高三下(高考)'!$A$3:$H$615,7,0) -> 74 | F8: =VLOOKUP(A8,'[1]高三下(高考)'!$A$3:$H$615,8,0) -> 马俊 | G8: =RANK(E8,$E$4:$E$263,0) -> 90 | H8: =IF(OR(I8=0,E8=0),100,((K8-G8)/COUNTA($D$4:$D$263))*100+100) -> 116.92308 | I8: =VLOOKUP(A8,[1]高三上!$A$3:$H$588,7,0) -> 48 | J8: =VLOOKUP(A8,[1]高三上!$A$3:$H$588,8,0) -> 马俊 | K8: =RANK(I8,$I$4:$I$263,0) -> 134 | L8: =IF(OR(I8=0,M8=0),100,((O8-K8)/COUNTA($D$4:$D$263))*100+100) -> 110 | M8: =VLOOKUP(A8,[1]高二下!$A$3:$H$536,7,0) -> 72 | N8: =VLOOKUP(A8,[1]高二下!$A$3:$H$536,8,0) -> 马俊 | O8: =RANK(M8,$M$4:$M$263,0) -> 160 | P8: =IF(OR(Q8=0,M8=0),100,((S8-O8)/COUNTA($D$4:$D$263))*100+100) -> 113.84615 | Q8: =VLOOKUP(A8,[1]高二上!$A$3:$H$583,7,0) -> 58 | R8: =VLOOKUP(A8,[1]高二上!$A$3:$H$583,8,0) -> 马俊 | S8: =RANK(Q8,$Q$4:$Q$263,0) -> 196 | T8: =IF(OR(Q8=0,U8=0),100,((W8-S8)/COUNTA($D$4:$D$263))*100+100) -> 109.23077 | U8: =VLOOKUP(A8,[1]高一下!$A$3:$H$585,7,0) -> 49 | V8: =VLOOKUP(A8,[1]高一下!$A$3:$H$585,8,0) -> 马俊 | W8: =RANK(U8,$U$4:$U$263,0) -> 220 | X8: =IF(OR(Y8=0,U8=0),100,((AA8-W8)/COUNTA($D$4:$D$263))*100+100) -> 86.923077 | Y8: =VLOOKUP(A8,[1]高一上!$A$3:$H$587,7,0) -> 48 | Z8: =VLOOKUP(A8,[1]高一上!$A$3:$H$587,8,0) -> 李黎明 | AA8: =RANK(Y8,$Y$4:$Y$263,0) -> 186 | AB8: =IF(OR(Y8=0,AC8=0),100,((AD8-AA8)/COUNTA($D$4:$D$263))*100+100) -> 69.615385 | AC8: =VLOOKUP(A8,[1]中考!$A$2:$F$571,6,0) -> 61 | AD8: =RANK(AC8,$AC$4:$AC$263,0) -> 107
A9: 513422200110231125 | B9: 1 | C9: 吕秀云 | D9: 文科 | E9: =VLOOKUP(A9,'[1]高三下(高考)'!$A$3:$H$615,7,0) -> 82 | F9: =VLOOKUP(A9,'[1]高三下(高考)'!$A$3:$H$615,8,0) -> 马俊 | G9: =RANK(E9,$E$4:$E$263,0) -> 58 | H9: =IF(OR(I9=0,E9=0),100,((K9-G9)/COUNTA($D$4:$D$263))*100+100) -> 87.692308 | I9: =VLOOKUP(A9,[1]高三上!$A$3:$H$588,7,0) -> 72.5 | J9: =VLOOKUP(A9,[1]高三上!$A$3:$H$588,8,0) -> 马俊 | K9: =RANK(I9,$I$4:$I$263,0) -> 26 | L9: =IF(OR(I9=0,M9=0),100,((O9-K9)/COUNTA($D$4:$D$263))*100+100) -> 96.923077 | M9: =VLOOKUP(A9,[1]高二下!$A$3:$H$536,7,0) -> 109 | N9: =VLOOKUP(A9,[1]高二下!$A$3:$H$536,8,0) -> 马俊 | O9: =RANK(M9,$M$4:$M$263,0) -> 18 | P9: =IF(OR(Q9=0,M9=0),100,((S9-O9)/COUNTA($D$4:$D$263))*100+100) -> 97.307692 | Q9: =VLOOKUP(A9,[1]高二上!$A$3:$H$583,7,0) -> 105 | R9: =VLOOKUP(A9,[1]高二上!$A$3:$H$583,8,0) -> 马俊 | S9: =RANK(Q9,$Q$4:$Q$263,0) -> 11 | T9: =IF(OR(Q9=0,U9=0),100,((W9-S9)/COUNTA($D$4:$D$263))*100+100) -> 103.07692 | U9: =VLOOKUP(A9,[1]高一下!$A$3:$H$585,7,0) -> 104 | V9: =VLOOKUP(A9,[1]高一下!$A$3:$H$585,8,0) -> 马俊 | W9: =RANK(U9,$U$4:$U$263,0) -> 19 | X9: =IF(OR(Y9=0,U9=0),100,((AA9-W9)/COUNTA($D$4:$D$263))*100+100) -> 131.53846 | Y9: =VLOOKUP(A9,[1]高一上!$A$3:$H$587,7,0) -> 64 | Z9: =VLOOKUP(A9,[1]高一上!$A$3:$H$587,8,0) -> 马俊 | AA9: =RANK(Y9,$Y$4:$Y$263,0) -> 101 | AB9: =IF(OR(Y9=0,AC9=0),100,((AD9-AA9)/COUNTA($D$4:$D$263))*100+100) -> 100.76923 | AC9: =VLOOKUP(A9,[1]中考!$A$2:$F$571,6,0) -> 62 | AD9: =RANK(AC9,$AC$4:$AC$263,0) -> 103
A10: 513422200111122924 | B10: 1 | C10: 严冬丽 | D10: 文科 | E10: =VLOOKUP(A10,'[1]高三下(高考)'!$A$3:$H$615,7,0) -> 66 | F10: =VLOOKUP(A10,'[1]高三下(高考)'!$A$3:$H$615,8,0) -> 马俊 | G10: =RANK(E10,$E$4:$E$263,0) -> 147 | H10: =IF(OR(I10=0,E10=0),100,((K10-G10)/COUNTA($D$4:$D$263))*100+100) -> 135 | I10: =VLOOKUP(A10,[1]高三上!$A$3:$H$588,7,0) -> 22.5 | J10: =VLOOKUP(A10,[1]高三上!$A$3:$H$588,8,0) -> 马俊 | K10: =RANK(I10,$I$4:$I$263,0) -> 238 | L10: =IF(OR(I10=0,M10=0),100,((O10-K10)/COUNTA($D$4:$D$263))*100+100) -> 45.769231 | M10: =VLOOKUP(A10,[1]高二下!$A$3:$H$536,7,0) -> 86 | N10: =VLOOKUP(A10,[1]高二下!$A$3:$H$536,8,0) -> 马俊 | O10: =RANK(M10,$M$4:$M$263,0) -> 97 | P10: =IF(OR(Q10=0,M10=0),100,((S10-O10)/COUNTA($D$4:$D$263))*100+100) -> 79.230769 | Q10: =VLOOKUP(A10,[1]高二上!$A$3:$H$583,7,0) -> 87 | R10: =VLOOKUP(A10,[1]高二上!$A$3:$H$583,8,0) -> 马俊 | S10: =RANK(Q10,$Q$4:$Q$263,0) -> 43 | T10: =IF(OR(Q10=0,U10=0),100,((W10-S10)/COUNTA($D$4:$D$263))*100+100) -> 98.461538 | U10: =VLOOKUP(A10,[1]高一下!$A$3:$H$585,7,0) -> 95 | V10: =VLOOKUP(A10,[1]高一下!$A$3:$H$585,8,0) -> 马俊 | W10: =RANK(U10,$U$4:$U$263,0) -> 39 | X10: =IF(OR(Y10=0,U10=0),100,((AA10-W10)/COUNTA($D$4:$D$263))*100+100) -> 138.07692 | Y10: =VLOOKUP(A10,[1]高一上!$A$3:$H$587,7,0) -> 57 | Z10: =VLOOKUP(A10,[1]高一上!$A$3:$H$587,8,0) -> 马俊 | AA10: =RANK(Y10,$Y$4:$Y$263,0) -> 138 | AB10: =IF(OR(Y10=0,AC10=0),100,((AD10-AA10)/COUNTA($D$4:$D$263))*100+100) -> 79.615385 | AC10: =VLOOKUP(A10,[1]中考!$A$2:$F$571,6,0) -> 66 | AD10: =RANK(AC10,$AC$4:$AC$263,0) -> 85
A11: 513422200112070919 | B11: 1 | C11: 苏你哈 | D11: 文科 | E11: =VLOOKUP(A11,'[1]高三下(高考)'!$A$3:$H$615,7,0) -> 113 | F11: =VLOOKUP(A11,'[1]高三下(高考)'!$A$3:$H$615,8,0) -> 马俊 | G11: =RANK(E11,$E$4:$E$263,0) -> 5 | H11: =IF(OR(I11=0,E11=0),100,((K11-G11)/COUNTA($D$4:$D$263))*100+100) -> 111.15385 | I11: =VLOOKUP(A11,[1]高三上!$A$3:$H$588,7,0) -> 71 | J11: =VLOOKUP(A11,[1]高三上!$A$3:$H$588,8,0) -> 马俊 | K11: =RANK(I11,$I$4:$I$263,0) -> 34 | L11: =IF(OR(I11=0,M11=0),100,((O11-K11)/COUNTA($D$4:$D$263))*100+100) -> 93.846154 | M11: =VLOOKUP(A11,[1]高二下!$A$3:$H$536,7,0) -> 109 | N11: =VLOOKUP(A11,[1]高二下!$A$3:$H$536,8,0) -> 马俊 | O11: =RANK(M11,$M$4:$M$263,0) -> 18 | P11: =IF(OR(Q11=0,M11=0),100,((S11-O11)/COUNTA($D$4:$D$263))*100+100) -> 94.230769 | Q11: =VLOOKUP(A11,[1]高二上!$A$3:$H$583,7,0) -> 116 | R11: =VLOOKUP(A11,[1]高二上!$A$3:$H$583,8,0) -> 马俊 | S11: =RANK(Q11,$Q$4:$Q$263,0) -> 3 | T11: =IF(OR(Q11=0,U11=0),100,((W11-S11)/COUNTA($D$4:$D$263))*100+100) -> 100.76923 | U11: =VLOOKUP(A11,[1]高一下!$A$3:$H$585,7,0) -> 119 | V11: =VLOOKUP(A11,[1]高一下!$A$3:$H$585,8,0) -> 马俊 | W11: =RANK(U11,$U$4:$U$263,0) -> 5 | X11: =IF(OR(Y11=0,U11=0),100,((AA11-W11)/COUNTA($D$4:$D$263))*100+100) -> 106.53846 | Y11: =VLOOKUP(A11,[1]高一上!$A$3:$H$587,7,0) -> 88 | Z11: =VLOOKUP(A11,[1]高一上!$A$3:$H$587,8,0) -> 马俊 | AA11: =RANK(Y11,$Y$4:$Y$263,0) -> 22 | AB11: =IF(OR(Y11=0,AC11=0),100,((AD11-AA11)/COUNTA($D$4:$D$263))*100+100) -> 106.15385 | AC11: =VLOOKUP(A11,[1]中考!$A$2:$F$571,6,0) -> 77 | AD11: =RANK(AC11,$AC$4:$AC$263,0) -> 38
A12: 513422200201033810 | B12: 1 | C12: 徐晓伟 | D12: 文科 | E12: =VLOOKUP(A12,'[1]高三下(高考)'!$A$3:$H$615,7,0) -> 59 | F12: =VLOOKUP(A12,'[1]高三下(高考)'!$A$3:$H$615,8,0) -> 马俊 | G12: =RANK(E12,$E$4:$E$263,0) -> 177 | H12: =IF(OR(I12=0,E12=0),100,((K12-G12)/COUNTA($D$4:$D$263))*100+100) -> 37.307692 | I12: =VLOOKUP(A12,[1]高三上!$A$3:$H$588,7,0) -> 80.5 | J12: =VLOOKUP(A12,[1]高三上!$A$3:$H$588,8,0) -> 马俊 | K12: =RANK(I12,$I$4:$I$263,0) -> 14 | L12: =IF(OR(I12=0,M12=0),100,((O12-K12)/COUNTA($D$4:$D$263))*100+100) -> 108.84615 | M12: =VLOOKUP(A12,[1]高二下!$A$3:$H$536,7,0) -> 100 | N12: =VLOOKUP(A12,[1]高二下!$A$3:$H$536,8,0) -> 马俊 | O12: =RANK(M12,$M$4:$M$263,0) -> 37 | P12: =IF(OR(Q12=0,M12=0),100,((S12-O12)/COUNTA($D$4:$D$263))*100+100) -> 94.230769 | Q12: =VLOOKUP(A12,[1]高二上!$A$3:$H$583,7,0) -> 94 | R12: =VLOOKUP(A12,[1]高二上!$A$3:$H$583,8,0) -> 马俊 | S12: =RANK(Q12,$Q$4:$Q$263,0) -> 22 | T12: =IF(OR(Q12=0,U12=0),100,((W12-S12)/COUNTA($D$4:$D$263))*100+100) -> 116.53846 | U12: =VLOOKUP(A12,[1]高一下!$A$3:$H$585,7,0) -> 88 | V12: =VLOOKUP(A12,[1]高一下!$A$3:$H$585,8,0) -> 马俊 | W12: =RANK(U12,$U$4:$U$263,0) -> 65 | X12: =IF(OR(Y12=0,U12=0),100,((AA12-W12)/COUNTA($D$4:$D$263))*100+100) -> 77.692308 | Y12: =VLOOKUP(A12,[1]高一上!$A$3:$H$587,7,0) -> 103 | Z12: =VLOOKUP(A12,[1]高一上!$A$3:$H$587,8,0) -> 央宗娜姆 | AA12: =RANK(Y12,$Y$4:$Y$263,0) -> 7 | AB12: =IF(OR(Y12=0,AC12=0),100,((AD12-AA12)/COUNTA($D$4:$D$263))*100+100) -> 135 | AC12: =VLOOKUP(A12,[1]中考!$A$2:$F$571,6,0) -> 63 | AD12: =RANK(AC12,$AC$4:$AC$263,0) -> 98
A13: 513422200203084021 | B13: 1 | C13: 祝玛央青 | D13: 文科 | E13: =VLOOKUP(A13,'[1]高三下(高考)'!$A$3:$H$615,7,0) -> 64 | F13: =VLOOKUP(A13,'[1]高三下(高考)'!$A$3:$H$615,8,0) -> 马俊 | G13: =RANK(E13,$E$4:$E$263,0) -> 158 | H13: =IF(OR(I13=0,E13=0),100,((K13-G13)/COUNTA($D$4:$D$263))*100+100) -> 65 | I13: =VLOOKUP(A13,[1]高三上!$A$3:$H$588,7,0) -> 61 | J13: =VLOOKUP(A13,[1]高三上!$A$3:$H$588,8,0) -> 马俊 | K13: =RANK(I13,$I$4:$I$263,0) -> 67 | L13: =IF(OR(I13=0,M13=0),100,((O13-K13)/COUNTA($D$4:$D$263))*100+100) -> 145.76923 | M13: =VLOOKUP(A13,[1]高二下!$A$3:$H$536,7,0) -> 66 | N13: =VLOOKUP(A13,[1]高二下!$A$3:$H$536,8,0) -> 马俊 | O13: =RANK(M13,$M$4:$M$263,0) -> 186 | P13: =IF(OR(Q13=0,M13=0),100,((S13-O13)/COUNTA($D$4:$D$263))*100+100) -> 56.153846 | Q13: =VLOOKUP(A13,[1]高二上!$A$3:$H$583,7,0) -> 80 | R13: =VLOOKUP(A13,[1]高二上!$A$3:$H$583,8,0) -> 马俊 | S13: =RANK(Q13,$Q$4:$Q$263,0) -> 72 | T13: =IF(OR(Q13=0,U13=0),100,((W13-S13)/COUNTA($D$4:$D$263))*100+100) -> 104.61538 | U13: =VLOOKUP(A13,[1]高一下!$A$3:$H$585,7,0) -> 84 | V13: =VLOOKUP(A13,[1]高一下!$A$3:$H$585,8,0) -> 马俊 | W13: =RANK(U13,$U$4:$U$263,0) -> 84 | X13: =IF(OR(Y13=0,U13=0),100,((AA13-W13)/COUNTA($D$4:$D$263))*100+100) -> 96.538462 | Y13: =VLOOKUP(A13,[1]高一上!$A$3:$H$587,7,0) -> 69 | Z13: =VLOOKUP(A13,[1]高一上!$A$3:$H$587,8,0) -> 马俊 | AA13: =RANK(Y13,$Y$4:$Y$263,0) -> 75 | AB13: =IF(OR(Y13=0,AC13=0),100,((AD13-AA13)/COUNTA($D$4:$D$263))*100+100) -> 90.384615 | AC13: =VLOOKUP(A13,[1]中考!$A$2:$F$571,6,0) -> 74 | AD13: =RANK(AC13,$AC$4:$AC$263,0) -> 50
A14: 513422200204253624 | B14: 1 | C14: 王兴萍 | D14: 文科 | E14: =VLOOKUP(A14,'[1]高三下(高考)'!$A$3:$H$615,7,0) -> 88 | F14: =VLOOKUP(A14,'[1]高三下(高考)'!$A$3:$H$615,8,0) -> 马俊 | G14: =RANK(E14,$E$4:$E$263,0) -> 39 | H14: =IF(OR(I14=0,E14=0),100,((K14-G14)/COUNTA($D$4:$D$263))*100+100) -> 88.846154 | I14: =VLOOKUP(A14,[1]高三上!$A$3:$H$588,7,0) -> 84 | J14: =VLOOKUP(A14,[1]高三上!$A$3:$H$588,8,0) -> 马俊 | K14: =RANK(I14,$I$4:$I$263,0) -> 10 | L14: =IF(OR(I14=0,M14=0),100,((O14-K14)/COUNTA($D$4:$D$263))*100+100) -> 115.38462 | M14: =VLOOKUP(A14,[1]高二下!$A$3:$H$536,7,0) -> 96 | N14: =VLOOKUP(A14,[1]高二下!$A$3:$H$536,8,0) -> 马俊 | O14: =RANK(M14,$M$4:$M$263,0) -> 50 | P14: =IF(OR(Q14=0,M14=0),100,((S14-O14)/COUNTA($D$4:$D$263))*100+100) -> 123.84615 | Q14: =VLOOKUP(A14,[1]高二上!$A$3:$H$583,7,0) -> 72 | R14: =VLOOKUP(A14,[1]高二上!$A$3:$H$583,8,0) -> 马俊 | S14: =RANK(Q14,$Q$4:$Q$263,0) -> 112 | T14: =IF(OR(Q14=0,U14=0),100,((W14-S14)/COUNTA($D$4:$D$263))*100+100) -> 66.538462 | U14: =VLOOKUP(A14,[1]高一下!$A$3:$H$585,7,0) -> 102 | V14: =VLOOKUP(A14,[1]高一下!$A$3:$H$585,8,0) -> 马俊 | W14: =RANK(U14,$U$4:$U$263,0) -> 25 | X14: =IF(OR(Y14=0,U14=0),100,((AA14-W14)/COUNTA($D$4:$D$263))*100+100) -> 102.30769 | Y14: =VLOOKUP(A14,[1]高一上!$A$3:$H$587,7,0) -> 84 | Z14: =VLOOKUP(A14,[1]高一上!$A$3:$H$587,8,0) -> 马俊 | AA14: =RANK(Y14,$Y$4:$Y$263,0) -> 31 | AB14: =IF(OR(Y14=0,AC14=0),100,((AD14-AA14)/COUNTA($D$4:$D$263))*100+100) -> 93.846154 | AC14: =VLOOKUP(A14,[1]中考!$A$2:$F$571,6,0) -> 87 | AD14: =RANK(AC14,$AC$4:$AC$263,0) -> 15
A15: 513422200205254629 | B15: 1 | C15: 尔歪莫 | D15: 文科 | E15: =VLOOKUP(A15,'[1]高三下(高考)'!$A$3:$H$615,7,0) -> 70 | F15: =VLOOKUP(A15,'[1]高三下(高考)'!$A$3:$H$615,8,0) -> 马俊 | G15: =RANK(E15,$E$4:$E$263,0) -> 115 | H15: =IF(OR(I15=0,E15=0),100,((K15-G15)/COUNTA($D$4:$D$263))*100+100) -> 94.230769 | I15: =VLOOKUP(A15,[1]高三上!$A$3:$H$588,7,0) -> 54 | J15: =VLOOKUP(A15,[1]高三上!$A$3:$H$588,8,0) -> 马俊 | K15: =RANK(I15,$I$4:$I$263,0) -> 100 | L15: =IF(OR(I15=0,M15=0),100,((O15-K15)/COUNTA($D$4:$D$263))*100+100) -> 98.846154 | M15: =VLOOKUP(A15,[1]高二下!$A$3:$H$536,7,0) -> 86 | N15: =VLOOKUP(A15,[1]高二下!$A$3:$H$536,8,0) -> 马俊 | O15: =RANK(M15,$M$4:$M$263,0) -> 97 | P15: =IF(OR(Q15=0,M15=0),100,((S15-O15)/COUNTA($D$4:$D$263))*100+100) -> 93.076923 | Q15: =VLOOKUP(A15,[1]高二上!$A$3:$H$583,7,0) -> 79 | R15: =VLOOKUP(A15,[1]高二上!$A$3:$H$583,8,0) -> 马俊 | S15: =RANK(Q15,$Q$4:$Q$263,0) -> 79 | T15: =IF(OR(Q15=0,U15=0),100,((W15-S15)/COUNTA($D$4:$D$263))*100+100) -> 96.153846 | U15: =VLOOKUP(A15,[1]高一下!$A$3:$H$585,7,0) -> 87 | V15: =VLOOKUP(A15,[1]高一下!$A$3:$H$585,8,0) -> 马俊 | W15: =RANK(U15,$U$4:$U$263,0) -> 69 | X15: =IF(OR(Y15=0,U15=0),100,((AA15-W15)/COUNTA($D$4:$D$263))*100+100) -> 143.84615 | Y15: =VLOOKUP(A15,[1]高一上!$A$3:$H$587,7,0) -> 49 | Z15: =VLOOKUP(A15,[1]高一上!$A$3:$H$587,8,0) -> 马俊 | AA15: =RANK(Y15,$Y$4:$Y$263,0) -> 183 | AB15: =IF(OR(Y15=0,AC15=0),100,((AD15-AA15)/COUNTA($D$4:$D$263))*100+100) -> 67.307692 | AC15: =VLOOKUP(A15,[1]中考!$A$2:$F$571,6,0) -> 63 | AD15: =RANK(AC15,$AC$4:$AC$263,0) -> 98
... A54: 51342220021118601X | B54: 1 | C54: 次尔扎西 | D54: 文科 | E54: =VLOOKUP(A54,'[1]高三下(高考)'!$A$3:$H$615,7,0) -> 116 | F54: =VLOOKUP(A54,'[1]高三下(高考)'!$A$3:$H$615,8,0) -> 马俊 | G54: =RANK(E54,$E$4:$E$263,0) -> 3 | H54: =IF(OR(I54=0,E54=0),100,((K54-G54)/COUNTA($D$4:$D$263))*100+100) -> 104.61538 | I54: =VLOOKUP(A54,[1]高三上!$A$3:$H$588,7,0) -> 79 | J54: =VLOOKUP(A54,[1]高三上!$A$3:$H$588,8,0) -> 马俊 | K54: =RANK(I54,$I$4:$I$263,0) -> 15 | L54: =IF(OR(I54=0,M54=0),100,((O54-K54)/COUNTA($D$4:$D$263))*100+100) -> 95 | M54: =VLOOKUP(A54,[1]高二下!$A$3:$H$536,7,0) -> 131 | N54: =VLOOKUP(A54,[1]高二下!$A$3:$H$536,8,0) -> 马俊 | O54: =RANK(M54,$M$4:$M$263,0) -> 2 | P54: =IF(OR(Q54=0,M54=0),100,((S54-O54)/COUNTA($D$4:$D$263))*100+100) -> 101.15385 | Q54: =VLOOKUP(A54,[1]高二上!$A$3:$H$583,7,0) -> 114 | R54: =VLOOKUP(A54,[1]高二上!$A$3:$H$583,8,0) -> 马俊 | S54: =RANK(Q54,$Q$4:$Q$263,0) -> 5 | T54: =IF(OR(Q54=0,U54=0),100,((W54-S54)/COUNTA($D$4:$D$263))*100+100) -> 100.38462 | U54: =VLOOKUP(A54,[1]高一下!$A$3:$H$585,7,0) -> 118 | V54: =VLOOKUP(A54,[1]高一下!$A$3:$H$585,8,0) -> 马俊 | W54: =RANK(U54,$U$4:$U$263,0) -> 6 | X54: =IF(OR(Y54=0,U54=0),100,((AA54-W54)/COUNTA($D$4:$D$263))*100+100) -> 100 | Y54: =VLOOKUP(A54,[1]高一上!$A$3:$H$587,7,0) -> 108 | Z54: =VLOOKUP(A54,[1]高一上!$A$3:$H$587,8,0) -> 马俊 | AA54: =RANK(Y54,$Y$4:$Y$263,0) -> 6 | AB54: =IF(OR(Y54=0,AC54=0),100,((AD54-AA54)/COUNTA($D$4:$D$263))*100+100) -> 102.69231 | AC54: =VLOOKUP(A54,[1]中考!$A$2:$F$571,6,0) -> 91 | AD54: =RANK(AC54,$AC$4:$AC$263,0) -> 13
A55: 513223200408251829 | B55: 2 | C55: 李思韵 | D55: 文科 | E55: =VLOOKUP(A55,'[1]高三下(高考)'!$A$3:$H$615,7,0) -> 74 | F55: =VLOOKUP(A55,'[1]高三下(高考)'!$A$3:$H$615,8,0) -> 潘勇 | G55: =RANK(E55,$E$4:$E$263,0) -> 90 | H55: =IF(OR(I55=0,E55=0),100,((K55-G55)/COUNTA($D$4:$D$263))*100+100) -> 124.61538 | I55: =VLOOKUP(A55,[1]高三上!$A$3:$H$588,7,0) -> 44.5 | J55: =VLOOKUP(A55,[1]高三上!$A$3:$H$588,8,0) -> 潘勇 | K55: =RANK(I55,$I$4:$I$263,0) -> 154 | L55: =IF(OR(I55=0,M55=0),100,((O55-K55)/COUNTA($D$4:$D$263))*100+100) -> 100 | M55: 0 | N55: 马俊 | O55: =RANK(M55,$M$4:$M$263,0) -> 236 | P55: =IF(OR(Q55=0,M55=0),100,((S55-O55)/COUNTA($D$4:$D$263))*100+100) -> 100 | Q55: =VLOOKUP(A55,[1]高二上!$A$3:$H$583,7,0) -> 68 | R55: =VLOOKUP(A55,[1]高二上!$A$3:$H$583,8,0) -> 王江 | S55: =RANK(Q55,$Q$4:$Q$263,0) -> 136 | T55: =IF(OR(Q55=0,U55=0),100,((W55-S55)/COUNTA($D$4:$D$263))*100+100) -> 123.07692 | U55: =VLOOKUP(A55,[1]高一下!$A$3:$H$585,7,0) -> 57 | V55: =VLOOKUP(A55,[1]高一下!$A$3:$H$585,8,0) -> 王江 | W55: =RANK(U55,$U$4:$U$263,0) -> 196 | X55: =IF(OR(Y55=0,U55=0),100,((AA55-W55)/COUNTA($D$4:$D$263))*100+100) -> 71.538462 | Y55: =VLOOKUP(A55,[1]高一上!$A$3:$H$587,7,0) -> 60 | Z55: =VLOOKUP(A55,[1]高一上!$A$3:$H$587,8,0) -> 王江 | AA55: =RANK(Y55,$Y$4:$Y$263,0) -> 122 | AB55: =IF(OR(Y55=0,AC55=0),100,((AD55-AA55)/COUNTA($D$4:$D$263))*100+100) -> 70.384615 | AC55: =VLOOKUP(A55,[1]中考!$A$2:$F$571,6,0) -> 75 | AD55: =RANK(AC55,$AC$4:$AC$263,0) -> 45
A56: 513422199903152560 | B56: 2 | C56: 伍春秀 | D56: 文科 | E56: =VLOOKUP(A56,'[1]高三下(高考)'!$A$3:$H$615,7,0) -> 45 | F56: =VLOOKUP(A56,'[1]高三下(高考)'!$A$3:$H$615,8,0) -> 潘勇 | G56: =RANK(E56,$E$4:$E$263,0) -> 236 | H56: =IF(OR(I56=0,E56=0),100,((K56-G56)/COUNTA($D$4:$D$263))*100+100) -> 88.461538 | I56: =VLOOKUP(A56,[1]高三上!$A$3:$H$588,7,0) -> 34 | J56: =VLOOKUP(A56,[1]高三上!$A$3:$H$588,8,0) -> 潘勇 | K56: =RANK(I56,$I$4:$I$263,0) -> 206 | L56: =IF(OR(I56=0,M56=0),100,((O56-K56)/COUNTA($D$4:$D$263))*100+100) -> 94.230769 | M56: =VLOOKUP(A56,[1]高二下!$A$3:$H$536,7,0) -> 65 | N56: =VLOOKUP(A56,[1]高二下!$A$3:$H$536,8,0) -> 王江 | O56: =RANK(M56,$M$4:$M$263,0) -> 191 | P56: =IF(OR(Q56=0,M56=0),100,((S56-O56)/COUNTA($D$4:$D$263))*100+100) -> 94.615385 | Q56: =VLOOKUP(A56,[1]高二上!$A$3:$H$583,7,0) -> 61 | R56: =VLOOKUP(A56,[1]高二上!$A$3:$H$583,8,0) -> 王江 | S56: =RANK(Q56,$Q$4:$Q$263,0) -> 177 | T56: =IF(OR(Q56=0,U56=0),100,((W56-S56)/COUNTA($D$4:$D$263))*100+100) -> 61.153846 | U56: =VLOOKUP(A56,[1]高一下!$A$3:$H$585,7,0) -> 86 | V56: =VLOOKUP(A56,[1]高一下!$A$3:$H$585,8,0) -> 王江 | W56: =RANK(U56,$U$4:$U$263,0) -> 76 | X56: =IF(OR(Y56=0,U56=0),100,((AA56-W56)/COUNTA($D$4:$D$263))*100+100) -> 115.76923 | Y56: =VLOOKUP(A56,[1]高一上!$A$3:$H$587,7,0) -> 61 | Z56: =VLOOKUP(A56,[1]高一上!$A$3:$H$587,8,0) -> 王江 | AA56: =RANK(Y56,$Y$4:$Y$263,0) -> 117 | AB56: =IF(OR(Y56=0,AC56=0),100,((AD56-AA56)/COUNTA($D$4:$D$263))*100+100) -> 122.69231 | AC56: =VLOOKUP(A56,[1]中考!$A$2:$F$571,6,0) -> 49 | AD56: =RANK(AC56,$AC$4:$AC$263,0) -> 176
A57: 513422199905064222 | B57: 2 | C57: 央青祝玛 | D57: 文科 | E57: =VLOOKUP(A57,'[1]高三下(高考)'!$A$3:$H$615,7,0) -> 53 | F57: =VLOOKUP(A57,'[1]高三下(高考)'!$A$3:$H$615,8,0) -> 潘勇 | G57: =RANK(E57,$E$4:$E$263,0) -> 208 | H57: =IF(OR(I57=0,E57=0),100,((K57-G57)/COUNTA($D$4:$D$263))*100+100) -> 103.84615 | I57: =VLOOKUP(A57,[1]高三上!$A$3:$H$588,7,0) -> 31.5 | J57: =VLOOKUP(A57,[1]高三上!$A$3:$H$588,8,0) -> 潘勇 | K57: =RANK(I57,$I$4:$I$263,0) -> 218 | L57: =IF(OR(I57=0,M57=0),100,((O57-K57)/COUNTA($D$4:$D$263))*100+100) -> 106.53846 | M57: =VLOOKUP(A57,[1]高二下!$A$3:$H$536,7,0) -> 20 | N57: =VLOOKUP(A57,[1]高二下!$A$3:$H$536,8,0) -> 王江 | O57: =RANK(M57,$M$4:$M$263,0) -> 235 | P57: =IF(OR(Q57=0,M57=0),100,((S57-O57)/COUNTA($D$4:$D$263))*100+100) -> 95.769231 | Q57: =VLOOKUP(A57,[1]高二上!$A$3:$H$583,7,0) -> 52 | R57: =VLOOKUP(A57,[1]高二上!$A$3:$H$583,8,0) -> 王江 | S57: =RANK(Q57,$Q$4:$Q$263,0) -> 224 | T57: =IF(OR(Q57=0,U57=0),100,((W57-S57)/COUNTA($D$4:$D$263))*100+100) -> 110.76923 | U57: =VLOOKUP(A57,[1]高一下!$A$3:$H$585,7,0) -> 31 | V57: =VLOOKUP(A57,[1]高一下!$A$3:$H$585,8,0) -> 王江 | W57: =RANK(U57,$U$4:$U$263,0) -> 252 | X57: =IF(OR(Y57=0,U57=0),100,((AA57-W57)/COUNTA($D$4:$D$263))*100+100) -> 93.461538 | Y57: =VLOOKUP(A57,[1]高一上!$A$3:$H$587,7,0) -> 34 | Z57: =VLOOKUP(A57,[1]高一上!$A$3:$H$587,8,0) -> 王江 | AA57: =RANK(Y57,$Y$4:$Y$263,0) -> 235 | AB57: =IF(OR(Y57=0,AC57=0),100,((AD57-AA57)/COUNTA($D$4:$D$263))*100+100) -> 100.76923 | AC57: =VLOOKUP(A57,[1]中考!$A$2:$F$571,6,0) -> 37 | AD57: =RANK(AC57,$AC$4:$AC$263,0) -> 237
A58: 513422199905184224 | B58: 2 | C58: 次尔央宗 | D58: 文科 | E58: =VLOOKUP(A58,'[1]高三下(高考)'!$A$3:$H$615,7,0) -> 50 | F58: =VLOOKUP(A58,'[1]高三下(高考)'!$A$3:$H$615,8,0) -> 潘勇 | G58: =RANK(E58,$E$4:$E$263,0) -> 221 | H58: =IF(OR(I58=0,E58=0),100,((K58-G58)/COUNTA($D$4:$D$263))*100+100) -> 104.23077 | I58: =VLOOKUP(A58,[1]高三上!$A$3:$H$588,7,0) -> 25.5 | J58: =VLOOKUP(A58,[1]高三上!$A$3:$H$588,8,0) -> 潘勇 | K58: =RANK(I58,$I$4:$I$263,0) -> 232 | L58: =IF(OR(I58=0,M58=0),100,((O58-K58)/COUNTA($D$4:$D$263))*100+100) -> 65.384615 | M58: =VLOOKUP(A58,[1]高二下!$A$3:$H$536,7,0) -> 77 | N58: =VLOOKUP(A58,[1]高二下!$A$3:$H$536,8,0) -> 王江 | O58: =RANK(M58,$M$4:$M$263,0) -> 142 | P58: =IF(OR(Q58=0,M58=0),100,((S58-O58)/COUNTA($D$4:$D$263))*100+100) -> 138.46154 | Q58: =VLOOKUP(A58,[1]高二上!$A$3:$H$583,7,0) -> 46 | R58: =VLOOKUP(A58,[1]高二上!$A$3:$H$583,8,0) -> 王江 | S58: =RANK(Q58,$Q$4:$Q$263,0) -> 242 | T58: =IF(OR(Q58=0,U58=0),100,((W58-S58)/COUNTA($D$4:$D$263))*100+100) -> 36.153846 | U58: =VLOOKUP(A58,[1]高一下!$A$3:$H$585,7,0) -> 86 | V58: =VLOOKUP(A58,[1]高一下!$A$3:$H$585,8,0) -> 王江 | W58: =RANK(U58,$U$4:$U$263,0) -> 76 | X58: =IF(OR(Y58=0,U58=0),100,((AA58-W58)/COUNTA($D$4:$D$263))*100+100) -> 156.53846 | Y58: =VLOOKUP(A58,[1]高一上!$A$3:$H$587,7,0) -> 40 | Z58: =VLOOKUP(A58,[1]高一上!$A$3:$H$587,8,0) -> 王江 | AA58: =RANK(Y58,$Y$4:$Y$263,0) -> 223 | AB58: =IF(OR(Y58=0,AC58=0),100,((AD58-AA58)/COUNTA($D$4:$D$263))*100+100) -> 78.076923 | AC58: =VLOOKUP(A58,[1]中考!$A$2:$F$571,6,0) -> 50 | AD58: =RANK(AC58,$AC$4:$AC$263,0) -> 166
A59: 513422199910282160 | B59: 2 | C59: 马阿支 | D59: 文科 | E59: =VLOOKUP(A59,'[1]高三下(高考)'!$A$3:$H$615,7,0) -> 56 | F59: =VLOOKUP(A59,'[1]高三下(高考)'!$A$3:$H$615,8,0) -> 潘勇 | G59: =RANK(E59,$E$4:$E$263,0) -> 191 | H59: =IF(OR(I59=0,E59=0),100,((K59-G59)/COUNTA($D$4:$D$263))*100+100) -> 100 | I59: 0 | J59: 潘勇 | K59: =RANK(I59,$I$4:$I$263,0) -> 241 | L59: =IF(OR(I59=0,M59=0),100,((O59-K59)/COUNTA($D$4:$D$263))*100+100) -> 100 | M59: 0 | N59: 王江 | O59: =RANK(M59,$M$4:$M$263,0) -> 236 | P59: =IF(OR(Q59=0,M59=0),100,((S59-O59)/COUNTA($D$4:$D$263))*100+100) -> 100 | Q59: =VLOOKUP(A59,[1]高二上!$A$3:$H$583,7,0) -> 62 | R59: =VLOOKUP(A59,[1]高二上!$A$3:$H$583,8,0) -> 王江 | S59: =RANK(Q59,$Q$4:$Q$263,0) -> 169 | T59: =IF(OR(Q59=0,U59=0),100,((W59-S59)/COUNTA($D$4:$D$263))*100+100) -> 131.92308 | U59: =VLOOKUP(A59,[1]高一下!$A$3:$H$585,7,0) -> 31 | V59: =VLOOKUP(A59,[1]高一下!$A$3:$H$585,8,0) -> 王江 | W59: =RANK(U59,$U$4:$U$263,0) -> 252 | X59: =IF(OR(Y59=0,U59=0),100,((AA59-W59)/COUNTA($D$4:$D$263))*100+100) -> 61.538462 | Y59: =VLOOKUP(A59,[1]高一上!$A$3:$H$587,7,0) -> 54 | Z59: =VLOOKUP(A59,[1]高一上!$A$3:$H$587,8,0) -> 王江 | AA59: =RANK(Y59,$Y$4:$Y$263,0) -> 152 | AB59: =IF(OR(Y59=0,AC59=0),100,((AD59-AA59)/COUNTA($D$4:$D$263))*100+100) -> 100 | AC59: 0 | AD59: =RANK(AC59,$AC$4:$AC$263,0) -> 255
A60: 513422200003255025 | B60: 2 | C60: 降初 | D60: 文科 | E60: =VLOOKUP(A60,'[1]高三下(高考)'!$A$3:$H$615,7,0) -> 70 | F60: =VLOOKUP(A60,'[1]高三下(高考)'!$A$3:$H$615,8,0) -> 潘勇 | G60: =RANK(E60,$E$4:$E$263,0) -> 115 | H60: =IF(OR(I60=0,E60=0),100,((K60-G60)/COUNTA($D$4:$D$263))*100+100) -> 111.53846 | I60: =VLOOKUP(A60,[1]高三上!$A$3:$H$588,7,0) -> 46 | J60: =VLOOKUP(A60,[1]高三上!$A$3:$H$588,8,0) -> 潘勇 | K60: =RANK(I60,$I$4:$I$263,0) -> 145 | L60: =IF(OR(I60=0,M60=0),100,((O60-K60)/COUNTA($D$4:$D$263))*100+100) -> 83.461538 | M60: =VLOOKUP(A60,[1]高二下!$A$3:$H$536,7,0) -> 85 | N60: =VLOOKUP(A60,[1]高二下!$A$3:$H$536,8,0) -> 王江 | O60: =RANK(M60,$M$4:$M$263,0) -> 102 | P60: =IF(OR(Q60=0,M60=0),100,((S60-O60)/COUNTA($D$4:$D$263))*100+100) -> 103.07692 | Q60: =VLOOKUP(A60,[1]高二上!$A$3:$H$583,7,0) -> 73 | R60: =VLOOKUP(A60,[1]高二上!$A$3:$H$583,8,0) -> 王江 | S60: =RANK(Q60,$Q$4:$Q$263,0) -> 110 | T60: =IF(OR(Q60=0,U60=0),100,((W60-S60)/COUNTA($D$4:$D$263))*100+100) -> 84.230769 | U60: =VLOOKUP(A60,[1]高一下!$A$3:$H$585,7,0) -> 87 | V60: =VLOOKUP(A60,[1]高一下!$A$3:$H$585,8,0) -> 王江 | W60: =RANK(U60,$U$4:$U$263,0) -> 69 | X60: =IF(OR(Y60=0,U60=0),100,((AA60-W60)/COUNTA($D$4:$D$263))*100+100) -> 110 | Y60: =VLOOKUP(A60,[1]高一上!$A$3:$H$587,7,0) -> 65 | Z60: =VLOOKUP(A60,[1]高一上!$A$3:$H$587,8,0) -> 王江 | AA60: =RANK(Y60,$Y$4:$Y$263,0) -> 95 | AB60: =IF(OR(Y60=0,AC60=0),100,((AD60-AA60)/COUNTA($D$4:$D$263))*100+100) -> 112.69231 | AC60: =VLOOKUP(A60,[1]中考!$A$2:$F$571,6,0) -> 57 | AD60: =RANK(AC60,$AC$4:$AC$263,0) -> 128
A61: 513422200004064829 | B61: 2 | C61: 央宗 | D61: 文科 | E61: =VLOOKUP(A61,'[1]高三下(高考)'!$A$3:$H$615,7,0) -> 59 | F61: =VLOOKUP(A61,'[1]高三下(高考)'!$A$3:$H$615,8,0) -> 潘勇 | G61: =RANK(E61,$E$4:$E$263,0) -> 177 | H61: =IF(OR(I61=0,E61=0),100,((K61-G61)/COUNTA($D$4:$D$263))*100+100) -> 81.153846 | I61: =VLOOKUP(A61,[1]高三上!$A$3:$H$588,7,0) -> 49 | J61: =VLOOKUP(A61,[1]高三上!$A$3:$H$588,8,0) -> 潘勇 | K61: =RANK(I61,$I$4:$I$263,0) -> 128 | L61: =IF(OR(I61=0,M61=0),100,((O61-K61)/COUNTA($D$4:$D$263))*100+100) -> 94.230769 | M61: =VLOOKUP(A61,[1]高二下!$A$3:$H$536,7,0) -> 82 | N61: =VLOOKUP(A61,[1]高二下!$A$3:$H$536,8,0) -> 王江 | O61: =RANK(M61,$M$4:$M$263,0) -> 113 | P61: =IF(OR(Q61=0,M61=0),100,((S61-O61)/COUNTA($D$4:$D$263))*100+100) -> 105.38462 | Q61: =VLOOKUP(A61,[1]高二上!$A$3:$H$583,7,0) -> 70 | R61: =VLOOKUP(A61,[1]高二上!$A$3:$H$583,8,0) -> 王江 | S61: =RANK(Q61,$Q$4:$Q$263,0) -> 127 | T61: =IF(OR(Q61=0,U61=0),100,((W61-S61)/COUNTA($D$4:$D$263))*100+100) -> 117.69231 | U61: =VLOOKUP(A61,[1]高一下!$A$3:$H$585,7,0) -> 64 | V61: =VLOOKUP(A61,[1]高一下!$A$3:$H$585,8,0) -> 王江 | W61: =RANK(U61,$U$4:$U$263,0) -> 173 | X61: =IF(OR(Y61=0,U61=0),100,((AA61-W61)/COUNTA($D$4:$D$263))*100+100) -> 108.84615 | Y61: =VLOOKUP(A61,[1]高一上!$A$3:$H$587,7,0) -> 46 | Z61: =VLOOKUP(A61,[1]高一上!$A$3:$H$587,8,0) -> 王江 | AA61: =RANK(Y61,$Y$4:$Y$263,0) -> 196 | AB61: =IF(OR(Y61=0,AC61=0),100,((AD61-AA61)/COUNTA($D$4:$D$263))*100+100) -> 120.38462 | AC61: =VLOOKUP(A61,[1]中考!$A$2:$F$571,6,0) -> 30 | AD61: =RANK(AC61,$AC$4:$AC$263,0) -> 249
A62: 513422200101166229 | B62: 2 | C62: 胡秀珍 | D62: 文科 | E62: =VLOOKUP(A62,'[1]高三下(高考)'!$A$3:$H$615,7,0) -> 72 | F62: =VLOOKUP(A62,'[1]高三下(高考)'!$A$3:$H$615,8,0) -> 潘勇 | G62: =RANK(E62,$E$4:$E$263,0) -> 104 | H62: =IF(OR(I62=0,E62=0),100,((K62-G62)/COUNTA($D$4:$D$263))*100+100) -> 92.307692 | I62: =VLOOKUP(A62,[1]高三上!$A$3:$H$588,7,0) -> 57.5 | J62: =VLOOKUP(A62,[1]高三上!$A$3:$H$588,8,0) -> 潘勇 | K62: =RANK(I62,$I$4:$I$263,0) -> 84 | L62: =IF(OR(I62=0,M62=0),100,((O62-K62)/COUNTA($D$4:$D$263))*100+100) -> 113.84615 | M62: =VLOOKUP(A62,[1]高二下!$A$3:$H$536,7,0) -> 81 | N62: =VLOOKUP(A62,[1]高二下!$A$3:$H$536,8,0) -> 王江 | O62: =RANK(M62,$M$4:$M$263,0) -> 120 | P62: =IF(OR(Q62=0,M62=0),100,((S62-O62)/COUNTA($D$4:$D$263))*100+100) -> 101.15385 | Q62: =VLOOKUP(A62,[1]高二上!$A$3:$H$583,7,0) -> 71 | R62: =VLOOKUP(A62,[1]高二上!$A$3:$H$583,8,0) -> 王江 | S62: =RANK(Q62,$Q$4:$Q$263,0) -> 123 | T62: =IF(OR(Q62=0,U62=0),100,((W62-S62)/COUNTA($D$4:$D$263))*100+100) -> 97.307692 | U62: =VLOOKUP(A62,[1]高一下!$A$3:$H$585,7,0) -> 76 | V62: =VLOOKUP(A62,[1]高一下!$A$3:$H$585,8,0) -> 王江 | W62: =RANK(U62,$U$4:$U$263,0) -> 116 | X62: =IF(OR(Y62=0,U62=0),100,((AA62-W62)/COUNTA($D$4:$D$263))*100+100) -> 77.692308 | Y62: =VLOOKUP(A62,[1]高一上!$A$3:$H$587,7,0) -> 75 | Z62: =VLOOKUP(A62,[1]高一上!$A$3:$H$587,8,0) -> 王江 | AA62: =RANK(Y62,$Y$4:$Y$263,0) -> 58 | AB62: =IF(OR(Y62=0,AC62=0),100,((AD62-AA62)/COUNTA($D$4:$D$263))*100+100) -> 108.07692 | AC62: =VLOOKUP(A62,[1]中考!$A$2:$F$571,6,0) -> 67 | AD62: =RANK(AC62,$AC$4:$AC$263,0) -> 79
A63: 513422200101214219 | B63: 2 | C63: 仁青 | D63: 文科 | E63: =VLOOKUP(A63,'[1]高三下(高考)'!$A$3:$H$615,7,0) -> 85 | F63: =VLOOKUP(A63,'[1]高三下(高考)'!$A$3:$H$615,8,0) -> 潘勇 | G63: =RANK(E63,$E$4:$E$263,0) -> 53 | H63: =IF(OR(I63=0,E63=0),100,((K63-G63)/COUNTA($D$4:$D$263))*100+100) -> 120.76923 | I63: =VLOOKUP(A63,[1]高三上!$A$3:$H$588,7,0) -> 52.5 | J63: =VLOOKUP(A63,[1]高三上!$A$3:$H$588,8,0) -> 潘勇 | K63: =RANK(I63,$I$4:$I$263,0) -> 107 | L63: =IF(OR(I63=0,M63=0),100,((O63-K63)/COUNTA($D$4:$D$263))*100+100) -> 115.38462 | M63: =VLOOKUP(A63,[1]高二下!$A$3:$H$536,7,0) -> 76 | N63: =VLOOKUP(A63,[1]高二下!$A$3:$H$536,8,0) -> 王江 | O63: =RANK(M63,$M$4:$M$263,0) -> 147 | P63: =IF(OR(Q63=0,M63=0),100,((S63-O63)/COUNTA($D$4:$D$263))*100+100) -> 63.461538 | Q63: =VLOOKUP(A63,[1]高二上!$A$3:$H$583,7,0) -> 86 | R63: =VLOOKUP(A63,[1]高二上!$A$3:$H$583,8,0) -> 王江 | S63: =RANK(Q63,$Q$4:$Q$263,0) -> 52 | T63: =IF(OR(Q63=0,U63=0),100,((W63-S63)/COUNTA($D$4:$D$263))*100+100) -> 88.076923 | U63: =VLOOKUP(A63,[1]高一下!$A$3:$H$585,7,0) -> 103 | V63: =VLOOKUP(A63,[1]高一下!$A$3:$H$585,8,0) -> 王江 | W63: =RANK(U63,$U$4:$U$263,0) -> 21 | X63: =IF(OR(Y63=0,U63=0),100,((AA63-W63)/COUNTA($D$4:$D$263))*100+100) -> 118.07692 | Y63: =VLOOKUP(A63,[1]高一上!$A$3:$H$587,7,0) -> 70 | Z63: =VLOOKUP(A63,[1]高一上!$A$3:$H$587,8,0) -> 李黎明 | AA63: =RANK(Y63,$Y$4:$Y$263,0) -> 68 | AB63: =IF(OR(Y63=0,AC63=0),100,((AD63-AA63)/COUNTA($D$4:$D$263))*100+100) -> 102.30769 | AC63: =VLOOKUP(A63,[1]中考!$A$2:$F$571,6,0) -> 68 | AD63: =RANK(AC63,$AC$4:$AC$263,0) -> 74
A64: 513422200102066828 | B64: 2 | C64: 韩琴琴 | D64: 文科 | E64: =VLOOKUP(A64,'[1]高三下(高考)'!$A$3:$H$615,7,0) -> 80 | F64: =VLOOKUP(A64,'[1]高三下(高考)'!$A$3:$H$615,8,0) -> 潘勇 | G64: =RANK(E64,$E$4:$E$263,0) -> 64 | H64: =IF(OR(I64=0,E64=0),100,((K64-G64)/COUNTA($D$4:$D$263))*100+100) -> 92.307692 | I64: =VLOOKUP(A64,[1]高三上!$A$3:$H$588,7,0) -> 67.5 | J64: =VLOOKUP(A64,[1]高三上!$A$3:$H$588,8,0) -> 潘勇 | K64: =RANK(I64,$I$4:$I$263,0) -> 44 | L64: =IF(OR(I64=0,M64=0),100,((O64-K64)/COUNTA($D$4:$D$263))*100+100) -> 108.46154 | M64: =VLOOKUP(A64,[1]高二下!$A$3:$H$536,7,0) -> 92 | N64: =VLOOKUP(A64,[1]高二下!$A$3:$H$536,8,0) -> 王江 | O64: =RANK(M64,$M$4:$M$263,0) -> 66 | P64: =IF(OR(Q64=0,M64=0),100,((S64-O64)/COUNTA($D$4:$D$263))*100+100) -> 159.23077 | Q64: =VLOOKUP(A64,[1]高二上!$A$3:$H$583,7,0) -> 53 | R64: =VLOOKUP(A64,[1]高二上!$A$3:$H$583,8,0) -> 王江 | S64: =RANK(Q64,$Q$4:$Q$263,0) -> 220 | T64: =IF(OR(Q64=0,U64=0),100,((W64-S64)/COUNTA($D$4:$D$263))*100+100) -> 53.076923 | U64: =VLOOKUP(A64,[1]高一下!$A$3:$H$585,7,0) -> 80 | V64: =VLOOKUP(A64,[1]高一下!$A$3:$H$585,8,0) -> 王江 | W64: =RANK(U64,$U$4:$U$263,0) -> 98 | X64: =IF(OR(Y64=0,U64=0),100,((AA64-W64)/COUNTA($D$4:$D$263))*100+100) -> 71.923077 | Y64: =VLOOKUP(A64,[1]高一上!$A$3:$H$587,7,0) -> 87 | Z64: =VLOOKUP(A64,[1]高一上!$A$3:$H$587,8,0) -> 王江 | AA64: =RANK(Y64,$Y$4:$Y$263,0) -> 25 | AB64: =IF(OR(Y64=0,AC64=0),100,((AD64-AA64)/COUNTA($D$4:$D$263))*100+100) -> 147.69231 | AC64: =VLOOKUP(A64,[1]中考!$A$2:$F$571,6,0) -> 52 | AD64: =RANK(AC64,$AC$4:$AC$263,0) -> 149
A65: 513422200105056422 | B65: 2 | C65: 启色拉姆 | D65: 文科 | E65: =VLOOKUP(A65,'[1]高三下(高考)'!$A$3:$H$615,7,0) -> 53 | F65: =VLOOKUP(A65,'[1]高三下(高考)'!$A$3:$H$615,8,0) -> 潘勇 | G65: =RANK(E65,$E$4:$E$263,0) -> 208 | H65: =IF(OR(I65=0,E65=0),100,((K65-G65)/COUNTA($D$4:$D$263))*100+100) -> 73.076923 | I65: =VLOOKUP(A65,[1]高三上!$A$3:$H$588,7,0) -> 47.5 | J65: =VLOOKUP(A65,[1]高三上!$A$3:$H$588,8,0) -> 潘勇 | K65: =RANK(I65,$I$4:$I$263,0) -> 138 | L65: =IF(OR(I65=0,M65=0),100,((O65-K65)/COUNTA($D$4:$D$263))*100+100) -> 88.076923 | M65: =VLOOKUP(A65,[1]高二下!$A$3:$H$536,7,0) -> 84 | N65: =VLOOKUP(A65,[1]高二下!$A$3:$H$536,8,0) -> 王江 | O65: =RANK(M65,$M$4:$M$263,0) -> 107 | P65: =IF(OR(Q65=0,M65=0),100,((S65-O65)/COUNTA($D$4:$D$263))*100+100) -> 141.15385 | Q65: =VLOOKUP(A65,[1]高二上!$A$3:$H$583,7,0) -> 54 | R65: =VLOOKUP(A65,[1]高二上!$A$3:$H$583,8,0) -> 王江 | S65: =RANK(Q65,$Q$4:$Q$263,0) -> 214 | T65: =IF(OR(Q65=0,U65=0),100,((W65-S65)/COUNTA($D$4:$D$263))*100+100) -> 69.615385 | U65: =VLOOKUP(A65,[1]高一下!$A$3:$H$585,7,0) -> 73 | V65: =VLOOKUP(A65,[1]高一下!$A$3:$H$585,8,0) -> 王江 | W65: =RANK(U65,$U$4:$U$263,0) -> 135 | X65: =IF(OR(Y65=0,U65=0),100,((AA65-W65)/COUNTA($D$4:$D$263))*100+100) -> 108.84615 | Y65: =VLOOKUP(A65,[1]高一上!$A$3:$H$587,7,0) -> 52 | Z65: =VLOOKUP(A65,[1]高一上!$A$3:$H$587,8,0) -> 王江 | AA65: =RANK(Y65,$Y$4:$Y$263,0) -> 158 | AB65: =IF(OR(Y65=0,AC65=0),100,((AD65-AA65)/COUNTA($D$4:$D$263))*100+100) -> 96.538462 | AC65: =VLOOKUP(A65,[1]中考!$A$2:$F$571,6,0) -> 52 | AD65: =RANK(AC65,$AC$4:$AC$263,0) -> 149
A66: 513422200107021928 | B66: 2 | C66: 王英 | D66: 文科 | E66: =VLOOKUP(A66,'[1]高三下(高考)'!$A$3:$H$615,7,0) -> 75 | F66: =VLOOKUP(A66,'[1]高三下(高考)'!$A$3:$H$615,8,0) -> 潘勇 | G66: =RANK(E66,$E$4:$E$263,0) -> 80 | H66: =IF(OR(I66=0,E66=0),100,((K66-G66)/COUNTA($D$4:$D$263))*100+100) -> 92.307692 | I66: =VLOOKUP(A66,[1]高三上!$A$3:$H$588,7,0) -> 62 | J66: =VLOOKUP(A66,[1]高三上!$A$3:$H$588,8,0) -> 潘勇 | K66: =RANK(I66,$I$4:$I$263,0) -> 60 | L66: =IF(OR(I66=0,M66=0),100,((O66-K66)/COUNTA($D$4:$D$263))*100+100) -> 114.23077 | M66: =VLOOKUP(A66,[1]高二下!$A$3:$H$536,7,0) -> 86 | N66: =VLOOKUP(A66,[1]高二下!$A$3:$H$536,8,0) -> 王江 | O66: =RANK(M66,$M$4:$M$263,0) -> 97 | P66: =IF(OR(Q66=0,M66=0),100,((S66-O66)/COUNTA($D$4:$D$263))*100+100) -> 125 | Q66: =VLOOKUP(A66,[1]高二上!$A$3:$H$583,7,0) -> 63 | R66: =VLOOKUP(A66,[1]高二上!$A$3:$H$583,8,0) -> 王江 | S66: =RANK(Q66,$Q$4:$Q$263,0) -> 162 | T66: =IF(OR(Q66=0,U66=0),100,((W66-S66)/COUNTA($D$4:$D$263))*100+100) -> 56.153846 | U66: =VLOOKUP(A66,[1]高一下!$A$3:$H$585,7,0) -> 92 | V66: =VLOOKUP(A66,[1]高一下!$A$3:$H$585,8,0) -> 王江 | W66: =RANK(U66,$U$4:$U$263,0) -> 48 | X66: =IF(OR(Y66=0,U66=0),100,((AA66-W66)/COUNTA($D$4:$D$263))*100+100) -> 105 | Y66: =VLOOKUP(A66,[1]高一上!$A$3:$H$587,7,0) -> 74 | Z66: =VLOOKUP(A66,[1]高一上!$A$3:$H$587,8,0) -> 王江 | AA66: =RANK(Y66,$Y$4:$Y$263,0) -> 61 | AB66: =IF(OR(Y66=0,AC66=0),100,((AD66-AA66)/COUNTA($D$4:$D$263))*100+100) -> 153.46154 | AC66: =VLOOKUP(A66,[1]中考!$A$2:$F$571,6,0) -> 45 | AD66: =RANK(AC66,$AC$4:$AC$263,0) -> 200
A67: 513422200111094222 | B67: 2 | C67: 仁青娜姆 | D67: 文科 | E67: =VLOOKUP(A67,'[1]高三下(高考)'!$A$3:$H$615,7,0) -> 70 | F67: =VLOOKUP(A67,'[1]高三下(高考)'!$A$3:$H$615,8,0) -> 潘勇 | G67: =RANK(E67,$E$4:$E$263,0) -> 115 | H67: =IF(OR(I67=0,E67=0),100,((K67-G67)/COUNTA($D$4:$D$263))*100+100) -> 75.769231 | I67: =VLOOKUP(A67,[1]高三上!$A$3:$H$588,7,0) -> 64 | J67: =VLOOKUP(A67,[1]高三上!$A$3:$H$588,8,0) -> 潘勇 | K67: =RANK(I67,$I$4:$I$263,0) -> 52 | L67: =IF(OR(I67=0,M67=0),100,((O67-K67)/COUNTA($D$4:$D$263))*100+100) -> 107.30769 | M67: =VLOOKUP(A67,[1]高二下!$A$3:$H$536,7,0) -> 91 | N67: =VLOOKUP(A67,[1]高二下!$A$3:$H$536,8,0) -> 王江 | O67: =RANK(M67,$M$4:$M$263,0) -> 71 | P67: =IF(OR(Q67=0,M67=0),100,((S67-O67)/COUNTA($D$4:$D$263))*100+100) -> 97.692308 | Q67: =VLOOKUP(A67,[1]高二上!$A$3:$H$583,7,0) -> 81 | R67: =VLOOKUP(A67,[1]高二上!$A$3:$H$583,8,0) -> 王江 | S67: =RANK(Q67,$Q$4:$Q$263,0) -> 65 | T67: =IF(OR(Q67=0,U67=0),100,((W67-S67)/COUNTA($D$4:$D$263))*100+100) -> 94.615385 | U67: =VLOOKUP(A67,[1]高一下!$A$3:$H$585,7,0) -> 91 | V67: =VLOOKUP(A67,[1]高一下!$A$3:$H$585,8,0) -> 王江 | W67: =RANK(U67,$U$4:$U$263,0) -> 51 | X67: =IF(OR(Y67=0,U67=0),100,((AA67-W67)/COUNTA($D$4:$D$263))*100+100) -> 141.15385 | Y67: =VLOOKUP(A67,[1]高一上!$A$3:$H$587,7,0) -> 52 | Z67: =VLOOKUP(A67,[1]高一上!$A$3:$H$587,8,0) -> 王江 | AA67: =RANK(Y67,$Y$4:$Y$263,0) -> 158 | AB67: =IF(OR(Y67=0,AC67=0),100,((AD67-AA67)/COUNTA($D$4:$D$263))*100+100) -> 90.384615 | AC67: =VLOOKUP(A67,[1]中考!$A$2:$F$571,6,0) -> 56 | AD67: =RANK(AC67,$AC$4:$AC$263,0) -> 133
A68: 513422200111231522 | B68: 2 | C68: 马克的莫 | D68: 文科 | E68: =VLOOKUP(A68,'[1]高三下(高考)'!$A$3:$H$615,7,0) -> 63 | F68: =VLOOKUP(A68,'[1]高三下(高考)'!$A$3:$H$615,8,0) -> 潘勇 | G68: =RANK(E68,$E$4:$E$263,0) -> 162 | H68: =IF(OR(I68=0,E68=0),100,((K68-G68)/COUNTA($D$4:$D$263))*100+100) -> 100 | I68: 0 | J68: 潘勇 | K68: =RANK(I68,$I$4:$I$263,0) -> 241 | L68: =IF(OR(I68=0,M68=0),100,((O68-K68)/COUNTA($D$4:$D$263))*100+100) -> 100 | M68: 0 | N68: 王江 | O68: =RANK(M68,$M$4:$M$263,0) -> 236 | P68: =IF(OR(Q68=0,M68=0),100,((S68-O68)/COUNTA($D$4:$D$263))*100+100) -> 100 | Q68: =VLOOKUP(A68,[1]高二上!$A$3:$H$583,7,0) -> 61 | R68: =VLOOKUP(A68,[1]高二上!$A$3:$H$583,8,0) -> 王江 | S68: =RANK(Q68,$Q$4:$Q$263,0) -> 177 | T68: =IF(OR(Q68=0,U68=0),100,((W68-S68)/COUNTA($D$4:$D$263))*100+100) -> 98.461538 | U68: =VLOOKUP(A68,[1]高一下!$A$3:$H$585,7,0) -> 64 | V68: =VLOOKUP(A68,[1]高一下!$A$3:$H$585,8,0) -> 王江 | W68: =RANK(U68,$U$4:$U$263,0) -> 173 | X68: =IF(OR(Y68=0,U68=0),100,((AA68-W68)/COUNTA($D$4:$D$263))*100+100) -> 45.384615 | Y68: =VLOOKUP(A68,[1]高一上!$A$3:$H$587,7,0) -> 84 | Z68: =VLOOKUP(A68,[1]高一上!$A$3:$H$587,8,0) -> 王江 | AA68: =RANK(Y68,$Y$4:$Y$263,0) -> 31 | AB68: =IF(OR(Y68=0,AC68=0),100,((AD68-AA68)/COUNTA($D$4:$D$263))*100+100) -> 98.846154 | AC68: =VLOOKUP(A68,[1]中考!$A$2:$F$571,6,0) -> 82 | AD68: =RANK(AC68,$AC$4:$AC$263,0) -> 28
A69: 513422200111253828 | B69: 2 | C69: 蒋永琼 | D69: 文科 | E69: =VLOOKUP(A69,'[1]高三下(高考)'!$A$3:$H$615,7,0) -> 46 | F69: =VLOOKUP(A69,'[1]高三下(高考)'!$A$3:$H$615,8,0) -> 潘勇 | G69: =RANK(E69,$E$4:$E$263,0) -> 234 | H69: =IF(OR(I69=0,E69=0),100,((K69-G69)/COUNTA($D$4:$D$263))*100+100) -> 84.230769 | I69: =VLOOKUP(A69,[1]高三上!$A$3:$H$588,7,0) -> 37 | J69: =VLOOKUP(A69,[1]高三上!$A$3:$H$588,8,0) -> 潘勇 | K69: =RANK(I69,$I$4:$I$263,0) -> 193 | L69: =IF(OR(I69=0,M69=0),100,((O69-K69)/COUNTA($D$4:$D$263))*100+100) -> 95.384615 | M69: =VLOOKUP(A69,[1]高二下!$A$3:$H$536,7,0) -> 67 | N69: =VLOOKUP(A69,[1]高二下!$A$3:$H$536,8,0) -> 王江 | O69: =RANK(M69,$M$4:$M$263,0) -> 181 | P69: =IF(OR(Q69=0,M69=0),100,((S69-O69)/COUNTA($D$4:$D$263))*100+100) -> 118.46154 | Q69: =VLOOKUP(A69,[1]高二上!$A$3:$H$583,7,0) -> 50 | R69: =VLOOKUP(A69,[1]高二上!$A$3:$H$583,8,0) -> 王江 | S69: =RANK(Q69,$Q$4:$Q$263,0) -> 229 | T69: =IF(OR(Q69=0,U69=0),100,((W69-S69)/COUNTA($D$4:$D$263))*100+100) -> 97.307692 | U69: =VLOOKUP(A69,[1]高一下!$A$3:$H$585,7,0) -> 48 | V69: =VLOOKUP(A69,[1]高一下!$A$3:$H$585,8,0) -> 王江 | W69: =RANK(U69,$U$4:$U$263,0) -> 222 | X69: =IF(OR(Y69=0,U69=0),100,((AA69-W69)/COUNTA($D$4:$D$263))*100+100) -> 98.076923 | Y69: =VLOOKUP(A69,[1]高一上!$A$3:$H$587,7,0) -> 42 | Z69: =VLOOKUP(A69,[1]高一上!$A$3:$H$587,8,0) -> 王江 | AA69: =RANK(Y69,$Y$4:$Y$263,0) -> 217 | AB69: =IF(OR(Y69=0,AC69=0),100,((AD69-AA69)/COUNTA($D$4:$D$263))*100+100) -> 110.38462 | AC69: =VLOOKUP(A69,[1]中考!$A$2:$F$571,6,0) -> 34 | AD69: =RANK(AC69,$AC$4:$AC$263,0) -> 244
A70: 513422200112122125 | B70: 2 | C70: 马尔其 | D70: 文科 | E70: =VLOOKUP(A70,'[1]高三下(高考)'!$A$3:$H$615,7,0) -> 68 | F70: =VLOOKUP(A70,'[1]高三下(高考)'!$A$3:$H$615,8,0) -> 潘勇 | G70: =RANK(E70,$E$4:$E$263,0) -> 127 | H70: =IF(OR(I70=0,E70=0),100,((K70-G70)/COUNTA($D$4:$D$263))*100+100) -> 98.846154 | I70: =VLOOKUP(A70,[1]高三上!$A$3:$H$588,7,0) -> 50 | J70: =VLOOKUP(A70,[1]高三上!$A$3:$H$588,8,0) -> 潘勇 | K70: =RANK(I70,$I$4:$I$263,0) -> 124 | L70: =IF(OR(I70=0,M70=0),100,((O70-K70)/COUNTA($D$4:$D$263))*100+100) -> 69.615385 | M70: =VLOOKUP(A70,[1]高二下!$A$3:$H$536,7,0) -> 97 | N70: =VLOOKUP(A70,[1]高二下!$A$3:$H$536,8,0) -> 王江 | O70: =RANK(M70,$M$4:$M$263,0) -> 45 | P70: =IF(OR(Q70=0,M70=0),100,((S70-O70)/COUNTA($D$4:$D$263))*100+100) -> 92.692308 | Q70: =VLOOKUP(A70,[1]高二上!$A$3:$H$583,7,0) -> 92 | R70: =VLOOKUP(A70,[1]高二上!$A$3:$H$583,8,0) -> 王江 | S70: =RANK(Q70,$Q$4:$Q$263,0) -> 26 | T70: =IF(OR(Q70=0,U70=0),100,((W70-S70)/COUNTA($D$4:$D$263))*100+100) -> 101.15385 | U70: =VLOOKUP(A70,[1]高一下!$A$3:$H$585,7,0) -> 100 | V70: =VLOOKUP(A70,[1]高一下!$A$3:$H$585,8,0) -> 王江 | W70: =RANK(U70,$U$4:$U$263,0) -> 29 | X70: =IF(OR(Y70=0,U70=0),100,((AA70-W70)/COUNTA($D$4:$D$263))*100+100) -> 102.30769 | Y70: =VLOOKUP(A70,[1]高一上!$A$3:$H$587,7,0) -> 83 | Z70: =VLOOKUP(A70,[1]高一上!$A$3:$H$587,8,0) -> 王江 | AA70: =RANK(Y70,$Y$4:$Y$263,0) -> 35 | AB70: =IF(OR(Y70=0,AC70=0),100,((AD70-AA70)/COUNTA($D$4:$D$263))*100+100) -> 105.76923 | AC70: =VLOOKUP(A70,[1]中考!$A$2:$F$571,6,0) -> 74 | AD70: =RANK(AC70,$AC$4:$AC$263,0) -> 50
A71: 513422200201254824 | B71: 2 | C71: 祝玛拉初 | D71: 文科 | E71: =VLOOKUP(A71,'[1]高三下(高考)'!$A$3:$H$615,7,0) -> 53 | F71: =VLOOKUP(A71,'[1]高三下(高考)'!$A$3:$H$615,8,0) -> 潘勇 | G71: =RANK(E71,$E$4:$E$263,0) -> 208 | H71: =IF(OR(I71=0,E71=0),100,((K71-G71)/COUNTA($D$4:$D$263))*100+100) -> 81.923077 | I71: =VLOOKUP(A71,[1]高三上!$A$3:$H$588,7,0) -> 43 | J71: =VLOOKUP(A71,[1]高三上!$A$3:$H$588,8,0) -> 潘勇 | K71: =RANK(I71,$I$4:$I$263,0) -> 161 | L71: =IF(OR(I71=0,M71=0),100,((O71-K71)/COUNTA($D$4:$D$263))*100+100) -> 99.615385 | M71: =VLOOKUP(A71,[1]高二下!$A$3:$H$536,7,0) -> 72 | N71: =VLOOKUP(A71,[1]高二下!$A$3:$H$536,8,0) -> 王江 | O71: =RANK(M71,$M$4:$M$263,0) -> 160 | P71: =IF(OR(Q71=0,M71=0),100,((S71-O71)/COUNTA($D$4:$D$263))*100+100) -> 103.46154 | Q71: =VLOOKUP(A71,[1]高二上!$A$3:$H$583,7,0) -> 62 | R71: =VLOOKUP(A71,[1]高二上!$A$3:$H$583,8,0) -> 王江 | S71: =RANK(Q71,$Q$4:$Q$263,0) -> 169 | T71: =IF(OR(Q71=0,U71=0),100,((W71-S71)/COUNTA($D$4:$D$263))*100+100) -> 54.615385 | U71: =VLOOKUP(A71,[1]高一下!$A$3:$H$585,7,0) -> 91 | V71: =VLOOKUP(A71,[1]高一下!$A$3:$H$585,8,0) -> 王江 | W71: =RANK(U71,$U$4:$U$263,0) -> 51 | X71: =IF(OR(Y71=0,U71=0),100,((AA71-W71)/COUNTA($D$4:$D$263))*100+100) -> 132.69231 | Y71: =VLOOKUP(A71,[1]高一上!$A$3:$H$587,7,0) -> 58 | Z71: =VLOOKUP(A71,[1]高一上!$A$3:$H$587,8,0) -> 王江 | AA71: =RANK(Y71,$Y$4:$Y$263,0) -> 136 | AB71: =IF(OR(Y71=0,AC71=0),100,((AD71-AA71)/COUNTA($D$4:$D$263))*100+100) -> 87.307692 | AC71: =VLOOKUP(A71,[1]中考!$A$2:$F$571,6,0) -> 62 | AD71: =RANK(AC71,$AC$4:$AC$263,0) -> 103
A72: 513422200202011517 | B72: 2 | C72: 马东林 | D72: 文科 | E72: =VLOOKUP(A72,'[1]高三下(高考)'!$A$3:$H$615,7,0) -> 79 | F72: =VLOOKUP(A72,'[1]高三下(高考)'!$A$3:$H$615,8,0) -> 潘勇 | G72: =RANK(E72,$E$4:$E$263,0) -> 69 | H72: =IF(OR(I72=0,E72=0),100,((K72-G72)/COUNTA($D$4:$D$263))*100+100) -> 87.692308 | I72: =VLOOKUP(A72,[1]高三上!$A$3:$H$588,7,0) -> 70.5 | J72: =VLOOKUP(A72,[1]高三上!$A$3:$H$588,8,0) -> 潘勇 | K72: =RANK(I72,$I$4:$I$263,0) -> 37 | L72: =IF(OR(I72=0,M72=0),100,((O72-K72)/COUNTA($D$4:$D$263))*100+100) -> 92.307692 | M72: =VLOOKUP(A72,[1]高二下!$A$3:$H$536,7,0) -> 110 | N72: =VLOOKUP(A72,[1]高二下!$A$3:$H$536,8,0) -> 王江 | O72: =RANK(M72,$M$4:$M$263,0) -> 17 | P72: =IF(OR(Q72=0,M72=0),100,((S72-O72)/COUNTA($D$4:$D$263))*100+100) -> 114.23077 | Q72: =VLOOKUP(A72,[1]高二上!$A$3:$H$583,7,0) -> 85 | R72: =VLOOKUP(A72,[1]高二上!$A$3:$H$583,8,0) -> 王江 | S72: =RANK(Q72,$Q$4:$Q$263,0) -> 54 | T72: =IF(OR(Q72=0,U72=0),100,((W72-S72)/COUNTA($D$4:$D$263))*100+100) -> 96.538462 | U72: =VLOOKUP(A72,[1]高一下!$A$3:$H$585,7,0) -> 93 | V72: =VLOOKUP(A72,[1]高一下!$A$3:$H$585,8,0) -> 王江 | W72: =RANK(U72,$U$4:$U$263,0) -> 45 | X72: =IF(OR(Y72=0,U72=0),100,((AA72-W72)/COUNTA($D$4:$D$263))*100+100) -> 96.538462 | Y72: =VLOOKUP(A72,[1]高一上!$A$3:$H$587,7,0) -> 81 | Z72: =VLOOKUP(A72,[1]高一上!$A$3:$H$587,8,0) -> 王江 | AA72: =RANK(Y72,$Y$4:$Y$263,0) -> 36 | AB72: =IF(OR(Y72=0,AC72=0),100,((AD72-AA72)/COUNTA($D$4:$D$263))*100+100) -> 128.84615 | AC72: =VLOOKUP(A72,[1]中考!$A$2:$F$571,6,0) -> 60 | AD72: =RANK(AC72,$AC$4:$AC$263,0) -> 111
A73: 513422200202100720 | B73: 2 | C73: 马布几嫫 | D73: 文科 | E73: =VLOOKUP(A73,'[1]高三下(高考)'!$A$3:$H$615,7,0) -> 67 | F73: =VLOOKUP(A73,'[1]高三下(高考)'!$A$3:$H$615,8,0) -> 潘勇 | G73: =RANK(E73,$E$4:$E$263,0) -> 137 | H73: =IF(OR(I73=0,E73=0),100,((K73-G73)/COUNTA($D$4:$D$263))*100+100) -> 137.69231 | I73: =VLOOKUP(A73,[1]高三上!$A$3:$H$588,7,0) -> 24.5 | J73: =VLOOKUP(A73,[1]高三上!$A$3:$H$588,8,0) -> 潘勇 | K73: =RANK(I73,$I$4:$I$263,0) -> 235 | L73: =IF(OR(I73=0,M73=0),100,((O73-K73)/COUNTA($D$4:$D$263))*100+100) -> 36.923077 | M73: =VLOOKUP(A73,[1]高二下!$A$3:$H$536,7,0) -> 91 | N73: =VLOOKUP(A73,[1]高二下!$A$3:$H$536,8,0) -> 王江 | O73: =RANK(M73,$M$4:$M$263,0) -> 71 | P73: =IF(OR(Q73=0,M73=0),100,((S73-O73)/COUNTA($D$4:$D$263))*100+100) -> 152.69231 | Q73: =VLOOKUP(A73,[1]高二上!$A$3:$H$583,7,0) -> 56 | R73: =VLOOKUP(A73,[1]高二上!$A$3:$H$583,8,0) -> 王江 | S73: =RANK(Q73,$Q$4:$Q$263,0) -> 208 | T73: =IF(OR(Q73=0,U73=0),100,((W73-S73)/COUNTA($D$4:$D$263))*100+100) -> 76.923077 | U73: =VLOOKUP(A73,[1]高一下!$A$3:$H$585,7,0) -> 70 | V73: =VLOOKUP(A73,[1]高一下!$A$3:$H$585,8,0) -> 王江 | W73: =RANK(U73,$U$4:$U$263,0) -> 148 | X73: =IF(OR(Y73=0,U73=0),100,((AA73-W73)/COUNTA($D$4:$D$263))*100+100) -> 96.153846 | Y73: =VLOOKUP(A73,[1]高一上!$A$3:$H$587,7,0) -> 57 | Z73: =VLOOKUP(A73,[1]高一上!$A$3:$H$587,8,0) -> 王江 | AA73: =RANK(Y73,$Y$4:$Y$263,0) -> 138 | AB73: =IF(OR(Y73=0,AC73=0),100,((AD73-AA73)/COUNTA($D$4:$D$263))*100+100) -> 96.153846 | AC73: =VLOOKUP(A73,[1]中考!$A$2:$F$571,6,0) -> 57 | AD73: =RANK(AC73,$AC$4:$AC$263,0) -> 128
