Workbook

Sheet 2022艺体分数线

Sheet 2022艺体上线艺体教师数据
A1: 木里藏族自治县中学2022年高考本科录取艺体类
A2: 序号 | B2: 报名号 | C2: 身份证号码 | D2: 姓名 | E2: 科类 | F2: 班级 | G2: 应往届 | H2: 录取批次 | I2: 分类1 | J2: 分类2 | K2: 录取高校 | L2: 录取专业 | M2: 分数 | N2: 上线情况 | O2: 备注 | P2: 分数线 | Q2: 培训老师 | R2: 得分 | T2: 硬上艺体
A3: 1 | B3: 22512102140038 | C3: 513422200304101919 | D3: 王金平 | E3: 文科 | F3: 3 | G3: 应届 | H3: 本科一批 | I3: 体育 | J3: 统招 | K3: 西昌学院 | L3: 体育教育 | M3: 410 | N3: 硬上体育本科 | O3: 体育学类 | P3: 345 | Q3: 鲁绒旦友 | R3: 36 | T3: 行标签 | U3: 求和项:得分
A4: 2 | B4: 22512102140013 | C4: 51342220030303171X | D4: 沈志华 | E4: 文科 | F4: 5 | G4: 往届 | H4: 本科一批 | I4: 体育 | J4: 统招 | K4: 成都大学 | L4: 体育教育 | M4: 397 | N4: 硬上体育本科 | O4: 体育学类 | P4: 345 | Q4: 鲁绒旦友 | R4: 36 | T4: 郭禧唐 | U4: 300
A5: 3 | B5: 22512102140056 | C5: 513422200506042718 | D5: 沈小强 | E5: 文科 | F5: 4 | G5: 应届 | H5: 本科一批 | I5: 体育 | J5: 统招 | K5: 西昌学院 | L5: 运动康复 | M5: 396 | N5: 硬上体育本科 | O5: 体育学类 | P5: 345 | Q5: 鲁绒旦友 | R5: 36 | T5: 鲁绒旦友 | U5: 534
A6: 4 | B6: 22512102140040 | C6: 513422200312052512 | D6: 蔡培林 | E6: 文科 | F6: 3 | G6: 应届 | H6: 本科一批 | I6: 体育 | J6: 统招 | K6: 成都体育学院 | L6: 体育教育 | M6: 370 | N6: 硬上体育本科 | O6: 体育学类 | P6: 345 | Q6: 鲁绒旦友 | R6: 36 | T6: 周时德 | U6: 102
A7: 5 | B7: 22512102140007 | C7: 513422200109281539 | D7: 马贵勇 | E7: 文科 | F7: 2 | G7: 往届 | H7: 本科一批 | I7: 体育 | J7: 统招 | K7: 四川农业大学 | L7: 社会体育指导与管理 | M7: 369 | N7: 硬上体育本科 | O7: 体育学类 | P7: 345 | Q7: 鲁绒旦友 | R7: 36 | T7: 总计 | U7: 936
A8: 6 | B8: 22512102140031 | C8: 513422200501064811 | D8: 改绒次尔 | E8: 文科 | F8: 2 | G8: 应届 | H8: 本科一批 | I8: 体育 | J8: 统招 | K8: 宜宾学院 | L8: 体育教育 | M8: 368 | N8: 硬上体育本科 | O8: 体育学类 | P8: 345 | Q8: 鲁绒旦友 | R8: 36
A9: 7 | B9: 22512102140052 | C9: 513422200201033810 | D9: 徐晓伟 | E9: 文科 | F9: 1 | G9: 应届 | H9: 本科一批 | I9: 体育 | J9: 统招 | K9: 成都师范学院 | L9: 休闲体育 | M9: 367 | N9: 硬上体育本科 | O9: 体育学类 | P9: 345 | Q9: 鲁绒旦友 | R9: 36 | T9: 照顾上艺体
A10: 8 | B10: 22512102180003 | C10: 51342220050520501X | D10: 姜才宝 | E10: 理科 | F10: 6 | G10: 应届 | H10: 本科一批 | I10: 体育 | J10: 统招 | K10: 绵阳师范学院 | L10: 体育教育 | M10: 366 | N10: 硬上体育本科 | O10: 体育学类 | P10: 345 | Q10: 鲁绒旦友 | R10: 36 | T10: 行标签 | U10: 求和项:得分
A11: 9 | B11: 22512102180002 | C11: 513422200103066010 | D11: 次尔偏初 | E11: 理科 | F11: 7 | G11: 往届 | H11: 本科一批 | I11: 体育 | J11: 统招 | K11: 成都艺术职业大学 | L11: 社会体育指导与管理 | M11: 363 | N11: 硬上体育本科 | O11: 体育学类 | P11: 345 | Q11: 鲁绒旦友 | R11: 36 | T11: 郭禧唐 | U11: 72
A12: 10 | B12: 22512102180001 | C12: 513422200008084413 | D12: 杨布吉 | E12: 理科 | F12: 8 | G12: 往届 | H12: 本科一批 | I12: 体育 | J12: 统招 | K12: 西南医科大学 | L12: 体育学类 | M12: 359 | N12: 硬上体育本科 | O12: 体育学类 | P12: 345 | Q12: 鲁绒旦友 | R12: 36 | T12: 鲁绒旦友 | U12: 144
A13: 11 | B13: 22512102140027 | C13: 513422200305081729 | D13: 何拉初 | E13: 文科 | F13: 2 | G13: 应届 | H13: 本科一批 | I13: 体育 | J13: 统招 | K13: 宜宾学院 | L13: 体育教育 | M13: 359 | N13: 硬上体育本科 | O13: 体育学类 | P13: 345 | Q13: 鲁绒旦友 | R13: 36 | T13: 周时德 | U13: 36
A14: 12 | B14: 22512102180004 | C14: 513422200105010918 | D14: 马日姆 | E14: 理科 | F14: 7 | G14: 应届 | H14: 本科一批 | I14: 体育 | J14: 统招 | K14: 四川工业科技学院 | L14: 社会体育指导与管理 | M14: 357 | N14: 硬上体育本科 | O14: 体育学类 | P14: 345 | Q14: 鲁绒旦友 | R14: 36 | T14: 总计 | U14: 252
A15: 13 | B15: 22512102130053 | C15: 513422200212220021 | D15: 潘秋霞 | E15: 文科 | F15: 3 | G15: 应届 | H15: 本科一批 | I15: 艺术 | J15: 统招 | K15: 四川轻化工大学 | L15: 视觉传达设计(中外合作办学) | M15: 404 | N15: 硬上艺术本科 | O15: 设计学类 | P15: 355 | Q15: 周时德 | R15: 36
A16: 14 | B16: 22512102130050 | C16: 513422200305044426 | D16: 蒋志英 | E16: 文科 | F16: 5 | G16: 应届 | H16: 本科一批 | I16: 艺术 | J16: 统招 | K16: 四川民族学院 | L16: 美术学 | M16: 391 | N16: 硬上艺术本科 | O16: 美术学类 | P16: 350 | Q16: 周时德 | R16: 36
A17: 15 | B17: 22512102130023 | C17: 51342220000519481X | D17: 次里苏朗 | E17: 文科 | F17: 4 | G17: 应届 | H17: 本科一批 | I17: 艺术 | J17: 统招 | K17: 四川音乐学院 | L17: 音乐表演(声乐民族唱法) | M17: 377 | N17: 硬上艺术本科 | O17: 音乐表演 | P17: 305 | Q17: 郭禧唐 | R17: 36
A18: 16 | B18: 22512102130044 | C18: 51342220040318481X | D18: 格绒启洛 | E18: 文科 | F18: 4 | G18: 应届 | H18: 本科一批 | I18: 艺术 | J18: 统招 | K18: 四川师范大学 | L18: 音乐表演(声乐) | M18: 375 | N18: 硬上艺术本科 | O18: 音乐表演 | P18: 305 | Q18: 郭禧唐 | R18: 36
A19: 17 | B19: 22512102130024 | C19: 513422199910282160 | D19: 马阿支 | E19: 文科 | F19: 2 | G19: 应届 | H19: 本科一批 | I19: 艺术 | J19: 统招 | K19: 四川文理学院 | L19: 音乐学 | M19: 353 | N19: 硬上艺术本科 | O19: 音乐学类 | P19: 345 | Q19: 郭禧唐 | R19: 36
A20: 18 | B20: 22512102130030 | C20: 513422200406230025 | D20: 央千 | E20: 文科 | F20: 2 | G20: 应届 | H20: 本科一批 | I20: 艺术 | J20: 统招 | K20: 成都师范学院 | L20: 音乐学 | M20: 352 | N20: 硬上艺术本科 | O20: 音乐学类 | P20: 345 | Q20: 郭禧唐 | R20: 36
A21: 19 | B21: 22512102130025 | C21: 513422200111231522 | D21: 马克的莫 | E21: 文科 | F21: 2 | G21: 应届 | H21: 本科一批 | I21: 艺术 | J21: 统招 | K21: 四川文化艺术学院 | L21: 音乐表演 | M21: 326 | N21: 硬上艺术本科 | O21: 音乐表演 | P21: 305 | Q21: 郭禧唐 | R21: 36
A22: 20 | B22: 22512102130059 | C22: 513422200402150028 | D22: 杨玲 | E22: 文科 | F22: 3 | G22: 应届 | H22: 本科一批 | I22: 艺术 | J22: 统招 | K22: 四川传媒学院 | L22: 表演(影视配音) | M22: 313 | N22: 硬上艺术本科 | O22: 音乐表演 | P22: 305 | Q22: 郭禧唐 | R22: 36
A23: 21 | B23: 22512102130042 | C23: 513422200505080042 | D23: 兰英英 | E23: 文科 | F23: 3 | G23: 应届 | H23: 本科一批 | I23: 艺术 | J23: 统招 | K23: 西华师范大学 | L23: 音乐表演(声乐) | M23: 312 | N23: 硬上艺术本科 | O23: 音乐表演 | P23: 305 | Q23: 郭禧唐 | R23: 36
A24: 22 | B24: 22512102130006 | C24: 513422200108010016 | D24: 汪吒多吉 | E24: 文科 | F24: 3 | G24: 往届 | H24: 本科提前批 | I24: 艺术 | J24: 统招 | K24: 中央民族大学 | L24: 音乐表演(民族英才班声乐) | M24: 305 | N24: 硬上艺术本科 | O24: 音乐表演 | P24: 305 | Q24: 郭禧唐 | R24: 36
D25: 樊偏初 | N25: 体育专业上线 | Q25: 鲁绒旦友 | R25: 6
D26: 杨小强 | N26: 体育专业上线 | Q26: 鲁绒旦友 | R26: 6
D27: 熊绍友 | N27: 体育专业上线 | Q27: 鲁绒旦友 | R27: 6
D28: 扎西旦珠 | N28: 体育专业上线 | Q28: 鲁绒旦友 | R28: 6
D29: 王正林 | N29: 体育专业上线 | Q29: 鲁绒旦友 | R29: 6
D30: 马伍达 | N30: 体育专业上线 | Q30: 鲁绒旦友 | R30: 6
D31: 扎西尼玛 | N31: 体育专业上线 | Q31: 鲁绒旦友 | R31: 6
D32: 叶才岗 | N32: 体育专业上线 | Q32: 鲁绒旦友 | R32: 6
D33: 撒朗次尔 | N33: 体育专业上线 | Q33: 鲁绒旦友 | R33: 6
D34: 扎西偏初 | N34: 体育专业上线 | Q34: 鲁绒旦友 | R34: 6
D35: 唐春兰 | N35: 体育专业上线 | Q35: 鲁绒旦友 | R35: 6
D36: 严小建 | N36: 体育专业上线 | Q36: 鲁绒旦友 | R36: 6
... D48: 次仁拥宗 | N48: 音乐专业上线 | Q48: 郭禧唐 | R48: 6
Q49: 培训老师 | R49: 得分
A50: 23 | B50: 22512102140048 | C50: 513422200210200019 | D50: 马阿冬 | E50: 文科 | F50: 5 | G50: 应届 | H50: 本科一批 | I50: 体育 | J50: 统招 | K50: 四川工商学院 | L50: 社会体育指导与管理 | M50: 329 | N50: 照顾上体育本科 | O50: 体育学类 | P50: 345 | Q50: 鲁绒旦友 | R50: 36
A51: 24 | B51: 22512102140051 | C51: 513422200306104013 | D51: 次尔偏初 | E51: 文科 | F51: 5 | G51: 应届 | H51: 本科一批 | I51: 体育 | J51: 统招 | K51: 中南民族大学 | L51: 社会体育指导与管理 | M51: 321 | N51: 照顾上体育本科 | O51: 体育学类 | P51: 345 | Q51: 鲁绒旦友 | R51: 36
A52: 25 | B52: 22512102140032 | C52: 51342220000126151X | D52: 罗宇潇 | E52: 文科 | F52: 3 | G52: 应届 | H52: 本科一批 | I52: 体育 | J52: 统招 | K52: 西南民族大学 | L52: 体育教育 | M52: 313 | N52: 照顾上体育本科 | O52: 体育学类 | P52: 345 | Q52: 鲁绒旦友 | R52: 36
A53: 26 | B53: 22512102140047 | C53: 513422200208016220 | D53: 次仁拥宗 | E53: 文科 | F53: 5 | G53: 应届 | H53: 本科一批 | I53: 体育 | J53: 统招 | K53: 西南财经大学天府学院 | L53: 体育教育 | M53: 311 | N53: 照顾上体育本科 | O53: 体育学类 | P53: 345 | Q53: 鲁绒旦友 | R53: 36
A54: 27 | B54: 22512102170011 | C54: 513422200401280015 | D54: 贾雨鑫 | E54: 理科 | F54: 8 | G54: 应届 | H54: 本科一批 | I54: 艺术 | J54: 统招 | K54: 四川音乐学院 | L54: 产品设计 | M54: 350 | N54: 照顾上艺术本科 | O54: 设计学类 | P54: 355 | Q54: 周时德 | R54: 36
A55: 28 | B55: 22512102130049 | C55: 513422200303260010 | D55: 巴桑吉米 | E55: 文科 | F55: 5 | G55: 应届 | H55: 本科一批 | I55: 艺术 | J55: 统招 | K55: 四川音乐学院 | L55: 音乐表演(声乐民族唱法) | M55: 294 | N55: 照顾上艺术本科 | O55: 音乐表演 | P55: 305 | Q55: 郭禧唐 | R55: 36
A56: 29 | B56: 22512102170008 | C56: 513422200205084834 | D56: 达瓦次尔 | E56: 理科 | F56: 8 | G56: 应届 | H56: 本科一批 | I56: 艺术 | J56: 统招 | K56: 四川音乐学院 | L56: 音乐表演(声乐民族唱法) | M56: 270 | N56: 照顾上艺术本科 | O56: 音乐表演 | P56: 305 | Q56: 郭禧唐 | R56: 36

Sheet 硬上艺体本科文化教师
I1: 高一上 | U1: 高一下 | AG1: 高二上 | AS1: 高二下 | BE1: 高三上 | BQ1: 高三下
A2: 姓名 | B2: 身份证号 | C2: 科类 | D2: 层次 | E2: 应往届 | F2: 分数线 | G2: 录取情况 | I2: 语文 | J2: 得分 | K2: 数学 | L2: 得分 | M2: 英语 | N2: 得分 | O2: 物理/政治 | P2: 得分 | Q2: 化学/历史 | R2: 得分 | S2: 生物/地理 | T2: 得分 | U2: 语文 | V2: 得分 | W2: 数学 | X2: 得分 | Y2: 英语 | Z2: 得分 | AA2: 物理/政治 | AB2: 得分 | AC2: 化学/历史 | AD2: 得分 | AE2: 生物/地理 | AF2: 得分 | AG2: 语文 | AH2: 得分 | AI2: 数学 | AJ2: 得分 | AK2: 英语 | AL2: 得分 | AM2: 物理/政治 | AN2: 得分 | AO2: 化学/历史 | AP2: 得分 | AQ2: 生物/地理 | AR2: 得分 | AS2: 语文 | AT2: 得分 | AU2: 数学 | AV2: 得分 | AW2: 英语 | AX2: 得分 | AY2: 物理/政治 | AZ2: 得分 | BA2: 化学/历史 | BB2: 得分 | BC2: 生物/地理 | BD2: 得分 | BE2: 语文 | BF2: 得分 | BG2: 数学 | BH2: 得分 | BI2: 英语 | BJ2: 得分 | BK2: 物理/政治 | BL2: 得分 | BM2: 化学/历史 | BN2: 得分 | BO2: 生物/地理 | BP2: 得分 | BQ2: 语文 | BR2: 得分 | BS2: 数学 | BT2: 得分 | BU2: 英语 | BV2: 得分 | BW2: 物理/政治 | BX2: 得分 | BY2: 化学/历史 | BZ2: 得分 | CA2: 生物/地理 | CB2: 得分
A3: 次尔偏初 | B3: 513422200103066010 | C3: 理科 | D3: 本科 | E3: 往届 | F3: 345 | G3: 硬上体育本科 | BE3: =VLOOKUP(B3,[1]高三上!$1:$1048576,6,0) -> 肖锐 | BF3: 9 | BG3: =VLOOKUP(B3,[1]高三上!$1:$1048576,8,0) -> 邓国华 | BH3: 9 | BI3: =VLOOKUP(B3,[1]高三上!$1:$1048576,10,0) -> 兰卡布尺 | BJ3: 9 | BK3: =VLOOKUP(B3,[1]高三上!$1:$1048576,12,0) -> 夏宇 | BL3: 9 | BM3: =VLOOKUP(B3,[1]高三上!$1:$1048576,14,0) -> 李荣鑫 | BN3: 9 | BO3: =VLOOKUP(B3,[1]高三上!$1:$1048576,16,0) -> 彭桦 | BP3: 9 | BQ3: =VLOOKUP(B3,'[1]高三下(高考)'!$1:$1048576,6,0) -> 肖锐 | BR3: 9 | BS3: =VLOOKUP(B3,'[1]高三下(高考)'!$1:$1048576,8,0) -> 邓国华 | BT3: 9 | BU3: =VLOOKUP(B3,'[1]高三下(高考)'!$1:$1048576,10,0) -> 兰卡布尺 | BV3: 9 | BW3: =VLOOKUP(B3,'[1]高三下(高考)'!$1:$1048576,12,0) -> 赵建超 | BX3: 9 | BY3: =VLOOKUP(B3,'[1]高三下(高考)'!$1:$1048576,14,0) -> 李荣鑫 | BZ3: 9 | CA3: =VLOOKUP(B3,'[1]高三下(高考)'!$1:$1048576,16,0) -> 彭桦 | CB3: 9
A4: 杨布吉 | B4: 513422200008084413 | C4: 理科 | D4: 本科 | E4: 往届 | F4: 345 | G4: 硬上体育本科 | BE4: =VLOOKUP(B4,[1]高三上!$1:$1048576,6,0) -> 岳子琦 | BF4: 9 | BG4: =VLOOKUP(B4,[1]高三上!$1:$1048576,8,0) -> 邓国华 | BH4: 9 | BI4: =VLOOKUP(B4,[1]高三上!$1:$1048576,10,0) -> 曾佳瑶 | BJ4: 9 | BK4: =VLOOKUP(B4,[1]高三上!$1:$1048576,12,0) -> 王友春 | BL4: 9 | BM4: =VLOOKUP(B4,[1]高三上!$1:$1048576,14,0) -> 万饶 | BN4: 9 | BO4: =VLOOKUP(B4,[1]高三上!$1:$1048576,16,0) -> 彭桦 | BP4: 9 | BQ4: =VLOOKUP(B4,'[1]高三下(高考)'!$1:$1048576,6,0) -> 岳子琦 | BR4: 9 | BS4: =VLOOKUP(B4,'[1]高三下(高考)'!$1:$1048576,8,0) -> 邓国华 | BT4: 9 | BU4: =VLOOKUP(B4,'[1]高三下(高考)'!$1:$1048576,10,0) -> 曾佳瑶 | BV4: 9 | BW4: =VLOOKUP(B4,'[1]高三下(高考)'!$1:$1048576,12,0) -> 王友春 | BX4: 9 | BY4: =VLOOKUP(B4,'[1]高三下(高考)'!$1:$1048576,14,0) -> 万饶 | BZ4: 9 | CA4: =VLOOKUP(B4,'[1]高三下(高考)'!$1:$1048576,16,0) -> 彭桦 | CB4: 9
A5: 姜才宝 | B5: 51342220050520501X | C5: 理科 | D5: 本科 | E5: 应届 | F5: 345 | G5: 硬上体育本科 | I5: =VLOOKUP(B5,[1]高一上!$A$3:$W$587,6,0) -> 易涛 | J5: 3.6 | K5: =VLOOKUP(B5,[1]高一上!$1:$1048576,8,0) -> 央宗娜姆 | L5: 3.6 | M5: =VLOOKUP(B5,[1]高一上!$1:$1048576,10,0) -> 彭丹 | N5: 3.6 | O5: =VLOOKUP(B5,[1]高一上!$1:$1048576,12,0) -> 王春波 | P5: 3.6 | Q5: =VLOOKUP(B5,[1]高一上!$1:$1048576,14,0) -> 叶小军 | R5: 3.6 | S5: =VLOOKUP(B5,[1]高一上!$1:$1048576,16,0) -> 肖霞 | T5: 3.6 | U5: =VLOOKUP(B5,[1]高一下!$1:$1048576,6,0) -> 易涛 | V5: 3.6 | W5: =VLOOKUP(B5,[1]高一下!$1:$1048576,8,0) -> 央宗娜姆 | X5: 3.6 | Y5: =VLOOKUP(B5,[1]高一下!$1:$1048576,10,0) -> 彭丹 | Z5: 3.6 | AA5: =VLOOKUP(B5,[1]高一下!$1:$1048576,12,0) -> 王春波 | AB5: 3.6 | AC5: =VLOOKUP(B5,[1]高一下!$1:$1048576,14,0) -> 叶小军 | AD5: 3.6 | AE5: =VLOOKUP(B5,[1]高一下!$1:$1048576,16,0) -> 辜英琼 | AF5: 3.6 | AG5: =VLOOKUP(B5,[1]高二上!$1:$1048576,6,0) -> 易涛 | AH5: 5.4 | AI5: =VLOOKUP(B5,[1]高二上!$1:$1048576,8,0) -> 央宗娜姆 | AJ5: 5.4 | AK5: =VLOOKUP(B5,[1]高二上!$1:$1048576,10,0) -> 兰卡布尺 | AL5: 5.4 | AM5: =VLOOKUP(B5,[1]高二上!$1:$1048576,12,0) -> 王春波 | AN5: 5.4 | AO5: =VLOOKUP(B5,[1]高二上!$1:$1048576,14,0) -> 叶小军 | AP5: 5.4 | AQ5: =VLOOKUP(B5,[1]高二上!$1:$1048576,16,0) -> 张弘 | AR5: 5.4 | AS5: =VLOOKUP(B5,[1]高二下!$1:$1048576,6,0) -> 易涛 | AT5: 5.4 | AU5: =VLOOKUP(B5,[1]高二下!$1:$1048576,8,0) -> 央宗娜姆 | AV5: 5.4 | AW5: =VLOOKUP(B5,[1]高二下!$1:$1048576,10,0) -> 兰卡布尺 | AX5: 5.4 | AY5: =VLOOKUP(B5,[1]高二下!$1:$1048576,12,0) -> 周强 | AZ5: 5.4 | BA5: =VLOOKUP(B5,[1]高二下!$1:$1048576,14,0) -> 叶小军 | BB5: 5.4 | BC5: =VLOOKUP(B5,[1]高二下!$1:$1048576,16,0) -> 张弘 | BD5: 5.4 | BE5: =VLOOKUP(B5,[1]高三上!$1:$1048576,6,0) -> 易涛 | BF5: 9 | BG5: =VLOOKUP(B5,[1]高三上!$1:$1048576,8,0) -> 央宗娜姆 | BH5: 9 | BI5: =VLOOKUP(B5,[1]高三上!$1:$1048576,10,0) -> 兰卡布尺 | BJ5: 9 | BK5: =VLOOKUP(B5,[1]高三上!$1:$1048576,12,0) -> 夏宇 | BL5: 9 | BM5: =VLOOKUP(B5,[1]高三上!$1:$1048576,14,0) -> 叶小军 | BN5: 9 | BO5: =VLOOKUP(B5,[1]高三上!$1:$1048576,16,0) -> 张弘 | BP5: 9 | BQ5: =VLOOKUP(B5,'[1]高三下(高考)'!$1:$1048576,6,0) -> 易涛 | BR5: 9 | BS5: =VLOOKUP(B5,'[1]高三下(高考)'!$1:$1048576,8,0) -> 央宗娜姆 | BT5: 9 | BU5: =VLOOKUP(B5,'[1]高三下(高考)'!$1:$1048576,10,0) -> 兰卡布尺 | BV5: 9 | BW5: =VLOOKUP(B5,'[1]高三下(高考)'!$1:$1048576,12,0) -> 沈志霞 | BX5: 9 | BY5: =VLOOKUP(B5,'[1]高三下(高考)'!$1:$1048576,14,0) -> 叶小军 | BZ5: 9 | CA5: =VLOOKUP(B5,'[1]高三下(高考)'!$1:$1048576,16,0) -> 张弘 | CB5: 9
A6: 马日姆 | B6: 513422200105010918 | C6: 理科 | D6: 本科 | E6: 应届 | F6: 345 | G6: 硬上体育本科 | I6: =VLOOKUP(B6,[1]高一上!$A$3:$W$587,6,0) -> 肖锐 | J6: 3.6 | K6: =VLOOKUP(B6,[1]高一上!$1:$1048576,8,0) -> 李黎明 | L6: 3.6 | M6: =VLOOKUP(B6,[1]高一上!$1:$1048576,10,0) -> 曾佳瑶 | N6: 3.6 | O6: =VLOOKUP(B6,[1]高一上!$1:$1048576,12,0) -> 王春波 | P6: 3.6 | Q6: =VLOOKUP(B6,[1]高一上!$1:$1048576,14,0) -> 叶小军 | R6: 3.6 | S6: =VLOOKUP(B6,[1]高一上!$1:$1048576,16,0) -> 辜英琼 | T6: 3.6 | U6: =VLOOKUP(B6,[1]高一下!$1:$1048576,6,0) -> 肖锐 | V6: 3.6 | W6: =VLOOKUP(B6,[1]高一下!$1:$1048576,8,0) -> 李黎明 | X6: 3.6 | Y6: =VLOOKUP(B6,[1]高一下!$1:$1048576,10,0) -> 彭丹 | Z6: 3.6 | AA6: =VLOOKUP(B6,[1]高一下!$1:$1048576,12,0) -> 王春波 | AB6: 3.6 | AC6: =VLOOKUP(B6,[1]高一下!$1:$1048576,14,0) -> 宋欣洲 | AD6: 3.6 | AE6: =VLOOKUP(B6,[1]高一下!$1:$1048576,16,0) -> 彭桦 | AF6: 3.6 | AG6: =VLOOKUP(B6,[1]高二上!$1:$1048576,6,0) -> 肖锐 | AH6: 5.4 | AI6: =VLOOKUP(B6,[1]高二上!$1:$1048576,8,0) -> 李黎明 | AJ6: 5.4 | AK6: =VLOOKUP(B6,[1]高二上!$1:$1048576,10,0) -> 兰卡布尺 | AL6: 5.4 | AM6: =VLOOKUP(B6,[1]高二上!$1:$1048576,12,0) -> 王春波 | AN6: 5.4 | AO6: =VLOOKUP(B6,[1]高二上!$1:$1048576,14,0) -> 宋欣洲 | AP6: 5.4 | AQ6: =VLOOKUP(B6,[1]高二上!$1:$1048576,16,0) -> 彭桦 | AR6: 5.4 | AS6: =VLOOKUP(B6,[1]高二下!$1:$1048576,6,0) -> 肖锐 | AT6: 5.4 | AU6: =VLOOKUP(B6,[1]高二下!$1:$1048576,8,0) -> 李黎明 | AV6: 5.4 | AW6: =VLOOKUP(B6,[1]高二下!$1:$1048576,10,0) -> 兰卡布尺 | AX6: 5.4 | AY6: =VLOOKUP(B6,[1]高二下!$1:$1048576,12,0) -> 赵建超 | AZ6: 5.4 | BA6: =VLOOKUP(B6,[1]高二下!$1:$1048576,14,0) -> 宋欣洲 | BB6: 5.4 | BC6: =VLOOKUP(B6,[1]高二下!$1:$1048576,16,0) -> 彭桦 | BD6: 5.4 | BE6: =VLOOKUP(B6,[1]高三上!$1:$1048576,6,0) -> 肖锐 | BF6: 9 | BG6: =VLOOKUP(B6,[1]高三上!$1:$1048576,8,0) -> 邓国华 | BH6: 9 | BI6: =VLOOKUP(B6,[1]高三上!$1:$1048576,10,0) -> 兰卡布尺 | BJ6: 9 | BK6: =VLOOKUP(B6,[1]高三上!$1:$1048576,12,0) -> 夏宇 | BL6: 9 | BM6: =VLOOKUP(B6,[1]高三上!$1:$1048576,14,0) -> 李荣鑫 | BN6: 9 | BO6: =VLOOKUP(B6,[1]高三上!$1:$1048576,16,0) -> 彭桦 | BP6: 9 | BQ6: =VLOOKUP(B6,'[1]高三下(高考)'!$1:$1048576,6,0) -> 肖锐 | BR6: 9 | BS6: =VLOOKUP(B6,'[1]高三下(高考)'!$1:$1048576,8,0) -> 邓国华 | BT6: 9 | BU6: =VLOOKUP(B6,'[1]高三下(高考)'!$1:$1048576,10,0) -> 兰卡布尺 | BV6: 9 | BW6: =VLOOKUP(B6,'[1]高三下(高考)'!$1:$1048576,12,0) -> 赵建超 | BX6: 9 | BY6: =VLOOKUP(B6,'[1]高三下(高考)'!$1:$1048576,14,0) -> 李荣鑫 | BZ6: 9 | CA6: =VLOOKUP(B6,'[1]高三下(高考)'!$1:$1048576,16,0) -> 彭桦 | CB6: 9
A7: 沈志华 | B7: 51342220030303171X | C7: 文科 | D7: 本科 | E7: 往届 | F7: 345 | G7: 硬上体育本科 | BE7: =VLOOKUP(B7,[1]高三上!$1:$1048576,6,0) -> 周菊明 | BF7: 9 | BG7: =VLOOKUP(B7,[1]高三上!$1:$1048576,8,0) -> 赵云川 | BH7: 9 | BI7: =VLOOKUP(B7,[1]高三上!$1:$1048576,10,0) -> 张翠莲 | BJ7: 9 | BK7: =VLOOKUP(B7,[1]高三上!$1:$1048576,12,0) -> 纪春权 | BL7: 9 | BM7: =VLOOKUP(B7,[1]高三上!$1:$1048576,14,0) -> 降初里 | BN7: 9 | BO7: =VLOOKUP(B7,[1]高三上!$1:$1048576,16,0) -> 邓倩 | BP7: 9 | BQ7: =VLOOKUP(B7,'[1]高三下(高考)'!$1:$1048576,6,0) -> 周菊明 | BR7: 9 | BS7: =VLOOKUP(B7,'[1]高三下(高考)'!$1:$1048576,8,0) -> 赵云川 | BT7: 9 | BU7: =VLOOKUP(B7,'[1]高三下(高考)'!$1:$1048576,10,0) -> 张翠莲 | BV7: 9 | BW7: =VLOOKUP(B7,'[1]高三下(高考)'!$1:$1048576,12,0) -> 纪春权 | BX7: 9 | BY7: =VLOOKUP(B7,'[1]高三下(高考)'!$1:$1048576,14,0) -> 降初里 | BZ7: 9 | CA7: =VLOOKUP(B7,'[1]高三下(高考)'!$1:$1048576,16,0) -> 邓倩 | CB7: 9
A8: 马贵勇 | B8: 513422200109281539 | C8: 文科 | D8: 本科 | E8: 往届 | F8: 345 | G8: 硬上体育本科 | AS8: =VLOOKUP(B8,[1]高二下!$1:$1048576,6,0) -> 格绒燚西 | AT8: 5.4 | AU8: =VLOOKUP(B8,[1]高二下!$1:$1048576,8,0) -> 王江 | AV8: 5.4 | AW8: =VLOOKUP(B8,[1]高二下!$1:$1048576,10,0) -> 陈强 | AX8: 5.4 | AY8: =VLOOKUP(B8,[1]高二下!$1:$1048576,12,0) -> 吴文艺 | AZ8: 5.4 | BA8: =VLOOKUP(B8,[1]高二下!$1:$1048576,14,0) -> 勾中文 | BB8: 5.4 | BC8: =VLOOKUP(B8,[1]高二下!$1:$1048576,16,0) -> 邓倩 | BD8: 5.4 | BE8: =VLOOKUP(B8,[1]高三上!$1:$1048576,6,0) -> 格绒燚西 | BF8: 9 | BG8: =VLOOKUP(B8,[1]高三上!$1:$1048576,8,0) -> 潘勇 | BH8: 9 | BI8: =VLOOKUP(B8,[1]高三上!$1:$1048576,10,0) -> 汪睿 | BJ8: 9 | BK8: =VLOOKUP(B8,[1]高三上!$1:$1048576,12,0) -> 吴文艺 | BL8: 9 | BM8: =VLOOKUP(B8,[1]高三上!$1:$1048576,14,0) -> 降初里 | BN8: 9 | BO8: =VLOOKUP(B8,[1]高三上!$1:$1048576,16,0) -> 邓倩 | BP8: 9 | BQ8: =VLOOKUP(B8,'[1]高三下(高考)'!$1:$1048576,6,0) -> 格绒燚西 | BR8: 9 | BS8: =VLOOKUP(B8,'[1]高三下(高考)'!$1:$1048576,8,0) -> 潘勇 | BT8: 9 | BU8: =VLOOKUP(B8,'[1]高三下(高考)'!$1:$1048576,10,0) -> 汪睿 | BV8: 9 | BW8: =VLOOKUP(B8,'[1]高三下(高考)'!$1:$1048576,12,0) -> 吴文艺 | BX8: 9 | BY8: =VLOOKUP(B8,'[1]高三下(高考)'!$1:$1048576,14,0) -> 降初里 | BZ8: 9 | CA8: =VLOOKUP(B8,'[1]高三下(高考)'!$1:$1048576,16,0) -> 邓倩 | CB8: 9
A9: 汪吒多吉 | B9: 513422200108010016 | C9: 文科 | D9: 本科 | E9: 往届 | F9: 305 | G9: 硬上艺术本科 | BQ9: =VLOOKUP(B9,'[1]高三下(高考)'!$1:$1048576,6,0) -> 李正琪 | BR9: 9 | BS9: =VLOOKUP(B9,'[1]高三下(高考)'!$1:$1048576,8,0) -> 马俊 | BT9: 9 | BU9: =VLOOKUP(B9,'[1]高三下(高考)'!$1:$1048576,10,0) -> 汪睿 | BV9: 9 | BW9: =VLOOKUP(B9,'[1]高三下(高考)'!$1:$1048576,12,0) -> 吴文艺 | BX9: 9 | BY9: =VLOOKUP(B9,'[1]高三下(高考)'!$1:$1048576,14,0) -> 降初里 | BZ9: 9 | CA9: =VLOOKUP(B9,'[1]高三下(高考)'!$1:$1048576,16,0) -> 胡柔殳 | CB9: 9
A10: 王金平 | B10: 513422200304101919 | C10: 文科 | D10: 本科 | E10: 应届 | F10: 345 | G10: 硬上体育本科 | I10: =VLOOKUP(B10,[1]高一上!$A$3:$W$587,6,0) -> 岳子琦 | J10: 3.6 | K10: =VLOOKUP(B10,[1]高一上!$1:$1048576,8,0) -> 马俊 | L10: 3.6 | M10: =VLOOKUP(B10,[1]高一上!$1:$1048576,10,0) -> 周凯 | N10: 3.6 | O10: =VLOOKUP(B10,[1]高一上!$1:$1048576,18,0) -> 那士信 | P10: 3.6 | Q10: =VLOOKUP(B10,[1]高一上!$1:$1048576,20,0) -> 金明龙 | R10: 3.6 | S10: =VLOOKUP(B10,[1]高一上!$1:$1048576,22,0) -> 胡柔殳 | T10: 3.6 | U10: =VLOOKUP(B10,[1]高一下!$1:$1048576,6,0) -> 岳子琦 | V10: 3.6 | W10: =VLOOKUP(B10,[1]高一下!$1:$1048576,8,0) -> 马俊 | X10: 3.6 | Y10: =VLOOKUP(B10,[1]高一下!$1:$1048576,10,0) -> 周凯 | Z10: 3.6 | AA10: =VLOOKUP(B10,[1]高一下!$1:$1048576,12,0) -> 那士信 | AB10: 3.6 | AC10: =VLOOKUP(B10,[1]高一下!$1:$1048576,14,0) -> 金明龙 | AD10: 3.6 | AE10: =VLOOKUP(B10,[1]高一下!$1:$1048576,16,0) -> 胡柔殳 | AF10: 3.6 | AG10: =VLOOKUP(B10,[1]高二上!$1:$1048576,6,0) -> 胡美华 | AH10: 5.4 | AI10: =VLOOKUP(B10,[1]高二上!$1:$1048576,8,0) -> 马俊 | AJ10: 5.4 | AK10: =VLOOKUP(B10,[1]高二上!$1:$1048576,10,0) -> 陈强 | AL10: 5.4 | AM10: =VLOOKUP(B10,[1]高二上!$1:$1048576,12,0) -> 那士信 | AN10: 5.4 | AO10: =VLOOKUP(B10,[1]高二上!$1:$1048576,14,0) -> 熊治国 | AP10: 5.4 | AQ10: =VLOOKUP(B10,[1]高二上!$1:$1048576,16,0) -> 胡柔书 | AR10: 5.4 | AS10: =VLOOKUP(B10,[1]高二下!$1:$1048576,6,0) -> 岳子琦 | AT10: 5.4 | AU10: =VLOOKUP(B10,[1]高二下!$1:$1048576,8,0) -> 马俊 | AV10: 5.4 | AW10: =VLOOKUP(B10,[1]高二下!$1:$1048576,10,0) -> 陈强 | AX10: 5.4 | AY10: =VLOOKUP(B10,[1]高二下!$1:$1048576,12,0) -> 吴文艺 | AZ10: 5.4 | BA10: =VLOOKUP(B10,[1]高二下!$1:$1048576,14,0) -> 勾中文 | BB10: 5.4 | BC10: =VLOOKUP(B10,[1]高二下!$1:$1048576,16,0) -> 胡柔殳 | BD10: 5.4 | BE10: =VLOOKUP(B10,[1]高三上!$1:$1048576,6,0) -> 李正琪 | BF10: 9 | BG10: =VLOOKUP(B10,[1]高三上!$1:$1048576,8,0) -> 马俊 | BH10: 9 | BI10: =VLOOKUP(B10,[1]高三上!$1:$1048576,10,0) -> 汪睿 | BJ10: 9 | BK10: =VLOOKUP(B10,[1]高三上!$1:$1048576,12,0) -> 吴文艺 | BL10: 9 | BM10: =VLOOKUP(B10,[1]高三上!$1:$1048576,14,0) -> 降初里 | BN10: 9 | BO10: =VLOOKUP(B10,[1]高三上!$1:$1048576,16,0) -> 胡柔书 | BP10: 9 | BQ10: =VLOOKUP(B10,'[1]高三下(高考)'!$1:$1048576,6,0) -> 李正琪 | BR10: 9 | BS10: =VLOOKUP(B10,'[1]高三下(高考)'!$1:$1048576,8,0) -> 马俊 | BT10: 9 | BU10: =VLOOKUP(B10,'[1]高三下(高考)'!$1:$1048576,10,0) -> 汪睿 | BV10: 9 | BW10: =VLOOKUP(B10,'[1]高三下(高考)'!$1:$1048576,12,0) -> 吴文艺 | BX10: 9 | BY10: =VLOOKUP(B10,'[1]高三下(高考)'!$1:$1048576,14,0) -> 降初里 | BZ10: 9 | CA10: =VLOOKUP(B10,'[1]高三下(高考)'!$1:$1048576,16,0) -> 胡柔殳 | CB10: 9
A11: 沈小强 | B11: 513422200506042718 | C11: 文科 | D11: 本科 | E11: 应届 | F11: 345 | G11: 硬上体育本科 | I11: =VLOOKUP(B11,[1]高一上!$A$3:$W$587,6,0) -> 易涛 | J11: 3.6 | K11: =VLOOKUP(B11,[1]高一上!$1:$1048576,8,0) -> 央宗娜姆 | L11: 3.6 | M11: =VLOOKUP(B11,[1]高一上!$1:$1048576,10,0) -> 彭丹 | N11: 3.6 | O11: =VLOOKUP(B11,[1]高一上!$1:$1048576,18,0) -> 杨艳 | P11: 3.6 | Q11: =VLOOKUP(B11,[1]高一上!$1:$1048576,20,0) -> 潘润 | R11: 3.6 | S11: =VLOOKUP(B11,[1]高一上!$1:$1048576,22,0) -> 刘壑 | T11: 3.6 | U11: =VLOOKUP(B11,[1]高一下!$1:$1048576,6,0) -> 周菊明 | V11: 3.6 | W11: =VLOOKUP(B11,[1]高一下!$1:$1048576,8,0) -> 王江 | X11: 3.6 | Y11: =VLOOKUP(B11,[1]高一下!$1:$1048576,10,0) -> 张翠莲 | Z11: 3.6 | AA11: =VLOOKUP(B11,[1]高一下!$1:$1048576,12,0) -> 杨艳 | AB11: 3.6 | AC11: =VLOOKUP(B11,[1]高一下!$1:$1048576,14,0) -> 杨琴 | AD11: 3.6 | AE11: =VLOOKUP(B11,[1]高一下!$1:$1048576,16,0) -> 胡柔殳 | AF11: 3.6 | AG11: =VLOOKUP(B11,[1]高二上!$1:$1048576,6,0) -> 周菊明 | AH11: 5.4 | AI11: =VLOOKUP(B11,[1]高二上!$1:$1048576,8,0) -> 王江 | AJ11: 5.4 | AK11: =VLOOKUP(B11,[1]高二上!$1:$1048576,10,0) -> 王图雄 | AL11: 5.4 | AM11: =VLOOKUP(B11,[1]高二上!$1:$1048576,12,0) -> 马巫各 | AN11: 5.4 | AO11: =VLOOKUP(B11,[1]高二上!$1:$1048576,14,0) -> 杨琴 | AP11: 5.4 | AQ11: =VLOOKUP(B11,[1]高二上!$1:$1048576,16,0) -> 刘壑 | AR11: 5.4 | AS11: =VLOOKUP(B11,[1]高二下!$1:$1048576,6,0) -> 周菊明 | AT11: 5.4 | AU11: =VLOOKUP(B11,[1]高二下!$1:$1048576,8,0) -> 王江 | AV11: 5.4 | AW11: =VLOOKUP(B11,[1]高二下!$1:$1048576,10,0) -> 张翠莲 | AX11: 5.4 | AY11: =VLOOKUP(B11,[1]高二下!$1:$1048576,12,0) -> 马巫各 | AZ11: 5.4 | BA11: =VLOOKUP(B11,[1]高二下!$1:$1048576,14,0) -> 杨琴 | BB11: 5.4 | BC11: =VLOOKUP(B11,[1]高二下!$1:$1048576,16,0) -> 胡柔殳 | BD11: 5.4 | BE11: =VLOOKUP(B11,[1]高三上!$1:$1048576,6,0) -> 周菊明 | BF11: 9 | BG11: =VLOOKUP(B11,[1]高三上!$1:$1048576,8,0) -> 潘勇 | BH11: 9 | BI11: =VLOOKUP(B11,[1]高三上!$1:$1048576,10,0) -> 张翠莲 | BJ11: 9 | BK11: =VLOOKUP(B11,[1]高三上!$1:$1048576,12,0) -> 马巫各 | BL11: 9 | BM11: =VLOOKUP(B11,[1]高三上!$1:$1048576,14,0) -> 杨琴 | BN11: 9 | BO11: =VLOOKUP(B11,[1]高三上!$1:$1048576,16,0) -> 胡柔书 | BP11: 9 | BQ11: =VLOOKUP(B11,'[1]高三下(高考)'!$1:$1048576,6,0) -> 周菊明 | BR11: 9 | BS11: =VLOOKUP(B11,'[1]高三下(高考)'!$1:$1048576,8,0) -> 潘勇 | BT11: 9 | BU11: =VLOOKUP(B11,'[1]高三下(高考)'!$1:$1048576,10,0) -> 张翠莲 | BV11: 9 | BW11: =VLOOKUP(B11,'[1]高三下(高考)'!$1:$1048576,12,0) -> 马巫各 | BX11: 9 | BY11: =VLOOKUP(B11,'[1]高三下(高考)'!$1:$1048576,14,0) -> 杨琴 | BZ11: 9 | CA11: =VLOOKUP(B11,'[1]高三下(高考)'!$1:$1048576,16,0) -> 胡柔殳 | CB11: 9
A12: 蔡培林 | B12: 513422200312052512 | C12: 文科 | D12: 本科 | E12: 应届 | F12: 345 | G12: 硬上体育本科 | I12: =VLOOKUP(B12,[1]高一上!$A$3:$W$587,6,0) -> 岳子琦 | J12: 3.6 | K12: =VLOOKUP(B12,[1]高一上!$1:$1048576,8,0) -> 马俊 | L12: 3.6 | M12: =VLOOKUP(B12,[1]高一上!$1:$1048576,10,0) -> 周凯 | N12: 3.6 | O12: =VLOOKUP(B12,[1]高一上!$1:$1048576,18,0) -> 那士信 | P12: 3.6 | Q12: =VLOOKUP(B12,[1]高一上!$1:$1048576,20,0) -> 金明龙 | R12: 3.6 | S12: =VLOOKUP(B12,[1]高一上!$1:$1048576,22,0) -> 胡柔殳 | T12: 3.6 | U12: =VLOOKUP(B12,[1]高一下!$1:$1048576,6,0) -> 岳子琦 | V12: 3.6 | W12: =VLOOKUP(B12,[1]高一下!$1:$1048576,8,0) -> 马俊 | X12: 3.6 | Y12: =VLOOKUP(B12,[1]高一下!$1:$1048576,10,0) -> 周凯 | Z12: 3.6 | AA12: =VLOOKUP(B12,[1]高一下!$1:$1048576,12,0) -> 那士信 | AB12: 3.6 | AC12: =VLOOKUP(B12,[1]高一下!$1:$1048576,14,0) -> 金明龙 | AD12: 3.6 | AE12: =VLOOKUP(B12,[1]高一下!$1:$1048576,16,0) -> 胡柔殳 | AF12: 3.6 | AG12: =VLOOKUP(B12,[1]高二上!$1:$1048576,6,0) -> 胡美华 | AH12: 5.4 | AI12: =VLOOKUP(B12,[1]高二上!$1:$1048576,8,0) -> 马俊 | AJ12: 5.4 | AK12: =VLOOKUP(B12,[1]高二上!$1:$1048576,10,0) -> 陈强 | AL12: 5.4 | AM12: =VLOOKUP(B12,[1]高二上!$1:$1048576,12,0) -> 那士信 | AN12: 5.4 | AO12: =VLOOKUP(B12,[1]高二上!$1:$1048576,14,0) -> 熊治国 | AP12: 5.4 | AQ12: =VLOOKUP(B12,[1]高二上!$1:$1048576,16,0) -> 胡柔书 | AR12: 5.4 | AS12: =VLOOKUP(B12,[1]高二下!$1:$1048576,6,0) -> 岳子琦 | AT12: 5.4 | AU12: =VLOOKUP(B12,[1]高二下!$1:$1048576,8,0) -> 马俊 | AV12: 5.4 | AW12: =VLOOKUP(B12,[1]高二下!$1:$1048576,10,0) -> 陈强 | AX12: 5.4 | AY12: =VLOOKUP(B12,[1]高二下!$1:$1048576,12,0) -> 吴文艺 | AZ12: 5.4 | BA12: =VLOOKUP(B12,[1]高二下!$1:$1048576,14,0) -> 勾中文 | BB12: 5.4 | BC12: =VLOOKUP(B12,[1]高二下!$1:$1048576,16,0) -> 胡柔殳 | BD12: 5.4 | BE12: =VLOOKUP(B12,[1]高三上!$1:$1048576,6,0) -> 李正琪 | BF12: 9 | BG12: =VLOOKUP(B12,[1]高三上!$1:$1048576,8,0) -> 马俊 | BH12: 9 | BI12: =VLOOKUP(B12,[1]高三上!$1:$1048576,10,0) -> 汪睿 | BJ12: 9 | BK12: =VLOOKUP(B12,[1]高三上!$1:$1048576,12,0) -> 吴文艺 | BL12: 9 | BM12: =VLOOKUP(B12,[1]高三上!$1:$1048576,14,0) -> 降初里 | BN12: 9 | BO12: =VLOOKUP(B12,[1]高三上!$1:$1048576,16,0) -> 胡柔书 | BP12: 9 | BQ12: =VLOOKUP(B12,'[1]高三下(高考)'!$1:$1048576,6,0) -> 李正琪 | BR12: 9 | BS12: =VLOOKUP(B12,'[1]高三下(高考)'!$1:$1048576,8,0) -> 马俊 | BT12: 9 | BU12: =VLOOKUP(B12,'[1]高三下(高考)'!$1:$1048576,10,0) -> 汪睿 | BV12: 9 | BW12: =VLOOKUP(B12,'[1]高三下(高考)'!$1:$1048576,12,0) -> 吴文艺 | BX12: 9 | BY12: =VLOOKUP(B12,'[1]高三下(高考)'!$1:$1048576,14,0) -> 降初里 | BZ12: 9 | CA12: =VLOOKUP(B12,'[1]高三下(高考)'!$1:$1048576,16,0) -> 胡柔殳 | CB12: 9
A13: 改绒次尔 | B13: 513422200501064811 | C13: 文科 | D13: 本科 | E13: 应届 | F13: 345 | G13: 硬上体育本科 | I13: =VLOOKUP(B13,[1]高一上!$A$3:$W$587,6,0) -> 格绒燚西 | J13: 3.6 | K13: =VLOOKUP(B13,[1]高一上!$1:$1048576,8,0) -> 王江 | L13: 3.6 | M13: =VLOOKUP(B13,[1]高一上!$1:$1048576,10,0) -> 周凯 | N13: 3.6 | O13: =VLOOKUP(B13,[1]高一上!$1:$1048576,18,0) -> 那士信 | P13: 3.6 | Q13: =VLOOKUP(B13,[1]高一上!$1:$1048576,20,0) -> 降初里 | R13: 3.6 | S13: =VLOOKUP(B13,[1]高一上!$1:$1048576,22,0) -> 刘壑 | T13: 3.6 | U13: =VLOOKUP(B13,[1]高一下!$1:$1048576,6,0) -> 格绒燚西 | V13: 3.6 | W13: =VLOOKUP(B13,[1]高一下!$1:$1048576,8,0) -> 王江 | X13: 3.6 | Y13: =VLOOKUP(B13,[1]高一下!$1:$1048576,10,0) -> 周凯 | Z13: 3.6 | AA13: =VLOOKUP(B13,[1]高一下!$1:$1048576,12,0) -> 那士信 | AB13: 3.6 | AC13: =VLOOKUP(B13,[1]高一下!$1:$1048576,14,0) -> 降初里 | AD13: 3.6 | AE13: =VLOOKUP(B13,[1]高一下!$1:$1048576,16,0) -> 刘壑 | AF13: 3.6 | AG13: =VLOOKUP(B13,[1]高二上!$1:$1048576,6,0) -> 格绒燚西 | AH13: 5.4 | AI13: =VLOOKUP(B13,[1]高二上!$1:$1048576,8,0) -> 王江 | AJ13: 5.4 | AK13: =VLOOKUP(B13,[1]高二上!$1:$1048576,10,0) -> 陈强 | AL13: 5.4 | AM13: =VLOOKUP(B13,[1]高二上!$1:$1048576,12,0) -> 那士信 | AN13: 5.4 | AO13: =VLOOKUP(B13,[1]高二上!$1:$1048576,14,0) -> 勾中文 | AP13: 5.4 | AQ13: =VLOOKUP(B13,[1]高二上!$1:$1048576,16,0) -> 刘壑 | AR13: 5.4 | AS13: =VLOOKUP(B13,[1]高二下!$1:$1048576,6,0) -> 格绒燚西 | AT13: 5.4 | AU13: =VLOOKUP(B13,[1]高二下!$1:$1048576,8,0) -> 王江 | AV13: 5.4 | AW13: =VLOOKUP(B13,[1]高二下!$1:$1048576,10,0) -> 陈强 | AX13: 5.4 | AY13: =VLOOKUP(B13,[1]高二下!$1:$1048576,12,0) -> 吴文艺 | AZ13: 5.4 | BA13: =VLOOKUP(B13,[1]高二下!$1:$1048576,14,0) -> 勾中文 | BB13: 5.4 | BC13: =VLOOKUP(B13,[1]高二下!$1:$1048576,16,0) -> 邓倩 | BD13: 5.4 | BE13: =VLOOKUP(B13,[1]高三上!$1:$1048576,6,0) -> 格绒燚西 | BF13: 9 | BG13: =VLOOKUP(B13,[1]高三上!$1:$1048576,8,0) -> 潘勇 | BH13: 9 | BI13: =VLOOKUP(B13,[1]高三上!$1:$1048576,10,0) -> 汪睿 | BJ13: 9 | BK13: =VLOOKUP(B13,[1]高三上!$1:$1048576,12,0) -> 吴文艺 | BL13: 9 | BM13: =VLOOKUP(B13,[1]高三上!$1:$1048576,14,0) -> 降初里 | BN13: 9 | BO13: =VLOOKUP(B13,[1]高三上!$1:$1048576,16,0) -> 邓倩 | BP13: 9 | BQ13: =VLOOKUP(B13,'[1]高三下(高考)'!$1:$1048576,6,0) -> 格绒燚西 | BR13: 9 | BS13: =VLOOKUP(B13,'[1]高三下(高考)'!$1:$1048576,8,0) -> 潘勇 | BT13: 9 | BU13: =VLOOKUP(B13,'[1]高三下(高考)'!$1:$1048576,10,0) -> 汪睿 | BV13: 9 | BW13: =VLOOKUP(B13,'[1]高三下(高考)'!$1:$1048576,12,0) -> 吴文艺 | BX13: 9 | BY13: =VLOOKUP(B13,'[1]高三下(高考)'!$1:$1048576,14,0) -> 降初里 | BZ13: 9 | CA13: =VLOOKUP(B13,'[1]高三下(高考)'!$1:$1048576,16,0) -> 邓倩 | CB13: 9
A14: 徐晓伟 | B14: 513422200201033810 | C14: 文科 | D14: 本科 | E14: 应届 | F14: 345 | G14: 硬上体育本科 | I14: =VLOOKUP(B14,[1]高一上!$A$3:$W$587,6,0) -> 易涛 | J14: 3.6 | K14: =VLOOKUP(B14,[1]高一上!$1:$1048576,8,0) -> 央宗娜姆 | L14: 3.6 | M14: =VLOOKUP(B14,[1]高一上!$1:$1048576,10,0) -> 彭丹 | N14: 3.6 | O14: =VLOOKUP(B14,[1]高一上!$1:$1048576,18,0) -> 杨艳 | P14: 3.6 | Q14: =VLOOKUP(B14,[1]高一上!$1:$1048576,20,0) -> 潘润 | R14: 3.6 | S14: =VLOOKUP(B14,[1]高一上!$1:$1048576,22,0) -> 刘壑 | T14: 3.6 | U14: =VLOOKUP(B14,[1]高一下!$1:$1048576,6,0) -> 格绒燚西 | V14: 3.6 | W14: =VLOOKUP(B14,[1]高一下!$1:$1048576,8,0) -> 马俊 | X14: 3.6 | Y14: =VLOOKUP(B14,[1]高一下!$1:$1048576,10,0) -> 拉初 | Z14: 3.6 | AA14: =VLOOKUP(B14,[1]高一下!$1:$1048576,12,0) -> 纪春权 | AB14: 3.6 | AC14: =VLOOKUP(B14,[1]高一下!$1:$1048576,14,0) -> 杨琴 | AD14: 3.6 | AE14: =VLOOKUP(B14,[1]高一下!$1:$1048576,16,0) -> 邓倩 | AF14: 3.6 | AG14: =VLOOKUP(B14,[1]高二上!$1:$1048576,6,0) -> 格绒燚西 | AH14: 5.4 | AI14: =VLOOKUP(B14,[1]高二上!$1:$1048576,8,0) -> 马俊 | AJ14: 5.4 | AK14: =VLOOKUP(B14,[1]高二上!$1:$1048576,10,0) -> 拉初 | AL14: 5.4 | AM14: =VLOOKUP(B14,[1]高二上!$1:$1048576,12,0) -> 纪春权 | AN14: 5.4 | AO14: =VLOOKUP(B14,[1]高二上!$1:$1048576,14,0) -> 杨琴 | AP14: 5.4 | AQ14: =VLOOKUP(B14,[1]高二上!$1:$1048576,16,0) -> 邓倩 | AR14: 5.4 | AS14: =VLOOKUP(B14,[1]高二下!$1:$1048576,6,0) -> 格绒燚西 | AT14: 5.4 | AU14: =VLOOKUP(B14,[1]高二下!$1:$1048576,8,0) -> 马俊 | AV14: 5.4 | AW14: =VLOOKUP(B14,[1]高二下!$1:$1048576,10,0) -> 拉初 | AX14: 5.4 | AY14: =VLOOKUP(B14,[1]高二下!$1:$1048576,12,0) -> 纪春权 | AZ14: 5.4 | BA14: =VLOOKUP(B14,[1]高二下!$1:$1048576,14,0) -> 杨琴 | BB14: 5.4 | BC14: =VLOOKUP(B14,[1]高二下!$1:$1048576,16,0) -> 邓倩 | BD14: 5.4 | BE14: =VLOOKUP(B14,[1]高三上!$1:$1048576,6,0) -> 格绒燚西 | BF14: 9 | BG14: =VLOOKUP(B14,[1]高三上!$1:$1048576,8,0) -> 马俊 | BH14: 9 | BI14: =VLOOKUP(B14,[1]高三上!$1:$1048576,10,0) -> 拉初 | BJ14: 9 | BK14: =VLOOKUP(B14,[1]高三上!$1:$1048576,12,0) -> 纪春权 | BL14: 9 | BM14: =VLOOKUP(B14,[1]高三上!$1:$1048576,14,0) -> 杨琴 | BN14: 9 | BO14: =VLOOKUP(B14,[1]高三上!$1:$1048576,16,0) -> 邓倩 | BP14: 9 | BQ14: =VLOOKUP(B14,'[1]高三下(高考)'!$1:$1048576,6,0) -> 格绒燚西 | BR14: 9 | BS14: =VLOOKUP(B14,'[1]高三下(高考)'!$1:$1048576,8,0) -> 马俊 | BT14: 9 | BU14: =VLOOKUP(B14,'[1]高三下(高考)'!$1:$1048576,10,0) -> 拉初 | BV14: 9 | BW14: =VLOOKUP(B14,'[1]高三下(高考)'!$1:$1048576,12,0) -> 纪春权 | BX14: 9 | BY14: =VLOOKUP(B14,'[1]高三下(高考)'!$1:$1048576,14,0) -> 杨琴 | BZ14: 9 | CA14: =VLOOKUP(B14,'[1]高三下(高考)'!$1:$1048576,16,0) -> 邓倩 | CB14: 9
A15: 何拉初 | B15: 513422200305081729 | C15: 文科 | D15: 本科 | E15: 应届 | F15: 345 | G15: 硬上体育本科 | I15: =VLOOKUP(B15,[1]高一上!$A$3:$W$587,6,0) -> 格绒燚西 | J15: 3.6 | K15: =VLOOKUP(B15,[1]高一上!$1:$1048576,8,0) -> 王江 | L15: 3.6 | M15: =VLOOKUP(B15,[1]高一上!$1:$1048576,10,0) -> 周凯 | N15: 3.6 | O15: =VLOOKUP(B15,[1]高一上!$1:$1048576,18,0) -> 那士信 | P15: 3.6 | Q15: =VLOOKUP(B15,[1]高一上!$1:$1048576,20,0) -> 降初里 | R15: 3.6 | S15: =VLOOKUP(B15,[1]高一上!$1:$1048576,22,0) -> 刘壑 | T15: 3.6 | U15: =VLOOKUP(B15,[1]高一下!$1:$1048576,6,0) -> 格绒燚西 | V15: 3.6 | W15: =VLOOKUP(B15,[1]高一下!$1:$1048576,8,0) -> 王江 | X15: 3.6 | Y15: =VLOOKUP(B15,[1]高一下!$1:$1048576,10,0) -> 周凯 | Z15: 3.6 | AA15: =VLOOKUP(B15,[1]高一下!$1:$1048576,12,0) -> 那士信 | AB15: 3.6 | AC15: =VLOOKUP(B15,[1]高一下!$1:$1048576,14,0) -> 降初里 | AD15: 3.6 | AE15: =VLOOKUP(B15,[1]高一下!$1:$1048576,16,0) -> 刘壑 | AF15: 3.6 | AG15: =VLOOKUP(B15,[1]高二上!$1:$1048576,6,0) -> 格绒燚西 | AH15: 5.4 | AI15: =VLOOKUP(B15,[1]高二上!$1:$1048576,8,0) -> 王江 | AJ15: 5.4 | AK15: =VLOOKUP(B15,[1]高二上!$1:$1048576,10,0) -> 陈强 | AL15: 5.4 | AM15: =VLOOKUP(B15,[1]高二上!$1:$1048576,12,0) -> 那士信 | AN15: 5.4 | AO15: =VLOOKUP(B15,[1]高二上!$1:$1048576,14,0) -> 勾中文 | AP15: 5.4 | AQ15: =VLOOKUP(B15,[1]高二上!$1:$1048576,16,0) -> 刘壑 | AR15: 5.4 | AS15: =VLOOKUP(B15,[1]高二下!$1:$1048576,6,0) -> 格绒燚西 | AT15: 5.4 | AU15: =VLOOKUP(B15,[1]高二下!$1:$1048576,8,0) -> 王江 | AV15: 5.4 | AW15: =VLOOKUP(B15,[1]高二下!$1:$1048576,10,0) -> 陈强 | AX15: 5.4 | AY15: =VLOOKUP(B15,[1]高二下!$1:$1048576,12,0) -> 吴文艺 | AZ15: 5.4 | BA15: =VLOOKUP(B15,[1]高二下!$1:$1048576,14,0) -> 勾中文 | BB15: 5.4 | BC15: =VLOOKUP(B15,[1]高二下!$1:$1048576,16,0) -> 邓倩 | BD15: 5.4 | BE15: =VLOOKUP(B15,[1]高三上!$1:$1048576,6,0) -> 格绒燚西 | BF15: 9 | BG15: =VLOOKUP(B15,[1]高三上!$1:$1048576,8,0) -> 潘勇 | BH15: 9 | BI15: =VLOOKUP(B15,[1]高三上!$1:$1048576,10,0) -> 汪睿 | BJ15: 9 | BK15: =VLOOKUP(B15,[1]高三上!$1:$1048576,12,0) -> 吴文艺 | BL15: 9 | BM15: =VLOOKUP(B15,[1]高三上!$1:$1048576,14,0) -> 降初里 | BN15: 9 | BO15: =VLOOKUP(B15,[1]高三上!$1:$1048576,16,0) -> 邓倩 | BP15: 9 | BQ15: =VLOOKUP(B15,'[1]高三下(高考)'!$1:$1048576,6,0) -> 格绒燚西 | BR15: 9 | BS15: =VLOOKUP(B15,'[1]高三下(高考)'!$1:$1048576,8,0) -> 潘勇 | BT15: 9 | BU15: =VLOOKUP(B15,'[1]高三下(高考)'!$1:$1048576,10,0) -> 汪睿 | BV15: 9 | BW15: =VLOOKUP(B15,'[1]高三下(高考)'!$1:$1048576,12,0) -> 吴文艺 | BX15: 9 | BY15: =VLOOKUP(B15,'[1]高三下(高考)'!$1:$1048576,14,0) -> 降初里 | BZ15: 9 | CA15: =VLOOKUP(B15,'[1]高三下(高考)'!$1:$1048576,16,0) -> 邓倩 | CB15: 9
A16: 潘秋霞 | B16: 513422200212220021 | C16: 文科 | D16: 本科 | E16: 应届 | F16: 355 | G16: 硬上艺术本科 | I16: =VLOOKUP(B16,[1]高一上!$A$3:$W$587,6,0) -> 易涛 | J16: 3.6 | K16: =VLOOKUP(B16,[1]高一上!$1:$1048576,8,0) -> 央宗娜姆 | L16: 3.6 | M16: =VLOOKUP(B16,[1]高一上!$1:$1048576,10,0) -> 彭丹 | N16: 3.6 | O16: =VLOOKUP(B16,[1]高一上!$1:$1048576,18,0) -> 杨艳 | P16: 3.6 | Q16: =VLOOKUP(B16,[1]高一上!$1:$1048576,20,0) -> 潘润 | R16: 3.6 | S16: =VLOOKUP(B16,[1]高一上!$1:$1048576,22,0) -> 刘壑 | T16: 3.6 | U16: =VLOOKUP(B16,[1]高一下!$1:$1048576,6,0) -> 岳子琦 | V16: 3.6 | W16: =VLOOKUP(B16,[1]高一下!$1:$1048576,8,0) -> 马俊 | X16: 3.6 | Y16: =VLOOKUP(B16,[1]高一下!$1:$1048576,10,0) -> 周凯 | Z16: 3.6 | AA16: =VLOOKUP(B16,[1]高一下!$1:$1048576,12,0) -> 那士信 | AB16: 3.6 | AC16: =VLOOKUP(B16,[1]高一下!$1:$1048576,14,0) -> 金明龙 | AD16: 3.6 | AE16: =VLOOKUP(B16,[1]高一下!$1:$1048576,16,0) -> 胡柔殳 | AF16: 3.6 | AG16: =VLOOKUP(B16,[1]高二上!$1:$1048576,6,0) -> 胡美华 | AH16: 5.4 | AI16: =VLOOKUP(B16,[1]高二上!$1:$1048576,8,0) -> 马俊 | AJ16: 5.4 | AK16: =VLOOKUP(B16,[1]高二上!$1:$1048576,10,0) -> 陈强 | AL16: 5.4 | AM16: =VLOOKUP(B16,[1]高二上!$1:$1048576,12,0) -> 那士信 | AN16: 5.4 | AO16: =VLOOKUP(B16,[1]高二上!$1:$1048576,14,0) -> 熊治国 | AP16: 5.4 | AQ16: =VLOOKUP(B16,[1]高二上!$1:$1048576,16,0) -> 胡柔书 | AR16: 5.4 | BE16: =VLOOKUP(B16,[1]高三上!$1:$1048576,6,0) -> 李正琪 | BF16: 9 | BG16: =VLOOKUP(B16,[1]高三上!$1:$1048576,8,0) -> 马俊 | BH16: 9 | BI16: =VLOOKUP(B16,[1]高三上!$1:$1048576,10,0) -> 汪睿 | BJ16: 9 | BK16: =VLOOKUP(B16,[1]高三上!$1:$1048576,12,0) -> 吴文艺 | BL16: 9 | BM16: =VLOOKUP(B16,[1]高三上!$1:$1048576,14,0) -> 降初里 | BN16: 9 | BO16: =VLOOKUP(B16,[1]高三上!$1:$1048576,16,0) -> 胡柔书 | BP16: 9 | BQ16: =VLOOKUP(B16,'[1]高三下(高考)'!$1:$1048576,6,0) -> 李正琪 | BR16: 9 | BS16: =VLOOKUP(B16,'[1]高三下(高考)'!$1:$1048576,8,0) -> 马俊 | BT16: 9 | BU16: =VLOOKUP(B16,'[1]高三下(高考)'!$1:$1048576,10,0) -> 汪睿 | BV16: 9 | BW16: =VLOOKUP(B16,'[1]高三下(高考)'!$1:$1048576,12,0) -> 吴文艺 | BX16: 9 | BY16: =VLOOKUP(B16,'[1]高三下(高考)'!$1:$1048576,14,0) -> 降初里 | BZ16: 9 | CA16: =VLOOKUP(B16,'[1]高三下(高考)'!$1:$1048576,16,0) -> 胡柔殳 | CB16: 9
A17: 蒋志英 | B17: 513422200305044426 | C17: 文科 | D17: 本科 | E17: 应届 | F17: 350 | G17: 硬上艺术本科 | I17: =VLOOKUP(B17,[1]高一上!$A$3:$W$587,6,0) -> 周菊明 | J17: 3.6 | K17: =VLOOKUP(B17,[1]高一上!$1:$1048576,8,0) -> 赵云川 | L17: 3.6 | M17: =VLOOKUP(B17,[1]高一上!$1:$1048576,10,0) -> 张翠莲 | N17: 3.6 | O17: =VLOOKUP(B17,[1]高一上!$1:$1048576,18,0) -> 杨艳 | P17: 3.6 | Q17: =VLOOKUP(B17,[1]高一上!$1:$1048576,20,0) -> 潘润 | R17: 3.6 | S17: =VLOOKUP(B17,[1]高一上!$1:$1048576,22,0) -> 邓倩 | T17: 3.6 | U17: =VLOOKUP(B17,[1]高一下!$1:$1048576,6,0) -> 周菊明 | V17: 3.6 | W17: =VLOOKUP(B17,[1]高一下!$1:$1048576,8,0) -> 赵云川 | X17: 3.6 | Y17: =VLOOKUP(B17,[1]高一下!$1:$1048576,10,0) -> 张翠莲 | Z17: 3.6 | AA17: =VLOOKUP(B17,[1]高一下!$1:$1048576,12,0) -> 杨艳 | AB17: 3.6 | AC17: =VLOOKUP(B17,[1]高一下!$1:$1048576,14,0) -> 金明龙 | AD17: 3.6 | AE17: =VLOOKUP(B17,[1]高一下!$1:$1048576,16,0) -> 邓倩 | AF17: 3.6 | AG17: =VLOOKUP(B17,[1]高二上!$1:$1048576,6,0) -> 周菊明 | AH17: 5.4 | AI17: =VLOOKUP(B17,[1]高二上!$1:$1048576,8,0) -> 赵云川 | AJ17: 5.4 | AK17: =VLOOKUP(B17,[1]高二上!$1:$1048576,10,0) -> 张翠莲 | AL17: 5.4 | AM17: =VLOOKUP(B17,[1]高二上!$1:$1048576,12,0) -> 杨艳 | AN17: 5.4 | AO17: =VLOOKUP(B17,[1]高二上!$1:$1048576,14,0) -> 熊治国 | AP17: 5.4 | AQ17: =VLOOKUP(B17,[1]高二上!$1:$1048576,16,0) -> 邓倩 | AR17: 5.4 | BE17: =VLOOKUP(B17,[1]高三上!$1:$1048576,6,0) -> 周菊明 | BF17: 9 | BG17: =VLOOKUP(B17,[1]高三上!$1:$1048576,8,0) -> 赵云川 | BH17: 9 | BI17: =VLOOKUP(B17,[1]高三上!$1:$1048576,10,0) -> 张翠莲 | BJ17: 9 | BK17: =VLOOKUP(B17,[1]高三上!$1:$1048576,12,0) -> 纪春权 | BL17: 9 | BM17: =VLOOKUP(B17,[1]高三上!$1:$1048576,14,0) -> 降初里 | BN17: 9 | BO17: =VLOOKUP(B17,[1]高三上!$1:$1048576,16,0) -> 邓倩 | BP17: 9 | BQ17: =VLOOKUP(B17,'[1]高三下(高考)'!$1:$1048576,6,0) -> 周菊明 | BR17: 9 | BS17: =VLOOKUP(B17,'[1]高三下(高考)'!$1:$1048576,8,0) -> 赵云川 | BT17: 9 | BU17: =VLOOKUP(B17,'[1]高三下(高考)'!$1:$1048576,10,0) -> 张翠莲 | BV17: 9 | BW17: =VLOOKUP(B17,'[1]高三下(高考)'!$1:$1048576,12,0) -> 纪春权 | BX17: 9 | BY17: =VLOOKUP(B17,'[1]高三下(高考)'!$1:$1048576,14,0) -> 降初里 | BZ17: 9 | CA17: =VLOOKUP(B17,'[1]高三下(高考)'!$1:$1048576,16,0) -> 邓倩 | CB17: 9
A18: 次里苏朗 | B18: 51342220000519481X | C18: 文科 | D18: 本科 | E18: 应届 | F18: 305 | G18: 硬上艺术本科 | I18: =VLOOKUP(B18,[1]高一上!$A$3:$W$587,6,0) -> 格绒燚西 | J18: 3.6 | K18: =VLOOKUP(B18,[1]高一上!$1:$1048576,8,0) -> 马俊 | L18: 3.6 | M18: =VLOOKUP(B18,[1]高一上!$1:$1048576,10,0) -> 拉初 | N18: 3.6 | O18: =VLOOKUP(B18,[1]高一上!$1:$1048576,18,0) -> 纪春权 | P18: 3.6 | Q18: =VLOOKUP(B18,[1]高一上!$1:$1048576,20,0) -> 杨琴 | R18: 3.6 | S18: =VLOOKUP(B18,[1]高一上!$1:$1048576,22,0) -> 邓倩 | T18: 3.6 | U18: =VLOOKUP(B18,[1]高一下!$1:$1048576,6,0) -> 周菊明 | V18: 3.6 | W18: =VLOOKUP(B18,[1]高一下!$1:$1048576,8,0) -> 王江 | X18: 3.6 | Y18: =VLOOKUP(B18,[1]高一下!$1:$1048576,10,0) -> 张翠莲 | Z18: 3.6 | AA18: =VLOOKUP(B18,[1]高一下!$1:$1048576,12,0) -> 杨艳 | AB18: 3.6 | AC18: =VLOOKUP(B18,[1]高一下!$1:$1048576,14,0) -> 杨琴 | AD18: 3.6 | AE18: =VLOOKUP(B18,[1]高一下!$1:$1048576,16,0) -> 胡柔殳 | AF18: 3.6 | AG18: =VLOOKUP(B18,[1]高二上!$1:$1048576,6,0) -> 周菊明 | AH18: 5.4 | AI18: =VLOOKUP(B18,[1]高二上!$1:$1048576,8,0) -> 王江 | AJ18: 5.4 | AK18: =VLOOKUP(B18,[1]高二上!$1:$1048576,10,0) -> 王图雄 | AL18: 5.4 | AM18: =VLOOKUP(B18,[1]高二上!$1:$1048576,12,0) -> 马巫各 | AN18: 5.4 | AO18: =VLOOKUP(B18,[1]高二上!$1:$1048576,14,0) -> 杨琴 | AP18: 5.4 | AQ18: =VLOOKUP(B18,[1]高二上!$1:$1048576,16,0) -> 刘壑 | AR18: 5.4 | BQ18: =VLOOKUP(B18,'[1]高三下(高考)'!$1:$1048576,6,0) -> 周菊明 | BR18: 9 | BS18: =VLOOKUP(B18,'[1]高三下(高考)'!$1:$1048576,8,0) -> 潘勇 | BT18: 9 | BU18: =VLOOKUP(B18,'[1]高三下(高考)'!$1:$1048576,10,0) -> 张翠莲 | BV18: 9 | BW18: =VLOOKUP(B18,'[1]高三下(高考)'!$1:$1048576,12,0) -> 马巫各 | BX18: 9 | BY18: =VLOOKUP(B18,'[1]高三下(高考)'!$1:$1048576,14,0) -> 杨琴 | BZ18: 9 | CA18: =VLOOKUP(B18,'[1]高三下(高考)'!$1:$1048576,16,0) -> 胡柔殳 | CB18: 9
A19: 格绒启洛 | B19: 51342220040318481X | C19: 文科 | D19: 本科 | E19: 应届 | F19: 305 | G19: 硬上艺术本科 | I19: =VLOOKUP(B19,[1]高一上!$A$3:$W$587,6,0) -> 周菊明 | J19: 3.6 | K19: =VLOOKUP(B19,[1]高一上!$1:$1048576,8,0) -> 王江 | L19: 3.6 | M19: =VLOOKUP(B19,[1]高一上!$1:$1048576,10,0) -> 张翠莲 | N19: 3.6 | O19: =VLOOKUP(B19,[1]高一上!$1:$1048576,18,0) -> 杨艳 | P19: 3.6 | Q19: =VLOOKUP(B19,[1]高一上!$1:$1048576,20,0) -> 杨琴 | R19: 3.6 | S19: =VLOOKUP(B19,[1]高一上!$1:$1048576,22,0) -> 胡柔殳 | T19: 3.6 | U19: =VLOOKUP(B19,[1]高一下!$1:$1048576,6,0) -> 周菊明 | V19: 3.6 | W19: =VLOOKUP(B19,[1]高一下!$1:$1048576,8,0) -> 王江 | X19: 3.6 | Y19: =VLOOKUP(B19,[1]高一下!$1:$1048576,10,0) -> 张翠莲 | Z19: 3.6 | AA19: =VLOOKUP(B19,[1]高一下!$1:$1048576,12,0) -> 杨艳 | AB19: 3.6 | AC19: =VLOOKUP(B19,[1]高一下!$1:$1048576,14,0) -> 杨琴 | AD19: 3.6 | AE19: =VLOOKUP(B19,[1]高一下!$1:$1048576,16,0) -> 胡柔殳 | AF19: 3.6 | AG19: =VLOOKUP(B19,[1]高二上!$1:$1048576,6,0) -> 周菊明 | AH19: 5.4 | AI19: =VLOOKUP(B19,[1]高二上!$1:$1048576,8,0) -> 王江 | AJ19: 5.4 | AK19: =VLOOKUP(B19,[1]高二上!$1:$1048576,10,0) -> 王图雄 | AL19: 5.4 | AM19: =VLOOKUP(B19,[1]高二上!$1:$1048576,12,0) -> 马巫各 | AN19: 5.4 | AO19: =VLOOKUP(B19,[1]高二上!$1:$1048576,14,0) -> 杨琴 | AP19: 5.4 | AQ19: =VLOOKUP(B19,[1]高二上!$1:$1048576,16,0) -> 刘壑 | AR19: 5.4 | BQ19: =VLOOKUP(B19,'[1]高三下(高考)'!$1:$1048576,6,0) -> 周菊明 | BR19: 9 | BS19: =VLOOKUP(B19,'[1]高三下(高考)'!$1:$1048576,8,0) -> 潘勇 | BT19: 9 | BU19: =VLOOKUP(B19,'[1]高三下(高考)'!$1:$1048576,10,0) -> 张翠莲 | BV19: 9 | BW19: =VLOOKUP(B19,'[1]高三下(高考)'!$1:$1048576,12,0) -> 马巫各 | BX19: 9 | BY19: =VLOOKUP(B19,'[1]高三下(高考)'!$1:$1048576,14,0) -> 杨琴 | BZ19: 9 | CA19: =VLOOKUP(B19,'[1]高三下(高考)'!$1:$1048576,16,0) -> 胡柔殳 | CB19: 9
A20: 马阿支 | B20: 513422199910282160 | C20: 文科 | D20: 本科 | E20: 应届 | F20: 345 | G20: 硬上艺术本科 | I20: =VLOOKUP(B20,[1]高一上!$A$3:$W$587,6,0) -> 格绒燚西 | J20: 3.6 | K20: =VLOOKUP(B20,[1]高一上!$1:$1048576,8,0) -> 王江 | L20: 3.6 | M20: =VLOOKUP(B20,[1]高一上!$1:$1048576,10,0) -> 周凯 | N20: 3.6 | O20: =VLOOKUP(B20,[1]高一上!$1:$1048576,18,0) -> 那士信 | P20: 3.6 | Q20: =VLOOKUP(B20,[1]高一上!$1:$1048576,20,0) -> 降初里 | R20: 3.6 | S20: =VLOOKUP(B20,[1]高一上!$1:$1048576,22,0) -> 刘壑 | T20: 3.6 | U20: =VLOOKUP(B20,[1]高一下!$1:$1048576,6,0) -> 格绒燚西 | V20: 3.6 | W20: =VLOOKUP(B20,[1]高一下!$1:$1048576,8,0) -> 王江 | X20: 3.6 | Y20: =VLOOKUP(B20,[1]高一下!$1:$1048576,10,0) -> 周凯 | Z20: 3.6 | AA20: =VLOOKUP(B20,[1]高一下!$1:$1048576,12,0) -> 那士信 | AB20: 3.6 | AC20: =VLOOKUP(B20,[1]高一下!$1:$1048576,14,0) -> 降初里 | AD20: 3.6 | AE20: =VLOOKUP(B20,[1]高一下!$1:$1048576,16,0) -> 刘壑 | AF20: 3.6 | AG20: =VLOOKUP(B20,[1]高二上!$1:$1048576,6,0) -> 格绒燚西 | AH20: 5.4 | AI20: =VLOOKUP(B20,[1]高二上!$1:$1048576,8,0) -> 王江 | AJ20: 5.4 | AK20: =VLOOKUP(B20,[1]高二上!$1:$1048576,10,0) -> 陈强 | AL20: 5.4 | AM20: =VLOOKUP(B20,[1]高二上!$1:$1048576,12,0) -> 那士信 | AN20: 5.4 | AO20: =VLOOKUP(B20,[1]高二上!$1:$1048576,14,0) -> 勾中文 | AP20: 5.4 | AQ20: =VLOOKUP(B20,[1]高二上!$1:$1048576,16,0) -> 刘壑 | AR20: 5.4 | BQ20: =VLOOKUP(B20,'[1]高三下(高考)'!$1:$1048576,6,0) -> 格绒燚西 | BR20: 9 | BS20: =VLOOKUP(B20,'[1]高三下(高考)'!$1:$1048576,8,0) -> 潘勇 | BT20: 9 | BU20: =VLOOKUP(B20,'[1]高三下(高考)'!$1:$1048576,10,0) -> 汪睿 | BV20: 9 | BW20: =VLOOKUP(B20,'[1]高三下(高考)'!$1:$1048576,12,0) -> 吴文艺 | BX20: 9 | BY20: =VLOOKUP(B20,'[1]高三下(高考)'!$1:$1048576,14,0) -> 降初里 | BZ20: 9 | CA20: =VLOOKUP(B20,'[1]高三下(高考)'!$1:$1048576,16,0) -> 邓倩 | CB20: 9
A21: 央千 | B21: 513422200406230025 | C21: 文科 | D21: 本科 | E21: 应届 | F21: 345 | G21: 硬上艺术本科 | I21: =VLOOKUP(B21,[1]高一上!$A$3:$W$587,6,0) -> 格绒燚西 | J21: 3.6 | K21: =VLOOKUP(B21,[1]高一上!$1:$1048576,8,0) -> 王江 | L21: 3.6 | M21: =VLOOKUP(B21,[1]高一上!$1:$1048576,10,0) -> 周凯 | N21: 3.6 | O21: =VLOOKUP(B21,[1]高一上!$1:$1048576,18,0) -> 那士信 | P21: 3.6 | Q21: =VLOOKUP(B21,[1]高一上!$1:$1048576,20,0) -> 降初里 | R21: 3.6 | S21: =VLOOKUP(B21,[1]高一上!$1:$1048576,22,0) -> 刘壑 | T21: 3.6 | U21: =VLOOKUP(B21,[1]高一下!$1:$1048576,6,0) -> 格绒燚西 | V21: 3.6 | W21: =VLOOKUP(B21,[1]高一下!$1:$1048576,8,0) -> 王江 | X21: 3.6 | Y21: =VLOOKUP(B21,[1]高一下!$1:$1048576,10,0) -> 周凯 | Z21: 3.6 | AA21: =VLOOKUP(B21,[1]高一下!$1:$1048576,12,0) -> 那士信 | AB21: 3.6 | AC21: =VLOOKUP(B21,[1]高一下!$1:$1048576,14,0) -> 降初里 | AD21: 3.6 | AE21: =VLOOKUP(B21,[1]高一下!$1:$1048576,16,0) -> 刘壑 | AF21: 3.6 | AG21: =VLOOKUP(B21,[1]高二上!$1:$1048576,6,0) -> 格绒燚西 | AH21: 5.4 | AI21: =VLOOKUP(B21,[1]高二上!$1:$1048576,8,0) -> 王江 | AJ21: 5.4 | AK21: =VLOOKUP(B21,[1]高二上!$1:$1048576,10,0) -> 陈强 | AL21: 5.4 | AM21: =VLOOKUP(B21,[1]高二上!$1:$1048576,12,0) -> 那士信 | AN21: 5.4 | AO21: =VLOOKUP(B21,[1]高二上!$1:$1048576,14,0) -> 勾中文 | AP21: 5.4 | AQ21: =VLOOKUP(B21,[1]高二上!$1:$1048576,16,0) -> 刘壑 | AR21: 5.4 | BQ21: =VLOOKUP(B21,'[1]高三下(高考)'!$1:$1048576,6,0) -> 格绒燚西 | BR21: 9 | BS21: =VLOOKUP(B21,'[1]高三下(高考)'!$1:$1048576,8,0) -> 潘勇 | BT21: 9 | BU21: =VLOOKUP(B21,'[1]高三下(高考)'!$1:$1048576,10,0) -> 汪睿 | BV21: 9 | BW21: =VLOOKUP(B21,'[1]高三下(高考)'!$1:$1048576,12,0) -> 吴文艺 | BX21: 9 | BY21: =VLOOKUP(B21,'[1]高三下(高考)'!$1:$1048576,14,0) -> 降初里 | BZ21: 9 | CA21: =VLOOKUP(B21,'[1]高三下(高考)'!$1:$1048576,16,0) -> 邓倩 | CB21: 9
A22: 马克的莫 | B22: 513422200111231522 | C22: 文科 | D22: 本科 | E22: 应届 | F22: 305 | G22: 硬上艺术本科 | I22: =VLOOKUP(B22,[1]高一上!$A$3:$W$587,6,0) -> 格绒燚西 | J22: 3.6 | K22: =VLOOKUP(B22,[1]高一上!$1:$1048576,8,0) -> 王江 | L22: 3.6 | M22: =VLOOKUP(B22,[1]高一上!$1:$1048576,10,0) -> 周凯 | N22: 3.6 | O22: =VLOOKUP(B22,[1]高一上!$1:$1048576,18,0) -> 那士信 | P22: 3.6 | Q22: =VLOOKUP(B22,[1]高一上!$1:$1048576,20,0) -> 降初里 | R22: 3.6 | S22: =VLOOKUP(B22,[1]高一上!$1:$1048576,22,0) -> 刘壑 | T22: 3.6 | U22: =VLOOKUP(B22,[1]高一下!$1:$1048576,6,0) -> 格绒燚西 | V22: 3.6 | W22: =VLOOKUP(B22,[1]高一下!$1:$1048576,8,0) -> 王江 | X22: 3.6 | Y22: =VLOOKUP(B22,[1]高一下!$1:$1048576,10,0) -> 周凯 | Z22: 3.6 | AA22: =VLOOKUP(B22,[1]高一下!$1:$1048576,12,0) -> 那士信 | AB22: 3.6 | AC22: =VLOOKUP(B22,[1]高一下!$1:$1048576,14,0) -> 降初里 | AD22: 3.6 | AE22: =VLOOKUP(B22,[1]高一下!$1:$1048576,16,0) -> 刘壑 | AF22: 3.6 | AG22: =VLOOKUP(B22,[1]高二上!$1:$1048576,6,0) -> 格绒燚西 | AH22: 5.4 | AI22: =VLOOKUP(B22,[1]高二上!$1:$1048576,8,0) -> 王江 | AJ22: 5.4 | AK22: =VLOOKUP(B22,[1]高二上!$1:$1048576,10,0) -> 陈强 | AL22: 5.4 | AM22: =VLOOKUP(B22,[1]高二上!$1:$1048576,12,0) -> 那士信 | AN22: 5.4 | AO22: =VLOOKUP(B22,[1]高二上!$1:$1048576,14,0) -> 勾中文 | AP22: 5.4 | AQ22: =VLOOKUP(B22,[1]高二上!$1:$1048576,16,0) -> 刘壑 | AR22: 5.4 | BQ22: =VLOOKUP(B22,'[1]高三下(高考)'!$1:$1048576,6,0) -> 格绒燚西 | BR22: 9 | BS22: =VLOOKUP(B22,'[1]高三下(高考)'!$1:$1048576,8,0) -> 潘勇 | BT22: 9 | BU22: =VLOOKUP(B22,'[1]高三下(高考)'!$1:$1048576,10,0) -> 汪睿 | BV22: 9 | BW22: =VLOOKUP(B22,'[1]高三下(高考)'!$1:$1048576,12,0) -> 吴文艺 | BX22: 9 | BY22: =VLOOKUP(B22,'[1]高三下(高考)'!$1:$1048576,14,0) -> 降初里 | BZ22: 9 | CA22: =VLOOKUP(B22,'[1]高三下(高考)'!$1:$1048576,16,0) -> 邓倩 | CB22: 9
A23: 杨玲 | B23: 513422200402150028 | C23: 文科 | D23: 本科 | E23: 应届 | F23: 305 | G23: 硬上艺术本科 | I23: =VLOOKUP(B23,[1]高一上!$A$3:$W$587,6,0) -> 肖锐 | J23: 3.6 | K23: =VLOOKUP(B23,[1]高一上!$1:$1048576,8,0) -> 赵云川 | L23: 3.6 | M23: =VLOOKUP(B23,[1]高一上!$1:$1048576,10,0) -> 彭丹 | N23: 3.6 | O23: =VLOOKUP(B23,[1]高一上!$1:$1048576,18,0) -> 那士信 | P23: 3.6 | Q23: =VLOOKUP(B23,[1]高一上!$1:$1048576,20,0) -> 金明龙 | R23: 3.6 | S23: =VLOOKUP(B23,[1]高一上!$1:$1048576,22,0) -> 刘壑 | T23: 3.6 | U23: =VLOOKUP(B23,[1]高一下!$1:$1048576,6,0) -> 岳子琦 | V23: 3.6 | W23: =VLOOKUP(B23,[1]高一下!$1:$1048576,8,0) -> 马俊 | X23: 3.6 | Y23: =VLOOKUP(B23,[1]高一下!$1:$1048576,10,0) -> 周凯 | Z23: 3.6 | AA23: =VLOOKUP(B23,[1]高一下!$1:$1048576,12,0) -> 那士信 | AB23: 3.6 | AC23: =VLOOKUP(B23,[1]高一下!$1:$1048576,14,0) -> 金明龙 | AD23: 3.6 | AE23: =VLOOKUP(B23,[1]高一下!$1:$1048576,16,0) -> 胡柔殳 | AF23: 3.6 | AG23: =VLOOKUP(B23,[1]高二上!$1:$1048576,6,0) -> 胡美华 | AH23: 5.4 | AI23: =VLOOKUP(B23,[1]高二上!$1:$1048576,8,0) -> 马俊 | AJ23: 5.4 | AK23: =VLOOKUP(B23,[1]高二上!$1:$1048576,10,0) -> 陈强 | AL23: 5.4 | AM23: =VLOOKUP(B23,[1]高二上!$1:$1048576,12,0) -> 那士信 | AN23: 5.4 | AO23: =VLOOKUP(B23,[1]高二上!$1:$1048576,14,0) -> 熊治国 | AP23: 5.4 | AQ23: =VLOOKUP(B23,[1]高二上!$1:$1048576,16,0) -> 胡柔书 | AR23: 5.4 | BQ23: =VLOOKUP(B23,'[1]高三下(高考)'!$1:$1048576,6,0) -> 李正琪 | BR23: 9 | BS23: =VLOOKUP(B23,'[1]高三下(高考)'!$1:$1048576,8,0) -> 马俊 | BT23: 9 | BU23: =VLOOKUP(B23,'[1]高三下(高考)'!$1:$1048576,10,0) -> 汪睿 | BV23: 9 | BW23: =VLOOKUP(B23,'[1]高三下(高考)'!$1:$1048576,12,0) -> 吴文艺 | BX23: 9 | BY23: =VLOOKUP(B23,'[1]高三下(高考)'!$1:$1048576,14,0) -> 降初里 | BZ23: 9 | CA23: =VLOOKUP(B23,'[1]高三下(高考)'!$1:$1048576,16,0) -> 胡柔殳 | CB23: 9
A24: 兰英英 | B24: 513422200505080042 | C24: 文科 | D24: 本科 | E24: 应届 | F24: 305 | G24: 硬上艺术本科 | I24: =VLOOKUP(B24,[1]高一上!$A$3:$W$587,6,0) -> 岳子琦 | J24: 3.6 | K24: =VLOOKUP(B24,[1]高一上!$1:$1048576,8,0) -> 马俊 | L24: 3.6 | M24: =VLOOKUP(B24,[1]高一上!$1:$1048576,10,0) -> 周凯 | N24: 3.6 | O24: =VLOOKUP(B24,[1]高一上!$1:$1048576,18,0) -> 那士信 | P24: 3.6 | Q24: =VLOOKUP(B24,[1]高一上!$1:$1048576,20,0) -> 金明龙 | R24: 3.6 | S24: =VLOOKUP(B24,[1]高一上!$1:$1048576,22,0) -> 胡柔殳 | T24: 3.6 | U24: =VLOOKUP(B24,[1]高一下!$1:$1048576,6,0) -> 岳子琦 | V24: 3.6 | W24: =VLOOKUP(B24,[1]高一下!$1:$1048576,8,0) -> 马俊 | X24: 3.6 | Y24: =VLOOKUP(B24,[1]高一下!$1:$1048576,10,0) -> 周凯 | Z24: 3.6 | AA24: =VLOOKUP(B24,[1]高一下!$1:$1048576,12,0) -> 那士信 | AB24: 3.6 | AC24: =VLOOKUP(B24,[1]高一下!$1:$1048576,14,0) -> 金明龙 | AD24: 3.6 | AE24: =VLOOKUP(B24,[1]高一下!$1:$1048576,16,0) -> 胡柔殳 | AF24: 3.6 | AG24: =VLOOKUP(B24,[1]高二上!$1:$1048576,6,0) -> 胡美华 | AH24: 5.4 | AI24: =VLOOKUP(B24,[1]高二上!$1:$1048576,8,0) -> 马俊 | AJ24: 5.4 | AK24: =VLOOKUP(B24,[1]高二上!$1:$1048576,10,0) -> 陈强 | AL24: 5.4 | AM24: =VLOOKUP(B24,[1]高二上!$1:$1048576,12,0) -> 那士信 | AN24: 5.4 | AO24: =VLOOKUP(B24,[1]高二上!$1:$1048576,14,0) -> 熊治国 | AP24: 5.4 | AQ24: =VLOOKUP(B24,[1]高二上!$1:$1048576,16,0) -> 胡柔书 | AR24: 5.4 | BQ24: =VLOOKUP(B24,'[1]高三下(高考)'!$1:$1048576,6,0) -> 李正琪 | BR24: 9 | BS24: =VLOOKUP(B24,'[1]高三下(高考)'!$1:$1048576,8,0) -> 马俊 | BT24: 9 | BU24: =VLOOKUP(B24,'[1]高三下(高考)'!$1:$1048576,10,0) -> 汪睿 | BV24: 9 | BW24: =VLOOKUP(B24,'[1]高三下(高考)'!$1:$1048576,12,0) -> 吴文艺 | BX24: 9 | BY24: =VLOOKUP(B24,'[1]高三下(高考)'!$1:$1048576,14,0) -> 降初里 | BZ24: 9 | CA24: =VLOOKUP(B24,'[1]高三下(高考)'!$1:$1048576,16,0) -> 胡柔殳 | CB24: 9
I26: 行标签 | J26: 求和项:得分 | K26: 行标签 | L26: 求和项:得分 | M26: 行标签 | N26: 求和项:得分 | O26: 行标签 | P26: 求和项:得分 | Q26: 行标签 | R26: 求和项:得分 | S26: 行标签 | T26: 求和项:得分 | U26: 行标签 | V26: 求和项:得分 | W26: 行标签 | X26: 求和项:得分 | Y26: 行标签 | Z26: 求和项:得分 | AA26: 行标签 | AB26: 求和项:得分 | AC26: 行标签 | AD26: 求和项:得分 | AE26: 行标签 | AF26: 求和项:得分 | AG26: 行标签 | AH26: 求和项:得分 | AI26: 行标签 | AJ26: 求和项:得分 | AK26: 行标签 | AL26: 求和项:得分 | AM26: 行标签 | AN26: 求和项:得分 | AO26: 行标签 | AP26: 求和项:得分 | AQ26: 行标签 | AR26: 求和项:得分 | AS26: 行标签 | AT26: 求和项:得分 | AU26: 行标签 | AV26: 求和项:得分 | AW26: 行标签 | AX26: 求和项:得分 | AY26: 行标签 | AZ26: 求和项:得分 | BA26: 行标签 | BB26: 求和项:得分 | BC26: 行标签 | BD26: 求和项:得分 | BE26: 行标签 | BF26: 求和项:得分 | BG26: 行标签 | BH26: 求和项:得分 | BI26: 行标签 | BJ26: 求和项:得分 | BK26: 行标签 | BL26: 求和项:得分 | BM26: 行标签 | BN26: 求和项:得分 | BO26: 行标签 | BP26: 求和项:得分 | BQ26: 行标签 | BR26: 求和项:得分 | BS26: 行标签 | BT26: 求和项:得分 | BU26: 行标签 | BV26: 求和项:得分 | BW26: 行标签 | BX26: 求和项:得分 | BY26: 行标签 | BZ26: 求和项:得分 | CA26: 行标签 | CB26: 求和项:得分
I27: 格绒燚西 | J27: 21.6 | K27: 李黎明 | L27: 3.6 | M27: 曾佳瑶 | N27: 3.6 | O27: 纪春权 | P27: 3.6 | Q27: 降初里 | R27: 18 | S27: 邓倩 | T27: 7.2 | U27: 格绒燚西 | V27: 21.6 | W27: 李黎明 | X27: 3.6 | Y27: 拉初 | Z27: 3.6 | AA27: 纪春权 | AB27: 3.6 | AC27: 降初里 | AD27: 18 | AE27: 邓倩 | AF27: 7.2 | AG27: 格绒燚西 | AH27: 32.4 | AI27: 李黎明 | AJ27: 5.4 | AK27: 陈强 | AL27: 54 | AM27: 纪春权 | AN27: 5.4 | AO27: 勾中文 | AP27: 27 | AQ27: 邓倩 | AR27: 10.8 | AS27: 格绒燚西 | AT27: 21.6 | AU27: 李黎明 | AV27: 5.4 | AW27: 陈强 | AX27: 27 | AY27: 纪春权 | AZ27: 5.4 | BA27: 勾中文 | BB27: 27 | BC27: 邓倩 | BD27: 21.6 | BE27: 格绒燚西 | BF27: 36 | BG27: 邓国华 | BH27: 27 | BI27: 曾佳瑶 | BJ27: 9 | BK27: 纪春权 | BL27: 27 | BM27: 降初里 | BN27: 72 | BO27: 邓倩 | BP27: 54 | BQ27: 格绒燚西 | BR27: 63 | BS27: 邓国华 | BT27: 27 | BU27: 曾佳瑶 | BV27: 9 | BW27: 纪春权 | BX27: 27 | BY27: 降初里 | BZ27: 126 | CA27: 邓倩 | CB27: 81
I28: 肖锐 | J28: 7.2 | K28: 马俊 | L28: 14.4 | M28: 拉初 | N28: 3.6 | O28: 那士信 | P28: 32.4 | Q28: 金明龙 | R28: 14.4 | S28: 辜英琼 | T28: 3.6 | U28: 肖锐 | V28: 3.6 | W28: 马俊 | X28: 21.6 | Y28: 彭丹 | Z28: 7.2 | AA28: 那士信 | AB28: 36 | AC28: 金明龙 | AD28: 21.6 | AE28: 辜英琼 | AF28: 3.6 | AG28: 胡美华 | AH28: 27 | AI28: 马俊 | AJ28: 32.4 | AK28: 拉初 | AL28: 5.4 | AM28: 马巫各 | AN28: 16.2 | AO28: 宋欣洲 | AP28: 5.4 | AQ28: 胡柔殳 | AR28: 27 | AS28: 肖锐 | AT28: 5.4 | AU28: 马俊 | AV28: 16.2 | AW28: 拉初 | AX28: 5.4 | AY28: 马巫各 | AZ28: 5.4 | BA28: 宋欣洲 | BB28: 5.4 | BC28: 胡柔殳 | BD28: 16.2 | BE28: 李正琪 | BF28: 27 | BG28: 马俊 | BH28: 36 | BI28: 拉初 | BJ28: 9 | BK28: 马巫各 | BL28: 9 | BM28: 李荣鑫 | BN28: 18 | BO28: 胡柔殳 | BP28: 36 | BQ28: 李正琪 | BR28: 54 | BS28: 马俊 | BT28: 63 | BU28: 拉初 | BV28: 9 | BW28: 马巫各 | BX28: 27 | BY28: 李荣鑫 | BZ28: 18 | CA28: 胡柔殳 | CB28: 81
I29: 易涛 | J29: 14.4 | K29: 王江 | L29: 21.6 | M29: 彭丹 | N29: 18 | O29: 王春波 | P29: 7.2 | Q29: 潘润 | R29: 14.4 | S29: 胡柔殳 | T29: 14.4 | U29: 易涛 | V29: 3.6 | W29: 王江 | X29: 28.8 | Y29: 张翠莲 | Z29: 14.4 | AA29: 王春波 | AB29: 7.2 | AC29: 宋欣洲 | AD29: 3.6 | AE29: 胡柔殳 | AF29: 28.8 | AG29: 肖锐 | AH29: 5.4 | AI29: 王江 | AJ29: 43.2 | AK29: 兰卡布尺 | AL29: 10.8 | AM29: 那士信 | AN29: 54 | AO29: 熊治国 | AP29: 32.4 | AQ29: 刘壑 | AR29: 43.2 | AS29: 易涛 | AT29: 5.4 | AU29: 王江 | AV29: 21.6 | AW29: 兰卡布尺 | AX29: 10.8 | AY29: 吴文艺 | AZ29: 27 | BA29: 杨琴 | BB29: 10.8 | BC29: 彭桦 | BD29: 5.4 | BE29: 肖锐 | BF29: 18 | BG29: 潘勇 | BH29: 36 | BI29: 兰卡布尺 | BJ29: 27 | BK29: 王友春 | BL29: 9 | BM29: 万饶 | BN29: 9 | BO29: 彭桦 | BP29: 27 | BQ29: 肖锐 | BR29: 18 | BS29: 潘勇 | BT29: 81 | BU29: 兰卡布尺 | BV29: 27 | BW29: 沈志霞 | BX29: 9 | BY29: 万饶 | BZ29: 9 | CA29: 彭桦 | CB29: 27
I30: 岳子琦 | J30: 10.8 | K30: 央宗娜姆 | L30: 14.4 | M30: 张翠莲 | N30: 7.2 | O30: 杨艳 | P30: 18 | Q30: 杨琴 | R30: 7.2 | S30: 刘壑 | T30: 32.4 | U30: 岳子琦 | V30: 18 | W30: 央宗娜姆 | X30: 3.6 | Y30: 周凯 | Z30: 36 | AA30: 杨艳 | AB30: 14.4 | AC30: 杨琴 | AD30: 14.4 | AE30: 刘壑 | AF30: 18 | AG30: 易涛 | AH30: 5.4 | AI30: 央宗娜姆 | AJ30: 5.4 | AK30: 王图雄 | AL30: 16.2 | AM30: 王春波 | AN30: 10.8 | AO30: 杨琴 | AP30: 21.6 | AQ30: 彭桦 | AR30: 5.4 | AS30: 岳子琦 | AT30: 10.8 | AU30: 央宗娜姆 | AV30: 5.4 | AW30: 张翠莲 | AX30: 5.4 | AY30: 赵建超 | AZ30: 5.4 | BA30: 叶小军 | BB30: 5.4 | BC30: 张弘 | BD30: 5.4 | BE30: 易涛 | BF30: 9 | BG30: 央宗娜姆 | BH30: 9 | BI30: 汪睿 | BJ30: 54 | BK30: 吴文艺 | BL30: 54 | BM30: 杨琴 | BN30: 18 | BO30: 张弘 | BP30: 9 | BQ30: 易涛 | BR30: 9 | BS30: 央宗娜姆 | BT30: 9 | BU30: 汪睿 | BV30: 108 | BW30: 王友春 | BX30: 9 | BY30: 杨琴 | BZ30: 36 | CA30: 张弘 | CB30: 9
I31: 周菊明 | J31: 7.2 | K31: 赵云川 | L31: 7.2 | M31: 周凯 | N31: 28.8 | O31: (空白) | Q31: 叶小军 | R31: 7.2 | S31: 肖霞 | T31: 3.6 | U31: 周菊明 | V31: 14.4 | W31: 赵云川 | X31: 3.6 | Y31: (空白) | AA31: (空白) | AC31: 叶小军 | AD31: 3.6 | AE31: 彭桦 | AF31: 3.6 | AG31: 周菊明 | AH31: 21.6 | AI31: 赵云川 | AJ31: 5.4 | AK31: 张翠莲 | AL31: 5.4 | AM31: 杨艳 | AN31: 5.4 | AO31: 叶小军 | AP31: 5.4 | AQ31: 张弘 | AR31: 5.4 | AS31: 周菊明 | AT31: 5.4 | AU31: (空白) | AW31: (空白) | AY31: 周强 | AZ31: 5.4 | BA31: (空白) | BC31: (空白) | BE31: 岳子琦 | BF31: 9 | BG31: 赵云川 | BH31: 18 | BI31: 张翠莲 | BJ31: 27 | BK31: 夏宇 | BL31: 27 | BM31: 叶小军 | BN31: 9 | BO31: (空白) | BQ31: 岳子琦 | BR31: 9 | BS31: 赵云川 | BT31: 18 | BU31: 张翠莲 | BV31: 45 | BW31: 吴文艺 | BX31: 108 | BY31: 叶小军 | BZ31: 9 | CA31: 总计 | CB31: 198
I32: (空白) | K32: (空白) | M32: (空白) | O32: 总计 | P32: 61.2 | Q32: (空白) | S32: (空白) | U32: (空白) | W32: (空白) | Y32: 总计 | Z32: 61.2 | AA32: 总计 | AB32: 61.2 | AC32: (空白) | AE32: (空白) | AG32: (空白) | AI32: (空白) | AK32: (空白) | AM32: (空白) | AO32: (空白) | AQ32: (空白) | AS32: (空白) | AU32: 总计 | AV32: 48.6 | AW32: 总计 | AX32: 48.6 | AY32: (空白) | BA32: 总计 | BB32: 48.6 | BC32: 总计 | BD32: 48.6 | BE32: 周菊明 | BF32: 27 | BG32: (空白) | BI32: (空白) | BK32: (空白) | BM32: (空白) | BO32: 总计 | BP32: 126 | BQ32: 周菊明 | BR32: 45 | BS32: 总计 | BT32: 198 | BU32: 总计 | BV32: 198 | BW32: 赵建超 | BX32: 18 | BY32: 总计 | BZ32: 198
B33: 此列为汇总 | C33: 文化教师 | I33: 总计 | J33: 61.2 | K33: 总计 | L33: 61.2 | M33: 总计 | N33: 61.2 | Q33: 总计 | R33: 61.2 | S33: 总计 | T33: 61.2 | U33: 总计 | V33: 61.2 | W33: 总计 | X33: 61.2 | AC33: 总计 | AD33: 61.2 | AE33: 总计 | AF33: 61.2 | AG33: 总计 | AH33: 91.8 | AI33: 总计 | AJ33: 91.8 | AK33: 总计 | AL33: 91.8 | AM33: 总计 | AN33: 91.8 | AO33: 总计 | AP33: 91.8 | AQ33: 总计 | AR33: 91.8 | AS33: 总计 | AT33: 48.6 | AY33: 总计 | AZ33: 48.6 | BE33: (空白) | BG33: 总计 | BH33: 126 | BI33: 总计 | BJ33: 126 | BK33: 总计 | BL33: 126 | BM33: 总计 | BN33: 126 | BQ33: 总计 | BR33: 198 | BW33: 总计 | BX33: 198
B34: 姓名 | C34: 得分 | BE34: 总计 | BF34: 126
B35: 曾佳瑶 | C35: =SUMIF($I$27:$CA$34,B35,$J$27:$CB$34) -> 21.6
B36: 陈强 | C36: =SUMIF($I$27:$CA$34,B36,$J$27:$CB$34) -> 81
B37: 邓国华 | C37: =SUMIF($I$27:$CA$34,B37,$J$27:$CB$34) -> 54 | E37: 此列为汇总 | F37: 艺体教师
B38: 邓倩 | C38: =SUMIF($I$27:$CA$34,B38,$J$27:$CB$34) -> 181.8 | E38: 行标签 | F38: 求和项:得分
B39: 格绒燚西 | C39: =SUMIF($I$27:$CA$34,B39,$J$27:$CB$34) -> 196.2 | E39: 郭禧唐 | F39: 300 | H39: vlookup
B40: 勾中文 | C40: =SUMIF($I$27:$CA$34,B40,$J$27:$CB$34) -> 54 | E40: 鲁绒旦友 | F40: 534 | H40: 曾佳瑶 | I40: =VLOOKUP(H40,B$34:C$85,2,FALSE) -> 21.6
B41: 辜英琼 | C41: =SUMIF($I$27:$CA$34,B41,$J$27:$CB$34) -> 7.2 | E41: 周时德 | F41: 102 | H41: 陈强 | I41: =VLOOKUP(H41,B$34:C$85,2,FALSE) -> 81
B42: 胡美华 | C42: =SUMIF($I$27:$CA$34,B42,$J$27:$CB$34) -> 27 | E42: 总计 | F42: 936 | H42: 邓国华 | I42: =VLOOKUP(H42,B$34:C$85,2,FALSE) -> 54
B43: 胡柔殳 | C43: =SUMIF($I$27:$CA$34,B43,$J$27:$CB$34) -> 203.4 | H43: 邓倩 | I43: =VLOOKUP(H43,B$34:C$85,2,FALSE) -> 181.8
B44: 纪春权 | C44: =SUMIF($I$27:$CA$34,B44,$J$27:$CB$34) -> 72 | H44: 格绒燚西 | I44: =VLOOKUP(H44,B$34:C$85,2,FALSE) -> 196.2
B45: 降初里 | C45: =SUMIF($I$27:$CA$34,B45,$J$27:$CB$34) -> 234 | H45: 勾中文 | I45: =VLOOKUP(H45,B$34:C$85,2,FALSE) -> 54
B46: 金明龙 | C46: =SUMIF($I$27:$CA$34,B46,$J$27:$CB$34) -> 36 | H46: 辜英琼 | I46: =VLOOKUP(H46,B$34:C$85,2,FALSE) -> 7.2
B47: 拉初 | C47: =SUMIF($I$27:$CA$34,B47,$J$27:$CB$34) -> 36 | H47: 胡美华 | I47: =VLOOKUP(H47,B$34:C$85,2,FALSE) -> 27
B48: 兰卡布尺 | C48: =SUMIF($I$27:$CA$34,B48,$J$27:$CB$34) -> 75.6 | H48: 胡柔殳 | I48: =VLOOKUP(H48,B$34:C$85,2,FALSE) -> 203.4
B49: 李黎明 | C49: =SUMIF($I$27:$CA$34,B49,$J$27:$CB$34) -> 18 | H49: 纪春权 | I49: =VLOOKUP(H49,B$34:C$85,2,FALSE) -> 72
B50: 李荣鑫 | C50: =SUMIF($I$27:$CA$34,B50,$J$27:$CB$34) -> 36 | H50: 降初里 | I50: =VLOOKUP(H50,B$34:C$85,2,FALSE) -> 234
B51: 李正琪 | C51: =SUMIF($I$27:$CA$34,B51,$J$27:$CB$34) -> 81 | H51: 金明龙 | I51: =VLOOKUP(H51,B$34:C$85,2,FALSE) -> 36
B52: 刘壑 | C52: =SUMIF($I$27:$CA$34,B52,$J$27:$CB$34) -> 93.6 | H52: 拉初 | I52: =VLOOKUP(H52,B$34:C$85,2,FALSE) -> 36
B53: 马俊 | C53: =SUMIF($I$27:$CA$34,B53,$J$27:$CB$34) -> 183.6 | H53: 兰卡布尺 | I53: =VLOOKUP(H53,B$34:C$85,2,FALSE) -> 75.6
B54: 马巫各 | C54: =SUMIF($I$27:$CA$34,B54,$J$27:$CB$34) -> 57.6 | H54: 李黎明 | I54: =VLOOKUP(H54,B$34:C$85,2,FALSE) -> 18
... B85: 周强 | C85: =SUMIF($I$27:$CA$34,B85,$J$27:$CB$34) -> 5.4 | H85: 张弘 | I85: =VLOOKUP(H85,B$34:C$85,2,FALSE) -> 28.8
C86: =SUM(C35:C85) -> 3520.8 | H86: 赵建超 | I86: =VLOOKUP(H86,B$34:C$85,2,FALSE) -> 23.4
H87: 赵云川 | I87: =VLOOKUP(H87,B$34:C$85,2,FALSE) -> 52.2
H88: 周菊明 | I88: =VLOOKUP(H88,B$34:C$85,2,FALSE) -> 120.6
H89: 周凯 | I89: =VLOOKUP(H89,B$34:C$85,2,FALSE) -> 64.8
H90: 周强 | I90: =VLOOKUP(H90,B$34:C$85,2,FALSE) -> 5.4

Sheet 照顾上艺体本科文化教师
I1: 高一上 | U1: 高一下 | AG1: 高二上 | AS1: 高二下 | BE1: 高三上 | BQ1: 高三下
A2: 姓名 | B2: 身份证号 | C2: 科类 | D2: 层次 | E2: 应往届 | F2: 分数线 | G2: 录取情况 | I2: 语文 | J2: 得分 | K2: 数学 | L2: 得分 | M2: 英语 | N2: 得分 | O2: 物理/政治 | P2: 得分 | Q2: 化学/历史 | R2: 得分 | S2: 生物/地理 | T2: 得分 | U2: 语文 | V2: 得分 | W2: 数学 | X2: 得分 | Y2: 英语 | Z2: 得分 | AA2: 物理/政治 | AB2: 得分 | AC2: 化学/历史 | AD2: 得分 | AE2: 生物/地理 | AF2: 得分 | AG2: 语文 | AH2: 得分 | AI2: 数学 | AJ2: 得分 | AK2: 英语 | AL2: 得分 | AM2: 物理/政治 | AN2: 得分 | AO2: 化学/历史 | AP2: 得分 | AQ2: 生物/地理 | AR2: 得分 | AS2: 语文 | AT2: 得分 | AU2: 数学 | AV2: 得分 | AW2: 英语 | AX2: 得分 | AY2: 物理/政治 | AZ2: 得分 | BA2: 化学/历史 | BB2: 得分 | BC2: 生物/地理 | BD2: 得分 | BE2: 语文 | BF2: 得分 | BG2: 数学 | BH2: 得分 | BI2: 英语 | BJ2: 得分 | BK2: 物理/政治 | BL2: 得分 | BM2: 化学/历史 | BN2: 得分 | BO2: 生物/地理 | BP2: 得分 | BQ2: 语文 | BR2: 得分 | BS2: 数学 | BT2: 得分 | BU2: 英语 | BV2: 得分 | BW2: 物理/政治 | BX2: 得分 | BY2: 化学/历史 | BZ2: 得分 | CA2: 生物/地理 | CB2: 得分
A3: 贾雨鑫 | B3: 513422200401280015 | C3: 理科 | D3: 本科 | E3: 355 | F3: 应届 | G3: 本科 | I3: 陈立娇 | J3: 3.6 | K3: 李黎明 | L3: 3.6 | M3: 雷敏 | N3: 3.6 | O3: 王友春 | P3: 3.6 | Q3: 万饶 | R3: 3.6 | S3: 金勇 | T3: 3.6 | U3: 陈立娇 | V3: 3.6 | W3: 李黎明 | X3: 3.6 | Y3: 曾佳瑶 | Z3: 3.6 | AA3: 王友春 | AB3: 3.6 | AC3: 万饶 | AD3: 3.6 | AE3: 彭桦 | AF3: 3.6 | AG3: 陈立娇 | AH3: 5.4 | AI3: 李黎明 | AJ3: 5.4 | AK3: 曾佳瑶 | AL3: 5.4 | AM3: 王友春 | AN3: 5.4 | AO3: 万饶 | AP3: 5.4 | AQ3: 彭桦 | AR3: 5.4 | BQ3: 岳子琦 | BR3: 9 | BS3: 邓国华 | BT3: 9 | BU3: 曾佳瑶 | BV3: 9 | BW3: 王友春 | BX3: 9 | BY3: 万饶 | BZ3: 9 | CA3: 彭桦 | CB3: 9
A4: 达瓦次尔 | B4: 513422200205084834 | C4: 理科 | D4: 本科 | E4: 305 | F4: 应届 | G4: 本科 | I4: 陈立娇 | J4: 3.6 | K4: 李黎明 | L4: 3.6 | M4: 雷敏 | N4: 3.6 | O4: 王友春 | P4: 3.6 | Q4: 万饶 | R4: 3.6 | S4: 金勇 | T4: 3.6 | U4: 陈立娇 | V4: 3.6 | W4: 李黎明 | X4: 3.6 | Y4: 曾佳瑶 | Z4: 3.6 | AA4: 王友春 | AB4: 3.6 | AC4: 万饶 | AD4: 3.6 | AE4: 彭桦 | AF4: 3.6 | AG4: 陈立娇 | AH4: 5.4 | AI4: 李黎明 | AJ4: 5.4 | AK4: 曾佳瑶 | AL4: 5.4 | AM4: 王友春 | AN4: 5.4 | AO4: 万饶 | AP4: 5.4 | AQ4: 彭桦 | AR4: 5.4 | BQ4: 岳子琦 | BR4: 9 | BS4: 邓国华 | BT4: 9 | BU4: 曾佳瑶 | BV4: 9 | BW4: 王友春 | BX4: 9 | BY4: 万饶 | BZ4: 9 | CA4: 彭桦 | CB4: 9
A5: 马阿冬 | B5: 513422200210200019 | C5: 文科 | D5: 本科 | E5: 345 | F5: 应届 | G5: 本科 | AG5: 周菊明 | AH5: 5.4 | AI5: 赵云川 | AJ5: 5.4 | AK5: 张翠莲 | AL5: 5.4 | AM5: 杨艳 | AN5: 5.4 | AO5: 熊治国 | AP5: 5.4 | AQ5: 邓倩 | AR5: 5.4 | AS5: 周菊明 | AT5: 5.4 | AU5: 赵云川 | AV5: 5.4 | AW5: 张翠莲 | AX5: 5.4 | AY5: 纪春权 | AZ5: 5.4 | BA5: 勾中文 | BB5: 5.4 | BC5: 邓倩 | BD5: 5.4 | BE5: 周菊明 | BF5: 9 | BG5: 赵云川 | BH5: 9 | BI5: 张翠莲 | BJ5: 9 | BK5: 纪春权 | BL5: 9 | BM5: 降初里 | BN5: 9 | BO5: 邓倩 | BP5: 9 | BQ5: 周菊明 | BR5: 9 | BS5: 赵云川 | BT5: 9 | BU5: 张翠莲 | BV5: 9 | BW5: 纪春权 | BX5: 9 | BY5: 降初里 | BZ5: 9 | CA5: 邓倩 | CB5: 9
A6: 次尔偏初 | B6: 513422200306104013 | C6: 文科 | D6: 本科 | E6: 345 | F6: 应届 | G6: 本科 | I6: 周菊明 | J6: 3.6 | K6: 赵云川 | L6: 3.6 | M6: 张翠莲 | N6: 3.6 | O6: 那士信 | P6: 3.6 | Q6: 金明龙 | R6: 3.6 | S6: 邓倩 | T6: 3.6 | U6: 周菊明 | V6: 3.6 | W6: 赵云川 | X6: 3.6 | Y6: 张翠莲 | Z6: 3.6 | AA6: 杨艳 | AB6: 3.6 | AC6: 金明龙 | AD6: 3.6 | AE6: 邓倩 | AF6: 3.6 | AG6: 周菊明 | AH6: 5.4 | AI6: 赵云川 | AJ6: 5.4 | AK6: 张翠莲 | AL6: 5.4 | AM6: 杨艳 | AN6: 5.4 | AO6: 熊治国 | AP6: 5.4 | AQ6: 邓倩 | AR6: 5.4 | BE6: 周菊明 | BF6: 9 | BG6: 赵云川 | BH6: 9 | BI6: 张翠莲 | BJ6: 9 | BK6: 纪春权 | BL6: 9 | BM6: 降初里 | BN6: 9 | BO6: 邓倩 | BP6: 9 | BQ6: 周菊明 | BR6: 9 | BS6: 赵云川 | BT6: 9 | BU6: 张翠莲 | BV6: 9 | BW6: 纪春权 | BX6: 9 | BY6: 降初里 | BZ6: 9 | CA6: 邓倩 | CB6: 9
A7: 罗宇潇 | B7: 51342220000126151X | C7: 文科 | D7: 本科 | E7: 345 | F7: 应届 | G7: 本科 | I7: 岳子琦 | J7: 3.6 | K7: 马俊 | L7: 3.6 | M7: 周凯 | N7: 3.6 | O7: 那士信 | P7: 3.6 | Q7: 金明龙 | R7: 3.6 | S7: 邓倩 | T7: 3.6 | U7: 岳子琦 | V7: 3.6 | W7: 马俊 | X7: 3.6 | Y7: 周凯 | Z7: 3.6 | AA7: 那士信 | AB7: 3.6 | AC7: 金明龙 | AD7: 3.6 | AE7: 胡柔殳 | AF7: 3.6 | AG7: 胡美华 | AH7: 5.4 | AI7: 马俊 | AJ7: 5.4 | AK7: 陈强 | AL7: 5.4 | AM7: 那士信 | AN7: 5.4 | AO7: 熊治国 | AP7: 5.4 | AQ7: 胡柔殳 | AR7: 5.4 | AS7: 岳子琦 | AT7: 5.4 | AU7: 马俊 | AV7: 5.4 | AW7: 陈强 | AX7: 5.4 | AY7: 吴文艺 | AZ7: 5.4 | BA7: 勾中文 | BB7: 5.4 | BC7: 胡柔殳 | BD7: 5.4 | BE7: 李正琪 | BF7: 9 | BG7: 马俊 | BH7: 9 | BI7: 汪睿 | BJ7: 9 | BK7: 吴文艺 | BL7: 9 | BM7: 降初里 | BN7: 9 | BO7: 胡柔殳 | BP7: 9 | BQ7: 李正琪 | BR7: 9 | BS7: 马俊 | BT7: 9 | BU7: 汪睿 | BV7: 9 | BW7: 吴文艺 | BX7: 9 | BY7: 降初里 | BZ7: 9 | CA7: 胡柔殳 | CB7: 9
A8: 次仁拥宗 | B8: 513422200208016220 | C8: 文科 | D8: 本科 | E8: 345 | F8: 应届 | G8: 本科 | I8: 周菊明 | J8: 3.6 | K8: 赵云川 | L8: 3.6 | M8: 张翠莲 | N8: 3.6 | O8: 杨艳 | P8: 3.6 | Q8: 潘润 | R8: 3.6 | S8: 胡柔殳 | T8: 3.6 | U8: 周菊明 | V8: 3.6 | W8: 赵云川 | X8: 3.6 | Y8: 张翠莲 | Z8: 3.6 | AA8: 杨艳 | AB8: 3.6 | AC8: 金明龙 | AD8: 3.6 | AE8: 邓倩 | AF8: 3.6 | AG8: 周菊明 | AH8: 5.4 | AI8: 赵云川 | AJ8: 5.4 | AK8: 张翠莲 | AL8: 5.4 | AM8: 杨艳 | AN8: 5.4 | AO8: 熊治国 | AP8: 5.4 | AQ8: 邓倩 | AR8: 5.4 | AS8: 周菊明 | AT8: 5.4 | AU8: 赵云川 | AV8: 5.4 | AW8: 张翠莲 | AX8: 5.4 | AY8: 纪春权 | AZ8: 5.4 | BA8: 勾中文 | BB8: 5.4 | BC8: 邓倩 | BD8: 5.4 | BQ8: 周菊明 | BR8: 9 | BS8: 赵云川 | BT8: 9 | BU8: 张翠莲 | BV8: 9 | BW8: 纪春权 | BX8: 9 | BY8: 降初里 | BZ8: 9 | CA8: 邓倩 | CB8: 9
A9: 巴桑吉米 | B9: 513422200303260010 | C9: 文科 | D9: 本科 | E9: 305 | F9: 应届 | G9: 本科 | I9: 周菊明 | J9: 3.6 | K9: 赵云川 | L9: 3.6 | M9: 张翠莲 | N9: 3.6 | O9: 那士信 | P9: 3.6 | Q9: 金明龙 | R9: 3.6 | S9: 邓倩 | T9: 3.6 | U9: 周菊明 | V9: 3.6 | W9: 赵云川 | X9: 3.6 | Y9: 张翠莲 | Z9: 3.6 | AA9: 杨艳 | AB9: 3.6 | AC9: 金明龙 | AD9: 3.6 | AE9: 邓倩 | AF9: 3.6 | AG9: 周菊明 | AH9: 5.4 | AI9: 赵云川 | AJ9: 5.4 | AK9: 张翠莲 | AL9: 5.4 | AM9: 杨艳 | AN9: 5.4 | AO9: 熊治国 | AP9: 5.4 | AQ9: 邓倩 | AR9: 5.4 | BQ9: 周菊明 | BR9: 9 | BS9: 赵云川 | BT9: 9 | BU9: 张翠莲 | BV9: 9 | BW9: 纪春权 | BX9: 9 | BY9: 降初里 | BZ9: 9 | CA9: 邓倩 | CB9: 9
B13: 姓名 | C13: 得分 | F13: 此列为汇总 | G13: 艺体教师
B14: 曾佳瑶 | C14: =SUMIF($I$2:$CA$11,B14,$J$2:$CB$11) -> 36 | F14: 行标签 | G14: 求和项:得分
B15: 陈立娇 | C15: =SUMIF($I$2:$CA$11,B15,$J$2:$CB$11) -> 25.2 | F15: 郭禧唐 | G15: 72
B16: 陈强 | C16: =SUMIF($I$2:$CA$11,B16,$J$2:$CB$11) -> 10.8 | F16: 鲁绒旦友 | G16: 144
B17: 邓国华 | C17: =SUMIF($I$2:$CA$11,B17,$J$2:$CB$11) -> 18 | F17: 周时德 | G17: 36
B18: 邓倩 | C18: =SUMIF($I$2:$CA$11,B18,$J$2:$CB$11) -> 108 | F18: 总计 | G18: 252
B19: 勾中文 | C19: =SUMIF($I$2:$CA$11,B19,$J$2:$CB$11) -> 16.2
B20: 胡美华 | C20: =SUMIF($I$2:$CA$11,B20,$J$2:$CB$11) -> 5.4
B21: 胡柔殳 | C21: =SUMIF($I$2:$CA$11,B21,$J$2:$CB$11) -> 36
B22: 纪春权 | C22: =SUMIF($I$2:$CA$11,B22,$J$2:$CB$11) -> 64.8 | F22: vlookup
B23: 降初里 | C23: =SUMIF($I$2:$CA$11,B23,$J$2:$CB$11) -> 72 | F23: 曾佳瑶 | G23: =VLOOKUP(F23,B$13:C$43,2,FALSE) -> 36 | H23: 36
B24: 金明龙 | C24: =SUMIF($I$2:$CA$11,B24,$J$2:$CB$11) -> 25.2 | F24: 陈强 | G24: =VLOOKUP(F24,B$13:C$43,2,FALSE) -> 10.8 | H24: 10.8
B25: 金勇 | C25: =SUMIF($I$2:$CA$11,B25,$J$2:$CB$11) -> 7.2 | F25: 邓国华 | G25: =VLOOKUP(F25,B$13:C$43,2,FALSE) -> 18 | H25: 18
B26: 雷敏 | C26: =SUMIF($I$2:$CA$11,B26,$J$2:$CB$11) -> 7.2 | F26: 邓倩 | G26: =VLOOKUP(F26,B$13:C$43,2,FALSE) -> 108 | H26: 108
B27: 李黎明 | C27: =SUMIF($I$2:$CA$11,B27,$J$2:$CB$11) -> 25.2 | F27: 格绒燚西 | G27: =VLOOKUP(F27,B$13:C$43,2,FALSE) -> #N/A
B28: 李正琪 | C28: =SUMIF($I$2:$CA$11,B28,$J$2:$CB$11) -> 18 | F28: 勾中文 | G28: =VLOOKUP(F28,B$13:C$43,2,FALSE) -> 16.2 | H28: 16.2
B29: 马俊 | C29: =SUMIF($I$2:$CA$11,B29,$J$2:$CB$11) -> 36 | F29: 辜英琼 | G29: =VLOOKUP(F29,B$13:C$43,2,FALSE) -> #N/A
B30: 那士信 | C30: =SUMIF($I$2:$CA$11,B30,$J$2:$CB$11) -> 19.8 | F30: 胡美华 | G30: =VLOOKUP(F30,B$13:C$43,2,FALSE) -> 5.4 | H30: 5.4
B31: 潘润 | C31: =SUMIF($I$2:$CA$11,B31,$J$2:$CB$11) -> 3.6 | F31: 胡柔殳 | G31: =VLOOKUP(F31,B$13:C$43,2,FALSE) -> 36 | H31: 36
B32: 彭桦 | C32: =SUMIF($I$2:$CA$11,B32,$J$2:$CB$11) -> 36 | F32: 纪春权 | G32: =VLOOKUP(F32,B$13:C$43,2,FALSE) -> 64.8 | H32: 64.8
B33: 万饶 | C33: =SUMIF($I$2:$CA$11,B33,$J$2:$CB$11) -> 43.2 | F33: 降初里 | G33: =VLOOKUP(F33,B$13:C$43,2,FALSE) -> 72 | H33: 72
B34: 汪睿 | C34: =SUMIF($I$2:$CA$11,B34,$J$2:$CB$11) -> 18 | F34: 金明龙 | G34: =VLOOKUP(F34,B$13:C$43,2,FALSE) -> 25.2 | H34: 25.2
B35: 王友春 | C35: =SUMIF($I$2:$CA$11,B35,$J$2:$CB$11) -> 43.2 | F35: 拉初 | G35: =VLOOKUP(F35,B$13:C$43,2,FALSE) -> #N/A
B36: 吴文艺 | C36: =SUMIF($I$2:$CA$11,B36,$J$2:$CB$11) -> 23.4 | F36: 兰卡布尺 | G36: =VLOOKUP(F36,B$13:C$43,2,FALSE) -> #N/A
B37: 熊治国 | C37: =SUMIF($I$2:$CA$11,B37,$J$2:$CB$11) -> 27 | F37: 李黎明 | G37: =VLOOKUP(F37,B$13:C$43,2,FALSE) -> 25.2 | H37: 25.2
B38: 杨艳 | C38: =SUMIF($I$2:$CA$11,B38,$J$2:$CB$11) -> 36 | F38: 李荣鑫 | G38: =VLOOKUP(F38,B$13:C$43,2,FALSE) -> #N/A
B39: 岳子琦 | C39: =SUMIF($I$2:$CA$11,B39,$J$2:$CB$11) -> 30.6 | F39: 李正琪 | G39: =VLOOKUP(F39,B$13:C$43,2,FALSE) -> 18 | H39: 18
B40: 张翠莲 | C40: =SUMIF($I$2:$CA$11,B40,$J$2:$CB$11) -> 108 | F40: 刘壑 | G40: =VLOOKUP(F40,B$13:C$43,2,FALSE) -> #N/A
B41: 赵云川 | C41: =SUMIF($I$2:$CA$11,B41,$J$2:$CB$11) -> 108 | F41: 马俊 | G41: =VLOOKUP(F41,B$13:C$43,2,FALSE) -> 36 | H41: 36
B42: 周菊明 | C42: =SUMIF($I$2:$CA$11,B42,$J$2:$CB$11) -> 108 | F42: 马巫各 | G42: =VLOOKUP(F42,B$13:C$43,2,FALSE) -> #N/A
B43: 周凯 | C43: =SUMIF($I$2:$CA$11,B43,$J$2:$CB$11) -> 7.2 | F43: 那士信 | G43: =VLOOKUP(F43,B$13:C$43,2,FALSE) -> 19.8 | H43: 19.8
C44: =SUM(C14:C43) -> 1123.2 | F44: 潘润 | G44: =VLOOKUP(F44,B$13:C$43,2,FALSE) -> 3.6 | H44: 3.6
F45: 潘勇 | G45: =VLOOKUP(F45,B$13:C$43,2,FALSE) -> #N/A
F46: 彭丹 | G46: =VLOOKUP(F46,B$13:C$43,2,FALSE) -> #N/A
F47: 彭桦 | G47: =VLOOKUP(F47,B$13:C$43,2,FALSE) -> 36 | H47: 36
F48: 沈志霞 | G48: =VLOOKUP(F48,B$13:C$43,2,FALSE) -> #N/A
F49: 宋欣洲 | G49: =VLOOKUP(F49,B$13:C$43,2,FALSE) -> #N/A
F50: 万饶 | G50: =VLOOKUP(F50,B$13:C$43,2,FALSE) -> 43.2 | H50: 43.2
F51: 汪睿 | G51: =VLOOKUP(F51,B$13:C$43,2,FALSE) -> 18 | H51: 18
F52: 王春波 | G52: =VLOOKUP(F52,B$13:C$43,2,FALSE) -> #N/A
F53: 王江 | G53: =VLOOKUP(F53,B$13:C$43,2,FALSE) -> #N/A
F54: 王图雄 | G54: =VLOOKUP(F54,B$13:C$43,2,FALSE) -> #N/A
F55: 王友春 | G55: =VLOOKUP(F55,B$13:C$43,2,FALSE) -> 43.2 | H55: 43.2
F56: 吴文艺 | G56: =VLOOKUP(F56,B$13:C$43,2,FALSE) -> 23.4 | H56: 23.4
F57: 夏宇 | G57: =VLOOKUP(F57,B$13:C$43,2,FALSE) -> #N/A
F58: 肖锐 | G58: =VLOOKUP(F58,B$13:C$43,2,FALSE) -> #N/A
F59: 肖霞 | G59: =VLOOKUP(F59,B$13:C$43,2,FALSE) -> #N/A
F60: 熊治国 | G60: =VLOOKUP(F60,B$13:C$43,2,FALSE) -> 27 | H60: 27
F61: 央宗娜姆 | G61: =VLOOKUP(F61,B$13:C$43,2,FALSE) -> #N/A
F62: 杨琴 | G62: =VLOOKUP(F62,B$13:C$43,2,FALSE) -> #N/A
F63: 杨艳 | G63: =VLOOKUP(F63,B$13:C$43,2,FALSE) -> 36 | H63: 36
F64: 叶小军 | G64: =VLOOKUP(F64,B$13:C$43,2,FALSE) -> #N/A
F65: 易涛 | G65: =VLOOKUP(F65,B$13:C$43,2,FALSE) -> #N/A
F66: 岳子琦 | G66: =VLOOKUP(F66,B$13:C$43,2,FALSE) -> 30.6 | H66: 30.6
F67: 张翠莲 | G67: =VLOOKUP(F67,B$13:C$43,2,FALSE) -> 108 | H67: 108
F68: 张弘 | G68: =VLOOKUP(F68,B$13:C$43,2,FALSE) -> #N/A
F69: 赵建超 | G69: =VLOOKUP(F69,B$13:C$43,2,FALSE) -> #N/A
F70: 赵云川 | G70: =VLOOKUP(F70,B$13:C$43,2,FALSE) -> 108 | H70: 108
F71: 周菊明 | G71: =VLOOKUP(F71,B$13:C$43,2,FALSE) -> 108 | H71: 108
F72: 周凯 | G72: =VLOOKUP(F72,B$13:C$43,2,FALSE) -> 7.2 | H72: 7.2
F73: 周强 | G73: =VLOOKUP(F73,B$13:C$43,2,FALSE) -> #N/A
F74: 陈立娇 | G74: =VLOOKUP(F74,B$13:C$43,2,FALSE) -> 25.2 | H74: 25.2
F75: 金勇 | G75: =VLOOKUP(F75,B$13:C$43,2,FALSE) -> 7.2 | H75: 7.2
F76: 雷敏 | G76: =VLOOKUP(F76,B$13:C$43,2,FALSE) -> 7.2 | H76: 7.2
