Workbook
Name 班主任: #REF!,#REF!,#REF!,#REF!,#REF!,#REF!
Name 单双上线: #REF!
Name 高2016级质量奖: #REF!
Name 高2017级质量奖: #REF!
Name 高2018级质量奖: #REF!
Name 过程评价奖: '2.gk_过程评价'!$A$1:$C$62
Name 基本奖: '1.gk_工作量'!$B$4:$M$71
Name 文化贡献奖: #REF!
Name 学生教师总表: #REF!
Name 总分上线: #REF!

Sheet 汇总
A1: 校长审签：
A2: 分导审签：
A3: 经办人：
A4: 木里中学（高中部）2022-2023学年度教学质量奖公示
A5: 序号 | B5: 姓名 | C5: 各年级学科质量奖和学科质量进步奖 | G5: 高考质量奖 | N5: 合计/元 | O5: 实发/元 | P5: 备注
C6: 高一 | D6: 高二 | E6: 高三 | F6: 小计1/元 | G6: 工作量 (30%) | H6: 文化质量奖(70%) | K6: 艺体质量奖(70%) | L6: 年级管理奖 | M6: 小计2/元
H7: 过程评价奖(30%) | I7: 上线质量奖(40%)
I8: 总分上线质量奖(60%) | J8: 单双上线质量奖(40%)
A9: 1 | B9: 曹霞 | C9: =IF(SUMIF(高一质量奖!A:A,B9,高一质量奖!B:B)>0,SUMIF(高一质量奖!A:A,B9,高一质量奖!B:B),"") | D9: =IF(SUMIF(高二质量和进步奖!A:A,B9,高二质量和进步奖!D:D)>0,SUMIF(高二质量和进步奖!A:A,B9,高二质量和进步奖!D:D),"") | E9: =IF(SUMIF(高三质量奖!A:A,B9,高三质量奖!C:C)>0,SUMIF(高三质量奖!A:A,B9,高三质量奖!C:C),"") -> 4746.3785 | F9: =SUM(C9:E9) -> 4746.3785 | G9: =IF(SUMIFS('1.gk_工作量'!$M$4:$M$76,'1.gk_工作量'!$B$4:$B$76,B9)>0,SUMIFS('1.gk_工作量'!$M$4:$M$76,'1.gk_工作量'!$B$4:$B$76,B9),"") -> 5869.1473 | H9: =IF(SUMIFS('2.gk_过程评价'!$C:$C,'2.gk_过程评价'!$A:$A,B9)>0,SUMIFS('2.gk_过程评价'!$C:$C,'2.gk_过程评价'!$A:$A,B9),"") -> 3420.0257 | I9: =IF(SUMIF('3.gk_上线质量'!B:B,B9,'3.gk_上线质量'!D:D)<>0,SUMIF('3.gk_上线质量'!B:B,B9,'3.gk_上线质量'!D:D),"") -> 1375.5337 | J9: =IF(SUMIFS('3.gk_上线质量'!$F$3:$F$62,'3.gk_上线质量'!$B$3:$B$62,B9)<>0,SUMIFS('3.gk_上线质量'!$F$3:$F$62,'3.gk_上线质量'!$B$3:$B$62,B9),"") -> 1248.2927 | K9: =IF(SUMIFS('4.gk_艺体质量'!$F$4:$F$53,'4.gk_艺体质量'!$A$4:$A$53,B9)>0,SUMIFS('4.gk_艺体质量'!$F$4:$F$53,'4.gk_艺体质量'!$A$4:$A$53,B9),"") -> 4988.4603 | L9: =IF(SUMIF('6.gk_年级管理'!A:A,B9,'6.gk_年级管理'!B:B)>0,SUMIF('6.gk_年级管理'!A:A,B9,'6.gk_年级管理'!B:B),"") | M9: =SUM(G9:L9) -> 16901.46 | N9: =F9+M9 -> 21647.838 | O9: =IF(P9="辞职发0.3",N9*0.3,N9) -> 21647.838 | P9: 攀枝花援藏
A10: 2 | B10: 曹云萍 | C10: =IF(SUMIF(高一质量奖!A:A,B10,高一质量奖!B:B)>0,SUMIF(高一质量奖!A:A,B10,高一质量奖!B:B),"") -> 7695.0116 | D10: =IF(SUMIF(高二质量和进步奖!A:A,B10,高二质量和进步奖!D:D)>0,SUMIF(高二质量和进步奖!A:A,B10,高二质量和进步奖!D:D),"") | E10: =IF(SUMIF(高三质量奖!A:A,B10,高三质量奖!C:C)>0,SUMIF(高三质量奖!A:A,B10,高三质量奖!C:C),"") | F10: =SUM(C10:E10) -> 7695.0116 | G10: =IF(SUMIFS('1.gk_工作量'!$M$4:$M$76,'1.gk_工作量'!$B$4:$B$76,B10)>0,SUMIFS('1.gk_工作量'!$M$4:$M$76,'1.gk_工作量'!$B$4:$B$76,B10),"") | H10: =IF(SUMIFS('2.gk_过程评价'!$C:$C,'2.gk_过程评价'!$A:$A,B10)>0,SUMIFS('2.gk_过程评价'!$C:$C,'2.gk_过程评价'!$A:$A,B10),"") | I10: =IF(SUMIF('3.gk_上线质量'!B:B,B10,'3.gk_上线质量'!D:D)<>0,SUMIF('3.gk_上线质量'!B:B,B10,'3.gk_上线质量'!D:D),"") | J10: =IF(SUMIFS('3.gk_上线质量'!$F$3:$F$62,'3.gk_上线质量'!$B$3:$B$62,B10)<>0,SUMIFS('3.gk_上线质量'!$F$3:$F$62,'3.gk_上线质量'!$B$3:$B$62,B10),"") | K10: =IF(SUMIFS('4.gk_艺体质量'!$F$4:$F$53,'4.gk_艺体质量'!$A$4:$A$53,B10)>0,SUMIFS('4.gk_艺体质量'!$F$4:$F$53,'4.gk_艺体质量'!$A$4:$A$53,B10),"") | L10: =IF(SUMIF('6.gk_年级管理'!A:A,B10,'6.gk_年级管理'!B:B)>0,SUMIF('6.gk_年级管理'!A:A,B10,'6.gk_年级管理'!B:B),"") | M10: =SUM(G10:L10) -> 0 | N10: =F10+M10 -> 7695.0116 | O10: =IF(P10="辞职发0.3",N10*0.3,N10) -> 7695.0116
A11: 3 | B11: 车梦德 | C11: =IF(SUMIF(高一质量奖!A:A,B11,高一质量奖!B:B)>0,SUMIF(高一质量奖!A:A,B11,高一质量奖!B:B),"") | D11: =IF(SUMIF(高二质量和进步奖!A:A,B11,高二质量和进步奖!D:D)>0,SUMIF(高二质量和进步奖!A:A,B11,高二质量和进步奖!D:D),"") -> 8948.5352 | E11: =IF(SUMIF(高三质量奖!A:A,B11,高三质量奖!C:C)>0,SUMIF(高三质量奖!A:A,B11,高三质量奖!C:C),"") | F11: =SUM(C11:E11) -> 8948.5352 | G11: =IF(SUMIFS('1.gk_工作量'!$M$4:$M$76,'1.gk_工作量'!$B$4:$B$76,B11)>0,SUMIFS('1.gk_工作量'!$M$4:$M$76,'1.gk_工作量'!$B$4:$B$76,B11),"") | H11: =IF(SUMIFS('2.gk_过程评价'!$C:$C,'2.gk_过程评价'!$A:$A,B11)>0,SUMIFS('2.gk_过程评价'!$C:$C,'2.gk_过程评价'!$A:$A,B11),"") | I11: =IF(SUMIF('3.gk_上线质量'!B:B,B11,'3.gk_上线质量'!D:D)<>0,SUMIF('3.gk_上线质量'!B:B,B11,'3.gk_上线质量'!D:D),"") | J11: =IF(SUMIFS('3.gk_上线质量'!$F$3:$F$62,'3.gk_上线质量'!$B$3:$B$62,B11)<>0,SUMIFS('3.gk_上线质量'!$F$3:$F$62,'3.gk_上线质量'!$B$3:$B$62,B11),"") | K11: =IF(SUMIFS('4.gk_艺体质量'!$F$4:$F$53,'4.gk_艺体质量'!$A$4:$A$53,B11)>0,SUMIFS('4.gk_艺体质量'!$F$4:$F$53,'4.gk_艺体质量'!$A$4:$A$53,B11),"") | L11: =IF(SUMIF('6.gk_年级管理'!A:A,B11,'6.gk_年级管理'!B:B)>0,SUMIF('6.gk_年级管理'!A:A,B11,'6.gk_年级管理'!B:B),"") | M11: =SUM(G11:L11) -> 0 | N11: =F11+M11 -> 8948.5352 | O11: =IF(P11="辞职发0.3",N11*0.3,N11) -> 8948.5352
A12: 4 | B12: 陈光汇 | C12: =IF(SUMIF(高一质量奖!A:A,B12,高一质量奖!B:B)>0,SUMIF(高一质量奖!A:A,B12,高一质量奖!B:B),"") -> 3968.8524 | D12: =IF(SUMIF(高二质量和进步奖!A:A,B12,高二质量和进步奖!D:D)>0,SUMIF(高二质量和进步奖!A:A,B12,高二质量和进步奖!D:D),"") | E12: =IF(SUMIF(高三质量奖!A:A,B12,高三质量奖!C:C)>0,SUMIF(高三质量奖!A:A,B12,高三质量奖!C:C),"") | F12: =SUM(C12:E12) -> 3968.8524 | G12: =IF(SUMIFS('1.gk_工作量'!$M$4:$M$76,'1.gk_工作量'!$B$4:$B$76,B12)>0,SUMIFS('1.gk_工作量'!$M$4:$M$76,'1.gk_工作量'!$B$4:$B$76,B12),"") | H12: =IF(SUMIFS('2.gk_过程评价'!$C:$C,'2.gk_过程评价'!$A:$A,B12)>0,SUMIFS('2.gk_过程评价'!$C:$C,'2.gk_过程评价'!$A:$A,B12),"") | I12: =IF(SUMIF('3.gk_上线质量'!B:B,B12,'3.gk_上线质量'!D:D)<>0,SUMIF('3.gk_上线质量'!B:B,B12,'3.gk_上线质量'!D:D),"") | J12: =IF(SUMIFS('3.gk_上线质量'!$F$3:$F$62,'3.gk_上线质量'!$B$3:$B$62,B12)<>0,SUMIFS('3.gk_上线质量'!$F$3:$F$62,'3.gk_上线质量'!$B$3:$B$62,B12),"") | K12: =IF(SUMIFS('4.gk_艺体质量'!$F$4:$F$53,'4.gk_艺体质量'!$A$4:$A$53,B12)>0,SUMIFS('4.gk_艺体质量'!$F$4:$F$53,'4.gk_艺体质量'!$A$4:$A$53,B12),"") | L12: =IF(SUMIF('6.gk_年级管理'!A:A,B12,'6.gk_年级管理'!B:B)>0,SUMIF('6.gk_年级管理'!A:A,B12,'6.gk_年级管理'!B:B),"") | M12: =SUM(G12:L12) -> 0 | N12: =F12+M12 -> 3968.8524 | O12: =IF(P12="辞职发0.3",N12*0.3,N12) -> 3968.8524
A13: 5 | B13: 陈国萍 | C13: =IF(SUMIF(高一质量奖!A:A,B13,高一质量奖!B:B)>0,SUMIF(高一质量奖!A:A,B13,高一质量奖!B:B),"") | D13: =IF(SUMIF(高二质量和进步奖!A:A,B13,高二质量和进步奖!D:D)>0,SUMIF(高二质量和进步奖!A:A,B13,高二质量和进步奖!D:D),"") | E13: =IF(SUMIF(高三质量奖!A:A,B13,高三质量奖!C:C)>0,SUMIF(高三质量奖!A:A,B13,高三质量奖!C:C),"") | F13: =SUM(C13:E13) -> 0 | G13: =IF(SUMIFS('1.gk_工作量'!$M$4:$M$76,'1.gk_工作量'!$B$4:$B$76,B13)>0,SUMIFS('1.gk_工作量'!$M$4:$M$76,'1.gk_工作量'!$B$4:$B$76,B13),"") | H13: =IF(SUMIFS('2.gk_过程评价'!$C:$C,'2.gk_过程评价'!$A:$A,B13)>0,SUMIFS('2.gk_过程评价'!$C:$C,'2.gk_过程评价'!$A:$A,B13),"") | I13: =IF(SUMIF('3.gk_上线质量'!B:B,B13,'3.gk_上线质量'!D:D)<>0,SUMIF('3.gk_上线质量'!B:B,B13,'3.gk_上线质量'!D:D),"") | J13: =IF(SUMIFS('3.gk_上线质量'!$F$3:$F$62,'3.gk_上线质量'!$B$3:$B$62,B13)<>0,SUMIFS('3.gk_上线质量'!$F$3:$F$62,'3.gk_上线质量'!$B$3:$B$62,B13),"") | K13: =IF(SUMIFS('4.gk_艺体质量'!$F$4:$F$53,'4.gk_艺体质量'!$A$4:$A$53,B13)>0,SUMIFS('4.gk_艺体质量'!$F$4:$F$53,'4.gk_艺体质量'!$A$4:$A$53,B13),"") | L13: =IF(SUMIF('6.gk_年级管理'!A:A,B13,'6.gk_年级管理'!B:B)>0,SUMIF('6.gk_年级管理'!A:A,B13,'6.gk_年级管理'!B:B),"") | M13: =SUM(G13:L13) -> 0 | N13: =F13+M13 -> 0 | O13: 2000 | P13: 补足2000
A14: 6 | B14: 陈虎林 | C14: =IF(SUMIF(高一质量奖!A:A,B14,高一质量奖!B:B)>0,SUMIF(高一质量奖!A:A,B14,高一质量奖!B:B),"") -> 5577.3144 | D14: =IF(SUMIF(高二质量和进步奖!A:A,B14,高二质量和进步奖!D:D)>0,SUMIF(高二质量和进步奖!A:A,B14,高二质量和进步奖!D:D),"") -> 6155.0685 | E14: =IF(SUMIF(高三质量奖!A:A,B14,高三质量奖!C:C)>0,SUMIF(高三质量奖!A:A,B14,高三质量奖!C:C),"") | F14: =SUM(C14:E14) -> 11732.383 | G14: =IF(SUMIFS('1.gk_工作量'!$M$4:$M$76,'1.gk_工作量'!$B$4:$B$76,B14)>0,SUMIFS('1.gk_工作量'!$M$4:$M$76,'1.gk_工作量'!$B$4:$B$76,B14),"") | H14: =IF(SUMIFS('2.gk_过程评价'!$C:$C,'2.gk_过程评价'!$A:$A,B14)>0,SUMIFS('2.gk_过程评价'!$C:$C,'2.gk_过程评价'!$A:$A,B14),"") | I14: =IF(SUMIF('3.gk_上线质量'!B:B,B14,'3.gk_上线质量'!D:D)<>0,SUMIF('3.gk_上线质量'!B:B,B14,'3.gk_上线质量'!D:D),"") | J14: =IF(SUMIFS('3.gk_上线质量'!$F$3:$F$62,'3.gk_上线质量'!$B$3:$B$62,B14)<>0,SUMIFS('3.gk_上线质量'!$F$3:$F$62,'3.gk_上线质量'!$B$3:$B$62,B14),"") | K14: =IF(SUMIFS('4.gk_艺体质量'!$F$4:$F$53,'4.gk_艺体质量'!$A$4:$A$53,B14)>0,SUMIFS('4.gk_艺体质量'!$F$4:$F$53,'4.gk_艺体质量'!$A$4:$A$53,B14),"") | L14: =IF(SUMIF('6.gk_年级管理'!A:A,B14,'6.gk_年级管理'!B:B)>0,SUMIF('6.gk_年级管理'!A:A,B14,'6.gk_年级管理'!B:B),"") | M14: =SUM(G14:L14) -> 0 | N14: =F14+M14 -> 11732.383 | O14: =IF(P14="辞职发0.3",N14*0.3,N14) -> 11732.383
A15: 7 | B15: 陈强 | C15: =IF(SUMIF(高一质量奖!A:A,B15,高一质量奖!B:B)>0,SUMIF(高一质量奖!A:A,B15,高一质量奖!B:B),"") | D15: =IF(SUMIF(高二质量和进步奖!A:A,B15,高二质量和进步奖!D:D)>0,SUMIF(高二质量和进步奖!A:A,B15,高二质量和进步奖!D:D),"") -> 10614.687 | E15: =IF(SUMIF(高三质量奖!A:A,B15,高三质量奖!C:C)>0,SUMIF(高三质量奖!A:A,B15,高三质量奖!C:C),"") | F15: =SUM(C15:E15) -> 10614.687 | G15: =IF(SUMIFS('1.gk_工作量'!$M$4:$M$76,'1.gk_工作量'!$B$4:$B$76,B15)>0,SUMIFS('1.gk_工作量'!$M$4:$M$76,'1.gk_工作量'!$B$4:$B$76,B15),"") | H15: =IF(SUMIFS('2.gk_过程评价'!$C:$C,'2.gk_过程评价'!$A:$A,B15)>0,SUMIFS('2.gk_过程评价'!$C:$C,'2.gk_过程评价'!$A:$A,B15),"") | I15: =IF(SUMIF('3.gk_上线质量'!B:B,B15,'3.gk_上线质量'!D:D)<>0,SUMIF('3.gk_上线质量'!B:B,B15,'3.gk_上线质量'!D:D),"") | J15: =IF(SUMIFS('3.gk_上线质量'!$F$3:$F$62,'3.gk_上线质量'!$B$3:$B$62,B15)<>0,SUMIFS('3.gk_上线质量'!$F$3:$F$62,'3.gk_上线质量'!$B$3:$B$62,B15),"") | K15: =IF(SUMIFS('4.gk_艺体质量'!$F$4:$F$53,'4.gk_艺体质量'!$A$4:$A$53,B15)>0,SUMIFS('4.gk_艺体质量'!$F$4:$F$53,'4.gk_艺体质量'!$A$4:$A$53,B15),"") | L15: =IF(SUMIF('6.gk_年级管理'!A:A,B15,'6.gk_年级管理'!B:B)>0,SUMIF('6.gk_年级管理'!A:A,B15,'6.gk_年级管理'!B:B),"") | M15: =SUM(G15:L15) -> 0 | N15: =F15+M15 -> 10614.687 | O15: =IF(P15="辞职发0.3",N15*0.3,N15) -> 3184.4061 | P15: 辞职发0.3
A16: 8 | B16: 陈文惠 | C16: =IF(SUMIF(高一质量奖!A:A,B16,高一质量奖!B:B)>0,SUMIF(高一质量奖!A:A,B16,高一质量奖!B:B),"") | D16: =IF(SUMIF(高二质量和进步奖!A:A,B16,高二质量和进步奖!D:D)>0,SUMIF(高二质量和进步奖!A:A,B16,高二质量和进步奖!D:D),"") | E16: =IF(SUMIF(高三质量奖!A:A,B16,高三质量奖!C:C)>0,SUMIF(高三质量奖!A:A,B16,高三质量奖!C:C),"") | F16: =SUM(C16:E16) -> 0 | G16: =IF(SUMIFS('1.gk_工作量'!$M$4:$M$76,'1.gk_工作量'!$B$4:$B$76,B16)>0,SUMIFS('1.gk_工作量'!$M$4:$M$76,'1.gk_工作量'!$B$4:$B$76,B16),"") -> 9475.3679 | H16: =IF(SUMIFS('2.gk_过程评价'!$C:$C,'2.gk_过程评价'!$A:$A,B16)>0,SUMIFS('2.gk_过程评价'!$C:$C,'2.gk_过程评价'!$A:$A,B16),"") -> 10470.527 | I16: =IF(SUMIF('3.gk_上线质量'!B:B,B16,'3.gk_上线质量'!D:D)<>0,SUMIF('3.gk_上线质量'!B:B,B16,'3.gk_上线质量'!D:D),"") -> 10499.907 | J16: =IF(SUMIFS('3.gk_上线质量'!$F$3:$F$62,'3.gk_上线质量'!$B$3:$B$62,B16)<>0,SUMIFS('3.gk_上线质量'!$F$3:$F$62,'3.gk_上线质量'!$B$3:$B$62,B16),"") -> 7097.4355 | K16: =IF(SUMIFS('4.gk_艺体质量'!$F$4:$F$53,'4.gk_艺体质量'!$A$4:$A$53,B16)>0,SUMIFS('4.gk_艺体质量'!$F$4:$F$53,'4.gk_艺体质量'!$A$4:$A$53,B16),"") | L16: =IF(SUMIF('6.gk_年级管理'!A:A,B16,'6.gk_年级管理'!B:B)>0,SUMIF('6.gk_年级管理'!A:A,B16,'6.gk_年级管理'!B:B),"") | M16: =SUM(G16:L16) -> 37543.238 | N16: =F16+M16 -> 37543.238 | O16: =IF(P16="辞职发0.3",N16*0.3,N16) -> 37543.238
A17: 9 | B17: 程长寿 | C17: =IF(SUMIF(高一质量奖!A:A,B17,高一质量奖!B:B)>0,SUMIF(高一质量奖!A:A,B17,高一质量奖!B:B),"") | D17: =IF(SUMIF(高二质量和进步奖!A:A,B17,高二质量和进步奖!D:D)>0,SUMIF(高二质量和进步奖!A:A,B17,高二质量和进步奖!D:D),"") | E17: =IF(SUMIF(高三质量奖!A:A,B17,高三质量奖!C:C)>0,SUMIF(高三质量奖!A:A,B17,高三质量奖!C:C),"") -> 2384 | F17: =SUM(C17:E17) -> 2384 | G17: =IF(SUMIFS('1.gk_工作量'!$M$4:$M$76,'1.gk_工作量'!$B$4:$B$76,B17)>0,SUMIFS('1.gk_工作量'!$M$4:$M$76,'1.gk_工作量'!$B$4:$B$76,B17),"") -> 12449.424 | H17: =IF(SUMIFS('2.gk_过程评价'!$C:$C,'2.gk_过程评价'!$A:$A,B17)>0,SUMIFS('2.gk_过程评价'!$C:$C,'2.gk_过程评价'!$A:$A,B17),"") -> 10581.681 | I17: =IF(SUMIF('3.gk_上线质量'!B:B,B17,'3.gk_上线质量'!D:D)<>0,SUMIF('3.gk_上线质量'!B:B,B17,'3.gk_上线质量'!D:D),"") -> 22060.504 | J17: =IF(SUMIFS('3.gk_上线质量'!$F$3:$F$62,'3.gk_上线质量'!$B$3:$B$62,B17)<>0,SUMIFS('3.gk_上线质量'!$F$3:$F$62,'3.gk_上线质量'!$B$3:$B$62,B17),"") -> 14801.185 | K17: =IF(SUMIFS('4.gk_艺体质量'!$F$4:$F$53,'4.gk_艺体质量'!$A$4:$A$53,B17)>0,SUMIFS('4.gk_艺体质量'!$F$4:$F$53,'4.gk_艺体质量'!$A$4:$A$53,B17),"") | L17: =IF(SUMIF('6.gk_年级管理'!A:A,B17,'6.gk_年级管理'!B:B)>0,SUMIF('6.gk_年级管理'!A:A,B17,'6.gk_年级管理'!B:B),"") | M17: =SUM(G17:L17) -> 59892.793 | N17: =F17+M17 -> 62276.793 | O17: =IF(P17="辞职发0.3",N17*0.3,N17) -> 62276.793
A18: 10 | B18: 次儿祝玛 | C18: =IF(SUMIF(高一质量奖!A:A,B18,高一质量奖!B:B)>0,SUMIF(高一质量奖!A:A,B18,高一质量奖!B:B),"") | D18: =IF(SUMIF(高二质量和进步奖!A:A,B18,高二质量和进步奖!D:D)>0,SUMIF(高二质量和进步奖!A:A,B18,高二质量和进步奖!D:D),"") -> 15657.446 | E18: =IF(SUMIF(高三质量奖!A:A,B18,高三质量奖!C:C)>0,SUMIF(高三质量奖!A:A,B18,高三质量奖!C:C),"") | F18: =SUM(C18:E18) -> 15657.446 | G18: =IF(SUMIFS('1.gk_工作量'!$M$4:$M$76,'1.gk_工作量'!$B$4:$B$76,B18)>0,SUMIFS('1.gk_工作量'!$M$4:$M$76,'1.gk_工作量'!$B$4:$B$76,B18),"") | H18: =IF(SUMIFS('2.gk_过程评价'!$C:$C,'2.gk_过程评价'!$A:$A,B18)>0,SUMIFS('2.gk_过程评价'!$C:$C,'2.gk_过程评价'!$A:$A,B18),"") | I18: =IF(SUMIF('3.gk_上线质量'!B:B,B18,'3.gk_上线质量'!D:D)<>0,SUMIF('3.gk_上线质量'!B:B,B18,'3.gk_上线质量'!D:D),"") | J18: =IF(SUMIFS('3.gk_上线质量'!$F$3:$F$62,'3.gk_上线质量'!$B$3:$B$62,B18)<>0,SUMIFS('3.gk_上线质量'!$F$3:$F$62,'3.gk_上线质量'!$B$3:$B$62,B18),"") | K18: =IF(SUMIFS('4.gk_艺体质量'!$F$4:$F$53,'4.gk_艺体质量'!$A$4:$A$53,B18)>0,SUMIFS('4.gk_艺体质量'!$F$4:$F$53,'4.gk_艺体质量'!$A$4:$A$53,B18),"") | L18: =IF(SUMIF('6.gk_年级管理'!A:A,B18,'6.gk_年级管理'!B:B)>0,SUMIF('6.gk_年级管理'!A:A,B18,'6.gk_年级管理'!B:B),"") | M18: =SUM(G18:L18) -> 0 | N18: =F18+M18 -> 15657.446 | O18: =IF(P18="辞职发0.3",N18*0.3,N18) -> 15657.446
A19: 11 | B19: 崔萌 | C19: =IF(SUMIF(高一质量奖!A:A,B19,高一质量奖!B:B)>0,SUMIF(高一质量奖!A:A,B19,高一质量奖!B:B),"") | D19: =IF(SUMIF(高二质量和进步奖!A:A,B19,高二质量和进步奖!D:D)>0,SUMIF(高二质量和进步奖!A:A,B19,高二质量和进步奖!D:D),"") | E19: =IF(SUMIF(高三质量奖!A:A,B19,高三质量奖!C:C)>0,SUMIF(高三质量奖!A:A,B19,高三质量奖!C:C),"") | F19: =SUM(C19:E19) -> 0 | G19: =IF(SUMIFS('1.gk_工作量'!$M$4:$M$76,'1.gk_工作量'!$B$4:$B$76,B19)>0,SUMIFS('1.gk_工作量'!$M$4:$M$76,'1.gk_工作量'!$B$4:$B$76,B19),"") | H19: =IF(SUMIFS('2.gk_过程评价'!$C:$C,'2.gk_过程评价'!$A:$A,B19)>0,SUMIFS('2.gk_过程评价'!$C:$C,'2.gk_过程评价'!$A:$A,B19),"") | I19: =IF(SUMIF('3.gk_上线质量'!B:B,B19,'3.gk_上线质量'!D:D)<>0,SUMIF('3.gk_上线质量'!B:B,B19,'3.gk_上线质量'!D:D),"") | J19: =IF(SUMIFS('3.gk_上线质量'!$F$3:$F$62,'3.gk_上线质量'!$B$3:$B$62,B19)<>0,SUMIFS('3.gk_上线质量'!$F$3:$F$62,'3.gk_上线质量'!$B$3:$B$62,B19),"") | K19: =IF(SUMIFS('4.gk_艺体质量'!$F$4:$F$53,'4.gk_艺体质量'!$A$4:$A$53,B19)>0,SUMIFS('4.gk_艺体质量'!$F$4:$F$53,'4.gk_艺体质量'!$A$4:$A$53,B19),"") | L19: =IF(SUMIF('6.gk_年级管理'!A:A,B19,'6.gk_年级管理'!B:B)>0,SUMIF('6.gk_年级管理'!A:A,B19,'6.gk_年级管理'!B:B),"") | M19: =SUM(G19:L19) -> 0 | N19: =F19+M19 -> 0 | O19: 2000 | P19: 补足2000
A20: 12 | B20: 达娃央初 | C20: =IF(SUMIF(高一质量奖!A:A,B20,高一质量奖!B:B)>0,SUMIF(高一质量奖!A:A,B20,高一质量奖!B:B),"") | D20: =IF(SUMIF(高二质量和进步奖!A:A,B20,高二质量和进步奖!D:D)>0,SUMIF(高二质量和进步奖!A:A,B20,高二质量和进步奖!D:D),"") | E20: =IF(SUMIF(高三质量奖!A:A,B20,高三质量奖!C:C)>0,SUMIF(高三质量奖!A:A,B20,高三质量奖!C:C),"") | F20: =SUM(C20:E20) -> 0 | G20: =IF(SUMIFS('1.gk_工作量'!$M$4:$M$76,'1.gk_工作量'!$B$4:$B$76,B20)>0,SUMIFS('1.gk_工作量'!$M$4:$M$76,'1.gk_工作量'!$B$4:$B$76,B20),"") -> 3037.8272 | H20: =IF(SUMIFS('2.gk_过程评价'!$C:$C,'2.gk_过程评价'!$A:$A,B20)>0,SUMIFS('2.gk_过程评价'!$C:$C,'2.gk_过程评价'!$A:$A,B20),"") -> 5319.3804 | I20: =IF(SUMIF('3.gk_上线质量'!B:B,B20,'3.gk_上线质量'!D:D)<>0,SUMIF('3.gk_上线质量'!B:B,B20,'3.gk_上线质量'!D:D),"") -> 180.34775 | J20: =IF(SUMIFS('3.gk_上线质量'!$F$3:$F$62,'3.gk_上线质量'!$B$3:$B$62,B20)<>0,SUMIFS('3.gk_上线质量'!$F$3:$F$62,'3.gk_上线质量'!$B$3:$B$62,B20),"") -> 124.82927 | K20: =IF(SUMIFS('4.gk_艺体质量'!$F$4:$F$53,'4.gk_艺体质量'!$A$4:$A$53,B20)>0,SUMIFS('4.gk_艺体质量'!$F$4:$F$53,'4.gk_艺体质量'!$A$4:$A$53,B20),"") -> 344.03175 | L20: =IF(SUMIF('6.gk_年级管理'!A:A,B20,'6.gk_年级管理'!B:B)>0,SUMIF('6.gk_年级管理'!A:A,B20,'6.gk_年级管理'!B:B),"") | M20: =SUM(G20:L20) -> 9006.4164 | N20: =F20+M20 -> 9006.4164 | O20: =IF(P20="辞职发0.3",N20*0.3,N20) -> 9006.4164
A21: 13 | B21: 邓国华 | C21: =IF(SUMIF(高一质量奖!A:A,B21,高一质量奖!B:B)>0,SUMIF(高一质量奖!A:A,B21,高一质量奖!B:B),"") -> 7633.8738 | D21: =IF(SUMIF(高二质量和进步奖!A:A,B21,高二质量和进步奖!D:D)>0,SUMIF(高二质量和进步奖!A:A,B21,高二质量和进步奖!D:D),"") | E21: =IF(SUMIF(高三质量奖!A:A,B21,高三质量奖!C:C)>0,SUMIF(高三质量奖!A:A,B21,高三质量奖!C:C),"") | F21: =SUM(C21:E21) -> 7633.8738 | G21: =IF(SUMIFS('1.gk_工作量'!$M$4:$M$76,'1.gk_工作量'!$B$4:$B$76,B21)>0,SUMIFS('1.gk_工作量'!$M$4:$M$76,'1.gk_工作量'!$B$4:$B$76,B21),"") | H21: =IF(SUMIFS('2.gk_过程评价'!$C:$C,'2.gk_过程评价'!$A:$A,B21)>0,SUMIFS('2.gk_过程评价'!$C:$C,'2.gk_过程评价'!$A:$A,B21),"") | I21: =IF(SUMIF('3.gk_上线质量'!B:B,B21,'3.gk_上线质量'!D:D)<>0,SUMIF('3.gk_上线质量'!B:B,B21,'3.gk_上线质量'!D:D),"") | J21: =IF(SUMIFS('3.gk_上线质量'!$F$3:$F$62,'3.gk_上线质量'!$B$3:$B$62,B21)<>0,SUMIFS('3.gk_上线质量'!$F$3:$F$62,'3.gk_上线质量'!$B$3:$B$62,B21),"") | K21: =IF(SUMIFS('4.gk_艺体质量'!$F$4:$F$53,'4.gk_艺体质量'!$A$4:$A$53,B21)>0,SUMIFS('4.gk_艺体质量'!$F$4:$F$53,'4.gk_艺体质量'!$A$4:$A$53,B21),"") | L21: =IF(SUMIF('6.gk_年级管理'!A:A,B21,'6.gk_年级管理'!B:B)>0,SUMIF('6.gk_年级管理'!A:A,B21,'6.gk_年级管理'!B:B),"") | M21: =SUM(G21:L21) -> 0 | N21: =F21+M21 -> 7633.8738 | O21: =IF(P21="辞职发0.3",N21*0.3,N21) -> 2290.1621 | P21: 辞职发0.3
A22: 14 | B22: 邓琪 | C22: =IF(SUMIF(高一质量奖!A:A,B22,高一质量奖!B:B)>0,SUMIF(高一质量奖!A:A,B22,高一质量奖!B:B),"") | D22: =IF(SUMIF(高二质量和进步奖!A:A,B22,高二质量和进步奖!D:D)>0,SUMIF(高二质量和进步奖!A:A,B22,高二质量和进步奖!D:D),"") -> 13772.327 | E22: =IF(SUMIF(高三质量奖!A:A,B22,高三质量奖!C:C)>0,SUMIF(高三质量奖!A:A,B22,高三质量奖!C:C),"") | F22: =SUM(C22:E22) -> 13772.327 | G22: =IF(SUMIFS('1.gk_工作量'!$M$4:$M$76,'1.gk_工作量'!$B$4:$B$76,B22)>0,SUMIFS('1.gk_工作量'!$M$4:$M$76,'1.gk_工作量'!$B$4:$B$76,B22),"") | H22: =IF(SUMIFS('2.gk_过程评价'!$C:$C,'2.gk_过程评价'!$A:$A,B22)>0,SUMIFS('2.gk_过程评价'!$C:$C,'2.gk_过程评价'!$A:$A,B22),"") | I22: =IF(SUMIF('3.gk_上线质量'!B:B,B22,'3.gk_上线质量'!D:D)<>0,SUMIF('3.gk_上线质量'!B:B,B22,'3.gk_上线质量'!D:D),"") | J22: =IF(SUMIFS('3.gk_上线质量'!$F$3:$F$62,'3.gk_上线质量'!$B$3:$B$62,B22)<>0,SUMIFS('3.gk_上线质量'!$F$3:$F$62,'3.gk_上线质量'!$B$3:$B$62,B22),"") | K22: =IF(SUMIFS('4.gk_艺体质量'!$F$4:$F$53,'4.gk_艺体质量'!$A$4:$A$53,B22)>0,SUMIFS('4.gk_艺体质量'!$F$4:$F$53,'4.gk_艺体质量'!$A$4:$A$53,B22),"") | L22: =IF(SUMIF('6.gk_年级管理'!A:A,B22,'6.gk_年级管理'!B:B)>0,SUMIF('6.gk_年级管理'!A:A,B22,'6.gk_年级管理'!B:B),"") | M22: =SUM(G22:L22) -> 0 | N22: =F22+M22 -> 13772.327 | O22: =IF(P22="辞职发0.3",N22*0.3,N22) -> 13772.327
A23: 15 | B23: 邓倩 | C23: =IF(SUMIF(高一质量奖!A:A,B23,高一质量奖!B:B)>0,SUMIF(高一质量奖!A:A,B23,高一质量奖!B:B),"") -> 1203.6346 | D23: =IF(SUMIF(高二质量和进步奖!A:A,B23,高二质量和进步奖!D:D)>0,SUMIF(高二质量和进步奖!A:A,B23,高二质量和进步奖!D:D),"") | E23: =IF(SUMIF(高三质量奖!A:A,B23,高三质量奖!C:C)>0,SUMIF(高三质量奖!A:A,B23,高三质量奖!C:C),"") | F23: =SUM(C23:E23) -> 1203.6346 | G23: =IF(SUMIFS('1.gk_工作量'!$M$4:$M$76,'1.gk_工作量'!$B$4:$B$76,B23)>0,SUMIFS('1.gk_工作量'!$M$4:$M$76,'1.gk_工作量'!$B$4:$B$76,B23),"") | H23: =IF(SUMIFS('2.gk_过程评价'!$C:$C,'2.gk_过程评价'!$A:$A,B23)>0,SUMIFS('2.gk_过程评价'!$C:$C,'2.gk_过程评价'!$A:$A,B23),"") | I23: =IF(SUMIF('3.gk_上线质量'!B:B,B23,'3.gk_上线质量'!D:D)<>0,SUMIF('3.gk_上线质量'!B:B,B23,'3.gk_上线质量'!D:D),"") | J23: =IF(SUMIFS('3.gk_上线质量'!$F$3:$F$62,'3.gk_上线质量'!$B$3:$B$62,B23)<>0,SUMIFS('3.gk_上线质量'!$F$3:$F$62,'3.gk_上线质量'!$B$3:$B$62,B23),"") | K23: =IF(SUMIFS('4.gk_艺体质量'!$F$4:$F$53,'4.gk_艺体质量'!$A$4:$A$53,B23)>0,SUMIFS('4.gk_艺体质量'!$F$4:$F$53,'4.gk_艺体质量'!$A$4:$A$53,B23),"") | L23: =IF(SUMIF('6.gk_年级管理'!A:A,B23,'6.gk_年级管理'!B:B)>0,SUMIF('6.gk_年级管理'!A:A,B23,'6.gk_年级管理'!B:B),"") | M23: =SUM(G23:L23) -> 0 | N23: =F23+M23 -> 1203.6346 | O23: 2000 | P23: 补足2000
A24: 16 | B24: 东梅 | C24: =IF(SUMIF(高一质量奖!A:A,B24,高一质量奖!B:B)>0,SUMIF(高一质量奖!A:A,B24,高一质量奖!B:B),"") | D24: =IF(SUMIF(高二质量和进步奖!A:A,B24,高二质量和进步奖!D:D)>0,SUMIF(高二质量和进步奖!A:A,B24,高二质量和进步奖!D:D),"") -> 7368 | E24: =IF(SUMIF(高三质量奖!A:A,B24,高三质量奖!C:C)>0,SUMIF(高三质量奖!A:A,B24,高三质量奖!C:C),"") | F24: =SUM(C24:E24) -> 7368 | G24: =IF(SUMIFS('1.gk_工作量'!$M$4:$M$76,'1.gk_工作量'!$B$4:$B$76,B24)>0,SUMIFS('1.gk_工作量'!$M$4:$M$76,'1.gk_工作量'!$B$4:$B$76,B24),"") | H24: =IF(SUMIFS('2.gk_过程评价'!$C:$C,'2.gk_过程评价'!$A:$A,B24)>0,SUMIFS('2.gk_过程评价'!$C:$C,'2.gk_过程评价'!$A:$A,B24),"") | I24: =IF(SUMIF('3.gk_上线质量'!B:B,B24,'3.gk_上线质量'!D:D)<>0,SUMIF('3.gk_上线质量'!B:B,B24,'3.gk_上线质量'!D:D),"") | J24: =IF(SUMIFS('3.gk_上线质量'!$F$3:$F$62,'3.gk_上线质量'!$B$3:$B$62,B24)<>0,SUMIFS('3.gk_上线质量'!$F$3:$F$62,'3.gk_上线质量'!$B$3:$B$62,B24),"") | K24: =IF(SUMIFS('4.gk_艺体质量'!$F$4:$F$53,'4.gk_艺体质量'!$A$4:$A$53,B24)>0,SUMIFS('4.gk_艺体质量'!$F$4:$F$53,'4.gk_艺体质量'!$A$4:$A$53,B24),"") | L24: =IF(SUMIF('6.gk_年级管理'!A:A,B24,'6.gk_年级管理'!B:B)>0,SUMIF('6.gk_年级管理'!A:A,B24,'6.gk_年级管理'!B:B),"") | M24: =SUM(G24:L24) -> 0 | N24: =F24+M24 -> 7368 | O24: =IF(P24="辞职发0.3",N24*0.3,N24) -> 7368
A25: 17 | B25: 杜东洋 | C25: =IF(SUMIF(高一质量奖!A:A,B25,高一质量奖!B:B)>0,SUMIF(高一质量奖!A:A,B25,高一质量奖!B:B),"") | D25: =IF(SUMIF(高二质量和进步奖!A:A,B25,高二质量和进步奖!D:D)>0,SUMIF(高二质量和进步奖!A:A,B25,高二质量和进步奖!D:D),"") -> 11733.391 | E25: =IF(SUMIF(高三质量奖!A:A,B25,高三质量奖!C:C)>0,SUMIF(高三质量奖!A:A,B25,高三质量奖!C:C),"") | F25: =SUM(C25:E25) -> 11733.391 | G25: =IF(SUMIFS('1.gk_工作量'!$M$4:$M$76,'1.gk_工作量'!$B$4:$B$76,B25)>0,SUMIFS('1.gk_工作量'!$M$4:$M$76,'1.gk_工作量'!$B$4:$B$76,B25),"") | H25: =IF(SUMIFS('2.gk_过程评价'!$C:$C,'2.gk_过程评价'!$A:$A,B25)>0,SUMIFS('2.gk_过程评价'!$C:$C,'2.gk_过程评价'!$A:$A,B25),"") | I25: =IF(SUMIF('3.gk_上线质量'!B:B,B25,'3.gk_上线质量'!D:D)<>0,SUMIF('3.gk_上线质量'!B:B,B25,'3.gk_上线质量'!D:D),"") | J25: =IF(SUMIFS('3.gk_上线质量'!$F$3:$F$62,'3.gk_上线质量'!$B$3:$B$62,B25)<>0,SUMIFS('3.gk_上线质量'!$F$3:$F$62,'3.gk_上线质量'!$B$3:$B$62,B25),"") | K25: =IF(SUMIFS('4.gk_艺体质量'!$F$4:$F$53,'4.gk_艺体质量'!$A$4:$A$53,B25)>0,SUMIFS('4.gk_艺体质量'!$F$4:$F$53,'4.gk_艺体质量'!$A$4:$A$53,B25),"") | L25: =IF(SUMIF('6.gk_年级管理'!A:A,B25,'6.gk_年级管理'!B:B)>0,SUMIF('6.gk_年级管理'!A:A,B25,'6.gk_年级管理'!B:B),"") | M25: =SUM(G25:L25) -> 0 | N25: =F25+M25 -> 11733.391 | O25: =IF(P25="辞职发0.3",N25*0.3,N25) -> 11733.391
A26: 18 | B26: 杜基次尔 | C26: =IF(SUMIF(高一质量奖!A:A,B26,高一质量奖!B:B)>0,SUMIF(高一质量奖!A:A,B26,高一质量奖!B:B),"") | D26: =IF(SUMIF(高二质量和进步奖!A:A,B26,高二质量和进步奖!D:D)>0,SUMIF(高二质量和进步奖!A:A,B26,高二质量和进步奖!D:D),"") | E26: =IF(SUMIF(高三质量奖!A:A,B26,高三质量奖!C:C)>0,SUMIF(高三质量奖!A:A,B26,高三质量奖!C:C),"") -> 7122.9126 | F26: =SUM(C26:E26) -> 7122.9126 | G26: =IF(SUMIFS('1.gk_工作量'!$M$4:$M$76,'1.gk_工作量'!$B$4:$B$76,B26)>0,SUMIFS('1.gk_工作量'!$M$4:$M$76,'1.gk_工作量'!$B$4:$B$76,B26),"") -> 15496.01 | H26: =IF(SUMIFS('2.gk_过程评价'!$C:$C,'2.gk_过程评价'!$A:$A,B26)>0,SUMIFS('2.gk_过程评价'!$C:$C,'2.gk_过程评价'!$A:$A,B26),"") -> 10418.554 | I26: =IF(SUMIF('3.gk_上线质量'!B:B,B26,'3.gk_上线质量'!D:D)<>0,SUMIF('3.gk_上线质量'!B:B,B26,'3.gk_上线质量'!D:D),"") -> 3704.7707 | J26: =IF(SUMIFS('3.gk_上线质量'!$F$3:$F$62,'3.gk_上线质量'!$B$3:$B$62,B26)<>0,SUMIFS('3.gk_上线质量'!$F$3:$F$62,'3.gk_上线质量'!$B$3:$B$62,B26),"") -> 5433.0453 | K26: =IF(SUMIFS('4.gk_艺体质量'!$F$4:$F$53,'4.gk_艺体质量'!$A$4:$A$53,B26)>0,SUMIFS('4.gk_艺体质量'!$F$4:$F$53,'4.gk_艺体质量'!$A$4:$A$53,B26),"") -> 9873.7111 | L26: =IF(SUMIF('6.gk_年级管理'!A:A,B26,'6.gk_年级管理'!B:B)>0,SUMIF('6.gk_年级管理'!A:A,B26,'6.gk_年级管理'!B:B),"") -> 204.08248 | M26: =SUM(G26:L26) -> 45130.173 | N26: =F26+M26 -> 52253.086 | O26: =IF(P26="辞职发0.3",N26*0.3,N26) -> 52253.086
A27: 19 | B27: 方帮林 | C27: =IF(SUMIF(高一质量奖!A:A,B27,高一质量奖!B:B)>0,SUMIF(高一质量奖!A:A,B27,高一质量奖!B:B),"") | D27: =IF(SUMIF(高二质量和进步奖!A:A,B27,高二质量和进步奖!D:D)>0,SUMIF(高二质量和进步奖!A:A,B27,高二质量和进步奖!D:D),"") | E27: =IF(SUMIF(高三质量奖!A:A,B27,高三质量奖!C:C)>0,SUMIF(高三质量奖!A:A,B27,高三质量奖!C:C),"") | F27: =SUM(C27:E27) -> 0 | G27: =IF(SUMIFS('1.gk_工作量'!$M$4:$M$76,'1.gk_工作量'!$B$4:$B$76,B27)>0,SUMIFS('1.gk_工作量'!$M$4:$M$76,'1.gk_工作量'!$B$4:$B$76,B27),"") | H27: =IF(SUMIFS('2.gk_过程评价'!$C:$C,'2.gk_过程评价'!$A:$A,B27)>0,SUMIFS('2.gk_过程评价'!$C:$C,'2.gk_过程评价'!$A:$A,B27),"") | I27: =IF(SUMIF('3.gk_上线质量'!B:B,B27,'3.gk_上线质量'!D:D)<>0,SUMIF('3.gk_上线质量'!B:B,B27,'3.gk_上线质量'!D:D),"") | J27: =IF(SUMIFS('3.gk_上线质量'!$F$3:$F$62,'3.gk_上线质量'!$B$3:$B$62,B27)<>0,SUMIFS('3.gk_上线质量'!$F$3:$F$62,'3.gk_上线质量'!$B$3:$B$62,B27),"") | K27: =IF(SUMIFS('4.gk_艺体质量'!$F$4:$F$53,'4.gk_艺体质量'!$A$4:$A$53,B27)>0,SUMIFS('4.gk_艺体质量'!$F$4:$F$53,'4.gk_艺体质量'!$A$4:$A$53,B27),"") | L27: =IF(SUMIF('6.gk_年级管理'!A:A,B27,'6.gk_年级管理'!B:B)>0,SUMIF('6.gk_年级管理'!A:A,B27,'6.gk_年级管理'!B:B),"") | M27: =SUM(G27:L27) -> 0 | N27: =F27+M27 -> 0 | O27: 2000 | P27: 补足2000
A28: 20 | B28: 付仁源 | C28: =IF(SUMIF(高一质量奖!A:A,B28,高一质量奖!B:B)>0,SUMIF(高一质量奖!A:A,B28,高一质量奖!B:B),"") | D28: =IF(SUMIF(高二质量和进步奖!A:A,B28,高二质量和进步奖!D:D)>0,SUMIF(高二质量和进步奖!A:A,B28,高二质量和进步奖!D:D),"") | E28: =IF(SUMIF(高三质量奖!A:A,B28,高三质量奖!C:C)>0,SUMIF(高三质量奖!A:A,B28,高三质量奖!C:C),"") | F28: =SUM(C28:E28) -> 0 | G28: =IF(SUMIFS('1.gk_工作量'!$M$4:$M$76,'1.gk_工作量'!$B$4:$B$76,B28)>0,SUMIFS('1.gk_工作量'!$M$4:$M$76,'1.gk_工作量'!$B$4:$B$76,B28),"") | H28: =IF(SUMIFS('2.gk_过程评价'!$C:$C,'2.gk_过程评价'!$A:$A,B28)>0,SUMIFS('2.gk_过程评价'!$C:$C,'2.gk_过程评价'!$A:$A,B28),"") | I28: =IF(SUMIF('3.gk_上线质量'!B:B,B28,'3.gk_上线质量'!D:D)<>0,SUMIF('3.gk_上线质量'!B:B,B28,'3.gk_上线质量'!D:D),"") | J28: =IF(SUMIFS('3.gk_上线质量'!$F$3:$F$62,'3.gk_上线质量'!$B$3:$B$62,B28)<>0,SUMIFS('3.gk_上线质量'!$F$3:$F$62,'3.gk_上线质量'!$B$3:$B$62,B28),"") | K28: =IF(SUMIFS('4.gk_艺体质量'!$F$4:$F$53,'4.gk_艺体质量'!$A$4:$A$53,B28)>0,SUMIFS('4.gk_艺体质量'!$F$4:$F$53,'4.gk_艺体质量'!$A$4:$A$53,B28),"") | L28: =IF(SUMIF('6.gk_年级管理'!A:A,B28,'6.gk_年级管理'!B:B)>0,SUMIF('6.gk_年级管理'!A:A,B28,'6.gk_年级管理'!B:B),"") | M28: =SUM(G28:L28) -> 0 | N28: =F28+M28 -> 0 | O28: 2000 | P28: 补足2000
A29: 21 | B29: 高贵勇 | C29: =IF(SUMIF(高一质量奖!A:A,B29,高一质量奖!B:B)>0,SUMIF(高一质量奖!A:A,B29,高一质量奖!B:B),"") | D29: =IF(SUMIF(高二质量和进步奖!A:A,B29,高二质量和进步奖!D:D)>0,SUMIF(高二质量和进步奖!A:A,B29,高二质量和进步奖!D:D),"") -> 887.47447 | E29: =IF(SUMIF(高三质量奖!A:A,B29,高三质量奖!C:C)>0,SUMIF(高三质量奖!A:A,B29,高三质量奖!C:C),"") -> 1073 | F29: =SUM(C29:E29) -> 1960.4745 | G29: =IF(SUMIFS('1.gk_工作量'!$M$4:$M$76,'1.gk_工作量'!$B$4:$B$76,B29)>0,SUMIFS('1.gk_工作量'!$M$4:$M$76,'1.gk_工作量'!$B$4:$B$76,B29),"") -> 7414.2901 | H29: =IF(SUMIFS('2.gk_过程评价'!$C:$C,'2.gk_过程评价'!$A:$A,B29)>0,SUMIFS('2.gk_过程评价'!$C:$C,'2.gk_过程评价'!$A:$A,B29),"") -> 6924.3214 | I29: =IF(SUMIF('3.gk_上线质量'!B:B,B29,'3.gk_上线质量'!D:D)<>0,SUMIF('3.gk_上线质量'!B:B,B29,'3.gk_上线质量'!D:D),"") -> -765.71375 | J29: =IF(SUMIFS('3.gk_上线质量'!$F$3:$F$62,'3.gk_上线质量'!$B$3:$B$62,B29)<>0,SUMIFS('3.gk_上线质量'!$F$3:$F$62,'3.gk_上线质量'!$B$3:$B$62,B29),"") -> 1105.6307 | K29: =IF(SUMIFS('4.gk_艺体质量'!$F$4:$F$53,'4.gk_艺体质量'!$A$4:$A$53,B29)>0,SUMIFS('4.gk_艺体质量'!$F$4:$F$53,'4.gk_艺体质量'!$A$4:$A$53,B29),"") | L29: =IF(SUMIF('6.gk_年级管理'!A:A,B29,'6.gk_年级管理'!B:B)>0,SUMIF('6.gk_年级管理'!A:A,B29,'6.gk_年级管理'!B:B),"") | M29: =SUM(G29:L29) -> 14678.528 | N29: =F29+M29 -> 16639.003 | O29: =IF(P29="辞职发0.3",N29*0.3,N29) -> 16639.003
A30: 22 | B30: 高琴 | C30: =IF(SUMIF(高一质量奖!A:A,B30,高一质量奖!B:B)>0,SUMIF(高一质量奖!A:A,B30,高一质量奖!B:B),"") | D30: =IF(SUMIF(高二质量和进步奖!A:A,B30,高二质量和进步奖!D:D)>0,SUMIF(高二质量和进步奖!A:A,B30,高二质量和进步奖!D:D),"") -> 1696.6262 | E30: =IF(SUMIF(高三质量奖!A:A,B30,高三质量奖!C:C)>0,SUMIF(高三质量奖!A:A,B30,高三质量奖!C:C),"") | F30: =SUM(C30:E30) -> 1696.6262 | G30: =IF(SUMIFS('1.gk_工作量'!$M$4:$M$76,'1.gk_工作量'!$B$4:$B$76,B30)>0,SUMIFS('1.gk_工作量'!$M$4:$M$76,'1.gk_工作量'!$B$4:$B$76,B30),"") | H30: =IF(SUMIFS('2.gk_过程评价'!$C:$C,'2.gk_过程评价'!$A:$A,B30)>0,SUMIFS('2.gk_过程评价'!$C:$C,'2.gk_过程评价'!$A:$A,B30),"") | I30: =IF(SUMIF('3.gk_上线质量'!B:B,B30,'3.gk_上线质量'!D:D)<>0,SUMIF('3.gk_上线质量'!B:B,B30,'3.gk_上线质量'!D:D),"") | J30: =IF(SUMIFS('3.gk_上线质量'!$F$3:$F$62,'3.gk_上线质量'!$B$3:$B$62,B30)<>0,SUMIFS('3.gk_上线质量'!$F$3:$F$62,'3.gk_上线质量'!$B$3:$B$62,B30),"") | K30: =IF(SUMIFS('4.gk_艺体质量'!$F$4:$F$53,'4.gk_艺体质量'!$A$4:$A$53,B30)>0,SUMIFS('4.gk_艺体质量'!$F$4:$F$53,'4.gk_艺体质量'!$A$4:$A$53,B30),"") | L30: =IF(SUMIF('6.gk_年级管理'!A:A,B30,'6.gk_年级管理'!B:B)>0,SUMIF('6.gk_年级管理'!A:A,B30,'6.gk_年级管理'!B:B),"") | M30: =SUM(G30:L30) -> 0 | N30: =F30+M30 -> 1696.6262 | O30: 2000 | P30: 补足2000
A31: 23 | B31: 格绒燚西 | C31: =IF(SUMIF(高一质量奖!A:A,B31,高一质量奖!B:B)>0,SUMIF(高一质量奖!A:A,B31,高一质量奖!B:B),"") -> 5701.4436 | D31: =IF(SUMIF(高二质量和进步奖!A:A,B31,高二质量和进步奖!D:D)>0,SUMIF(高二质量和进步奖!A:A,B31,高二质量和进步奖!D:D),"") | E31: =IF(SUMIF(高三质量奖!A:A,B31,高三质量奖!C:C)>0,SUMIF(高三质量奖!A:A,B31,高三质量奖!C:C),"") | F31: =SUM(C31:E31) -> 5701.4436 | G31: =IF(SUMIFS('1.gk_工作量'!$M$4:$M$76,'1.gk_工作量'!$B$4:$B$76,B31)>0,SUMIFS('1.gk_工作量'!$M$4:$M$76,'1.gk_工作量'!$B$4:$B$76,B31),"") | H31: =IF(SUMIFS('2.gk_过程评价'!$C:$C,'2.gk_过程评价'!$A:$A,B31)>0,SUMIFS('2.gk_过程评价'!$C:$C,'2.gk_过程评价'!$A:$A,B31),"") | I31: =IF(SUMIF('3.gk_上线质量'!B:B,B31,'3.gk_上线质量'!D:D)<>0,SUMIF('3.gk_上线质量'!B:B,B31,'3.gk_上线质量'!D:D),"") | J31: =IF(SUMIFS('3.gk_上线质量'!$F$3:$F$62,'3.gk_上线质量'!$B$3:$B$62,B31)<>0,SUMIFS('3.gk_上线质量'!$F$3:$F$62,'3.gk_上线质量'!$B$3:$B$62,B31),"") | K31: =IF(SUMIFS('4.gk_艺体质量'!$F$4:$F$53,'4.gk_艺体质量'!$A$4:$A$53,B31)>0,SUMIFS('4.gk_艺体质量'!$F$4:$F$53,'4.gk_艺体质量'!$A$4:$A$53,B31),"") | L31: =IF(SUMIF('6.gk_年级管理'!A:A,B31,'6.gk_年级管理'!B:B)>0,SUMIF('6.gk_年级管理'!A:A,B31,'6.gk_年级管理'!B:B),"") | M31: =SUM(G31:L31) -> 0 | N31: =F31+M31 -> 5701.4436 | O31: =IF(P31="辞职发0.3",N31*0.3,N31) -> 5701.4436
A32: 24 | B32: 龚霞 | C32: =IF(SUMIF(高一质量奖!A:A,B32,高一质量奖!B:B)>0,SUMIF(高一质量奖!A:A,B32,高一质量奖!B:B),"") | D32: =IF(SUMIF(高二质量和进步奖!A:A,B32,高二质量和进步奖!D:D)>0,SUMIF(高二质量和进步奖!A:A,B32,高二质量和进步奖!D:D),"") -> 10524.65 | E32: =IF(SUMIF(高三质量奖!A:A,B32,高三质量奖!C:C)>0,SUMIF(高三质量奖!A:A,B32,高三质量奖!C:C),"") | F32: =SUM(C32:E32) -> 10524.65 | G32: =IF(SUMIFS('1.gk_工作量'!$M$4:$M$76,'1.gk_工作量'!$B$4:$B$76,B32)>0,SUMIFS('1.gk_工作量'!$M$4:$M$76,'1.gk_工作量'!$B$4:$B$76,B32),"") | H32: =IF(SUMIFS('2.gk_过程评价'!$C:$C,'2.gk_过程评价'!$A:$A,B32)>0,SUMIFS('2.gk_过程评价'!$C:$C,'2.gk_过程评价'!$A:$A,B32),"") | I32: =IF(SUMIF('3.gk_上线质量'!B:B,B32,'3.gk_上线质量'!D:D)<>0,SUMIF('3.gk_上线质量'!B:B,B32,'3.gk_上线质量'!D:D),"") | J32: =IF(SUMIFS('3.gk_上线质量'!$F$3:$F$62,'3.gk_上线质量'!$B$3:$B$62,B32)<>0,SUMIFS('3.gk_上线质量'!$F$3:$F$62,'3.gk_上线质量'!$B$3:$B$62,B32),"") | K32: =IF(SUMIFS('4.gk_艺体质量'!$F$4:$F$53,'4.gk_艺体质量'!$A$4:$A$53,B32)>0,SUMIFS('4.gk_艺体质量'!$F$4:$F$53,'4.gk_艺体质量'!$A$4:$A$53,B32),"") | L32: =IF(SUMIF('6.gk_年级管理'!A:A,B32,'6.gk_年级管理'!B:B)>0,SUMIF('6.gk_年级管理'!A:A,B32,'6.gk_年级管理'!B:B),"") | M32: =SUM(G32:L32) -> 0 | N32: =F32+M32 -> 10524.65 | O32: =IF(P32="辞职发0.3",N32*0.3,N32) -> 10524.65
A33: 25 | B33: 勾中文 | C33: =IF(SUMIF(高一质量奖!A:A,B33,高一质量奖!B:B)>0,SUMIF(高一质量奖!A:A,B33,高一质量奖!B:B),"") | D33: =IF(SUMIF(高二质量和进步奖!A:A,B33,高二质量和进步奖!D:D)>0,SUMIF(高二质量和进步奖!A:A,B33,高二质量和进步奖!D:D),"") | E33: =IF(SUMIF(高三质量奖!A:A,B33,高三质量奖!C:C)>0,SUMIF(高三质量奖!A:A,B33,高三质量奖!C:C),"") | F33: =SUM(C33:E33) -> 0 | G33: =IF(SUMIFS('1.gk_工作量'!$M$4:$M$76,'1.gk_工作量'!$B$4:$B$76,B33)>0,SUMIFS('1.gk_工作量'!$M$4:$M$76,'1.gk_工作量'!$B$4:$B$76,B33),"") -> 999.89183 | H33: =IF(SUMIFS('2.gk_过程评价'!$C:$C,'2.gk_过程评价'!$A:$A,B33)>0,SUMIFS('2.gk_过程评价'!$C:$C,'2.gk_过程评价'!$A:$A,B33),"") -> 1803.8969 | I33: =IF(SUMIF('3.gk_上线质量'!B:B,B33,'3.gk_上线质量'!D:D)<>0,SUMIF('3.gk_上线质量'!B:B,B33,'3.gk_上线质量'!D:D),"") -> 110.0427 | J33: =IF(SUMIFS('3.gk_上线质量'!$F$3:$F$62,'3.gk_上线质量'!$B$3:$B$62,B33)<>0,SUMIFS('3.gk_上线质量'!$F$3:$F$62,'3.gk_上线质量'!$B$3:$B$62,B33),"") -> 273.43554 | K33: =IF(SUMIFS('4.gk_艺体质量'!$F$4:$F$53,'4.gk_艺体质量'!$A$4:$A$53,B33)>0,SUMIFS('4.gk_艺体质量'!$F$4:$F$53,'4.gk_艺体质量'!$A$4:$A$53,B33),"") -> 412.8381 | L33: =IF(SUMIF('6.gk_年级管理'!A:A,B33,'6.gk_年级管理'!B:B)>0,SUMIF('6.gk_年级管理'!A:A,B33,'6.gk_年级管理'!B:B),"") | M33: =SUM(G33:L33) -> 3600.105 | N33: =F33+M33 -> 3600.105 | O33: =IF(P33="辞职发0.3",N33*0.3,N33) -> 1080.0315 | P33: 辞职发0.3
A34: 26 | B34: 辜英琼 | C34: =IF(SUMIF(高一质量奖!A:A,B34,高一质量奖!B:B)>0,SUMIF(高一质量奖!A:A,B34,高一质量奖!B:B),"") | D34: =IF(SUMIF(高二质量和进步奖!A:A,B34,高二质量和进步奖!D:D)>0,SUMIF(高二质量和进步奖!A:A,B34,高二质量和进步奖!D:D),"") | E34: =IF(SUMIF(高三质量奖!A:A,B34,高三质量奖!C:C)>0,SUMIF(高三质量奖!A:A,B34,高三质量奖!C:C),"") | F34: =SUM(C34:E34) -> 0 | G34: =IF(SUMIFS('1.gk_工作量'!$M$4:$M$76,'1.gk_工作量'!$B$4:$B$76,B34)>0,SUMIFS('1.gk_工作量'!$M$4:$M$76,'1.gk_工作量'!$B$4:$B$76,B34),"") -> 1513.3498 | H34: =IF(SUMIFS('2.gk_过程评价'!$C:$C,'2.gk_过程评价'!$A:$A,B34)>0,SUMIFS('2.gk_过程评价'!$C:$C,'2.gk_过程评价'!$A:$A,B34),"") -> 3577.1523 | I34: =IF(SUMIF('3.gk_上线质量'!B:B,B34,'3.gk_上线质量'!D:D)<>0,SUMIF('3.gk_上线质量'!B:B,B34,'3.gk_上线质量'!D:D),"") -> 3160.6707 | J34: =IF(SUMIFS('3.gk_上线质量'!$F$3:$F$62,'3.gk_上线质量'!$B$3:$B$62,B34)<>0,SUMIFS('3.gk_上线质量'!$F$3:$F$62,'3.gk_上线质量'!$B$3:$B$62,B34),"") -> 1426.6202 | K34: =IF(SUMIFS('4.gk_艺体质量'!$F$4:$F$53,'4.gk_艺体质量'!$A$4:$A$53,B34)>0,SUMIFS('4.gk_艺体质量'!$F$4:$F$53,'4.gk_艺体质量'!$A$4:$A$53,B34),"") | L34: =IF(SUMIF('6.gk_年级管理'!A:A,B34,'6.gk_年级管理'!B:B)>0,SUMIF('6.gk_年级管理'!A:A,B34,'6.gk_年级管理'!B:B),"") | M34: =SUM(G34:L34) -> 9677.793 | N34: =F34+M34 -> 9677.793 | O34: =IF(P34="辞职发0.3",N34*0.3,N34) -> 2903.3379 | P34: 辞职发0.3
A35: 27 | B35: 郭禧唐 | C35: =IF(SUMIF(高一质量奖!A:A,B35,高一质量奖!B:B)>0,SUMIF(高一质量奖!A:A,B35,高一质量奖!B:B),"") | D35: =IF(SUMIF(高二质量和进步奖!A:A,B35,高二质量和进步奖!D:D)>0,SUMIF(高二质量和进步奖!A:A,B35,高二质量和进步奖!D:D),"") | E35: =IF(SUMIF(高三质量奖!A:A,B35,高三质量奖!C:C)>0,SUMIF(高三质量奖!A:A,B35,高三质量奖!C:C),"") | F35: =SUM(C35:E35) -> 0 | G35: =IF(SUMIFS('1.gk_工作量'!$M$4:$M$76,'1.gk_工作量'!$B$4:$B$76,B35)>0,SUMIFS('1.gk_工作量'!$M$4:$M$76,'1.gk_工作量'!$B$4:$B$76,B35),"") -> 2613.3898 | H35: =IF(SUMIFS('2.gk_过程评价'!$C:$C,'2.gk_过程评价'!$A:$A,B35)>0,SUMIFS('2.gk_过程评价'!$C:$C,'2.gk_过程评价'!$A:$A,B35),"") | I35: =IF(SUMIF('3.gk_上线质量'!B:B,B35,'3.gk_上线质量'!D:D)<>0,SUMIF('3.gk_上线质量'!B:B,B35,'3.gk_上线质量'!D:D),"") | J35: =IF(SUMIFS('3.gk_上线质量'!$F$3:$F$62,'3.gk_上线质量'!$B$3:$B$62,B35)<>0,SUMIFS('3.gk_上线质量'!$F$3:$F$62,'3.gk_上线质量'!$B$3:$B$62,B35),"") | K35: =IF(SUMIFS('4.gk_艺体质量'!$F$4:$F$53,'4.gk_艺体质量'!$A$4:$A$53,B35)>0,SUMIFS('4.gk_艺体质量'!$F$4:$F$53,'4.gk_艺体质量'!$A$4:$A$53,B35),"") | L35: =IF(SUMIF('6.gk_年级管理'!A:A,B35,'6.gk_年级管理'!B:B)>0,SUMIF('6.gk_年级管理'!A:A,B35,'6.gk_年级管理'!B:B),"") | M35: =SUM(G35:L35) -> 2613.3898 | N35: =F35+M35 -> 2613.3898 | O35: =IF(P35="辞职发0.3",N35*0.3,N35) -> 784.01693 | P35: 辞职发0.3
A36: 28 | B36: 何光红 | C36: =IF(SUMIF(高一质量奖!A:A,B36,高一质量奖!B:B)>0,SUMIF(高一质量奖!A:A,B36,高一质量奖!B:B),"") | D36: =IF(SUMIF(高二质量和进步奖!A:A,B36,高二质量和进步奖!D:D)>0,SUMIF(高二质量和进步奖!A:A,B36,高二质量和进步奖!D:D),"") | E36: =IF(SUMIF(高三质量奖!A:A,B36,高三质量奖!C:C)>0,SUMIF(高三质量奖!A:A,B36,高三质量奖!C:C),"") -> 1014.1254 | F36: =SUM(C36:E36) -> 1014.1254 | G36: =IF(SUMIFS('1.gk_工作量'!$M$4:$M$76,'1.gk_工作量'!$B$4:$B$76,B36)>0,SUMIFS('1.gk_工作量'!$M$4:$M$76,'1.gk_工作量'!$B$4:$B$76,B36),"") -> 6539.907 | H36: =IF(SUMIFS('2.gk_过程评价'!$C:$C,'2.gk_过程评价'!$A:$A,B36)>0,SUMIFS('2.gk_过程评价'!$C:$C,'2.gk_过程评价'!$A:$A,B36),"") -> 7033.5776 | I36: =IF(SUMIF('3.gk_上线质量'!B:B,B36,'3.gk_上线质量'!D:D)<>0,SUMIF('3.gk_上线质量'!B:B,B36,'3.gk_上线质量'!D:D),"") -> 3668.0898 | J36: =IF(SUMIFS('3.gk_上线质量'!$F$3:$F$62,'3.gk_上线质量'!$B$3:$B$62,B36)<>0,SUMIFS('3.gk_上线质量'!$F$3:$F$62,'3.gk_上线质量'!$B$3:$B$62,B36),"") -> 2128.0418 | K36: =IF(SUMIFS('4.gk_艺体质量'!$F$4:$F$53,'4.gk_艺体质量'!$A$4:$A$53,B36)>0,SUMIFS('4.gk_艺体质量'!$F$4:$F$53,'4.gk_艺体质量'!$A$4:$A$53,B36),"") -> 412.8381 | L36: =IF(SUMIF('6.gk_年级管理'!A:A,B36,'6.gk_年级管理'!B:B)>0,SUMIF('6.gk_年级管理'!A:A,B36,'6.gk_年级管理'!B:B),"") | M36: =SUM(G36:L36) -> 19782.454 | N36: =F36+M36 -> 20796.58 | O36: =IF(P36="辞职发0.3",N36*0.3,N36) -> 20796.58 | P36: 攀枝花援藏
A37: 29 | B37: 何苗 | C37: =IF(SUMIF(高一质量奖!A:A,B37,高一质量奖!B:B)>0,SUMIF(高一质量奖!A:A,B37,高一质量奖!B:B),"") | D37: =IF(SUMIF(高二质量和进步奖!A:A,B37,高二质量和进步奖!D:D)>0,SUMIF(高二质量和进步奖!A:A,B37,高二质量和进步奖!D:D),"") | E37: =IF(SUMIF(高三质量奖!A:A,B37,高三质量奖!C:C)>0,SUMIF(高三质量奖!A:A,B37,高三质量奖!C:C),"") | F37: =SUM(C37:E37) -> 0 | G37: =IF(SUMIFS('1.gk_工作量'!$M$4:$M$76,'1.gk_工作量'!$B$4:$B$76,B37)>0,SUMIFS('1.gk_工作量'!$M$4:$M$76,'1.gk_工作量'!$B$4:$B$76,B37),"") -> 2136.4938 | H37: =IF(SUMIFS('2.gk_过程评价'!$C:$C,'2.gk_过程评价'!$A:$A,B37)>0,SUMIFS('2.gk_过程评价'!$C:$C,'2.gk_过程评价'!$A:$A,B37),"") -> 3647.1235 | I37: =IF(SUMIF('3.gk_上线质量'!B:B,B37,'3.gk_上线质量'!D:D)<>0,SUMIF('3.gk_上线质量'!B:B,B37,'3.gk_上线质量'!D:D),"") -> 2628.7977 | J37: =IF(SUMIFS('3.gk_上线质量'!$F$3:$F$62,'3.gk_上线质量'!$B$3:$B$62,B37)<>0,SUMIFS('3.gk_上线质量'!$F$3:$F$62,'3.gk_上线质量'!$B$3:$B$62,B37),"") -> 1593.0592 | K37: =IF(SUMIFS('4.gk_艺体质量'!$F$4:$F$53,'4.gk_艺体质量'!$A$4:$A$53,B37)>0,SUMIFS('4.gk_艺体质量'!$F$4:$F$53,'4.gk_艺体质量'!$A$4:$A$53,B37),"") -> 1238.5143 | L37: =IF(SUMIF('6.gk_年级管理'!A:A,B37,'6.gk_年级管理'!B:B)>0,SUMIF('6.gk_年级管理'!A:A,B37,'6.gk_年级管理'!B:B),"") | M37: =SUM(G37:L37) -> 11243.989 | N37: =F37+M37 -> 11243.989 | O37: =IF(P37="辞职发0.3",N37*0.3,N37) -> 3373.1966 | P37: 辞职发0.3
A38: 30 | B38: 胡昌燕 | C38: =IF(SUMIF(高一质量奖!A:A,B38,高一质量奖!B:B)>0,SUMIF(高一质量奖!A:A,B38,高一质量奖!B:B),"") | D38: =IF(SUMIF(高二质量和进步奖!A:A,B38,高二质量和进步奖!D:D)>0,SUMIF(高二质量和进步奖!A:A,B38,高二质量和进步奖!D:D),"") | E38: =IF(SUMIF(高三质量奖!A:A,B38,高三质量奖!C:C)>0,SUMIF(高三质量奖!A:A,B38,高三质量奖!C:C),"") -> 1000 | F38: =SUM(C38:E38) -> 1000 | G38: =IF(SUMIFS('1.gk_工作量'!$M$4:$M$76,'1.gk_工作量'!$B$4:$B$76,B38)>0,SUMIFS('1.gk_工作量'!$M$4:$M$76,'1.gk_工作量'!$B$4:$B$76,B38),"") -> 13449.424 | H38: =IF(SUMIFS('2.gk_过程评价'!$C:$C,'2.gk_过程评价'!$A:$A,B38)>0,SUMIFS('2.gk_过程评价'!$C:$C,'2.gk_过程评价'!$A:$A,B38),"") -> 10644.588 | I38: =IF(SUMIF('3.gk_上线质量'!B:B,B38,'3.gk_上线质量'!D:D)<>0,SUMIF('3.gk_上线质量'!B:B,B38,'3.gk_上线质量'!D:D),"") -> 11924.349 | J38: =IF(SUMIFS('3.gk_上线质量'!$F$3:$F$62,'3.gk_上线质量'!$B$3:$B$62,B38)<>0,SUMIFS('3.gk_上线质量'!$F$3:$F$62,'3.gk_上线质量'!$B$3:$B$62,B38),"") -> 4957.5052 | K38: =IF(SUMIFS('4.gk_艺体质量'!$F$4:$F$53,'4.gk_艺体质量'!$A$4:$A$53,B38)>0,SUMIFS('4.gk_艺体质量'!$F$4:$F$53,'4.gk_艺体质量'!$A$4:$A$53,B38),"") -> 1238.5143 | L38: =IF(SUMIF('6.gk_年级管理'!A:A,B38,'6.gk_年级管理'!B:B)>0,SUMIF('6.gk_年级管理'!A:A,B38,'6.gk_年级管理'!B:B),"") -> 579.94445 | M38: =SUM(G38:L38) -> 42794.325 | N38: =F38+M38 -> 43794.325 | O38: =IF(P38="辞职发0.3",N38*0.3,N38) -> 43794.325
A39: 31 | B39: 胡东缘 | C39: =IF(SUMIF(高一质量奖!A:A,B39,高一质量奖!B:B)>0,SUMIF(高一质量奖!A:A,B39,高一质量奖!B:B),"") -> 6142.1155 | D39: =IF(SUMIF(高二质量和进步奖!A:A,B39,高二质量和进步奖!D:D)>0,SUMIF(高二质量和进步奖!A:A,B39,高二质量和进步奖!D:D),"") | E39: =IF(SUMIF(高三质量奖!A:A,B39,高三质量奖!C:C)>0,SUMIF(高三质量奖!A:A,B39,高三质量奖!C:C),"") | F39: =SUM(C39:E39) -> 6142.1155 | G39: =IF(SUMIFS('1.gk_工作量'!$M$4:$M$76,'1.gk_工作量'!$B$4:$B$76,B39)>0,SUMIFS('1.gk_工作量'!$M$4:$M$76,'1.gk_工作量'!$B$4:$B$76,B39),"") | H39: =IF(SUMIFS('2.gk_过程评价'!$C:$C,'2.gk_过程评价'!$A:$A,B39)>0,SUMIFS('2.gk_过程评价'!$C:$C,'2.gk_过程评价'!$A:$A,B39),"") | I39: =IF(SUMIF('3.gk_上线质量'!B:B,B39,'3.gk_上线质量'!D:D)<>0,SUMIF('3.gk_上线质量'!B:B,B39,'3.gk_上线质量'!D:D),"") | J39: =IF(SUMIFS('3.gk_上线质量'!$F$3:$F$62,'3.gk_上线质量'!$B$3:$B$62,B39)<>0,SUMIFS('3.gk_上线质量'!$F$3:$F$62,'3.gk_上线质量'!$B$3:$B$62,B39),"") | K39: =IF(SUMIFS('4.gk_艺体质量'!$F$4:$F$53,'4.gk_艺体质量'!$A$4:$A$53,B39)>0,SUMIFS('4.gk_艺体质量'!$F$4:$F$53,'4.gk_艺体质量'!$A$4:$A$53,B39),"") | L39: =IF(SUMIF('6.gk_年级管理'!A:A,B39,'6.gk_年级管理'!B:B)>0,SUMIF('6.gk_年级管理'!A:A,B39,'6.gk_年级管理'!B:B),"") | M39: =SUM(G39:L39) -> 0 | N39: =F39+M39 -> 6142.1155 | O39: =IF(P39="辞职发0.3",N39*0.3,N39) -> 6142.1155
A40: 32 | B40: 胡付松 | C40: =IF(SUMIF(高一质量奖!A:A,B40,高一质量奖!B:B)>0,SUMIF(高一质量奖!A:A,B40,高一质量奖!B:B),"") | D40: =IF(SUMIF(高二质量和进步奖!A:A,B40,高二质量和进步奖!D:D)>0,SUMIF(高二质量和进步奖!A:A,B40,高二质量和进步奖!D:D),"") | E40: =IF(SUMIF(高三质量奖!A:A,B40,高三质量奖!C:C)>0,SUMIF(高三质量奖!A:A,B40,高三质量奖!C:C),"") -> 2140 | F40: =SUM(C40:E40) -> 2140 | G40: =IF(SUMIFS('1.gk_工作量'!$M$4:$M$76,'1.gk_工作量'!$B$4:$B$76,B40)>0,SUMIFS('1.gk_工作量'!$M$4:$M$76,'1.gk_工作量'!$B$4:$B$76,B40),"") -> 15320.554 | H40: =IF(SUMIFS('2.gk_过程评价'!$C:$C,'2.gk_过程评价'!$A:$A,B40)>0,SUMIFS('2.gk_过程评价'!$C:$C,'2.gk_过程评价'!$A:$A,B40),"") -> 10216.284 | I40: =IF(SUMIF('3.gk_上线质量'!B:B,B40,'3.gk_上线质量'!D:D)<>0,SUMIF('3.gk_上线质量'!B:B,B40,'3.gk_上线质量'!D:D),"") -> 13336.563 | J40: =IF(SUMIFS('3.gk_上线质量'!$F$3:$F$62,'3.gk_上线质量'!$B$3:$B$62,B40)<>0,SUMIFS('3.gk_上线质量'!$F$3:$F$62,'3.gk_上线质量'!$B$3:$B$62,B40),"") -> 8060.4042 | K40: =IF(SUMIFS('4.gk_艺体质量'!$F$4:$F$53,'4.gk_艺体质量'!$A$4:$A$53,B40)>0,SUMIFS('4.gk_艺体质量'!$F$4:$F$53,'4.gk_艺体质量'!$A$4:$A$53,B40),"") -> 389.90265 | L40: =IF(SUMIF('6.gk_年级管理'!A:A,B40,'6.gk_年级管理'!B:B)>0,SUMIF('6.gk_年级管理'!A:A,B40,'6.gk_年级管理'!B:B),"") -> 1148.7217 | M40: =SUM(G40:L40) -> 48472.43 | N40: =F40+M40 -> 50612.43 | O40: =IF(P40="辞职发0.3",N40*0.3,N40) -> 50612.43
A41: 33 | B41: 胡慧芳 | C41: =IF(SUMIF(高一质量奖!A:A,B41,高一质量奖!B:B)>0,SUMIF(高一质量奖!A:A,B41,高一质量奖!B:B),"") | D41: =IF(SUMIF(高二质量和进步奖!A:A,B41,高二质量和进步奖!D:D)>0,SUMIF(高二质量和进步奖!A:A,B41,高二质量和进步奖!D:D),"") | E41: =IF(SUMIF(高三质量奖!A:A,B41,高三质量奖!C:C)>0,SUMIF(高三质量奖!A:A,B41,高三质量奖!C:C),"") -> 2934 | F41: =SUM(C41:E41) -> 2934 | G41: =IF(SUMIFS('1.gk_工作量'!$M$4:$M$76,'1.gk_工作量'!$B$4:$B$76,B41)>0,SUMIFS('1.gk_工作量'!$M$4:$M$76,'1.gk_工作量'!$B$4:$B$76,B41),"") -> 9742.4296 | H41: =IF(SUMIFS('2.gk_过程评价'!$C:$C,'2.gk_过程评价'!$A:$A,B41)>0,SUMIFS('2.gk_过程评价'!$C:$C,'2.gk_过程评价'!$A:$A,B41),"") -> 10588.963 | I41: =IF(SUMIF('3.gk_上线质量'!B:B,B41,'3.gk_上线质量'!D:D)<>0,SUMIF('3.gk_上线质量'!B:B,B41,'3.gk_上线质量'!D:D),"") -> 8587.9153 | J41: =IF(SUMIFS('3.gk_上线质量'!$F$3:$F$62,'3.gk_上线质量'!$B$3:$B$62,B41)<>0,SUMIFS('3.gk_上线质量'!$F$3:$F$62,'3.gk_上线质量'!$B$3:$B$62,B41),"") -> 5754.0348 | K41: =IF(SUMIFS('4.gk_艺体质量'!$F$4:$F$53,'4.gk_艺体质量'!$A$4:$A$53,B41)>0,SUMIFS('4.gk_艺体质量'!$F$4:$F$53,'4.gk_艺体质量'!$A$4:$A$53,B41),"") -> 6261.3778 | L41: =IF(SUMIF('6.gk_年级管理'!A:A,B41,'6.gk_年级管理'!B:B)>0,SUMIF('6.gk_年级管理'!A:A,B41,'6.gk_年级管理'!B:B),"") | M41: =SUM(G41:L41) -> 40934.721 | N41: =F41+M41 -> 43868.721 | O41: =IF(P41="辞职发0.3",N41*0.3,N41) -> 43868.721
A42: 34 | B42: 胡柔殳 | C42: =IF(SUMIF(高一质量奖!A:A,B42,高一质量奖!B:B)>0,SUMIF(高一质量奖!A:A,B42,高一质量奖!B:B),"") -> 1154.4988 | D42: =IF(SUMIF(高二质量和进步奖!A:A,B42,高二质量和进步奖!D:D)>0,SUMIF(高二质量和进步奖!A:A,B42,高二质量和进步奖!D:D),"") | E42: =IF(SUMIF(高三质量奖!A:A,B42,高三质量奖!C:C)>0,SUMIF(高三质量奖!A:A,B42,高三质量奖!C:C),"") | F42: =SUM(C42:E42) -> 1154.4988 | G42: =IF(SUMIFS('1.gk_工作量'!$M$4:$M$76,'1.gk_工作量'!$B$4:$B$76,B42)>0,SUMIFS('1.gk_工作量'!$M$4:$M$76,'1.gk_工作量'!$B$4:$B$76,B42),"") | H42: =IF(SUMIFS('2.gk_过程评价'!$C:$C,'2.gk_过程评价'!$A:$A,B42)>0,SUMIFS('2.gk_过程评价'!$C:$C,'2.gk_过程评价'!$A:$A,B42),"") | I42: =IF(SUMIF('3.gk_上线质量'!B:B,B42,'3.gk_上线质量'!D:D)<>0,SUMIF('3.gk_上线质量'!B:B,B42,'3.gk_上线质量'!D:D),"") | J42: =IF(SUMIFS('3.gk_上线质量'!$F$3:$F$62,'3.gk_上线质量'!$B$3:$B$62,B42)<>0,SUMIFS('3.gk_上线质量'!$F$3:$F$62,'3.gk_上线质量'!$B$3:$B$62,B42),"") | K42: =IF(SUMIFS('4.gk_艺体质量'!$F$4:$F$53,'4.gk_艺体质量'!$A$4:$A$53,B42)>0,SUMIFS('4.gk_艺体质量'!$F$4:$F$53,'4.gk_艺体质量'!$A$4:$A$53,B42),"") | L42: =IF(SUMIF('6.gk_年级管理'!A:A,B42,'6.gk_年级管理'!B:B)>0,SUMIF('6.gk_年级管理'!A:A,B42,'6.gk_年级管理'!B:B),"") | M42: =SUM(G42:L42) -> 0 | N42: =F42+M42 -> 1154.4988 | O42: 2000 | P42: 补足2000
A43: 35 | B43: 胡伟杰 | C43: =IF(SUMIF(高一质量奖!A:A,B43,高一质量奖!B:B)>0,SUMIF(高一质量奖!A:A,B43,高一质量奖!B:B),"") | D43: =IF(SUMIF(高二质量和进步奖!A:A,B43,高二质量和进步奖!D:D)>0,SUMIF(高二质量和进步奖!A:A,B43,高二质量和进步奖!D:D),"") -> 2272.0336 | E43: =IF(SUMIF(高三质量奖!A:A,B43,高三质量奖!C:C)>0,SUMIF(高三质量奖!A:A,B43,高三质量奖!C:C),"") | F43: =SUM(C43:E43) -> 2272.0336 | G43: =IF(SUMIFS('1.gk_工作量'!$M$4:$M$76,'1.gk_工作量'!$B$4:$B$76,B43)>0,SUMIFS('1.gk_工作量'!$M$4:$M$76,'1.gk_工作量'!$B$4:$B$76,B43),"") | H43: =IF(SUMIFS('2.gk_过程评价'!$C:$C,'2.gk_过程评价'!$A:$A,B43)>0,SUMIFS('2.gk_过程评价'!$C:$C,'2.gk_过程评价'!$A:$A,B43),"") | I43: =IF(SUMIF('3.gk_上线质量'!B:B,B43,'3.gk_上线质量'!D:D)<>0,SUMIF('3.gk_上线质量'!B:B,B43,'3.gk_上线质量'!D:D),"") | J43: =IF(SUMIFS('3.gk_上线质量'!$F$3:$F$62,'3.gk_上线质量'!$B$3:$B$62,B43)<>0,SUMIFS('3.gk_上线质量'!$F$3:$F$62,'3.gk_上线质量'!$B$3:$B$62,B43),"") | K43: =IF(SUMIFS('4.gk_艺体质量'!$F$4:$F$53,'4.gk_艺体质量'!$A$4:$A$53,B43)>0,SUMIFS('4.gk_艺体质量'!$F$4:$F$53,'4.gk_艺体质量'!$A$4:$A$53,B43),"") | L43: =IF(SUMIF('6.gk_年级管理'!A:A,B43,'6.gk_年级管理'!B:B)>0,SUMIF('6.gk_年级管理'!A:A,B43,'6.gk_年级管理'!B:B),"") | M43: =SUM(G43:L43) -> 0 | N43: =F43+M43 -> 2272.0336 | O43: =IF(P43="辞职发0.3",N43*0.3,N43) -> 2272.0336
A44: 36 | B44: 黄健均 | C44: =IF(SUMIF(高一质量奖!A:A,B44,高一质量奖!B:B)>0,SUMIF(高一质量奖!A:A,B44,高一质量奖!B:B),"") | D44: =IF(SUMIF(高二质量和进步奖!A:A,B44,高二质量和进步奖!D:D)>0,SUMIF(高二质量和进步奖!A:A,B44,高二质量和进步奖!D:D),"") -> 9791.2571 | E44: =IF(SUMIF(高三质量奖!A:A,B44,高三质量奖!C:C)>0,SUMIF(高三质量奖!A:A,B44,高三质量奖!C:C),"") | F44: =SUM(C44:E44) -> 9791.2571 | G44: =IF(SUMIFS('1.gk_工作量'!$M$4:$M$76,'1.gk_工作量'!$B$4:$B$76,B44)>0,SUMIFS('1.gk_工作量'!$M$4:$M$76,'1.gk_工作量'!$B$4:$B$76,B44),"") | H44: =IF(SUMIFS('2.gk_过程评价'!$C:$C,'2.gk_过程评价'!$A:$A,B44)>0,SUMIFS('2.gk_过程评价'!$C:$C,'2.gk_过程评价'!$A:$A,B44),"") | I44: =IF(SUMIF('3.gk_上线质量'!B:B,B44,'3.gk_上线质量'!D:D)<>0,SUMIF('3.gk_上线质量'!B:B,B44,'3.gk_上线质量'!D:D),"") | J44: =IF(SUMIFS('3.gk_上线质量'!$F$3:$F$62,'3.gk_上线质量'!$B$3:$B$62,B44)<>0,SUMIFS('3.gk_上线质量'!$F$3:$F$62,'3.gk_上线质量'!$B$3:$B$62,B44),"") | K44: =IF(SUMIFS('4.gk_艺体质量'!$F$4:$F$53,'4.gk_艺体质量'!$A$4:$A$53,B44)>0,SUMIFS('4.gk_艺体质量'!$F$4:$F$53,'4.gk_艺体质量'!$A$4:$A$53,B44),"") | L44: =IF(SUMIF('6.gk_年级管理'!A:A,B44,'6.gk_年级管理'!B:B)>0,SUMIF('6.gk_年级管理'!A:A,B44,'6.gk_年级管理'!B:B),"") | M44: =SUM(G44:L44) -> 0 | N44: =F44+M44 -> 9791.2571 | O44: =IF(P44="辞职发0.3",N44*0.3,N44) -> 9791.2571
A45: 37 | B45: 黄金华 | C45: =IF(SUMIF(高一质量奖!A:A,B45,高一质量奖!B:B)>0,SUMIF(高一质量奖!A:A,B45,高一质量奖!B:B),"") | D45: =IF(SUMIF(高二质量和进步奖!A:A,B45,高二质量和进步奖!D:D)>0,SUMIF(高二质量和进步奖!A:A,B45,高二质量和进步奖!D:D),"") | E45: =IF(SUMIF(高三质量奖!A:A,B45,高三质量奖!C:C)>0,SUMIF(高三质量奖!A:A,B45,高三质量奖!C:C),"") -> 2057 | F45: =SUM(C45:E45) -> 2057 | G45: =IF(SUMIFS('1.gk_工作量'!$M$4:$M$76,'1.gk_工作量'!$B$4:$B$76,B45)>0,SUMIFS('1.gk_工作量'!$M$4:$M$76,'1.gk_工作量'!$B$4:$B$76,B45),"") -> 11044.171 | H45: =IF(SUMIFS('2.gk_过程评价'!$C:$C,'2.gk_过程评价'!$A:$A,B45)>0,SUMIFS('2.gk_过程评价'!$C:$C,'2.gk_过程评价'!$A:$A,B45),"") -> 10598.251 | I45: =IF(SUMIF('3.gk_上线质量'!B:B,B45,'3.gk_上线质量'!D:D)<>0,SUMIF('3.gk_上线质量'!B:B,B45,'3.gk_上线质量'!D:D),"") -> 10564.099 | J45: =IF(SUMIFS('3.gk_上线质量'!$F$3:$F$62,'3.gk_上线质量'!$B$3:$B$62,B45)<>0,SUMIFS('3.gk_上线质量'!$F$3:$F$62,'3.gk_上线质量'!$B$3:$B$62,B45),"") -> 7061.77 | K45: =IF(SUMIFS('4.gk_艺体质量'!$F$4:$F$53,'4.gk_艺体质量'!$A$4:$A$53,B45)>0,SUMIFS('4.gk_艺体质量'!$F$4:$F$53,'4.gk_艺体质量'!$A$4:$A$53,B45),"") -> 68.806349 | L45: =IF(SUMIF('6.gk_年级管理'!A:A,B45,'6.gk_年级管理'!B:B)>0,SUMIF('6.gk_年级管理'!A:A,B45,'6.gk_年级管理'!B:B),"") -> 1344 | M45: =SUM(G45:L45) -> 40681.097 | N45: =F45+M45 -> 42738.097 | O45: =IF(P45="辞职发0.3",N45*0.3,N45) -> 42738.097
A46: 38 | B46: 黄萍 | C46: =IF(SUMIF(高一质量奖!A:A,B46,高一质量奖!B:B)>0,SUMIF(高一质量奖!A:A,B46,高一质量奖!B:B),"") -> 3321.7319 | D46: =IF(SUMIF(高二质量和进步奖!A:A,B46,高二质量和进步奖!D:D)>0,SUMIF(高二质量和进步奖!A:A,B46,高二质量和进步奖!D:D),"") | E46: =IF(SUMIF(高三质量奖!A:A,B46,高三质量奖!C:C)>0,SUMIF(高三质量奖!A:A,B46,高三质量奖!C:C),"") | F46: =SUM(C46:E46) -> 3321.7319 | G46: =IF(SUMIFS('1.gk_工作量'!$M$4:$M$76,'1.gk_工作量'!$B$4:$B$76,B46)>0,SUMIFS('1.gk_工作量'!$M$4:$M$76,'1.gk_工作量'!$B$4:$B$76,B46),"") | H46: =IF(SUMIFS('2.gk_过程评价'!$C:$C,'2.gk_过程评价'!$A:$A,B46)>0,SUMIFS('2.gk_过程评价'!$C:$C,'2.gk_过程评价'!$A:$A,B46),"") | I46: =IF(SUMIF('3.gk_上线质量'!B:B,B46,'3.gk_上线质量'!D:D)<>0,SUMIF('3.gk_上线质量'!B:B,B46,'3.gk_上线质量'!D:D),"") | J46: =IF(SUMIFS('3.gk_上线质量'!$F$3:$F$62,'3.gk_上线质量'!$B$3:$B$62,B46)<>0,SUMIFS('3.gk_上线质量'!$F$3:$F$62,'3.gk_上线质量'!$B$3:$B$62,B46),"") | K46: =IF(SUMIFS('4.gk_艺体质量'!$F$4:$F$53,'4.gk_艺体质量'!$A$4:$A$53,B46)>0,SUMIFS('4.gk_艺体质量'!$F$4:$F$53,'4.gk_艺体质量'!$A$4:$A$53,B46),"") | L46: =IF(SUMIF('6.gk_年级管理'!A:A,B46,'6.gk_年级管理'!B:B)>0,SUMIF('6.gk_年级管理'!A:A,B46,'6.gk_年级管理'!B:B),"") | M46: =SUM(G46:L46) -> 0 | N46: =F46+M46 -> 3321.7319 | O46: =IF(P46="辞职发0.3",N46*0.3,N46) -> 996.51957 | P46: 辞职发0.3
A47: 39 | B47: 纪春权 | C47: =IF(SUMIF(高一质量奖!A:A,B47,高一质量奖!B:B)>0,SUMIF(高一质量奖!A:A,B47,高一质量奖!B:B),"") -> 3926.2549 | D47: =IF(SUMIF(高二质量和进步奖!A:A,B47,高二质量和进步奖!D:D)>0,SUMIF(高二质量和进步奖!A:A,B47,高二质量和进步奖!D:D),"") | E47: =IF(SUMIF(高三质量奖!A:A,B47,高三质量奖!C:C)>0,SUMIF(高三质量奖!A:A,B47,高三质量奖!C:C),"") | F47: =SUM(C47:E47) -> 3926.2549 | G47: =IF(SUMIFS('1.gk_工作量'!$M$4:$M$76,'1.gk_工作量'!$B$4:$B$76,B47)>0,SUMIFS('1.gk_工作量'!$M$4:$M$76,'1.gk_工作量'!$B$4:$B$76,B47),"") | H47: =IF(SUMIFS('2.gk_过程评价'!$C:$C,'2.gk_过程评价'!$A:$A,B47)>0,SUMIFS('2.gk_过程评价'!$C:$C,'2.gk_过程评价'!$A:$A,B47),"") | I47: =IF(SUMIF('3.gk_上线质量'!B:B,B47,'3.gk_上线质量'!D:D)<>0,SUMIF('3.gk_上线质量'!B:B,B47,'3.gk_上线质量'!D:D),"") | J47: =IF(SUMIFS('3.gk_上线质量'!$F$3:$F$62,'3.gk_上线质量'!$B$3:$B$62,B47)<>0,SUMIFS('3.gk_上线质量'!$F$3:$F$62,'3.gk_上线质量'!$B$3:$B$62,B47),"") | K47: =IF(SUMIFS('4.gk_艺体质量'!$F$4:$F$53,'4.gk_艺体质量'!$A$4:$A$53,B47)>0,SUMIFS('4.gk_艺体质量'!$F$4:$F$53,'4.gk_艺体质量'!$A$4:$A$53,B47),"") | L47: =IF(SUMIF('6.gk_年级管理'!A:A,B47,'6.gk_年级管理'!B:B)>0,SUMIF('6.gk_年级管理'!A:A,B47,'6.gk_年级管理'!B:B),"") | M47: =SUM(G47:L47) -> 0 | N47: =F47+M47 -> 3926.2549 | O47: =IF(P47="辞职发0.3",N47*0.3,N47) -> 3926.2549
A48: 40 | B48: 甲阿祝玛 | C48: =IF(SUMIF(高一质量奖!A:A,B48,高一质量奖!B:B)>0,SUMIF(高一质量奖!A:A,B48,高一质量奖!B:B),"") | D48: =IF(SUMIF(高二质量和进步奖!A:A,B48,高二质量和进步奖!D:D)>0,SUMIF(高二质量和进步奖!A:A,B48,高二质量和进步奖!D:D),"") -> 12369.383 | E48: =IF(SUMIF(高三质量奖!A:A,B48,高三质量奖!C:C)>0,SUMIF(高三质量奖!A:A,B48,高三质量奖!C:C),"") | F48: =SUM(C48:E48) -> 12369.383 | G48: =IF(SUMIFS('1.gk_工作量'!$M$4:$M$76,'1.gk_工作量'!$B$4:$B$76,B48)>0,SUMIFS('1.gk_工作量'!$M$4:$M$76,'1.gk_工作量'!$B$4:$B$76,B48),"") -> 901.33333 | H48: =IF(SUMIFS('2.gk_过程评价'!$C:$C,'2.gk_过程评价'!$A:$A,B48)>0,SUMIFS('2.gk_过程评价'!$C:$C,'2.gk_过程评价'!$A:$A,B48),"") -> 1719.2873 | I48: =IF(SUMIF('3.gk_上线质量'!B:B,B48,'3.gk_上线质量'!D:D)<>0,SUMIF('3.gk_上线质量'!B:B,B48,'3.gk_上线质量'!D:D),"") -> -18.340449 | J48: =IF(SUMIFS('3.gk_上线质量'!$F$3:$F$62,'3.gk_上线质量'!$B$3:$B$62,B48)<>0,SUMIFS('3.gk_上线质量'!$F$3:$F$62,'3.gk_上线质量'!$B$3:$B$62,B48),"") -> 124.82927 | K48: =IF(SUMIFS('4.gk_艺体质量'!$F$4:$F$53,'4.gk_艺体质量'!$A$4:$A$53,B48)>0,SUMIFS('4.gk_艺体质量'!$F$4:$F$53,'4.gk_艺体质量'!$A$4:$A$53,B48),"") -> 516.04762 | L48: =IF(SUMIF('6.gk_年级管理'!A:A,B48,'6.gk_年级管理'!B:B)>0,SUMIF('6.gk_年级管理'!A:A,B48,'6.gk_年级管理'!B:B),"") | M48: =SUM(G48:L48) -> 3243.157 | N48: =F48+M48 -> 15612.54 | O48: =IF(P48="辞职发0.3",N48*0.3,N48) -> 15612.54
A49: 41 | B49: 贾学英 | C49: =IF(SUMIF(高一质量奖!A:A,B49,高一质量奖!B:B)>0,SUMIF(高一质量奖!A:A,B49,高一质量奖!B:B),"") | D49: =IF(SUMIF(高二质量和进步奖!A:A,B49,高二质量和进步奖!D:D)>0,SUMIF(高二质量和进步奖!A:A,B49,高二质量和进步奖!D:D),"") | E49: =IF(SUMIF(高三质量奖!A:A,B49,高三质量奖!C:C)>0,SUMIF(高三质量奖!A:A,B49,高三质量奖!C:C),"") | F49: =SUM(C49:E49) -> 0 | G49: =IF(SUMIFS('1.gk_工作量'!$M$4:$M$76,'1.gk_工作量'!$B$4:$B$76,B49)>0,SUMIFS('1.gk_工作量'!$M$4:$M$76,'1.gk_工作量'!$B$4:$B$76,B49),"") | H49: =IF(SUMIFS('2.gk_过程评价'!$C:$C,'2.gk_过程评价'!$A:$A,B49)>0,SUMIFS('2.gk_过程评价'!$C:$C,'2.gk_过程评价'!$A:$A,B49),"") | I49: =IF(SUMIF('3.gk_上线质量'!B:B,B49,'3.gk_上线质量'!D:D)<>0,SUMIF('3.gk_上线质量'!B:B,B49,'3.gk_上线质量'!D:D),"") | J49: =IF(SUMIFS('3.gk_上线质量'!$F$3:$F$62,'3.gk_上线质量'!$B$3:$B$62,B49)<>0,SUMIFS('3.gk_上线质量'!$F$3:$F$62,'3.gk_上线质量'!$B$3:$B$62,B49),"") | K49: =IF(SUMIFS('4.gk_艺体质量'!$F$4:$F$53,'4.gk_艺体质量'!$A$4:$A$53,B49)>0,SUMIFS('4.gk_艺体质量'!$F$4:$F$53,'4.gk_艺体质量'!$A$4:$A$53,B49),"") | L49: =IF(SUMIF('6.gk_年级管理'!A:A,B49,'6.gk_年级管理'!B:B)>0,SUMIF('6.gk_年级管理'!A:A,B49,'6.gk_年级管理'!B:B),"") | M49: =SUM(G49:L49) -> 0 | N49: =F49+M49 -> 0 | O49: 1000 | P49: 上班一学期补1000
A50: 42 | B50: 降初里 | C50: =IF(SUMIF(高一质量奖!A:A,B50,高一质量奖!B:B)>0,SUMIF(高一质量奖!A:A,B50,高一质量奖!B:B),"") -> 1616.9837 | D50: =IF(SUMIF(高二质量和进步奖!A:A,B50,高二质量和进步奖!D:D)>0,SUMIF(高二质量和进步奖!A:A,B50,高二质量和进步奖!D:D),"") | E50: =IF(SUMIF(高三质量奖!A:A,B50,高三质量奖!C:C)>0,SUMIF(高三质量奖!A:A,B50,高三质量奖!C:C),"") | F50: =SUM(C50:E50) -> 1616.9837 | G50: =IF(SUMIFS('1.gk_工作量'!$M$4:$M$76,'1.gk_工作量'!$B$4:$B$76,B50)>0,SUMIFS('1.gk_工作量'!$M$4:$M$76,'1.gk_工作量'!$B$4:$B$76,B50),"") | H50: =IF(SUMIFS('2.gk_过程评价'!$C:$C,'2.gk_过程评价'!$A:$A,B50)>0,SUMIFS('2.gk_过程评价'!$C:$C,'2.gk_过程评价'!$A:$A,B50),"") | I50: =IF(SUMIF('3.gk_上线质量'!B:B,B50,'3.gk_上线质量'!D:D)<>0,SUMIF('3.gk_上线质量'!B:B,B50,'3.gk_上线质量'!D:D),"") | J50: =IF(SUMIFS('3.gk_上线质量'!$F$3:$F$62,'3.gk_上线质量'!$B$3:$B$62,B50)<>0,SUMIFS('3.gk_上线质量'!$F$3:$F$62,'3.gk_上线质量'!$B$3:$B$62,B50),"") | K50: =IF(SUMIFS('4.gk_艺体质量'!$F$4:$F$53,'4.gk_艺体质量'!$A$4:$A$53,B50)>0,SUMIFS('4.gk_艺体质量'!$F$4:$F$53,'4.gk_艺体质量'!$A$4:$A$53,B50),"") | L50: =IF(SUMIF('6.gk_年级管理'!A:A,B50,'6.gk_年级管理'!B:B)>0,SUMIF('6.gk_年级管理'!A:A,B50,'6.gk_年级管理'!B:B),"") | M50: =SUM(G50:L50) -> 0 | N50: =F50+M50 -> 1616.9837 | O50: 2000 | P50: 补足2000
A51: 43 | B51: 解超燕 | C51: =IF(SUMIF(高一质量奖!A:A,B51,高一质量奖!B:B)>0,SUMIF(高一质量奖!A:A,B51,高一质量奖!B:B),"") | D51: =IF(SUMIF(高二质量和进步奖!A:A,B51,高二质量和进步奖!D:D)>0,SUMIF(高二质量和进步奖!A:A,B51,高二质量和进步奖!D:D),"") | E51: =IF(SUMIF(高三质量奖!A:A,B51,高三质量奖!C:C)>0,SUMIF(高三质量奖!A:A,B51,高三质量奖!C:C),"") | F51: =SUM(C51:E51) -> 0 | G51: =IF(SUMIFS('1.gk_工作量'!$M$4:$M$76,'1.gk_工作量'!$B$4:$B$76,B51)>0,SUMIFS('1.gk_工作量'!$M$4:$M$76,'1.gk_工作量'!$B$4:$B$76,B51),"") | H51: =IF(SUMIFS('2.gk_过程评价'!$C:$C,'2.gk_过程评价'!$A:$A,B51)>0,SUMIFS('2.gk_过程评价'!$C:$C,'2.gk_过程评价'!$A:$A,B51),"") | I51: =IF(SUMIF('3.gk_上线质量'!B:B,B51,'3.gk_上线质量'!D:D)<>0,SUMIF('3.gk_上线质量'!B:B,B51,'3.gk_上线质量'!D:D),"") | J51: =IF(SUMIFS('3.gk_上线质量'!$F$3:$F$62,'3.gk_上线质量'!$B$3:$B$62,B51)<>0,SUMIFS('3.gk_上线质量'!$F$3:$F$62,'3.gk_上线质量'!$B$3:$B$62,B51),"") | K51: =IF(SUMIFS('4.gk_艺体质量'!$F$4:$F$53,'4.gk_艺体质量'!$A$4:$A$53,B51)>0,SUMIFS('4.gk_艺体质量'!$F$4:$F$53,'4.gk_艺体质量'!$A$4:$A$53,B51),"") | L51: =IF(SUMIF('6.gk_年级管理'!A:A,B51,'6.gk_年级管理'!B:B)>0,SUMIF('6.gk_年级管理'!A:A,B51,'6.gk_年级管理'!B:B),"") | M51: =SUM(G51:L51) -> 0 | N51: =F51+M51 -> 0 | O51: 2000 | P51: 补足2000
A52: 44 | B52: 金贵 | C52: =IF(SUMIF(高一质量奖!A:A,B52,高一质量奖!B:B)>0,SUMIF(高一质量奖!A:A,B52,高一质量奖!B:B),"") | D52: =IF(SUMIF(高二质量和进步奖!A:A,B52,高二质量和进步奖!D:D)>0,SUMIF(高二质量和进步奖!A:A,B52,高二质量和进步奖!D:D),"") | E52: =IF(SUMIF(高三质量奖!A:A,B52,高三质量奖!C:C)>0,SUMIF(高三质量奖!A:A,B52,高三质量奖!C:C),"") -> 4876 | F52: =SUM(C52:E52) -> 4876 | G52: =IF(SUMIFS('1.gk_工作量'!$M$4:$M$76,'1.gk_工作量'!$B$4:$B$76,B52)>0,SUMIFS('1.gk_工作量'!$M$4:$M$76,'1.gk_工作量'!$B$4:$B$76,B52),"") -> 11079.436 | H52: =IF(SUMIFS('2.gk_过程评价'!$C:$C,'2.gk_过程评价'!$A:$A,B52)>0,SUMIFS('2.gk_过程评价'!$C:$C,'2.gk_过程评价'!$A:$A,B52),"") -> 10560.429 | I52: =IF(SUMIF('3.gk_上线质量'!B:B,B52,'3.gk_上线质量'!D:D)<>0,SUMIF('3.gk_上线质量'!B:B,B52,'3.gk_上线质量'!D:D),"") -> 10146.854 | J52: =IF(SUMIFS('3.gk_上线质量'!$F$3:$F$62,'3.gk_上线质量'!$B$3:$B$62,B52)<>0,SUMIFS('3.gk_上线质量'!$F$3:$F$62,'3.gk_上线质量'!$B$3:$B$62,B52),"") -> 5849.1428 | K52: =IF(SUMIFS('4.gk_艺体质量'!$F$4:$F$53,'4.gk_艺体质量'!$A$4:$A$53,B52)>0,SUMIFS('4.gk_艺体质量'!$F$4:$F$53,'4.gk_艺体质量'!$A$4:$A$53,B52),"") -> 2580.2381 | L52: =IF(SUMIF('6.gk_年级管理'!A:A,B52,'6.gk_年级管理'!B:B)>0,SUMIF('6.gk_年级管理'!A:A,B52,'6.gk_年级管理'!B:B),"") -> 582.88108 | M52: =SUM(G52:L52) -> 40798.98 | N52: =F52+M52 -> 45674.98 | O52: =IF(P52="辞职发0.3",N52*0.3,N52) -> 45674.98
A53: 45 | B53: 金勇 | C53: =IF(SUMIF(高一质量奖!A:A,B53,高一质量奖!B:B)>0,SUMIF(高一质量奖!A:A,B53,高一质量奖!B:B),"") | D53: =IF(SUMIF(高二质量和进步奖!A:A,B53,高二质量和进步奖!D:D)>0,SUMIF(高二质量和进步奖!A:A,B53,高二质量和进步奖!D:D),"") | E53: =IF(SUMIF(高三质量奖!A:A,B53,高三质量奖!C:C)>0,SUMIF(高三质量奖!A:A,B53,高三质量奖!C:C),"") | F53: =SUM(C53:E53) -> 0 | G53: =IF(SUMIFS('1.gk_工作量'!$M$4:$M$76,'1.gk_工作量'!$B$4:$B$76,B53)>0,SUMIFS('1.gk_工作量'!$M$4:$M$76,'1.gk_工作量'!$B$4:$B$76,B53),"") -> 534.12346 | H53: =IF(SUMIFS('2.gk_过程评价'!$C:$C,'2.gk_过程评价'!$A:$A,B53)>0,SUMIFS('2.gk_过程评价'!$C:$C,'2.gk_过程评价'!$A:$A,B53),"") -> 1772.9239 | I53: =IF(SUMIF('3.gk_上线质量'!B:B,B53,'3.gk_上线质量'!D:D)<>0,SUMIF('3.gk_上线质量'!B:B,B53,'3.gk_上线质量'!D:D),"") | J53: =IF(SUMIFS('3.gk_上线质量'!$F$3:$F$62,'3.gk_上线质量'!$B$3:$B$62,B53)<>0,SUMIFS('3.gk_上线质量'!$F$3:$F$62,'3.gk_上线质量'!$B$3:$B$62,B53),"") | K53: =IF(SUMIFS('4.gk_艺体质量'!$F$4:$F$53,'4.gk_艺体质量'!$A$4:$A$53,B53)>0,SUMIFS('4.gk_艺体质量'!$F$4:$F$53,'4.gk_艺体质量'!$A$4:$A$53,B53),"") | L53: =IF(SUMIF('6.gk_年级管理'!A:A,B53,'6.gk_年级管理'!B:B)>0,SUMIF('6.gk_年级管理'!A:A,B53,'6.gk_年级管理'!B:B),"") | M53: =SUM(G53:L53) -> 2307.0474 | N53: =F53+M53 -> 2307.0474 | O53: =IF(P53="辞职发0.3",N53*0.3,N53) -> 2307.0474 | P53: 浙江援藏
A54: 46 | B54: 康小平 | C54: =IF(SUMIF(高一质量奖!A:A,B54,高一质量奖!B:B)>0,SUMIF(高一质量奖!A:A,B54,高一质量奖!B:B),"") | D54: =IF(SUMIF(高二质量和进步奖!A:A,B54,高二质量和进步奖!D:D)>0,SUMIF(高二质量和进步奖!A:A,B54,高二质量和进步奖!D:D),"") | E54: =IF(SUMIF(高三质量奖!A:A,B54,高三质量奖!C:C)>0,SUMIF(高三质量奖!A:A,B54,高三质量奖!C:C),"") | F54: =SUM(C54:E54) -> 0 | G54: =IF(SUMIFS('1.gk_工作量'!$M$4:$M$76,'1.gk_工作量'!$B$4:$B$76,B54)>0,SUMIFS('1.gk_工作量'!$M$4:$M$76,'1.gk_工作量'!$B$4:$B$76,B54),"") | H54: =IF(SUMIFS('2.gk_过程评价'!$C:$C,'2.gk_过程评价'!$A:$A,B54)>0,SUMIFS('2.gk_过程评价'!$C:$C,'2.gk_过程评价'!$A:$A,B54),"") | I54: =IF(SUMIF('3.gk_上线质量'!B:B,B54,'3.gk_上线质量'!D:D)<>0,SUMIF('3.gk_上线质量'!B:B,B54,'3.gk_上线质量'!D:D),"") | J54: =IF(SUMIFS('3.gk_上线质量'!$F$3:$F$62,'3.gk_上线质量'!$B$3:$B$62,B54)<>0,SUMIFS('3.gk_上线质量'!$F$3:$F$62,'3.gk_上线质量'!$B$3:$B$62,B54),"") | K54: =IF(SUMIFS('4.gk_艺体质量'!$F$4:$F$53,'4.gk_艺体质量'!$A$4:$A$53,B54)>0,SUMIFS('4.gk_艺体质量'!$F$4:$F$53,'4.gk_艺体质量'!$A$4:$A$53,B54),"") | L54: =IF(SUMIF('6.gk_年级管理'!A:A,B54,'6.gk_年级管理'!B:B)>0,SUMIF('6.gk_年级管理'!A:A,B54,'6.gk_年级管理'!B:B),"") | M54: =SUM(G54:L54) -> 0 | N54: =F54+M54 -> 0 | O54: 2000 | P54: 补足2000
A55: 47 | B55: 康宇峰 | C55: =IF(SUMIF(高一质量奖!A:A,B55,高一质量奖!B:B)>0,SUMIF(高一质量奖!A:A,B55,高一质量奖!B:B),"") | D55: =IF(SUMIF(高二质量和进步奖!A:A,B55,高二质量和进步奖!D:D)>0,SUMIF(高二质量和进步奖!A:A,B55,高二质量和进步奖!D:D),"") | E55: =IF(SUMIF(高三质量奖!A:A,B55,高三质量奖!C:C)>0,SUMIF(高三质量奖!A:A,B55,高三质量奖!C:C),"") -> 705 | F55: =SUM(C55:E55) -> 705 | G55: =IF(SUMIFS('1.gk_工作量'!$M$4:$M$76,'1.gk_工作量'!$B$4:$B$76,B55)>0,SUMIFS('1.gk_工作量'!$M$4:$M$76,'1.gk_工作量'!$B$4:$B$76,B55),"") -> 1257.6744 | H55: =IF(SUMIFS('2.gk_过程评价'!$C:$C,'2.gk_过程评价'!$A:$A,B55)>0,SUMIFS('2.gk_过程评价'!$C:$C,'2.gk_过程评价'!$A:$A,B55),"") -> 864.64403 | I55: =IF(SUMIF('3.gk_上线质量'!B:B,B55,'3.gk_上线质量'!D:D)<>0,SUMIF('3.gk_上线质量'!B:B,B55,'3.gk_上线质量'!D:D),"") | J55: =IF(SUMIFS('3.gk_上线质量'!$F$3:$F$62,'3.gk_上线质量'!$B$3:$B$62,B55)<>0,SUMIFS('3.gk_上线质量'!$F$3:$F$62,'3.gk_上线质量'!$B$3:$B$62,B55),"") | K55: =IF(SUMIFS('4.gk_艺体质量'!$F$4:$F$53,'4.gk_艺体质量'!$A$4:$A$53,B55)>0,SUMIFS('4.gk_艺体质量'!$F$4:$F$53,'4.gk_艺体质量'!$A$4:$A$53,B55),"") -> 774.07143 | L55: =IF(SUMIF('6.gk_年级管理'!A:A,B55,'6.gk_年级管理'!B:B)>0,SUMIF('6.gk_年级管理'!A:A,B55,'6.gk_年级管理'!B:B),"") | M55: =SUM(G55:L55) -> 2896.3899 | N55: =F55+M55 -> 3601.3899 | O55: =IF(P55="辞职发0.3",N55*0.3,N55) -> 3601.3899 | P55: 攀枝花援藏
A56: 48 | B56: 拉初 | C56: =IF(SUMIF(高一质量奖!A:A,B56,高一质量奖!B:B)>0,SUMIF(高一质量奖!A:A,B56,高一质量奖!B:B),"") | D56: =IF(SUMIF(高二质量和进步奖!A:A,B56,高二质量和进步奖!D:D)>0,SUMIF(高二质量和进步奖!A:A,B56,高二质量和进步奖!D:D),"") | E56: =IF(SUMIF(高三质量奖!A:A,B56,高三质量奖!C:C)>0,SUMIF(高三质量奖!A:A,B56,高三质量奖!C:C),"") | F56: =SUM(C56:E56) -> 0 | G56: =IF(SUMIFS('1.gk_工作量'!$M$4:$M$76,'1.gk_工作量'!$B$4:$B$76,B56)>0,SUMIFS('1.gk_工作量'!$M$4:$M$76,'1.gk_工作量'!$B$4:$B$76,B56),"") | H56: =IF(SUMIFS('2.gk_过程评价'!$C:$C,'2.gk_过程评价'!$A:$A,B56)>0,SUMIFS('2.gk_过程评价'!$C:$C,'2.gk_过程评价'!$A:$A,B56),"") | I56: =IF(SUMIF('3.gk_上线质量'!B:B,B56,'3.gk_上线质量'!D:D)<>0,SUMIF('3.gk_上线质量'!B:B,B56,'3.gk_上线质量'!D:D),"") | J56: =IF(SUMIFS('3.gk_上线质量'!$F$3:$F$62,'3.gk_上线质量'!$B$3:$B$62,B56)<>0,SUMIFS('3.gk_上线质量'!$F$3:$F$62,'3.gk_上线质量'!$B$3:$B$62,B56),"") | K56: =IF(SUMIFS('4.gk_艺体质量'!$F$4:$F$53,'4.gk_艺体质量'!$A$4:$A$53,B56)>0,SUMIFS('4.gk_艺体质量'!$F$4:$F$53,'4.gk_艺体质量'!$A$4:$A$53,B56),"") | L56: =IF(SUMIF('6.gk_年级管理'!A:A,B56,'6.gk_年级管理'!B:B)>0,SUMIF('6.gk_年级管理'!A:A,B56,'6.gk_年级管理'!B:B),"") | M56: =SUM(G56:L56) -> 0 | N56: =F56+M56 -> 0 | O56: 2000 | P56: 补足2000
A57: 49 | B57: 喇菊 | C57: =IF(SUMIF(高一质量奖!A:A,B57,高一质量奖!B:B)>0,SUMIF(高一质量奖!A:A,B57,高一质量奖!B:B),"") -> 1466.6934 | D57: =IF(SUMIF(高二质量和进步奖!A:A,B57,高二质量和进步奖!D:D)>0,SUMIF(高二质量和进步奖!A:A,B57,高二质量和进步奖!D:D),"") | E57: =IF(SUMIF(高三质量奖!A:A,B57,高三质量奖!C:C)>0,SUMIF(高三质量奖!A:A,B57,高三质量奖!C:C),"") | F57: =SUM(C57:E57) -> 1466.6934 | G57: =IF(SUMIFS('1.gk_工作量'!$M$4:$M$76,'1.gk_工作量'!$B$4:$B$76,B57)>0,SUMIFS('1.gk_工作量'!$M$4:$M$76,'1.gk_工作量'!$B$4:$B$76,B57),"") | H57: =IF(SUMIFS('2.gk_过程评价'!$C:$C,'2.gk_过程评价'!$A:$A,B57)>0,SUMIFS('2.gk_过程评价'!$C:$C,'2.gk_过程评价'!$A:$A,B57),"") | I57: =IF(SUMIF('3.gk_上线质量'!B:B,B57,'3.gk_上线质量'!D:D)<>0,SUMIF('3.gk_上线质量'!B:B,B57,'3.gk_上线质量'!D:D),"") | J57: =IF(SUMIFS('3.gk_上线质量'!$F$3:$F$62,'3.gk_上线质量'!$B$3:$B$62,B57)<>0,SUMIFS('3.gk_上线质量'!$F$3:$F$62,'3.gk_上线质量'!$B$3:$B$62,B57),"") | K57: =IF(SUMIFS('4.gk_艺体质量'!$F$4:$F$53,'4.gk_艺体质量'!$A$4:$A$53,B57)>0,SUMIFS('4.gk_艺体质量'!$F$4:$F$53,'4.gk_艺体质量'!$A$4:$A$53,B57),"") | L57: =IF(SUMIF('6.gk_年级管理'!A:A,B57,'6.gk_年级管理'!B:B)>0,SUMIF('6.gk_年级管理'!A:A,B57,'6.gk_年级管理'!B:B),"") | M57: =SUM(G57:L57) -> 0 | N57: =F57+M57 -> 1466.6934 | O57: 2000 | P57: 补足2000
A58: 50 | B58: 喇燕 | C58: =IF(SUMIF(高一质量奖!A:A,B58,高一质量奖!B:B)>0,SUMIF(高一质量奖!A:A,B58,高一质量奖!B:B),"") -> 8160.9242 | D58: =IF(SUMIF(高二质量和进步奖!A:A,B58,高二质量和进步奖!D:D)>0,SUMIF(高二质量和进步奖!A:A,B58,高二质量和进步奖!D:D),"") | E58: =IF(SUMIF(高三质量奖!A:A,B58,高三质量奖!C:C)>0,SUMIF(高三质量奖!A:A,B58,高三质量奖!C:C),"") | F58: =SUM(C58:E58) -> 8160.9242 | G58: =IF(SUMIFS('1.gk_工作量'!$M$4:$M$76,'1.gk_工作量'!$B$4:$B$76,B58)>0,SUMIFS('1.gk_工作量'!$M$4:$M$76,'1.gk_工作量'!$B$4:$B$76,B58),"") | H58: =IF(SUMIFS('2.gk_过程评价'!$C:$C,'2.gk_过程评价'!$A:$A,B58)>0,SUMIFS('2.gk_过程评价'!$C:$C,'2.gk_过程评价'!$A:$A,B58),"") | I58: =IF(SUMIF('3.gk_上线质量'!B:B,B58,'3.gk_上线质量'!D:D)<>0,SUMIF('3.gk_上线质量'!B:B,B58,'3.gk_上线质量'!D:D),"") | J58: =IF(SUMIFS('3.gk_上线质量'!$F$3:$F$62,'3.gk_上线质量'!$B$3:$B$62,B58)<>0,SUMIFS('3.gk_上线质量'!$F$3:$F$62,'3.gk_上线质量'!$B$3:$B$62,B58),"") | K58: =IF(SUMIFS('4.gk_艺体质量'!$F$4:$F$53,'4.gk_艺体质量'!$A$4:$A$53,B58)>0,SUMIFS('4.gk_艺体质量'!$F$4:$F$53,'4.gk_艺体质量'!$A$4:$A$53,B58),"") | L58: =IF(SUMIF('6.gk_年级管理'!A:A,B58,'6.gk_年级管理'!B:B)>0,SUMIF('6.gk_年级管理'!A:A,B58,'6.gk_年级管理'!B:B),"") | M58: =SUM(G58:L58) -> 0 | N58: =F58+M58 -> 8160.9242 | O58: =IF(P58="辞职发0.3",N58*0.3,N58) -> 8160.9242
A59: 51 | B59: 兰阿布 | C59: =IF(SUMIF(高一质量奖!A:A,B59,高一质量奖!B:B)>0,SUMIF(高一质量奖!A:A,B59,高一质量奖!B:B),"") | D59: =IF(SUMIF(高二质量和进步奖!A:A,B59,高二质量和进步奖!D:D)>0,SUMIF(高二质量和进步奖!A:A,B59,高二质量和进步奖!D:D),"") | E59: =IF(SUMIF(高三质量奖!A:A,B59,高三质量奖!C:C)>0,SUMIF(高三质量奖!A:A,B59,高三质量奖!C:C),"") -> 1792 | F59: =SUM(C59:E59) -> 1792 | G59: =IF(SUMIFS('1.gk_工作量'!$M$4:$M$76,'1.gk_工作量'!$B$4:$B$76,B59)>0,SUMIFS('1.gk_工作量'!$M$4:$M$76,'1.gk_工作量'!$B$4:$B$76,B59),"") -> 14386.583 | H59: =IF(SUMIFS('2.gk_过程评价'!$C:$C,'2.gk_过程评价'!$A:$A,B59)>0,SUMIFS('2.gk_过程评价'!$C:$C,'2.gk_过程评价'!$A:$A,B59),"") -> 10486.232 | I59: =IF(SUMIF('3.gk_上线质量'!B:B,B59,'3.gk_上线质量'!D:D)<>0,SUMIF('3.gk_上线质量'!B:B,B59,'3.gk_上线质量'!D:D),"") -> 14932.182 | J59: =IF(SUMIFS('3.gk_上线质量'!$F$3:$F$62,'3.gk_上线质量'!$B$3:$B$62,B59)<>0,SUMIFS('3.gk_上线质量'!$F$3:$F$62,'3.gk_上线质量'!$B$3:$B$62,B59),"") -> 7347.0941 | K59: =IF(SUMIFS('4.gk_艺体质量'!$F$4:$F$53,'4.gk_艺体质量'!$A$4:$A$53,B59)>0,SUMIFS('4.gk_艺体质量'!$F$4:$F$53,'4.gk_艺体质量'!$A$4:$A$53,B59),"") -> 57.338625 | L59: =IF(SUMIF('6.gk_年级管理'!A:A,B59,'6.gk_年级管理'!B:B)>0,SUMIF('6.gk_年级管理'!A:A,B59,'6.gk_年级管理'!B:B),"") | M59: =SUM(G59:L59) -> 47209.43 | N59: =F59+M59 -> 49001.43 | O59: =IF(P59="辞职发0.3",N59*0.3,N59) -> 49001.43
A60: 52 | B60: 兰举银 | C60: =IF(SUMIF(高一质量奖!A:A,B60,高一质量奖!B:B)>0,SUMIF(高一质量奖!A:A,B60,高一质量奖!B:B),"") | D60: =IF(SUMIF(高二质量和进步奖!A:A,B60,高二质量和进步奖!D:D)>0,SUMIF(高二质量和进步奖!A:A,B60,高二质量和进步奖!D:D),"") -> 2272.3233 | E60: =IF(SUMIF(高三质量奖!A:A,B60,高三质量奖!C:C)>0,SUMIF(高三质量奖!A:A,B60,高三质量奖!C:C),"") | F60: =SUM(C60:E60) -> 2272.3233 | G60: =IF(SUMIFS('1.gk_工作量'!$M$4:$M$76,'1.gk_工作量'!$B$4:$B$76,B60)>0,SUMIFS('1.gk_工作量'!$M$4:$M$76,'1.gk_工作量'!$B$4:$B$76,B60),"") | H60: =IF(SUMIFS('2.gk_过程评价'!$C:$C,'2.gk_过程评价'!$A:$A,B60)>0,SUMIFS('2.gk_过程评价'!$C:$C,'2.gk_过程评价'!$A:$A,B60),"") | I60: =IF(SUMIF('3.gk_上线质量'!B:B,B60,'3.gk_上线质量'!D:D)<>0,SUMIF('3.gk_上线质量'!B:B,B60,'3.gk_上线质量'!D:D),"") | J60: =IF(SUMIFS('3.gk_上线质量'!$F$3:$F$62,'3.gk_上线质量'!$B$3:$B$62,B60)<>0,SUMIFS('3.gk_上线质量'!$F$3:$F$62,'3.gk_上线质量'!$B$3:$B$62,B60),"") | K60: =IF(SUMIFS('4.gk_艺体质量'!$F$4:$F$53,'4.gk_艺体质量'!$A$4:$A$53,B60)>0,SUMIFS('4.gk_艺体质量'!$F$4:$F$53,'4.gk_艺体质量'!$A$4:$A$53,B60),"") | L60: =IF(SUMIF('6.gk_年级管理'!A:A,B60,'6.gk_年级管理'!B:B)>0,SUMIF('6.gk_年级管理'!A:A,B60,'6.gk_年级管理'!B:B),"") | M60: =SUM(G60:L60) -> 0 | N60: =F60+M60 -> 2272.3233 | O60: =IF(P60="辞职发0.3",N60*0.3,N60) -> 2272.3233
A61: 53 | B61: 兰卡布尺 | C61: =IF(SUMIF(高一质量奖!A:A,B61,高一质量奖!B:B)>0,SUMIF(高一质量奖!A:A,B61,高一质量奖!B:B),"") | D61: =IF(SUMIF(高二质量和进步奖!A:A,B61,高二质量和进步奖!D:D)>0,SUMIF(高二质量和进步奖!A:A,B61,高二质量和进步奖!D:D),"") | E61: =IF(SUMIF(高三质量奖!A:A,B61,高三质量奖!C:C)>0,SUMIF(高三质量奖!A:A,B61,高三质量奖!C:C),"") -> 856 | F61: =SUM(C61:E61) -> 856 | G61: =IF(SUMIFS('1.gk_工作量'!$M$4:$M$76,'1.gk_工作量'!$B$4:$B$76,B61)>0,SUMIFS('1.gk_工作量'!$M$4:$M$76,'1.gk_工作量'!$B$4:$B$76,B61),"") -> 6707.5969 | H61: =IF(SUMIFS('2.gk_过程评价'!$C:$C,'2.gk_过程评价'!$A:$A,B61)>0,SUMIFS('2.gk_过程评价'!$C:$C,'2.gk_过程评价'!$A:$A,B61),"") -> 3481.4291 | I61: =IF(SUMIF('3.gk_上线质量'!B:B,B61,'3.gk_上线质量'!D:D)<>0,SUMIF('3.gk_上线质量'!B:B,B61,'3.gk_上线质量'!D:D),"") -> 1192.1292 | J61: =IF(SUMIFS('3.gk_上线质量'!$F$3:$F$62,'3.gk_上线质量'!$B$3:$B$62,B61)<>0,SUMIFS('3.gk_上线质量'!$F$3:$F$62,'3.gk_上线质量'!$B$3:$B$62,B61),"") -> 534.98258 | K61: =IF(SUMIFS('4.gk_艺体质量'!$F$4:$F$53,'4.gk_艺体质量'!$A$4:$A$53,B61)>0,SUMIFS('4.gk_艺体质量'!$F$4:$F$53,'4.gk_艺体质量'!$A$4:$A$53,B61),"") -> 1032.0952 | L61: =IF(SUMIF('6.gk_年级管理'!A:A,B61,'6.gk_年级管理'!B:B)>0,SUMIF('6.gk_年级管理'!A:A,B61,'6.gk_年级管理'!B:B),"") | M61: =SUM(G61:L61) -> 12948.233 | N61: =F61+M61 -> 13804.233 | O61: =IF(P61="辞职发0.3",N61*0.3,N61) -> 13804.233
A62: 54 | B62: 冷开艳 | C62: =IF(SUMIF(高一质量奖!A:A,B62,高一质量奖!B:B)>0,SUMIF(高一质量奖!A:A,B62,高一质量奖!B:B),"") | D62: =IF(SUMIF(高二质量和进步奖!A:A,B62,高二质量和进步奖!D:D)>0,SUMIF(高二质量和进步奖!A:A,B62,高二质量和进步奖!D:D),"") -> 8476.8 | E62: =IF(SUMIF(高三质量奖!A:A,B62,高三质量奖!C:C)>0,SUMIF(高三质量奖!A:A,B62,高三质量奖!C:C),"") | F62: =SUM(C62:E62) -> 8476.8 | G62: =IF(SUMIFS('1.gk_工作量'!$M$4:$M$76,'1.gk_工作量'!$B$4:$B$76,B62)>0,SUMIFS('1.gk_工作量'!$M$4:$M$76,'1.gk_工作量'!$B$4:$B$76,B62),"") | H62: =IF(SUMIFS('2.gk_过程评价'!$C:$C,'2.gk_过程评价'!$A:$A,B62)>0,SUMIFS('2.gk_过程评价'!$C:$C,'2.gk_过程评价'!$A:$A,B62),"") | I62: =IF(SUMIF('3.gk_上线质量'!B:B,B62,'3.gk_上线质量'!D:D)<>0,SUMIF('3.gk_上线质量'!B:B,B62,'3.gk_上线质量'!D:D),"") | J62: =IF(SUMIFS('3.gk_上线质量'!$F$3:$F$62,'3.gk_上线质量'!$B$3:$B$62,B62)<>0,SUMIFS('3.gk_上线质量'!$F$3:$F$62,'3.gk_上线质量'!$B$3:$B$62,B62),"") | K62: =IF(SUMIFS('4.gk_艺体质量'!$F$4:$F$53,'4.gk_艺体质量'!$A$4:$A$53,B62)>0,SUMIFS('4.gk_艺体质量'!$F$4:$F$53,'4.gk_艺体质量'!$A$4:$A$53,B62),"") | L62: =IF(SUMIF('6.gk_年级管理'!A:A,B62,'6.gk_年级管理'!B:B)>0,SUMIF('6.gk_年级管理'!A:A,B62,'6.gk_年级管理'!B:B),"") | M62: =SUM(G62:L62) -> 0 | N62: =F62+M62 -> 8476.8 | O62: =IF(P62="辞职发0.3",N62*0.3,N62) -> 8476.8
A63: 55 | B63: 李乔军 | C63: =IF(SUMIF(高一质量奖!A:A,B63,高一质量奖!B:B)>0,SUMIF(高一质量奖!A:A,B63,高一质量奖!B:B),"") | D63: =IF(SUMIF(高二质量和进步奖!A:A,B63,高二质量和进步奖!D:D)>0,SUMIF(高二质量和进步奖!A:A,B63,高二质量和进步奖!D:D),"") | E63: =IF(SUMIF(高三质量奖!A:A,B63,高三质量奖!C:C)>0,SUMIF(高三质量奖!A:A,B63,高三质量奖!C:C),"") | F63: =SUM(C63:E63) -> 0 | G63: =IF(SUMIFS('1.gk_工作量'!$M$4:$M$76,'1.gk_工作量'!$B$4:$B$76,B63)>0,SUMIFS('1.gk_工作量'!$M$4:$M$76,'1.gk_工作量'!$B$4:$B$76,B63),"") -> 1869.4321 | H63: =IF(SUMIFS('2.gk_过程评价'!$C:$C,'2.gk_过程评价'!$A:$A,B63)>0,SUMIFS('2.gk_过程评价'!$C:$C,'2.gk_过程评价'!$A:$A,B63),"") -> 3402.7192 | I63: =IF(SUMIF('3.gk_上线质量'!B:B,B63,'3.gk_上线质量'!D:D)<>0,SUMIF('3.gk_上线质量'!B:B,B63,'3.gk_上线质量'!D:D),"") -> 412.66011 | J63: =IF(SUMIFS('3.gk_上线质量'!$F$3:$F$62,'3.gk_上线质量'!$B$3:$B$62,B63)<>0,SUMIFS('3.gk_上线质量'!$F$3:$F$62,'3.gk_上线质量'!$B$3:$B$62,B63),"") -> 320.98955 | K63: =IF(SUMIFS('4.gk_艺体质量'!$F$4:$F$53,'4.gk_艺体质量'!$A$4:$A$53,B63)>0,SUMIFS('4.gk_艺体质量'!$F$4:$F$53,'4.gk_艺体质量'!$A$4:$A$53,B63),"") -> 1169.7079 | L63: =IF(SUMIF('6.gk_年级管理'!A:A,B63,'6.gk_年级管理'!B:B)>0,SUMIF('6.gk_年级管理'!A:A,B63,'6.gk_年级管理'!B:B),"") | M63: =SUM(G63:L63) -> 7175.5089 | N63: =F63+M63 -> 7175.5089 | O63: =IF(P63="辞职发0.3",N63*0.3,N63) -> 7175.5089 | P63: 攀枝花援藏
A64: 56 | B64: 李荣鑫 | C64: =IF(SUMIF(高一质量奖!A:A,B64,高一质量奖!B:B)>0,SUMIF(高一质量奖!A:A,B64,高一质量奖!B:B),"") -> 3651.3608 | D64: =IF(SUMIF(高二质量和进步奖!A:A,B64,高二质量和进步奖!D:D)>0,SUMIF(高二质量和进步奖!A:A,B64,高二质量和进步奖!D:D),"") | E64: =IF(SUMIF(高三质量奖!A:A,B64,高三质量奖!C:C)>0,SUMIF(高三质量奖!A:A,B64,高三质量奖!C:C),"") | F64: =SUM(C64:E64) -> 3651.3608 | G64: =IF(SUMIFS('1.gk_工作量'!$M$4:$M$76,'1.gk_工作量'!$B$4:$B$76,B64)>0,SUMIFS('1.gk_工作量'!$M$4:$M$76,'1.gk_工作量'!$B$4:$B$76,B64),"") -> 1068.2469 | H64: =IF(SUMIFS('2.gk_过程评价'!$C:$C,'2.gk_过程评价'!$A:$A,B64)>0,SUMIFS('2.gk_过程评价'!$C:$C,'2.gk_过程评价'!$A:$A,B64),"") -> 3643.2008 | I64: =IF(SUMIF('3.gk_上线质量'!B:B,B64,'3.gk_上线质量'!D:D)<>0,SUMIF('3.gk_上线质量'!B:B,B64,'3.gk_上线质量'!D:D),"") -> 562.44044 | J64: =IF(SUMIFS('3.gk_上线质量'!$F$3:$F$62,'3.gk_上线质量'!$B$3:$B$62,B64)<>0,SUMIFS('3.gk_上线质量'!$F$3:$F$62,'3.gk_上线质量'!$B$3:$B$62,B64),"") -> 451.76307 | K64: =IF(SUMIFS('4.gk_艺体质量'!$F$4:$F$53,'4.gk_艺体质量'!$A$4:$A$53,B64)>0,SUMIFS('4.gk_艺体质量'!$F$4:$F$53,'4.gk_艺体质量'!$A$4:$A$53,B64),"") | L64: =IF(SUMIF('6.gk_年级管理'!A:A,B64,'6.gk_年级管理'!B:B)>0,SUMIF('6.gk_年级管理'!A:A,B64,'6.gk_年级管理'!B:B),"") | M64: =SUM(G64:L64) -> 5725.6512 | N64: =F64+M64 -> 9377.0119 | O64: =IF(P64="辞职发0.3",N64*0.3,N64) -> 9377.0119
A65: 57 | B65: 李树海 | C65: =IF(SUMIF(高一质量奖!A:A,B65,高一质量奖!B:B)>0,SUMIF(高一质量奖!A:A,B65,高一质量奖!B:B),"") | D65: =IF(SUMIF(高二质量和进步奖!A:A,B65,高二质量和进步奖!D:D)>0,SUMIF(高二质量和进步奖!A:A,B65,高二质量和进步奖!D:D),"") -> 7416.9376 | E65: =IF(SUMIF(高三质量奖!A:A,B65,高三质量奖!C:C)>0,SUMIF(高三质量奖!A:A,B65,高三质量奖!C:C),"") | F65: =SUM(C65:E65) -> 7416.9376 | G65: =IF(SUMIFS('1.gk_工作量'!$M$4:$M$76,'1.gk_工作量'!$B$4:$B$76,B65)>0,SUMIFS('1.gk_工作量'!$M$4:$M$76,'1.gk_工作量'!$B$4:$B$76,B65),"") | H65: =IF(SUMIFS('2.gk_过程评价'!$C:$C,'2.gk_过程评价'!$A:$A,B65)>0,SUMIFS('2.gk_过程评价'!$C:$C,'2.gk_过程评价'!$A:$A,B65),"") | I65: =IF(SUMIF('3.gk_上线质量'!B:B,B65,'3.gk_上线质量'!D:D)<>0,SUMIF('3.gk_上线质量'!B:B,B65,'3.gk_上线质量'!D:D),"") | J65: =IF(SUMIFS('3.gk_上线质量'!$F$3:$F$62,'3.gk_上线质量'!$B$3:$B$62,B65)<>0,SUMIFS('3.gk_上线质量'!$F$3:$F$62,'3.gk_上线质量'!$B$3:$B$62,B65),"") | K65: =IF(SUMIFS('4.gk_艺体质量'!$F$4:$F$53,'4.gk_艺体质量'!$A$4:$A$53,B65)>0,SUMIFS('4.gk_艺体质量'!$F$4:$F$53,'4.gk_艺体质量'!$A$4:$A$53,B65),"") | L65: =IF(SUMIF('6.gk_年级管理'!A:A,B65,'6.gk_年级管理'!B:B)>0,SUMIF('6.gk_年级管理'!A:A,B65,'6.gk_年级管理'!B:B),"") | M65: =SUM(G65:L65) -> 0 | N65: =F65+M65 -> 7416.9376 | O65: =IF(P65="辞职发0.3",N65*0.3,N65) -> 7416.9376
A66: 58 | B66: 李挖合 | C66: =IF(SUMIF(高一质量奖!A:A,B66,高一质量奖!B:B)>0,SUMIF(高一质量奖!A:A,B66,高一质量奖!B:B),"") | D66: =IF(SUMIF(高二质量和进步奖!A:A,B66,高二质量和进步奖!D:D)>0,SUMIF(高二质量和进步奖!A:A,B66,高二质量和进步奖!D:D),"") | E66: =IF(SUMIF(高三质量奖!A:A,B66,高三质量奖!C:C)>0,SUMIF(高三质量奖!A:A,B66,高三质量奖!C:C),"") | F66: =SUM(C66:E66) -> 0 | G66: =IF(SUMIFS('1.gk_工作量'!$M$4:$M$76,'1.gk_工作量'!$B$4:$B$76,B66)>0,SUMIFS('1.gk_工作量'!$M$4:$M$76,'1.gk_工作量'!$B$4:$B$76,B66),"") -> 1030.0952 | H66: =IF(SUMIFS('2.gk_过程评价'!$C:$C,'2.gk_过程评价'!$A:$A,B66)>0,SUMIFS('2.gk_过程评价'!$C:$C,'2.gk_过程评价'!$A:$A,B66),"") | I66: =IF(SUMIF('3.gk_上线质量'!B:B,B66,'3.gk_上线质量'!D:D)<>0,SUMIF('3.gk_上线质量'!B:B,B66,'3.gk_上线质量'!D:D),"") | J66: =IF(SUMIFS('3.gk_上线质量'!$F$3:$F$62,'3.gk_上线质量'!$B$3:$B$62,B66)<>0,SUMIFS('3.gk_上线质量'!$F$3:$F$62,'3.gk_上线质量'!$B$3:$B$62,B66),"") | K66: =IF(SUMIFS('4.gk_艺体质量'!$F$4:$F$53,'4.gk_艺体质量'!$A$4:$A$53,B66)>0,SUMIFS('4.gk_艺体质量'!$F$4:$F$53,'4.gk_艺体质量'!$A$4:$A$53,B66),"") | L66: =IF(SUMIF('6.gk_年级管理'!A:A,B66,'6.gk_年级管理'!B:B)>0,SUMIF('6.gk_年级管理'!A:A,B66,'6.gk_年级管理'!B:B),"") | M66: =SUM(G66:L66) -> 1030.0952 | N66: =F66+M66 -> 1030.0952 | O66: 2000 | P66: 补足2000
A67: 59 | B67: 李希 | C67: =IF(SUMIF(高一质量奖!A:A,B67,高一质量奖!B:B)>0,SUMIF(高一质量奖!A:A,B67,高一质量奖!B:B),"") | D67: =IF(SUMIF(高二质量和进步奖!A:A,B67,高二质量和进步奖!D:D)>0,SUMIF(高二质量和进步奖!A:A,B67,高二质量和进步奖!D:D),"") | E67: =IF(SUMIF(高三质量奖!A:A,B67,高三质量奖!C:C)>0,SUMIF(高三质量奖!A:A,B67,高三质量奖!C:C),"") -> 3389 | F67: =SUM(C67:E67) -> 3389 | G67: =IF(SUMIFS('1.gk_工作量'!$M$4:$M$76,'1.gk_工作量'!$B$4:$B$76,B67)>0,SUMIFS('1.gk_工作量'!$M$4:$M$76,'1.gk_工作量'!$B$4:$B$76,B67),"") -> 14320.554 | H67: =IF(SUMIFS('2.gk_过程评价'!$C:$C,'2.gk_过程评价'!$A:$A,B67)>0,SUMIFS('2.gk_过程评价'!$C:$C,'2.gk_过程评价'!$A:$A,B67),"") -> 10620.363 | I67: =IF(SUMIF('3.gk_上线质量'!B:B,B67,'3.gk_上线质量'!D:D)<>0,SUMIF('3.gk_上线质量'!B:B,B67,'3.gk_上线质量'!D:D),"") -> 1381.6472 | J67: =IF(SUMIFS('3.gk_上线质量'!$F$3:$F$62,'3.gk_上线质量'!$B$3:$B$62,B67)<>0,SUMIFS('3.gk_上线质量'!$F$3:$F$62,'3.gk_上线质量'!$B$3:$B$62,B67),"") -> 2593.0143 | K67: =IF(SUMIFS('4.gk_艺体质量'!$F$4:$F$53,'4.gk_艺体质量'!$A$4:$A$53,B67)>0,SUMIFS('4.gk_艺体质量'!$F$4:$F$53,'4.gk_艺体质量'!$A$4:$A$53,B67),"") -> 2201.8032 | L67: =IF(SUMIF('6.gk_年级管理'!A:A,B67,'6.gk_年级管理'!B:B)>0,SUMIF('6.gk_年级管理'!A:A,B67,'6.gk_年级管理'!B:B),"") -> 414.02456 | M67: =SUM(G67:L67) -> 31531.406 | N67: =F67+M67 -> 34920.406 | O67: =IF(P67="辞职发0.3",N67*0.3,N67) -> 34920.406
A68: 60 | B68: 李瑛 | C68: =IF(SUMIF(高一质量奖!A:A,B68,高一质量奖!B:B)>0,SUMIF(高一质量奖!A:A,B68,高一质量奖!B:B),"") | D68: =IF(SUMIF(高二质量和进步奖!A:A,B68,高二质量和进步奖!D:D)>0,SUMIF(高二质量和进步奖!A:A,B68,高二质量和进步奖!D:D),"") | E68: =IF(SUMIF(高三质量奖!A:A,B68,高三质量奖!C:C)>0,SUMIF(高三质量奖!A:A,B68,高三质量奖!C:C),"") | F68: =SUM(C68:E68) -> 0 | G68: =IF(SUMIFS('1.gk_工作量'!$M$4:$M$76,'1.gk_工作量'!$B$4:$B$76,B68)>0,SUMIFS('1.gk_工作量'!$M$4:$M$76,'1.gk_工作量'!$B$4:$B$76,B68),"") -> 11484.689 | H68: =IF(SUMIFS('2.gk_过程评价'!$C:$C,'2.gk_过程评价'!$A:$A,B68)>0,SUMIFS('2.gk_过程评价'!$C:$C,'2.gk_过程评价'!$A:$A,B68),"") | I68: =IF(SUMIF('3.gk_上线质量'!B:B,B68,'3.gk_上线质量'!D:D)<>0,SUMIF('3.gk_上线质量'!B:B,B68,'3.gk_上线质量'!D:D),"") | J68: =IF(SUMIFS('3.gk_上线质量'!$F$3:$F$62,'3.gk_上线质量'!$B$3:$B$62,B68)<>0,SUMIFS('3.gk_上线质量'!$F$3:$F$62,'3.gk_上线质量'!$B$3:$B$62,B68),"") | K68: =IF(SUMIFS('4.gk_艺体质量'!$F$4:$F$53,'4.gk_艺体质量'!$A$4:$A$53,B68)>0,SUMIFS('4.gk_艺体质量'!$F$4:$F$53,'4.gk_艺体质量'!$A$4:$A$53,B68),"") -> 22606.855 | L68: =IF(SUMIF('6.gk_年级管理'!A:A,B68,'6.gk_年级管理'!B:B)>0,SUMIF('6.gk_年级管理'!A:A,B68,'6.gk_年级管理'!B:B),"") | M68: =SUM(G68:L68) -> 34091.545 | N68: =F68+M68 -> 34091.545 | O68: =IF(P68="辞职发0.3",N68*0.3,N68) -> 34091.545
A69: 61 | B69: 李永会 | C69: =IF(SUMIF(高一质量奖!A:A,B69,高一质量奖!B:B)>0,SUMIF(高一质量奖!A:A,B69,高一质量奖!B:B),"") | D69: =IF(SUMIF(高二质量和进步奖!A:A,B69,高二质量和进步奖!D:D)>0,SUMIF(高二质量和进步奖!A:A,B69,高二质量和进步奖!D:D),"") | E69: =IF(SUMIF(高三质量奖!A:A,B69,高三质量奖!C:C)>0,SUMIF(高三质量奖!A:A,B69,高三质量奖!C:C),"") | F69: =SUM(C69:E69) -> 0 | G69: =IF(SUMIFS('1.gk_工作量'!$M$4:$M$76,'1.gk_工作量'!$B$4:$B$76,B69)>0,SUMIFS('1.gk_工作量'!$M$4:$M$76,'1.gk_工作量'!$B$4:$B$76,B69),"") | H69: =IF(SUMIFS('2.gk_过程评价'!$C:$C,'2.gk_过程评价'!$A:$A,B69)>0,SUMIFS('2.gk_过程评价'!$C:$C,'2.gk_过程评价'!$A:$A,B69),"") | I69: =IF(SUMIF('3.gk_上线质量'!B:B,B69,'3.gk_上线质量'!D:D)<>0,SUMIF('3.gk_上线质量'!B:B,B69,'3.gk_上线质量'!D:D),"") | J69: =IF(SUMIFS('3.gk_上线质量'!$F$3:$F$62,'3.gk_上线质量'!$B$3:$B$62,B69)<>0,SUMIFS('3.gk_上线质量'!$F$3:$F$62,'3.gk_上线质量'!$B$3:$B$62,B69),"") | K69: =IF(SUMIFS('4.gk_艺体质量'!$F$4:$F$53,'4.gk_艺体质量'!$A$4:$A$53,B69)>0,SUMIFS('4.gk_艺体质量'!$F$4:$F$53,'4.gk_艺体质量'!$A$4:$A$53,B69),"") | L69: =IF(SUMIF('6.gk_年级管理'!A:A,B69,'6.gk_年级管理'!B:B)>0,SUMIF('6.gk_年级管理'!A:A,B69,'6.gk_年级管理'!B:B),"") | M69: =SUM(G69:L69) -> 0 | N69: =F69+M69 -> 0 | O69: 2000 | P69: 补足2000
A70: 62 | B70: 李正琪 | C70: =IF(SUMIF(高一质量奖!A:A,B70,高一质量奖!B:B)>0,SUMIF(高一质量奖!A:A,B70,高一质量奖!B:B),"") -> 1687.7593 | D70: =IF(SUMIF(高二质量和进步奖!A:A,B70,高二质量和进步奖!D:D)>0,SUMIF(高二质量和进步奖!A:A,B70,高二质量和进步奖!D:D),"") | E70: =IF(SUMIF(高三质量奖!A:A,B70,高三质量奖!C:C)>0,SUMIF(高三质量奖!A:A,B70,高三质量奖!C:C),"") | F70: =SUM(C70:E70) -> 1687.7593 | G70: =IF(SUMIFS('1.gk_工作量'!$M$4:$M$76,'1.gk_工作量'!$B$4:$B$76,B70)>0,SUMIFS('1.gk_工作量'!$M$4:$M$76,'1.gk_工作量'!$B$4:$B$76,B70),"") | H70: =IF(SUMIFS('2.gk_过程评价'!$C:$C,'2.gk_过程评价'!$A:$A,B70)>0,SUMIFS('2.gk_过程评价'!$C:$C,'2.gk_过程评价'!$A:$A,B70),"") | I70: =IF(SUMIF('3.gk_上线质量'!B:B,B70,'3.gk_上线质量'!D:D)<>0,SUMIF('3.gk_上线质量'!B:B,B70,'3.gk_上线质量'!D:D),"") | J70: =IF(SUMIFS('3.gk_上线质量'!$F$3:$F$62,'3.gk_上线质量'!$B$3:$B$62,B70)<>0,SUMIFS('3.gk_上线质量'!$F$3:$F$62,'3.gk_上线质量'!$B$3:$B$62,B70),"") | K70: =IF(SUMIFS('4.gk_艺体质量'!$F$4:$F$53,'4.gk_艺体质量'!$A$4:$A$53,B70)>0,SUMIFS('4.gk_艺体质量'!$F$4:$F$53,'4.gk_艺体质量'!$A$4:$A$53,B70),"") | L70: =IF(SUMIF('6.gk_年级管理'!A:A,B70,'6.gk_年级管理'!B:B)>0,SUMIF('6.gk_年级管理'!A:A,B70,'6.gk_年级管理'!B:B),"") | M70: =SUM(G70:L70) -> 0 | N70: =F70+M70 -> 1687.7593 | O70: 2000 | P70: 补足2000
A71: 63 | B71: 李志友 | C71: =IF(SUMIF(高一质量奖!A:A,B71,高一质量奖!B:B)>0,SUMIF(高一质量奖!A:A,B71,高一质量奖!B:B),"") | D71: =IF(SUMIF(高二质量和进步奖!A:A,B71,高二质量和进步奖!D:D)>0,SUMIF(高二质量和进步奖!A:A,B71,高二质量和进步奖!D:D),"") -> 11021.086 | E71: =IF(SUMIF(高三质量奖!A:A,B71,高三质量奖!C:C)>0,SUMIF(高三质量奖!A:A,B71,高三质量奖!C:C),"") | F71: =SUM(C71:E71) -> 11021.086 | G71: =IF(SUMIFS('1.gk_工作量'!$M$4:$M$76,'1.gk_工作量'!$B$4:$B$76,B71)>0,SUMIFS('1.gk_工作量'!$M$4:$M$76,'1.gk_工作量'!$B$4:$B$76,B71),"") | H71: =IF(SUMIFS('2.gk_过程评价'!$C:$C,'2.gk_过程评价'!$A:$A,B71)>0,SUMIFS('2.gk_过程评价'!$C:$C,'2.gk_过程评价'!$A:$A,B71),"") | I71: =IF(SUMIF('3.gk_上线质量'!B:B,B71,'3.gk_上线质量'!D:D)<>0,SUMIF('3.gk_上线质量'!B:B,B71,'3.gk_上线质量'!D:D),"") | J71: =IF(SUMIFS('3.gk_上线质量'!$F$3:$F$62,'3.gk_上线质量'!$B$3:$B$62,B71)<>0,SUMIFS('3.gk_上线质量'!$F$3:$F$62,'3.gk_上线质量'!$B$3:$B$62,B71),"") | K71: =IF(SUMIFS('4.gk_艺体质量'!$F$4:$F$53,'4.gk_艺体质量'!$A$4:$A$53,B71)>0,SUMIFS('4.gk_艺体质量'!$F$4:$F$53,'4.gk_艺体质量'!$A$4:$A$53,B71),"") | L71: =IF(SUMIF('6.gk_年级管理'!A:A,B71,'6.gk_年级管理'!B:B)>0,SUMIF('6.gk_年级管理'!A:A,B71,'6.gk_年级管理'!B:B),"") | M71: =SUM(G71:L71) -> 0 | N71: =F71+M71 -> 11021.086 | O71: =IF(P71="辞职发0.3",N71*0.3,N71) -> 11021.086
A72: 64 | B72: 立日木里 | C72: =IF(SUMIF(高一质量奖!A:A,B72,高一质量奖!B:B)>0,SUMIF(高一质量奖!A:A,B72,高一质量奖!B:B),"") | D72: =IF(SUMIF(高二质量和进步奖!A:A,B72,高二质量和进步奖!D:D)>0,SUMIF(高二质量和进步奖!A:A,B72,高二质量和进步奖!D:D),"") | E72: =IF(SUMIF(高三质量奖!A:A,B72,高三质量奖!C:C)>0,SUMIF(高三质量奖!A:A,B72,高三质量奖!C:C),"") | F72: =SUM(C72:E72) -> 0 | G72: =IF(SUMIFS('1.gk_工作量'!$M$4:$M$76,'1.gk_工作量'!$B$4:$B$76,B72)>0,SUMIFS('1.gk_工作量'!$M$4:$M$76,'1.gk_工作量'!$B$4:$B$76,B72),"") -> 1162.8313 | H72: =IF(SUMIFS('2.gk_过程评价'!$C:$C,'2.gk_过程评价'!$A:$A,B72)>0,SUMIFS('2.gk_过程评价'!$C:$C,'2.gk_过程评价'!$A:$A,B72),"") | I72: =IF(SUMIF('3.gk_上线质量'!B:B,B72,'3.gk_上线质量'!D:D)<>0,SUMIF('3.gk_上线质量'!B:B,B72,'3.gk_上线质量'!D:D),"") | J72: =IF(SUMIFS('3.gk_上线质量'!$F$3:$F$62,'3.gk_上线质量'!$B$3:$B$62,B72)<>0,SUMIFS('3.gk_上线质量'!$F$3:$F$62,'3.gk_上线质量'!$B$3:$B$62,B72),"") | K72: =IF(SUMIFS('4.gk_艺体质量'!$F$4:$F$53,'4.gk_艺体质量'!$A$4:$A$53,B72)>0,SUMIFS('4.gk_艺体质量'!$F$4:$F$53,'4.gk_艺体质量'!$A$4:$A$53,B72),"") | L72: =IF(SUMIF('6.gk_年级管理'!A:A,B72,'6.gk_年级管理'!B:B)>0,SUMIF('6.gk_年级管理'!A:A,B72,'6.gk_年级管理'!B:B),"") | M72: =SUM(G72:L72) -> 1162.8313 | N72: =F72+M72 -> 1162.8313 | O72: 2000 | P72: 补足2000
A73: 65 | B73: 廖云虹 | C73: =IF(SUMIF(高一质量奖!A:A,B73,高一质量奖!B:B)>0,SUMIF(高一质量奖!A:A,B73,高一质量奖!B:B),"") | D73: =IF(SUMIF(高二质量和进步奖!A:A,B73,高二质量和进步奖!D:D)>0,SUMIF(高二质量和进步奖!A:A,B73,高二质量和进步奖!D:D),"") | E73: =IF(SUMIF(高三质量奖!A:A,B73,高三质量奖!C:C)>0,SUMIF(高三质量奖!A:A,B73,高三质量奖!C:C),"") -> 1817 | F73: =SUM(C73:E73) -> 1817 | G73: =IF(SUMIFS('1.gk_工作量'!$M$4:$M$76,'1.gk_工作量'!$B$4:$B$76,B73)>0,SUMIFS('1.gk_工作量'!$M$4:$M$76,'1.gk_工作量'!$B$4:$B$76,B73),"") -> 10312.93 | H73: =IF(SUMIFS('2.gk_过程评价'!$C:$C,'2.gk_过程评价'!$A:$A,B73)>0,SUMIFS('2.gk_过程评价'!$C:$C,'2.gk_过程评价'!$A:$A,B73),"") -> 7027.0075 | I73: =IF(SUMIF('3.gk_上线质量'!B:B,B73,'3.gk_上线质量'!D:D)<>0,SUMIF('3.gk_上线质量'!B:B,B73,'3.gk_上线质量'!D:D),"") -> -122.26966 | J73: =IF(SUMIFS('3.gk_上线质量'!$F$3:$F$62,'3.gk_上线质量'!$B$3:$B$62,B73)<>0,SUMIFS('3.gk_上线质量'!$F$3:$F$62,'3.gk_上线质量'!$B$3:$B$62,B73),"") -> 1046.1882 | K73: =IF(SUMIFS('4.gk_艺体质量'!$F$4:$F$53,'4.gk_艺体质量'!$A$4:$A$53,B73)>0,SUMIFS('4.gk_艺体质量'!$F$4:$F$53,'4.gk_艺体质量'!$A$4:$A$53,B73),"") -> 91.741799 | L73: =IF(SUMIF('6.gk_年级管理'!A:A,B73,'6.gk_年级管理'!B:B)>0,SUMIF('6.gk_年级管理'!A:A,B73,'6.gk_年级管理'!B:B),"") | M73: =SUM(G73:L73) -> 18355.598 | N73: =F73+M73 -> 20172.598 | O73: =IF(P73="辞职发0.3",N73*0.3,N73) -> 20172.598
A74: 66 | B74: 刘厚江 | C74: =IF(SUMIF(高一质量奖!A:A,B74,高一质量奖!B:B)>0,SUMIF(高一质量奖!A:A,B74,高一质量奖!B:B),"") | D74: =IF(SUMIF(高二质量和进步奖!A:A,B74,高二质量和进步奖!D:D)>0,SUMIF(高二质量和进步奖!A:A,B74,高二质量和进步奖!D:D),"") | E74: =IF(SUMIF(高三质量奖!A:A,B74,高三质量奖!C:C)>0,SUMIF(高三质量奖!A:A,B74,高三质量奖!C:C),"") | F74: =SUM(C74:E74) -> 0 | G74: =IF(SUMIFS('1.gk_工作量'!$M$4:$M$76,'1.gk_工作量'!$B$4:$B$76,B74)>0,SUMIFS('1.gk_工作量'!$M$4:$M$76,'1.gk_工作量'!$B$4:$B$76,B74),"") -> 5030.6977 | H74: =IF(SUMIFS('2.gk_过程评价'!$C:$C,'2.gk_过程评价'!$A:$A,B74)>0,SUMIFS('2.gk_过程评价'!$C:$C,'2.gk_过程评价'!$A:$A,B74),"") -> 3612.471 | I74: =IF(SUMIF('3.gk_上线质量'!B:B,B74,'3.gk_上线质量'!D:D)<>0,SUMIF('3.gk_上线质量'!B:B,B74,'3.gk_上线质量'!D:D),"") -> 2483.6025 | J74: =IF(SUMIFS('3.gk_上线质量'!$F$3:$F$62,'3.gk_上线质量'!$B$3:$B$62,B74)<>0,SUMIFS('3.gk_上线质量'!$F$3:$F$62,'3.gk_上线质量'!$B$3:$B$62,B74),"") -> 2199.3728 | K74: =IF(SUMIFS('4.gk_艺体质量'!$F$4:$F$53,'4.gk_艺体质量'!$A$4:$A$53,B74)>0,SUMIFS('4.gk_艺体质量'!$F$4:$F$53,'4.gk_艺体质量'!$A$4:$A$53,B74),"") | L74: =IF(SUMIF('6.gk_年级管理'!A:A,B74,'6.gk_年级管理'!B:B)>0,SUMIF('6.gk_年级管理'!A:A,B74,'6.gk_年级管理'!B:B),"") | M74: =SUM(G74:L74) -> 13326.144 | N74: =F74+M74 -> 13326.144 | O74: =IF(P74="辞职发0.3",N74*0.3,N74) -> 13326.144
A75: 67 | B75: 刘玲君 | C75: =IF(SUMIF(高一质量奖!A:A,B75,高一质量奖!B:B)>0,SUMIF(高一质量奖!A:A,B75,高一质量奖!B:B),"") | D75: =IF(SUMIF(高二质量和进步奖!A:A,B75,高二质量和进步奖!D:D)>0,SUMIF(高二质量和进步奖!A:A,B75,高二质量和进步奖!D:D),"") -> 14511.278 | E75: =IF(SUMIF(高三质量奖!A:A,B75,高三质量奖!C:C)>0,SUMIF(高三质量奖!A:A,B75,高三质量奖!C:C),"") | F75: =SUM(C75:E75) -> 14511.278 | G75: =IF(SUMIFS('1.gk_工作量'!$M$4:$M$76,'1.gk_工作量'!$B$4:$B$76,B75)>0,SUMIFS('1.gk_工作量'!$M$4:$M$76,'1.gk_工作量'!$B$4:$B$76,B75),"") | H75: =IF(SUMIFS('2.gk_过程评价'!$C:$C,'2.gk_过程评价'!$A:$A,B75)>0,SUMIFS('2.gk_过程评价'!$C:$C,'2.gk_过程评价'!$A:$A,B75),"") | I75: =IF(SUMIF('3.gk_上线质量'!B:B,B75,'3.gk_上线质量'!D:D)<>0,SUMIF('3.gk_上线质量'!B:B,B75,'3.gk_上线质量'!D:D),"") | J75: =IF(SUMIFS('3.gk_上线质量'!$F$3:$F$62,'3.gk_上线质量'!$B$3:$B$62,B75)<>0,SUMIFS('3.gk_上线质量'!$F$3:$F$62,'3.gk_上线质量'!$B$3:$B$62,B75),"") | K75: =IF(SUMIFS('4.gk_艺体质量'!$F$4:$F$53,'4.gk_艺体质量'!$A$4:$A$53,B75)>0,SUMIFS('4.gk_艺体质量'!$F$4:$F$53,'4.gk_艺体质量'!$A$4:$A$53,B75),"") | L75: =IF(SUMIF('6.gk_年级管理'!A:A,B75,'6.gk_年级管理'!B:B)>0,SUMIF('6.gk_年级管理'!A:A,B75,'6.gk_年级管理'!B:B),"") | M75: =SUM(G75:L75) -> 0 | N75: =F75+M75 -> 14511.278 | O75: =IF(P75="辞职发0.3",N75*0.3,N75) -> 14511.278
A76: 68 | B76: 刘权芳 | C76: =IF(SUMIF(高一质量奖!A:A,B76,高一质量奖!B:B)>0,SUMIF(高一质量奖!A:A,B76,高一质量奖!B:B),"") -> 1776.1171 | D76: =IF(SUMIF(高二质量和进步奖!A:A,B76,高二质量和进步奖!D:D)>0,SUMIF(高二质量和进步奖!A:A,B76,高二质量和进步奖!D:D),"") | E76: =IF(SUMIF(高三质量奖!A:A,B76,高三质量奖!C:C)>0,SUMIF(高三质量奖!A:A,B76,高三质量奖!C:C),"") | F76: =SUM(C76:E76) -> 1776.1171 | G76: =IF(SUMIFS('1.gk_工作量'!$M$4:$M$76,'1.gk_工作量'!$B$4:$B$76,B76)>0,SUMIFS('1.gk_工作量'!$M$4:$M$76,'1.gk_工作量'!$B$4:$B$76,B76),"") | H76: =IF(SUMIFS('2.gk_过程评价'!$C:$C,'2.gk_过程评价'!$A:$A,B76)>0,SUMIFS('2.gk_过程评价'!$C:$C,'2.gk_过程评价'!$A:$A,B76),"") | I76: =IF(SUMIF('3.gk_上线质量'!B:B,B76,'3.gk_上线质量'!D:D)<>0,SUMIF('3.gk_上线质量'!B:B,B76,'3.gk_上线质量'!D:D),"") | J76: =IF(SUMIFS('3.gk_上线质量'!$F$3:$F$62,'3.gk_上线质量'!$B$3:$B$62,B76)<>0,SUMIFS('3.gk_上线质量'!$F$3:$F$62,'3.gk_上线质量'!$B$3:$B$62,B76),"") | K76: =IF(SUMIFS('4.gk_艺体质量'!$F$4:$F$53,'4.gk_艺体质量'!$A$4:$A$53,B76)>0,SUMIFS('4.gk_艺体质量'!$F$4:$F$53,'4.gk_艺体质量'!$A$4:$A$53,B76),"") | L76: =IF(SUMIF('6.gk_年级管理'!A:A,B76,'6.gk_年级管理'!B:B)>0,SUMIF('6.gk_年级管理'!A:A,B76,'6.gk_年级管理'!B:B),"") | M76: =SUM(G76:L76) -> 0 | N76: =F76+M76 -> 1776.1171 | O76: 2000 | P76: 补足2000
A77: 69 | B77: 刘跃军 | C77: =IF(SUMIF(高一质量奖!A:A,B77,高一质量奖!B:B)>0,SUMIF(高一质量奖!A:A,B77,高一质量奖!B:B),"") | D77: =IF(SUMIF(高二质量和进步奖!A:A,B77,高二质量和进步奖!D:D)>0,SUMIF(高二质量和进步奖!A:A,B77,高二质量和进步奖!D:D),"") | E77: =IF(SUMIF(高三质量奖!A:A,B77,高三质量奖!C:C)>0,SUMIF(高三质量奖!A:A,B77,高三质量奖!C:C),"") | F77: =SUM(C77:E77) -> 0 | G77: =IF(SUMIFS('1.gk_工作量'!$M$4:$M$76,'1.gk_工作量'!$B$4:$B$76,B77)>0,SUMIFS('1.gk_工作量'!$M$4:$M$76,'1.gk_工作量'!$B$4:$B$76,B77),"") -> 1287.619 | H77: =IF(SUMIFS('2.gk_过程评价'!$C:$C,'2.gk_过程评价'!$A:$A,B77)>0,SUMIFS('2.gk_过程评价'!$C:$C,'2.gk_过程评价'!$A:$A,B77),"") -> 3383.0236 | I77: =IF(SUMIF('3.gk_上线质量'!B:B,B77,'3.gk_上线质量'!D:D)<>0,SUMIF('3.gk_上线质量'!B:B,B77,'3.gk_上线质量'!D:D),"") -> 862.00111 | J77: =IF(SUMIFS('3.gk_上线质量'!$F$3:$F$62,'3.gk_上线质量'!$B$3:$B$62,B77)<>0,SUMIFS('3.gk_上线质量'!$F$3:$F$62,'3.gk_上线质量'!$B$3:$B$62,B77),"") -> 677.6446 | K77: =IF(SUMIFS('4.gk_艺体质量'!$F$4:$F$53,'4.gk_艺体质量'!$A$4:$A$53,B77)>0,SUMIFS('4.gk_艺体质量'!$F$4:$F$53,'4.gk_艺体质量'!$A$4:$A$53,B77),"") | L77: =IF(SUMIF('6.gk_年级管理'!A:A,B77,'6.gk_年级管理'!B:B)>0,SUMIF('6.gk_年级管理'!A:A,B77,'6.gk_年级管理'!B:B),"") | M77: =SUM(G77:L77) -> 6210.2884 | N77: =F77+M77 -> 6210.2884 | O77: =IF(P77="辞职发0.3",N77*0.3,N77) -> 6210.2884
A78: 70 | B78: 刘云菊 | C78: =IF(SUMIF(高一质量奖!A:A,B78,高一质量奖!B:B)>0,SUMIF(高一质量奖!A:A,B78,高一质量奖!B:B),"") -> 1823.5198 | D78: =IF(SUMIF(高二质量和进步奖!A:A,B78,高二质量和进步奖!D:D)>0,SUMIF(高二质量和进步奖!A:A,B78,高二质量和进步奖!D:D),"") | E78: =IF(SUMIF(高三质量奖!A:A,B78,高三质量奖!C:C)>0,SUMIF(高三质量奖!A:A,B78,高三质量奖!C:C),"") | F78: =SUM(C78:E78) -> 1823.5198 | G78: =IF(SUMIFS('1.gk_工作量'!$M$4:$M$76,'1.gk_工作量'!$B$4:$B$76,B78)>0,SUMIFS('1.gk_工作量'!$M$4:$M$76,'1.gk_工作量'!$B$4:$B$76,B78),"") | H78: =IF(SUMIFS('2.gk_过程评价'!$C:$C,'2.gk_过程评价'!$A:$A,B78)>0,SUMIFS('2.gk_过程评价'!$C:$C,'2.gk_过程评价'!$A:$A,B78),"") | I78: =IF(SUMIF('3.gk_上线质量'!B:B,B78,'3.gk_上线质量'!D:D)<>0,SUMIF('3.gk_上线质量'!B:B,B78,'3.gk_上线质量'!D:D),"") | J78: =IF(SUMIFS('3.gk_上线质量'!$F$3:$F$62,'3.gk_上线质量'!$B$3:$B$62,B78)<>0,SUMIFS('3.gk_上线质量'!$F$3:$F$62,'3.gk_上线质量'!$B$3:$B$62,B78),"") | K78: =IF(SUMIFS('4.gk_艺体质量'!$F$4:$F$53,'4.gk_艺体质量'!$A$4:$A$53,B78)>0,SUMIFS('4.gk_艺体质量'!$F$4:$F$53,'4.gk_艺体质量'!$A$4:$A$53,B78),"") | L78: =IF(SUMIF('6.gk_年级管理'!A:A,B78,'6.gk_年级管理'!B:B)>0,SUMIF('6.gk_年级管理'!A:A,B78,'6.gk_年级管理'!B:B),"") | M78: =SUM(G78:L78) -> 0 | N78: =F78+M78 -> 1823.5198 | O78: 2000 | P78: 补足2000
A79: 71 | B79: 龙志云 | C79: =IF(SUMIF(高一质量奖!A:A,B79,高一质量奖!B:B)>0,SUMIF(高一质量奖!A:A,B79,高一质量奖!B:B),"") | D79: =IF(SUMIF(高二质量和进步奖!A:A,B79,高二质量和进步奖!D:D)>0,SUMIF(高二质量和进步奖!A:A,B79,高二质量和进步奖!D:D),"") -> 1625.7279 | E79: =IF(SUMIF(高三质量奖!A:A,B79,高三质量奖!C:C)>0,SUMIF(高三质量奖!A:A,B79,高三质量奖!C:C),"") | F79: =SUM(C79:E79) -> 1625.7279 | G79: =IF(SUMIFS('1.gk_工作量'!$M$4:$M$76,'1.gk_工作量'!$B$4:$B$76,B79)>0,SUMIFS('1.gk_工作量'!$M$4:$M$76,'1.gk_工作量'!$B$4:$B$76,B79),"") | H79: =IF(SUMIFS('2.gk_过程评价'!$C:$C,'2.gk_过程评价'!$A:$A,B79)>0,SUMIFS('2.gk_过程评价'!$C:$C,'2.gk_过程评价'!$A:$A,B79),"") | I79: =IF(SUMIF('3.gk_上线质量'!B:B,B79,'3.gk_上线质量'!D:D)<>0,SUMIF('3.gk_上线质量'!B:B,B79,'3.gk_上线质量'!D:D),"") | J79: =IF(SUMIFS('3.gk_上线质量'!$F$3:$F$62,'3.gk_上线质量'!$B$3:$B$62,B79)<>0,SUMIFS('3.gk_上线质量'!$F$3:$F$62,'3.gk_上线质量'!$B$3:$B$62,B79),"") | K79: =IF(SUMIFS('4.gk_艺体质量'!$F$4:$F$53,'4.gk_艺体质量'!$A$4:$A$53,B79)>0,SUMIFS('4.gk_艺体质量'!$F$4:$F$53,'4.gk_艺体质量'!$A$4:$A$53,B79),"") | L79: =IF(SUMIF('6.gk_年级管理'!A:A,B79,'6.gk_年级管理'!B:B)>0,SUMIF('6.gk_年级管理'!A:A,B79,'6.gk_年级管理'!B:B),"") | M79: =SUM(G79:L79) -> 0 | N79: =F79+M79 -> 1625.7279 | O79: 2000 | P79: 补足2000
A80: 72 | B80: 卢祥 | C80: =IF(SUMIF(高一质量奖!A:A,B80,高一质量奖!B:B)>0,SUMIF(高一质量奖!A:A,B80,高一质量奖!B:B),"") | D80: =IF(SUMIF(高二质量和进步奖!A:A,B80,高二质量和进步奖!D:D)>0,SUMIF(高二质量和进步奖!A:A,B80,高二质量和进步奖!D:D),"") | E80: =IF(SUMIF(高三质量奖!A:A,B80,高三质量奖!C:C)>0,SUMIF(高三质量奖!A:A,B80,高三质量奖!C:C),"") | F80: =SUM(C80:E80) -> 0 | G80: =IF(SUMIFS('1.gk_工作量'!$M$4:$M$76,'1.gk_工作量'!$B$4:$B$76,B80)>0,SUMIFS('1.gk_工作量'!$M$4:$M$76,'1.gk_工作量'!$B$4:$B$76,B80),"") -> 11013.558 | H80: =IF(SUMIFS('2.gk_过程评价'!$C:$C,'2.gk_过程评价'!$A:$A,B80)>0,SUMIFS('2.gk_过程评价'!$C:$C,'2.gk_过程评价'!$A:$A,B80),"") -> 10505.286 | I80: =IF(SUMIF('3.gk_上线质量'!B:B,B80,'3.gk_上线质量'!D:D)<>0,SUMIF('3.gk_上线质量'!B:B,B80,'3.gk_上线质量'!D:D),"") -> 10302.747 | J80: =IF(SUMIFS('3.gk_上线质量'!$F$3:$F$62,'3.gk_上线质量'!$B$3:$B$62,B80)<>0,SUMIFS('3.gk_上线质量'!$F$3:$F$62,'3.gk_上线质量'!$B$3:$B$62,B80),"") -> 6800.223 | K80: =IF(SUMIFS('4.gk_艺体质量'!$F$4:$F$53,'4.gk_艺体质量'!$A$4:$A$53,B80)>0,SUMIFS('4.gk_艺体质量'!$F$4:$F$53,'4.gk_艺体质量'!$A$4:$A$53,B80),"") | L80: =IF(SUMIF('6.gk_年级管理'!A:A,B80,'6.gk_年级管理'!B:B)>0,SUMIF('6.gk_年级管理'!A:A,B80,'6.gk_年级管理'!B:B),"") -> 135.80571 | M80: =SUM(G80:L80) -> 38757.62 | N80: =F80+M80 -> 38757.62 | O80: =IF(P80="辞职发0.3",N80*0.3,N80) -> 38757.62
A81: 73 | B81: 卢逸 | C81: =IF(SUMIF(高一质量奖!A:A,B81,高一质量奖!B:B)>0,SUMIF(高一质量奖!A:A,B81,高一质量奖!B:B),"") -> 791.62855 | D81: =IF(SUMIF(高二质量和进步奖!A:A,B81,高二质量和进步奖!D:D)>0,SUMIF(高二质量和进步奖!A:A,B81,高二质量和进步奖!D:D),"") | E81: =IF(SUMIF(高三质量奖!A:A,B81,高三质量奖!C:C)>0,SUMIF(高三质量奖!A:A,B81,高三质量奖!C:C),"") | F81: =SUM(C81:E81) -> 791.62855 | G81: =IF(SUMIFS('1.gk_工作量'!$M$4:$M$76,'1.gk_工作量'!$B$4:$B$76,B81)>0,SUMIFS('1.gk_工作量'!$M$4:$M$76,'1.gk_工作量'!$B$4:$B$76,B81),"") | H81: =IF(SUMIFS('2.gk_过程评价'!$C:$C,'2.gk_过程评价'!$A:$A,B81)>0,SUMIFS('2.gk_过程评价'!$C:$C,'2.gk_过程评价'!$A:$A,B81),"") | I81: =IF(SUMIF('3.gk_上线质量'!B:B,B81,'3.gk_上线质量'!D:D)<>0,SUMIF('3.gk_上线质量'!B:B,B81,'3.gk_上线质量'!D:D),"") | J81: =IF(SUMIFS('3.gk_上线质量'!$F$3:$F$62,'3.gk_上线质量'!$B$3:$B$62,B81)<>0,SUMIFS('3.gk_上线质量'!$F$3:$F$62,'3.gk_上线质量'!$B$3:$B$62,B81),"") | K81: =IF(SUMIFS('4.gk_艺体质量'!$F$4:$F$53,'4.gk_艺体质量'!$A$4:$A$53,B81)>0,SUMIFS('4.gk_艺体质量'!$F$4:$F$53,'4.gk_艺体质量'!$A$4:$A$53,B81),"") | L81: =IF(SUMIF('6.gk_年级管理'!A:A,B81,'6.gk_年级管理'!B:B)>0,SUMIF('6.gk_年级管理'!A:A,B81,'6.gk_年级管理'!B:B),"") | M81: =SUM(G81:L81) -> 0 | N81: =F81+M81 -> 791.62855 | O81: 2000 | P81: 补足2000，攀枝花援藏
A82: 74 | B82: 卢银楷 | C82: =IF(SUMIF(高一质量奖!A:A,B82,高一质量奖!B:B)>0,SUMIF(高一质量奖!A:A,B82,高一质量奖!B:B),"") | D82: =IF(SUMIF(高二质量和进步奖!A:A,B82,高二质量和进步奖!D:D)>0,SUMIF(高二质量和进步奖!A:A,B82,高二质量和进步奖!D:D),"") | E82: =IF(SUMIF(高三质量奖!A:A,B82,高三质量奖!C:C)>0,SUMIF(高三质量奖!A:A,B82,高三质量奖!C:C),"") -> 4319.7719 | F82: =SUM(C82:E82) -> 4319.7719 | G82: =IF(SUMIFS('1.gk_工作量'!$M$4:$M$76,'1.gk_工作量'!$B$4:$B$76,B82)>0,SUMIFS('1.gk_工作量'!$M$4:$M$76,'1.gk_工作量'!$B$4:$B$76,B82),"") -> 14278.336 | H82: =IF(SUMIFS('2.gk_过程评价'!$C:$C,'2.gk_过程评价'!$A:$A,B82)>0,SUMIFS('2.gk_过程评价'!$C:$C,'2.gk_过程评价'!$A:$A,B82),"") -> 10623.835 | I82: =IF(SUMIF('3.gk_上线质量'!B:B,B82,'3.gk_上线质量'!D:D)<>0,SUMIF('3.gk_上线质量'!B:B,B82,'3.gk_上线质量'!D:D),"") -> 8973.0648 | J82: =IF(SUMIFS('3.gk_上线质量'!$F$3:$F$62,'3.gk_上线质量'!$B$3:$B$62,B82)<>0,SUMIFS('3.gk_上线质量'!$F$3:$F$62,'3.gk_上线质量'!$B$3:$B$62,B82),"") -> 4036.1463 | K82: =IF(SUMIFS('4.gk_艺体质量'!$F$4:$F$53,'4.gk_艺体质量'!$A$4:$A$53,B82)>0,SUMIFS('4.gk_艺体质量'!$F$4:$F$53,'4.gk_艺体质量'!$A$4:$A$53,B82),"") -> 8463.181 | L82: =IF(SUMIF('6.gk_年级管理'!A:A,B82,'6.gk_年级管理'!B:B)>0,SUMIF('6.gk_年级管理'!A:A,B82,'6.gk_年级管理'!B:B),"") -> 587.28603 | M82: =SUM(G82:L82) -> 46961.849 | N82: =F82+M82 -> 51281.621 | O82: =IF(P82="辞职发0.3",N82*0.3,N82) -> 51281.621
A83: 75 | B83: 鲁绒旦友 | C83: =IF(SUMIF(高一质量奖!A:A,B83,高一质量奖!B:B)>0,SUMIF(高一质量奖!A:A,B83,高一质量奖!B:B),"") | D83: =IF(SUMIF(高二质量和进步奖!A:A,B83,高二质量和进步奖!D:D)>0,SUMIF(高二质量和进步奖!A:A,B83,高二质量和进步奖!D:D),"") | E83: =IF(SUMIF(高三质量奖!A:A,B83,高三质量奖!C:C)>0,SUMIF(高三质量奖!A:A,B83,高三质量奖!C:C),"") | F83: =SUM(C83:E83) -> 0 | G83: =IF(SUMIFS('1.gk_工作量'!$M$4:$M$76,'1.gk_工作量'!$B$4:$B$76,B83)>0,SUMIFS('1.gk_工作量'!$M$4:$M$76,'1.gk_工作量'!$B$4:$B$76,B83),"") | H83: =IF(SUMIFS('2.gk_过程评价'!$C:$C,'2.gk_过程评价'!$A:$A,B83)>0,SUMIFS('2.gk_过程评价'!$C:$C,'2.gk_过程评价'!$A:$A,B83),"") | I83: =IF(SUMIF('3.gk_上线质量'!B:B,B83,'3.gk_上线质量'!D:D)<>0,SUMIF('3.gk_上线质量'!B:B,B83,'3.gk_上线质量'!D:D),"") | J83: =IF(SUMIFS('3.gk_上线质量'!$F$3:$F$62,'3.gk_上线质量'!$B$3:$B$62,B83)<>0,SUMIFS('3.gk_上线质量'!$F$3:$F$62,'3.gk_上线质量'!$B$3:$B$62,B83),"") | K83: =IF(SUMIFS('4.gk_艺体质量'!$F$4:$F$53,'4.gk_艺体质量'!$A$4:$A$53,B83)>0,SUMIFS('4.gk_艺体质量'!$F$4:$F$53,'4.gk_艺体质量'!$A$4:$A$53,B83),"") | L83: =IF(SUMIF('6.gk_年级管理'!A:A,B83,'6.gk_年级管理'!B:B)>0,SUMIF('6.gk_年级管理'!A:A,B83,'6.gk_年级管理'!B:B),"") | M83: =SUM(G83:L83) -> 0 | N83: =F83+M83 -> 0 | O83: 2000 | P83: 补足2000
A84: 76 | B84: 罗锐 | C84: =IF(SUMIF(高一质量奖!A:A,B84,高一质量奖!B:B)>0,SUMIF(高一质量奖!A:A,B84,高一质量奖!B:B),"") | D84: =IF(SUMIF(高二质量和进步奖!A:A,B84,高二质量和进步奖!D:D)>0,SUMIF(高二质量和进步奖!A:A,B84,高二质量和进步奖!D:D),"") | E84: =IF(SUMIF(高三质量奖!A:A,B84,高三质量奖!C:C)>0,SUMIF(高三质量奖!A:A,B84,高三质量奖!C:C),"") | F84: =SUM(C84:E84) -> 0 | G84: =IF(SUMIFS('1.gk_工作量'!$M$4:$M$76,'1.gk_工作量'!$B$4:$B$76,B84)>0,SUMIFS('1.gk_工作量'!$M$4:$M$76,'1.gk_工作量'!$B$4:$B$76,B84),"") -> 2060.1905 | H84: =IF(SUMIFS('2.gk_过程评价'!$C:$C,'2.gk_过程评价'!$A:$A,B84)>0,SUMIFS('2.gk_过程评价'!$C:$C,'2.gk_过程评价'!$A:$A,B84),"") -> 3491.8803 | I84: =IF(SUMIF('3.gk_上线质量'!B:B,B84,'3.gk_上线质量'!D:D)<>0,SUMIF('3.gk_上线质量'!B:B,B84,'3.gk_上线质量'!D:D),"") -> 275.10674 | J84: =IF(SUMIFS('3.gk_上线质量'!$F$3:$F$62,'3.gk_上线质量'!$B$3:$B$62,B84)<>0,SUMIFS('3.gk_上线质量'!$F$3:$F$62,'3.gk_上线质量'!$B$3:$B$62,B84),"") -> 435.25126 | K84: =IF(SUMIFS('4.gk_艺体质量'!$F$4:$F$53,'4.gk_艺体质量'!$A$4:$A$53,B84)>0,SUMIFS('4.gk_艺体质量'!$F$4:$F$53,'4.gk_艺体质量'!$A$4:$A$53,B84),"") -> 206.41905 | L84: =IF(SUMIF('6.gk_年级管理'!A:A,B84,'6.gk_年级管理'!B:B)>0,SUMIF('6.gk_年级管理'!A:A,B84,'6.gk_年级管理'!B:B),"") | M84: =SUM(G84:L84) -> 6468.8478 | N84: =F84+M84 -> 6468.8478 | O84: =IF(P84="辞职发0.3",N84*0.3,N84) -> 6468.8478 | P84: 巴中援藏
A85: 77 | B85: 骆泽群 | C85: =IF(SUMIF(高一质量奖!A:A,B85,高一质量奖!B:B)>0,SUMIF(高一质量奖!A:A,B85,高一质量奖!B:B),"") | D85: =IF(SUMIF(高二质量和进步奖!A:A,B85,高二质量和进步奖!D:D)>0,SUMIF(高二质量和进步奖!A:A,B85,高二质量和进步奖!D:D),"") -> 9383.0624 | E85: =IF(SUMIF(高三质量奖!A:A,B85,高三质量奖!C:C)>0,SUMIF(高三质量奖!A:A,B85,高三质量奖!C:C),"") | F85: =SUM(C85:E85) -> 9383.0624 | G85: =IF(SUMIFS('1.gk_工作量'!$M$4:$M$76,'1.gk_工作量'!$B$4:$B$76,B85)>0,SUMIFS('1.gk_工作量'!$M$4:$M$76,'1.gk_工作量'!$B$4:$B$76,B85),"") -> 1780.4115 | H85: =IF(SUMIFS('2.gk_过程评价'!$C:$C,'2.gk_过程评价'!$A:$A,B85)>0,SUMIFS('2.gk_过程评价'!$C:$C,'2.gk_过程评价'!$A:$A,B85),"") -> 1804.8439 | I85: =IF(SUMIF('3.gk_上线质量'!B:B,B85,'3.gk_上线质量'!D:D)<>0,SUMIF('3.gk_上线质量'!B:B,B85,'3.gk_上线质量'!D:D),"") -> 394.31966 | J85: =IF(SUMIFS('3.gk_上线质量'!$F$3:$F$62,'3.gk_上线质量'!$B$3:$B$62,B85)<>0,SUMIFS('3.gk_上线质量'!$F$3:$F$62,'3.gk_上线质量'!$B$3:$B$62,B85),"") -> 309.10104 | K85: =IF(SUMIFS('4.gk_艺体质量'!$F$4:$F$53,'4.gk_艺体质量'!$A$4:$A$53,B85)>0,SUMIFS('4.gk_艺体质量'!$F$4:$F$53,'4.gk_艺体质量'!$A$4:$A$53,B85),"") -> 481.64445 | L85: =IF(SUMIF('6.gk_年级管理'!A:A,B85,'6.gk_年级管理'!B:B)>0,SUMIF('6.gk_年级管理'!A:A,B85,'6.gk_年级管理'!B:B),"") | M85: =SUM(G85:L85) -> 4770.3205 | N85: =F85+M85 -> 14153.383 | O85: =IF(P85="辞职发0.3",N85*0.3,N85) -> 14153.383
A86: 78 | B86: 吕开绒 | C86: =IF(SUMIF(高一质量奖!A:A,B86,高一质量奖!B:B)>0,SUMIF(高一质量奖!A:A,B86,高一质量奖!B:B),"") -> 7589.2663 | D86: =IF(SUMIF(高二质量和进步奖!A:A,B86,高二质量和进步奖!D:D)>0,SUMIF(高二质量和进步奖!A:A,B86,高二质量和进步奖!D:D),"") | E86: =IF(SUMIF(高三质量奖!A:A,B86,高三质量奖!C:C)>0,SUMIF(高三质量奖!A:A,B86,高三质量奖!C:C),"") | F86: =SUM(C86:E86) -> 7589.2663 | G86: =IF(SUMIFS('1.gk_工作量'!$M$4:$M$76,'1.gk_工作量'!$B$4:$B$76,B86)>0,SUMIFS('1.gk_工作量'!$M$4:$M$76,'1.gk_工作量'!$B$4:$B$76,B86),"") | H86: =IF(SUMIFS('2.gk_过程评价'!$C:$C,'2.gk_过程评价'!$A:$A,B86)>0,SUMIFS('2.gk_过程评价'!$C:$C,'2.gk_过程评价'!$A:$A,B86),"") | I86: =IF(SUMIF('3.gk_上线质量'!B:B,B86,'3.gk_上线质量'!D:D)<>0,SUMIF('3.gk_上线质量'!B:B,B86,'3.gk_上线质量'!D:D),"") | J86: =IF(SUMIFS('3.gk_上线质量'!$F$3:$F$62,'3.gk_上线质量'!$B$3:$B$62,B86)<>0,SUMIFS('3.gk_上线质量'!$F$3:$F$62,'3.gk_上线质量'!$B$3:$B$62,B86),"") | K86: =IF(SUMIFS('4.gk_艺体质量'!$F$4:$F$53,'4.gk_艺体质量'!$A$4:$A$53,B86)>0,SUMIFS('4.gk_艺体质量'!$F$4:$F$53,'4.gk_艺体质量'!$A$4:$A$53,B86),"") | L86: =IF(SUMIF('6.gk_年级管理'!A:A,B86,'6.gk_年级管理'!B:B)>0,SUMIF('6.gk_年级管理'!A:A,B86,'6.gk_年级管理'!B:B),"") | M86: =SUM(G86:L86) -> 0 | N86: =F86+M86 -> 7589.2663 | O86: =IF(P86="辞职发0.3",N86*0.3,N86) -> 7589.2663
A87: 79 | B87: 马红琦 | C87: =IF(SUMIF(高一质量奖!A:A,B87,高一质量奖!B:B)>0,SUMIF(高一质量奖!A:A,B87,高一质量奖!B:B),"") -> 1660.4199 | D87: =IF(SUMIF(高二质量和进步奖!A:A,B87,高二质量和进步奖!D:D)>0,SUMIF(高二质量和进步奖!A:A,B87,高二质量和进步奖!D:D),"") | E87: =IF(SUMIF(高三质量奖!A:A,B87,高三质量奖!C:C)>0,SUMIF(高三质量奖!A:A,B87,高三质量奖!C:C),"") | F87: =SUM(C87:E87) -> 1660.4199 | G87: =IF(SUMIFS('1.gk_工作量'!$M$4:$M$76,'1.gk_工作量'!$B$4:$B$76,B87)>0,SUMIFS('1.gk_工作量'!$M$4:$M$76,'1.gk_工作量'!$B$4:$B$76,B87),"") | H87: =IF(SUMIFS('2.gk_过程评价'!$C:$C,'2.gk_过程评价'!$A:$A,B87)>0,SUMIFS('2.gk_过程评价'!$C:$C,'2.gk_过程评价'!$A:$A,B87),"") | I87: =IF(SUMIF('3.gk_上线质量'!B:B,B87,'3.gk_上线质量'!D:D)<>0,SUMIF('3.gk_上线质量'!B:B,B87,'3.gk_上线质量'!D:D),"") | J87: =IF(SUMIFS('3.gk_上线质量'!$F$3:$F$62,'3.gk_上线质量'!$B$3:$B$62,B87)<>0,SUMIFS('3.gk_上线质量'!$F$3:$F$62,'3.gk_上线质量'!$B$3:$B$62,B87),"") | K87: =IF(SUMIFS('4.gk_艺体质量'!$F$4:$F$53,'4.gk_艺体质量'!$A$4:$A$53,B87)>0,SUMIFS('4.gk_艺体质量'!$F$4:$F$53,'4.gk_艺体质量'!$A$4:$A$53,B87),"") | L87: =IF(SUMIF('6.gk_年级管理'!A:A,B87,'6.gk_年级管理'!B:B)>0,SUMIF('6.gk_年级管理'!A:A,B87,'6.gk_年级管理'!B:B),"") | M87: =SUM(G87:L87) -> 0 | N87: =F87+M87 -> 1660.4199 | O87: 2000 | P87: 补足2000
A88: 80 | B88: 马俊 | C88: =IF(SUMIF(高一质量奖!A:A,B88,高一质量奖!B:B)>0,SUMIF(高一质量奖!A:A,B88,高一质量奖!B:B),"") -> 11879.702 | D88: =IF(SUMIF(高二质量和进步奖!A:A,B88,高二质量和进步奖!D:D)>0,SUMIF(高二质量和进步奖!A:A,B88,高二质量和进步奖!D:D),"") | E88: =IF(SUMIF(高三质量奖!A:A,B88,高三质量奖!C:C)>0,SUMIF(高三质量奖!A:A,B88,高三质量奖!C:C),"") | F88: =SUM(C88:E88) -> 11879.702 | G88: =IF(SUMIFS('1.gk_工作量'!$M$4:$M$76,'1.gk_工作量'!$B$4:$B$76,B88)>0,SUMIFS('1.gk_工作量'!$M$4:$M$76,'1.gk_工作量'!$B$4:$B$76,B88),"") | H88: =IF(SUMIFS('2.gk_过程评价'!$C:$C,'2.gk_过程评价'!$A:$A,B88)>0,SUMIFS('2.gk_过程评价'!$C:$C,'2.gk_过程评价'!$A:$A,B88),"") | I88: =IF(SUMIF('3.gk_上线质量'!B:B,B88,'3.gk_上线质量'!D:D)<>0,SUMIF('3.gk_上线质量'!B:B,B88,'3.gk_上线质量'!D:D),"") | J88: =IF(SUMIFS('3.gk_上线质量'!$F$3:$F$62,'3.gk_上线质量'!$B$3:$B$62,B88)<>0,SUMIFS('3.gk_上线质量'!$F$3:$F$62,'3.gk_上线质量'!$B$3:$B$62,B88),"") | K88: =IF(SUMIFS('4.gk_艺体质量'!$F$4:$F$53,'4.gk_艺体质量'!$A$4:$A$53,B88)>0,SUMIFS('4.gk_艺体质量'!$F$4:$F$53,'4.gk_艺体质量'!$A$4:$A$53,B88),"") | L88: =IF(SUMIF('6.gk_年级管理'!A:A,B88,'6.gk_年级管理'!B:B)>0,SUMIF('6.gk_年级管理'!A:A,B88,'6.gk_年级管理'!B:B),"") | M88: =SUM(G88:L88) -> 0 | N88: =F88+M88 -> 11879.702 | O88: =IF(P88="辞职发0.3",N88*0.3,N88) -> 11879.702
A89: 81 | B89: 马磊 | C89: =IF(SUMIF(高一质量奖!A:A,B89,高一质量奖!B:B)>0,SUMIF(高一质量奖!A:A,B89,高一质量奖!B:B),"") | D89: =IF(SUMIF(高二质量和进步奖!A:A,B89,高二质量和进步奖!D:D)>0,SUMIF(高二质量和进步奖!A:A,B89,高二质量和进步奖!D:D),"") -> 14486.263 | E89: =IF(SUMIF(高三质量奖!A:A,B89,高三质量奖!C:C)>0,SUMIF(高三质量奖!A:A,B89,高三质量奖!C:C),"") | F89: =SUM(C89:E89) -> 14486.263 | G89: =IF(SUMIFS('1.gk_工作量'!$M$4:$M$76,'1.gk_工作量'!$B$4:$B$76,B89)>0,SUMIFS('1.gk_工作量'!$M$4:$M$76,'1.gk_工作量'!$B$4:$B$76,B89),"") | H89: =IF(SUMIFS('2.gk_过程评价'!$C:$C,'2.gk_过程评价'!$A:$A,B89)>0,SUMIFS('2.gk_过程评价'!$C:$C,'2.gk_过程评价'!$A:$A,B89),"") | I89: =IF(SUMIF('3.gk_上线质量'!B:B,B89,'3.gk_上线质量'!D:D)<>0,SUMIF('3.gk_上线质量'!B:B,B89,'3.gk_上线质量'!D:D),"") | J89: =IF(SUMIFS('3.gk_上线质量'!$F$3:$F$62,'3.gk_上线质量'!$B$3:$B$62,B89)<>0,SUMIFS('3.gk_上线质量'!$F$3:$F$62,'3.gk_上线质量'!$B$3:$B$62,B89),"") | K89: =IF(SUMIFS('4.gk_艺体质量'!$F$4:$F$53,'4.gk_艺体质量'!$A$4:$A$53,B89)>0,SUMIFS('4.gk_艺体质量'!$F$4:$F$53,'4.gk_艺体质量'!$A$4:$A$53,B89),"") | L89: =IF(SUMIF('6.gk_年级管理'!A:A,B89,'6.gk_年级管理'!B:B)>0,SUMIF('6.gk_年级管理'!A:A,B89,'6.gk_年级管理'!B:B),"") | M89: =SUM(G89:L89) -> 0 | N89: =F89+M89 -> 14486.263 | O89: =IF(P89="辞职发0.3",N89*0.3,N89) -> 14486.263
A90: 82 | B90: 马巫各 | C90: =IF(SUMIF(高一质量奖!A:A,B90,高一质量奖!B:B)>0,SUMIF(高一质量奖!A:A,B90,高一质量奖!B:B),"") -> 4331.6296 | D90: =IF(SUMIF(高二质量和进步奖!A:A,B90,高二质量和进步奖!D:D)>0,SUMIF(高二质量和进步奖!A:A,B90,高二质量和进步奖!D:D),"") | E90: =IF(SUMIF(高三质量奖!A:A,B90,高三质量奖!C:C)>0,SUMIF(高三质量奖!A:A,B90,高三质量奖!C:C),"") | F90: =SUM(C90:E90) -> 4331.6296 | G90: =IF(SUMIFS('1.gk_工作量'!$M$4:$M$76,'1.gk_工作量'!$B$4:$B$76,B90)>0,SUMIFS('1.gk_工作量'!$M$4:$M$76,'1.gk_工作量'!$B$4:$B$76,B90),"") -> 3910.5467 | H90: =IF(SUMIFS('2.gk_过程评价'!$C:$C,'2.gk_过程评价'!$A:$A,B90)>0,SUMIFS('2.gk_过程评价'!$C:$C,'2.gk_过程评价'!$A:$A,B90),"") -> 7058.435 | I90: =IF(SUMIF('3.gk_上线质量'!B:B,B90,'3.gk_上线质量'!D:D)<>0,SUMIF('3.gk_上线质量'!B:B,B90,'3.gk_上线质量'!D:D),"") -> 1557.4098 | J90: =IF(SUMIFS('3.gk_上线质量'!$F$3:$F$62,'3.gk_上线质量'!$B$3:$B$62,B90)<>0,SUMIFS('3.gk_上线质量'!$F$3:$F$62,'3.gk_上线质量'!$B$3:$B$62,B90),"") -> 903.52613 | K90: =IF(SUMIFS('4.gk_艺体质量'!$F$4:$F$53,'4.gk_艺体质量'!$A$4:$A$53,B90)>0,SUMIFS('4.gk_艺体质量'!$F$4:$F$53,'4.gk_艺体质量'!$A$4:$A$53,B90),"") -> 1204.1111 | L90: =IF(SUMIF('6.gk_年级管理'!A:A,B90,'6.gk_年级管理'!B:B)>0,SUMIF('6.gk_年级管理'!A:A,B90,'6.gk_年级管理'!B:B),"") | M90: =SUM(G90:L90) -> 14634.029 | N90: =F90+M90 -> 18965.658 | O90: =IF(P90="辞职发0.3",N90*0.3,N90) -> 18965.658
A91: 83 | B91: 马勇 | C91: =IF(SUMIF(高一质量奖!A:A,B91,高一质量奖!B:B)>0,SUMIF(高一质量奖!A:A,B91,高一质量奖!B:B),"") | D91: =IF(SUMIF(高二质量和进步奖!A:A,B91,高二质量和进步奖!D:D)>0,SUMIF(高二质量和进步奖!A:A,B91,高二质量和进步奖!D:D),"") | E91: =IF(SUMIF(高三质量奖!A:A,B91,高三质量奖!C:C)>0,SUMIF(高三质量奖!A:A,B91,高三质量奖!C:C),"") | F91: =SUM(C91:E91) -> 0 | G91: =IF(SUMIFS('1.gk_工作量'!$M$4:$M$76,'1.gk_工作量'!$B$4:$B$76,B91)>0,SUMIFS('1.gk_工作量'!$M$4:$M$76,'1.gk_工作量'!$B$4:$B$76,B91),"") -> 2060.1905 | H91: =IF(SUMIFS('2.gk_过程评价'!$C:$C,'2.gk_过程评价'!$A:$A,B91)>0,SUMIFS('2.gk_过程评价'!$C:$C,'2.gk_过程评价'!$A:$A,B91),"") -> 3489.0347 | I91: =IF(SUMIF('3.gk_上线质量'!B:B,B91,'3.gk_上线质量'!D:D)<>0,SUMIF('3.gk_上线质量'!B:B,B91,'3.gk_上线质量'!D:D),"") -> -45.851123 | J91: =IF(SUMIFS('3.gk_上线质量'!$F$3:$F$62,'3.gk_上线质量'!$B$3:$B$62,B91)<>0,SUMIFS('3.gk_上线质量'!$F$3:$F$62,'3.gk_上线质量'!$B$3:$B$62,B91),"") -> 280.04026 | K91: =IF(SUMIFS('4.gk_艺体质量'!$F$4:$F$53,'4.gk_艺体质量'!$A$4:$A$53,B91)>0,SUMIFS('4.gk_艺体质量'!$F$4:$F$53,'4.gk_艺体质量'!$A$4:$A$53,B91),"") -> 928.88572 | L91: =IF(SUMIF('6.gk_年级管理'!A:A,B91,'6.gk_年级管理'!B:B)>0,SUMIF('6.gk_年级管理'!A:A,B91,'6.gk_年级管理'!B:B),"") | M91: =SUM(G91:L91) -> 6712.3 | N91: =F91+M91 -> 6712.3 | O91: =IF(P91="辞职发0.3",N91*0.3,N91) -> 6712.3 | P91: 巴中援藏
A92: 84 | B92: 米晓妹 | C92: =IF(SUMIF(高一质量奖!A:A,B92,高一质量奖!B:B)>0,SUMIF(高一质量奖!A:A,B92,高一质量奖!B:B),"") -> 1153.4932 | D92: =IF(SUMIF(高二质量和进步奖!A:A,B92,高二质量和进步奖!D:D)>0,SUMIF(高二质量和进步奖!A:A,B92,高二质量和进步奖!D:D),"") | E92: =IF(SUMIF(高三质量奖!A:A,B92,高三质量奖!C:C)>0,SUMIF(高三质量奖!A:A,B92,高三质量奖!C:C),"") | F92: =SUM(C92:E92) -> 1153.4932 | G92: =IF(SUMIFS('1.gk_工作量'!$M$4:$M$76,'1.gk_工作量'!$B$4:$B$76,B92)>0,SUMIFS('1.gk_工作量'!$M$4:$M$76,'1.gk_工作量'!$B$4:$B$76,B92),"") | H92: =IF(SUMIFS('2.gk_过程评价'!$C:$C,'2.gk_过程评价'!$A:$A,B92)>0,SUMIFS('2.gk_过程评价'!$C:$C,'2.gk_过程评价'!$A:$A,B92),"") | I92: =IF(SUMIF('3.gk_上线质量'!B:B,B92,'3.gk_上线质量'!D:D)<>0,SUMIF('3.gk_上线质量'!B:B,B92,'3.gk_上线质量'!D:D),"") | J92: =IF(SUMIFS('3.gk_上线质量'!$F$3:$F$62,'3.gk_上线质量'!$B$3:$B$62,B92)<>0,SUMIFS('3.gk_上线质量'!$F$3:$F$62,'3.gk_上线质量'!$B$3:$B$62,B92),"") | K92: =IF(SUMIFS('4.gk_艺体质量'!$F$4:$F$53,'4.gk_艺体质量'!$A$4:$A$53,B92)>0,SUMIFS('4.gk_艺体质量'!$F$4:$F$53,'4.gk_艺体质量'!$A$4:$A$53,B92),"") | L92: =IF(SUMIF('6.gk_年级管理'!A:A,B92,'6.gk_年级管理'!B:B)>0,SUMIF('6.gk_年级管理'!A:A,B92,'6.gk_年级管理'!B:B),"") | M92: =SUM(G92:L92) -> 0 | N92: =F92+M92 -> 1153.4932 | O92: 2000 | P92: 补足2000
A93: 85 | B93: 尼玛布池 | C93: =IF(SUMIF(高一质量奖!A:A,B93,高一质量奖!B:B)>0,SUMIF(高一质量奖!A:A,B93,高一质量奖!B:B),"") -> 4932.3771 | D93: =IF(SUMIF(高二质量和进步奖!A:A,B93,高二质量和进步奖!D:D)>0,SUMIF(高二质量和进步奖!A:A,B93,高二质量和进步奖!D:D),"") | E93: =IF(SUMIF(高三质量奖!A:A,B93,高三质量奖!C:C)>0,SUMIF(高三质量奖!A:A,B93,高三质量奖!C:C),"") | F93: =SUM(C93:E93) -> 4932.3771 | G93: =IF(SUMIFS('1.gk_工作量'!$M$4:$M$76,'1.gk_工作量'!$B$4:$B$76,B93)>0,SUMIFS('1.gk_工作量'!$M$4:$M$76,'1.gk_工作量'!$B$4:$B$76,B93),"") | H93: =IF(SUMIFS('2.gk_过程评价'!$C:$C,'2.gk_过程评价'!$A:$A,B93)>0,SUMIFS('2.gk_过程评价'!$C:$C,'2.gk_过程评价'!$A:$A,B93),"") | I93: =IF(SUMIF('3.gk_上线质量'!B:B,B93,'3.gk_上线质量'!D:D)<>0,SUMIF('3.gk_上线质量'!B:B,B93,'3.gk_上线质量'!D:D),"") | J93: =IF(SUMIFS('3.gk_上线质量'!$F$3:$F$62,'3.gk_上线质量'!$B$3:$B$62,B93)<>0,SUMIFS('3.gk_上线质量'!$F$3:$F$62,'3.gk_上线质量'!$B$3:$B$62,B93),"") | K93: =IF(SUMIFS('4.gk_艺体质量'!$F$4:$F$53,'4.gk_艺体质量'!$A$4:$A$53,B93)>0,SUMIFS('4.gk_艺体质量'!$F$4:$F$53,'4.gk_艺体质量'!$A$4:$A$53,B93),"") | L93: =IF(SUMIF('6.gk_年级管理'!A:A,B93,'6.gk_年级管理'!B:B)>0,SUMIF('6.gk_年级管理'!A:A,B93,'6.gk_年级管理'!B:B),"") | M93: =SUM(G93:L93) -> 0 | N93: =F93+M93 -> 4932.3771 | O93: =IF(P93="辞职发0.3",N93*0.3,N93) -> 4932.3771
A94: 86 | B94: 聂艳梅 | C94: =IF(SUMIF(高一质量奖!A:A,B94,高一质量奖!B:B)>0,SUMIF(高一质量奖!A:A,B94,高一质量奖!B:B),"") | D94: =IF(SUMIF(高二质量和进步奖!A:A,B94,高二质量和进步奖!D:D)>0,SUMIF(高二质量和进步奖!A:A,B94,高二质量和进步奖!D:D),"") | E94: =IF(SUMIF(高三质量奖!A:A,B94,高三质量奖!C:C)>0,SUMIF(高三质量奖!A:A,B94,高三质量奖!C:C),"") | F94: =SUM(C94:E94) -> 0 | G94: =IF(SUMIFS('1.gk_工作量'!$M$4:$M$76,'1.gk_工作量'!$B$4:$B$76,B94)>0,SUMIFS('1.gk_工作量'!$M$4:$M$76,'1.gk_工作量'!$B$4:$B$76,B94),"") -> 2136.4938 | H94: =IF(SUMIFS('2.gk_过程评价'!$C:$C,'2.gk_过程评价'!$A:$A,B94)>0,SUMIFS('2.gk_过程评价'!$C:$C,'2.gk_过程评价'!$A:$A,B94),"") -> 3330.4382 | I94: =IF(SUMIF('3.gk_上线质量'!B:B,B94,'3.gk_上线质量'!D:D)<>0,SUMIF('3.gk_上线质量'!B:B,B94,'3.gk_上线质量'!D:D),"") -> 2796.9185 | J94: =IF(SUMIFS('3.gk_上线质量'!$F$3:$F$62,'3.gk_上线质量'!$B$3:$B$62,B94)<>0,SUMIFS('3.gk_上线质量'!$F$3:$F$62,'3.gk_上线质量'!$B$3:$B$62,B94),"") -> 1783.2753 | K94: =IF(SUMIFS('4.gk_艺体质量'!$F$4:$F$53,'4.gk_艺体质量'!$A$4:$A$53,B94)>0,SUMIFS('4.gk_艺体质量'!$F$4:$F$53,'4.gk_艺体质量'!$A$4:$A$53,B94),"") -> 229.3545 | L94: =IF(SUMIF('6.gk_年级管理'!A:A,B94,'6.gk_年级管理'!B:B)>0,SUMIF('6.gk_年级管理'!A:A,B94,'6.gk_年级管理'!B:B),"") | M94: =SUM(G94:L94) -> 10276.48 | N94: =F94+M94 -> 10276.48 | O94: =IF(P94="辞职发0.3",N94*0.3,N94) -> 3082.9441 | P94: 辞职发0.3
A95: 87 | B95: 宁建康 | C95: =IF(SUMIF(高一质量奖!A:A,B95,高一质量奖!B:B)>0,SUMIF(高一质量奖!A:A,B95,高一质量奖!B:B),"") | D95: =IF(SUMIF(高二质量和进步奖!A:A,B95,高二质量和进步奖!D:D)>0,SUMIF(高二质量和进步奖!A:A,B95,高二质量和进步奖!D:D),"") | E95: =IF(SUMIF(高三质量奖!A:A,B95,高三质量奖!C:C)>0,SUMIF(高三质量奖!A:A,B95,高三质量奖!C:C),"") | F95: =SUM(C95:E95) -> 0 | G95: =IF(SUMIFS('1.gk_工作量'!$M$4:$M$76,'1.gk_工作量'!$B$4:$B$76,B95)>0,SUMIFS('1.gk_工作量'!$M$4:$M$76,'1.gk_工作量'!$B$4:$B$76,B95),"") | H95: =IF(SUMIFS('2.gk_过程评价'!$C:$C,'2.gk_过程评价'!$A:$A,B95)>0,SUMIFS('2.gk_过程评价'!$C:$C,'2.gk_过程评价'!$A:$A,B95),"") | I95: =IF(SUMIF('3.gk_上线质量'!B:B,B95,'3.gk_上线质量'!D:D)<>0,SUMIF('3.gk_上线质量'!B:B,B95,'3.gk_上线质量'!D:D),"") | J95: =IF(SUMIFS('3.gk_上线质量'!$F$3:$F$62,'3.gk_上线质量'!$B$3:$B$62,B95)<>0,SUMIFS('3.gk_上线质量'!$F$3:$F$62,'3.gk_上线质量'!$B$3:$B$62,B95),"") | K95: =IF(SUMIFS('4.gk_艺体质量'!$F$4:$F$53,'4.gk_艺体质量'!$A$4:$A$53,B95)>0,SUMIFS('4.gk_艺体质量'!$F$4:$F$53,'4.gk_艺体质量'!$A$4:$A$53,B95),"") | L95: =IF(SUMIF('6.gk_年级管理'!A:A,B95,'6.gk_年级管理'!B:B)>0,SUMIF('6.gk_年级管理'!A:A,B95,'6.gk_年级管理'!B:B),"") | M95: =SUM(G95:L95) -> 0 | N95: =F95+M95 -> 0 | O95: 2000 | P95: 补足2000
A96: 88 | B96: 潘勇 | C96: =IF(SUMIF(高一质量奖!A:A,B96,高一质量奖!B:B)>0,SUMIF(高一质量奖!A:A,B96,高一质量奖!B:B),"") | D96: =IF(SUMIF(高二质量和进步奖!A:A,B96,高二质量和进步奖!D:D)>0,SUMIF(高二质量和进步奖!A:A,B96,高二质量和进步奖!D:D),"") | E96: =IF(SUMIF(高三质量奖!A:A,B96,高三质量奖!C:C)>0,SUMIF(高三质量奖!A:A,B96,高三质量奖!C:C),"") -> 2080 | F96: =SUM(C96:E96) -> 2080 | G96: =IF(SUMIFS('1.gk_工作量'!$M$4:$M$76,'1.gk_工作量'!$B$4:$B$76,B96)>0,SUMIFS('1.gk_工作量'!$M$4:$M$76,'1.gk_工作量'!$B$4:$B$76,B96),"") -> 6707.5969 | H96: =IF(SUMIFS('2.gk_过程评价'!$C:$C,'2.gk_过程评价'!$A:$A,B96)>0,SUMIFS('2.gk_过程评价'!$C:$C,'2.gk_过程评价'!$A:$A,B96),"") -> 3548.6621 | I96: =IF(SUMIF('3.gk_上线质量'!B:B,B96,'3.gk_上线质量'!D:D)<>0,SUMIF('3.gk_上线质量'!B:B,B96,'3.gk_上线质量'!D:D),"") -> 8146.2162 | J96: =IF(SUMIFS('3.gk_上线质量'!$F$3:$F$62,'3.gk_上线质量'!$B$3:$B$62,B96)<>0,SUMIFS('3.gk_上线质量'!$F$3:$F$62,'3.gk_上线质量'!$B$3:$B$62,B96),"") -> 4814.8432 | K96: =IF(SUMIFS('4.gk_艺体质量'!$F$4:$F$53,'4.gk_艺体质量'!$A$4:$A$53,B96)>0,SUMIFS('4.gk_艺体质量'!$F$4:$F$53,'4.gk_艺体质量'!$A$4:$A$53,B96),"") | L96: =IF(SUMIF('6.gk_年级管理'!A:A,B96,'6.gk_年级管理'!B:B)>0,SUMIF('6.gk_年级管理'!A:A,B96,'6.gk_年级管理'!B:B),"") | M96: =SUM(G96:L96) -> 23217.318 | N96: =F96+M96 -> 25297.318 | O96: =IF(P96="辞职发0.3",N96*0.3,N96) -> 25297.318
A97: 89 | B97: 彭丹 | C97: =IF(SUMIF(高一质量奖!A:A,B97,高一质量奖!B:B)>0,SUMIF(高一质量奖!A:A,B97,高一质量奖!B:B),"") | D97: =IF(SUMIF(高二质量和进步奖!A:A,B97,高二质量和进步奖!D:D)>0,SUMIF(高二质量和进步奖!A:A,B97,高二质量和进步奖!D:D),"") | E97: =IF(SUMIF(高三质量奖!A:A,B97,高三质量奖!C:C)>0,SUMIF(高三质量奖!A:A,B97,高三质量奖!C:C),"") | F97: =SUM(C97:E97) -> 0 | G97: =IF(SUMIFS('1.gk_工作量'!$M$4:$M$76,'1.gk_工作量'!$B$4:$B$76,B97)>0,SUMIFS('1.gk_工作量'!$M$4:$M$76,'1.gk_工作量'!$B$4:$B$76,B97),"") | H97: =IF(SUMIFS('2.gk_过程评价'!$C:$C,'2.gk_过程评价'!$A:$A,B97)>0,SUMIFS('2.gk_过程评价'!$C:$C,'2.gk_过程评价'!$A:$A,B97),"") | I97: =IF(SUMIF('3.gk_上线质量'!B:B,B97,'3.gk_上线质量'!D:D)<>0,SUMIF('3.gk_上线质量'!B:B,B97,'3.gk_上线质量'!D:D),"") | J97: =IF(SUMIFS('3.gk_上线质量'!$F$3:$F$62,'3.gk_上线质量'!$B$3:$B$62,B97)<>0,SUMIFS('3.gk_上线质量'!$F$3:$F$62,'3.gk_上线质量'!$B$3:$B$62,B97),"") | K97: =IF(SUMIFS('4.gk_艺体质量'!$F$4:$F$53,'4.gk_艺体质量'!$A$4:$A$53,B97)>0,SUMIFS('4.gk_艺体质量'!$F$4:$F$53,'4.gk_艺体质量'!$A$4:$A$53,B97),"") | L97: =IF(SUMIF('6.gk_年级管理'!A:A,B97,'6.gk_年级管理'!B:B)>0,SUMIF('6.gk_年级管理'!A:A,B97,'6.gk_年级管理'!B:B),"") | M97: =SUM(G97:L97) -> 0 | N97: =F97+M97 -> 0 | O97: 2000 | P97: 补足2000
A98: 90 | B98: 彭桦 | C98: =IF(SUMIF(高一质量奖!A:A,B98,高一质量奖!B:B)>0,SUMIF(高一质量奖!A:A,B98,高一质量奖!B:B),"") -> 1598.1675 | D98: =IF(SUMIF(高二质量和进步奖!A:A,B98,高二质量和进步奖!D:D)>0,SUMIF(高二质量和进步奖!A:A,B98,高二质量和进步奖!D:D),"") | E98: =IF(SUMIF(高三质量奖!A:A,B98,高三质量奖!C:C)>0,SUMIF(高三质量奖!A:A,B98,高三质量奖!C:C),"") | F98: =SUM(C98:E98) -> 1598.1675 | G98: =IF(SUMIFS('1.gk_工作量'!$M$4:$M$76,'1.gk_工作量'!$B$4:$B$76,B98)>0,SUMIFS('1.gk_工作量'!$M$4:$M$76,'1.gk_工作量'!$B$4:$B$76,B98),"") | H98: =IF(SUMIFS('2.gk_过程评价'!$C:$C,'2.gk_过程评价'!$A:$A,B98)>0,SUMIFS('2.gk_过程评价'!$C:$C,'2.gk_过程评价'!$A:$A,B98),"") | I98: =IF(SUMIF('3.gk_上线质量'!B:B,B98,'3.gk_上线质量'!D:D)<>0,SUMIF('3.gk_上线质量'!B:B,B98,'3.gk_上线质量'!D:D),"") | J98: =IF(SUMIFS('3.gk_上线质量'!$F$3:$F$62,'3.gk_上线质量'!$B$3:$B$62,B98)<>0,SUMIFS('3.gk_上线质量'!$F$3:$F$62,'3.gk_上线质量'!$B$3:$B$62,B98),"") | K98: =IF(SUMIFS('4.gk_艺体质量'!$F$4:$F$53,'4.gk_艺体质量'!$A$4:$A$53,B98)>0,SUMIFS('4.gk_艺体质量'!$F$4:$F$53,'4.gk_艺体质量'!$A$4:$A$53,B98),"") | L98: =IF(SUMIF('6.gk_年级管理'!A:A,B98,'6.gk_年级管理'!B:B)>0,SUMIF('6.gk_年级管理'!A:A,B98,'6.gk_年级管理'!B:B),"") | M98: =SUM(G98:L98) -> 0 | N98: =F98+M98 -> 1598.1675 | O98: 2000 | P98: 补足2000
A99: 91 | B99: 浦恩玲 | C99: =IF(SUMIF(高一质量奖!A:A,B99,高一质量奖!B:B)>0,SUMIF(高一质量奖!A:A,B99,高一质量奖!B:B),"") | D99: =IF(SUMIF(高二质量和进步奖!A:A,B99,高二质量和进步奖!D:D)>0,SUMIF(高二质量和进步奖!A:A,B99,高二质量和进步奖!D:D),"") | E99: =IF(SUMIF(高三质量奖!A:A,B99,高三质量奖!C:C)>0,SUMIF(高三质量奖!A:A,B99,高三质量奖!C:C),"") | F99: =SUM(C99:E99) -> 0 | G99: =IF(SUMIFS('1.gk_工作量'!$M$4:$M$76,'1.gk_工作量'!$B$4:$B$76,B99)>0,SUMIFS('1.gk_工作量'!$M$4:$M$76,'1.gk_工作量'!$B$4:$B$76,B99),"") | H99: =IF(SUMIFS('2.gk_过程评价'!$C:$C,'2.gk_过程评价'!$A:$A,B99)>0,SUMIFS('2.gk_过程评价'!$C:$C,'2.gk_过程评价'!$A:$A,B99),"") | I99: =IF(SUMIF('3.gk_上线质量'!B:B,B99,'3.gk_上线质量'!D:D)<>0,SUMIF('3.gk_上线质量'!B:B,B99,'3.gk_上线质量'!D:D),"") | J99: =IF(SUMIFS('3.gk_上线质量'!$F$3:$F$62,'3.gk_上线质量'!$B$3:$B$62,B99)<>0,SUMIFS('3.gk_上线质量'!$F$3:$F$62,'3.gk_上线质量'!$B$3:$B$62,B99),"") | K99: =IF(SUMIFS('4.gk_艺体质量'!$F$4:$F$53,'4.gk_艺体质量'!$A$4:$A$53,B99)>0,SUMIFS('4.gk_艺体质量'!$F$4:$F$53,'4.gk_艺体质量'!$A$4:$A$53,B99),"") | L99: =IF(SUMIF('6.gk_年级管理'!A:A,B99,'6.gk_年级管理'!B:B)>0,SUMIF('6.gk_年级管理'!A:A,B99,'6.gk_年级管理'!B:B),"") | M99: =SUM(G99:L99) -> 0 | N99: =F99+M99 -> 0 | O99: 2000 | P99: 补足2000
A100: 92 | B100: 邱君益 | C100: =IF(SUMIF(高一质量奖!A:A,B100,高一质量奖!B:B)>0,SUMIF(高一质量奖!A:A,B100,高一质量奖!B:B),"") -> 819.77618 | D100: =IF(SUMIF(高二质量和进步奖!A:A,B100,高二质量和进步奖!D:D)>0,SUMIF(高二质量和进步奖!A:A,B100,高二质量和进步奖!D:D),"") | E100: =IF(SUMIF(高三质量奖!A:A,B100,高三质量奖!C:C)>0,SUMIF(高三质量奖!A:A,B100,高三质量奖!C:C),"") | F100: =SUM(C100:E100) -> 819.77618 | G100: =IF(SUMIFS('1.gk_工作量'!$M$4:$M$76,'1.gk_工作量'!$B$4:$B$76,B100)>0,SUMIFS('1.gk_工作量'!$M$4:$M$76,'1.gk_工作量'!$B$4:$B$76,B100),"") | H100: =IF(SUMIFS('2.gk_过程评价'!$C:$C,'2.gk_过程评价'!$A:$A,B100)>0,SUMIFS('2.gk_过程评价'!$C:$C,'2.gk_过程评价'!$A:$A,B100),"") | I100: =IF(SUMIF('3.gk_上线质量'!B:B,B100,'3.gk_上线质量'!D:D)<>0,SUMIF('3.gk_上线质量'!B:B,B100,'3.gk_上线质量'!D:D),"") | J100: =IF(SUMIFS('3.gk_上线质量'!$F$3:$F$62,'3.gk_上线质量'!$B$3:$B$62,B100)<>0,SUMIFS('3.gk_上线质量'!$F$3:$F$62,'3.gk_上线质量'!$B$3:$B$62,B100),"") | K100: =IF(SUMIFS('4.gk_艺体质量'!$F$4:$F$53,'4.gk_艺体质量'!$A$4:$A$53,B100)>0,SUMIFS('4.gk_艺体质量'!$F$4:$F$53,'4.gk_艺体质量'!$A$4:$A$53,B100),"") | L100: =IF(SUMIF('6.gk_年级管理'!A:A,B100,'6.gk_年级管理'!B:B)>0,SUMIF('6.gk_年级管理'!A:A,B100,'6.gk_年级管理'!B:B),"") | M100: =SUM(G100:L100) -> 0 | N100: =F100+M100 -> 819.77618 | O100: 2000 | P100: 补足2000
...

Sheet gk_质量奖分配
C1: 项目 | D1: 金额 | E1: 算法/说明
A2: 总额分配 | C2: 政府拨款 | D2: 2617000 | E2: 总额=学生奖金+学校奖金
C3: 学生奖金 | D3: 742000
C4: 学校奖金 | D4: =D2-D3 -> 1875000
A6: 学校奖金分配 | C6: 学校提留 | D6: =D4*0.2 -> 375000 | E6: 学校提留=学校奖金*20%
C7: 年级管理奖 | D7: 11200 | E7: 按照政府目标，文化和艺体超额部分的8%作为年级管理奖.文化本科超额140000元，艺体本科超额35000元，合计超额175000元.年级管理奖（175000*80%*8%=11200元）
C8: 教师奖励 | D8: =D4-D6-D7 -> 1488800 | E8: 剩余的教师奖励=学校奖金-学校提留-年级管理奖
C9: 超额目标奖 | D9: 0 | E9: 学校本科目标163人，奋斗目标183人。实际完成163人，超过学校基本目标0人，超过学校奋斗目标0人，超额目标奖0元.此部分从学校提留的20%中支.
A11: 教师奖金分配 | C11: 2.1工作量（30%） | D11: =$D$8*0.3 -> 446640 | E11: 工作量=教师奖励*30%
C12: 2.2业绩（70%） | D12: =$D$8*0.7 -> 1042160 | E12: 业绩=教师奖励*70%
A14: 2.2业绩 | C14: 2.2.1文化本科质量奖 | D14: =(1640000*0.8-11200*1640000/(1640000+235000))*0.7 -> 911542.61 | E14: 文化总奖金：1640000元. 文化本科质量奖=文化总奖金-学校提留-年级管理奖占比奖金-工作量，即（1640000*0.8-11200*1640000/(1640000+235000)）*0.7 艺体总奖金：235000元（全部为硬上线，照顾上线没有奖励）. 艺体质量奖=艺体总奖金-学校提留-年级管理奖占比奖金-工作量，即(235000*0.8-11200*235000/(1640000+235000))*0.7
C15: 2.2.2艺体质量奖 | D15: =(235000*0.8-11200*235000/(1640000+235000))*0.7 -> 130617.39
A17: 2.2.1文化本科质量奖 | C17: 2.2.1.1过程评价奖 | D17: =$D$14*3/7 -> 390661.12 | E17: 过程评价奖=文化本科质量奖*3/7(文化奖金中工作量、过程评价、上线质量占比3:3:4)
C18: 2.2.1.2上线质量奖 | D18: =$D$14*4/7 -> 520881.49 | E18: 上线质量奖=文化本科质量奖*4/7(文化奖金中工作量、过程评价、上线质量占比3:3:4)
A20: 2.2.1.2文化上线质量奖 | C20: 2.2.1.2.1总分上线质量奖 | D20: =$D$18*0.6 -> 312528.9 | E20: 总分上线质量奖=文化上线质量奖*60%
C21: 2.2.1.2.2单双上线质量奖 | D21: =$D$18*0.4 -> 208352.6 | E21: 总分上线质量奖=文化上线质量奖*40%

Sheet gk_分数线
C1: 总分 | D1: 语文 | E1: 数学 | F1: 英语 | G1: 物理/政治 | H1: 化学/历史 | I1: 生物/地理
A2: 本科线 | B2: 理科 | C2: 433 | D2: 103 | E2: 73 | F2: 90 | G2: 48.5 | H2: 58.5 | I2: 67
B3: 文科 | C3: 458 | D3: 106 | E3: 87 | F3: 95 | G3: 68 | H3: 65 | I3: 54
C5: 总分 | D5: 语文 | E5: 数学 | F5: 英语 | G5: 物理/政治 | H5: 化学/历史 | I5: 生物/地理
A6: 重本线 | B6: 理科 | C6: 520 | D6: 111 | E6: 95 | F6: 116 | G6: 71 | H6: 75 | I6: 77.5
B7: 文科 | C7: 527 | D7: 115 | E7: 112 | F7: 121.5 | G7: 75 | H7: 75.5 | I7: 65
A9: 附：

Sheet 1.gk_工作量
A1: 序号 | B1: 姓名 | C1: 高一 | F1: 高二 | I1: 高三 | L1: 高三年级主任/班主任 | M1: 基本奖合计
C2: 上期/节 | D2: 下期/节 | E2: 小计/元 | F2: 上期/节 | G2: 下期/节 | H2: 小计/元 | I2: 上期/节 | J2: 下期/节 | K2: 小计/元
E3: =(gk_质量奖分配!$D$11-$L$77)*0.2/SUM($C$4:$D$76) -> 89.020576 | H3: =(gk_质量奖分配!$D$11-$L$77)*0.3/SUM($F$4:$G$76) -> 128.7619 | K3: =(gk_质量奖分配!$D$11-$L$77)*0.5/SUM($I$4:$J$76) -> 209.6124
A4: 1 | B4: 叶屏 | C4: 12 | D4: 12 | E4: =$E$3*SUM(C4:D4) -> 2136.4938 | F4: 14 | G4: 14 | H4: =$H$3*SUM(F4:G4) -> 3605.3333 | I4: 14 | J4: 14 | K4: =$K$3*SUM(I4:J4) -> 5869.1473 | M4: =E4+H4+K4+L4 -> 11610.974
A5: 2 | B5: 阙丽萍 | C5: 12 | D5: 12 | E5: =$E$3*SUM(C5:D5) -> 2136.4938 | F5: 14 | G5: 14 | H5: =$H$3*SUM(F5:G5) -> 3605.3333 | I5: 14 | J5: 14 | K5: =$K$3*SUM(I5:J5) -> 5869.1473 | M5: =E5+H5+K5+L5 -> 11610.974
A6: 3 | B6: 朱霞 | C6: 12 | D6: 12 | E6: =$E$3*SUM(C6:D6) -> 2136.4938 | F6: 14 | G6: 7 | H6: =$H$3*SUM(F6:G6) -> 2704 | I6: 7 | J6: 7 | K6: =$K$3*SUM(I6:J6) -> 2934.5736 | L6: 1000 | M6: =E6+H6+K6+L6 -> 8775.0675
A7: 4 | B7: 何苗 | C7: 12 | D7: 12 | E7: =$E$3*SUM(C7:D7) -> 2136.4938 | H7: =$H$3*SUM(F7:G7) -> 0 | K7: =$K$3*SUM(I7:J7) -> 0 | M7: =E7+H7+K7+L7 -> 2136.4938
A8: 5 | B8: 向美娟 | C8: 12 | D8: 12 | E8: =$E$3*SUM(C8:D8) -> 2136.4938 | F8: 14 | G8: 14 | H8: =$H$3*SUM(F8:G8) -> 3605.3333 | I8: 14 | J8: 14 | K8: =$K$3*SUM(I8:J8) -> 5869.1473 | L8: 1000 | M8: =E8+H8+K8+L8 -> 12610.974
A9: 6 | B9: 曹霞 | E9: =$E$3*SUM(C9:D9) -> 0 | H9: =$H$3*SUM(F9:G9) -> 0 | I9: 14 | J9: 14 | K9: =$K$3*SUM(I9:J9) -> 5869.1473 | M9: =E9+H9+K9+L9 -> 5869.1473
A10: 7 | B10: 何光红 | E10: =$E$3*SUM(C10:D10) -> 0 | F10: 14 | G10: 14 | H10: =$H$3*SUM(F10:G10) -> 3605.3333 | I10: 7 | J10: 7 | K10: =$K$3*SUM(I10:J10) -> 2934.5736 | M10: =E10+H10+K10+L10 -> 6539.907
A11: 8 | B11: 张玉婷 | C11: 12 | D11: 12 | E11: =$E$3*SUM(C11:D11) -> 2136.4938 | F11: 14 | G11: 14 | H11: =$H$3*SUM(F11:G11) -> 3605.3333 | I11: 14 | J11: 14 | K11: =$K$3*SUM(I11:J11) -> 5869.1473 | M11: =E11+H11+K11+L11 -> 11610.974
A12: 9 | B12: 甲阿祝玛 | E12: =$E$3*SUM(C12:D12) -> 0 | G12: 7 | H12: =$H$3*SUM(F12:G12) -> 901.33333 | K12: =$K$3*SUM(I12:J12) -> 0 | M12: =E12+H12+K12+L12 -> 901.33333
A13: 10 | B13: 余玉红 | C13: 14 | D13: 14 | E13: =$E$3*SUM(C13:D13) -> 2492.5761 | F13: 16 | G13: 16 | H13: =$H$3*SUM(F13:G13) -> 4120.381 | I13: 16 | J13: 16 | K13: =$K$3*SUM(I13:J13) -> 6707.5969 | L13: 1000 | M13: =E13+H13+K13+L13 -> 14320.554
A14: 11 | B14: 李乔军 | C14: 14 | D14: 7 | E14: =$E$3*SUM(C14:D14) -> 1869.4321 | H14: =$H$3*SUM(F14:G14) -> 0 | K14: =$K$3*SUM(I14:J14) -> 0 | M14: =E14+H14+K14+L14 -> 1869.4321
A15: 12 | B15: 李希 | C15: 14 | D15: 14 | E15: =$E$3*SUM(C15:D15) -> 2492.5761 | F15: 16 | G15: 16 | H15: =$H$3*SUM(F15:G15) -> 4120.381 | I15: 16 | J15: 16 | K15: =$K$3*SUM(I15:J15) -> 6707.5969 | L15: 1000 | M15: =E15+H15+K15+L15 -> 14320.554
A16: 13 | B16: 杨周宇 | C16: 7 | D16: 10.5 | E16: =$E$3*SUM(C16:D16) -> 1557.8601 | H16: =$H$3*SUM(F16:G16) -> 0 | K16: =$K$3*SUM(I16:J16) -> 0 | M16: =E16+H16+K16+L16 -> 1557.8601
A17: 14 | B17: 胡付松 | C17: 14 | D17: 14 | E17: =$E$3*SUM(C17:D17) -> 2492.5761 | F17: 16 | G17: 16 | H17: =$H$3*SUM(F17:G17) -> 4120.381 | I17: 16 | J17: 16 | K17: =$K$3*SUM(I17:J17) -> 6707.5969 | L17: 2000 | M17: =E17+H17+K17+L17 -> 15320.554
A18: 15 | B18: 周军 | C18: 7 | D18: 7 | E18: =$E$3*SUM(C18:D18) -> 1246.2881 | F18: 8 | H18: =$H$3*SUM(F18:G18) -> 1030.0952 | K18: =$K$3*SUM(I18:J18) -> 0 | M18: =E18+H18+K18+L18 -> 2276.3833
A19: 16 | B19: 徐万雄 | C19: 7 | D19: 10.5 | E19: =$E$3*SUM(C19:D19) -> 1557.8601 | F19: 16 | G19: 16 | H19: =$H$3*SUM(F19:G19) -> 4120.381 | K19: =$K$3*SUM(I19:J19) -> 0 | M19: =E19+H19+K19+L19 -> 5678.241
A20: 17 | B20: 黄金华 | C20: 7 | D20: 7 | E20: =$E$3*SUM(C20:D20) -> 1246.2881 | F20: 8 | G20: 16 | H20: =$H$3*SUM(F20:G20) -> 3090.2857 | I20: 16 | J20: 16 | K20: =$K$3*SUM(I20:J20) -> 6707.5969 | M20: =E20+H20+K20+L20 -> 11044.171
A21: 18 | B21: 潘勇 | E21: =$E$3*SUM(C21:D21) -> 0 | H21: =$H$3*SUM(F21:G21) -> 0 | I21: 16 | J21: 16 | K21: =$K$3*SUM(I21:J21) -> 6707.5969 | M21: =E21+H21+K21+L21 -> 6707.5969
A22: 19 | B22: 王德兵 | E22: =$E$3*SUM(C22:D22) -> 0 | H22: =$H$3*SUM(F22:G22) -> 0 | I22: 16 | J22: 16 | K22: =$K$3*SUM(I22:J22) -> 6707.5969 | M22: =E22+H22+K22+L22 -> 6707.5969
A23: 20 | B23: 罗锐 | E23: =$E$3*SUM(C23:D23) -> 0 | F23: 8 | G23: 8 | H23: =$H$3*SUM(F23:G23) -> 2060.1905 | K23: =$K$3*SUM(I23:J23) -> 0 | M23: =E23+H23+K23+L23 -> 2060.1905
A24: 21 | B24: 马勇 | E24: =$E$3*SUM(C24:D24) -> 0 | F24: 8 | G24: 8 | H24: =$H$3*SUM(F24:G24) -> 2060.1905 | K24: =$K$3*SUM(I24:J24) -> 0 | M24: =E24+H24+K24+L24 -> 2060.1905
A25: 22 | B25: 向翠琳 | C25: 12 | D25: 12 | E25: =$E$3*SUM(C25:D25) -> 2136.4938 | F25: 14 | G25: 14 | H25: =$H$3*SUM(F25:G25) -> 3605.3333 | K25: =$K$3*SUM(I25:J25) -> 0 | M25: =E25+H25+K25+L25 -> 5741.8272
A26: 23 | B26: 赵顺诚 | C26: 12 | D26: 12 | E26: =$E$3*SUM(C26:D26) -> 2136.4938 | F26: 14 | G26: 14 | H26: =$H$3*SUM(F26:G26) -> 3605.3333 | I26: 16 | J26: 16 | K26: =$K$3*SUM(I26:J26) -> 6707.5969 | L26: 1000 | M26: =E26+H26+K26+L26 -> 13449.424
A27: 24 | B27: 廖云虹 | E27: =$E$3*SUM(C27:D27) -> 0 | F27: 14 | G27: 14 | H27: =$H$3*SUM(F27:G27) -> 3605.3333 | I27: 16 | J27: 16 | K27: =$K$3*SUM(I27:J27) -> 6707.5969 | M27: =E27+H27+K27+L27 -> 10312.93
A28: 25 | B28: 达娃央初 | C28: 12 | D28: 12 | E28: =$E$3*SUM(C28:D28) -> 2136.4938 | G28: 7 | H28: =$H$3*SUM(F28:G28) -> 901.33333 | K28: =$K$3*SUM(I28:J28) -> 0 | M28: =E28+H28+K28+L28 -> 3037.8272
A29: 26 | B29: 胡昌燕 | C29: 12 | D29: 12 | E29: =$E$3*SUM(C29:D29) -> 2136.4938 | F29: 14 | G29: 14 | H29: =$H$3*SUM(F29:G29) -> 3605.3333 | I29: 16 | J29: 16 | K29: =$K$3*SUM(I29:J29) -> 6707.5969 | L29: 1000 | M29: =E29+H29+K29+L29 -> 13449.424
A30: 27 | B30: 杨小波 | E30: =$E$3*SUM(C30:D30) -> 0 | G30: 7 | H30: =$H$3*SUM(F30:G30) -> 901.33333 | K30: =$K$3*SUM(I30:J30) -> 0 | M30: =E30+H30+K30+L30 -> 901.33333
A31: 28 | B31: 聂艳梅 | C31: 12 | D31: 12 | E31: =$E$3*SUM(C31:D31) -> 2136.4938 | H31: =$H$3*SUM(F31:G31) -> 0 | K31: =$K$3*SUM(I31:J31) -> 0 | M31: =E31+H31+K31+L31 -> 2136.4938
A32: 29 | B32: 程长寿 | C32: 12 | D32: 12 | E32: =$E$3*SUM(C32:D32) -> 2136.4938 | F32: 14 | G32: 14 | H32: =$H$3*SUM(F32:G32) -> 3605.3333 | I32: 16 | J32: 16 | K32: =$K$3*SUM(I32:J32) -> 6707.5969 | M32: =E32+H32+K32+L32 -> 12449.424
A33: 30 | B33: 兰卡布尺 | E33: =$E$3*SUM(C33:D33) -> 0 | H33: =$H$3*SUM(F33:G33) -> 0 | I33: 16 | J33: 16 | K33: =$K$3*SUM(I33:J33) -> 6707.5969 | M33: =E33+H33+K33+L33 -> 6707.5969
A34: 31 | B34: 邵晖 | C34: 6 | E34: =$E$3*SUM(C34:D34) -> 534.12346 | H34: =$H$3*SUM(F34:G34) -> 0 | K34: =$K$3*SUM(I34:J34) -> 0 | M34: =E34+H34+K34+L34 -> 534.12346
A35: 32 | B35: 汪睿 | E35: =$E$3*SUM(C35:D35) -> 0 | H35: =$H$3*SUM(F35:G35) -> 0 | I35: 16 | J35: 16 | K35: =$K$3*SUM(I35:J35) -> 6707.5969 | M35: =E35+H35+K35+L35 -> 6707.5969
A36: 33 | B36: 谢斌 | E36: =$E$3*SUM(C36:D36) -> 0 | F36: 14 | H36: =$H$3*SUM(F36:G36) -> 1802.6667 | K36: =$K$3*SUM(I36:J36) -> 0 | M36: =E36+H36+K36+L36 -> 1802.6667
A37: 34 | B37: 郑永朝 | C37: 16 | D37: 15 | E37: =$E$3*SUM(C37:D37) -> 2759.6379 | F37: 12 | G37: 12 | H37: =$H$3*SUM(F37:G37) -> 3090.2857 | K37: =$K$3*SUM(I37:J37) -> 0 | M37: =E37+H37+K37+L37 -> 5849.9236
A38: 35 | B38: 王志强 | C38: 16 | D38: 14 | E38: =$E$3*SUM(C38:D38) -> 2670.6173 | H38: =$H$3*SUM(F38:G38) -> 0 | K38: =$K$3*SUM(I38:J38) -> 0 | M38: =E38+H38+K38+L38 -> 2670.6173
A39: 36 | B39: 王玉强 | E39: =$E$3*SUM(C39:D39) -> 0 | F39: 12 | G39: 12 | H39: =$H$3*SUM(F39:G39) -> 3090.2857 | K39: =$K$3*SUM(I39:J39) -> 0 | M39: =E39+H39+K39+L39 -> 3090.2857
A40: 37 | B40: 兰阿布 | C40: 16 | D40: 12 | E40: =$E$3*SUM(C40:D40) -> 2492.5761 | F40: 12 | G40: 12 | H40: =$H$3*SUM(F40:G40) -> 3090.2857 | I40: 21 | J40: 21 | K40: =$K$3*SUM(I40:J40) -> 8803.7209 | M40: =E40+H40+K40+L40 -> 14386.583
A41: 38 | B41: 王友春 | E41: =$E$3*SUM(C41:D41) -> 0 | H41: =$H$3*SUM(F41:G41) -> 0 | I41: 14 | J41: 14 | K41: =$K$3*SUM(I41:J41) -> 5869.1473 | M41: =E41+H41+K41+L41 -> 5869.1473
A42: 39 | B42: 高贵勇 | E42: =$E$3*SUM(C42:D42) -> 0 | F42: 6 | G42: 6 | H42: =$H$3*SUM(F42:G42) -> 1545.1429 | I42: 14 | J42: 14 | K42: =$K$3*SUM(I42:J42) -> 5869.1473 | M42: =E42+H42+K42+L42 -> 7414.2901
A43: 40 | B43: 陈文惠 | C43: 9 | D43: 12 | E43: =$E$3*SUM(C43:D43) -> 1869.4321 | F43: 10 | G43: 10 | H43: =$H$3*SUM(F43:G43) -> 2575.2381 | I43: 12 | J43: 12 | K43: =$K$3*SUM(I43:J43) -> 5030.6977 | M43: =E43+H43+K43+L43 -> 9475.3679
A44: 41 | B44: 叶仁群 | C44: 12 | D44: 11 | E44: =$E$3*SUM(C44:D44) -> 2047.4733 | F44: 10 | G44: 10 | H44: =$H$3*SUM(F44:G44) -> 2575.2381 | I44: 12 | J44: 12 | K44: =$K$3*SUM(I44:J44) -> 5030.6977 | L44: 1000 | M44: =E44+H44+K44+L44 -> 10653.409
A45: 42 | B45: 李荣鑫 | C45: 6 | D45: 6 | E45: =$E$3*SUM(C45:D45) -> 1068.2469 | H45: =$H$3*SUM(F45:G45) -> 0 | K45: =$K$3*SUM(I45:J45) -> 0 | M45: =E45+H45+K45+L45 -> 1068.2469
A46: 43 | B46: 郑富全 | C46: 9 | D46: 11 | E46: =$E$3*SUM(C46:D46) -> 1780.4115 | F46: 10 | G46: 10 | H46: =$H$3*SUM(F46:G46) -> 2575.2381 | I46: 6 | J46: 6 | K46: =$K$3*SUM(I46:J46) -> 2515.3488 | M46: =E46+H46+K46+L46 -> 6870.9985
A47: 44 | B47: 刘厚江 | E47: =$E$3*SUM(C47:D47) -> 0 | H47: =$H$3*SUM(F47:G47) -> 0 | I47: 12 | J47: 12 | K47: =$K$3*SUM(I47:J47) -> 5030.6977 | M47: =E47+H47+K47+L47 -> 5030.6977
A48: 45 | B48: 刘跃军 | E48: =$E$3*SUM(C48:D48) -> 0 | F48: 5 | G48: 5 | H48: =$H$3*SUM(F48:G48) -> 1287.619 | K48: =$K$3*SUM(I48:J48) -> 0 | M48: =E48+H48+K48+L48 -> 1287.619
A49: 46 | B49: 杨建 | E49: =$E$3*SUM(C49:D49) -> 0 | F49: 10 | G49: 10 | H49: =$H$3*SUM(F49:G49) -> 2575.2381 | I49: 15 | J49: 15 | K49: =$K$3*SUM(I49:J49) -> 6288.3721 | M49: =E49+H49+K49+L49 -> 8863.6102
A50: 47 | B50: 金勇 | C50: 6 | E50: =$E$3*SUM(C50:D50) -> 534.12346 | H50: =$H$3*SUM(F50:G50) -> 0 | K50: =$K$3*SUM(I50:J50) -> 0 | M50: =E50+H50+K50+L50 -> 534.12346
A51: 48 | B51: 卢祥 | C51: 8 | D51: 14 | E51: =$E$3*SUM(C51:D51) -> 1958.4527 | F51: 15 | G51: 15 | H51: =$H$3*SUM(F51:G51) -> 3862.8571 | I51: 10 | J51: 10 | K51: =$K$3*SUM(I51:J51) -> 4192.2481 | L51: 1000 | M51: =E51+H51+K51+L51 -> 11013.558
A52: 49 | B52: 辜英琼 | C52: 6 | D52: 11 | E52: =$E$3*SUM(C52:D52) -> 1513.3498 | H52: =$H$3*SUM(F52:G52) -> 0 | K52: =$K$3*SUM(I52:J52) -> 0 | M52: =E52+H52+K52+L52 -> 1513.3498
A53: 50 | B53: 田友米 | C53: 4 | D53: 8 | E53: =$E$3*SUM(C53:D53) -> 1068.2469 | F53: 10 | G53: 10 | H53: =$H$3*SUM(F53:G53) -> 2575.2381 | I53: 10 | J53: 10 | K53: =$K$3*SUM(I53:J53) -> 4192.2481 | M53: =E53+H53+K53+L53 -> 7835.7331
A54: 51 | B54: 杨吉华 | C54: 8 | D54: 12 | E54: =$E$3*SUM(C54:D54) -> 1780.4115 | H54: =$H$3*SUM(F54:G54) -> 0 | K54: =$K$3*SUM(I54:J54) -> 0 | M54: =E54+H54+K54+L54 -> 1780.4115
A55: 52 | B55: 卢银楷 | C55: 8 | D55: 13 | E55: =$E$3*SUM(C55:D55) -> 1869.4321 | F55: 15 | G55: 15 | H55: =$H$3*SUM(F55:G55) -> 3862.8571 | I55: 18 | J55: 18 | K55: =$K$3*SUM(I55:J55) -> 7546.0465 | L55: 1000 | M55: =E55+H55+K55+L55 -> 14278.336
A56: 53 | B56: 马巫各 | C56: 8 | D56: 7 | E56: =$E$3*SUM(C56:D56) -> 1335.3086 | F56: 10 | G56: 10 | H56: =$H$3*SUM(F56:G56) -> 2575.2381 | K56: =$K$3*SUM(I56:J56) -> 0 | M56: =E56+H56+K56+L56 -> 3910.5467
A57: 54 | B57: 卢银楷 | E57: =$E$3*SUM(C57:D57) -> 0 | H57: =$H$3*SUM(F57:G57) -> 0 | K57: =$K$3*SUM(I57:J57) -> 0 | M57: =E57+H57+K57+L57 -> 0
A58: 55 | B58: 吴文艺 | E58: =$E$3*SUM(C58:D58) -> 0 | H58: =$H$3*SUM(F58:G58) -> 0 | I58: 12 | J58: 6 | K58: =$K$3*SUM(I58:J58) -> 3773.0233 | M58: =E58+H58+K58+L58 -> 3773.0233
A59: 56 | B59: 康宇峰 | E59: =$E$3*SUM(C59:D59) -> 0 | H59: =$H$3*SUM(F59:G59) -> 0 | J59: 6 | K59: =$K$3*SUM(I59:J59) -> 1257.6744 | M59: =E59+H59+K59+L59 -> 1257.6744
A60: 57 | B60: 胡慧芳 | C60: 10 | D60: 14 | E60: =$E$3*SUM(C60:D60) -> 2136.4938 | F60: 10 | G60: 10 | H60: =$H$3*SUM(F60:G60) -> 2575.2381 | I60: 12 | J60: 12 | K60: =$K$3*SUM(I60:J60) -> 5030.6977 | M60: =E60+H60+K60+L60 -> 9742.4296
A61: 58 | B61: 赵香才 | C61: 10 | D61: 18 | E61: =$E$3*SUM(C61:D61) -> 2492.5761 | F61: 10 | G61: 15 | H61: =$H$3*SUM(F61:G61) -> 3219.0476 | I61: 18 | J61: 18 | K61: =$K$3*SUM(I61:J61) -> 7546.0465 | L61: 1000 | M61: =E61+H61+K61+L61 -> 14257.67
A62: 59 | B62: 勾中文 | C62: 4 | E62: =$E$3*SUM(C62:D62) -> 356.0823 | F62: 5 | H62: =$H$3*SUM(F62:G62) -> 643.80952 | K62: =$K$3*SUM(I62:J62) -> 0 | M62: =E62+H62+K62+L62 -> 999.89183
A63: 60 | B63: 金贵 | C63: 8 | D63: 14 | E63: =$E$3*SUM(C63:D63) -> 1958.4527 | F63: 12 | G63: 12 | H63: =$H$3*SUM(F63:G63) -> 3090.2857 | I63: 12 | J63: 12 | K63: =$K$3*SUM(I63:J63) -> 5030.6977 | L63: 1000 | M63: =E63+H63+K63+L63 -> 11079.436
A64: 61 | B64: 骆泽群 | C64: 8 | D64: 12 | E64: =$E$3*SUM(C64:D64) -> 1780.4115 | H64: =$H$3*SUM(F64:G64) -> 0 | K64: =$K$3*SUM(I64:J64) -> 0 | M64: =E64+H64+K64+L64 -> 1780.4115
A65: 62 | B65: 杜基次尔 | C65: 8 | D65: 18 | E65: =$E$3*SUM(C65:D65) -> 2314.535 | F65: 18 | G65: 18 | H65: =$H$3*SUM(F65:G65) -> 4635.4286 | I65: 18 | J65: 18 | K65: =$K$3*SUM(I65:J65) -> 7546.0465 | L65: 1000 | M65: =E65+H65+K65+L65 -> 15496.01
A66: 63 | B66: 骆泽群 | E66: =$E$3*SUM(C66:D66) -> 0 | H66: =$H$3*SUM(F66:G66) -> 0 | K66: =$K$3*SUM(I66:J66) -> 0 | M66: =E66+H66+K66+L66 -> 0
A67: 64 | B67: 郭禧唐 | C67: 6 | D67: 6 | E67: =$E$3*SUM(C67:D67) -> 1068.2469 | F67: 6 | G67: 6 | H67: =$H$3*SUM(F67:G67) -> 1545.1429 | K67: =$K$3*SUM(I67:J67) -> 0 | M67: =E67+H67+K67+L67 -> 2613.3898
A68: 65 | B68: 申海冰 | C68: 8 | D68: 8 | E68: =$E$3*SUM(C68:D68) -> 1424.3292 | H68: =$H$3*SUM(F68:G68) -> 0 | K68: =$K$3*SUM(I68:J68) -> 0 | M68: =E68+H68+K68+L68 -> 1424.3292
A69: 66 | B69: 李瑛 | C69: 16 | D69: 16 | E69: =$E$3*SUM(C69:D69) -> 2848.6584 | F69: 14 | G69: 14 | H69: =$H$3*SUM(F69:G69) -> 3605.3333 | I69: 12 | J69: 12 | K69: =$K$3*SUM(I69:J69) -> 5030.6977 | M69: =E69+H69+K69+L69 -> 11484.689
A70: 67 | B70: 李挖合 | E70: =$E$3*SUM(C70:D70) -> 0 | F70: 4 | G70: 4 | H70: =$H$3*SUM(F70:G70) -> 1030.0952 | K70: =$K$3*SUM(I70:J70) -> 0 | M70: =E70+H70+K70+L70 -> 1030.0952
A71: 68 | B71: 沙国芳 | E71: =$E$3*SUM(C71:D71) -> 0 | F71: 6 | G71: 6 | H71: =$H$3*SUM(F71:G71) -> 1545.1429 | I71: 12 | J71: 12 | K71: =$K$3*SUM(I71:J71) -> 5030.6977 | M71: =E71+H71+K71+L71 -> 6575.8405
A72: 69 | B72: 周时德 | C72: 8 | D72: 8 | E72: =$E$3*SUM(C72:D72) -> 1424.3292 | F72: 4 | G72: 4.5 | H72: =$H$3*SUM(F72:G72) -> 1094.4762 | K72: =$K$3*SUM(I72:J72) -> 0 | M72: =E72+H72+K72+L72 -> 2518.8054
A73: 70 | B73: 立日木里 | C73: 4 | D73: 4 | E73: =$E$3*SUM(C73:D73) -> 712.16461 | F73: 2 | G73: 1.5 | H73: =$H$3*SUM(F73:G73) -> 450.66667 | K73: =$K$3*SUM(I73:J73) -> 0 | M73: =E73+H73+K73+L73 -> 1162.8313
A74: 71 | B74: 赵刚 | C74: 10 | D74: 10 | E74: =$E$3*SUM(C74:D74) -> 1780.4115 | H74: =$H$3*SUM(F74:G74) -> 0 | K74: =$K$3*SUM(I74:J74) -> 0 | M74: =E74+H74+K74+L74 -> 1780.4115
A75: 72 | B75: 王富国 | C75: 2 | D75: 2 | E75: =$E$3*SUM(C75:D75) -> 356.0823 | H75: =$H$3*SUM(F75:G75) -> 0 | K75: =$K$3*SUM(I75:J75) -> 0 | M75: =E75+H75+K75+L75 -> 356.0823
A76: 73 | B76: 周学万 | E76: =$E$3*SUM(C76:D76) -> 0 | F76: 12 | G76: 12 | H76: =$H$3*SUM(F76:G76) -> 3090.2857 | K76: =$K$3*SUM(I76:J76) -> 0 | M76: =E76+H76+K76+L76 -> 3090.2857
A77: 合计 | E77: =SUM(E4:E76) -> 86528 | H77: =SUM(H4:H76) -> 129792 | K77: =SUM(K4:K76) -> 216320 | L77: =SUM(L4:L76) -> 14000 | M77: =SUM(M4:M76) -> 446640

Sheet 2.gk_过程评价
A1: 学科 | B1: 得分 | C1: 金额/元 | D1: 备注
A2: 叶屏 | B2: 591.84337 | C2: =B2*gk_质量奖分配!$D$17/SUM($B$2:$B$62) -> 10481.189
A3: 阙丽萍 | B3: 590.21809 | C3: =B3*gk_质量奖分配!$D$17/SUM($B$2:$B$62) -> 10452.406
A4: 曹霞 | B4: 193.11927 | C4: =B4*gk_质量奖分配!$D$17/SUM($B$2:$B$62) -> 3420.0257
A5: 余玉红 | B5: 594.85249 | C5: =B5*gk_质量奖分配!$D$17/SUM($B$2:$B$62) -> 10534.479
A6: 李希 | B6: 599.70214 | C6: =B6*gk_质量奖分配!$D$17/SUM($B$2:$B$62) -> 10620.363
A7: 王德兵 | B7: 196.89302 | C7: =B7*gk_质量奖分配!$D$17/SUM($B$2:$B$62) -> 3486.8565
A8: 胡昌燕 | B8: 601.07007 | C8: =B8*gk_质量奖分配!$D$17/SUM($B$2:$B$62) -> 10644.588
A9: 赵顺诚 | B9: 590.79947 | C9: =B9*gk_质量奖分配!$D$17/SUM($B$2:$B$62) -> 10462.702
A10: 汪睿 | B10: 195.12144 | C10: =B10*gk_质量奖分配!$D$17/SUM($B$2:$B$62) -> 3455.483
A11: 兰卡布尺 | B11: 196.58655 | C11: =B11*gk_质量奖分配!$D$17/SUM($B$2:$B$62) -> 3481.4291
A12: 卢银楷 | B12: 599.8982 | C12: =B12*gk_质量奖分配!$D$17/SUM($B$2:$B$62) -> 10623.835
A13: 康宇峰 | B13: =97.6480509745127/2 -> 48.824025 | C13: =B13*gk_质量奖分配!$D$17/SUM($B$2:$B$62) -> 864.64403
A14: 胡慧芳 | B14: 597.92908 | C14: =B14*gk_质量奖分配!$D$17/SUM($B$2:$B$62) -> 10588.963
A15: 赵香才 | B15: 593.13387 | C15: =B15*gk_质量奖分配!$D$17/SUM($B$2:$B$62) -> 10504.043
A16: 金贵 | B16: 596.31781 | C16: =B16*gk_质量奖分配!$D$17/SUM($B$2:$B$62) -> 10560.429
A17: 杜基次尔 | B17: 588.30653 | C17: =B17*gk_质量奖分配!$D$17/SUM($B$2:$B$62) -> 10418.554
A18: 何光红 | B18: 397.16642 | C18: =B18*gk_质量奖分配!$D$17/SUM($B$2:$B$62) -> 7033.5776
A19: 向美娟 | B19: 596.72229 | C19: =B19*gk_质量奖分配!$D$17/SUM($B$2:$B$62) -> 10567.592
A20: 张玉婷 | B20: 583.86162 | C20: =B20*gk_质量奖分配!$D$17/SUM($B$2:$B$62) -> 10339.837
A21: 朱霞 | B21: 604.81055 | C21: =B21*gk_质量奖分配!$D$17/SUM($B$2:$B$62) -> 10710.83
A22: 潘勇 | B22: 200.38301 | C22: =B22*gk_质量奖分配!$D$17/SUM($B$2:$B$62) -> 3548.6621
A23: 胡付松 | B23: 576.88492 | C23: =B23*gk_质量奖分配!$D$17/SUM($B$2:$B$62) -> 10216.284
A24: 黄金华 | B24: 598.45355 | C24: =B24*gk_质量奖分配!$D$17/SUM($B$2:$B$62) -> 10598.251
A25: 廖云虹 | B25: 396.79542 | C25: =B25*gk_质量奖分配!$D$17/SUM($B$2:$B$62) -> 7027.0075
... A36: 田友米 | B36: 591.5774 | C36: =B36*gk_质量奖分配!$D$17/SUM($B$2:$B$62) -> 10476.479
A37: 吴文艺 | B37: =95.7808478938101+97.65/2 -> 144.60585 | C37: =B37*gk_质量奖分配!$D$17/SUM($B$2:$B$62) -> 2560.8823
A38: 甲阿祝玛 | B38: 97.083333 | C38: =B38*gk_质量奖分配!$D$17/SUM($B$2:$B$62) -> 1719.2873
A39: 马勇 | B39: 197.01601 | C39: =B39*gk_质量奖分配!$D$17/SUM($B$2:$B$62) -> 3489.0347
A40: 罗锐 | B40: 197.1767 | C40: =B40*gk_质量奖分配!$D$17/SUM($B$2:$B$62) -> 3491.8803
A41: 向翠琳 | B41: 391.81235 | C41: =B41*gk_质量奖分配!$D$17/SUM($B$2:$B$62) -> 6938.7604
A42: 杨小波 | B42: 95.346689 | C42: =B42*gk_质量奖分配!$D$17/SUM($B$2:$B$62) -> 1688.5323
A43: 马巫各 | B43: 398.57005 | C43: =B43*gk_质量奖分配!$D$17/SUM($B$2:$B$62) -> 7058.435
A44: 徐万雄 | B44: 388.00442 | C44: =B44*gk_质量奖分配!$D$17/SUM($B$2:$B$62) -> 6871.3241
A45: 达娃央初 | B45: 300.37051 | C45: =B45*gk_质量奖分配!$D$17/SUM($B$2:$B$62) -> 5319.3804
A46: 郑永朝 | B46: 399.49214 | C46: =B46*gk_质量奖分配!$D$17/SUM($B$2:$B$62) -> 7074.7647
A47: 王玉强 | B47: 195.12987 | C47: =B47*gk_质量奖分配!$D$17/SUM($B$2:$B$62) -> 3455.6323
A48: 刘跃军 | B48: 191.02987 | C48: =B48*gk_质量奖分配!$D$17/SUM($B$2:$B$62) -> 3383.0236
A49: 谢斌 | B49: 97.440981 | C49: =B49*gk_质量奖分配!$D$17/SUM($B$2:$B$62) -> 1725.621
... A62: 金勇 | B62: 100.11204 | C62: =B62*gk_质量奖分配!$D$17/SUM($B$2:$B$62) -> 1772.9239
B63: =SUM(B2:B62) -> 22059.539 | C63: =SUM(C2:C62) -> 390661.12

Sheet 3.gk_上线质量
C1: 总分上线 | E1: 学科单双上线
A2: 序号 | B2: 姓名 | C2: 得分 | D2: 金额 | E2: 得分 | F2: 金额
A3: 1 | B3: 曹霞 | C3: 27 | D3: =C3*gk_质量奖分配!$D$20/SUM($C$3:$C$62) -> 1375.5337 | E3: 189 | F3: =E3*gk_质量奖分配!$D$21/SUM($E$3:$E$62) -> 1248.2927
A4: 2 | B4: 陈文惠 | C4: 206.1 | D4: =C4*gk_质量奖分配!$D$20/SUM($C$3:$C$62) -> 10499.907 | E4: 1074.6 | F4: =E4*gk_质量奖分配!$D$21/SUM($E$3:$E$62) -> 7097.4355
A5: 3 | B5: 程长寿 | C5: 433.02 | D5: =C5*gk_质量奖分配!$D$20/SUM($C$3:$C$62) -> 22060.504 | E5: 2241 | F5: =E5*gk_质量奖分配!$D$21/SUM($E$3:$E$62) -> 14801.185
A6: 4 | B6: 达娃央初 | C6: 3.54 | D6: =C6*gk_质量奖分配!$D$20/SUM($C$3:$C$62) -> 180.34775 | E6: 18.9 | F6: =E6*gk_质量奖分配!$D$21/SUM($E$3:$E$62) -> 124.82927
A7: 5 | B7: 杜基次尔 | C7: 72.72 | D7: =C7*gk_质量奖分配!$D$20/SUM($C$3:$C$62) -> 3704.7707 | E7: 822.6 | F7: =E7*gk_质量奖分配!$D$21/SUM($E$3:$E$62) -> 5433.0453
A8: 6 | B8: 高贵勇 | C8: -15.03 | D8: =C8*gk_质量奖分配!$D$20/SUM($C$3:$C$62) -> -765.71375 | E8: 167.4 | F8: =E8*gk_质量奖分配!$D$21/SUM($E$3:$E$62) -> 1105.6307
A9: 7 | B9: 勾中文 | C9: 2.16 | D9: =C9*gk_质量奖分配!$D$20/SUM($C$3:$C$62) -> 110.0427 | E9: 41.4 | F9: =E9*gk_质量奖分配!$D$21/SUM($E$3:$E$62) -> 273.43554
A10: 8 | B10: 辜英琼 | C10: 62.04 | D10: =C10*gk_质量奖分配!$D$20/SUM($C$3:$C$62) -> 3160.6707 | E10: 216 | F10: =E10*gk_质量奖分配!$D$21/SUM($E$3:$E$62) -> 1426.6202
A11: 9 | B11: 何光红 | C11: 72 | D11: =C11*gk_质量奖分配!$D$20/SUM($C$3:$C$62) -> 3668.0898 | E11: 322.2 | F11: =E11*gk_质量奖分配!$D$21/SUM($E$3:$E$62) -> 2128.0418
A12: 10 | B12: 何苗 | C12: 51.6 | D12: =C12*gk_质量奖分配!$D$20/SUM($C$3:$C$62) -> 2628.7977 | E12: 241.2 | F12: =E12*gk_质量奖分配!$D$21/SUM($E$3:$E$62) -> 1593.0592
A13: 11 | B13: 胡昌燕 | C13: 234.06 | D13: =C13*gk_质量奖分配!$D$20/SUM($C$3:$C$62) -> 11924.349 | E13: 750.6 | F13: =E13*gk_质量奖分配!$D$21/SUM($E$3:$E$62) -> 4957.5052
A14: 12 | B14: 胡付松 | C14: 261.78 | D14: =C14*gk_质量奖分配!$D$20/SUM($C$3:$C$62) -> 13336.563 | E14: 1220.4 | F14: =E14*gk_质量奖分配!$D$21/SUM($E$3:$E$62) -> 8060.4042
... A62: 60 | B62: 朱霞 | C62: 170.28 | D62: =C62*gk_质量奖分配!$D$20/SUM($C$3:$C$62) -> 8675.0325 | E62: 1020.6 | F62: =E62*gk_质量奖分配!$D$21/SUM($E$3:$E$62) -> 6740.7805
B63: 合计 | C63: =SUM(C3:C62) -> 6134.55 | D63: =SUM(D3:D62) -> 312528.9 | E63: =SUM(E3:E62) -> 31546 | F63: =SUM(F3:F62) -> 208352.6

Sheet 4.gk_艺体质量
B1: 艺体硬上线质量奖
B2: 文化教师奖 | D2: 艺体专业奖 | F2: 合计
A3: 授课教师 | B3: 分数 | C3: 金额 | D3: 分数 | E3: 金额
A4: 曹霞 | B4: 261 | C4: =B4*gk_质量奖分配!$D$15*0.6/SUM($B$4:$B$50) -> 4988.4603 | F4: =C4+E4 -> 4988.4603
A5: 达娃央初 | B5: 18 | C5: =B5*gk_质量奖分配!$D$15*0.6/SUM($B$4:$B$50) -> 344.03175 | F5: =C5+E5 -> 344.03175
A6: 杜基次尔 | B6: 516.6 | C6: =B6*gk_质量奖分配!$D$15*0.6/SUM($B$4:$B$50) -> 9873.7111 | F6: =C6+E6 -> 9873.7111
A7: 勾中文 | B7: 21.6 | C7: =B7*gk_质量奖分配!$D$15*0.6/SUM($B$4:$B$50) -> 412.8381 | F7: =C7+E7 -> 412.8381
A8: 何光红 | B8: 21.6 | C8: =B8*gk_质量奖分配!$D$15*0.6/SUM($B$4:$B$50) -> 412.8381 | F8: =C8+E8 -> 412.8381
A9: 何苗 | B9: 64.8 | C9: =B9*gk_质量奖分配!$D$15*0.6/SUM($B$4:$B$50) -> 1238.5143 | F9: =C9+E9 -> 1238.5143
A10: 胡昌燕 | B10: 64.8 | C10: =B10*gk_质量奖分配!$D$15*0.6/SUM($B$4:$B$50) -> 1238.5143 | F10: =C10+E10 -> 1238.5143
A11: 胡付松 | B11: 20.4 | C11: =B11*gk_质量奖分配!$D$15*0.6/SUM($B$4:$B$50) -> 389.90265 | F11: =C11+E11 -> 389.90265
A12: 胡慧芳 | B12: 327.6 | C12: =B12*gk_质量奖分配!$D$15*0.6/SUM($B$4:$B$50) -> 6261.3778 | F12: =C12+E12 -> 6261.3778
A13: 黄金华 | B13: 3.6 | C13: =B13*gk_质量奖分配!$D$15*0.6/SUM($B$4:$B$50) -> 68.806349 | F13: =C13+E13 -> 68.806349
A14: 甲阿祝玛 | B14: 27 | C14: =B14*gk_质量奖分配!$D$15*0.6/SUM($B$4:$B$50) -> 516.04762 | F14: =C14+E14 -> 516.04762
A15: 金贵 | B15: 135 | C15: =B15*gk_质量奖分配!$D$15*0.6/SUM($B$4:$B$50) -> 2580.2381 | F15: =C15+E15 -> 2580.2381
... A33: 王志强 | B33: 0.6 | C33: =B33*gk_质量奖分配!$D$15*0.6/SUM($B$4:$B$50) -> 11.467725 | F33: =C33+E33 -> 11.467725
A34: 吴文艺 | B34: =54+81/2 -> 94.5 | C34: =B34*gk_质量奖分配!$D$15*0.6/SUM($B$4:$B$50) -> 1806.1667 | F34: =C34+E34 -> 1806.1667
A35: 康宇峰 | B35: =81/2 -> 40.5 | C35: =B35*gk_质量奖分配!$D$15*0.6/SUM($B$4:$B$50) -> 774.07143 | F35: =C35+E35 -> 774.07143
A36: 向翠琳 | B36: 117 | C36: =B36*gk_质量奖分配!$D$15*0.6/SUM($B$4:$B$50) -> 2236.2064 | F36: =C36+E36 -> 2236.2064
A37: 向美娟 | B37: 6 | C37: =B37*gk_质量奖分配!$D$15*0.6/SUM($B$4:$B$50) -> 114.67725 | F37: =C37+E37 -> 114.67725
A38: 谢斌 | B38: 5.4 | C38: =B38*gk_质量奖分配!$D$15*0.6/SUM($B$4:$B$50) -> 103.20952 | F38: =C38+E38 -> 103.20952
A39: 杨吉华 | B39: 36 | C39: =B39*gk_质量奖分配!$D$15*0.6/SUM($B$4:$B$50) -> 688.06349 | F39: =C39+E39 -> 688.06349
A40: 杨建 | B40: 3 | C40: =B40*gk_质量奖分配!$D$15*0.6/SUM($B$4:$B$50) -> 57.338625 | F40: =C40+E40 -> 57.338625
A41: 杨小波 | B41: 5.4 | C41: =B41*gk_质量奖分配!$D$15*0.6/SUM($B$4:$B$50) -> 103.20952 | F41: =C41+E41 -> 103.20952
A42: 杨周宇 | B42: 14.4 | C42: =B42*gk_质量奖分配!$D$15*0.6/SUM($B$4:$B$50) -> 275.2254 | F42: =C42+E42 -> 275.2254
A43: 叶屏 | B43: 126 | C43: =B43*gk_质量奖分配!$D$15*0.6/SUM($B$4:$B$50) -> 2408.2222 | F43: =C43+E43 -> 2408.2222
A44: 叶仁群 | B44: 6 | C44: =B44*gk_质量奖分配!$D$15*0.6/SUM($B$4:$B$50) -> 114.67725 | F44: =C44+E44 -> 114.67725
A45: 余玉红 | B45: 183.6 | C45: =B45*gk_质量奖分配!$D$15*0.6/SUM($B$4:$B$50) -> 3509.1238 | F45: =C45+E45 -> 3509.1238
A46: 张玉婷 | B46: 3.6 | C46: =B46*gk_质量奖分配!$D$15*0.6/SUM($B$4:$B$50) -> 68.806349 | F46: =C46+E46 -> 68.806349
A47: 赵顺诚 | B47: 133.2 | C47: =B47*gk_质量奖分配!$D$15*0.6/SUM($B$4:$B$50) -> 2545.8349 | F47: =C47+E47 -> 2545.8349
... A50: 朱霞 | B50: 57.6 | C50: =B50*gk_质量奖分配!$D$15*0.6/SUM($B$4:$B$50) -> 1100.9016 | F50: =C50+E50 -> 1100.9016
A51: 李瑛 | D51: 540 | E51: =D51*gk_质量奖分配!$D$15*0.4/SUM($D$51:$D$53) -> 22606.855 | F51: =C51+E51 -> 22606.855
A52: 周时德 | D52: 216 | E52: =D52*gk_质量奖分配!$D$15*0.4/SUM($D$51:$D$53) -> 9042.7422 | F52: =C52+E52 -> 9042.7422
A53: 朱梦清 | D53: 492 | E53: =D53*gk_质量奖分配!$D$15*0.4/SUM($D$51:$D$53) -> 20597.357 | F53: =C53+E53 -> 20597.357
A54: 汇总 | C54: =SUM(C4:C53) -> 78370.432 | E54: =SUM(E4:E53) -> 52246.955 | F54: =SUM(F4:F53) -> 130617.39

Sheet 5.gk_超额目标(无)

Sheet 6.gk_年级管理
A1: 姓名 | B1: 奖金
A2: 金贵 | B2: 582.88108
A3: 赵顺诚 | B3: 1894.7986
A4: 余玉红 | B4: 556.45137
A5: 赵香才 | B5: 597.56426
A6: 李希 | B6: 414.02456
A7: 胡昌燕 | B7: 579.94445
A8: 叶仁群 | B8: 428.70774
A9: 郑富全 | B9: 270.87726
A10: 向美娟 | B10: 656.29696
A11: 胡付松 | B11: 1148.7217
A12: 杜基次尔 | B12: 204.08248
A13: 卢祥 | B13: 135.80571
... A17: 黄金华 | B17: 1344
B18: =SUM(B2:B17) -> 11200.264

Sheet 高一质量奖
A1: 姓名 | B1: 质量奖
A2: 马俊 | B2: 11879.702
A3: 喇燕 | B3: 8160.9242
A4: 陈虎林 | B4: 5577.3144
A5: 吕开绒 | B5: 7589.2663
A6: 曹云萍 | B6: 7695.0116
A7: 邓国华 | B7: 7633.8738
A8: 赵云川 | B8: 5287.0864
A9: 央宗娜姆 | B9: 5376.8212
A10: 岳子琦 | B10: 5896.215
A11: 周菊明 | B11: 6050.329
A12: 杨翁基之玛 | B12: 3988.6334
A13: 张镇棚 | B13: 3974.4805
... A42: 石敏 | B42: 2248.3734
A43: 合计 | B43: =SUM(B2:B42) -> 153440

Sheet 高二质量和进步奖
A1: 姓名 | B1: 质量奖 | C1: 进步奖 | D1: 合计
A2: 龚霞 | B2: 6959.8503 | C2: 3564.8 | D2: =SUM(B2:C2) -> 10524.65
A3: 刘玲君 | B3: 11215.278 | C3: 3296 | D3: =SUM(B3:C3) -> 14511.278
A4: 李志友 | B4: 8752.286 | C4: 2268.8 | D4: =SUM(B4:C4) -> 11021.086
A5: 甲阿祝玛 | B5: 8986.9832 | C5: 3382.4 | D5: =SUM(B5:C5) -> 12369.383
A6: 叶仁芳 | B6: 6956.0176 | C6: 3564.8 | D6: =SUM(B6:C6) -> 10520.818
A7: 杨志明 | B7: 9129.585 | C7: 3123.2 | D7: =SUM(B7:C7) -> 12252.785
A8: 杜东洋 | B8: 7272.5908 | C8: 4460.8 | D8: =SUM(B8:C8) -> 11733.391
A9: 扎拉 | B9: 7954.4674 | C9: 6793.6 | D9: =SUM(B9:C9) -> 14748.067
A10: 马磊 | B10: 7860.6626 | C10: 6625.6 | D10: =SUM(B10:C10) -> 14486.263
A11: 次儿祝玛 | B11: 10867.046 | C11: 4790.4 | D11: =SUM(B11:C11) -> 15657.446
A12: 苏朗偏初 | B12: 8987.4773 | C12: 4017.6 | D12: =SUM(B12:C12) -> 13005.077
A13: 陈虎林 | B13: 4939.0685 | C13: 1216 | D13: =SUM(B13:C13) -> 6155.0685
... A34: 骆泽群 | B34: 6963.8624 | C34: 2419.2 | D34: =SUM(B34:C34) -> 9383.0624
A35: 合计 | B35: =SUM(B1:B34) -> 178720 | C35: =SUM(C1:C34) -> 115200 | D35: =SUM(B35:C35) -> 293920

Sheet 高三质量奖
A1: 姓名 | B1: 质量奖 | C1: 合计
A2: 叶屏 | B2: 4812 | C2: =SUM(B2:B2) -> 4812
A3: 阙丽萍 | B3: 3437.0504 | C3: =SUM(B3:B3) -> 3437.0504
A4: 曹霞 | B4: 4746.3785 | C4: =SUM(B4:B4) -> 4746.3785
A5: 何光红 | B5: 1014.1254 | C5: =SUM(B5:B5) -> 1014.1254
A6: 张玉婷 | B6: 2073 | C6: =SUM(B6:B6) -> 2073
A7: 向美娟 | B7: 2053 | C7: =SUM(B7:B7) -> 2053
A8: 朱霞 | B8: 1073 | C8: =SUM(B8:B8) -> 1073
A9: 余玉红 | B9: 4940 | C9: =SUM(B9:B9) -> 4940
A10: 李希 | B10: 3389 | C10: =SUM(B10:B10) -> 3389
A11: 王德兵 | B11: 4592 | C11: =SUM(B11:B11) -> 4592
A12: 潘勇 | B12: 2080 | C12: =SUM(B12:B12) -> 2080
A13: 胡付松 | B13: 2140 | C13: =SUM(B13:B13) -> 2140
... A29: 王友春 | B29: 1460 | C29: =SUM(B29:B29) -> 1460
A30: 合计 | B30: =SUM(B2:B29) -> 76319.991 | C30: =SUM(C2:C29) -> 76319.991
