Workbook

Sheet 汇总表
A1: 学期 | B1: 姓名 | C1: 得分 | E1: 最终数据 | F1: 姓名 | G1: 得分
A2: 高考 | B2: 叶屏 | C2: =AVERAGEIF(评价分!$B$2:$C$41,B2,评价分!$C$2:$C$41) -> 100.15438 | F2: 叶屏 | G2: =SUMIF($B$2:$C$224,F2,$C$2:$C$224) -> 591.84337
B3: 阙丽萍 | C3: =AVERAGEIF(评价分!$B$2:$C$41,B3,评价分!$C$2:$C$41) -> 99.538602 | F3: 阙丽萍 | G3: =SUMIF($B$2:$C$224,F3,$C$2:$C$224) -> 590.21809
B4: 曹霞 | C4: =AVERAGEIF(评价分!$B$2:$C$41,B4,评价分!$C$2:$C$41) -> 96.082652 | F4: 曹霞 | G4: =SUMIF($B$2:$C$224,F4,$C$2:$C$224) -> 193.11927
B5: 余玉红 | C5: =AVERAGEIF(评价分!$B$2:$C$41,B5,评价分!$C$2:$C$41) -> 93.112707 | F5: 余玉红 | G5: =SUMIF($B$2:$C$224,F5,$C$2:$C$224) -> 594.85249
B6: 李希 | C6: =AVERAGEIF(评价分!$B$2:$C$41,B6,评价分!$C$2:$C$41) -> 102.82076 | F6: 李希 | G6: =SUMIF($B$2:$C$224,F6,$C$2:$C$224) -> 599.70214
B7: 王德兵 | C7: =AVERAGEIF(评价分!$B$2:$C$41,B7,评价分!$C$2:$C$41) -> 98.90956 | F7: 王德兵 | G7: =SUMIF($B$2:$C$224,F7,$C$2:$C$224) -> 196.89302
B8: 胡昌燕 | C8: =AVERAGEIF(评价分!$B$2:$C$41,B8,评价分!$C$2:$C$41) -> 100.3376 | F8: 胡昌燕 | G8: =SUMIF($B$2:$C$224,F8,$C$2:$C$224) -> 601.07007
B9: 赵顺诚 | C9: =AVERAGEIF(评价分!$B$2:$C$41,B9,评价分!$C$2:$C$41) -> 98.027142 | F9: 赵顺诚 | G9: =SUMIF($B$2:$C$224,F9,$C$2:$C$224) -> 590.79947
B10: 汪睿 | C10: =AVERAGEIF(评价分!$B$2:$C$41,B10,评价分!$C$2:$C$41) -> 98.801837 | F10: 汪睿 | G10: =SUMIF($B$2:$C$224,F10,$C$2:$C$224) -> 195.12144
B11: 兰卡布尺 | C11: =AVERAGEIF(评价分!$B$2:$C$41,B11,评价分!$C$2:$C$41) -> 96.350171 | F11: 兰卡布尺 | G11: =SUMIF($B$2:$C$224,F11,$C$2:$C$224) -> 196.58655
B12: 卢银楷 | C12: =AVERAGEIF(评价分!$B$2:$C$41,B12,评价分!$C$2:$C$41) -> 97.466033 | F12: 卢银楷 | G12: =SUMIF($B$2:$C$224,F12,$C$2:$C$224) -> 599.8982
B13: 吴文艺→康宇峰 | C13: =AVERAGEIF(评价分!$B$2:$C$41,B13,评价分!$C$2:$C$41) -> 97.648051 | F13: 吴文艺→康宇峰 | G13: =SUMIF($B$2:$C$224,F13,$C$2:$C$224) -> 97.648051
B14: 胡慧芳 | C14: =AVERAGEIF(评价分!$B$2:$C$41,B14,评价分!$C$2:$C$41) -> 97.534877 | F14: 胡慧芳 | G14: =SUMIF($B$2:$C$224,F14,$C$2:$C$224) -> 597.92908
... B36: 田友米 | C36: =AVERAGEIF(评价分!$B$2:$C$41,B36,评价分!$C$2:$C$41) -> 80.774366 | F36: 田友米 | G36: =SUMIF($B$2:$C$224,F36,$C$2:$C$224) -> 591.5774
A37: 高三上 | B37: 叶屏 | C37: =AVERAGEIF(评价分!$F$2:$G$41,B37,评价分!$G$2:$G$41) -> 99.963436 | F37: 吴文艺 | G37: =SUMIF($B$2:$C$224,F37,$C$2:$C$224) -> 95.780848
B38: 阙丽萍 | C38: =AVERAGEIF(评价分!$F$2:$G$41,B38,评价分!$G$2:$G$41) -> 100.11589 | F38: 甲阿祝玛 | G38: =SUMIF($B$2:$C$224,F38,$C$2:$C$224) -> 97.083333
B39: 曹霞 | C39: =AVERAGEIF(评价分!$F$2:$G$41,B39,评价分!$G$2:$G$41) -> 97.036613 | F39: 马勇 | G39: =SUMIF($B$2:$C$224,F39,$C$2:$C$224) -> 197.01601
B40: 余玉红 | C40: =AVERAGEIF(评价分!$F$2:$G$41,B40,评价分!$G$2:$G$41) -> 102.94686 | F40: 罗锐 | G40: =SUMIF($B$2:$C$224,F40,$C$2:$C$224) -> 197.1767
B41: 李希 | C41: =AVERAGEIF(评价分!$F$2:$G$41,B41,评价分!$G$2:$G$41) -> 99.076936 | F41: 向翠琳 | G41: =SUMIF($B$2:$C$224,F41,$C$2:$C$224) -> 391.81235
B42: 王德兵 | C42: =AVERAGEIF(评价分!$F$2:$G$41,B42,评价分!$G$2:$G$41) -> 97.983458 | F42: 杨小波 | G42: =SUMIF($B$2:$C$224,F42,$C$2:$C$224) -> 95.346689
B43: 胡昌燕 | C43: =AVERAGEIF(评价分!$F$2:$G$41,B43,评价分!$G$2:$G$41) -> 100.54989 | F43: 马巫各 | G43: =SUMIF($B$2:$C$224,F43,$C$2:$C$224) -> 398.57005
B44: 赵顺诚 | C44: =AVERAGEIF(评价分!$F$2:$G$41,B44,评价分!$G$2:$G$41) -> 101.2084 | F44: 徐万雄 | G44: =SUMIF($B$2:$C$224,F44,$C$2:$C$224) -> 388.00442
B45: 汪睿 | C45: =AVERAGEIF(评价分!$F$2:$G$41,B45,评价分!$G$2:$G$41) -> 96.319603 | F45: 达娃央初 | G45: =SUMIF($B$2:$C$224,F45,$C$2:$C$224) -> 300.37051
B46: 兰卡布尺 | C46: =AVERAGEIF(评价分!$F$2:$G$41,B46,评价分!$G$2:$G$41) -> 100.23638 | F46: 郑永朝 | G46: =SUMIF($B$2:$C$224,F46,$C$2:$C$224) -> 399.49214
B47: 卢银楷 | C47: =AVERAGEIF(评价分!$F$2:$G$41,B47,评价分!$G$2:$G$41) -> 103.40821 | F47: 王玉强 | G47: =SUMIF($B$2:$C$224,F47,$C$2:$C$224) -> 195.12987
B48: 吴文艺 | C48: =AVERAGEIF(评价分!$F$2:$G$41,B48,评价分!$G$2:$G$41) -> 95.780848 | F48: 刘跃军 | G48: =SUMIF($B$2:$C$224,F48,$C$2:$C$224) -> 191.02987
B49: 胡慧芳 | C49: =AVERAGEIF(评价分!$F$2:$G$41,B49,评价分!$G$2:$G$41) -> 104.23188 | F49: 谢斌 | G49: =SUMIF($B$2:$C$224,F49,$C$2:$C$224) -> 97.440981
... B62: 高贵勇 | C62: =AVERAGEIF(评价分!$F$2:$G$41,B62,评价分!$G$2:$G$41) -> 100.2357 | F62: 金勇 | G62: =SUMIF($B$2:$C$224,F62,$C$2:$C$224) -> 100.11204
B63: 兰阿布 | C63: =AVERAGEIF(评价分!$F$2:$G$41,B63,评价分!$G$2:$G$41) -> 103.98279
B64: 王友春 | C64: =AVERAGEIF(评价分!$F$2:$G$41,B64,评价分!$G$2:$G$41) -> 100.03232
B65: 陈文惠 | C65: =AVERAGEIF(评价分!$F$2:$G$41,B65,评价分!$G$2:$G$41) -> 104.2169
B66: 刘厚江 | C66: =AVERAGEIF(评价分!$F$2:$G$41,B66,评价分!$G$2:$G$41) -> 103.7476
B67: 叶仁群 | C67: =AVERAGEIF(评价分!$F$2:$G$41,B67,评价分!$G$2:$G$41) -> 100.59488
B68: 郑富全 | C68: =AVERAGEIF(评价分!$F$2:$G$41,B68,评价分!$G$2:$G$41) -> 93.700122
B69: 杨建 | C69: =AVERAGEIF(评价分!$F$2:$G$41,B69,评价分!$G$2:$G$41) -> 109.91879
B70: 卢祥 | C70: =AVERAGEIF(评价分!$F$2:$G$41,B70,评价分!$G$2:$G$41) -> 131.6616
B71: 田友米 | C71: =AVERAGEIF(评价分!$F$2:$G$41,B71,评价分!$G$2:$G$41) -> 118.68671
A72: 高二下 | B72: 叶屏 | C72: =AVERAGEIF(评价分!$I$2:$J$44,B72,评价分!$J$2:$J$44) -> 92.602364
B73: 阙丽萍 | C73: =AVERAGEIF(评价分!$I$2:$J$44,B73,评价分!$J$2:$J$44) -> 93.348624
B74: 何光红 | C74: =AVERAGEIF(评价分!$I$2:$J$44,B74,评价分!$J$2:$J$44) -> 98.183063
B75: 甲阿祝玛 | C75: =AVERAGEIF(评价分!$I$2:$J$44,B75,评价分!$J$2:$J$44) -> 97.083333
B76: 余玉红 | C76: =AVERAGEIF(评价分!$I$2:$J$44,B76,评价分!$J$2:$J$44) -> 92.889941
B77: 李希 | C77: =AVERAGEIF(评价分!$I$2:$J$44,B77,评价分!$J$2:$J$44) -> 90.76723
B78: 马勇 | C78: =AVERAGEIF(评价分!$I$2:$J$44,B78,评价分!$J$2:$J$44) -> 102.38225
B79: 罗锐 | C79: =AVERAGEIF(评价分!$I$2:$J$44,B79,评价分!$J$2:$J$44) -> 95.801364
B80: 胡昌燕 | C80: =AVERAGEIF(评价分!$I$2:$J$44,B80,评价分!$J$2:$J$44) -> 96.055023
B81: 赵顺诚 | C81: =AVERAGEIF(评价分!$I$2:$J$44,B81,评价分!$J$2:$J$44) -> 95.179114
B82: 向翠琳 | C82: =AVERAGEIF(评价分!$I$2:$J$44,B82,评价分!$J$2:$J$44) -> 94.671063
B83: 杨小波 | C83: =AVERAGEIF(评价分!$I$2:$J$44,B83,评价分!$J$2:$J$44) -> 95.346689
B84: 卢银楷 | C84: =AVERAGEIF(评价分!$I$2:$J$44,B84,评价分!$J$2:$J$44) -> 94.719396
... B109: 田友米 | C109: =AVERAGEIF(评价分!$I$2:$J$44,B109,评价分!$J$2:$J$44) -> 91.525289
A110: 高二上 | B110: 叶屏 | C110: =AVERAGEIF(评价分!$L$2:$M$46,B110,评价分!$M$2:$M$46) -> 102.10908
B111: 阙丽萍 | C111: =AVERAGEIF(评价分!$L$2:$M$46,B111,评价分!$M$2:$M$46) -> 101.98925
B112: 何光红 | C112: =AVERAGEIF(评价分!$L$2:$M$46,B112,评价分!$M$2:$M$46) -> 96.414905
B113: 朱霞 | C113: =AVERAGEIF(评价分!$L$2:$M$46,B113,评价分!$M$2:$M$46) -> 97.72047
B114: 余玉红 | C114: =AVERAGEIF(评价分!$L$2:$M$46,B114,评价分!$M$2:$M$46) -> 103.06763
B115: 李希 | C115: =AVERAGEIF(评价分!$L$2:$M$46,B115,评价分!$M$2:$M$46) -> 97.650604
B116: 马勇 | C116: =AVERAGEIF(评价分!$L$2:$M$46,B116,评价分!$M$2:$M$46) -> 94.633764
B117: 罗锐 | C117: =AVERAGEIF(评价分!$L$2:$M$46,B117,评价分!$M$2:$M$46) -> 101.37533
B118: 胡昌燕 | C118: =AVERAGEIF(评价分!$L$2:$M$46,B118,评价分!$M$2:$M$46) -> 100.65474
B119: 赵顺诚 | C119: =AVERAGEIF(评价分!$L$2:$M$46,B119,评价分!$M$2:$M$46) -> 99.410457
B120: 向翠琳 | C120: =AVERAGEIF(评价分!$L$2:$M$46,B120,评价分!$M$2:$M$46) -> 102.31705
B121: 谢斌 | C121: =AVERAGEIF(评价分!$L$2:$M$46,B121,评价分!$M$2:$M$46) -> 97.440981
B122: 卢银楷 | C122: =AVERAGEIF(评价分!$L$2:$M$46,B122,评价分!$M$2:$M$46) -> 101.5691
... B147: 田友米 | C147: =AVERAGEIF(评价分!$L$2:$M$46,B147,评价分!$M$2:$M$46) -> 94.824152
A148: 高一下 | B148: 叶屏 | C148: =AVERAGEIF(评价分!$O$2:$P$46,B148,评价分!$P$2:$P$46) -> 98.893771
B149: 阙丽萍 | C149: =AVERAGEIF(评价分!$O$2:$P$46,B149,评价分!$P$2:$P$46) -> 101.36983
B150: 朱霞 | C150: =AVERAGEIF(评价分!$O$2:$P$46,B150,评价分!$P$2:$P$46) -> 106.11761
B151: 向美娟 | C151: =AVERAGEIF(评价分!$O$2:$P$46,B151,评价分!$P$2:$P$46) -> 100.96106
B152: 余玉红 | C152: =AVERAGEIF(评价分!$O$2:$P$46,B152,评价分!$P$2:$P$46) -> 105.80866
B153: 李希 | C153: =AVERAGEIF(评价分!$O$2:$P$46,B153,评价分!$P$2:$P$46) -> 102.59337
B154: 李乔军 | C154: =AVERAGEIF(评价分!$O$2:$P$46,B154,评价分!$P$2:$P$46) -> 97.977755
B155: 胡付松 | C155: =AVERAGEIF(评价分!$O$2:$P$46,B155,评价分!$P$2:$P$46) -> 87.959164
B156: 胡昌燕 | C156: =AVERAGEIF(评价分!$O$2:$P$46,B156,评价分!$P$2:$P$46) -> 101.83549
B157: 达娃央初 | C157: =AVERAGEIF(评价分!$O$2:$P$46,B157,评价分!$P$2:$P$46) -> 100.82737
B158: 赵顺诚 | C158: =AVERAGEIF(评价分!$O$2:$P$46,B158,评价分!$P$2:$P$46) -> 102.99491
B159: 向翠琳 | C159: =AVERAGEIF(评价分!$O$2:$P$46,B159,评价分!$P$2:$P$46) -> 100.96301
B160: 聂艳梅 | C160: =AVERAGEIF(评价分!$O$2:$P$46,B160,评价分!$P$2:$P$46) -> 89.909358
... B184: 辜英琼 | C184: =AVERAGEIF(评价分!$O$2:$P$46,B184,评价分!$P$2:$P$46) -> 106.43354
A185: 高一上 | B185: 叶屏 | C185: =AVERAGEIF(评价分!$R$2:$S$58,B185,评价分!$S$2:$S$58) -> 98.120342
B186: 张玉婷 | C186: =AVERAGEIF(评价分!$R$2:$S$58,B186,评价分!$S$2:$S$58) -> 91.768775
B187: 向美娟 | C187: =AVERAGEIF(评价分!$R$2:$S$58,B187,评价分!$S$2:$S$58) -> 96.594888
B188: 何苗 | C188: =AVERAGEIF(评价分!$R$2:$S$58,B188,评价分!$S$2:$S$58) -> 100.32787
B189: 阙丽萍 | C189: =AVERAGEIF(评价分!$R$2:$S$58,B189,评价分!$S$2:$S$58) -> 93.855901
B190: 余玉红 | C190: =AVERAGEIF(评价分!$R$2:$S$58,B190,评价分!$S$2:$S$58) -> 97.026687
B191: 胡付松 | C191: =AVERAGEIF(评价分!$R$2:$S$58,B191,评价分!$S$2:$S$58) -> 94.084187
B192: 徐万雄 | C192: =AVERAGEIF(评价分!$R$2:$S$58,B192,评价分!$S$2:$S$58) -> 97.648848
B193: 黄金华 | C193: =AVERAGEIF(评价分!$R$2:$S$58,B193,评价分!$S$2:$S$58) -> 110.23394
B194: 周军 | C194: =AVERAGEIF(评价分!$R$2:$S$58,B194,评价分!$S$2:$S$58) -> 98.139917
B195: 李希 | C195: =AVERAGEIF(评价分!$R$2:$S$58,B195,评价分!$S$2:$S$58) -> 106.79324
B196: 杨周宇 | C196: =AVERAGEIF(评价分!$R$2:$S$58,B196,评价分!$S$2:$S$58) -> 99.503584
B197: 李乔军 | C197: =AVERAGEIF(评价分!$R$2:$S$58,B197,评价分!$S$2:$S$58) -> 94.164263
... B221: 卢祥 | C221: =AVERAGEIF(评价分!$R$2:$S$58,B221,评价分!$S$2:$S$58) -> 100.14577
B222: 朱霞 | C222: 100
B223: 胡慧芳 | C223: 100
B224: 赵香才 | C224: 100

Sheet 原始成绩
A1: 身份证号码 | B1: 班级 | C1: 姓名 | D1: 文/理科 | E1: 高考 | Q1: 高三上 | AC1: 高二下 | AO1: 高二上 | BA1: 高一下 | BM1: 高一上 | BY1: 中考
E2: 语文 | G2: 数学 | I2: 英语 | K2: 物理/政治 | M2: 化学/历史 | O2: 生物/地理 | Q2: 语文 | S2: 数学 | U2: 英语 | W2: 物理/政治 | Y2: 化学/历史 | AA2: 生物/地理 | AC2: 语文 | AE2: 数学 | AG2: 英语 | AI2: 物理/政治 | AK2: 化学/历史 | AM2: 生物/地理 | AO2: 语文 | AQ2: 数学 | AS2: 英语 | AU2: 物理/政治 | AW2: 化学/历史 | AY2: 生物/地理 | BA2: 语文 | BC2: 数学 | BE2: 英语 | BG2: 物理/政治 | BI2: 化学/历史 | BK2: 生物/地理 | BM2: 语文 | BO2: 数学 | BQ2: 英语 | BS2: 物理/政治 | BU2: 化学/历史 | BW2: 生物/地理 | BY2: 语文 | BZ2: 数学 | CA2: 英语 | CB2: 物理/政治 | CC2: 化学/历史 | CD2: 生物/地理
E3: 成绩 | F3: 教师 | G3: 成绩 | H3: 教师 | I3: 成绩 | J3: 教师 | K3: 成绩 | L3: 教师 | M3: 成绩 | N3: 教师 | O3: 成绩 | P3: 教师 | Q3: 成绩 | R3: 教师 | S3: 成绩 | T3: 教师 | U3: 成绩 | V3: 教师 | W3: 成绩 | X3: 教师 | Y3: 成绩 | Z3: 教师 | AA3: 成绩 | AB3: 教师 | AC3: 成绩 | AD3: 教师 | AE3: 成绩 | AF3: 教师 | AG3: 成绩 | AH3: 教师 | AI3: 成绩 | AJ3: 教师 | AK3: 成绩 | AL3: 教师 | AM3: 成绩 | AN3: 教师 | AO3: 成绩 | AP3: 教师 | AQ3: 成绩 | AR3: 教师 | AS3: 成绩 | AT3: 教师 | AU3: 成绩 | AV3: 教师 | AW3: 成绩 | AX3: 教师 | AY3: 成绩 | AZ3: 教师 | BA3: 成绩 | BB3: 教师 | BC3: 成绩 | BD3: 教师 | BE3: 成绩 | BF3: 教师 | BG3: 成绩 | BH3: 教师 | BI3: 成绩 | BJ3: 教师 | BK3: 成绩 | BL3: 教师 | BM3: 成绩 | BN3: 教师 | BO3: 成绩 | BP3: 教师 | BQ3: 成绩 | BR3: 教师 | BS3: 成绩 | BT3: 教师 | BU3: 成绩 | BV3: 教师 | BW3: 成绩 | BX3: 教师 | BY3: 成绩 | BZ3: 成绩 | CA3: 成绩 | CB3: 成绩 | CC3: 成绩 | CD3: 成绩
A4: 513422200405094228 | B4: 1 | C4: 边玛拉初 | D4: 文科 | E4: 111 | F4: 叶屏 | G4: 100 | H4: 余玉红 | I4: 116 | J4: 胡昌燕 | K4: 76 | L4: 卢银楷 | M4: 64 | N4: 胡慧芳 | O4: 66 | P4: 金贵 | Q4: =VLOOKUP(A4,[1]高三上!A$3:Q$629,5,0) -> 107 | R4: =VLOOKUP(A4,[1]高三上!A$3:Q$629,6,0) -> 叶屏 | S4: =VLOOKUP(A4,[1]高三上!A$3:Q$629,7,0) -> 76 | T4: =VLOOKUP(A4,[1]高三上!A$3:Q$629,8,0) -> 余玉红 | U4: =VLOOKUP(A4,[1]高三上!A$3:Q$629,9,0) -> 129.5 | V4: =VLOOKUP(A4,[1]高三上!A$3:Q$629,10,0) -> 胡昌燕 | W4: =VLOOKUP(A4,[1]高三上!A$3:Q$629,11,0) -> 73 | X4: =VLOOKUP(A4,[1]高三上!A$3:Q$629,12,0) -> 卢银楷 | Y4: =VLOOKUP(A4,[1]高三上!A$3:Q$629,13,0) -> 66 | Z4: =VLOOKUP(A4,[1]高三上!A$3:Q$629,14,0) -> 胡慧芳 | AA4: =VLOOKUP(A4,[1]高三上!A$3:Q$629,15,0) -> 53 | AB4: =VLOOKUP(A4,[1]高三上!A$3:Q$629,16,0) -> 金贵 | AC4: =VLOOKUP(A4,[1]高二下!A$1:Q$618,5,0) -> 106.5 | AD4: =VLOOKUP(A4,[1]高二下!A$1:Q$618,6,0) -> 叶屏 | AE4: =VLOOKUP(A4,[1]高二下!A$1:Q$618,7,0) -> 86.5 | AF4: =VLOOKUP(A4,[1]高二下!A$1:Q$618,8,0) -> 余玉红 | AG4: =VLOOKUP(A4,[1]高二下!A$1:Q$618,9,0) -> 121 | AH4: =VLOOKUP(A4,[1]高二下!A$1:Q$618,10,0) -> 胡昌燕 | AI4: =VLOOKUP(A4,[1]高二下!A$1:Q$618,11,0) -> 71 | AJ4: =VLOOKUP(A4,[1]高二下!A$1:Q$618,12,0) -> 卢银楷 | AK4: =VLOOKUP(A4,[1]高二下!A$1:Q$618,13,0) -> 67 | AL4: =VLOOKUP(A4,[1]高二下!A$1:Q$618,14,0) -> 胡慧芳 | AM4: =VLOOKUP(A4,[1]高二下!A$1:Q$618,15,0) -> 53 | AN4: =VLOOKUP(A4,[1]高二下!A$1:Q$618,16,0) -> 金贵 | AO4: =VLOOKUP(A4,[1]高二上!A$1:Q$571,5,0) -> 102 | AP4: =VLOOKUP(A4,[1]高二上!A$1:Q$571,6,0) -> 叶屏 | AQ4: =VLOOKUP(A4,[1]高二上!A$1:Q$571,7,0) -> 102 | AR4: =VLOOKUP(A4,[1]高二上!A$1:Q$571,8,0) -> 余玉红 | AS4: =VLOOKUP(A4,[1]高二上!A$1:Q$571,9,0) -> 113.5 | AT4: =VLOOKUP(A4,[1]高二上!A$1:Q$571,10,0) -> 胡昌燕 | AU4: =VLOOKUP(A4,[1]高二上!A$1:Q$571,11,0) -> 72 | AV4: =VLOOKUP(A4,[1]高二上!A$1:Q$571,12,0) -> 卢银楷 | AW4: =VLOOKUP(A4,[1]高二上!A$1:Q$571,13,0) -> 84 | AX4: =VLOOKUP(A4,[1]高二上!A$1:Q$571,14,0) -> 胡慧芳 | AY4: =VLOOKUP(A4,[1]高二上!A$1:Q$571,15,0) -> 54 | AZ4: =VLOOKUP(A4,[1]高二上!A$1:Q$571,16,0) -> 金贵 | BA4: =VLOOKUP(A4,[1]高一下!$A$1:$Q$584,5,0) -> 101 | BB4: =VLOOKUP(A4,[1]高一下!$A$1:$Q$584,6,0) -> 叶屏 | BC4: =VLOOKUP(A4,[1]高一下!$A$1:$Q$584,7,0) -> 140 | BD4: =VLOOKUP(A4,[1]高一下!$A$1:$Q$584,8,0) -> 余玉红 | BE4: =VLOOKUP(A4,[1]高一下!$A$1:$Q$584,9,0) -> 102 | BF4: =VLOOKUP(A4,[1]高一下!$A$1:$Q$584,10,0) -> 胡昌燕 | BG4: =VLOOKUP(A4,[1]高一下!$A$1:$Q$584,11,0) -> 74 | BH4: =VLOOKUP(A4,[1]高一下!$A$1:$Q$584,12,0) -> 杨吉华 | BI4: =VLOOKUP(A4,[1]高一下!$A$1:$Q$584,13,0) -> 71 | BJ4: =VLOOKUP(A4,[1]高一下!$A$1:$Q$584,14,0) -> 胡慧芳 | BK4: =VLOOKUP(A4,[1]高一下!$A$1:$Q$584,15,0) -> 76 | BL4: =VLOOKUP(A4,[1]高一下!$A$1:$Q$584,16,0) -> 金贵 | BM4: =VLOOKUP(A4,[1]高一上!A$1:W$612,5,0) -> 79 | BN4: =VLOOKUP(A4,[1]高一上!A$1:W$612,6,0) -> 叶屏 | BO4: =VLOOKUP(A4,[1]高一上!A$1:W$612,7,0) -> 47 | BP4: =VLOOKUP(A4,[1]高一上!A$1:W$612,8,0) -> 余玉红 | BQ4: =VLOOKUP(A4,[1]高一上!A$1:W$612,9,0) -> 97 | BR4: =VLOOKUP(A4,[1]高一上!A$1:W$612,10,0) -> 胡昌燕 | BS4: =VLOOKUP(A4,[1]高一上!A$1:W$612,17,0) -> 77 | BT4: =VLOOKUP(A4,[1]高一上!A$1:W$612,18,0) -> 杨吉华 | BU4: =VLOOKUP(A4,[1]高一上!A$1:W$612,19,0) -> 52 | BV4: =VLOOKUP(A4,[1]高一上!A$1:W$612,20,0) -> 胡慧芳 | BW4: =VLOOKUP(A4,[1]高一上!A$1:W$612,21,0) -> 60 | BX4: =VLOOKUP(A4,[1]高一上!A$1:W$612,22,0) -> 金贵 | BY4: =VLOOKUP(A4,[1]中考!A$1:N$590,5,0) -> 96 | BZ4: =VLOOKUP(A4,[1]中考!A$1:N$590,6,0) -> 77 | CA4: =VLOOKUP(A4,[1]中考!A$1:N$590,7,0) -> 102 | CB4: =VLOOKUP(A4,[1]中考!A$1:N$590,11,0) -> 38 | CC4: =VLOOKUP(A4,[1]中考!A$1:N$590,12,0) -> 43 | CD4: =VLOOKUP(A4,[1]中考!A$1:N$590,13,0) -> 39
A5: 513422200409152325 | B5: 1 | C5: 王燚 | D5: 文科 | E5: 109 | F5: 叶屏 | G5: 119 | H5: 余玉红 | I5: 109 | J5: 胡昌燕 | K5: 69 | L5: 卢银楷 | M5: 71 | N5: 胡慧芳 | O5: 61 | P5: 金贵 | Q5: =VLOOKUP(A5,[1]高三上!A$3:Q$629,5,0) -> 102 | R5: =VLOOKUP(A5,[1]高三上!A$3:Q$629,6,0) -> 叶屏 | S5: =VLOOKUP(A5,[1]高三上!A$3:Q$629,7,0) -> 90 | T5: =VLOOKUP(A5,[1]高三上!A$3:Q$629,8,0) -> 余玉红 | U5: =VLOOKUP(A5,[1]高三上!A$3:Q$629,9,0) -> 117.5 | V5: =VLOOKUP(A5,[1]高三上!A$3:Q$629,10,0) -> 胡昌燕 | W5: =VLOOKUP(A5,[1]高三上!A$3:Q$629,11,0) -> 64 | X5: =VLOOKUP(A5,[1]高三上!A$3:Q$629,12,0) -> 卢银楷 | Y5: =VLOOKUP(A5,[1]高三上!A$3:Q$629,13,0) -> 73 | Z5: =VLOOKUP(A5,[1]高三上!A$3:Q$629,14,0) -> 胡慧芳 | AA5: =VLOOKUP(A5,[1]高三上!A$3:Q$629,15,0) -> 52 | AB5: =VLOOKUP(A5,[1]高三上!A$3:Q$629,16,0) -> 金贵 | AC5: =VLOOKUP(A5,[1]高二下!A$1:Q$618,5,0) -> 107.5 | AD5: =VLOOKUP(A5,[1]高二下!A$1:Q$618,6,0) -> 叶屏 | AE5: =VLOOKUP(A5,[1]高二下!A$1:Q$618,7,0) -> 97 | AF5: =VLOOKUP(A5,[1]高二下!A$1:Q$618,8,0) -> 余玉红 | AG5: =VLOOKUP(A5,[1]高二下!A$1:Q$618,9,0) -> 103.5 | AH5: =VLOOKUP(A5,[1]高二下!A$1:Q$618,10,0) -> 胡昌燕 | AI5: =VLOOKUP(A5,[1]高二下!A$1:Q$618,11,0) -> 55 | AJ5: =VLOOKUP(A5,[1]高二下!A$1:Q$618,12,0) -> 卢银楷 | AK5: =VLOOKUP(A5,[1]高二下!A$1:Q$618,13,0) -> 65.5 | AL5: =VLOOKUP(A5,[1]高二下!A$1:Q$618,14,0) -> 胡慧芳 | AM5: =VLOOKUP(A5,[1]高二下!A$1:Q$618,15,0) -> 44.5 | AN5: =VLOOKUP(A5,[1]高二下!A$1:Q$618,16,0) -> 金贵 | AO5: =VLOOKUP(A5,[1]高二上!A$1:Q$571,5,0) -> 105 | AP5: =VLOOKUP(A5,[1]高二上!A$1:Q$571,6,0) -> 叶屏 | AQ5: =VLOOKUP(A5,[1]高二上!A$1:Q$571,7,0) -> 110 | AR5: =VLOOKUP(A5,[1]高二上!A$1:Q$571,8,0) -> 余玉红 | AS5: =VLOOKUP(A5,[1]高二上!A$1:Q$571,9,0) -> 104.5 | AT5: =VLOOKUP(A5,[1]高二上!A$1:Q$571,10,0) -> 胡昌燕 | AU5: =VLOOKUP(A5,[1]高二上!A$1:Q$571,11,0) -> 68 | AV5: =VLOOKUP(A5,[1]高二上!A$1:Q$571,12,0) -> 卢银楷 | AW5: =VLOOKUP(A5,[1]高二上!A$1:Q$571,13,0) -> 71 | AX5: =VLOOKUP(A5,[1]高二上!A$1:Q$571,14,0) -> 胡慧芳 | AY5: =VLOOKUP(A5,[1]高二上!A$1:Q$571,15,0) -> 64 | AZ5: =VLOOKUP(A5,[1]高二上!A$1:Q$571,16,0) -> 金贵 | BA5: =VLOOKUP(A5,[1]高一下!$A$1:$Q$584,5,0) -> 99 | BB5: =VLOOKUP(A5,[1]高一下!$A$1:$Q$584,6,0) -> 叶屏 | BC5: =VLOOKUP(A5,[1]高一下!$A$1:$Q$584,7,0) -> 132 | BD5: =VLOOKUP(A5,[1]高一下!$A$1:$Q$584,8,0) -> 余玉红 | BE5: =VLOOKUP(A5,[1]高一下!$A$1:$Q$584,9,0) -> 107 | BF5: =VLOOKUP(A5,[1]高一下!$A$1:$Q$584,10,0) -> 胡昌燕 | BG5: =VLOOKUP(A5,[1]高一下!$A$1:$Q$584,11,0) -> 78 | BH5: =VLOOKUP(A5,[1]高一下!$A$1:$Q$584,12,0) -> 杨吉华 | BI5: =VLOOKUP(A5,[1]高一下!$A$1:$Q$584,13,0) -> 72 | BJ5: =VLOOKUP(A5,[1]高一下!$A$1:$Q$584,14,0) -> 胡慧芳 | BK5: =VLOOKUP(A5,[1]高一下!$A$1:$Q$584,15,0) -> 72 | BL5: =VLOOKUP(A5,[1]高一下!$A$1:$Q$584,16,0) -> 金贵 | BM5: =VLOOKUP(A5,[1]高一上!A$1:W$612,5,0) -> 96 | BN5: =VLOOKUP(A5,[1]高一上!A$1:W$612,6,0) -> 张玉婷 | BO5: =VLOOKUP(A5,[1]高一上!A$1:W$612,7,0) -> 92 | BP5: =VLOOKUP(A5,[1]高一上!A$1:W$612,8,0) -> 胡付松 | BQ5: =VLOOKUP(A5,[1]高一上!A$1:W$612,9,0) -> 92 | BR5: =VLOOKUP(A5,[1]高一上!A$1:W$612,10,0) -> 程长寿 | BS5: =VLOOKUP(A5,[1]高一上!A$1:W$612,17,0) -> 75 | BT5: =VLOOKUP(A5,[1]高一上!A$1:W$612,18,0) -> 卢银楷 | BU5: =VLOOKUP(A5,[1]高一上!A$1:W$612,19,0) -> 76 | BV5: =VLOOKUP(A5,[1]高一上!A$1:W$612,20,0) -> 赵香才 | BW5: =VLOOKUP(A5,[1]高一上!A$1:W$612,21,0) -> 57 | BX5: =VLOOKUP(A5,[1]高一上!A$1:W$612,22,0) -> 骆泽群 | BY5: =VLOOKUP(A5,[1]中考!A$1:N$590,5,0) -> 97 | BZ5: =VLOOKUP(A5,[1]中考!A$1:N$590,6,0) -> 90 | CA5: =VLOOKUP(A5,[1]中考!A$1:N$590,7,0) -> 117 | CB5: =VLOOKUP(A5,[1]中考!A$1:N$590,11,0) -> 38 | CC5: =VLOOKUP(A5,[1]中考!A$1:N$590,12,0) -> 37 | CD5: =VLOOKUP(A5,[1]中考!A$1:N$590,13,0) -> 36
A6: 513422200301081529 | B6: 1 | C6: 吕央初 | D6: 文科 | E6: 108 | F6: 叶屏 | G6: 96 | H6: 余玉红 | I6: 118 | J6: 胡昌燕 | K6: 74 | L6: 卢银楷 | M6: 68 | N6: 胡慧芳 | O6: 63 | P6: 金贵 | Q6: =VLOOKUP(A6,[1]高三上!A$3:Q$629,5,0) -> 107 | R6: =VLOOKUP(A6,[1]高三上!A$3:Q$629,6,0) -> 叶屏 | S6: =VLOOKUP(A6,[1]高三上!A$3:Q$629,7,0) -> 77 | T6: =VLOOKUP(A6,[1]高三上!A$3:Q$629,8,0) -> 余玉红 | U6: =VLOOKUP(A6,[1]高三上!A$3:Q$629,9,0) -> 125.5 | V6: =VLOOKUP(A6,[1]高三上!A$3:Q$629,10,0) -> 胡昌燕 | W6: =VLOOKUP(A6,[1]高三上!A$3:Q$629,11,0) -> 68 | X6: =VLOOKUP(A6,[1]高三上!A$3:Q$629,12,0) -> 卢银楷 | Y6: =VLOOKUP(A6,[1]高三上!A$3:Q$629,13,0) -> 73 | Z6: =VLOOKUP(A6,[1]高三上!A$3:Q$629,14,0) -> 胡慧芳 | AA6: =VLOOKUP(A6,[1]高三上!A$3:Q$629,15,0) -> 58 | AB6: =VLOOKUP(A6,[1]高三上!A$3:Q$629,16,0) -> 金贵 | AC6: =VLOOKUP(A6,[1]高二下!A$1:Q$618,5,0) -> 111 | AD6: =VLOOKUP(A6,[1]高二下!A$1:Q$618,6,0) -> 叶屏 | AE6: =VLOOKUP(A6,[1]高二下!A$1:Q$618,7,0) -> 76.5 | AF6: =VLOOKUP(A6,[1]高二下!A$1:Q$618,8,0) -> 余玉红 | AG6: =VLOOKUP(A6,[1]高二下!A$1:Q$618,9,0) -> 130.5 | AH6: =VLOOKUP(A6,[1]高二下!A$1:Q$618,10,0) -> 胡昌燕 | AI6: =VLOOKUP(A6,[1]高二下!A$1:Q$618,11,0) -> 61 | AJ6: =VLOOKUP(A6,[1]高二下!A$1:Q$618,12,0) -> 卢银楷 | AK6: =VLOOKUP(A6,[1]高二下!A$1:Q$618,13,0) -> 73 | AL6: =VLOOKUP(A6,[1]高二下!A$1:Q$618,14,0) -> 胡慧芳 | AM6: =VLOOKUP(A6,[1]高二下!A$1:Q$618,15,0) -> 53.5 | AN6: =VLOOKUP(A6,[1]高二下!A$1:Q$618,16,0) -> 金贵 | AO6: =VLOOKUP(A6,[1]高二上!A$1:Q$571,5,0) -> 104 | AP6: =VLOOKUP(A6,[1]高二上!A$1:Q$571,6,0) -> 叶屏 | AQ6: =VLOOKUP(A6,[1]高二上!A$1:Q$571,7,0) -> 76 | AR6: =VLOOKUP(A6,[1]高二上!A$1:Q$571,8,0) -> 余玉红 | AS6: =VLOOKUP(A6,[1]高二上!A$1:Q$571,9,0) -> 122 | AT6: =VLOOKUP(A6,[1]高二上!A$1:Q$571,10,0) -> 胡昌燕 | AU6: =VLOOKUP(A6,[1]高二上!A$1:Q$571,11,0) -> 70 | AV6: =VLOOKUP(A6,[1]高二上!A$1:Q$571,12,0) -> 卢银楷 | AW6: =VLOOKUP(A6,[1]高二上!A$1:Q$571,13,0) -> 83 | AX6: =VLOOKUP(A6,[1]高二上!A$1:Q$571,14,0) -> 胡慧芳 | AY6: =VLOOKUP(A6,[1]高二上!A$1:Q$571,15,0) -> 66 | AZ6: =VLOOKUP(A6,[1]高二上!A$1:Q$571,16,0) -> 金贵 | BA6: =VLOOKUP(A6,[1]高一下!$A$1:$Q$584,5,0) -> 108 | BB6: =VLOOKUP(A6,[1]高一下!$A$1:$Q$584,6,0) -> 叶屏 | BC6: =VLOOKUP(A6,[1]高一下!$A$1:$Q$584,7,0) -> 131 | BD6: =VLOOKUP(A6,[1]高一下!$A$1:$Q$584,8,0) -> 余玉红 | BE6: =VLOOKUP(A6,[1]高一下!$A$1:$Q$584,9,0) -> 125.5 | BF6: =VLOOKUP(A6,[1]高一下!$A$1:$Q$584,10,0) -> 胡昌燕 | BG6: =VLOOKUP(A6,[1]高一下!$A$1:$Q$584,11,0) -> 86 | BH6: =VLOOKUP(A6,[1]高一下!$A$1:$Q$584,12,0) -> 杨吉华 | BI6: =VLOOKUP(A6,[1]高一下!$A$1:$Q$584,13,0) -> 72 | BJ6: =VLOOKUP(A6,[1]高一下!$A$1:$Q$584,14,0) -> 胡慧芳 | BK6: =VLOOKUP(A6,[1]高一下!$A$1:$Q$584,15,0) -> 78 | BL6: =VLOOKUP(A6,[1]高一下!$A$1:$Q$584,16,0) -> 金贵 | BM6: =VLOOKUP(A6,[1]高一上!A$1:W$612,5,0) -> 90 | BN6: =VLOOKUP(A6,[1]高一上!A$1:W$612,6,0) -> 张玉婷 | BO6: =VLOOKUP(A6,[1]高一上!A$1:W$612,7,0) -> 95 | BP6: =VLOOKUP(A6,[1]高一上!A$1:W$612,8,0) -> 胡付松 | BQ6: =VLOOKUP(A6,[1]高一上!A$1:W$612,9,0) -> 130.5 | BR6: =VLOOKUP(A6,[1]高一上!A$1:W$612,10,0) -> 程长寿 | BS6: =VLOOKUP(A6,[1]高一上!A$1:W$612,17,0) -> 70 | BT6: =VLOOKUP(A6,[1]高一上!A$1:W$612,18,0) -> 卢银楷 | BU6: =VLOOKUP(A6,[1]高一上!A$1:W$612,19,0) -> 63 | BV6: =VLOOKUP(A6,[1]高一上!A$1:W$612,20,0) -> 赵香才 | BW6: =VLOOKUP(A6,[1]高一上!A$1:W$612,21,0) -> 74 | BX6: =VLOOKUP(A6,[1]高一上!A$1:W$612,22,0) -> 骆泽群 | BY6: =VLOOKUP(A6,[1]中考!A$1:N$590,5,0) -> 113 | BZ6: =VLOOKUP(A6,[1]中考!A$1:N$590,6,0) -> 84 | CA6: =VLOOKUP(A6,[1]中考!A$1:N$590,7,0) -> 142 | CB6: =VLOOKUP(A6,[1]中考!A$1:N$590,11,0) -> 47 | CC6: =VLOOKUP(A6,[1]中考!A$1:N$590,12,0) -> 41 | CD6: =VLOOKUP(A6,[1]中考!A$1:N$590,13,0) -> 45
A7: 513422200410200013 | B7: 1 | C7: 李彤 | D7: 文科 | E7: 117 | F7: 叶屏 | G7: 106 | H7: 余玉红 | I7: 96 | J7: 胡昌燕 | K7: 69 | L7: 卢银楷 | M7: 73 | N7: 胡慧芳 | O7: 60 | P7: 金贵 | Q7: =VLOOKUP(A7,[1]高三上!A$3:Q$629,5,0) -> 101 | R7: =VLOOKUP(A7,[1]高三上!A$3:Q$629,6,0) -> 叶屏 | S7: =VLOOKUP(A7,[1]高三上!A$3:Q$629,7,0) -> 92 | T7: =VLOOKUP(A7,[1]高三上!A$3:Q$629,8,0) -> 余玉红 | U7: =VLOOKUP(A7,[1]高三上!A$3:Q$629,9,0) -> 107 | V7: =VLOOKUP(A7,[1]高三上!A$3:Q$629,10,0) -> 胡昌燕 | W7: =VLOOKUP(A7,[1]高三上!A$3:Q$629,11,0) -> 65 | X7: =VLOOKUP(A7,[1]高三上!A$3:Q$629,12,0) -> 卢银楷 | Y7: =VLOOKUP(A7,[1]高三上!A$3:Q$629,13,0) -> 62 | Z7: =VLOOKUP(A7,[1]高三上!A$3:Q$629,14,0) -> 胡慧芳 | AA7: =VLOOKUP(A7,[1]高三上!A$3:Q$629,15,0) -> 48 | AB7: =VLOOKUP(A7,[1]高三上!A$3:Q$629,16,0) -> 金贵 | AC7: =VLOOKUP(A7,[1]高二下!A$1:Q$618,5,0) -> 103.5 | AD7: =VLOOKUP(A7,[1]高二下!A$1:Q$618,6,0) -> 叶屏 | AE7: =VLOOKUP(A7,[1]高二下!A$1:Q$618,7,0) -> 72.5 | AF7: =VLOOKUP(A7,[1]高二下!A$1:Q$618,8,0) -> 余玉红 | AG7: =VLOOKUP(A7,[1]高二下!A$1:Q$618,9,0) -> 96.5 | AH7: =VLOOKUP(A7,[1]高二下!A$1:Q$618,10,0) -> 胡昌燕 | AI7: =VLOOKUP(A7,[1]高二下!A$1:Q$618,11,0) -> 67 | AJ7: =VLOOKUP(A7,[1]高二下!A$1:Q$618,12,0) -> 卢银楷 | AK7: =VLOOKUP(A7,[1]高二下!A$1:Q$618,13,0) -> 66.5 | AL7: =VLOOKUP(A7,[1]高二下!A$1:Q$618,14,0) -> 胡慧芳 | AM7: =VLOOKUP(A7,[1]高二下!A$1:Q$618,15,0) -> 58 | AN7: =VLOOKUP(A7,[1]高二下!A$1:Q$618,16,0) -> 金贵 | AO7: =VLOOKUP(A7,[1]高二上!A$1:Q$571,5,0) -> 109 | AP7: =VLOOKUP(A7,[1]高二上!A$1:Q$571,6,0) -> 叶屏 | AQ7: =VLOOKUP(A7,[1]高二上!A$1:Q$571,7,0) -> 119 | AR7: =VLOOKUP(A7,[1]高二上!A$1:Q$571,8,0) -> 余玉红 | AS7: =VLOOKUP(A7,[1]高二上!A$1:Q$571,9,0) -> 108.5 | AT7: =VLOOKUP(A7,[1]高二上!A$1:Q$571,10,0) -> 胡昌燕 | AU7: =VLOOKUP(A7,[1]高二上!A$1:Q$571,11,0) -> 66 | AV7: =VLOOKUP(A7,[1]高二上!A$1:Q$571,12,0) -> 卢银楷 | AW7: =VLOOKUP(A7,[1]高二上!A$1:Q$571,13,0) -> 83 | AX7: =VLOOKUP(A7,[1]高二上!A$1:Q$571,14,0) -> 胡慧芳 | AY7: =VLOOKUP(A7,[1]高二上!A$1:Q$571,15,0) -> 75 | AZ7: =VLOOKUP(A7,[1]高二上!A$1:Q$571,16,0) -> 金贵 | BA7: =VLOOKUP(A7,[1]高一下!$A$1:$Q$584,5,0) -> 99 | BB7: =VLOOKUP(A7,[1]高一下!$A$1:$Q$584,6,0) -> 叶屏 | BC7: =VLOOKUP(A7,[1]高一下!$A$1:$Q$584,7,0) -> 121 | BD7: =VLOOKUP(A7,[1]高一下!$A$1:$Q$584,8,0) -> 余玉红 | BE7: =VLOOKUP(A7,[1]高一下!$A$1:$Q$584,9,0) -> 98 | BF7: =VLOOKUP(A7,[1]高一下!$A$1:$Q$584,10,0) -> 胡昌燕 | BG7: =VLOOKUP(A7,[1]高一下!$A$1:$Q$584,11,0) -> 76 | BH7: =VLOOKUP(A7,[1]高一下!$A$1:$Q$584,12,0) -> 杨吉华 | BI7: =VLOOKUP(A7,[1]高一下!$A$1:$Q$584,13,0) -> 67 | BJ7: =VLOOKUP(A7,[1]高一下!$A$1:$Q$584,14,0) -> 胡慧芳 | BK7: =VLOOKUP(A7,[1]高一下!$A$1:$Q$584,15,0) -> 70 | BL7: =VLOOKUP(A7,[1]高一下!$A$1:$Q$584,16,0) -> 金贵 | BM7: =VLOOKUP(A7,[1]高一上!A$1:W$612,5,0) -> 78 | BN7: =VLOOKUP(A7,[1]高一上!A$1:W$612,6,0) -> 向美娟 | BO7: =VLOOKUP(A7,[1]高一上!A$1:W$612,7,0) -> 78 | BP7: =VLOOKUP(A7,[1]高一上!A$1:W$612,8,0) -> 徐万雄 | BQ7: =VLOOKUP(A7,[1]高一上!A$1:W$612,9,0) -> 98 | BR7: =VLOOKUP(A7,[1]高一上!A$1:W$612,10,0) -> 聂艳梅 | BS7: =VLOOKUP(A7,[1]高一上!A$1:W$612,17,0) -> 85 | BT7: =VLOOKUP(A7,[1]高一上!A$1:W$612,18,0) -> 杨吉华 | BU7: =VLOOKUP(A7,[1]高一上!A$1:W$612,19,0) -> 66 | BV7: =VLOOKUP(A7,[1]高一上!A$1:W$612,20,0) -> 胡慧芳 | BW7: =VLOOKUP(A7,[1]高一上!A$1:W$612,21,0) -> 60 | BX7: =VLOOKUP(A7,[1]高一上!A$1:W$612,22,0) -> 金贵 | BY7: =VLOOKUP(A7,[1]中考!A$1:N$590,5,0) -> 96 | BZ7: =VLOOKUP(A7,[1]中考!A$1:N$590,6,0) -> 76 | CA7: =VLOOKUP(A7,[1]中考!A$1:N$590,7,0) -> 113 | CB7: =VLOOKUP(A7,[1]中考!A$1:N$590,11,0) -> 34 | CC7: =VLOOKUP(A7,[1]中考!A$1:N$590,12,0) -> 38 | CD7: =VLOOKUP(A7,[1]中考!A$1:N$590,13,0) -> 44
A8: 513422200308205029 | B8: 1 | C8: 杜基祝玛 | D8: 文科 | E8: 120 | F8: 叶屏 | G8: 81 | H8: 余玉红 | I8: 112 | J8: 胡昌燕 | K8: 69 | L8: 卢银楷 | M8: 71 | N8: 胡慧芳 | O8: 61 | P8: 金贵 | Q8: =VLOOKUP(A8,[1]高三上!A$3:Q$629,5,0) -> 114 | R8: =VLOOKUP(A8,[1]高三上!A$3:Q$629,6,0) -> 叶屏 | S8: =VLOOKUP(A8,[1]高三上!A$3:Q$629,7,0) -> 55 | T8: =VLOOKUP(A8,[1]高三上!A$3:Q$629,8,0) -> 余玉红 | U8: =VLOOKUP(A8,[1]高三上!A$3:Q$629,9,0) -> 125.5 | V8: =VLOOKUP(A8,[1]高三上!A$3:Q$629,10,0) -> 胡昌燕 | W8: =VLOOKUP(A8,[1]高三上!A$3:Q$629,11,0) -> 70 | X8: =VLOOKUP(A8,[1]高三上!A$3:Q$629,12,0) -> 卢银楷 | Y8: =VLOOKUP(A8,[1]高三上!A$3:Q$629,13,0) -> 55 | Z8: =VLOOKUP(A8,[1]高三上!A$3:Q$629,14,0) -> 胡慧芳 | AA8: =VLOOKUP(A8,[1]高三上!A$3:Q$629,15,0) -> 37 | AB8: =VLOOKUP(A8,[1]高三上!A$3:Q$629,16,0) -> 金贵 | AC8: =VLOOKUP(A8,[1]高二下!A$1:Q$618,5,0) -> 105.5 | AD8: =VLOOKUP(A8,[1]高二下!A$1:Q$618,6,0) -> 叶屏 | AE8: =VLOOKUP(A8,[1]高二下!A$1:Q$618,7,0) -> 67 | AF8: =VLOOKUP(A8,[1]高二下!A$1:Q$618,8,0) -> 余玉红 | AG8: =VLOOKUP(A8,[1]高二下!A$1:Q$618,9,0) -> 121 | AH8: =VLOOKUP(A8,[1]高二下!A$1:Q$618,10,0) -> 胡昌燕 | AI8: =VLOOKUP(A8,[1]高二下!A$1:Q$618,11,0) -> 71.5 | AJ8: =VLOOKUP(A8,[1]高二下!A$1:Q$618,12,0) -> 卢银楷 | AK8: =VLOOKUP(A8,[1]高二下!A$1:Q$618,13,0) -> 60 | AL8: =VLOOKUP(A8,[1]高二下!A$1:Q$618,14,0) -> 胡慧芳 | AM8: =VLOOKUP(A8,[1]高二下!A$1:Q$618,15,0) -> 45 | AN8: =VLOOKUP(A8,[1]高二下!A$1:Q$618,16,0) -> 金贵 | AO8: =VLOOKUP(A8,[1]高二上!A$1:Q$571,5,0) -> 106 | AP8: =VLOOKUP(A8,[1]高二上!A$1:Q$571,6,0) -> 叶屏 | AQ8: =VLOOKUP(A8,[1]高二上!A$1:Q$571,7,0) -> 95 | AR8: =VLOOKUP(A8,[1]高二上!A$1:Q$571,8,0) -> 余玉红 | AS8: =VLOOKUP(A8,[1]高二上!A$1:Q$571,9,0) -> 115 | AT8: =VLOOKUP(A8,[1]高二上!A$1:Q$571,10,0) -> 胡昌燕 | AU8: =VLOOKUP(A8,[1]高二上!A$1:Q$571,11,0) -> 66 | AV8: =VLOOKUP(A8,[1]高二上!A$1:Q$571,12,0) -> 卢银楷 | AW8: =VLOOKUP(A8,[1]高二上!A$1:Q$571,13,0) -> 76 | AX8: =VLOOKUP(A8,[1]高二上!A$1:Q$571,14,0) -> 胡慧芳 | AY8: =VLOOKUP(A8,[1]高二上!A$1:Q$571,15,0) -> 59 | AZ8: =VLOOKUP(A8,[1]高二上!A$1:Q$571,16,0) -> 金贵 | BA8: =VLOOKUP(A8,[1]高一下!$A$1:$Q$584,5,0) -> 105 | BB8: =VLOOKUP(A8,[1]高一下!$A$1:$Q$584,6,0) -> 叶屏 | BC8: =VLOOKUP(A8,[1]高一下!$A$1:$Q$584,7,0) -> 100 | BD8: =VLOOKUP(A8,[1]高一下!$A$1:$Q$584,8,0) -> 余玉红 | BE8: =VLOOKUP(A8,[1]高一下!$A$1:$Q$584,9,0) -> 123 | BF8: =VLOOKUP(A8,[1]高一下!$A$1:$Q$584,10,0) -> 胡昌燕 | BG8: =VLOOKUP(A8,[1]高一下!$A$1:$Q$584,11,0) -> 69 | BH8: =VLOOKUP(A8,[1]高一下!$A$1:$Q$584,12,0) -> 杨吉华 | BI8: =VLOOKUP(A8,[1]高一下!$A$1:$Q$584,13,0) -> 66 | BJ8: =VLOOKUP(A8,[1]高一下!$A$1:$Q$584,14,0) -> 胡慧芳 | BK8: =VLOOKUP(A8,[1]高一下!$A$1:$Q$584,15,0) -> 54 | BL8: =VLOOKUP(A8,[1]高一下!$A$1:$Q$584,16,0) -> 金贵 | BM8: =VLOOKUP(A8,[1]高一上!A$1:W$612,5,0) -> 89 | BN8: =VLOOKUP(A8,[1]高一上!A$1:W$612,6,0) -> 何苗 | BO8: =VLOOKUP(A8,[1]高一上!A$1:W$612,7,0) -> 98 | BP8: =VLOOKUP(A8,[1]高一上!A$1:W$612,8,0) -> 黄金华 | BQ8: =VLOOKUP(A8,[1]高一上!A$1:W$612,9,0) -> 116.5 | BR8: =VLOOKUP(A8,[1]高一上!A$1:W$612,10,0) -> 程长寿 | BS8: =VLOOKUP(A8,[1]高一上!A$1:W$612,17,0) -> 53 | BT8: =VLOOKUP(A8,[1]高一上!A$1:W$612,18,0) -> 马巫各 | BU8: =VLOOKUP(A8,[1]高一上!A$1:W$612,19,0) -> 40 | BV8: =VLOOKUP(A8,[1]高一上!A$1:W$612,20,0) -> 胡慧芳 | BW8: =VLOOKUP(A8,[1]高一上!A$1:W$612,21,0) -> 43 | BX8: =VLOOKUP(A8,[1]高一上!A$1:W$612,22,0) -> 杜基次尔 | BY8: =VLOOKUP(A8,[1]中考!A$1:N$590,5,0) -> 114 | BZ8: =VLOOKUP(A8,[1]中考!A$1:N$590,6,0) -> 85 | CA8: =VLOOKUP(A8,[1]中考!A$1:N$590,7,0) -> 128 | CB8: =VLOOKUP(A8,[1]中考!A$1:N$590,11,0) -> 46 | CC8: =VLOOKUP(A8,[1]中考!A$1:N$590,12,0) -> 34 | CD8: =VLOOKUP(A8,[1]中考!A$1:N$590,13,0) -> 39
A9: 513422200503250722 | B9: 1 | C9: 王石美 | D9: 文科 | E9: 121 | F9: 叶屏 | G9: 73 | H9: 余玉红 | I9: 130 | J9: 胡昌燕 | K9: 67.5 | L9: 卢银楷 | M9: 71.5 | N9: 胡慧芳 | O9: 41 | P9: 金贵 | Q9: =VLOOKUP(A9,[1]高三上!A$3:Q$629,5,0) -> 109 | R9: =VLOOKUP(A9,[1]高三上!A$3:Q$629,6,0) -> 叶屏 | S9: =VLOOKUP(A9,[1]高三上!A$3:Q$629,7,0) -> 71 | T9: =VLOOKUP(A9,[1]高三上!A$3:Q$629,8,0) -> 余玉红 | U9: =VLOOKUP(A9,[1]高三上!A$3:Q$629,9,0) -> 132.5 | V9: =VLOOKUP(A9,[1]高三上!A$3:Q$629,10,0) -> 胡昌燕 | W9: =VLOOKUP(A9,[1]高三上!A$3:Q$629,11,0) -> 72 | X9: =VLOOKUP(A9,[1]高三上!A$3:Q$629,12,0) -> 卢银楷 | Y9: =VLOOKUP(A9,[1]高三上!A$3:Q$629,13,0) -> 67 | Z9: =VLOOKUP(A9,[1]高三上!A$3:Q$629,14,0) -> 胡慧芳 | AA9: =VLOOKUP(A9,[1]高三上!A$3:Q$629,15,0) -> 61 | AB9: =VLOOKUP(A9,[1]高三上!A$3:Q$629,16,0) -> 金贵 | AC9: =VLOOKUP(A9,[1]高二下!A$1:Q$618,5,0) -> 109 | AD9: =VLOOKUP(A9,[1]高二下!A$1:Q$618,6,0) -> 叶屏 | AE9: =VLOOKUP(A9,[1]高二下!A$1:Q$618,7,0) -> 87 | AF9: =VLOOKUP(A9,[1]高二下!A$1:Q$618,8,0) -> 余玉红 | AG9: =VLOOKUP(A9,[1]高二下!A$1:Q$618,9,0) -> 133 | AH9: =VLOOKUP(A9,[1]高二下!A$1:Q$618,10,0) -> 胡昌燕 | AI9: =VLOOKUP(A9,[1]高二下!A$1:Q$618,11,0) -> 68 | AJ9: =VLOOKUP(A9,[1]高二下!A$1:Q$618,12,0) -> 卢银楷 | AK9: =VLOOKUP(A9,[1]高二下!A$1:Q$618,13,0) -> 65 | AL9: =VLOOKUP(A9,[1]高二下!A$1:Q$618,14,0) -> 胡慧芳 | AM9: =VLOOKUP(A9,[1]高二下!A$1:Q$618,15,0) -> 63 | AN9: =VLOOKUP(A9,[1]高二下!A$1:Q$618,16,0) -> 金贵 | AO9: =VLOOKUP(A9,[1]高二上!A$1:Q$571,5,0) -> 103 | AP9: =VLOOKUP(A9,[1]高二上!A$1:Q$571,6,0) -> 叶屏 | AQ9: =VLOOKUP(A9,[1]高二上!A$1:Q$571,7,0) -> 94 | AR9: =VLOOKUP(A9,[1]高二上!A$1:Q$571,8,0) -> 余玉红 | AS9: =VLOOKUP(A9,[1]高二上!A$1:Q$571,9,0) -> 126 | AT9: =VLOOKUP(A9,[1]高二上!A$1:Q$571,10,0) -> 胡昌燕 | AU9: =VLOOKUP(A9,[1]高二上!A$1:Q$571,11,0) -> 65 | AV9: =VLOOKUP(A9,[1]高二上!A$1:Q$571,12,0) -> 卢银楷 | AW9: =VLOOKUP(A9,[1]高二上!A$1:Q$571,13,0) -> 70 | AX9: =VLOOKUP(A9,[1]高二上!A$1:Q$571,14,0) -> 胡慧芳 | AY9: =VLOOKUP(A9,[1]高二上!A$1:Q$571,15,0) -> 56 | AZ9: =VLOOKUP(A9,[1]高二上!A$1:Q$571,16,0) -> 金贵 | BA9: =VLOOKUP(A9,[1]高一下!$A$1:$Q$584,5,0) -> 104 | BB9: =VLOOKUP(A9,[1]高一下!$A$1:$Q$584,6,0) -> 叶屏 | BC9: =VLOOKUP(A9,[1]高一下!$A$1:$Q$584,7,0) -> 99 | BD9: =VLOOKUP(A9,[1]高一下!$A$1:$Q$584,8,0) -> 余玉红 | BE9: =VLOOKUP(A9,[1]高一下!$A$1:$Q$584,9,0) -> 119 | BF9: =VLOOKUP(A9,[1]高一下!$A$1:$Q$584,10,0) -> 胡昌燕 | BG9: =VLOOKUP(A9,[1]高一下!$A$1:$Q$584,11,0) -> 70 | BH9: =VLOOKUP(A9,[1]高一下!$A$1:$Q$584,12,0) -> 杨吉华 | BI9: =VLOOKUP(A9,[1]高一下!$A$1:$Q$584,13,0) -> 54 | BJ9: =VLOOKUP(A9,[1]高一下!$A$1:$Q$584,14,0) -> 胡慧芳 | BK9: =VLOOKUP(A9,[1]高一下!$A$1:$Q$584,15,0) -> 53 | BL9: =VLOOKUP(A9,[1]高一下!$A$1:$Q$584,16,0) -> 金贵 | BM9: =VLOOKUP(A9,[1]高一上!A$1:W$612,5,0) -> 102 | BN9: =VLOOKUP(A9,[1]高一上!A$1:W$612,6,0) -> 向美娟 | BO9: =VLOOKUP(A9,[1]高一上!A$1:W$612,7,0) -> 77 | BP9: =VLOOKUP(A9,[1]高一上!A$1:W$612,8,0) -> 徐万雄 | BQ9: =VLOOKUP(A9,[1]高一上!A$1:W$612,9,0) -> 114.5 | BR9: =VLOOKUP(A9,[1]高一上!A$1:W$612,10,0) -> 聂艳梅 | BS9: =VLOOKUP(A9,[1]高一上!A$1:W$612,17,0) -> 48 | BT9: =VLOOKUP(A9,[1]高一上!A$1:W$612,18,0) -> 杨吉华 | BU9: =VLOOKUP(A9,[1]高一上!A$1:W$612,19,0) -> 52 | BV9: =VLOOKUP(A9,[1]高一上!A$1:W$612,20,0) -> 胡慧芳 | BW9: =VLOOKUP(A9,[1]高一上!A$1:W$612,21,0) -> 61 | BX9: =VLOOKUP(A9,[1]高一上!A$1:W$612,22,0) -> 金贵 | BY9: =VLOOKUP(A9,[1]中考!A$1:N$590,5,0) -> 114 | BZ9: =VLOOKUP(A9,[1]中考!A$1:N$590,6,0) -> 78 | CA9: =VLOOKUP(A9,[1]中考!A$1:N$590,7,0) -> 136 | CB9: =VLOOKUP(A9,[1]中考!A$1:N$590,11,0) -> 26 | CC9: =VLOOKUP(A9,[1]中考!A$1:N$590,12,0) -> 37 | CD9: =VLOOKUP(A9,[1]中考!A$1:N$590,13,0) -> 40
A10: 513422200501255028 | B10: 1 | C10: 王志珍 | D10: 文科 | E10: 112 | F10: 叶屏 | G10: 95 | H10: 余玉红 | I10: 83 | J10: 胡昌燕 | K10: 68.5 | L10: 卢银楷 | M10: 73 | N10: 胡慧芳 | O10: 60 | P10: 金贵 | Q10: =VLOOKUP(A10,[1]高三上!A$3:Q$629,5,0) -> 103 | R10: =VLOOKUP(A10,[1]高三上!A$3:Q$629,6,0) -> 叶屏 | S10: =VLOOKUP(A10,[1]高三上!A$3:Q$629,7,0) -> 86 | T10: =VLOOKUP(A10,[1]高三上!A$3:Q$629,8,0) -> 余玉红 | U10: =VLOOKUP(A10,[1]高三上!A$3:Q$629,9,0) -> 109 | V10: =VLOOKUP(A10,[1]高三上!A$3:Q$629,10,0) -> 胡昌燕 | W10: =VLOOKUP(A10,[1]高三上!A$3:Q$629,11,0) -> 67 | X10: =VLOOKUP(A10,[1]高三上!A$3:Q$629,12,0) -> 卢银楷 | Y10: =VLOOKUP(A10,[1]高三上!A$3:Q$629,13,0) -> 68 | Z10: =VLOOKUP(A10,[1]高三上!A$3:Q$629,14,0) -> 胡慧芳 | AA10: =VLOOKUP(A10,[1]高三上!A$3:Q$629,15,0) -> 56 | AB10: =VLOOKUP(A10,[1]高三上!A$3:Q$629,16,0) -> 金贵 | AC10: =VLOOKUP(A10,[1]高二下!A$1:Q$618,5,0) -> 92 | AD10: =VLOOKUP(A10,[1]高二下!A$1:Q$618,6,0) -> 叶屏 | AE10: =VLOOKUP(A10,[1]高二下!A$1:Q$618,7,0) -> 69.5 | AF10: =VLOOKUP(A10,[1]高二下!A$1:Q$618,8,0) -> 余玉红 | AG10: =VLOOKUP(A10,[1]高二下!A$1:Q$618,9,0) -> 78 | AH10: =VLOOKUP(A10,[1]高二下!A$1:Q$618,10,0) -> 胡昌燕 | AI10: =VLOOKUP(A10,[1]高二下!A$1:Q$618,11,0) -> 51.5 | AJ10: =VLOOKUP(A10,[1]高二下!A$1:Q$618,12,0) -> 卢银楷 | AK10: =VLOOKUP(A10,[1]高二下!A$1:Q$618,13,0) -> 58 | AL10: =VLOOKUP(A10,[1]高二下!A$1:Q$618,14,0) -> 胡慧芳 | AM10: =VLOOKUP(A10,[1]高二下!A$1:Q$618,15,0) -> 67 | AN10: =VLOOKUP(A10,[1]高二下!A$1:Q$618,16,0) -> 金贵 | AO10: =VLOOKUP(A10,[1]高二上!A$1:Q$571,5,0) -> 105 | AP10: =VLOOKUP(A10,[1]高二上!A$1:Q$571,6,0) -> 叶屏 | AQ10: =VLOOKUP(A10,[1]高二上!A$1:Q$571,7,0) -> 104 | AR10: =VLOOKUP(A10,[1]高二上!A$1:Q$571,8,0) -> 余玉红 | AS10: =VLOOKUP(A10,[1]高二上!A$1:Q$571,9,0) -> 84.5 | AT10: =VLOOKUP(A10,[1]高二上!A$1:Q$571,10,0) -> 胡昌燕 | AU10: =VLOOKUP(A10,[1]高二上!A$1:Q$571,11,0) -> 63 | AV10: =VLOOKUP(A10,[1]高二上!A$1:Q$571,12,0) -> 卢银楷 | AW10: =VLOOKUP(A10,[1]高二上!A$1:Q$571,13,0) -> 83 | AX10: =VLOOKUP(A10,[1]高二上!A$1:Q$571,14,0) -> 胡慧芳 | AY10: =VLOOKUP(A10,[1]高二上!A$1:Q$571,15,0) -> 61 | AZ10: =VLOOKUP(A10,[1]高二上!A$1:Q$571,16,0) -> 金贵 | BA10: =VLOOKUP(A10,[1]高一下!$A$1:$Q$584,5,0) -> 83 | BB10: =VLOOKUP(A10,[1]高一下!$A$1:$Q$584,6,0) -> 叶屏 | BC10: =VLOOKUP(A10,[1]高一下!$A$1:$Q$584,7,0) -> 120 | BD10: =VLOOKUP(A10,[1]高一下!$A$1:$Q$584,8,0) -> 余玉红 | BE10: =VLOOKUP(A10,[1]高一下!$A$1:$Q$584,9,0) -> 76 | BF10: =VLOOKUP(A10,[1]高一下!$A$1:$Q$584,10,0) -> 胡昌燕 | BG10: =VLOOKUP(A10,[1]高一下!$A$1:$Q$584,11,0) -> 58 | BH10: =VLOOKUP(A10,[1]高一下!$A$1:$Q$584,12,0) -> 杨吉华 | BI10: =VLOOKUP(A10,[1]高一下!$A$1:$Q$584,13,0) -> 58 | BJ10: =VLOOKUP(A10,[1]高一下!$A$1:$Q$584,14,0) -> 胡慧芳 | BK10: =VLOOKUP(A10,[1]高一下!$A$1:$Q$584,15,0) -> 60 | BL10: =VLOOKUP(A10,[1]高一下!$A$1:$Q$584,16,0) -> 金贵 | BM10: =VLOOKUP(A10,[1]高一上!A$1:W$612,5,0) -> 83 | BN10: =VLOOKUP(A10,[1]高一上!A$1:W$612,6,0) -> 叶屏 | BO10: =VLOOKUP(A10,[1]高一上!A$1:W$612,7,0) -> 77 | BP10: =VLOOKUP(A10,[1]高一上!A$1:W$612,8,0) -> 余玉红 | BQ10: =VLOOKUP(A10,[1]高一上!A$1:W$612,9,0) -> 64.5 | BR10: =VLOOKUP(A10,[1]高一上!A$1:W$612,10,0) -> 胡昌燕 | BS10: =VLOOKUP(A10,[1]高一上!A$1:W$612,17,0) -> 71 | BT10: =VLOOKUP(A10,[1]高一上!A$1:W$612,18,0) -> 杨吉华 | BU10: =VLOOKUP(A10,[1]高一上!A$1:W$612,19,0) -> 64 | BV10: =VLOOKUP(A10,[1]高一上!A$1:W$612,20,0) -> 胡慧芳 | BW10: =VLOOKUP(A10,[1]高一上!A$1:W$612,21,0) -> 72 | BX10: =VLOOKUP(A10,[1]高一上!A$1:W$612,22,0) -> 金贵 | BY10: =VLOOKUP(A10,[1]中考!A$1:N$590,5,0) -> 93 | BZ10: =VLOOKUP(A10,[1]中考!A$1:N$590,6,0) -> 81 | CA10: =VLOOKUP(A10,[1]中考!A$1:N$590,7,0) -> 69 | CB10: =VLOOKUP(A10,[1]中考!A$1:N$590,11,0) -> 40 | CC10: =VLOOKUP(A10,[1]中考!A$1:N$590,12,0) -> 40 | CD10: =VLOOKUP(A10,[1]中考!A$1:N$590,13,0) -> 40
A11: 513422200301013622 | B11: 1 | C11: 祝玛央宗 | D11: 文科 | E11: 105 | F11: 叶屏 | G11: 87 | H11: 余玉红 | I11: 114 | J11: 胡昌燕 | K11: 67 | L11: 卢银楷 | M11: 65 | N11: 胡慧芳 | O11: 49 | P11: 金贵 | Q11: =VLOOKUP(A11,[1]高三上!A$3:Q$629,5,0) -> 108 | R11: =VLOOKUP(A11,[1]高三上!A$3:Q$629,6,0) -> 叶屏 | S11: =VLOOKUP(A11,[1]高三上!A$3:Q$629,7,0) -> 67 | T11: =VLOOKUP(A11,[1]高三上!A$3:Q$629,8,0) -> 余玉红 | U11: =VLOOKUP(A11,[1]高三上!A$3:Q$629,9,0) -> 124 | V11: =VLOOKUP(A11,[1]高三上!A$3:Q$629,10,0) -> 胡昌燕 | W11: =VLOOKUP(A11,[1]高三上!A$3:Q$629,11,0) -> 71 | X11: =VLOOKUP(A11,[1]高三上!A$3:Q$629,12,0) -> 卢银楷 | Y11: =VLOOKUP(A11,[1]高三上!A$3:Q$629,13,0) -> 56 | Z11: =VLOOKUP(A11,[1]高三上!A$3:Q$629,14,0) -> 胡慧芳 | AA11: =VLOOKUP(A11,[1]高三上!A$3:Q$629,15,0) -> 43 | AB11: =VLOOKUP(A11,[1]高三上!A$3:Q$629,16,0) -> 金贵 | AC11: =VLOOKUP(A11,[1]高二下!A$1:Q$618,5,0) -> 97 | AD11: =VLOOKUP(A11,[1]高二下!A$1:Q$618,6,0) -> 叶屏 | AE11: =VLOOKUP(A11,[1]高二下!A$1:Q$618,7,0) -> 65.5 | AF11: =VLOOKUP(A11,[1]高二下!A$1:Q$618,8,0) -> 余玉红 | AG11: =VLOOKUP(A11,[1]高二下!A$1:Q$618,9,0) -> 99.5 | AH11: =VLOOKUP(A11,[1]高二下!A$1:Q$618,10,0) -> 胡昌燕 | AI11: =VLOOKUP(A11,[1]高二下!A$1:Q$618,11,0) -> 58.5 | AJ11: =VLOOKUP(A11,[1]高二下!A$1:Q$618,12,0) -> 卢银楷 | AK11: =VLOOKUP(A11,[1]高二下!A$1:Q$618,13,0) -> 39 | AL11: =VLOOKUP(A11,[1]高二下!A$1:Q$618,14,0) -> 胡慧芳 | AM11: =VLOOKUP(A11,[1]高二下!A$1:Q$618,15,0) -> 56 | AN11: =VLOOKUP(A11,[1]高二下!A$1:Q$618,16,0) -> 金贵 | AO11: =VLOOKUP(A11,[1]高二上!A$1:Q$571,5,0) -> #N/A | AP11: =VLOOKUP(A11,[1]高二上!A$1:Q$571,6,0) -> #N/A | AQ11: =VLOOKUP(A11,[1]高二上!A$1:Q$571,7,0) -> #N/A | AR11: =VLOOKUP(A11,[1]高二上!A$1:Q$571,8,0) -> #N/A | AS11: =VLOOKUP(A11,[1]高二上!A$1:Q$571,9,0) -> #N/A | AT11: =VLOOKUP(A11,[1]高二上!A$1:Q$571,10,0) -> #N/A | AU11: =VLOOKUP(A11,[1]高二上!A$1:Q$571,11,0) -> #N/A | AV11: =VLOOKUP(A11,[1]高二上!A$1:Q$571,12,0) -> #N/A | AW11: =VLOOKUP(A11,[1]高二上!A$1:Q$571,13,0) -> #N/A | AX11: =VLOOKUP(A11,[1]高二上!A$1:Q$571,14,0) -> #N/A | AY11: =VLOOKUP(A11,[1]高二上!A$1:Q$571,15,0) -> #N/A | AZ11: =VLOOKUP(A11,[1]高二上!A$1:Q$571,16,0) -> #N/A | BA11: =VLOOKUP(A11,[1]高一下!$A$1:$Q$584,5,0) -> #N/A | BB11: =VLOOKUP(A11,[1]高一下!$A$1:$Q$584,6,0) -> #N/A | BC11: =VLOOKUP(A11,[1]高一下!$A$1:$Q$584,7,0) -> #N/A | BD11: =VLOOKUP(A11,[1]高一下!$A$1:$Q$584,8,0) -> #N/A | BE11: =VLOOKUP(A11,[1]高一下!$A$1:$Q$584,9,0) -> #N/A | BF11: =VLOOKUP(A11,[1]高一下!$A$1:$Q$584,10,0) -> #N/A | BG11: =VLOOKUP(A11,[1]高一下!$A$1:$Q$584,11,0) -> #N/A | BH11: =VLOOKUP(A11,[1]高一下!$A$1:$Q$584,12,0) -> #N/A | BI11: =VLOOKUP(A11,[1]高一下!$A$1:$Q$584,13,0) -> #N/A | BJ11: =VLOOKUP(A11,[1]高一下!$A$1:$Q$584,14,0) -> #N/A | BK11: =VLOOKUP(A11,[1]高一下!$A$1:$Q$584,15,0) -> #N/A | BL11: =VLOOKUP(A11,[1]高一下!$A$1:$Q$584,16,0) -> #N/A | BM11: =VLOOKUP(A11,[1]高一上!A$1:W$612,5,0) -> #N/A | BN11: =VLOOKUP(A11,[1]高一上!A$1:W$612,6,0) -> #N/A | BO11: =VLOOKUP(A11,[1]高一上!A$1:W$612,7,0) -> #N/A | BP11: =VLOOKUP(A11,[1]高一上!A$1:W$612,8,0) -> #N/A | BQ11: =VLOOKUP(A11,[1]高一上!A$1:W$612,9,0) -> #N/A | BR11: =VLOOKUP(A11,[1]高一上!A$1:W$612,10,0) -> #N/A | BS11: =VLOOKUP(A11,[1]高一上!A$1:W$612,17,0) -> #N/A | BT11: =VLOOKUP(A11,[1]高一上!A$1:W$612,18,0) -> #N/A | BU11: =VLOOKUP(A11,[1]高一上!A$1:W$612,19,0) -> #N/A | BV11: =VLOOKUP(A11,[1]高一上!A$1:W$612,20,0) -> #N/A | BW11: =VLOOKUP(A11,[1]高一上!A$1:W$612,21,0) -> #N/A | BX11: =VLOOKUP(A11,[1]高一上!A$1:W$612,22,0) -> #N/A | BY11: =VLOOKUP(A11,[1]中考!A$1:N$590,5,0) -> #N/A | BZ11: =VLOOKUP(A11,[1]中考!A$1:N$590,6,0) -> #N/A | CA11: =VLOOKUP(A11,[1]中考!A$1:N$590,7,0) -> #N/A | CB11: =VLOOKUP(A11,[1]中考!A$1:N$590,11,0) -> #N/A | CC11: =VLOOKUP(A11,[1]中考!A$1:N$590,12,0) -> #N/A | CD11: =VLOOKUP(A11,[1]中考!A$1:N$590,13,0) -> #N/A
A12: 513422200405166420 | B12: 1 | C12: 阿崩 | D12: 文科 | E12: 105 | F12: 叶屏 | G12: 84 | H12: 余玉红 | I12: 107 | J12: 胡昌燕 | K12: 61.5 | L12: 卢银楷 | M12: 71.5 | N12: 胡慧芳 | O12: 53 | P12: 金贵 | Q12: =VLOOKUP(A12,[1]高三上!A$3:Q$629,5,0) -> 98 | R12: =VLOOKUP(A12,[1]高三上!A$3:Q$629,6,0) -> 叶屏 | S12: =VLOOKUP(A12,[1]高三上!A$3:Q$629,7,0) -> 59 | T12: =VLOOKUP(A12,[1]高三上!A$3:Q$629,8,0) -> 余玉红 | U12: =VLOOKUP(A12,[1]高三上!A$3:Q$629,9,0) -> 88.5 | V12: =VLOOKUP(A12,[1]高三上!A$3:Q$629,10,0) -> 胡昌燕 | W12: =VLOOKUP(A12,[1]高三上!A$3:Q$629,11,0) -> 72 | X12: =VLOOKUP(A12,[1]高三上!A$3:Q$629,12,0) -> 卢银楷 | Y12: =VLOOKUP(A12,[1]高三上!A$3:Q$629,13,0) -> 53 | Z12: =VLOOKUP(A12,[1]高三上!A$3:Q$629,14,0) -> 胡慧芳 | AA12: =VLOOKUP(A12,[1]高三上!A$3:Q$629,15,0) -> 37 | AB12: =VLOOKUP(A12,[1]高三上!A$3:Q$629,16,0) -> 金贵 | AC12: =VLOOKUP(A12,[1]高二下!A$1:Q$618,5,0) -> 97 | AD12: =VLOOKUP(A12,[1]高二下!A$1:Q$618,6,0) -> 叶屏 | AE12: =VLOOKUP(A12,[1]高二下!A$1:Q$618,7,0) -> 58.5 | AF12: =VLOOKUP(A12,[1]高二下!A$1:Q$618,8,0) -> 余玉红 | AG12: =VLOOKUP(A12,[1]高二下!A$1:Q$618,9,0) -> 95 | AH12: =VLOOKUP(A12,[1]高二下!A$1:Q$618,10,0) -> 胡昌燕 | AI12: =VLOOKUP(A12,[1]高二下!A$1:Q$618,11,0) -> 59 | AJ12: =VLOOKUP(A12,[1]高二下!A$1:Q$618,12,0) -> 卢银楷 | AK12: =VLOOKUP(A12,[1]高二下!A$1:Q$618,13,0) -> 57.5 | AL12: =VLOOKUP(A12,[1]高二下!A$1:Q$618,14,0) -> 胡慧芳 | AM12: =VLOOKUP(A12,[1]高二下!A$1:Q$618,15,0) -> 49 | AN12: =VLOOKUP(A12,[1]高二下!A$1:Q$618,16,0) -> 金贵 | AO12: =VLOOKUP(A12,[1]高二上!A$1:Q$571,5,0) -> 99 | AP12: =VLOOKUP(A12,[1]高二上!A$1:Q$571,6,0) -> 叶屏 | AQ12: =VLOOKUP(A12,[1]高二上!A$1:Q$571,7,0) -> 88 | AR12: =VLOOKUP(A12,[1]高二上!A$1:Q$571,8,0) -> 余玉红 | AS12: =VLOOKUP(A12,[1]高二上!A$1:Q$571,9,0) -> 108.5 | AT12: =VLOOKUP(A12,[1]高二上!A$1:Q$571,10,0) -> 胡昌燕 | AU12: =VLOOKUP(A12,[1]高二上!A$1:Q$571,11,0) -> 55 | AV12: =VLOOKUP(A12,[1]高二上!A$1:Q$571,12,0) -> 卢银楷 | AW12: =VLOOKUP(A12,[1]高二上!A$1:Q$571,13,0) -> 79 | AX12: =VLOOKUP(A12,[1]高二上!A$1:Q$571,14,0) -> 胡慧芳 | AY12: =VLOOKUP(A12,[1]高二上!A$1:Q$571,15,0) -> 56 | AZ12: =VLOOKUP(A12,[1]高二上!A$1:Q$571,16,0) -> 金贵 | BA12: =VLOOKUP(A12,[1]高一下!$A$1:$Q$584,5,0) -> 89 | BB12: =VLOOKUP(A12,[1]高一下!$A$1:$Q$584,6,0) -> 叶屏 | BC12: =VLOOKUP(A12,[1]高一下!$A$1:$Q$584,7,0) -> 97 | BD12: =VLOOKUP(A12,[1]高一下!$A$1:$Q$584,8,0) -> 余玉红 | BE12: =VLOOKUP(A12,[1]高一下!$A$1:$Q$584,9,0) -> 101.5 | BF12: =VLOOKUP(A12,[1]高一下!$A$1:$Q$584,10,0) -> 胡昌燕 | BG12: =VLOOKUP(A12,[1]高一下!$A$1:$Q$584,11,0) -> 59 | BH12: =VLOOKUP(A12,[1]高一下!$A$1:$Q$584,12,0) -> 杨吉华 | BI12: =VLOOKUP(A12,[1]高一下!$A$1:$Q$584,13,0) -> 55 | BJ12: =VLOOKUP(A12,[1]高一下!$A$1:$Q$584,14,0) -> 胡慧芳 | BK12: =VLOOKUP(A12,[1]高一下!$A$1:$Q$584,15,0) -> 47 | BL12: =VLOOKUP(A12,[1]高一下!$A$1:$Q$584,16,0) -> 金贵 | BM12: =VLOOKUP(A12,[1]高一上!A$1:W$612,5,0) -> 76 | BN12: =VLOOKUP(A12,[1]高一上!A$1:W$612,6,0) -> 叶屏 | BO12: =VLOOKUP(A12,[1]高一上!A$1:W$612,7,0) -> 44 | BP12: =VLOOKUP(A12,[1]高一上!A$1:W$612,8,0) -> 余玉红 | BQ12: =VLOOKUP(A12,[1]高一上!A$1:W$612,9,0) -> 82 | BR12: =VLOOKUP(A12,[1]高一上!A$1:W$612,10,0) -> 胡昌燕 | BS12: =VLOOKUP(A12,[1]高一上!A$1:W$612,17,0) -> 36 | BT12: =VLOOKUP(A12,[1]高一上!A$1:W$612,18,0) -> 杨吉华 | BU12: =VLOOKUP(A12,[1]高一上!A$1:W$612,19,0) -> 42 | BV12: =VLOOKUP(A12,[1]高一上!A$1:W$612,20,0) -> 胡慧芳 | BW12: =VLOOKUP(A12,[1]高一上!A$1:W$612,21,0) -> 39 | BX12: =VLOOKUP(A12,[1]高一上!A$1:W$612,22,0) -> 金贵 | BY12: =VLOOKUP(A12,[1]中考!A$1:N$590,5,0) -> 89 | BZ12: =VLOOKUP(A12,[1]中考!A$1:N$590,6,0) -> 66 | CA12: =VLOOKUP(A12,[1]中考!A$1:N$590,7,0) -> 112 | CB12: =VLOOKUP(A12,[1]中考!A$1:N$590,11,0) -> 21 | CC12: =VLOOKUP(A12,[1]中考!A$1:N$590,12,0) -> 29 | CD12: =VLOOKUP(A12,[1]中考!A$1:N$590,13,0) -> 26
A13: 513422200608150728 | B13: 1 | C13: 杨贵秀 | D13: 文科 | E13: 113 | F13: 叶屏 | G13: 87 | H13: 余玉红 | I13: 104 | J13: 胡昌燕 | K13: 61 | L13: 卢银楷 | M13: 71 | N13: 胡慧芳 | O13: 39 | P13: 金贵 | Q13: =VLOOKUP(A13,[1]高三上!A$3:Q$629,5,0) -> 103 | R13: =VLOOKUP(A13,[1]高三上!A$3:Q$629,6,0) -> 叶屏 | S13: =VLOOKUP(A13,[1]高三上!A$3:Q$629,7,0) -> 80 | T13: =VLOOKUP(A13,[1]高三上!A$3:Q$629,8,0) -> 余玉红 | U13: =VLOOKUP(A13,[1]高三上!A$3:Q$629,9,0) -> 113.5 | V13: =VLOOKUP(A13,[1]高三上!A$3:Q$629,10,0) -> 胡昌燕 | W13: =VLOOKUP(A13,[1]高三上!A$3:Q$629,11,0) -> 57 | X13: =VLOOKUP(A13,[1]高三上!A$3:Q$629,12,0) -> 卢银楷 | Y13: =VLOOKUP(A13,[1]高三上!A$3:Q$629,13,0) -> 59 | Z13: =VLOOKUP(A13,[1]高三上!A$3:Q$629,14,0) -> 胡慧芳 | AA13: =VLOOKUP(A13,[1]高三上!A$3:Q$629,15,0) -> 52 | AB13: =VLOOKUP(A13,[1]高三上!A$3:Q$629,16,0) -> 金贵 | AC13: =VLOOKUP(A13,[1]高二下!A$1:Q$618,5,0) -> 99 | AD13: =VLOOKUP(A13,[1]高二下!A$1:Q$618,6,0) -> 叶屏 | AE13: =VLOOKUP(A13,[1]高二下!A$1:Q$618,7,0) -> 83 | AF13: =VLOOKUP(A13,[1]高二下!A$1:Q$618,8,0) -> 余玉红 | AG13: =VLOOKUP(A13,[1]高二下!A$1:Q$618,9,0) -> 104.5 | AH13: =VLOOKUP(A13,[1]高二下!A$1:Q$618,10,0) -> 胡昌燕 | AI13: =VLOOKUP(A13,[1]高二下!A$1:Q$618,11,0) -> 60.5 | AJ13: =VLOOKUP(A13,[1]高二下!A$1:Q$618,12,0) -> 卢银楷 | AK13: =VLOOKUP(A13,[1]高二下!A$1:Q$618,13,0) -> 76.5 | AL13: =VLOOKUP(A13,[1]高二下!A$1:Q$618,14,0) -> 胡慧芳 | AM13: =VLOOKUP(A13,[1]高二下!A$1:Q$618,15,0) -> 51 | AN13: =VLOOKUP(A13,[1]高二下!A$1:Q$618,16,0) -> 金贵 | AO13: =VLOOKUP(A13,[1]高二上!A$1:Q$571,5,0) -> 104 | AP13: =VLOOKUP(A13,[1]高二上!A$1:Q$571,6,0) -> 叶屏 | AQ13: =VLOOKUP(A13,[1]高二上!A$1:Q$571,7,0) -> 105 | AR13: =VLOOKUP(A13,[1]高二上!A$1:Q$571,8,0) -> 余玉红 | AS13: =VLOOKUP(A13,[1]高二上!A$1:Q$571,9,0) -> 99 | AT13: =VLOOKUP(A13,[1]高二上!A$1:Q$571,10,0) -> 胡昌燕 | AU13: =VLOOKUP(A13,[1]高二上!A$1:Q$571,11,0) -> 63 | AV13: =VLOOKUP(A13,[1]高二上!A$1:Q$571,12,0) -> 卢银楷 | AW13: =VLOOKUP(A13,[1]高二上!A$1:Q$571,13,0) -> 65 | AX13: =VLOOKUP(A13,[1]高二上!A$1:Q$571,14,0) -> 胡慧芳 | AY13: =VLOOKUP(A13,[1]高二上!A$1:Q$571,15,0) -> 41 | AZ13: =VLOOKUP(A13,[1]高二上!A$1:Q$571,16,0) -> 金贵 | BA13: =VLOOKUP(A13,[1]高一下!$A$1:$Q$584,5,0) -> 96 | BB13: =VLOOKUP(A13,[1]高一下!$A$1:$Q$584,6,0) -> 叶屏 | BC13: =VLOOKUP(A13,[1]高一下!$A$1:$Q$584,7,0) -> 83 | BD13: =VLOOKUP(A13,[1]高一下!$A$1:$Q$584,8,0) -> 余玉红 | BE13: =VLOOKUP(A13,[1]高一下!$A$1:$Q$584,9,0) -> 93.5 | BF13: =VLOOKUP(A13,[1]高一下!$A$1:$Q$584,10,0) -> 胡昌燕 | BG13: =VLOOKUP(A13,[1]高一下!$A$1:$Q$584,11,0) -> 62 | BH13: =VLOOKUP(A13,[1]高一下!$A$1:$Q$584,12,0) -> 杨吉华 | BI13: =VLOOKUP(A13,[1]高一下!$A$1:$Q$584,13,0) -> 46 | BJ13: =VLOOKUP(A13,[1]高一下!$A$1:$Q$584,14,0) -> 胡慧芳 | BK13: =VLOOKUP(A13,[1]高一下!$A$1:$Q$584,15,0) -> 53 | BL13: =VLOOKUP(A13,[1]高一下!$A$1:$Q$584,16,0) -> 金贵 | BM13: =VLOOKUP(A13,[1]高一上!A$1:W$612,5,0) -> 81 | BN13: =VLOOKUP(A13,[1]高一上!A$1:W$612,6,0) -> 叶屏 | BO13: =VLOOKUP(A13,[1]高一上!A$1:W$612,7,0) -> 78 | BP13: =VLOOKUP(A13,[1]高一上!A$1:W$612,8,0) -> 余玉红 | BQ13: =VLOOKUP(A13,[1]高一上!A$1:W$612,9,0) -> 83.5 | BR13: =VLOOKUP(A13,[1]高一上!A$1:W$612,10,0) -> 胡昌燕 | BS13: =VLOOKUP(A13,[1]高一上!A$1:W$612,17,0) -> 73 | BT13: =VLOOKUP(A13,[1]高一上!A$1:W$612,18,0) -> 杨吉华 | BU13: =VLOOKUP(A13,[1]高一上!A$1:W$612,19,0) -> 39 | BV13: =VLOOKUP(A13,[1]高一上!A$1:W$612,20,0) -> 胡慧芳 | BW13: =VLOOKUP(A13,[1]高一上!A$1:W$612,21,0) -> 53 | BX13: =VLOOKUP(A13,[1]高一上!A$1:W$612,22,0) -> 金贵 | BY13: =VLOOKUP(A13,[1]中考!A$1:N$590,5,0) -> 96 | BZ13: =VLOOKUP(A13,[1]中考!A$1:N$590,6,0) -> 85 | CA13: =VLOOKUP(A13,[1]中考!A$1:N$590,7,0) -> 90 | CB13: =VLOOKUP(A13,[1]中考!A$1:N$590,11,0) -> 17 | CC13: =VLOOKUP(A13,[1]中考!A$1:N$590,12,0) -> 39 | CD13: =VLOOKUP(A13,[1]中考!A$1:N$590,13,0) -> 28
A14: 513423200501083111 | B14: 1 | C14: 杨小勇 | D14: 文科 | E14: 105 | F14: 叶屏 | G14: 98 | H14: 余玉红 | I14: 96 | J14: 胡昌燕 | K14: 66 | L14: 卢银楷 | M14: 65.5 | N14: 胡慧芳 | O14: 42 | P14: 金贵 | Q14: =VLOOKUP(A14,[1]高三上!A$3:Q$629,5,0) -> 98 | R14: =VLOOKUP(A14,[1]高三上!A$3:Q$629,6,0) -> 叶屏 | S14: =VLOOKUP(A14,[1]高三上!A$3:Q$629,7,0) -> 49 | T14: =VLOOKUP(A14,[1]高三上!A$3:Q$629,8,0) -> 余玉红 | U14: =VLOOKUP(A14,[1]高三上!A$3:Q$629,9,0) -> 99 | V14: =VLOOKUP(A14,[1]高三上!A$3:Q$629,10,0) -> 胡昌燕 | W14: =VLOOKUP(A14,[1]高三上!A$3:Q$629,11,0) -> 66 | X14: =VLOOKUP(A14,[1]高三上!A$3:Q$629,12,0) -> 卢银楷 | Y14: =VLOOKUP(A14,[1]高三上!A$3:Q$629,13,0) -> 65 | Z14: =VLOOKUP(A14,[1]高三上!A$3:Q$629,14,0) -> 胡慧芳 | AA14: =VLOOKUP(A14,[1]高三上!A$3:Q$629,15,0) -> 41 | AB14: =VLOOKUP(A14,[1]高三上!A$3:Q$629,16,0) -> 金贵 | AC14: =VLOOKUP(A14,[1]高二下!A$1:Q$618,5,0) -> 83.5 | AD14: =VLOOKUP(A14,[1]高二下!A$1:Q$618,6,0) -> 叶屏 | AE14: =VLOOKUP(A14,[1]高二下!A$1:Q$618,7,0) -> 88 | AF14: =VLOOKUP(A14,[1]高二下!A$1:Q$618,8,0) -> 余玉红 | AG14: =VLOOKUP(A14,[1]高二下!A$1:Q$618,9,0) -> 83.5 | AH14: =VLOOKUP(A14,[1]高二下!A$1:Q$618,10,0) -> 胡昌燕 | AI14: =VLOOKUP(A14,[1]高二下!A$1:Q$618,11,0) -> 56.5 | AJ14: =VLOOKUP(A14,[1]高二下!A$1:Q$618,12,0) -> 卢银楷 | AK14: =VLOOKUP(A14,[1]高二下!A$1:Q$618,13,0) -> 67.5 | AL14: =VLOOKUP(A14,[1]高二下!A$1:Q$618,14,0) -> 胡慧芳 | AM14: =VLOOKUP(A14,[1]高二下!A$1:Q$618,15,0) -> 42 | AN14: =VLOOKUP(A14,[1]高二下!A$1:Q$618,16,0) -> 金贵 | AO14: =VLOOKUP(A14,[1]高二上!A$1:Q$571,5,0) -> #N/A | AP14: =VLOOKUP(A14,[1]高二上!A$1:Q$571,6,0) -> #N/A | AQ14: =VLOOKUP(A14,[1]高二上!A$1:Q$571,7,0) -> #N/A | AR14: =VLOOKUP(A14,[1]高二上!A$1:Q$571,8,0) -> #N/A | AS14: =VLOOKUP(A14,[1]高二上!A$1:Q$571,9,0) -> #N/A | AT14: =VLOOKUP(A14,[1]高二上!A$1:Q$571,10,0) -> #N/A | AU14: =VLOOKUP(A14,[1]高二上!A$1:Q$571,11,0) -> #N/A | AV14: =VLOOKUP(A14,[1]高二上!A$1:Q$571,12,0) -> #N/A | AW14: =VLOOKUP(A14,[1]高二上!A$1:Q$571,13,0) -> #N/A | AX14: =VLOOKUP(A14,[1]高二上!A$1:Q$571,14,0) -> #N/A | AY14: =VLOOKUP(A14,[1]高二上!A$1:Q$571,15,0) -> #N/A | AZ14: =VLOOKUP(A14,[1]高二上!A$1:Q$571,16,0) -> #N/A | BA14: =VLOOKUP(A14,[1]高一下!$A$1:$Q$584,5,0) -> #N/A | BB14: =VLOOKUP(A14,[1]高一下!$A$1:$Q$584,6,0) -> #N/A | BC14: =VLOOKUP(A14,[1]高一下!$A$1:$Q$584,7,0) -> #N/A | BD14: =VLOOKUP(A14,[1]高一下!$A$1:$Q$584,8,0) -> #N/A | BE14: =VLOOKUP(A14,[1]高一下!$A$1:$Q$584,9,0) -> #N/A | BF14: =VLOOKUP(A14,[1]高一下!$A$1:$Q$584,10,0) -> #N/A | BG14: =VLOOKUP(A14,[1]高一下!$A$1:$Q$584,11,0) -> #N/A | BH14: =VLOOKUP(A14,[1]高一下!$A$1:$Q$584,12,0) -> #N/A | BI14: =VLOOKUP(A14,[1]高一下!$A$1:$Q$584,13,0) -> #N/A | BJ14: =VLOOKUP(A14,[1]高一下!$A$1:$Q$584,14,0) -> #N/A | BK14: =VLOOKUP(A14,[1]高一下!$A$1:$Q$584,15,0) -> #N/A | BL14: =VLOOKUP(A14,[1]高一下!$A$1:$Q$584,16,0) -> #N/A | BM14: =VLOOKUP(A14,[1]高一上!A$1:W$612,5,0) -> #N/A | BN14: =VLOOKUP(A14,[1]高一上!A$1:W$612,6,0) -> #N/A | BO14: =VLOOKUP(A14,[1]高一上!A$1:W$612,7,0) -> #N/A | BP14: =VLOOKUP(A14,[1]高一上!A$1:W$612,8,0) -> #N/A | BQ14: =VLOOKUP(A14,[1]高一上!A$1:W$612,9,0) -> #N/A | BR14: =VLOOKUP(A14,[1]高一上!A$1:W$612,10,0) -> #N/A | BS14: =VLOOKUP(A14,[1]高一上!A$1:W$612,17,0) -> #N/A | BT14: =VLOOKUP(A14,[1]高一上!A$1:W$612,18,0) -> #N/A | BU14: =VLOOKUP(A14,[1]高一上!A$1:W$612,19,0) -> #N/A | BV14: =VLOOKUP(A14,[1]高一上!A$1:W$612,20,0) -> #N/A | BW14: =VLOOKUP(A14,[1]高一上!A$1:W$612,21,0) -> #N/A | BX14: =VLOOKUP(A14,[1]高一上!A$1:W$612,22,0) -> #N/A | BY14: =VLOOKUP(A14,[1]中考!A$1:N$590,5,0) -> #N/A | BZ14: =VLOOKUP(A14,[1]中考!A$1:N$590,6,0) -> #N/A | CA14: =VLOOKUP(A14,[1]中考!A$1:N$590,7,0) -> #N/A | CB14: =VLOOKUP(A14,[1]中考!A$1:N$590,11,0) -> #N/A | CC14: =VLOOKUP(A14,[1]中考!A$1:N$590,12,0) -> #N/A | CD14: =VLOOKUP(A14,[1]中考!A$1:N$590,13,0) -> #N/A
A15: 513422200508141111 | B15: 1 | C15: 朱建龙 | D15: 文科 | E15: 107 | F15: 叶屏 | G15: 94 | H15: 余玉红 | I15: 90 | J15: 胡昌燕 | K15: 69 | L15: 卢银楷 | M15: 55 | N15: 胡慧芳 | O15: 54 | P15: 金贵 | Q15: =VLOOKUP(A15,[1]高三上!A$3:Q$629,5,0) -> 119 | R15: =VLOOKUP(A15,[1]高三上!A$3:Q$629,6,0) -> 叶屏 | S15: =VLOOKUP(A15,[1]高三上!A$3:Q$629,7,0) -> 67 | T15: =VLOOKUP(A15,[1]高三上!A$3:Q$629,8,0) -> 余玉红 | U15: =VLOOKUP(A15,[1]高三上!A$3:Q$629,9,0) -> 102.5 | V15: =VLOOKUP(A15,[1]高三上!A$3:Q$629,10,0) -> 胡昌燕 | W15: =VLOOKUP(A15,[1]高三上!A$3:Q$629,11,0) -> 67 | X15: =VLOOKUP(A15,[1]高三上!A$3:Q$629,12,0) -> 卢银楷 | Y15: =VLOOKUP(A15,[1]高三上!A$3:Q$629,13,0) -> 61 | Z15: =VLOOKUP(A15,[1]高三上!A$3:Q$629,14,0) -> 胡慧芳 | AA15: =VLOOKUP(A15,[1]高三上!A$3:Q$629,15,0) -> 51 | AB15: =VLOOKUP(A15,[1]高三上!A$3:Q$629,16,0) -> 金贵 | AC15: =VLOOKUP(A15,[1]高二下!A$1:Q$618,5,0) -> 98 | AD15: =VLOOKUP(A15,[1]高二下!A$1:Q$618,6,0) -> 叶屏 | AE15: =VLOOKUP(A15,[1]高二下!A$1:Q$618,7,0) -> 66.5 | AF15: =VLOOKUP(A15,[1]高二下!A$1:Q$618,8,0) -> 余玉红 | AG15: =VLOOKUP(A15,[1]高二下!A$1:Q$618,9,0) -> 98.5 | AH15: =VLOOKUP(A15,[1]高二下!A$1:Q$618,10,0) -> 胡昌燕 | AI15: =VLOOKUP(A15,[1]高二下!A$1:Q$618,11,0) -> 45.5 | AJ15: =VLOOKUP(A15,[1]高二下!A$1:Q$618,12,0) -> 卢银楷 | AK15: =VLOOKUP(A15,[1]高二下!A$1:Q$618,13,0) -> 55.5 | AL15: =VLOOKUP(A15,[1]高二下!A$1:Q$618,14,0) -> 胡慧芳 | AM15: =VLOOKUP(A15,[1]高二下!A$1:Q$618,15,0) -> 47 | AN15: =VLOOKUP(A15,[1]高二下!A$1:Q$618,16,0) -> 金贵 | AO15: =VLOOKUP(A15,[1]高二上!A$1:Q$571,5,0) -> 102 | AP15: =VLOOKUP(A15,[1]高二上!A$1:Q$571,6,0) -> 叶屏 | AQ15: =VLOOKUP(A15,[1]高二上!A$1:Q$571,7,0) -> 98 | AR15: =VLOOKUP(A15,[1]高二上!A$1:Q$571,8,0) -> 余玉红 | AS15: =VLOOKUP(A15,[1]高二上!A$1:Q$571,9,0) -> 92.5 | AT15: =VLOOKUP(A15,[1]高二上!A$1:Q$571,10,0) -> 胡昌燕 | AU15: =VLOOKUP(A15,[1]高二上!A$1:Q$571,11,0) -> 50 | AV15: =VLOOKUP(A15,[1]高二上!A$1:Q$571,12,0) -> 卢银楷 | AW15: =VLOOKUP(A15,[1]高二上!A$1:Q$571,13,0) -> 79 | AX15: =VLOOKUP(A15,[1]高二上!A$1:Q$571,14,0) -> 胡慧芳 | AY15: =VLOOKUP(A15,[1]高二上!A$1:Q$571,15,0) -> 67 | AZ15: =VLOOKUP(A15,[1]高二上!A$1:Q$571,16,0) -> 金贵 | BA15: =VLOOKUP(A15,[1]高一下!$A$1:$Q$584,5,0) -> 94 | BB15: =VLOOKUP(A15,[1]高一下!$A$1:$Q$584,6,0) -> 叶屏 | BC15: =VLOOKUP(A15,[1]高一下!$A$1:$Q$584,7,0) -> 76 | BD15: =VLOOKUP(A15,[1]高一下!$A$1:$Q$584,8,0) -> 余玉红 | BE15: =VLOOKUP(A15,[1]高一下!$A$1:$Q$584,9,0) -> 85.5 | BF15: =VLOOKUP(A15,[1]高一下!$A$1:$Q$584,10,0) -> 胡昌燕 | BG15: =VLOOKUP(A15,[1]高一下!$A$1:$Q$584,11,0) -> 60 | BH15: =VLOOKUP(A15,[1]高一下!$A$1:$Q$584,12,0) -> 杨吉华 | BI15: =VLOOKUP(A15,[1]高一下!$A$1:$Q$584,13,0) -> 50 | BJ15: =VLOOKUP(A15,[1]高一下!$A$1:$Q$584,14,0) -> 胡慧芳 | BK15: =VLOOKUP(A15,[1]高一下!$A$1:$Q$584,15,0) -> 59 | BL15: =VLOOKUP(A15,[1]高一下!$A$1:$Q$584,16,0) -> 金贵 | BM15: =VLOOKUP(A15,[1]高一上!A$1:W$612,5,0) -> 67 | BN15: =VLOOKUP(A15,[1]高一上!A$1:W$612,6,0) -> 叶屏 | BO15: =VLOOKUP(A15,[1]高一上!A$1:W$612,7,0) -> 57 | BP15: =VLOOKUP(A15,[1]高一上!A$1:W$612,8,0) -> 余玉红 | BQ15: =VLOOKUP(A15,[1]高一上!A$1:W$612,9,0) -> 100 | BR15: =VLOOKUP(A15,[1]高一上!A$1:W$612,10,0) -> 胡昌燕 | BS15: =VLOOKUP(A15,[1]高一上!A$1:W$612,17,0) -> 70 | BT15: =VLOOKUP(A15,[1]高一上!A$1:W$612,18,0) -> 杨吉华 | BU15: =VLOOKUP(A15,[1]高一上!A$1:W$612,19,0) -> 39 | BV15: =VLOOKUP(A15,[1]高一上!A$1:W$612,20,0) -> 胡慧芳 | BW15: =VLOOKUP(A15,[1]高一上!A$1:W$612,21,0) -> 51 | BX15: =VLOOKUP(A15,[1]高一上!A$1:W$612,22,0) -> 金贵 | BY15: =VLOOKUP(A15,[1]中考!A$1:N$590,5,0) -> 91 | BZ15: =VLOOKUP(A15,[1]中考!A$1:N$590,6,0) -> 65 | CA15: =VLOOKUP(A15,[1]中考!A$1:N$590,7,0) -> 121 | CB15: =VLOOKUP(A15,[1]中考!A$1:N$590,11,0) -> 30 | CC15: =VLOOKUP(A15,[1]中考!A$1:N$590,12,0) -> 28 | CD15: =VLOOKUP(A15,[1]中考!A$1:N$590,13,0) -> 39
... A146: 513422200107034219 | B146: 3 | C146: 阿巴杜基 | D146: 文科 | E146: 100 | F146: 曹霞 | G146: 87 | H146: 余玉红 | I146: 48 | J146: 汪睿 | K146: 60.5 | L146: 赵香才 | M146: 46.5 | N146: 卢银楷 | O146: 49 | P146: 杜基次尔 | Q146: =VLOOKUP(A146,[1]高三上!A$3:Q$629,5,0) -> 88 | R146: =VLOOKUP(A146,[1]高三上!A$3:Q$629,6,0) -> 曹霞 | S146: =VLOOKUP(A146,[1]高三上!A$3:Q$629,7,0) -> 67 | T146: =VLOOKUP(A146,[1]高三上!A$3:Q$629,8,0) -> 余玉红 | U146: =VLOOKUP(A146,[1]高三上!A$3:Q$629,9,0) -> 43.5 | V146: =VLOOKUP(A146,[1]高三上!A$3:Q$629,10,0) -> 汪睿 | W146: =VLOOKUP(A146,[1]高三上!A$3:Q$629,11,0) -> 45 | X146: =VLOOKUP(A146,[1]高三上!A$3:Q$629,12,0) -> 卢银楷 | Y146: =VLOOKUP(A146,[1]高三上!A$3:Q$629,13,0) -> 46 | Z146: =VLOOKUP(A146,[1]高三上!A$3:Q$629,14,0) -> 赵香才 | AA146: =VLOOKUP(A146,[1]高三上!A$3:Q$629,15,0) -> 34 | AB146: =VLOOKUP(A146,[1]高三上!A$3:Q$629,16,0) -> 杜基次尔 | AC146: =VLOOKUP(A146,[1]高二下!A$1:Q$618,5,0) -> 92 | AD146: =VLOOKUP(A146,[1]高二下!A$1:Q$618,6,0) -> 何光红 | AE146: =VLOOKUP(A146,[1]高二下!A$1:Q$618,7,0) -> 74 | AF146: =VLOOKUP(A146,[1]高二下!A$1:Q$618,8,0) -> 余玉红 | AG146: =VLOOKUP(A146,[1]高二下!A$1:Q$618,9,0) -> 66.5 | AH146: =VLOOKUP(A146,[1]高二下!A$1:Q$618,10,0) -> 向翠琳 | AI146: =VLOOKUP(A146,[1]高二下!A$1:Q$618,11,0) -> 47 | AJ146: =VLOOKUP(A146,[1]高二下!A$1:Q$618,12,0) -> 卢银楷 | AK146: =VLOOKUP(A146,[1]高二下!A$1:Q$618,13,0) -> 55 | AL146: =VLOOKUP(A146,[1]高二下!A$1:Q$618,14,0) -> 赵香才 | AM146: =VLOOKUP(A146,[1]高二下!A$1:Q$618,15,0) -> 43.5 | AN146: =VLOOKUP(A146,[1]高二下!A$1:Q$618,16,0) -> 杜基次尔 | AO146: =VLOOKUP(A146,[1]高二上!A$1:Q$571,5,0) -> 85 | AP146: =VLOOKUP(A146,[1]高二上!A$1:Q$571,6,0) -> 何光红 | AQ146: =VLOOKUP(A146,[1]高二上!A$1:Q$571,7,0) -> 87 | AR146: =VLOOKUP(A146,[1]高二上!A$1:Q$571,8,0) -> 余玉红 | AS146: =VLOOKUP(A146,[1]高二上!A$1:Q$571,9,0) -> 47 | AT146: =VLOOKUP(A146,[1]高二上!A$1:Q$571,10,0) -> 向翠琳 | AU146: =VLOOKUP(A146,[1]高二上!A$1:Q$571,11,0) -> 43 | AV146: =VLOOKUP(A146,[1]高二上!A$1:Q$571,12,0) -> 卢银楷 | AW146: =VLOOKUP(A146,[1]高二上!A$1:Q$571,13,0) -> 67 | AX146: =VLOOKUP(A146,[1]高二上!A$1:Q$571,14,0) -> 勾中文 | AY146: =VLOOKUP(A146,[1]高二上!A$1:Q$571,15,0) -> 48 | AZ146: =VLOOKUP(A146,[1]高二上!A$1:Q$571,16,0) -> 杜基次尔 | BA146: =VLOOKUP(A146,[1]高一下!$A$1:$Q$584,5,0) -> #N/A | BB146: =VLOOKUP(A146,[1]高一下!$A$1:$Q$584,6,0) -> #N/A | BC146: =VLOOKUP(A146,[1]高一下!$A$1:$Q$584,7,0) -> #N/A | BD146: =VLOOKUP(A146,[1]高一下!$A$1:$Q$584,8,0) -> #N/A | BE146: =VLOOKUP(A146,[1]高一下!$A$1:$Q$584,9,0) -> #N/A | BF146: =VLOOKUP(A146,[1]高一下!$A$1:$Q$584,10,0) -> #N/A | BG146: =VLOOKUP(A146,[1]高一下!$A$1:$Q$584,11,0) -> #N/A | BH146: =VLOOKUP(A146,[1]高一下!$A$1:$Q$584,12,0) -> #N/A | BI146: =VLOOKUP(A146,[1]高一下!$A$1:$Q$584,13,0) -> #N/A | BJ146: =VLOOKUP(A146,[1]高一下!$A$1:$Q$584,14,0) -> #N/A | BK146: =VLOOKUP(A146,[1]高一下!$A$1:$Q$584,15,0) -> #N/A | BL146: =VLOOKUP(A146,[1]高一下!$A$1:$Q$584,16,0) -> #N/A | BM146: =VLOOKUP(A146,[1]高一上!A$1:W$612,5,0) -> 73 | BN146: =VLOOKUP(A146,[1]高一上!A$1:W$612,6,0) -> 何苗 | BO146: =VLOOKUP(A146,[1]高一上!A$1:W$612,7,0) -> 70 | BP146: =VLOOKUP(A146,[1]高一上!A$1:W$612,8,0) -> 余玉红 | BQ146: =VLOOKUP(A146,[1]高一上!A$1:W$612,9,0) -> 44.5 | BR146: =VLOOKUP(A146,[1]高一上!A$1:W$612,10,0) -> 邵晖 | BS146: =VLOOKUP(A146,[1]高一上!A$1:W$612,17,0) -> 60 | BT146: =VLOOKUP(A146,[1]高一上!A$1:W$612,18,0) -> 杨吉华 | BU146: =VLOOKUP(A146,[1]高一上!A$1:W$612,19,0) -> 24 | BV146: =VLOOKUP(A146,[1]高一上!A$1:W$612,20,0) -> 勾中文 | BW146: =VLOOKUP(A146,[1]高一上!A$1:W$612,21,0) -> 31 | BX146: =VLOOKUP(A146,[1]高一上!A$1:W$612,22,0) -> 杜基次尔 | BY146: =VLOOKUP(A146,[1]中考!A$1:N$590,5,0) -> 51 | BZ146: =VLOOKUP(A146,[1]中考!A$1:N$590,6,0) -> 64 | CA146: =VLOOKUP(A146,[1]中考!A$1:N$590,7,0) -> 48 | CB146: =VLOOKUP(A146,[1]中考!A$1:N$590,11,0) -> 27 | CC146: =VLOOKUP(A146,[1]中考!A$1:N$590,12,0) -> 32 | CD146: =VLOOKUP(A146,[1]中考!A$1:N$590,13,0) -> 36
A147: 513422200505162523 | B147: 3 | C147: 唐辉翠 | D147: 文科 | E147: 100 | F147: 曹霞 | G147: 57 | H147: 余玉红 | I147: 66 | J147: 汪睿 | K147: 60.5 | L147: 赵香才 | M147: 58.5 | N147: 卢银楷 | P147: 杜基次尔 | Q147: =VLOOKUP(A147,[1]高三上!A$3:Q$629,5,0) -> 90 | R147: =VLOOKUP(A147,[1]高三上!A$3:Q$629,6,0) -> 曹霞 | S147: =VLOOKUP(A147,[1]高三上!A$3:Q$629,7,0) -> 34 | T147: =VLOOKUP(A147,[1]高三上!A$3:Q$629,8,0) -> 余玉红 | U147: =VLOOKUP(A147,[1]高三上!A$3:Q$629,9,0) -> 64.5 | V147: =VLOOKUP(A147,[1]高三上!A$3:Q$629,10,0) -> 汪睿 | W147: =VLOOKUP(A147,[1]高三上!A$3:Q$629,11,0) -> 53 | X147: =VLOOKUP(A147,[1]高三上!A$3:Q$629,12,0) -> 卢银楷 | Y147: =VLOOKUP(A147,[1]高三上!A$3:Q$629,13,0) -> 47 | Z147: =VLOOKUP(A147,[1]高三上!A$3:Q$629,14,0) -> 赵香才 | AA147: =VLOOKUP(A147,[1]高三上!A$3:Q$629,15,0) -> 49 | AB147: =VLOOKUP(A147,[1]高三上!A$3:Q$629,16,0) -> 杜基次尔 | AC147: =VLOOKUP(A147,[1]高二下!A$1:Q$618,5,0) -> 92 | AD147: =VLOOKUP(A147,[1]高二下!A$1:Q$618,6,0) -> 何光红 | AE147: =VLOOKUP(A147,[1]高二下!A$1:Q$618,7,0) -> 44 | AF147: =VLOOKUP(A147,[1]高二下!A$1:Q$618,8,0) -> 余玉红 | AG147: =VLOOKUP(A147,[1]高二下!A$1:Q$618,9,0) -> 49.5 | AH147: =VLOOKUP(A147,[1]高二下!A$1:Q$618,10,0) -> 向翠琳 | AI147: =VLOOKUP(A147,[1]高二下!A$1:Q$618,11,0) -> 43.5 | AJ147: =VLOOKUP(A147,[1]高二下!A$1:Q$618,12,0) -> 卢银楷 | AK147: =VLOOKUP(A147,[1]高二下!A$1:Q$618,13,0) -> 58 | AL147: =VLOOKUP(A147,[1]高二下!A$1:Q$618,14,0) -> 赵香才 | AM147: =VLOOKUP(A147,[1]高二下!A$1:Q$618,15,0) -> 53 | AN147: =VLOOKUP(A147,[1]高二下!A$1:Q$618,16,0) -> 杜基次尔 | AO147: =VLOOKUP(A147,[1]高二上!A$1:Q$571,5,0) -> 96 | AP147: =VLOOKUP(A147,[1]高二上!A$1:Q$571,6,0) -> 何光红 | AQ147: =VLOOKUP(A147,[1]高二上!A$1:Q$571,7,0) -> 36 | AR147: =VLOOKUP(A147,[1]高二上!A$1:Q$571,8,0) -> 余玉红 | AS147: =VLOOKUP(A147,[1]高二上!A$1:Q$571,9,0) -> 66.5 | AT147: =VLOOKUP(A147,[1]高二上!A$1:Q$571,10,0) -> 向翠琳 | AU147: =VLOOKUP(A147,[1]高二上!A$1:Q$571,11,0) -> 49 | AV147: =VLOOKUP(A147,[1]高二上!A$1:Q$571,12,0) -> 卢银楷 | AW147: =VLOOKUP(A147,[1]高二上!A$1:Q$571,13,0) -> 75 | AX147: =VLOOKUP(A147,[1]高二上!A$1:Q$571,14,0) -> 勾中文 | AY147: =VLOOKUP(A147,[1]高二上!A$1:Q$571,15,0) -> 63 | AZ147: =VLOOKUP(A147,[1]高二上!A$1:Q$571,16,0) -> 杜基次尔 | BA147: =VLOOKUP(A147,[1]高一下!$A$1:$Q$584,5,0) -> 93 | BB147: =VLOOKUP(A147,[1]高一下!$A$1:$Q$584,6,0) -> 朱霞 | BC147: =VLOOKUP(A147,[1]高一下!$A$1:$Q$584,7,0) -> 47 | BD147: =VLOOKUP(A147,[1]高一下!$A$1:$Q$584,8,0) -> 余玉红 | BE147: =VLOOKUP(A147,[1]高一下!$A$1:$Q$584,9,0) -> 59 | BF147: =VLOOKUP(A147,[1]高一下!$A$1:$Q$584,10,0) -> 赵顺诚 | BG147: =VLOOKUP(A147,[1]高一下!$A$1:$Q$584,11,0) -> 56 | BH147: =VLOOKUP(A147,[1]高一下!$A$1:$Q$584,12,0) -> 杨吉华 | BI147: =VLOOKUP(A147,[1]高一下!$A$1:$Q$584,13,0) -> 44 | BJ147: =VLOOKUP(A147,[1]高一下!$A$1:$Q$584,14,0) -> 赵香才 | BK147: =VLOOKUP(A147,[1]高一下!$A$1:$Q$584,15,0) -> 62 | BL147: =VLOOKUP(A147,[1]高一下!$A$1:$Q$584,16,0) -> 杜基次尔 | BM147: =VLOOKUP(A147,[1]高一上!A$1:W$612,5,0) -> 71 | BN147: =VLOOKUP(A147,[1]高一上!A$1:W$612,6,0) -> 何苗 | BO147: =VLOOKUP(A147,[1]高一上!A$1:W$612,7,0) -> 30 | BP147: =VLOOKUP(A147,[1]高一上!A$1:W$612,8,0) -> 周军 | BQ147: =VLOOKUP(A147,[1]高一上!A$1:W$612,9,0) -> 53.5 | BR147: =VLOOKUP(A147,[1]高一上!A$1:W$612,10,0) -> 程长寿 | BS147: =VLOOKUP(A147,[1]高一上!A$1:W$612,17,0) -> 23 | BT147: =VLOOKUP(A147,[1]高一上!A$1:W$612,18,0) -> 杨吉华 | BU147: =VLOOKUP(A147,[1]高一上!A$1:W$612,19,0) -> 34 | BV147: =VLOOKUP(A147,[1]高一上!A$1:W$612,20,0) -> 赵香才 | BW147: =VLOOKUP(A147,[1]高一上!A$1:W$612,21,0) -> 27 | BX147: =VLOOKUP(A147,[1]高一上!A$1:W$612,22,0) -> 金贵 | BY147: =VLOOKUP(A147,[1]中考!A$1:N$590,5,0) -> 92 | BZ147: =VLOOKUP(A147,[1]中考!A$1:N$590,6,0) -> 72 | CA147: =VLOOKUP(A147,[1]中考!A$1:N$590,7,0) -> 74 | CB147: =VLOOKUP(A147,[1]中考!A$1:N$590,11,0) -> 30 | CC147: =VLOOKUP(A147,[1]中考!A$1:N$590,12,0) -> 33 | CD147: =VLOOKUP(A147,[1]中考!A$1:N$590,13,0) -> 44
A148: 513422200312082519 | B148: 3 | C148: 扎西尼玛 | D148: 文科 | E148: 93 | F148: 曹霞 | G148: 90 | H148: 余玉红 | I148: 55 | J148: 汪睿 | K148: 61 | L148: 赵香才 | M148: 48.5 | N148: 卢银楷 | O148: 37 | P148: 杜基次尔 | Q148: =VLOOKUP(A148,[1]高三上!A$3:Q$629,5,0) -> #N/A | R148: =VLOOKUP(A148,[1]高三上!A$3:Q$629,6,0) -> #N/A | S148: =VLOOKUP(A148,[1]高三上!A$3:Q$629,7,0) -> #N/A | T148: =VLOOKUP(A148,[1]高三上!A$3:Q$629,8,0) -> #N/A | U148: =VLOOKUP(A148,[1]高三上!A$3:Q$629,9,0) -> #N/A | V148: =VLOOKUP(A148,[1]高三上!A$3:Q$629,10,0) -> #N/A | W148: =VLOOKUP(A148,[1]高三上!A$3:Q$629,11,0) -> #N/A | X148: =VLOOKUP(A148,[1]高三上!A$3:Q$629,12,0) -> #N/A | Y148: =VLOOKUP(A148,[1]高三上!A$3:Q$629,13,0) -> #N/A | Z148: =VLOOKUP(A148,[1]高三上!A$3:Q$629,14,0) -> #N/A | AA148: =VLOOKUP(A148,[1]高三上!A$3:Q$629,15,0) -> #N/A | AB148: =VLOOKUP(A148,[1]高三上!A$3:Q$629,16,0) -> #N/A | AC148: =VLOOKUP(A148,[1]高二下!A$1:Q$618,5,0) -> 89 | AD148: =VLOOKUP(A148,[1]高二下!A$1:Q$618,6,0) -> 何光红 | AE148: =VLOOKUP(A148,[1]高二下!A$1:Q$618,7,0) -> 66 | AF148: =VLOOKUP(A148,[1]高二下!A$1:Q$618,8,0) -> 余玉红 | AG148: =VLOOKUP(A148,[1]高二下!A$1:Q$618,9,0) -> 48.5 | AH148: =VLOOKUP(A148,[1]高二下!A$1:Q$618,10,0) -> 向翠琳 | AI148: =VLOOKUP(A148,[1]高二下!A$1:Q$618,11,0) -> 50.5 | AJ148: =VLOOKUP(A148,[1]高二下!A$1:Q$618,12,0) -> 卢银楷 | AK148: =VLOOKUP(A148,[1]高二下!A$1:Q$618,13,0) -> 54 | AL148: =VLOOKUP(A148,[1]高二下!A$1:Q$618,14,0) -> 赵香才 | AM148: =VLOOKUP(A148,[1]高二下!A$1:Q$618,15,0) -> 28.5 | AN148: =VLOOKUP(A148,[1]高二下!A$1:Q$618,16,0) -> 杜基次尔 | AO148: =VLOOKUP(A148,[1]高二上!A$1:Q$571,5,0) -> #N/A | AP148: =VLOOKUP(A148,[1]高二上!A$1:Q$571,6,0) -> #N/A | AQ148: =VLOOKUP(A148,[1]高二上!A$1:Q$571,7,0) -> #N/A | AR148: =VLOOKUP(A148,[1]高二上!A$1:Q$571,8,0) -> #N/A | AS148: =VLOOKUP(A148,[1]高二上!A$1:Q$571,9,0) -> #N/A | AT148: =VLOOKUP(A148,[1]高二上!A$1:Q$571,10,0) -> #N/A | AU148: =VLOOKUP(A148,[1]高二上!A$1:Q$571,11,0) -> #N/A | AV148: =VLOOKUP(A148,[1]高二上!A$1:Q$571,12,0) -> #N/A | AW148: =VLOOKUP(A148,[1]高二上!A$1:Q$571,13,0) -> #N/A | AX148: =VLOOKUP(A148,[1]高二上!A$1:Q$571,14,0) -> #N/A | AY148: =VLOOKUP(A148,[1]高二上!A$1:Q$571,15,0) -> #N/A | AZ148: =VLOOKUP(A148,[1]高二上!A$1:Q$571,16,0) -> #N/A | BA148: =VLOOKUP(A148,[1]高一下!$A$1:$Q$584,5,0) -> #N/A | BB148: =VLOOKUP(A148,[1]高一下!$A$1:$Q$584,6,0) -> #N/A | BC148: =VLOOKUP(A148,[1]高一下!$A$1:$Q$584,7,0) -> #N/A | BD148: =VLOOKUP(A148,[1]高一下!$A$1:$Q$584,8,0) -> #N/A | BE148: =VLOOKUP(A148,[1]高一下!$A$1:$Q$584,9,0) -> #N/A | BF148: =VLOOKUP(A148,[1]高一下!$A$1:$Q$584,10,0) -> #N/A | BG148: =VLOOKUP(A148,[1]高一下!$A$1:$Q$584,11,0) -> #N/A | BH148: =VLOOKUP(A148,[1]高一下!$A$1:$Q$584,12,0) -> #N/A | BI148: =VLOOKUP(A148,[1]高一下!$A$1:$Q$584,13,0) -> #N/A | BJ148: =VLOOKUP(A148,[1]高一下!$A$1:$Q$584,14,0) -> #N/A | BK148: =VLOOKUP(A148,[1]高一下!$A$1:$Q$584,15,0) -> #N/A | BL148: =VLOOKUP(A148,[1]高一下!$A$1:$Q$584,16,0) -> #N/A | BM148: =VLOOKUP(A148,[1]高一上!A$1:W$612,5,0) -> #N/A | BN148: =VLOOKUP(A148,[1]高一上!A$1:W$612,6,0) -> #N/A | BO148: =VLOOKUP(A148,[1]高一上!A$1:W$612,7,0) -> #N/A | BP148: =VLOOKUP(A148,[1]高一上!A$1:W$612,8,0) -> #N/A | BQ148: =VLOOKUP(A148,[1]高一上!A$1:W$612,9,0) -> #N/A | BR148: =VLOOKUP(A148,[1]高一上!A$1:W$612,10,0) -> #N/A | BS148: =VLOOKUP(A148,[1]高一上!A$1:W$612,17,0) -> #N/A | BT148: =VLOOKUP(A148,[1]高一上!A$1:W$612,18,0) -> #N/A | BU148: =VLOOKUP(A148,[1]高一上!A$1:W$612,19,0) -> #N/A | BV148: =VLOOKUP(A148,[1]高一上!A$1:W$612,20,0) -> #N/A | BW148: =VLOOKUP(A148,[1]高一上!A$1:W$612,21,0) -> #N/A | BX148: =VLOOKUP(A148,[1]高一上!A$1:W$612,22,0) -> #N/A | BY148: =VLOOKUP(A148,[1]中考!A$1:N$590,5,0) -> #N/A | BZ148: =VLOOKUP(A148,[1]中考!A$1:N$590,6,0) -> #N/A | CA148: =VLOOKUP(A148,[1]中考!A$1:N$590,7,0) -> #N/A | CB148: =VLOOKUP(A148,[1]中考!A$1:N$590,11,0) -> #N/A | CC148: =VLOOKUP(A148,[1]中考!A$1:N$590,12,0) -> #N/A | CD148: =VLOOKUP(A148,[1]中考!A$1:N$590,13,0) -> #N/A
A149: 513422200205242724 | B149: 3 | C149: 邱国英 | D149: 文科 | E149: 90 | F149: 曹霞 | G149: 70 | H149: 余玉红 | I149: 69 | J149: 汪睿 | K149: 60.5 | L149: 赵香才 | M149: 56.5 | N149: 卢银楷 | O149: 38 | P149: 杜基次尔 | Q149: =VLOOKUP(A149,[1]高三上!A$3:Q$629,5,0) -> 79 | R149: =VLOOKUP(A149,[1]高三上!A$3:Q$629,6,0) -> 曹霞 | S149: =VLOOKUP(A149,[1]高三上!A$3:Q$629,7,0) -> 48 | T149: =VLOOKUP(A149,[1]高三上!A$3:Q$629,8,0) -> 余玉红 | U149: =VLOOKUP(A149,[1]高三上!A$3:Q$629,9,0) -> 70 | V149: =VLOOKUP(A149,[1]高三上!A$3:Q$629,10,0) -> 汪睿 | W149: =VLOOKUP(A149,[1]高三上!A$3:Q$629,11,0) -> 48 | X149: =VLOOKUP(A149,[1]高三上!A$3:Q$629,12,0) -> 卢银楷 | Y149: =VLOOKUP(A149,[1]高三上!A$3:Q$629,13,0) -> 33 | Z149: =VLOOKUP(A149,[1]高三上!A$3:Q$629,14,0) -> 赵香才 | AA149: =VLOOKUP(A149,[1]高三上!A$3:Q$629,15,0) -> 35 | AB149: =VLOOKUP(A149,[1]高三上!A$3:Q$629,16,0) -> 杜基次尔 | AC149: =VLOOKUP(A149,[1]高二下!A$1:Q$618,5,0) -> 82 | AD149: =VLOOKUP(A149,[1]高二下!A$1:Q$618,6,0) -> 何光红 | AE149: =VLOOKUP(A149,[1]高二下!A$1:Q$618,7,0) -> 50.5 | AF149: =VLOOKUP(A149,[1]高二下!A$1:Q$618,8,0) -> 余玉红 | AG149: =VLOOKUP(A149,[1]高二下!A$1:Q$618,9,0) -> 54.5 | AH149: =VLOOKUP(A149,[1]高二下!A$1:Q$618,10,0) -> 向翠琳 | AI149: =VLOOKUP(A149,[1]高二下!A$1:Q$618,11,0) -> 55.5 | AJ149: =VLOOKUP(A149,[1]高二下!A$1:Q$618,12,0) -> 卢银楷 | AK149: =VLOOKUP(A149,[1]高二下!A$1:Q$618,13,0) -> 49 | AL149: =VLOOKUP(A149,[1]高二下!A$1:Q$618,14,0) -> 赵香才 | AM149: =VLOOKUP(A149,[1]高二下!A$1:Q$618,15,0) -> 29.5 | AN149: =VLOOKUP(A149,[1]高二下!A$1:Q$618,16,0) -> 杜基次尔 | AO149: =VLOOKUP(A149,[1]高二上!A$1:Q$571,5,0) -> 83 | AP149: =VLOOKUP(A149,[1]高二上!A$1:Q$571,6,0) -> 何光红 | AQ149: =VLOOKUP(A149,[1]高二上!A$1:Q$571,7,0) -> 63 | AR149: =VLOOKUP(A149,[1]高二上!A$1:Q$571,8,0) -> 余玉红 | AS149: =VLOOKUP(A149,[1]高二上!A$1:Q$571,9,0) -> 64.5 | AT149: =VLOOKUP(A149,[1]高二上!A$1:Q$571,10,0) -> 向翠琳 | AU149: =VLOOKUP(A149,[1]高二上!A$1:Q$571,11,0) -> 67 | AV149: =VLOOKUP(A149,[1]高二上!A$1:Q$571,12,0) -> 卢银楷 | AW149: =VLOOKUP(A149,[1]高二上!A$1:Q$571,13,0) -> 66 | AX149: =VLOOKUP(A149,[1]高二上!A$1:Q$571,14,0) -> 勾中文 | AY149: =VLOOKUP(A149,[1]高二上!A$1:Q$571,15,0) -> 40 | AZ149: =VLOOKUP(A149,[1]高二上!A$1:Q$571,16,0) -> 杜基次尔 | BA149: =VLOOKUP(A149,[1]高一下!$A$1:$Q$584,5,0) -> 77 | BB149: =VLOOKUP(A149,[1]高一下!$A$1:$Q$584,6,0) -> 朱霞 | BC149: =VLOOKUP(A149,[1]高一下!$A$1:$Q$584,7,0) -> 72 | BD149: =VLOOKUP(A149,[1]高一下!$A$1:$Q$584,8,0) -> 余玉红 | BE149: =VLOOKUP(A149,[1]高一下!$A$1:$Q$584,9,0) -> 73.5 | BF149: =VLOOKUP(A149,[1]高一下!$A$1:$Q$584,10,0) -> 赵顺诚 | BG149: =VLOOKUP(A149,[1]高一下!$A$1:$Q$584,11,0) -> 47 | BH149: =VLOOKUP(A149,[1]高一下!$A$1:$Q$584,12,0) -> 杨吉华 | BI149: =VLOOKUP(A149,[1]高一下!$A$1:$Q$584,13,0) -> 50 | BJ149: =VLOOKUP(A149,[1]高一下!$A$1:$Q$584,14,0) -> 赵香才 | BK149: =VLOOKUP(A149,[1]高一下!$A$1:$Q$584,15,0) -> 44 | BL149: =VLOOKUP(A149,[1]高一下!$A$1:$Q$584,16,0) -> 杜基次尔 | BM149: =VLOOKUP(A149,[1]高一上!A$1:W$612,5,0) -> 61 | BN149: =VLOOKUP(A149,[1]高一上!A$1:W$612,6,0) -> 何苗 | BO149: =VLOOKUP(A149,[1]高一上!A$1:W$612,7,0) -> 49 | BP149: =VLOOKUP(A149,[1]高一上!A$1:W$612,8,0) -> 余玉红 | BQ149: =VLOOKUP(A149,[1]高一上!A$1:W$612,9,0) -> 50 | BR149: =VLOOKUP(A149,[1]高一上!A$1:W$612,10,0) -> 邵晖 | BS149: =VLOOKUP(A149,[1]高一上!A$1:W$612,17,0) -> 38 | BT149: =VLOOKUP(A149,[1]高一上!A$1:W$612,18,0) -> 杨吉华 | BU149: =VLOOKUP(A149,[1]高一上!A$1:W$612,19,0) -> 32 | BV149: =VLOOKUP(A149,[1]高一上!A$1:W$612,20,0) -> 勾中文 | BW149: =VLOOKUP(A149,[1]高一上!A$1:W$612,21,0) -> 34 | BX149: =VLOOKUP(A149,[1]高一上!A$1:W$612,22,0) -> 杜基次尔 | BY149: =VLOOKUP(A149,[1]中考!A$1:N$590,5,0) -> 72 | BZ149: =VLOOKUP(A149,[1]中考!A$1:N$590,6,0) -> 58 | CA149: =VLOOKUP(A149,[1]中考!A$1:N$590,7,0) -> 85 | CB149: =VLOOKUP(A149,[1]中考!A$1:N$590,11,0) -> 34 | CC149: =VLOOKUP(A149,[1]中考!A$1:N$590,12,0) -> 28 | CD149: =VLOOKUP(A149,[1]中考!A$1:N$590,13,0) -> 29
A150: 513422200201160019 | B150: 3 | C150: 马林凯 | D150: 文科 | E150: 97 | F150: 曹霞 | G150: 52 | H150: 余玉红 | I150: 67 | J150: 汪睿 | K150: 61 | L150: 赵香才 | M150: 52.5 | N150: 卢银楷 | O150: 54 | P150: 杜基次尔 | Q150: =VLOOKUP(A150,[1]高三上!A$3:Q$629,5,0) -> 79 | R150: =VLOOKUP(A150,[1]高三上!A$3:Q$629,6,0) -> 曹霞 | S150: =VLOOKUP(A150,[1]高三上!A$3:Q$629,7,0) -> 43 | T150: =VLOOKUP(A150,[1]高三上!A$3:Q$629,8,0) -> 余玉红 | U150: =VLOOKUP(A150,[1]高三上!A$3:Q$629,9,0) -> 40 | V150: =VLOOKUP(A150,[1]高三上!A$3:Q$629,10,0) -> 汪睿 | W150: =VLOOKUP(A150,[1]高三上!A$3:Q$629,11,0) -> 43 | X150: =VLOOKUP(A150,[1]高三上!A$3:Q$629,12,0) -> 卢银楷 | Y150: =VLOOKUP(A150,[1]高三上!A$3:Q$629,13,0) -> 51 | Z150: =VLOOKUP(A150,[1]高三上!A$3:Q$629,14,0) -> 赵香才 | AA150: =VLOOKUP(A150,[1]高三上!A$3:Q$629,15,0) -> 54 | AB150: =VLOOKUP(A150,[1]高三上!A$3:Q$629,16,0) -> 杜基次尔 | AC150: =VLOOKUP(A150,[1]高二下!A$1:Q$618,5,0) -> 88.5 | AD150: =VLOOKUP(A150,[1]高二下!A$1:Q$618,6,0) -> 何光红 | AE150: =VLOOKUP(A150,[1]高二下!A$1:Q$618,7,0) -> 48 | AF150: =VLOOKUP(A150,[1]高二下!A$1:Q$618,8,0) -> 余玉红 | AG150: =VLOOKUP(A150,[1]高二下!A$1:Q$618,9,0) -> 62.5 | AH150: =VLOOKUP(A150,[1]高二下!A$1:Q$618,10,0) -> 向翠琳 | AI150: =VLOOKUP(A150,[1]高二下!A$1:Q$618,11,0) -> 49.5 | AJ150: =VLOOKUP(A150,[1]高二下!A$1:Q$618,12,0) -> 卢银楷 | AK150: =VLOOKUP(A150,[1]高二下!A$1:Q$618,13,0) -> 47 | AL150: =VLOOKUP(A150,[1]高二下!A$1:Q$618,14,0) -> 赵香才 | AM150: =VLOOKUP(A150,[1]高二下!A$1:Q$618,15,0) -> 42 | AN150: =VLOOKUP(A150,[1]高二下!A$1:Q$618,16,0) -> 杜基次尔 | AO150: =VLOOKUP(A150,[1]高二上!A$1:Q$571,5,0) -> 94 | AP150: =VLOOKUP(A150,[1]高二上!A$1:Q$571,6,0) -> 何光红 | AQ150: =VLOOKUP(A150,[1]高二上!A$1:Q$571,7,0) -> 49 | AR150: =VLOOKUP(A150,[1]高二上!A$1:Q$571,8,0) -> 余玉红 | AS150: =VLOOKUP(A150,[1]高二上!A$1:Q$571,9,0) -> 62.5 | AT150: =VLOOKUP(A150,[1]高二上!A$1:Q$571,10,0) -> 向翠琳 | AU150: =VLOOKUP(A150,[1]高二上!A$1:Q$571,11,0) -> 39 | AV150: =VLOOKUP(A150,[1]高二上!A$1:Q$571,12,0) -> 卢银楷 | AW150: =VLOOKUP(A150,[1]高二上!A$1:Q$571,13,0) -> 67 | AX150: =VLOOKUP(A150,[1]高二上!A$1:Q$571,14,0) -> 勾中文 | AY150: =VLOOKUP(A150,[1]高二上!A$1:Q$571,15,0) -> 51 | AZ150: =VLOOKUP(A150,[1]高二上!A$1:Q$571,16,0) -> 杜基次尔 | BA150: =VLOOKUP(A150,[1]高一下!$A$1:$Q$584,5,0) -> 91 | BB150: =VLOOKUP(A150,[1]高一下!$A$1:$Q$584,6,0) -> 朱霞 | BC150: =VLOOKUP(A150,[1]高一下!$A$1:$Q$584,7,0) -> 95 | BD150: =VLOOKUP(A150,[1]高一下!$A$1:$Q$584,8,0) -> 余玉红 | BE150: =VLOOKUP(A150,[1]高一下!$A$1:$Q$584,9,0) -> 59.5 | BF150: =VLOOKUP(A150,[1]高一下!$A$1:$Q$584,10,0) -> 赵顺诚 | BG150: =VLOOKUP(A150,[1]高一下!$A$1:$Q$584,11,0) -> 58 | BH150: =VLOOKUP(A150,[1]高一下!$A$1:$Q$584,12,0) -> 杨吉华 | BI150: =VLOOKUP(A150,[1]高一下!$A$1:$Q$584,13,0) -> 65 | BJ150: =VLOOKUP(A150,[1]高一下!$A$1:$Q$584,14,0) -> 赵香才 | BK150: =VLOOKUP(A150,[1]高一下!$A$1:$Q$584,15,0) -> 61 | BL150: =VLOOKUP(A150,[1]高一下!$A$1:$Q$584,16,0) -> 杜基次尔 | BM150: =VLOOKUP(A150,[1]高一上!A$1:W$612,5,0) -> 71 | BN150: =VLOOKUP(A150,[1]高一上!A$1:W$612,6,0) -> 何苗 | BO150: =VLOOKUP(A150,[1]高一上!A$1:W$612,7,0) -> 56 | BP150: =VLOOKUP(A150,[1]高一上!A$1:W$612,8,0) -> 周军 | BQ150: =VLOOKUP(A150,[1]高一上!A$1:W$612,9,0) -> 43.5 | BR150: =VLOOKUP(A150,[1]高一上!A$1:W$612,10,0) -> 程长寿 | BS150: =VLOOKUP(A150,[1]高一上!A$1:W$612,17,0) -> 47 | BT150: =VLOOKUP(A150,[1]高一上!A$1:W$612,18,0) -> 杨吉华 | BU150: =VLOOKUP(A150,[1]高一上!A$1:W$612,19,0) -> 37 | BV150: =VLOOKUP(A150,[1]高一上!A$1:W$612,20,0) -> 赵香才 | BW150: =VLOOKUP(A150,[1]高一上!A$1:W$612,21,0) -> 60 | BX150: =VLOOKUP(A150,[1]高一上!A$1:W$612,22,0) -> 金贵 | BY150: =VLOOKUP(A150,[1]中考!A$1:N$590,5,0) -> 91 | BZ150: =VLOOKUP(A150,[1]中考!A$1:N$590,6,0) -> 61 | CA150: =VLOOKUP(A150,[1]中考!A$1:N$590,7,0) -> 50 | CB150: =VLOOKUP(A150,[1]中考!A$1:N$590,11,0) -> 30 | CC150: =VLOOKUP(A150,[1]中考!A$1:N$590,12,0) -> 33 | CD150: =VLOOKUP(A150,[1]中考!A$1:N$590,13,0) -> 30
A151: 513422200501236628 | B151: 3 | C151: 格桑拥珍 | D151: 文科 | E151: 103 | F151: 曹霞 | G151: 79 | H151: 余玉红 | I151: 26 | J151: 汪睿 | K151: 65.5 | L151: 赵香才 | M151: 54.5 | N151: 卢银楷 | O151: 55 | P151: 杜基次尔 | Q151: =VLOOKUP(A151,[1]高三上!A$3:Q$629,5,0) -> 98 | R151: =VLOOKUP(A151,[1]高三上!A$3:Q$629,6,0) -> 曹霞 | S151: =VLOOKUP(A151,[1]高三上!A$3:Q$629,7,0) -> 37 | T151: =VLOOKUP(A151,[1]高三上!A$3:Q$629,8,0) -> 余玉红 | U151: =VLOOKUP(A151,[1]高三上!A$3:Q$629,9,0) -> 43 | V151: =VLOOKUP(A151,[1]高三上!A$3:Q$629,10,0) -> 汪睿 | W151: =VLOOKUP(A151,[1]高三上!A$3:Q$629,11,0) -> 58 | X151: =VLOOKUP(A151,[1]高三上!A$3:Q$629,12,0) -> 卢银楷 | Y151: =VLOOKUP(A151,[1]高三上!A$3:Q$629,13,0) -> 40 | Z151: =VLOOKUP(A151,[1]高三上!A$3:Q$629,14,0) -> 赵香才 | AA151: =VLOOKUP(A151,[1]高三上!A$3:Q$629,15,0) -> 46 | AB151: =VLOOKUP(A151,[1]高三上!A$3:Q$629,16,0) -> 杜基次尔 | AC151: =VLOOKUP(A151,[1]高二下!A$1:Q$618,5,0) -> 91.5 | AD151: =VLOOKUP(A151,[1]高二下!A$1:Q$618,6,0) -> 何光红 | AE151: =VLOOKUP(A151,[1]高二下!A$1:Q$618,7,0) -> 58 | AF151: =VLOOKUP(A151,[1]高二下!A$1:Q$618,8,0) -> 余玉红 | AG151: =VLOOKUP(A151,[1]高二下!A$1:Q$618,9,0) -> 27 | AH151: =VLOOKUP(A151,[1]高二下!A$1:Q$618,10,0) -> 向翠琳 | AI151: =VLOOKUP(A151,[1]高二下!A$1:Q$618,11,0) -> 46 | AJ151: =VLOOKUP(A151,[1]高二下!A$1:Q$618,12,0) -> 卢银楷 | AK151: =VLOOKUP(A151,[1]高二下!A$1:Q$618,13,0) -> 51.5 | AL151: =VLOOKUP(A151,[1]高二下!A$1:Q$618,14,0) -> 赵香才 | AM151: =VLOOKUP(A151,[1]高二下!A$1:Q$618,15,0) -> 46.5 | AN151: =VLOOKUP(A151,[1]高二下!A$1:Q$618,16,0) -> 杜基次尔 | AO151: =VLOOKUP(A151,[1]高二上!A$1:Q$571,5,0) -> 85 | AP151: =VLOOKUP(A151,[1]高二上!A$1:Q$571,6,0) -> 何光红 | AQ151: =VLOOKUP(A151,[1]高二上!A$1:Q$571,7,0) -> 51 | AR151: =VLOOKUP(A151,[1]高二上!A$1:Q$571,8,0) -> 余玉红 | AS151: =VLOOKUP(A151,[1]高二上!A$1:Q$571,9,0) -> 37.5 | AT151: =VLOOKUP(A151,[1]高二上!A$1:Q$571,10,0) -> 向翠琳 | AU151: =VLOOKUP(A151,[1]高二上!A$1:Q$571,11,0) -> 41 | AV151: =VLOOKUP(A151,[1]高二上!A$1:Q$571,12,0) -> 卢银楷 | AW151: =VLOOKUP(A151,[1]高二上!A$1:Q$571,13,0) -> 61 | AX151: =VLOOKUP(A151,[1]高二上!A$1:Q$571,14,0) -> 勾中文 | AY151: =VLOOKUP(A151,[1]高二上!A$1:Q$571,15,0) -> 59 | AZ151: =VLOOKUP(A151,[1]高二上!A$1:Q$571,16,0) -> 杜基次尔 | BA151: =VLOOKUP(A151,[1]高一下!$A$1:$Q$584,5,0) -> 73 | BB151: =VLOOKUP(A151,[1]高一下!$A$1:$Q$584,6,0) -> 朱霞 | BC151: =VLOOKUP(A151,[1]高一下!$A$1:$Q$584,7,0) -> 70 | BD151: =VLOOKUP(A151,[1]高一下!$A$1:$Q$584,8,0) -> 余玉红 | BE151: =VLOOKUP(A151,[1]高一下!$A$1:$Q$584,9,0) -> 27 | BF151: =VLOOKUP(A151,[1]高一下!$A$1:$Q$584,10,0) -> 赵顺诚 | BG151: =VLOOKUP(A151,[1]高一下!$A$1:$Q$584,11,0) -> 46 | BH151: =VLOOKUP(A151,[1]高一下!$A$1:$Q$584,12,0) -> 杨吉华 | BI151: =VLOOKUP(A151,[1]高一下!$A$1:$Q$584,13,0) -> 44 | BJ151: =VLOOKUP(A151,[1]高一下!$A$1:$Q$584,14,0) -> 赵香才 | BK151: =VLOOKUP(A151,[1]高一下!$A$1:$Q$584,15,0) -> 48 | BL151: =VLOOKUP(A151,[1]高一下!$A$1:$Q$584,16,0) -> 杜基次尔 | BM151: =VLOOKUP(A151,[1]高一上!A$1:W$612,5,0) -> 68 | BN151: =VLOOKUP(A151,[1]高一上!A$1:W$612,6,0) -> 何苗 | BO151: =VLOOKUP(A151,[1]高一上!A$1:W$612,7,0) -> 41 | BP151: =VLOOKUP(A151,[1]高一上!A$1:W$612,8,0) -> 李希 | BQ151: =VLOOKUP(A151,[1]高一上!A$1:W$612,9,0) -> 34.5 | BR151: =VLOOKUP(A151,[1]高一上!A$1:W$612,10,0) -> 达娃央初 | BS151: =VLOOKUP(A151,[1]高一上!A$1:W$612,17,0) -> 48 | BT151: =VLOOKUP(A151,[1]高一上!A$1:W$612,18,0) -> 马巫各 | BU151: =VLOOKUP(A151,[1]高一上!A$1:W$612,19,0) -> 23 | BV151: =VLOOKUP(A151,[1]高一上!A$1:W$612,20,0) -> 勾中文 | BW151: =VLOOKUP(A151,[1]高一上!A$1:W$612,21,0) -> 27 | BX151: =VLOOKUP(A151,[1]高一上!A$1:W$612,22,0) -> 骆泽群 | BY151: =VLOOKUP(A151,[1]中考!A$1:N$590,5,0) -> 86 | BZ151: =VLOOKUP(A151,[1]中考!A$1:N$590,6,0) -> 84 | CA151: =VLOOKUP(A151,[1]中考!A$1:N$590,7,0) -> 59 | CB151: =VLOOKUP(A151,[1]中考!A$1:N$590,11,0) -> 19 | CC151: =VLOOKUP(A151,[1]中考!A$1:N$590,12,0) -> 32 | CD151: =VLOOKUP(A151,[1]中考!A$1:N$590,13,0) -> 23
A152: 513422200001014826 | B152: 3 | C152: 扎西拉初 | D152: 文科 | E152: 94 | F152: 曹霞 | G152: 81 | H152: 余玉红 | I152: 52 | J152: 汪睿 | K152: 45.5 | L152: 赵香才 | M152: 48 | N152: 卢银楷 | O152: 49 | P152: 杜基次尔 | Q152: =VLOOKUP(A152,[1]高三上!A$3:Q$629,5,0) -> 83 | R152: =VLOOKUP(A152,[1]高三上!A$3:Q$629,6,0) -> 曹霞 | S152: =VLOOKUP(A152,[1]高三上!A$3:Q$629,7,0) -> 64 | T152: =VLOOKUP(A152,[1]高三上!A$3:Q$629,8,0) -> 余玉红 | U152: =VLOOKUP(A152,[1]高三上!A$3:Q$629,9,0) -> 66.5 | V152: =VLOOKUP(A152,[1]高三上!A$3:Q$629,10,0) -> 汪睿 | W152: =VLOOKUP(A152,[1]高三上!A$3:Q$629,11,0) -> 49 | X152: =VLOOKUP(A152,[1]高三上!A$3:Q$629,12,0) -> 卢银楷 | Y152: =VLOOKUP(A152,[1]高三上!A$3:Q$629,13,0) -> 30 | Z152: =VLOOKUP(A152,[1]高三上!A$3:Q$629,14,0) -> 赵香才 | AA152: =VLOOKUP(A152,[1]高三上!A$3:Q$629,15,0) -> 37 | AB152: =VLOOKUP(A152,[1]高三上!A$3:Q$629,16,0) -> 杜基次尔 | AC152: =VLOOKUP(A152,[1]高二下!A$1:Q$618,5,0) -> 78 | AD152: =VLOOKUP(A152,[1]高二下!A$1:Q$618,6,0) -> 何光红 | AE152: =VLOOKUP(A152,[1]高二下!A$1:Q$618,7,0) -> 82 | AF152: =VLOOKUP(A152,[1]高二下!A$1:Q$618,8,0) -> 余玉红 | AG152: =VLOOKUP(A152,[1]高二下!A$1:Q$618,9,0) -> 67.5 | AH152: =VLOOKUP(A152,[1]高二下!A$1:Q$618,10,0) -> 向翠琳 | AI152: =VLOOKUP(A152,[1]高二下!A$1:Q$618,11,0) -> 41 | AJ152: =VLOOKUP(A152,[1]高二下!A$1:Q$618,12,0) -> 卢银楷 | AK152: =VLOOKUP(A152,[1]高二下!A$1:Q$618,13,0) -> 38.5 | AL152: =VLOOKUP(A152,[1]高二下!A$1:Q$618,14,0) -> 赵香才 | AM152: =VLOOKUP(A152,[1]高二下!A$1:Q$618,15,0) -> 55.5 | AN152: =VLOOKUP(A152,[1]高二下!A$1:Q$618,16,0) -> 杜基次尔 | AO152: =VLOOKUP(A152,[1]高二上!A$1:Q$571,5,0) -> 72 | AP152: =VLOOKUP(A152,[1]高二上!A$1:Q$571,6,0) -> 何光红 | AQ152: =VLOOKUP(A152,[1]高二上!A$1:Q$571,7,0) -> 112 | AR152: =VLOOKUP(A152,[1]高二上!A$1:Q$571,8,0) -> 余玉红 | AS152: =VLOOKUP(A152,[1]高二上!A$1:Q$571,9,0) -> 88 | AT152: =VLOOKUP(A152,[1]高二上!A$1:Q$571,10,0) -> 向翠琳 | AU152: =VLOOKUP(A152,[1]高二上!A$1:Q$571,11,0) -> 54 | AV152: =VLOOKUP(A152,[1]高二上!A$1:Q$571,12,0) -> 卢银楷 | AW152: =VLOOKUP(A152,[1]高二上!A$1:Q$571,13,0) -> 61 | AX152: =VLOOKUP(A152,[1]高二上!A$1:Q$571,14,0) -> 勾中文 | AY152: =VLOOKUP(A152,[1]高二上!A$1:Q$571,15,0) -> 48 | AZ152: =VLOOKUP(A152,[1]高二上!A$1:Q$571,16,0) -> 杜基次尔 | BA152: =VLOOKUP(A152,[1]高一下!$A$1:$Q$584,5,0) -> 72 | BB152: =VLOOKUP(A152,[1]高一下!$A$1:$Q$584,6,0) -> 朱霞 | BC152: =VLOOKUP(A152,[1]高一下!$A$1:$Q$584,7,0) -> 114 | BD152: =VLOOKUP(A152,[1]高一下!$A$1:$Q$584,8,0) -> 余玉红 | BE152: =VLOOKUP(A152,[1]高一下!$A$1:$Q$584,9,0) -> 73 | BF152: =VLOOKUP(A152,[1]高一下!$A$1:$Q$584,10,0) -> 赵顺诚 | BG152: =VLOOKUP(A152,[1]高一下!$A$1:$Q$584,11,0) -> 47 | BH152: =VLOOKUP(A152,[1]高一下!$A$1:$Q$584,12,0) -> 杨吉华 | BI152: =VLOOKUP(A152,[1]高一下!$A$1:$Q$584,13,0) -> 44 | BJ152: =VLOOKUP(A152,[1]高一下!$A$1:$Q$584,14,0) -> 赵香才 | BK152: =VLOOKUP(A152,[1]高一下!$A$1:$Q$584,15,0) -> 54 | BL152: =VLOOKUP(A152,[1]高一下!$A$1:$Q$584,16,0) -> 杜基次尔 | BM152: =VLOOKUP(A152,[1]高一上!A$1:W$612,5,0) -> 74 | BN152: =VLOOKUP(A152,[1]高一上!A$1:W$612,6,0) -> 何苗 | BO152: =VLOOKUP(A152,[1]高一上!A$1:W$612,7,0) -> 82 | BP152: =VLOOKUP(A152,[1]高一上!A$1:W$612,8,0) -> 余玉红 | BQ152: =VLOOKUP(A152,[1]高一上!A$1:W$612,9,0) -> 54.5 | BR152: =VLOOKUP(A152,[1]高一上!A$1:W$612,10,0) -> 邵晖 | BS152: =VLOOKUP(A152,[1]高一上!A$1:W$612,17,0) -> 68 | BT152: =VLOOKUP(A152,[1]高一上!A$1:W$612,18,0) -> 杨吉华 | BU152: =VLOOKUP(A152,[1]高一上!A$1:W$612,19,0) -> 41 | BV152: =VLOOKUP(A152,[1]高一上!A$1:W$612,20,0) -> 勾中文 | BW152: =VLOOKUP(A152,[1]高一上!A$1:W$612,21,0) -> 41 | BX152: =VLOOKUP(A152,[1]高一上!A$1:W$612,22,0) -> 杜基次尔 | BY152: =VLOOKUP(A152,[1]中考!A$1:N$590,5,0) -> 92 | BZ152: =VLOOKUP(A152,[1]中考!A$1:N$590,6,0) -> 79 | CA152: =VLOOKUP(A152,[1]中考!A$1:N$590,7,0) -> 56 | CB152: =VLOOKUP(A152,[1]中考!A$1:N$590,11,0) -> 21 | CC152: =VLOOKUP(A152,[1]中考!A$1:N$590,12,0) -> 26 | CD152: =VLOOKUP(A152,[1]中考!A$1:N$590,13,0) -> 29
A153: 513422200404256627 | B153: 3 | C153: 祝玛 | D153: 文科 | E153: 91 | F153: 曹霞 | G153: 59 | H153: 余玉红 | I153: 51 | J153: 汪睿 | K153: 66 | L153: 赵香才 | M153: 62 | N153: 卢银楷 | O153: 41 | P153: 杜基次尔 | Q153: =VLOOKUP(A153,[1]高三上!A$3:Q$629,5,0) -> 94 | R153: =VLOOKUP(A153,[1]高三上!A$3:Q$629,6,0) -> 曹霞 | S153: =VLOOKUP(A153,[1]高三上!A$3:Q$629,7,0) -> 41 | T153: =VLOOKUP(A153,[1]高三上!A$3:Q$629,8,0) -> 余玉红 | U153: =VLOOKUP(A153,[1]高三上!A$3:Q$629,9,0) -> 55 | V153: =VLOOKUP(A153,[1]高三上!A$3:Q$629,10,0) -> 汪睿 | W153: =VLOOKUP(A153,[1]高三上!A$3:Q$629,11,0) -> 57 | X153: =VLOOKUP(A153,[1]高三上!A$3:Q$629,12,0) -> 卢银楷 | Y153: =VLOOKUP(A153,[1]高三上!A$3:Q$629,13,0) -> 59 | Z153: =VLOOKUP(A153,[1]高三上!A$3:Q$629,14,0) -> 赵香才 | AA153: =VLOOKUP(A153,[1]高三上!A$3:Q$629,15,0) -> 22 | AB153: =VLOOKUP(A153,[1]高三上!A$3:Q$629,16,0) -> 杜基次尔 | AC153: =VLOOKUP(A153,[1]高二下!A$1:Q$618,5,0) -> 104 | AD153: =VLOOKUP(A153,[1]高二下!A$1:Q$618,6,0) -> 何光红 | AE153: =VLOOKUP(A153,[1]高二下!A$1:Q$618,7,0) -> 37.5 | AF153: =VLOOKUP(A153,[1]高二下!A$1:Q$618,8,0) -> 余玉红 | AG153: =VLOOKUP(A153,[1]高二下!A$1:Q$618,9,0) -> 59.5 | AH153: =VLOOKUP(A153,[1]高二下!A$1:Q$618,10,0) -> 向翠琳 | AI153: =VLOOKUP(A153,[1]高二下!A$1:Q$618,11,0) -> 62.5 | AJ153: =VLOOKUP(A153,[1]高二下!A$1:Q$618,12,0) -> 卢银楷 | AK153: =VLOOKUP(A153,[1]高二下!A$1:Q$618,13,0) -> 65 | AL153: =VLOOKUP(A153,[1]高二下!A$1:Q$618,14,0) -> 赵香才 | AM153: =VLOOKUP(A153,[1]高二下!A$1:Q$618,15,0) -> 36 | AN153: =VLOOKUP(A153,[1]高二下!A$1:Q$618,16,0) -> 杜基次尔 | AO153: =VLOOKUP(A153,[1]高二上!A$1:Q$571,5,0) -> 96 | AP153: =VLOOKUP(A153,[1]高二上!A$1:Q$571,6,0) -> 何光红 | AQ153: =VLOOKUP(A153,[1]高二上!A$1:Q$571,7,0) -> 38 | AR153: =VLOOKUP(A153,[1]高二上!A$1:Q$571,8,0) -> 余玉红 | AS153: =VLOOKUP(A153,[1]高二上!A$1:Q$571,9,0) -> 59.5 | AT153: =VLOOKUP(A153,[1]高二上!A$1:Q$571,10,0) -> 向翠琳 | AU153: =VLOOKUP(A153,[1]高二上!A$1:Q$571,11,0) -> 59 | AV153: =VLOOKUP(A153,[1]高二上!A$1:Q$571,12,0) -> 卢银楷 | AW153: =VLOOKUP(A153,[1]高二上!A$1:Q$571,13,0) -> 71 | AX153: =VLOOKUP(A153,[1]高二上!A$1:Q$571,14,0) -> 勾中文 | AY153: =VLOOKUP(A153,[1]高二上!A$1:Q$571,15,0) -> 65 | AZ153: =VLOOKUP(A153,[1]高二上!A$1:Q$571,16,0) -> 杜基次尔 | BA153: =VLOOKUP(A153,[1]高一下!$A$1:$Q$584,5,0) -> 93 | BB153: =VLOOKUP(A153,[1]高一下!$A$1:$Q$584,6,0) -> 朱霞 | BC153: =VLOOKUP(A153,[1]高一下!$A$1:$Q$584,7,0) -> 60 | BD153: =VLOOKUP(A153,[1]高一下!$A$1:$Q$584,8,0) -> 余玉红 | BE153: =VLOOKUP(A153,[1]高一下!$A$1:$Q$584,9,0) -> 63 | BF153: =VLOOKUP(A153,[1]高一下!$A$1:$Q$584,10,0) -> 赵顺诚 | BG153: =VLOOKUP(A153,[1]高一下!$A$1:$Q$584,11,0) -> 72 | BH153: =VLOOKUP(A153,[1]高一下!$A$1:$Q$584,12,0) -> 杨吉华 | BI153: =VLOOKUP(A153,[1]高一下!$A$1:$Q$584,13,0) -> 56 | BJ153: =VLOOKUP(A153,[1]高一下!$A$1:$Q$584,14,0) -> 赵香才 | BK153: =VLOOKUP(A153,[1]高一下!$A$1:$Q$584,15,0) -> 57 | BL153: =VLOOKUP(A153,[1]高一下!$A$1:$Q$584,16,0) -> 杜基次尔 | BM153: =VLOOKUP(A153,[1]高一上!A$1:W$612,5,0) -> 65 | BN153: =VLOOKUP(A153,[1]高一上!A$1:W$612,6,0) -> 何苗 | BO153: =VLOOKUP(A153,[1]高一上!A$1:W$612,7,0) -> 26 | BP153: =VLOOKUP(A153,[1]高一上!A$1:W$612,8,0) -> 余玉红 | BQ153: =VLOOKUP(A153,[1]高一上!A$1:W$612,9,0) -> 24.5 | BR153: =VLOOKUP(A153,[1]高一上!A$1:W$612,10,0) -> 邵晖 | BS153: =VLOOKUP(A153,[1]高一上!A$1:W$612,17,0) -> 41 | BT153: =VLOOKUP(A153,[1]高一上!A$1:W$612,18,0) -> 杨吉华 | BU153: =VLOOKUP(A153,[1]高一上!A$1:W$612,19,0) -> 32 | BV153: =VLOOKUP(A153,[1]高一上!A$1:W$612,20,0) -> 勾中文 | BW153: =VLOOKUP(A153,[1]高一上!A$1:W$612,21,0) -> 32 | BX153: =VLOOKUP(A153,[1]高一上!A$1:W$612,22,0) -> 杜基次尔 | BY153: =VLOOKUP(A153,[1]中考!A$1:N$590,5,0) -> 93 | BZ153: =VLOOKUP(A153,[1]中考!A$1:N$590,6,0) -> 45 | CA153: =VLOOKUP(A153,[1]中考!A$1:N$590,7,0) -> 65 | CB153: =VLOOKUP(A153,[1]中考!A$1:N$590,11,0) -> 36 | CC153: =VLOOKUP(A153,[1]中考!A$1:N$590,12,0) -> 31 | CD153: =VLOOKUP(A153,[1]中考!A$1:N$590,13,0) -> 33
A154: 51342220030516441X | B154: 3 | C154: 金扎西 | D154: 文科 | E154: 88 | F154: 曹霞 | G154: 61 | H154: 余玉红 | I154: 55 | J154: 汪睿 | K154: 47.5 | L154: 赵香才 | M154: 72 | N154: 卢银楷 | O154: 45 | P154: 杜基次尔 | Q154: =VLOOKUP(A154,[1]高三上!A$3:Q$629,5,0) -> 94 | R154: =VLOOKUP(A154,[1]高三上!A$3:Q$629,6,0) -> 曹霞 | S154: =VLOOKUP(A154,[1]高三上!A$3:Q$629,7,0) -> 59 | T154: =VLOOKUP(A154,[1]高三上!A$3:Q$629,8,0) -> 余玉红 | U154: =VLOOKUP(A154,[1]高三上!A$3:Q$629,9,0) -> 50 | V154: =VLOOKUP(A154,[1]高三上!A$3:Q$629,10,0) -> 汪睿 | W154: =VLOOKUP(A154,[1]高三上!A$3:Q$629,11,0) -> 55 | X154: =VLOOKUP(A154,[1]高三上!A$3:Q$629,12,0) -> 卢银楷 | Y154: =VLOOKUP(A154,[1]高三上!A$3:Q$629,13,0) -> 65 | Z154: =VLOOKUP(A154,[1]高三上!A$3:Q$629,14,0) -> 赵香才 | AA154: =VLOOKUP(A154,[1]高三上!A$3:Q$629,15,0) -> 57 | AB154: =VLOOKUP(A154,[1]高三上!A$3:Q$629,16,0) -> 杜基次尔 | AC154: =VLOOKUP(A154,[1]高二下!A$1:Q$618,5,0) -> 89.5 | AD154: =VLOOKUP(A154,[1]高二下!A$1:Q$618,6,0) -> 何光红 | AE154: =VLOOKUP(A154,[1]高二下!A$1:Q$618,7,0) -> 54 | AF154: =VLOOKUP(A154,[1]高二下!A$1:Q$618,8,0) -> 余玉红 | AG154: =VLOOKUP(A154,[1]高二下!A$1:Q$618,9,0) -> 63.5 | AH154: =VLOOKUP(A154,[1]高二下!A$1:Q$618,10,0) -> 向翠琳 | AI154: =VLOOKUP(A154,[1]高二下!A$1:Q$618,11,0) -> 57 | AJ154: =VLOOKUP(A154,[1]高二下!A$1:Q$618,12,0) -> 卢银楷 | AK154: =VLOOKUP(A154,[1]高二下!A$1:Q$618,13,0) -> 58.5 | AL154: =VLOOKUP(A154,[1]高二下!A$1:Q$618,14,0) -> 赵香才 | AM154: =VLOOKUP(A154,[1]高二下!A$1:Q$618,15,0) -> 51 | AN154: =VLOOKUP(A154,[1]高二下!A$1:Q$618,16,0) -> 杜基次尔 | AO154: =VLOOKUP(A154,[1]高二上!A$1:Q$571,5,0) -> 90 | AP154: =VLOOKUP(A154,[1]高二上!A$1:Q$571,6,0) -> 何光红 | AQ154: =VLOOKUP(A154,[1]高二上!A$1:Q$571,7,0) -> 62 | AR154: =VLOOKUP(A154,[1]高二上!A$1:Q$571,8,0) -> 余玉红 | AS154: =VLOOKUP(A154,[1]高二上!A$1:Q$571,9,0) -> 58.5 | AT154: =VLOOKUP(A154,[1]高二上!A$1:Q$571,10,0) -> 向翠琳 | AU154: =VLOOKUP(A154,[1]高二上!A$1:Q$571,11,0) -> 52 | AV154: =VLOOKUP(A154,[1]高二上!A$1:Q$571,12,0) -> 卢银楷 | AW154: =VLOOKUP(A154,[1]高二上!A$1:Q$571,13,0) -> 69 | AX154: =VLOOKUP(A154,[1]高二上!A$1:Q$571,14,0) -> 勾中文 | AY154: =VLOOKUP(A154,[1]高二上!A$1:Q$571,15,0) -> 69 | AZ154: =VLOOKUP(A154,[1]高二上!A$1:Q$571,16,0) -> 杜基次尔 | BA154: =VLOOKUP(A154,[1]高一下!$A$1:$Q$584,5,0) -> 79 | BB154: =VLOOKUP(A154,[1]高一下!$A$1:$Q$584,6,0) -> 朱霞 | BC154: =VLOOKUP(A154,[1]高一下!$A$1:$Q$584,7,0) -> 60 | BD154: =VLOOKUP(A154,[1]高一下!$A$1:$Q$584,8,0) -> 余玉红 | BE154: =VLOOKUP(A154,[1]高一下!$A$1:$Q$584,9,0) -> 58.5 | BF154: =VLOOKUP(A154,[1]高一下!$A$1:$Q$584,10,0) -> 赵顺诚 | BG154: =VLOOKUP(A154,[1]高一下!$A$1:$Q$584,11,0) -> 66 | BH154: =VLOOKUP(A154,[1]高一下!$A$1:$Q$584,12,0) -> 杨吉华 | BI154: =VLOOKUP(A154,[1]高一下!$A$1:$Q$584,13,0) -> 51 | BJ154: =VLOOKUP(A154,[1]高一下!$A$1:$Q$584,14,0) -> 赵香才 | BK154: =VLOOKUP(A154,[1]高一下!$A$1:$Q$584,15,0) -> 58 | BL154: =VLOOKUP(A154,[1]高一下!$A$1:$Q$584,16,0) -> 杜基次尔 | BM154: =VLOOKUP(A154,[1]高一上!A$1:W$612,5,0) -> 74 | BN154: =VLOOKUP(A154,[1]高一上!A$1:W$612,6,0) -> 何苗 | BO154: =VLOOKUP(A154,[1]高一上!A$1:W$612,7,0) -> 51 | BP154: =VLOOKUP(A154,[1]高一上!A$1:W$612,8,0) -> 余玉红 | BQ154: =VLOOKUP(A154,[1]高一上!A$1:W$612,9,0) -> 49 | BR154: =VLOOKUP(A154,[1]高一上!A$1:W$612,10,0) -> 邵晖 | BS154: =VLOOKUP(A154,[1]高一上!A$1:W$612,17,0) -> 35 | BT154: =VLOOKUP(A154,[1]高一上!A$1:W$612,18,0) -> 杨吉华 | BU154: =VLOOKUP(A154,[1]高一上!A$1:W$612,19,0) -> 29 | BV154: =VLOOKUP(A154,[1]高一上!A$1:W$612,20,0) -> 勾中文 | BW154: =VLOOKUP(A154,[1]高一上!A$1:W$612,21,0) -> 32 | BX154: =VLOOKUP(A154,[1]高一上!A$1:W$612,22,0) -> 杜基次尔 | BY154: =VLOOKUP(A154,[1]中考!A$1:N$590,5,0) -> 84 | BZ154: =VLOOKUP(A154,[1]中考!A$1:N$590,6,0) -> 69 | CA154: =VLOOKUP(A154,[1]中考!A$1:N$590,7,0) -> 61 | CB154: =VLOOKUP(A154,[1]中考!A$1:N$590,11,0) -> 26 | CC154: =VLOOKUP(A154,[1]中考!A$1:N$590,12,0) -> 24 | CD154: =VLOOKUP(A154,[1]中考!A$1:N$590,13,0) -> 33
A155: 513422200307106811 | B155: 3 | C155: 严长贵 | D155: 文科 | E155: 96 | F155: 曹霞 | G155: 72 | H155: 余玉红 | I155: 62 | J155: 汪睿 | K155: 62 | L155: 赵香才 | M155: 46 | N155: 卢银楷 | O155: 29 | P155: 杜基次尔 | Q155: =VLOOKUP(A155,[1]高三上!A$3:Q$629,5,0) -> 88 | R155: =VLOOKUP(A155,[1]高三上!A$3:Q$629,6,0) -> 曹霞 | S155: =VLOOKUP(A155,[1]高三上!A$3:Q$629,7,0) -> 47 | T155: =VLOOKUP(A155,[1]高三上!A$3:Q$629,8,0) -> 余玉红 | U155: =VLOOKUP(A155,[1]高三上!A$3:Q$629,9,0) -> 63.5 | V155: =VLOOKUP(A155,[1]高三上!A$3:Q$629,10,0) -> 汪睿 | W155: =VLOOKUP(A155,[1]高三上!A$3:Q$629,11,0) -> 46 | X155: =VLOOKUP(A155,[1]高三上!A$3:Q$629,12,0) -> 卢银楷 | Y155: =VLOOKUP(A155,[1]高三上!A$3:Q$629,13,0) -> 45 | Z155: =VLOOKUP(A155,[1]高三上!A$3:Q$629,14,0) -> 赵香才 | AA155: =VLOOKUP(A155,[1]高三上!A$3:Q$629,15,0) -> 35 | AB155: =VLOOKUP(A155,[1]高三上!A$3:Q$629,16,0) -> 杜基次尔 | AC155: =VLOOKUP(A155,[1]高二下!A$1:Q$618,5,0) -> 91.5 | AD155: =VLOOKUP(A155,[1]高二下!A$1:Q$618,6,0) -> 何光红 | AE155: =VLOOKUP(A155,[1]高二下!A$1:Q$618,7,0) -> 67 | AF155: =VLOOKUP(A155,[1]高二下!A$1:Q$618,8,0) -> 余玉红 | AG155: =VLOOKUP(A155,[1]高二下!A$1:Q$618,9,0) -> 80.5 | AH155: =VLOOKUP(A155,[1]高二下!A$1:Q$618,10,0) -> 向翠琳 | AI155: =VLOOKUP(A155,[1]高二下!A$1:Q$618,11,0) -> 43 | AJ155: =VLOOKUP(A155,[1]高二下!A$1:Q$618,12,0) -> 卢银楷 | AK155: =VLOOKUP(A155,[1]高二下!A$1:Q$618,13,0) -> 51.5 | AL155: =VLOOKUP(A155,[1]高二下!A$1:Q$618,14,0) -> 赵香才 | AM155: =VLOOKUP(A155,[1]高二下!A$1:Q$618,15,0) -> 35.5 | AN155: =VLOOKUP(A155,[1]高二下!A$1:Q$618,16,0) -> 杜基次尔 | AO155: =VLOOKUP(A155,[1]高二上!A$1:Q$571,5,0) -> 86 | AP155: =VLOOKUP(A155,[1]高二上!A$1:Q$571,6,0) -> 何光红 | AQ155: =VLOOKUP(A155,[1]高二上!A$1:Q$571,7,0) -> 67 | AR155: =VLOOKUP(A155,[1]高二上!A$1:Q$571,8,0) -> 余玉红 | AS155: =VLOOKUP(A155,[1]高二上!A$1:Q$571,9,0) -> 64.5 | AT155: =VLOOKUP(A155,[1]高二上!A$1:Q$571,10,0) -> 向翠琳 | AU155: =VLOOKUP(A155,[1]高二上!A$1:Q$571,11,0) -> 54 | AV155: =VLOOKUP(A155,[1]高二上!A$1:Q$571,12,0) -> 卢银楷 | AW155: =VLOOKUP(A155,[1]高二上!A$1:Q$571,13,0) -> 65 | AX155: =VLOOKUP(A155,[1]高二上!A$1:Q$571,14,0) -> 勾中文 | AY155: =VLOOKUP(A155,[1]高二上!A$1:Q$571,15,0) -> 59 | AZ155: =VLOOKUP(A155,[1]高二上!A$1:Q$571,16,0) -> 杜基次尔 | BA155: =VLOOKUP(A155,[1]高一下!$A$1:$Q$584,5,0) -> 85 | BB155: =VLOOKUP(A155,[1]高一下!$A$1:$Q$584,6,0) -> 朱霞 | BC155: =VLOOKUP(A155,[1]高一下!$A$1:$Q$584,7,0) -> 63 | BD155: =VLOOKUP(A155,[1]高一下!$A$1:$Q$584,8,0) -> 余玉红 | BE155: =VLOOKUP(A155,[1]高一下!$A$1:$Q$584,9,0) -> 79 | BF155: =VLOOKUP(A155,[1]高一下!$A$1:$Q$584,10,0) -> 赵顺诚 | BG155: =VLOOKUP(A155,[1]高一下!$A$1:$Q$584,11,0) -> 53 | BH155: =VLOOKUP(A155,[1]高一下!$A$1:$Q$584,12,0) -> 杨吉华 | BI155: =VLOOKUP(A155,[1]高一下!$A$1:$Q$584,13,0) -> 42 | BJ155: =VLOOKUP(A155,[1]高一下!$A$1:$Q$584,14,0) -> 赵香才 | BK155: =VLOOKUP(A155,[1]高一下!$A$1:$Q$584,15,0) -> 52 | BL155: =VLOOKUP(A155,[1]高一下!$A$1:$Q$584,16,0) -> 杜基次尔 | BM155: =VLOOKUP(A155,[1]高一上!A$1:W$612,5,0) -> 56 | BN155: =VLOOKUP(A155,[1]高一上!A$1:W$612,6,0) -> 何苗 | BO155: =VLOOKUP(A155,[1]高一上!A$1:W$612,7,0) -> 62 | BP155: =VLOOKUP(A155,[1]高一上!A$1:W$612,8,0) -> 余玉红 | BQ155: =VLOOKUP(A155,[1]高一上!A$1:W$612,9,0) -> 44 | BR155: =VLOOKUP(A155,[1]高一上!A$1:W$612,10,0) -> 邵晖 | BS155: =VLOOKUP(A155,[1]高一上!A$1:W$612,17,0) -> 50 | BT155: =VLOOKUP(A155,[1]高一上!A$1:W$612,18,0) -> 杨吉华 | BU155: =VLOOKUP(A155,[1]高一上!A$1:W$612,19,0) -> 28 | BV155: =VLOOKUP(A155,[1]高一上!A$1:W$612,20,0) -> 勾中文 | BW155: =VLOOKUP(A155,[1]高一上!A$1:W$612,21,0) -> 46 | BX155: =VLOOKUP(A155,[1]高一上!A$1:W$612,22,0) -> 杜基次尔 | BY155: =VLOOKUP(A155,[1]中考!A$1:N$590,5,0) -> 50 | BZ155: =VLOOKUP(A155,[1]中考!A$1:N$590,6,0) -> 60 | CA155: =VLOOKUP(A155,[1]中考!A$1:N$590,7,0) -> 66 | CB155: =VLOOKUP(A155,[1]中考!A$1:N$590,11,0) -> 39 | CC155: =VLOOKUP(A155,[1]中考!A$1:N$590,12,0) -> 29 | CD155: =VLOOKUP(A155,[1]中考!A$1:N$590,13,0) -> 28
A156: 513422200205101147 | B156: 3 | C156: 吕伍呷 | D156: 文科 | E156: 93 | F156: 曹霞 | G156: 66 | H156: 余玉红 | I156: 58 | J156: 汪睿 | K156: 61.5 | L156: 赵香才 | M156: 55.5 | N156: 卢银楷 | O156: 29 | P156: 杜基次尔 | Q156: =VLOOKUP(A156,[1]高三上!A$3:Q$629,5,0) -> 88 | R156: =VLOOKUP(A156,[1]高三上!A$3:Q$629,6,0) -> 曹霞 | S156: =VLOOKUP(A156,[1]高三上!A$3:Q$629,7,0) -> 57 | T156: =VLOOKUP(A156,[1]高三上!A$3:Q$629,8,0) -> 余玉红 | U156: =VLOOKUP(A156,[1]高三上!A$3:Q$629,9,0) -> 75 | V156: =VLOOKUP(A156,[1]高三上!A$3:Q$629,10,0) -> 汪睿 | W156: =VLOOKUP(A156,[1]高三上!A$3:Q$629,11,0) -> 55 | X156: =VLOOKUP(A156,[1]高三上!A$3:Q$629,12,0) -> 卢银楷 | Y156: =VLOOKUP(A156,[1]高三上!A$3:Q$629,13,0) -> 44 | Z156: =VLOOKUP(A156,[1]高三上!A$3:Q$629,14,0) -> 赵香才 | AA156: =VLOOKUP(A156,[1]高三上!A$3:Q$629,15,0) -> 30 | AB156: =VLOOKUP(A156,[1]高三上!A$3:Q$629,16,0) -> 杜基次尔 | AC156: =VLOOKUP(A156,[1]高二下!A$1:Q$618,5,0) -> 93.5 | AD156: =VLOOKUP(A156,[1]高二下!A$1:Q$618,6,0) -> 何光红 | AE156: =VLOOKUP(A156,[1]高二下!A$1:Q$618,7,0) -> 61 | AF156: =VLOOKUP(A156,[1]高二下!A$1:Q$618,8,0) -> 余玉红 | AG156: =VLOOKUP(A156,[1]高二下!A$1:Q$618,9,0) -> 79.5 | AH156: =VLOOKUP(A156,[1]高二下!A$1:Q$618,10,0) -> 向翠琳 | AI156: =VLOOKUP(A156,[1]高二下!A$1:Q$618,11,0) -> 50.5 | AJ156: =VLOOKUP(A156,[1]高二下!A$1:Q$618,12,0) -> 卢银楷 | AK156: =VLOOKUP(A156,[1]高二下!A$1:Q$618,13,0) -> 48.5 | AL156: =VLOOKUP(A156,[1]高二下!A$1:Q$618,14,0) -> 赵香才 | AM156: =VLOOKUP(A156,[1]高二下!A$1:Q$618,15,0) -> 25 | AN156: =VLOOKUP(A156,[1]高二下!A$1:Q$618,16,0) -> 杜基次尔 | AO156: =VLOOKUP(A156,[1]高二上!A$1:Q$571,5,0) -> 92 | AP156: =VLOOKUP(A156,[1]高二上!A$1:Q$571,6,0) -> 何光红 | AQ156: =VLOOKUP(A156,[1]高二上!A$1:Q$571,7,0) -> 60 | AR156: =VLOOKUP(A156,[1]高二上!A$1:Q$571,8,0) -> 余玉红 | AS156: =VLOOKUP(A156,[1]高二上!A$1:Q$571,9,0) -> 75 | AT156: =VLOOKUP(A156,[1]高二上!A$1:Q$571,10,0) -> 向翠琳 | AU156: =VLOOKUP(A156,[1]高二上!A$1:Q$571,11,0) -> 59 | AV156: =VLOOKUP(A156,[1]高二上!A$1:Q$571,12,0) -> 卢银楷 | AW156: =VLOOKUP(A156,[1]高二上!A$1:Q$571,13,0) -> 73 | AX156: =VLOOKUP(A156,[1]高二上!A$1:Q$571,14,0) -> 勾中文 | AY156: =VLOOKUP(A156,[1]高二上!A$1:Q$571,15,0) -> 56 | AZ156: =VLOOKUP(A156,[1]高二上!A$1:Q$571,16,0) -> 杜基次尔 | BA156: =VLOOKUP(A156,[1]高一下!$A$1:$Q$584,5,0) -> 82 | BB156: =VLOOKUP(A156,[1]高一下!$A$1:$Q$584,6,0) -> 朱霞 | BC156: =VLOOKUP(A156,[1]高一下!$A$1:$Q$584,7,0) -> 85 | BD156: =VLOOKUP(A156,[1]高一下!$A$1:$Q$584,8,0) -> 余玉红 | BE156: =VLOOKUP(A156,[1]高一下!$A$1:$Q$584,9,0) -> 62 | BF156: =VLOOKUP(A156,[1]高一下!$A$1:$Q$584,10,0) -> 赵顺诚 | BG156: =VLOOKUP(A156,[1]高一下!$A$1:$Q$584,11,0) -> 53 | BH156: =VLOOKUP(A156,[1]高一下!$A$1:$Q$584,12,0) -> 杨吉华 | BI156: =VLOOKUP(A156,[1]高一下!$A$1:$Q$584,13,0) -> 55 | BJ156: =VLOOKUP(A156,[1]高一下!$A$1:$Q$584,14,0) -> 赵香才 | BK156: =VLOOKUP(A156,[1]高一下!$A$1:$Q$584,15,0) -> 51 | BL156: =VLOOKUP(A156,[1]高一下!$A$1:$Q$584,16,0) -> 杜基次尔 | BM156: =VLOOKUP(A156,[1]高一上!A$1:W$612,5,0) -> 72 | BN156: =VLOOKUP(A156,[1]高一上!A$1:W$612,6,0) -> 何苗 | BO156: =VLOOKUP(A156,[1]高一上!A$1:W$612,7,0) -> 64 | BP156: =VLOOKUP(A156,[1]高一上!A$1:W$612,8,0) -> 胡付松 | BQ156: =VLOOKUP(A156,[1]高一上!A$1:W$612,9,0) -> 62 | BR156: =VLOOKUP(A156,[1]高一上!A$1:W$612,10,0) -> 聂艳梅 | BS156: =VLOOKUP(A156,[1]高一上!A$1:W$612,17,0) -> 57 | BT156: =VLOOKUP(A156,[1]高一上!A$1:W$612,18,0) -> 卢银楷 | BU156: =VLOOKUP(A156,[1]高一上!A$1:W$612,19,0) -> 23 | BV156: =VLOOKUP(A156,[1]高一上!A$1:W$612,20,0) -> 赵香才 | BW156: =VLOOKUP(A156,[1]高一上!A$1:W$612,21,0) -> 35 | BX156: =VLOOKUP(A156,[1]高一上!A$1:W$612,22,0) -> 骆泽群 | BY156: =VLOOKUP(A156,[1]中考!A$1:N$590,5,0) -> 93 | BZ156: =VLOOKUP(A156,[1]中考!A$1:N$590,6,0) -> 57 | CA156: =VLOOKUP(A156,[1]中考!A$1:N$590,7,0) -> 71 | CB156: =VLOOKUP(A156,[1]中考!A$1:N$590,11,0) -> 21 | CC156: =VLOOKUP(A156,[1]中考!A$1:N$590,12,0) -> 29 | CD156: =VLOOKUP(A156,[1]中考!A$1:N$590,13,0) -> 17
A157: 51342220030515422X | B157: 3 | C157: 次尔祝玛 | D157: 文科 | E157: 87 | F157: 曹霞 | G157: 54 | H157: 余玉红 | I157: 61 | J157: 汪睿 | K157: 48 | L157: 赵香才 | M157: 64 | N157: 卢银楷 | O157: 42 | P157: 杜基次尔 | Q157: =VLOOKUP(A157,[1]高三上!A$3:Q$629,5,0) -> 85 | R157: =VLOOKUP(A157,[1]高三上!A$3:Q$629,6,0) -> 曹霞 | S157: =VLOOKUP(A157,[1]高三上!A$3:Q$629,7,0) -> 51 | T157: =VLOOKUP(A157,[1]高三上!A$3:Q$629,8,0) -> 余玉红 | U157: =VLOOKUP(A157,[1]高三上!A$3:Q$629,9,0) -> 59.5 | V157: =VLOOKUP(A157,[1]高三上!A$3:Q$629,10,0) -> 汪睿 | W157: =VLOOKUP(A157,[1]高三上!A$3:Q$629,11,0) -> 51 | X157: =VLOOKUP(A157,[1]高三上!A$3:Q$629,12,0) -> 卢银楷 | Y157: =VLOOKUP(A157,[1]高三上!A$3:Q$629,13,0) -> 44 | Z157: =VLOOKUP(A157,[1]高三上!A$3:Q$629,14,0) -> 赵香才 | AA157: =VLOOKUP(A157,[1]高三上!A$3:Q$629,15,0) -> 65 | AB157: =VLOOKUP(A157,[1]高三上!A$3:Q$629,16,0) -> 杜基次尔 | AC157: =VLOOKUP(A157,[1]高二下!A$1:Q$618,5,0) -> 92.5 | AD157: =VLOOKUP(A157,[1]高二下!A$1:Q$618,6,0) -> 何光红 | AE157: =VLOOKUP(A157,[1]高二下!A$1:Q$618,7,0) -> 42.5 | AF157: =VLOOKUP(A157,[1]高二下!A$1:Q$618,8,0) -> 余玉红 | AG157: =VLOOKUP(A157,[1]高二下!A$1:Q$618,9,0) -> 56.5 | AH157: =VLOOKUP(A157,[1]高二下!A$1:Q$618,10,0) -> 向翠琳 | AI157: =VLOOKUP(A157,[1]高二下!A$1:Q$618,11,0) -> 50.5 | AJ157: =VLOOKUP(A157,[1]高二下!A$1:Q$618,12,0) -> 卢银楷 | AK157: =VLOOKUP(A157,[1]高二下!A$1:Q$618,13,0) -> 44.5 | AL157: =VLOOKUP(A157,[1]高二下!A$1:Q$618,14,0) -> 赵香才 | AM157: =VLOOKUP(A157,[1]高二下!A$1:Q$618,15,0) -> 45 | AN157: =VLOOKUP(A157,[1]高二下!A$1:Q$618,16,0) -> 杜基次尔 | AO157: =VLOOKUP(A157,[1]高二上!A$1:Q$571,5,0) -> 90 | AP157: =VLOOKUP(A157,[1]高二上!A$1:Q$571,6,0) -> 何光红 | AQ157: =VLOOKUP(A157,[1]高二上!A$1:Q$571,7,0) -> 45 | AR157: =VLOOKUP(A157,[1]高二上!A$1:Q$571,8,0) -> 余玉红 | AS157: =VLOOKUP(A157,[1]高二上!A$1:Q$571,9,0) -> 54 | AT157: =VLOOKUP(A157,[1]高二上!A$1:Q$571,10,0) -> 向翠琳 | AU157: =VLOOKUP(A157,[1]高二上!A$1:Q$571,11,0) -> 50 | AV157: =VLOOKUP(A157,[1]高二上!A$1:Q$571,12,0) -> 卢银楷 | AW157: =VLOOKUP(A157,[1]高二上!A$1:Q$571,13,0) -> 68 | AX157: =VLOOKUP(A157,[1]高二上!A$1:Q$571,14,0) -> 勾中文 | AY157: =VLOOKUP(A157,[1]高二上!A$1:Q$571,15,0) -> 46 | AZ157: =VLOOKUP(A157,[1]高二上!A$1:Q$571,16,0) -> 杜基次尔 | BA157: =VLOOKUP(A157,[1]高一下!$A$1:$Q$584,5,0) -> #N/A | BB157: =VLOOKUP(A157,[1]高一下!$A$1:$Q$584,6,0) -> #N/A | BC157: =VLOOKUP(A157,[1]高一下!$A$1:$Q$584,7,0) -> #N/A | BD157: =VLOOKUP(A157,[1]高一下!$A$1:$Q$584,8,0) -> #N/A | BE157: =VLOOKUP(A157,[1]高一下!$A$1:$Q$584,9,0) -> #N/A | BF157: =VLOOKUP(A157,[1]高一下!$A$1:$Q$584,10,0) -> #N/A | BG157: =VLOOKUP(A157,[1]高一下!$A$1:$Q$584,11,0) -> #N/A | BH157: =VLOOKUP(A157,[1]高一下!$A$1:$Q$584,12,0) -> #N/A | BI157: =VLOOKUP(A157,[1]高一下!$A$1:$Q$584,13,0) -> #N/A | BJ157: =VLOOKUP(A157,[1]高一下!$A$1:$Q$584,14,0) -> #N/A | BK157: =VLOOKUP(A157,[1]高一下!$A$1:$Q$584,15,0) -> #N/A | BL157: =VLOOKUP(A157,[1]高一下!$A$1:$Q$584,16,0) -> #N/A | BM157: =VLOOKUP(A157,[1]高一上!A$1:W$612,5,0) -> 71 | BN157: =VLOOKUP(A157,[1]高一上!A$1:W$612,6,0) -> 何苗 | BO157: =VLOOKUP(A157,[1]高一上!A$1:W$612,7,0) -> 35 | BP157: =VLOOKUP(A157,[1]高一上!A$1:W$612,8,0) -> 余玉红 | BQ157: =VLOOKUP(A157,[1]高一上!A$1:W$612,9,0) -> 67 | BR157: =VLOOKUP(A157,[1]高一上!A$1:W$612,10,0) -> 邵晖 | BS157: =VLOOKUP(A157,[1]高一上!A$1:W$612,17,0) -> 59 | BT157: =VLOOKUP(A157,[1]高一上!A$1:W$612,18,0) -> 杨吉华 | BU157: =VLOOKUP(A157,[1]高一上!A$1:W$612,19,0) -> 33 | BV157: =VLOOKUP(A157,[1]高一上!A$1:W$612,20,0) -> 勾中文 | BW157: =VLOOKUP(A157,[1]高一上!A$1:W$612,21,0) -> 50 | BX157: =VLOOKUP(A157,[1]高一上!A$1:W$612,22,0) -> 杜基次尔 | BY157: =VLOOKUP(A157,[1]中考!A$1:N$590,5,0) -> #N/A | BZ157: =VLOOKUP(A157,[1]中考!A$1:N$590,6,0) -> #N/A | CA157: =VLOOKUP(A157,[1]中考!A$1:N$590,7,0) -> #N/A | CB157: =VLOOKUP(A157,[1]中考!A$1:N$590,11,0) -> #N/A | CC157: =VLOOKUP(A157,[1]中考!A$1:N$590,12,0) -> #N/A | CD157: =VLOOKUP(A157,[1]中考!A$1:N$590,13,0) -> #N/A
A158: 513422200407081914 | B158: 3 | C158: 何华品 | D158: 文科 | E158: 88 | F158: 曹霞 | G158: 80 | H158: 余玉红 | I158: 32 | J158: 汪睿 | K158: 55.5 | L158: 赵香才 | M158: 54 | N158: 卢银楷 | O158: 33 | P158: 杜基次尔 | Q158: =VLOOKUP(A158,[1]高三上!A$3:Q$629,5,0) -> 74 | R158: =VLOOKUP(A158,[1]高三上!A$3:Q$629,6,0) -> 曹霞 | S158: =VLOOKUP(A158,[1]高三上!A$3:Q$629,7,0) -> 46 | T158: =VLOOKUP(A158,[1]高三上!A$3:Q$629,8,0) -> 余玉红 | U158: =VLOOKUP(A158,[1]高三上!A$3:Q$629,9,0) -> 27.5 | V158: =VLOOKUP(A158,[1]高三上!A$3:Q$629,10,0) -> 汪睿 | W158: =VLOOKUP(A158,[1]高三上!A$3:Q$629,11,0) -> 41 | X158: =VLOOKUP(A158,[1]高三上!A$3:Q$629,12,0) -> 卢银楷 | Y158: =VLOOKUP(A158,[1]高三上!A$3:Q$629,13,0) -> 44 | Z158: =VLOOKUP(A158,[1]高三上!A$3:Q$629,14,0) -> 赵香才 | AA158: =VLOOKUP(A158,[1]高三上!A$3:Q$629,15,0) -> 35 | AB158: =VLOOKUP(A158,[1]高三上!A$3:Q$629,16,0) -> 杜基次尔 | AC158: =VLOOKUP(A158,[1]高二下!A$1:Q$618,5,0) -> 77 | AD158: =VLOOKUP(A158,[1]高二下!A$1:Q$618,6,0) -> 何光红 | AE158: =VLOOKUP(A158,[1]高二下!A$1:Q$618,7,0) -> 80 | AF158: =VLOOKUP(A158,[1]高二下!A$1:Q$618,8,0) -> 余玉红 | AG158: =VLOOKUP(A158,[1]高二下!A$1:Q$618,9,0) -> 25.5 | AH158: =VLOOKUP(A158,[1]高二下!A$1:Q$618,10,0) -> 向翠琳 | AI158: =VLOOKUP(A158,[1]高二下!A$1:Q$618,11,0) -> 29.5 | AJ158: =VLOOKUP(A158,[1]高二下!A$1:Q$618,12,0) -> 卢银楷 | AK158: =VLOOKUP(A158,[1]高二下!A$1:Q$618,13,0) -> 34 | AL158: =VLOOKUP(A158,[1]高二下!A$1:Q$618,14,0) -> 赵香才 | AM158: =VLOOKUP(A158,[1]高二下!A$1:Q$618,15,0) -> 44.5 | AN158: =VLOOKUP(A158,[1]高二下!A$1:Q$618,16,0) -> 杜基次尔 | AO158: =VLOOKUP(A158,[1]高二上!A$1:Q$571,5,0) -> 81 | AP158: =VLOOKUP(A158,[1]高二上!A$1:Q$571,6,0) -> 何光红 | AQ158: =VLOOKUP(A158,[1]高二上!A$1:Q$571,7,0) -> 103 | AR158: =VLOOKUP(A158,[1]高二上!A$1:Q$571,8,0) -> 余玉红 | AS158: =VLOOKUP(A158,[1]高二上!A$1:Q$571,9,0) -> 36.5 | AT158: =VLOOKUP(A158,[1]高二上!A$1:Q$571,10,0) -> 向翠琳 | AU158: =VLOOKUP(A158,[1]高二上!A$1:Q$571,11,0) -> 33 | AV158: =VLOOKUP(A158,[1]高二上!A$1:Q$571,12,0) -> 卢银楷 | AW158: =VLOOKUP(A158,[1]高二上!A$1:Q$571,13,0) -> 64 | AX158: =VLOOKUP(A158,[1]高二上!A$1:Q$571,14,0) -> 勾中文 | AY158: =VLOOKUP(A158,[1]高二上!A$1:Q$571,15,0) -> 49 | AZ158: =VLOOKUP(A158,[1]高二上!A$1:Q$571,16,0) -> 杜基次尔 | BA158: =VLOOKUP(A158,[1]高一下!$A$1:$Q$584,5,0) -> 72 | BB158: =VLOOKUP(A158,[1]高一下!$A$1:$Q$584,6,0) -> 朱霞 | BC158: =VLOOKUP(A158,[1]高一下!$A$1:$Q$584,7,0) -> 114 | BD158: =VLOOKUP(A158,[1]高一下!$A$1:$Q$584,8,0) -> 余玉红 | BE158: =VLOOKUP(A158,[1]高一下!$A$1:$Q$584,9,0) -> 45 | BF158: =VLOOKUP(A158,[1]高一下!$A$1:$Q$584,10,0) -> 赵顺诚 | BG158: =VLOOKUP(A158,[1]高一下!$A$1:$Q$584,11,0) -> 51 | BH158: =VLOOKUP(A158,[1]高一下!$A$1:$Q$584,12,0) -> 杨吉华 | BI158: =VLOOKUP(A158,[1]高一下!$A$1:$Q$584,13,0) -> 45 | BJ158: =VLOOKUP(A158,[1]高一下!$A$1:$Q$584,14,0) -> 赵香才 | BK158: =VLOOKUP(A158,[1]高一下!$A$1:$Q$584,15,0) -> 57 | BL158: =VLOOKUP(A158,[1]高一下!$A$1:$Q$584,16,0) -> 杜基次尔 | BM158: =VLOOKUP(A158,[1]高一上!A$1:W$612,5,0) -> 61 | BN158: =VLOOKUP(A158,[1]高一上!A$1:W$612,6,0) -> 何苗 | BO158: =VLOOKUP(A158,[1]高一上!A$1:W$612,7,0) -> 58 | BP158: =VLOOKUP(A158,[1]高一上!A$1:W$612,8,0) -> 余玉红 | BQ158: =VLOOKUP(A158,[1]高一上!A$1:W$612,9,0) -> 32 | BR158: =VLOOKUP(A158,[1]高一上!A$1:W$612,10,0) -> 邵晖 | BS158: =VLOOKUP(A158,[1]高一上!A$1:W$612,17,0) -> 35 | BT158: =VLOOKUP(A158,[1]高一上!A$1:W$612,18,0) -> 杨吉华 | BU158: =VLOOKUP(A158,[1]高一上!A$1:W$612,19,0) -> 43 | BV158: =VLOOKUP(A158,[1]高一上!A$1:W$612,20,0) -> 勾中文 | BW158: =VLOOKUP(A158,[1]高一上!A$1:W$612,21,0) -> 40 | BX158: =VLOOKUP(A158,[1]高一上!A$1:W$612,22,0) -> 杜基次尔 | BY158: =VLOOKUP(A158,[1]中考!A$1:N$590,5,0) -> 83 | BZ158: =VLOOKUP(A158,[1]中考!A$1:N$590,6,0) -> 77 | CA158: =VLOOKUP(A158,[1]中考!A$1:N$590,7,0) -> 46 | CB158: =VLOOKUP(A158,[1]中考!A$1:N$590,11,0) -> 26 | CC158: =VLOOKUP(A158,[1]中考!A$1:N$590,12,0) -> 16 | CD158: =VLOOKUP(A158,[1]中考!A$1:N$590,13,0) -> 12
A159: 513422200402161915 | B159: 3 | C159: 胡文勇 | D159: 文科 | E159: 110 | F159: 曹霞 | G159: 45 | H159: 余玉红 | I159: 30 | J159: 汪睿 | K159: 60 | L159: 赵香才 | M159: 56.5 | N159: 卢银楷 | O159: 41 | P159: 杜基次尔 | Q159: =VLOOKUP(A159,[1]高三上!A$3:Q$629,5,0) -> 90 | R159: =VLOOKUP(A159,[1]高三上!A$3:Q$629,6,0) -> 曹霞 | S159: =VLOOKUP(A159,[1]高三上!A$3:Q$629,7,0) -> 45 | T159: =VLOOKUP(A159,[1]高三上!A$3:Q$629,8,0) -> 余玉红 | U159: =VLOOKUP(A159,[1]高三上!A$3:Q$629,9,0) -> 25.5 | V159: =VLOOKUP(A159,[1]高三上!A$3:Q$629,10,0) -> 汪睿 | W159: =VLOOKUP(A159,[1]高三上!A$3:Q$629,11,0) -> 46 | X159: =VLOOKUP(A159,[1]高三上!A$3:Q$629,12,0) -> 卢银楷 | Y159: =VLOOKUP(A159,[1]高三上!A$3:Q$629,13,0) -> 53 | Z159: =VLOOKUP(A159,[1]高三上!A$3:Q$629,14,0) -> 赵香才 | AA159: =VLOOKUP(A159,[1]高三上!A$3:Q$629,15,0) -> 44 | AB159: =VLOOKUP(A159,[1]高三上!A$3:Q$629,16,0) -> 杜基次尔 | AC159: =VLOOKUP(A159,[1]高二下!A$1:Q$618,5,0) -> 80 | AD159: =VLOOKUP(A159,[1]高二下!A$1:Q$618,6,0) -> 何光红 | AE159: =VLOOKUP(A159,[1]高二下!A$1:Q$618,7,0) -> 43 | AF159: =VLOOKUP(A159,[1]高二下!A$1:Q$618,8,0) -> 余玉红 | AG159: =VLOOKUP(A159,[1]高二下!A$1:Q$618,9,0) -> 16.5 | AH159: =VLOOKUP(A159,[1]高二下!A$1:Q$618,10,0) -> 向翠琳 | AI159: =VLOOKUP(A159,[1]高二下!A$1:Q$618,11,0) -> 50.5 | AJ159: =VLOOKUP(A159,[1]高二下!A$1:Q$618,12,0) -> 卢银楷 | AK159: =VLOOKUP(A159,[1]高二下!A$1:Q$618,13,0) -> 49 | AL159: =VLOOKUP(A159,[1]高二下!A$1:Q$618,14,0) -> 赵香才 | AM159: =VLOOKUP(A159,[1]高二下!A$1:Q$618,15,0) -> 46.5 | AN159: =VLOOKUP(A159,[1]高二下!A$1:Q$618,16,0) -> 杜基次尔 | AO159: =VLOOKUP(A159,[1]高二上!A$1:Q$571,5,0) -> 89 | AP159: =VLOOKUP(A159,[1]高二上!A$1:Q$571,6,0) -> 何光红 | AQ159: =VLOOKUP(A159,[1]高二上!A$1:Q$571,7,0) -> 38 | AR159: =VLOOKUP(A159,[1]高二上!A$1:Q$571,8,0) -> 余玉红 | AS159: =VLOOKUP(A159,[1]高二上!A$1:Q$571,9,0) -> 34 | AT159: =VLOOKUP(A159,[1]高二上!A$1:Q$571,10,0) -> 向翠琳 | AU159: =VLOOKUP(A159,[1]高二上!A$1:Q$571,11,0) -> 54 | AV159: =VLOOKUP(A159,[1]高二上!A$1:Q$571,12,0) -> 卢银楷 | AW159: =VLOOKUP(A159,[1]高二上!A$1:Q$571,13,0) -> 75 | AX159: =VLOOKUP(A159,[1]高二上!A$1:Q$571,14,0) -> 勾中文 | AY159: =VLOOKUP(A159,[1]高二上!A$1:Q$571,15,0) -> 64 | AZ159: =VLOOKUP(A159,[1]高二上!A$1:Q$571,16,0) -> 杜基次尔 | BA159: =VLOOKUP(A159,[1]高一下!$A$1:$Q$584,5,0) -> 85 | BB159: =VLOOKUP(A159,[1]高一下!$A$1:$Q$584,6,0) -> 朱霞 | BC159: =VLOOKUP(A159,[1]高一下!$A$1:$Q$584,7,0) -> 37 | BD159: =VLOOKUP(A159,[1]高一下!$A$1:$Q$584,8,0) -> 余玉红 | BE159: =VLOOKUP(A159,[1]高一下!$A$1:$Q$584,9,0) -> 45.5 | BF159: =VLOOKUP(A159,[1]高一下!$A$1:$Q$584,10,0) -> 赵顺诚 | BG159: =VLOOKUP(A159,[1]高一下!$A$1:$Q$584,11,0) -> 51 | BH159: =VLOOKUP(A159,[1]高一下!$A$1:$Q$584,12,0) -> 杨吉华 | BI159: =VLOOKUP(A159,[1]高一下!$A$1:$Q$584,13,0) -> 48 | BJ159: =VLOOKUP(A159,[1]高一下!$A$1:$Q$584,14,0) -> 赵香才 | BK159: =VLOOKUP(A159,[1]高一下!$A$1:$Q$584,15,0) -> 48 | BL159: =VLOOKUP(A159,[1]高一下!$A$1:$Q$584,16,0) -> 杜基次尔 | BM159: =VLOOKUP(A159,[1]高一上!A$1:W$612,5,0) -> 68 | BN159: =VLOOKUP(A159,[1]高一上!A$1:W$612,6,0) -> 何苗 | BO159: =VLOOKUP(A159,[1]高一上!A$1:W$612,7,0) -> 46 | BP159: =VLOOKUP(A159,[1]高一上!A$1:W$612,8,0) -> 胡付松 | BQ159: =VLOOKUP(A159,[1]高一上!A$1:W$612,9,0) -> 40 | BR159: =VLOOKUP(A159,[1]高一上!A$1:W$612,10,0) -> 聂艳梅 | BS159: =VLOOKUP(A159,[1]高一上!A$1:W$612,17,0) -> 49 | BT159: =VLOOKUP(A159,[1]高一上!A$1:W$612,18,0) -> 卢银楷 | BU159: =VLOOKUP(A159,[1]高一上!A$1:W$612,19,0) -> 25 | BV159: =VLOOKUP(A159,[1]高一上!A$1:W$612,20,0) -> 赵香才 | BW159: =VLOOKUP(A159,[1]高一上!A$1:W$612,21,0) -> 34 | BX159: =VLOOKUP(A159,[1]高一上!A$1:W$612,22,0) -> 骆泽群 | BY159: =VLOOKUP(A159,[1]中考!A$1:N$590,5,0) -> 80 | BZ159: =VLOOKUP(A159,[1]中考!A$1:N$590,6,0) -> 60 | CA159: =VLOOKUP(A159,[1]中考!A$1:N$590,7,0) -> 38 | CB159: =VLOOKUP(A159,[1]中考!A$1:N$590,11,0) -> 31 | CC159: =VLOOKUP(A159,[1]中考!A$1:N$590,12,0) -> 29 | CD159: =VLOOKUP(A159,[1]中考!A$1:N$590,13,0) -> 27
... A287: 513422200401031115 | B287: 5 | C287: 王海龙 | D287: 文科 | E287: 75 | F287: 叶屏 | G287: 42 | H287: 王德兵 | I287: 38 | J287: 兰卡布尺 | K287: 39 | L287: 吴文艺→康宇峰 | M287: 43.5 | N287: 赵香才 | O287: 26 | P287: 金贵 | Q287: =VLOOKUP(A287,[1]高三上!A$3:Q$629,5,0) -> 73 | R287: =VLOOKUP(A287,[1]高三上!A$3:Q$629,6,0) -> 叶屏 | S287: =VLOOKUP(A287,[1]高三上!A$3:Q$629,7,0) -> 40 | T287: =VLOOKUP(A287,[1]高三上!A$3:Q$629,8,0) -> 王德兵 | U287: =VLOOKUP(A287,[1]高三上!A$3:Q$629,9,0) -> 35 | V287: =VLOOKUP(A287,[1]高三上!A$3:Q$629,10,0) -> 兰卡布尺 | W287: =VLOOKUP(A287,[1]高三上!A$3:Q$629,11,0) -> 44 | X287: =VLOOKUP(A287,[1]高三上!A$3:Q$629,12,0) -> 吴文艺 | Y287: =VLOOKUP(A287,[1]高三上!A$3:Q$629,13,0) -> 20 | Z287: =VLOOKUP(A287,[1]高三上!A$3:Q$629,14,0) -> 赵香才 | AA287: =VLOOKUP(A287,[1]高三上!A$3:Q$629,15,0) -> 33 | AB287: =VLOOKUP(A287,[1]高三上!A$3:Q$629,16,0) -> 金贵 | AC287: =VLOOKUP(A287,[1]高二下!A$1:Q$618,5,0) -> 82.5 | AD287: =VLOOKUP(A287,[1]高二下!A$1:Q$618,6,0) -> 叶屏 | AE287: =VLOOKUP(A287,[1]高二下!A$1:Q$618,7,0) -> 44.5 | AF287: =VLOOKUP(A287,[1]高二下!A$1:Q$618,8,0) -> 罗锐 | AG287: =VLOOKUP(A287,[1]高二下!A$1:Q$618,9,0) -> 34 | AH287: =VLOOKUP(A287,[1]高二下!A$1:Q$618,10,0) -> 杨小波 | AI287: =VLOOKUP(A287,[1]高二下!A$1:Q$618,11,0) -> 35.5 | AJ287: =VLOOKUP(A287,[1]高二下!A$1:Q$618,12,0) -> 马巫各 | AK287: =VLOOKUP(A287,[1]高二下!A$1:Q$618,13,0) -> 36 | AL287: =VLOOKUP(A287,[1]高二下!A$1:Q$618,14,0) -> 赵香才 | AM287: =VLOOKUP(A287,[1]高二下!A$1:Q$618,15,0) -> 39.5 | AN287: =VLOOKUP(A287,[1]高二下!A$1:Q$618,16,0) -> 金贵 | AO287: =VLOOKUP(A287,[1]高二上!A$1:Q$571,5,0) -> 76 | AP287: =VLOOKUP(A287,[1]高二上!A$1:Q$571,6,0) -> 叶屏 | AQ287: =VLOOKUP(A287,[1]高二上!A$1:Q$571,7,0) -> 61 | AR287: =VLOOKUP(A287,[1]高二上!A$1:Q$571,8,0) -> 罗锐 | AS287: =VLOOKUP(A287,[1]高二上!A$1:Q$571,9,0) -> 37.5 | AT287: =VLOOKUP(A287,[1]高二上!A$1:Q$571,10,0) -> 谢斌 | AU287: =VLOOKUP(A287,[1]高二上!A$1:Q$571,11,0) -> 57 | AV287: =VLOOKUP(A287,[1]高二上!A$1:Q$571,12,0) -> 马巫各 | AW287: =VLOOKUP(A287,[1]高二上!A$1:Q$571,13,0) -> 63 | AX287: =VLOOKUP(A287,[1]高二上!A$1:Q$571,14,0) -> 赵香才 | AY287: =VLOOKUP(A287,[1]高二上!A$1:Q$571,15,0) -> 38 | AZ287: =VLOOKUP(A287,[1]高二上!A$1:Q$571,16,0) -> 金贵 | BA287: =VLOOKUP(A287,[1]高一下!$A$1:$Q$584,5,0) -> 68 | BB287: =VLOOKUP(A287,[1]高一下!$A$1:$Q$584,6,0) -> 叶屏 | BC287: =VLOOKUP(A287,[1]高一下!$A$1:$Q$584,7,0) -> 32 | BD287: =VLOOKUP(A287,[1]高一下!$A$1:$Q$584,8,0) -> 李希 | BE287: =VLOOKUP(A287,[1]高一下!$A$1:$Q$584,9,0) -> 40 | BF287: =VLOOKUP(A287,[1]高一下!$A$1:$Q$584,10,0) -> 达娃央初 | BG287: =VLOOKUP(A287,[1]高一下!$A$1:$Q$584,11,0) -> 44 | BH287: =VLOOKUP(A287,[1]高一下!$A$1:$Q$584,12,0) -> 马巫各 | BI287: =VLOOKUP(A287,[1]高一下!$A$1:$Q$584,13,0) -> 40 | BJ287: =VLOOKUP(A287,[1]高一下!$A$1:$Q$584,14,0) -> 赵香才 | BK287: =VLOOKUP(A287,[1]高一下!$A$1:$Q$584,15,0) -> 43 | BL287: =VLOOKUP(A287,[1]高一下!$A$1:$Q$584,16,0) -> 金贵 | BM287: =VLOOKUP(A287,[1]高一上!A$1:W$612,5,0) -> 68 | BN287: =VLOOKUP(A287,[1]高一上!A$1:W$612,6,0) -> 何苗 | BO287: =VLOOKUP(A287,[1]高一上!A$1:W$612,7,0) -> 33 | BP287: =VLOOKUP(A287,[1]高一上!A$1:W$612,8,0) -> 胡付松 | BQ287: =VLOOKUP(A287,[1]高一上!A$1:W$612,9,0) -> 27 | BR287: =VLOOKUP(A287,[1]高一上!A$1:W$612,10,0) -> 聂艳梅 | BS287: =VLOOKUP(A287,[1]高一上!A$1:W$612,17,0) -> 47 | BT287: =VLOOKUP(A287,[1]高一上!A$1:W$612,18,0) -> 卢银楷 | BU287: =VLOOKUP(A287,[1]高一上!A$1:W$612,19,0) -> 24 | BV287: =VLOOKUP(A287,[1]高一上!A$1:W$612,20,0) -> 赵香才 | BW287: =VLOOKUP(A287,[1]高一上!A$1:W$612,21,0) -> 29 | BX287: =VLOOKUP(A287,[1]高一上!A$1:W$612,22,0) -> 骆泽群 | BY287: =VLOOKUP(A287,[1]中考!A$1:N$590,5,0) -> 73 | BZ287: =VLOOKUP(A287,[1]中考!A$1:N$590,6,0) -> 78 | CA287: =VLOOKUP(A287,[1]中考!A$1:N$590,7,0) -> 40 | CB287: =VLOOKUP(A287,[1]中考!A$1:N$590,11,0) -> 50 | CC287: =VLOOKUP(A287,[1]中考!A$1:N$590,12,0) -> 24 | CD287: =VLOOKUP(A287,[1]中考!A$1:N$590,13,0) -> 18
A288: 513422200302132527 | B288: 6 | C288: 李蔷 | D288: 理科 | E288: 104 | F288: 阙丽萍 | G288: 93 | H288: 李希 | I288: 82 | J288: 兰卡布尺 | K288: 57.5 | L288: 高贵勇 | M288: 66.5 | N288: 杨建 | O288: 71.5 | P288: 杨建 | Q288: =VLOOKUP(A288,[1]高三上!A$3:Q$629,5,0) -> 99.0 | R288: =VLOOKUP(A288,[1]高三上!A$3:Q$629,6,0) -> 阙丽萍 | S288: =VLOOKUP(A288,[1]高三上!A$3:Q$629,7,0) -> 44.0 | T288: =VLOOKUP(A288,[1]高三上!A$3:Q$629,8,0) -> 李希 | U288: =VLOOKUP(A288,[1]高三上!A$3:Q$629,9,0) -> 82.5 | V288: =VLOOKUP(A288,[1]高三上!A$3:Q$629,10,0) -> 兰卡布尺 | W288: =VLOOKUP(A288,[1]高三上!A$3:Q$629,11,0) -> 17.0 | X288: =VLOOKUP(A288,[1]高三上!A$3:Q$629,12,0) -> 高贵勇 | Y288: =VLOOKUP(A288,[1]高三上!A$3:Q$629,13,0) -> 43.0 | Z288: =VLOOKUP(A288,[1]高三上!A$3:Q$629,14,0) -> 0 | AA288: =VLOOKUP(A288,[1]高三上!A$3:Q$629,15,0) -> 49.0 | AB288: =VLOOKUP(A288,[1]高三上!A$3:Q$629,16,0) -> 0 | AC288: =VLOOKUP(A288,[1]高二下!A$1:Q$618,5,0) -> 87 | AD288: =VLOOKUP(A288,[1]高二下!A$1:Q$618,6,0) -> 阙丽萍 | AE288: =VLOOKUP(A288,[1]高二下!A$1:Q$618,7,0) -> 66.5 | AF288: =VLOOKUP(A288,[1]高二下!A$1:Q$618,8,0) -> 李希 | AG288: =VLOOKUP(A288,[1]高二下!A$1:Q$618,9,0) -> 64 | AH288: =VLOOKUP(A288,[1]高二下!A$1:Q$618,10,0) -> 达娃央初 | AI288: =VLOOKUP(A288,[1]高二下!A$1:Q$618,11,0) -> 12 | AJ288: =VLOOKUP(A288,[1]高二下!A$1:Q$618,12,0) -> 高贵勇 | AK288: =VLOOKUP(A288,[1]高二下!A$1:Q$618,13,0) -> 34 | AL288: =VLOOKUP(A288,[1]高二下!A$1:Q$618,14,0) -> 陈文惠 | AM288: =VLOOKUP(A288,[1]高二下!A$1:Q$618,15,0) -> 53.5 | AN288: =VLOOKUP(A288,[1]高二下!A$1:Q$618,16,0) -> 卢祥 | AO288: =VLOOKUP(A288,[1]高二上!A$1:Q$571,5,0) -> 103 | AP288: =VLOOKUP(A288,[1]高二上!A$1:Q$571,6,0) -> 阙丽萍 | AQ288: =VLOOKUP(A288,[1]高二上!A$1:Q$571,7,0) -> 92 | AR288: =VLOOKUP(A288,[1]高二上!A$1:Q$571,8,0) -> 李希 | AS288: =VLOOKUP(A288,[1]高二上!A$1:Q$571,9,0) -> 73 | AT288: =VLOOKUP(A288,[1]高二上!A$1:Q$571,10,0) -> 谢斌 | AU288: =VLOOKUP(A288,[1]高二上!A$1:Q$571,11,0) -> 27 | AV288: =VLOOKUP(A288,[1]高二上!A$1:Q$571,12,0) -> 高贵勇 | AW288: =VLOOKUP(A288,[1]高二上!A$1:Q$571,13,0) -> 44 | AX288: =VLOOKUP(A288,[1]高二上!A$1:Q$571,14,0) -> 陈文惠 | AY288: =VLOOKUP(A288,[1]高二上!A$1:Q$571,15,0) -> 72 | AZ288: =VLOOKUP(A288,[1]高二上!A$1:Q$571,16,0) -> 卢祥 | BA288: =VLOOKUP(A288,[1]高一下!$A$1:$Q$584,5,0) -> 87 | BB288: =VLOOKUP(A288,[1]高一下!$A$1:$Q$584,6,0) -> 阙丽萍 | BC288: =VLOOKUP(A288,[1]高一下!$A$1:$Q$584,7,0) -> 100 | BD288: =VLOOKUP(A288,[1]高一下!$A$1:$Q$584,8,0) -> 李希 | BE288: =VLOOKUP(A288,[1]高一下!$A$1:$Q$584,9,0) -> 63.5 | BF288: =VLOOKUP(A288,[1]高一下!$A$1:$Q$584,10,0) -> 达娃央初 | BG288: =VLOOKUP(A288,[1]高一下!$A$1:$Q$584,11,0) -> 34 | BH288: =VLOOKUP(A288,[1]高一下!$A$1:$Q$584,12,0) -> 兰阿布 | BI288: =VLOOKUP(A288,[1]高一下!$A$1:$Q$584,13,0) -> 44 | BJ288: =VLOOKUP(A288,[1]高一下!$A$1:$Q$584,14,0) -> 陈文惠 | BK288: =VLOOKUP(A288,[1]高一下!$A$1:$Q$584,15,0) -> 53 | BL288: =VLOOKUP(A288,[1]高一下!$A$1:$Q$584,16,0) -> 卢祥 | BM288: =VLOOKUP(A288,[1]高一上!A$1:W$612,5,0) -> 75 | BN288: =VLOOKUP(A288,[1]高一上!A$1:W$612,6,0) -> 何苗 | BO288: =VLOOKUP(A288,[1]高一上!A$1:W$612,7,0) -> 106 | BP288: =VLOOKUP(A288,[1]高一上!A$1:W$612,8,0) -> 李希 | BQ288: =VLOOKUP(A288,[1]高一上!A$1:W$612,9,0) -> 61 | BR288: =VLOOKUP(A288,[1]高一上!A$1:W$612,10,0) -> 达娃央初 | BS288: =VLOOKUP(A288,[1]高一上!A$1:W$612,11,0) -> 31 | BT288: =VLOOKUP(A288,[1]高一上!A$1:W$612,12,0) -> 郑永朝 | BU288: =VLOOKUP(A288,[1]高一上!A$1:W$612,13,0) -> 54 | BV288: =VLOOKUP(A288,[1]高一上!A$1:W$612,14,0) -> 叶仁群 | BW288: =VLOOKUP(A288,[1]高一上!A$1:W$612,15,0) -> 42 | BX288: =VLOOKUP(A288,[1]高一上!A$1:W$612,16,0) -> 辜英琼 | BY288: =VLOOKUP(A288,[1]中考!A$1:N$590,5,0) -> 83 | BZ288: =VLOOKUP(A288,[1]中考!A$1:N$590,6,0) -> 91 | CA288: =VLOOKUP(A288,[1]中考!A$1:N$590,7,0) -> 73 | CB288: =VLOOKUP(A288,[1]中考!A$1:N$590,8,0) -> 50 | CC288: =VLOOKUP(A288,[1]中考!A$1:N$590,9,0) -> 35 | CD288: =VLOOKUP(A288,[1]中考!A$1:N$590,10,0) -> 27
A289: 513422200501252919 | B289: 6 | C289: 伍建龙 | D289: 理科 | E289: 107 | F289: 阙丽萍 | G289: 72 | H289: 李希 | I289: 72 | J289: 兰卡布尺 | K289: 37 | L289: 高贵勇 | M289: 66 | N289: 杨建 | O289: 75 | P289: 杨建 | Q289: =VLOOKUP(A289,[1]高三上!A$3:Q$629,5,0) -> 85.0 | R289: =VLOOKUP(A289,[1]高三上!A$3:Q$629,6,0) -> 阙丽萍 | S289: =VLOOKUP(A289,[1]高三上!A$3:Q$629,7,0) -> 71.0 | T289: =VLOOKUP(A289,[1]高三上!A$3:Q$629,8,0) -> 李希 | U289: =VLOOKUP(A289,[1]高三上!A$3:Q$629,9,0) -> 69.5 | V289: =VLOOKUP(A289,[1]高三上!A$3:Q$629,10,0) -> 兰卡布尺 | W289: =VLOOKUP(A289,[1]高三上!A$3:Q$629,11,0) -> 25.0 | X289: =VLOOKUP(A289,[1]高三上!A$3:Q$629,12,0) -> 高贵勇 | Y289: =VLOOKUP(A289,[1]高三上!A$3:Q$629,13,0) -> 34.0 | Z289: =VLOOKUP(A289,[1]高三上!A$3:Q$629,14,0) -> 0 | AA289: =VLOOKUP(A289,[1]高三上!A$3:Q$629,15,0) -> 62.0 | AB289: =VLOOKUP(A289,[1]高三上!A$3:Q$629,16,0) -> 0 | AC289: =VLOOKUP(A289,[1]高二下!A$1:Q$618,5,0) -> 96.5 | AD289: =VLOOKUP(A289,[1]高二下!A$1:Q$618,6,0) -> 阙丽萍 | AE289: =VLOOKUP(A289,[1]高二下!A$1:Q$618,7,0) -> 65.5 | AF289: =VLOOKUP(A289,[1]高二下!A$1:Q$618,8,0) -> 李希 | AG289: =VLOOKUP(A289,[1]高二下!A$1:Q$618,9,0) -> 78.5 | AH289: =VLOOKUP(A289,[1]高二下!A$1:Q$618,10,0) -> 达娃央初 | AI289: =VLOOKUP(A289,[1]高二下!A$1:Q$618,11,0) -> 31.5 | AJ289: =VLOOKUP(A289,[1]高二下!A$1:Q$618,12,0) -> 高贵勇 | AK289: =VLOOKUP(A289,[1]高二下!A$1:Q$618,13,0) -> 27 | AL289: =VLOOKUP(A289,[1]高二下!A$1:Q$618,14,0) -> 陈文惠 | AM289: =VLOOKUP(A289,[1]高二下!A$1:Q$618,15,0) -> 40 | AN289: =VLOOKUP(A289,[1]高二下!A$1:Q$618,16,0) -> 卢祥 | AO289: =VLOOKUP(A289,[1]高二上!A$1:Q$571,5,0) -> 108 | AP289: =VLOOKUP(A289,[1]高二上!A$1:Q$571,6,0) -> 阙丽萍 | AQ289: =VLOOKUP(A289,[1]高二上!A$1:Q$571,7,0) -> 88 | AR289: =VLOOKUP(A289,[1]高二上!A$1:Q$571,8,0) -> 李希 | AS289: =VLOOKUP(A289,[1]高二上!A$1:Q$571,9,0) -> 61 | AT289: =VLOOKUP(A289,[1]高二上!A$1:Q$571,10,0) -> 谢斌 | AU289: =VLOOKUP(A289,[1]高二上!A$1:Q$571,11,0) -> 23 | AV289: =VLOOKUP(A289,[1]高二上!A$1:Q$571,12,0) -> 高贵勇 | AW289: =VLOOKUP(A289,[1]高二上!A$1:Q$571,13,0) -> 26 | AX289: =VLOOKUP(A289,[1]高二上!A$1:Q$571,14,0) -> 陈文惠 | AY289: =VLOOKUP(A289,[1]高二上!A$1:Q$571,15,0) -> 70 | AZ289: =VLOOKUP(A289,[1]高二上!A$1:Q$571,16,0) -> 卢祥 | BA289: =VLOOKUP(A289,[1]高一下!$A$1:$Q$584,5,0) -> 86 | BB289: =VLOOKUP(A289,[1]高一下!$A$1:$Q$584,6,0) -> 阙丽萍 | BC289: =VLOOKUP(A289,[1]高一下!$A$1:$Q$584,7,0) -> 99 | BD289: =VLOOKUP(A289,[1]高一下!$A$1:$Q$584,8,0) -> 李希 | BE289: =VLOOKUP(A289,[1]高一下!$A$1:$Q$584,9,0) -> 68.5 | BF289: =VLOOKUP(A289,[1]高一下!$A$1:$Q$584,10,0) -> 达娃央初 | BG289: =VLOOKUP(A289,[1]高一下!$A$1:$Q$584,11,0) -> 31 | BH289: =VLOOKUP(A289,[1]高一下!$A$1:$Q$584,12,0) -> 兰阿布 | BI289: =VLOOKUP(A289,[1]高一下!$A$1:$Q$584,13,0) -> 35 | BJ289: =VLOOKUP(A289,[1]高一下!$A$1:$Q$584,14,0) -> 陈文惠 | BK289: =VLOOKUP(A289,[1]高一下!$A$1:$Q$584,15,0) -> 38 | BL289: =VLOOKUP(A289,[1]高一下!$A$1:$Q$584,16,0) -> 卢祥 | BM289: =VLOOKUP(A289,[1]高一上!A$1:W$612,5,0) -> 69 | BN289: =VLOOKUP(A289,[1]高一上!A$1:W$612,6,0) -> 何苗 | BO289: =VLOOKUP(A289,[1]高一上!A$1:W$612,7,0) -> 95 | BP289: =VLOOKUP(A289,[1]高一上!A$1:W$612,8,0) -> 李希 | BQ289: =VLOOKUP(A289,[1]高一上!A$1:W$612,9,0) -> 68 | BR289: =VLOOKUP(A289,[1]高一上!A$1:W$612,10,0) -> 达娃央初 | BS289: =VLOOKUP(A289,[1]高一上!A$1:W$612,11,0) -> 0 | BT289: =VLOOKUP(A289,[1]高一上!A$1:W$612,12,0) -> 郑永朝 | BU289: =VLOOKUP(A289,[1]高一上!A$1:W$612,13,0) -> 67 | BV289: =VLOOKUP(A289,[1]高一上!A$1:W$612,14,0) -> 叶仁群 | BW289: =VLOOKUP(A289,[1]高一上!A$1:W$612,15,0) -> 36 | BX289: =VLOOKUP(A289,[1]高一上!A$1:W$612,16,0) -> 辜英琼 | BY289: =VLOOKUP(A289,[1]中考!A$1:N$590,5,0) -> 89 | BZ289: =VLOOKUP(A289,[1]中考!A$1:N$590,6,0) -> 67 | CA289: =VLOOKUP(A289,[1]中考!A$1:N$590,7,0) -> 74 | CB289: =VLOOKUP(A289,[1]中考!A$1:N$590,8,0) -> 34 | CC289: =VLOOKUP(A289,[1]中考!A$1:N$590,9,0) -> 15 | CD289: =VLOOKUP(A289,[1]中考!A$1:N$590,10,0) -> 27
A290: 513422200510101354 | B290: 6 | C290: 向方文 | D290: 理科 | E290: 113 | F290: 阙丽萍 | G290: 85 | H290: 李希 | I290: 33 | J290: 兰卡布尺 | K290: 60 | L290: 高贵勇 | M290: 62 | N290: 杨建 | O290: 69 | P290: 杨建 | Q290: =VLOOKUP(A290,[1]高三上!A$3:Q$629,5,0) -> 104.0 | R290: =VLOOKUP(A290,[1]高三上!A$3:Q$629,6,0) -> 阙丽萍 | S290: =VLOOKUP(A290,[1]高三上!A$3:Q$629,7,0) -> 60.0 | T290: =VLOOKUP(A290,[1]高三上!A$3:Q$629,8,0) -> 李希 | U290: =VLOOKUP(A290,[1]高三上!A$3:Q$629,9,0) -> 32.0 | V290: =VLOOKUP(A290,[1]高三上!A$3:Q$629,10,0) -> 兰卡布尺 | W290: =VLOOKUP(A290,[1]高三上!A$3:Q$629,11,0) -> 28.0 | X290: =VLOOKUP(A290,[1]高三上!A$3:Q$629,12,0) -> 高贵勇 | Y290: =VLOOKUP(A290,[1]高三上!A$3:Q$629,13,0) -> 54.0 | Z290: =VLOOKUP(A290,[1]高三上!A$3:Q$629,14,0) -> 0 | AA290: =VLOOKUP(A290,[1]高三上!A$3:Q$629,15,0) -> 62.0 | AB290: =VLOOKUP(A290,[1]高三上!A$3:Q$629,16,0) -> 0 | AC290: =VLOOKUP(A290,[1]高二下!A$1:Q$618,5,0) -> 88.5 | AD290: =VLOOKUP(A290,[1]高二下!A$1:Q$618,6,0) -> 阙丽萍 | AE290: =VLOOKUP(A290,[1]高二下!A$1:Q$618,7,0) -> 79.5 | AF290: =VLOOKUP(A290,[1]高二下!A$1:Q$618,8,0) -> 李希 | AG290: =VLOOKUP(A290,[1]高二下!A$1:Q$618,9,0) -> 54 | AH290: =VLOOKUP(A290,[1]高二下!A$1:Q$618,10,0) -> 达娃央初 | AI290: =VLOOKUP(A290,[1]高二下!A$1:Q$618,11,0) -> 35 | AJ290: =VLOOKUP(A290,[1]高二下!A$1:Q$618,12,0) -> 高贵勇 | AK290: =VLOOKUP(A290,[1]高二下!A$1:Q$618,13,0) -> 58.5 | AL290: =VLOOKUP(A290,[1]高二下!A$1:Q$618,14,0) -> 陈文惠 | AM290: =VLOOKUP(A290,[1]高二下!A$1:Q$618,15,0) -> 61.5 | AN290: =VLOOKUP(A290,[1]高二下!A$1:Q$618,16,0) -> 卢祥 | AO290: =VLOOKUP(A290,[1]高二上!A$1:Q$571,5,0) -> 92 | AP290: =VLOOKUP(A290,[1]高二上!A$1:Q$571,6,0) -> 阙丽萍 | AQ290: =VLOOKUP(A290,[1]高二上!A$1:Q$571,7,0) -> 91 | AR290: =VLOOKUP(A290,[1]高二上!A$1:Q$571,8,0) -> 李希 | AS290: =VLOOKUP(A290,[1]高二上!A$1:Q$571,9,0) -> 52 | AT290: =VLOOKUP(A290,[1]高二上!A$1:Q$571,10,0) -> 谢斌 | AU290: =VLOOKUP(A290,[1]高二上!A$1:Q$571,11,0) -> 31 | AV290: =VLOOKUP(A290,[1]高二上!A$1:Q$571,12,0) -> 高贵勇 | AW290: =VLOOKUP(A290,[1]高二上!A$1:Q$571,13,0) -> 54 | AX290: =VLOOKUP(A290,[1]高二上!A$1:Q$571,14,0) -> 陈文惠 | AY290: =VLOOKUP(A290,[1]高二上!A$1:Q$571,15,0) -> 64 | AZ290: =VLOOKUP(A290,[1]高二上!A$1:Q$571,16,0) -> 卢祥 | BA290: =VLOOKUP(A290,[1]高一下!$A$1:$Q$584,5,0) -> 91 | BB290: =VLOOKUP(A290,[1]高一下!$A$1:$Q$584,6,0) -> 阙丽萍 | BC290: =VLOOKUP(A290,[1]高一下!$A$1:$Q$584,7,0) -> 94 | BD290: =VLOOKUP(A290,[1]高一下!$A$1:$Q$584,8,0) -> 李希 | BE290: =VLOOKUP(A290,[1]高一下!$A$1:$Q$584,9,0) -> 34.5 | BF290: =VLOOKUP(A290,[1]高一下!$A$1:$Q$584,10,0) -> 达娃央初 | BG290: =VLOOKUP(A290,[1]高一下!$A$1:$Q$584,11,0) -> 44 | BH290: =VLOOKUP(A290,[1]高一下!$A$1:$Q$584,12,0) -> 兰阿布 | BI290: =VLOOKUP(A290,[1]高一下!$A$1:$Q$584,13,0) -> 65 | BJ290: =VLOOKUP(A290,[1]高一下!$A$1:$Q$584,14,0) -> 陈文惠 | BK290: =VLOOKUP(A290,[1]高一下!$A$1:$Q$584,15,0) -> 53 | BL290: =VLOOKUP(A290,[1]高一下!$A$1:$Q$584,16,0) -> 卢祥 | BM290: =VLOOKUP(A290,[1]高一上!A$1:W$612,5,0) -> 69 | BN290: =VLOOKUP(A290,[1]高一上!A$1:W$612,6,0) -> 何苗 | BO290: =VLOOKUP(A290,[1]高一上!A$1:W$612,7,0) -> 86 | BP290: =VLOOKUP(A290,[1]高一上!A$1:W$612,8,0) -> 李乔军 | BQ290: =VLOOKUP(A290,[1]高一上!A$1:W$612,9,0) -> 31.5 | BR290: =VLOOKUP(A290,[1]高一上!A$1:W$612,10,0) -> 向翠琳 | BS290: =VLOOKUP(A290,[1]高一上!A$1:W$612,11,0) -> 32 | BT290: =VLOOKUP(A290,[1]高一上!A$1:W$612,12,0) -> 王志强 | BU290: =VLOOKUP(A290,[1]高一上!A$1:W$612,13,0) -> 73 | BV290: =VLOOKUP(A290,[1]高一上!A$1:W$612,14,0) -> 李荣鑫 | BW290: =VLOOKUP(A290,[1]高一上!A$1:W$612,15,0) -> 62 | BX290: =VLOOKUP(A290,[1]高一上!A$1:W$612,16,0) -> 卢祥 | BY290: =VLOOKUP(A290,[1]中考!A$1:N$590,5,0) -> 89 | BZ290: =VLOOKUP(A290,[1]中考!A$1:N$590,6,0) -> 74 | CA290: =VLOOKUP(A290,[1]中考!A$1:N$590,7,0) -> 41 | CB290: =VLOOKUP(A290,[1]中考!A$1:N$590,8,0) -> 64 | CC290: =VLOOKUP(A290,[1]中考!A$1:N$590,9,0) -> 44 | CD290: =VLOOKUP(A290,[1]中考!A$1:N$590,10,0) -> 28
A291: 513422200512071515 | B291: 6 | C291: 马小弟 | D291: 理科 | E291: 100 | F291: 阙丽萍 | G291: 62 | H291: 李希 | I291: 87 | J291: 兰卡布尺 | K291: 47.5 | L291: 高贵勇 | M291: 45.5 | N291: 杨建 | O291: 71.5 | P291: 杨建 | Q291: =VLOOKUP(A291,[1]高三上!A$3:Q$629,5,0) -> 75.0 | R291: =VLOOKUP(A291,[1]高三上!A$3:Q$629,6,0) -> 阙丽萍 | S291: =VLOOKUP(A291,[1]高三上!A$3:Q$629,7,0) -> 58.0 | T291: =VLOOKUP(A291,[1]高三上!A$3:Q$629,8,0) -> 李希 | U291: =VLOOKUP(A291,[1]高三上!A$3:Q$629,9,0) -> 75.5 | V291: =VLOOKUP(A291,[1]高三上!A$3:Q$629,10,0) -> 兰卡布尺 | W291: =VLOOKUP(A291,[1]高三上!A$3:Q$629,11,0) -> 28.0 | X291: =VLOOKUP(A291,[1]高三上!A$3:Q$629,12,0) -> 高贵勇 | Y291: =VLOOKUP(A291,[1]高三上!A$3:Q$629,13,0) -> 43.0 | Z291: =VLOOKUP(A291,[1]高三上!A$3:Q$629,14,0) -> 0 | AA291: =VLOOKUP(A291,[1]高三上!A$3:Q$629,15,0) -> 70.0 | AB291: =VLOOKUP(A291,[1]高三上!A$3:Q$629,16,0) -> 0 | AC291: =VLOOKUP(A291,[1]高二下!A$1:Q$618,5,0) -> 70 | AD291: =VLOOKUP(A291,[1]高二下!A$1:Q$618,6,0) -> 阙丽萍 | AE291: =VLOOKUP(A291,[1]高二下!A$1:Q$618,7,0) -> 81 | AF291: =VLOOKUP(A291,[1]高二下!A$1:Q$618,8,0) -> 李希 | AG291: =VLOOKUP(A291,[1]高二下!A$1:Q$618,9,0) -> 80.5 | AH291: =VLOOKUP(A291,[1]高二下!A$1:Q$618,10,0) -> 达娃央初 | AI291: =VLOOKUP(A291,[1]高二下!A$1:Q$618,11,0) -> 25.5 | AJ291: =VLOOKUP(A291,[1]高二下!A$1:Q$618,12,0) -> 高贵勇 | AK291: =VLOOKUP(A291,[1]高二下!A$1:Q$618,13,0) -> 30 | AL291: =VLOOKUP(A291,[1]高二下!A$1:Q$618,14,0) -> 陈文惠 | AM291: =VLOOKUP(A291,[1]高二下!A$1:Q$618,15,0) -> 37.5 | AN291: =VLOOKUP(A291,[1]高二下!A$1:Q$618,16,0) -> 卢祥 | AO291: =VLOOKUP(A291,[1]高二上!A$1:Q$571,5,0) -> #N/A | AP291: =VLOOKUP(A291,[1]高二上!A$1:Q$571,6,0) -> #N/A | AQ291: =VLOOKUP(A291,[1]高二上!A$1:Q$571,7,0) -> #N/A | AR291: =VLOOKUP(A291,[1]高二上!A$1:Q$571,8,0) -> #N/A | AS291: =VLOOKUP(A291,[1]高二上!A$1:Q$571,9,0) -> #N/A | AT291: =VLOOKUP(A291,[1]高二上!A$1:Q$571,10,0) -> #N/A | AU291: =VLOOKUP(A291,[1]高二上!A$1:Q$571,11,0) -> #N/A | AV291: =VLOOKUP(A291,[1]高二上!A$1:Q$571,12,0) -> #N/A | AW291: =VLOOKUP(A291,[1]高二上!A$1:Q$571,13,0) -> #N/A | AX291: =VLOOKUP(A291,[1]高二上!A$1:Q$571,14,0) -> #N/A | AY291: =VLOOKUP(A291,[1]高二上!A$1:Q$571,15,0) -> #N/A | AZ291: =VLOOKUP(A291,[1]高二上!A$1:Q$571,16,0) -> #N/A | BA291: =VLOOKUP(A291,[1]高一下!$A$1:$Q$584,5,0) -> #N/A | BB291: =VLOOKUP(A291,[1]高一下!$A$1:$Q$584,6,0) -> #N/A | BC291: =VLOOKUP(A291,[1]高一下!$A$1:$Q$584,7,0) -> #N/A | BD291: =VLOOKUP(A291,[1]高一下!$A$1:$Q$584,8,0) -> #N/A | BE291: =VLOOKUP(A291,[1]高一下!$A$1:$Q$584,9,0) -> #N/A | BF291: =VLOOKUP(A291,[1]高一下!$A$1:$Q$584,10,0) -> #N/A | BG291: =VLOOKUP(A291,[1]高一下!$A$1:$Q$584,11,0) -> #N/A | BH291: =VLOOKUP(A291,[1]高一下!$A$1:$Q$584,12,0) -> #N/A | BI291: =VLOOKUP(A291,[1]高一下!$A$1:$Q$584,13,0) -> #N/A | BJ291: =VLOOKUP(A291,[1]高一下!$A$1:$Q$584,14,0) -> #N/A | BK291: =VLOOKUP(A291,[1]高一下!$A$1:$Q$584,15,0) -> #N/A | BL291: =VLOOKUP(A291,[1]高一下!$A$1:$Q$584,16,0) -> #N/A | BM291: =VLOOKUP(A291,[1]高一上!A$1:W$612,5,0) -> #N/A | BN291: =VLOOKUP(A291,[1]高一上!A$1:W$612,6,0) -> #N/A | BO291: =VLOOKUP(A291,[1]高一上!A$1:W$612,7,0) -> #N/A | BP291: =VLOOKUP(A291,[1]高一上!A$1:W$612,8,0) -> #N/A | BQ291: =VLOOKUP(A291,[1]高一上!A$1:W$612,9,0) -> #N/A | BR291: =VLOOKUP(A291,[1]高一上!A$1:W$612,10,0) -> #N/A | BS291: =VLOOKUP(A291,[1]高一上!A$1:W$612,11,0) -> #N/A | BT291: =VLOOKUP(A291,[1]高一上!A$1:W$612,12,0) -> #N/A | BU291: =VLOOKUP(A291,[1]高一上!A$1:W$612,13,0) -> #N/A | BV291: =VLOOKUP(A291,[1]高一上!A$1:W$612,14,0) -> #N/A | BW291: =VLOOKUP(A291,[1]高一上!A$1:W$612,15,0) -> #N/A | BX291: =VLOOKUP(A291,[1]高一上!A$1:W$612,16,0) -> #N/A | BY291: =VLOOKUP(A291,[1]中考!A$1:N$590,5,0) -> #N/A | BZ291: =VLOOKUP(A291,[1]中考!A$1:N$590,6,0) -> #N/A | CA291: =VLOOKUP(A291,[1]中考!A$1:N$590,7,0) -> #N/A | CB291: =VLOOKUP(A291,[1]中考!A$1:N$590,8,0) -> #N/A | CC291: =VLOOKUP(A291,[1]中考!A$1:N$590,9,0) -> #N/A | CD291: =VLOOKUP(A291,[1]中考!A$1:N$590,10,0) -> #N/A
A292: 513422200101085066 | B292: 6 | C292: 刘明 | D292: 理科 | E292: 100 | F292: 阙丽萍 | G292: 57 | H292: 李希 | I292: 94 | J292: 兰卡布尺 | K292: 25.5 | L292: 高贵勇 | M292: 57 | N292: 杨建 | O292: 69.5 | P292: 杨建 | Q292: =VLOOKUP(A292,[1]高三上!A$3:Q$629,5,0) -> 93.0 | R292: =VLOOKUP(A292,[1]高三上!A$3:Q$629,6,0) -> 阙丽萍 | S292: =VLOOKUP(A292,[1]高三上!A$3:Q$629,7,0) -> 40.0 | T292: =VLOOKUP(A292,[1]高三上!A$3:Q$629,8,0) -> 李希 | U292: =VLOOKUP(A292,[1]高三上!A$3:Q$629,9,0) -> 102.0 | V292: =VLOOKUP(A292,[1]高三上!A$3:Q$629,10,0) -> 兰卡布尺 | W292: =VLOOKUP(A292,[1]高三上!A$3:Q$629,11,0) -> 20.0 | X292: =VLOOKUP(A292,[1]高三上!A$3:Q$629,12,0) -> 高贵勇 | Y292: =VLOOKUP(A292,[1]高三上!A$3:Q$629,13,0) -> 42.0 | Z292: =VLOOKUP(A292,[1]高三上!A$3:Q$629,14,0) -> 0 | AA292: =VLOOKUP(A292,[1]高三上!A$3:Q$629,15,0) -> 62.0 | AB292: =VLOOKUP(A292,[1]高三上!A$3:Q$629,16,0) -> 0 | AC292: =VLOOKUP(A292,[1]高二下!A$1:Q$618,5,0) -> 96 | AD292: =VLOOKUP(A292,[1]高二下!A$1:Q$618,6,0) -> 阙丽萍 | AE292: =VLOOKUP(A292,[1]高二下!A$1:Q$618,7,0) -> 57.5 | AF292: =VLOOKUP(A292,[1]高二下!A$1:Q$618,8,0) -> 李希 | AG292: =VLOOKUP(A292,[1]高二下!A$1:Q$618,9,0) -> 103 | AH292: =VLOOKUP(A292,[1]高二下!A$1:Q$618,10,0) -> 达娃央初 | AI292: =VLOOKUP(A292,[1]高二下!A$1:Q$618,11,0) -> 26.5 | AJ292: =VLOOKUP(A292,[1]高二下!A$1:Q$618,12,0) -> 高贵勇 | AK292: =VLOOKUP(A292,[1]高二下!A$1:Q$618,13,0) -> 24 | AL292: =VLOOKUP(A292,[1]高二下!A$1:Q$618,14,0) -> 陈文惠 | AM292: =VLOOKUP(A292,[1]高二下!A$1:Q$618,15,0) -> 32.5 | AN292: =VLOOKUP(A292,[1]高二下!A$1:Q$618,16,0) -> 卢祥 | AO292: =VLOOKUP(A292,[1]高二上!A$1:Q$571,5,0) -> 100 | AP292: =VLOOKUP(A292,[1]高二上!A$1:Q$571,6,0) -> 阙丽萍 | AQ292: =VLOOKUP(A292,[1]高二上!A$1:Q$571,7,0) -> 102 | AR292: =VLOOKUP(A292,[1]高二上!A$1:Q$571,8,0) -> 李希 | AS292: =VLOOKUP(A292,[1]高二上!A$1:Q$571,9,0) -> 97.5 | AT292: =VLOOKUP(A292,[1]高二上!A$1:Q$571,10,0) -> 谢斌 | AU292: =VLOOKUP(A292,[1]高二上!A$1:Q$571,11,0) -> 23 | AV292: =VLOOKUP(A292,[1]高二上!A$1:Q$571,12,0) -> 高贵勇 | AW292: =VLOOKUP(A292,[1]高二上!A$1:Q$571,13,0) -> 39 | AX292: =VLOOKUP(A292,[1]高二上!A$1:Q$571,14,0) -> 陈文惠 | AY292: =VLOOKUP(A292,[1]高二上!A$1:Q$571,15,0) -> 58 | AZ292: =VLOOKUP(A292,[1]高二上!A$1:Q$571,16,0) -> 卢祥 | BA292: =VLOOKUP(A292,[1]高一下!$A$1:$Q$584,5,0) -> 84 | BB292: =VLOOKUP(A292,[1]高一下!$A$1:$Q$584,6,0) -> 阙丽萍 | BC292: =VLOOKUP(A292,[1]高一下!$A$1:$Q$584,7,0) -> 62 | BD292: =VLOOKUP(A292,[1]高一下!$A$1:$Q$584,8,0) -> 李希 | BE292: =VLOOKUP(A292,[1]高一下!$A$1:$Q$584,9,0) -> 101 | BF292: =VLOOKUP(A292,[1]高一下!$A$1:$Q$584,10,0) -> 达娃央初 | BG292: =VLOOKUP(A292,[1]高一下!$A$1:$Q$584,11,0) -> 34 | BH292: =VLOOKUP(A292,[1]高一下!$A$1:$Q$584,12,0) -> 兰阿布 | BI292: =VLOOKUP(A292,[1]高一下!$A$1:$Q$584,13,0) -> 64 | BJ292: =VLOOKUP(A292,[1]高一下!$A$1:$Q$584,14,0) -> 陈文惠 | BK292: =VLOOKUP(A292,[1]高一下!$A$1:$Q$584,15,0) -> 64 | BL292: =VLOOKUP(A292,[1]高一下!$A$1:$Q$584,16,0) -> 卢祥 | BM292: =VLOOKUP(A292,[1]高一上!A$1:W$612,5,0) -> 81 | BN292: =VLOOKUP(A292,[1]高一上!A$1:W$612,6,0) -> 何苗 | BO292: =VLOOKUP(A292,[1]高一上!A$1:W$612,7,0) -> 58 | BP292: =VLOOKUP(A292,[1]高一上!A$1:W$612,8,0) -> 李希 | BQ292: =VLOOKUP(A292,[1]高一上!A$1:W$612,9,0) -> 75.5 | BR292: =VLOOKUP(A292,[1]高一上!A$1:W$612,10,0) -> 达娃央初 | BS292: =VLOOKUP(A292,[1]高一上!A$1:W$612,11,0) -> 43 | BT292: =VLOOKUP(A292,[1]高一上!A$1:W$612,12,0) -> 郑永朝 | BU292: =VLOOKUP(A292,[1]高一上!A$1:W$612,13,0) -> 54 | BV292: =VLOOKUP(A292,[1]高一上!A$1:W$612,14,0) -> 叶仁群 | BW292: =VLOOKUP(A292,[1]高一上!A$1:W$612,15,0) -> 34 | BX292: =VLOOKUP(A292,[1]高一上!A$1:W$612,16,0) -> 辜英琼 | BY292: =VLOOKUP(A292,[1]中考!A$1:N$590,5,0) -> 84 | BZ292: =VLOOKUP(A292,[1]中考!A$1:N$590,6,0) -> 67 | CA292: =VLOOKUP(A292,[1]中考!A$1:N$590,7,0) -> 85 | CB292: =VLOOKUP(A292,[1]中考!A$1:N$590,8,0) -> 46 | CC292: =VLOOKUP(A292,[1]中考!A$1:N$590,9,0) -> 36 | CD292: =VLOOKUP(A292,[1]中考!A$1:N$590,10,0) -> 43
A293: 513422200111036823 | B293: 6 | C293: 降初祝玛 | D293: 理科 | E293: 100 | F293: 阙丽萍 | G293: 71 | H293: 李希 | I293: 72 | J293: 兰卡布尺 | K293: 47 | L293: 高贵勇 | M293: 47 | N293: 杨建 | O293: 54 | P293: 杨建 | Q293: =VLOOKUP(A293,[1]高三上!A$3:Q$629,5,0) -> 99.0 | R293: =VLOOKUP(A293,[1]高三上!A$3:Q$629,6,0) -> 阙丽萍 | S293: =VLOOKUP(A293,[1]高三上!A$3:Q$629,7,0) -> 60.0 | T293: =VLOOKUP(A293,[1]高三上!A$3:Q$629,8,0) -> 李希 | U293: =VLOOKUP(A293,[1]高三上!A$3:Q$629,9,0) -> 90.5 | V293: =VLOOKUP(A293,[1]高三上!A$3:Q$629,10,0) -> 兰卡布尺 | W293: =VLOOKUP(A293,[1]高三上!A$3:Q$629,11,0) -> 29.0 | X293: =VLOOKUP(A293,[1]高三上!A$3:Q$629,12,0) -> 高贵勇 | Y293: =VLOOKUP(A293,[1]高三上!A$3:Q$629,13,0) -> 44.0 | Z293: =VLOOKUP(A293,[1]高三上!A$3:Q$629,14,0) -> 0 | AA293: =VLOOKUP(A293,[1]高三上!A$3:Q$629,15,0) -> 54.0 | AB293: =VLOOKUP(A293,[1]高三上!A$3:Q$629,16,0) -> 0 | AC293: =VLOOKUP(A293,[1]高二下!A$1:Q$618,5,0) -> 91 | AD293: =VLOOKUP(A293,[1]高二下!A$1:Q$618,6,0) -> 阙丽萍 | AE293: =VLOOKUP(A293,[1]高二下!A$1:Q$618,7,0) -> 61.5 | AF293: =VLOOKUP(A293,[1]高二下!A$1:Q$618,8,0) -> 李希 | AG293: =VLOOKUP(A293,[1]高二下!A$1:Q$618,9,0) -> 82.5 | AH293: =VLOOKUP(A293,[1]高二下!A$1:Q$618,10,0) -> 达娃央初 | AI293: =VLOOKUP(A293,[1]高二下!A$1:Q$618,11,0) -> 5 | AJ293: =VLOOKUP(A293,[1]高二下!A$1:Q$618,12,0) -> 高贵勇 | AK293: =VLOOKUP(A293,[1]高二下!A$1:Q$618,13,0) -> 39 | AL293: =VLOOKUP(A293,[1]高二下!A$1:Q$618,14,0) -> 陈文惠 | AM293: =VLOOKUP(A293,[1]高二下!A$1:Q$618,15,0) -> 34.5 | AN293: =VLOOKUP(A293,[1]高二下!A$1:Q$618,16,0) -> 卢祥 | AO293: =VLOOKUP(A293,[1]高二上!A$1:Q$571,5,0) -> #N/A | AP293: =VLOOKUP(A293,[1]高二上!A$1:Q$571,6,0) -> #N/A | AQ293: =VLOOKUP(A293,[1]高二上!A$1:Q$571,7,0) -> #N/A | AR293: =VLOOKUP(A293,[1]高二上!A$1:Q$571,8,0) -> #N/A | AS293: =VLOOKUP(A293,[1]高二上!A$1:Q$571,9,0) -> #N/A | AT293: =VLOOKUP(A293,[1]高二上!A$1:Q$571,10,0) -> #N/A | AU293: =VLOOKUP(A293,[1]高二上!A$1:Q$571,11,0) -> #N/A | AV293: =VLOOKUP(A293,[1]高二上!A$1:Q$571,12,0) -> #N/A | AW293: =VLOOKUP(A293,[1]高二上!A$1:Q$571,13,0) -> #N/A | AX293: =VLOOKUP(A293,[1]高二上!A$1:Q$571,14,0) -> #N/A | AY293: =VLOOKUP(A293,[1]高二上!A$1:Q$571,15,0) -> #N/A | AZ293: =VLOOKUP(A293,[1]高二上!A$1:Q$571,16,0) -> #N/A | BA293: =VLOOKUP(A293,[1]高一下!$A$1:$Q$584,5,0) -> #N/A | BB293: =VLOOKUP(A293,[1]高一下!$A$1:$Q$584,6,0) -> #N/A | BC293: =VLOOKUP(A293,[1]高一下!$A$1:$Q$584,7,0) -> #N/A | BD293: =VLOOKUP(A293,[1]高一下!$A$1:$Q$584,8,0) -> #N/A | BE293: =VLOOKUP(A293,[1]高一下!$A$1:$Q$584,9,0) -> #N/A | BF293: =VLOOKUP(A293,[1]高一下!$A$1:$Q$584,10,0) -> #N/A | BG293: =VLOOKUP(A293,[1]高一下!$A$1:$Q$584,11,0) -> #N/A | BH293: =VLOOKUP(A293,[1]高一下!$A$1:$Q$584,12,0) -> #N/A | BI293: =VLOOKUP(A293,[1]高一下!$A$1:$Q$584,13,0) -> #N/A | BJ293: =VLOOKUP(A293,[1]高一下!$A$1:$Q$584,14,0) -> #N/A | BK293: =VLOOKUP(A293,[1]高一下!$A$1:$Q$584,15,0) -> #N/A | BL293: =VLOOKUP(A293,[1]高一下!$A$1:$Q$584,16,0) -> #N/A | BM293: =VLOOKUP(A293,[1]高一上!A$1:W$612,5,0) -> #N/A | BN293: =VLOOKUP(A293,[1]高一上!A$1:W$612,6,0) -> #N/A | BO293: =VLOOKUP(A293,[1]高一上!A$1:W$612,7,0) -> #N/A | BP293: =VLOOKUP(A293,[1]高一上!A$1:W$612,8,0) -> #N/A | BQ293: =VLOOKUP(A293,[1]高一上!A$1:W$612,9,0) -> #N/A | BR293: =VLOOKUP(A293,[1]高一上!A$1:W$612,10,0) -> #N/A | BS293: =VLOOKUP(A293,[1]高一上!A$1:W$612,11,0) -> #N/A | BT293: =VLOOKUP(A293,[1]高一上!A$1:W$612,12,0) -> #N/A | BU293: =VLOOKUP(A293,[1]高一上!A$1:W$612,13,0) -> #N/A | BV293: =VLOOKUP(A293,[1]高一上!A$1:W$612,14,0) -> #N/A | BW293: =VLOOKUP(A293,[1]高一上!A$1:W$612,15,0) -> #N/A | BX293: =VLOOKUP(A293,[1]高一上!A$1:W$612,16,0) -> #N/A | BY293: =VLOOKUP(A293,[1]中考!A$1:N$590,5,0) -> #N/A | BZ293: =VLOOKUP(A293,[1]中考!A$1:N$590,6,0) -> #N/A | CA293: =VLOOKUP(A293,[1]中考!A$1:N$590,7,0) -> #N/A | CB293: =VLOOKUP(A293,[1]中考!A$1:N$590,8,0) -> #N/A | CC293: =VLOOKUP(A293,[1]中考!A$1:N$590,9,0) -> #N/A | CD293: =VLOOKUP(A293,[1]中考!A$1:N$590,10,0) -> #N/A
A294: 513422200305151926 | B294: 6 | C294: 马甲落 | D294: 理科 | E294: 114 | F294: 阙丽萍 | G294: 58 | H294: 李希 | I294: 83 | J294: 兰卡布尺 | K294: 27.5 | L294: 高贵勇 | M294: 42 | N294: 杨建 | O294: 66.5 | P294: 杨建 | Q294: =VLOOKUP(A294,[1]高三上!A$3:Q$629,5,0) -> 101.0 | R294: =VLOOKUP(A294,[1]高三上!A$3:Q$629,6,0) -> 阙丽萍 | S294: =VLOOKUP(A294,[1]高三上!A$3:Q$629,7,0) -> 41.0 | T294: =VLOOKUP(A294,[1]高三上!A$3:Q$629,8,0) -> 李希 | U294: =VLOOKUP(A294,[1]高三上!A$3:Q$629,9,0) -> 85.0 | V294: =VLOOKUP(A294,[1]高三上!A$3:Q$629,10,0) -> 兰卡布尺 | W294: =VLOOKUP(A294,[1]高三上!A$3:Q$629,11,0) -> 11.0 | X294: =VLOOKUP(A294,[1]高三上!A$3:Q$629,12,0) -> 高贵勇 | Y294: =VLOOKUP(A294,[1]高三上!A$3:Q$629,13,0) -> 32.0 | Z294: =VLOOKUP(A294,[1]高三上!A$3:Q$629,14,0) -> 0 | AA294: =VLOOKUP(A294,[1]高三上!A$3:Q$629,15,0) -> 59.0 | AB294: =VLOOKUP(A294,[1]高三上!A$3:Q$629,16,0) -> 0 | AC294: =VLOOKUP(A294,[1]高二下!A$1:Q$618,5,0) -> 96 | AD294: =VLOOKUP(A294,[1]高二下!A$1:Q$618,6,0) -> 阙丽萍 | AE294: =VLOOKUP(A294,[1]高二下!A$1:Q$618,7,0) -> 57 | AF294: =VLOOKUP(A294,[1]高二下!A$1:Q$618,8,0) -> 李希 | AG294: =VLOOKUP(A294,[1]高二下!A$1:Q$618,9,0) -> 89.5 | AH294: =VLOOKUP(A294,[1]高二下!A$1:Q$618,10,0) -> 达娃央初 | AI294: =VLOOKUP(A294,[1]高二下!A$1:Q$618,11,0) -> 10 | AJ294: =VLOOKUP(A294,[1]高二下!A$1:Q$618,12,0) -> 高贵勇 | AK294: =VLOOKUP(A294,[1]高二下!A$1:Q$618,13,0) -> 37.5 | AL294: =VLOOKUP(A294,[1]高二下!A$1:Q$618,14,0) -> 陈文惠 | AM294: =VLOOKUP(A294,[1]高二下!A$1:Q$618,15,0) -> 36.5 | AN294: =VLOOKUP(A294,[1]高二下!A$1:Q$618,16,0) -> 卢祥 | AO294: =VLOOKUP(A294,[1]高二上!A$1:Q$571,5,0) -> 107 | AP294: =VLOOKUP(A294,[1]高二上!A$1:Q$571,6,0) -> 阙丽萍 | AQ294: =VLOOKUP(A294,[1]高二上!A$1:Q$571,7,0) -> 81 | AR294: =VLOOKUP(A294,[1]高二上!A$1:Q$571,8,0) -> 李希 | AS294: =VLOOKUP(A294,[1]高二上!A$1:Q$571,9,0) -> 88.5 | AT294: =VLOOKUP(A294,[1]高二上!A$1:Q$571,10,0) -> 谢斌 | AU294: =VLOOKUP(A294,[1]高二上!A$1:Q$571,11,0) -> 12 | AV294: =VLOOKUP(A294,[1]高二上!A$1:Q$571,12,0) -> 高贵勇 | AW294: =VLOOKUP(A294,[1]高二上!A$1:Q$571,13,0) -> 29 | AX294: =VLOOKUP(A294,[1]高二上!A$1:Q$571,14,0) -> 陈文惠 | AY294: =VLOOKUP(A294,[1]高二上!A$1:Q$571,15,0) -> 55 | AZ294: =VLOOKUP(A294,[1]高二上!A$1:Q$571,16,0) -> 卢祥 | BA294: =VLOOKUP(A294,[1]高一下!$A$1:$Q$584,5,0) -> 98 | BB294: =VLOOKUP(A294,[1]高一下!$A$1:$Q$584,6,0) -> 阙丽萍 | BC294: =VLOOKUP(A294,[1]高一下!$A$1:$Q$584,7,0) -> 70 | BD294: =VLOOKUP(A294,[1]高一下!$A$1:$Q$584,8,0) -> 李希 | BE294: =VLOOKUP(A294,[1]高一下!$A$1:$Q$584,9,0) -> 70.5 | BF294: =VLOOKUP(A294,[1]高一下!$A$1:$Q$584,10,0) -> 达娃央初 | BG294: =VLOOKUP(A294,[1]高一下!$A$1:$Q$584,11,0) -> 24 | BH294: =VLOOKUP(A294,[1]高一下!$A$1:$Q$584,12,0) -> 兰阿布 | BI294: =VLOOKUP(A294,[1]高一下!$A$1:$Q$584,13,0) -> 35 | BJ294: =VLOOKUP(A294,[1]高一下!$A$1:$Q$584,14,0) -> 陈文惠 | BK294: =VLOOKUP(A294,[1]高一下!$A$1:$Q$584,15,0) -> 33 | BL294: =VLOOKUP(A294,[1]高一下!$A$1:$Q$584,16,0) -> 卢祥 | BM294: =VLOOKUP(A294,[1]高一上!A$1:W$612,5,0) -> 81 | BN294: =VLOOKUP(A294,[1]高一上!A$1:W$612,6,0) -> 阙丽萍 | BO294: =VLOOKUP(A294,[1]高一上!A$1:W$612,7,0) -> 66 | BP294: =VLOOKUP(A294,[1]高一上!A$1:W$612,8,0) -> 李乔军 | BQ294: =VLOOKUP(A294,[1]高一上!A$1:W$612,9,0) -> 72 | BR294: =VLOOKUP(A294,[1]高一上!A$1:W$612,10,0) -> 赵顺诚 | BS294: =VLOOKUP(A294,[1]高一上!A$1:W$612,11,0) -> 59 | BT294: =VLOOKUP(A294,[1]高一上!A$1:W$612,12,0) -> 兰阿布 | BU294: =VLOOKUP(A294,[1]高一上!A$1:W$612,13,0) -> 76 | BV294: =VLOOKUP(A294,[1]高一上!A$1:W$612,14,0) -> 叶仁群 | BW294: =VLOOKUP(A294,[1]高一上!A$1:W$612,15,0) -> 48 | BX294: =VLOOKUP(A294,[1]高一上!A$1:W$612,16,0) -> 金勇 | BY294: =VLOOKUP(A294,[1]中考!A$1:N$590,5,0) -> 106 | BZ294: =VLOOKUP(A294,[1]中考!A$1:N$590,6,0) -> 87 | CA294: =VLOOKUP(A294,[1]中考!A$1:N$590,7,0) -> 84 | CB294: =VLOOKUP(A294,[1]中考!A$1:N$590,8,0) -> 60 | CC294: =VLOOKUP(A294,[1]中考!A$1:N$590,9,0) -> 31 | CD294: =VLOOKUP(A294,[1]中考!A$1:N$590,10,0) -> 34
A295: 513422200407256227 | B295: 6 | C295: 吴静芬 | D295: 理科 | E295: 92 | F295: 阙丽萍 | G295: 57 | H295: 李希 | I295: 57 | J295: 兰卡布尺 | K295: 25 | L295: 高贵勇 | M295: 41 | N295: 杨建 | O295: 46.5 | P295: 杨建 | Q295: =VLOOKUP(A295,[1]高三上!A$3:Q$629,5,0) -> #N/A | R295: =VLOOKUP(A295,[1]高三上!A$3:Q$629,6,0) -> #N/A | S295: =VLOOKUP(A295,[1]高三上!A$3:Q$629,7,0) -> #N/A | T295: =VLOOKUP(A295,[1]高三上!A$3:Q$629,8,0) -> #N/A | U295: =VLOOKUP(A295,[1]高三上!A$3:Q$629,9,0) -> #N/A | V295: =VLOOKUP(A295,[1]高三上!A$3:Q$629,10,0) -> #N/A | W295: =VLOOKUP(A295,[1]高三上!A$3:Q$629,11,0) -> #N/A | X295: =VLOOKUP(A295,[1]高三上!A$3:Q$629,12,0) -> #N/A | Y295: =VLOOKUP(A295,[1]高三上!A$3:Q$629,13,0) -> #N/A | Z295: =VLOOKUP(A295,[1]高三上!A$3:Q$629,14,0) -> #N/A | AA295: =VLOOKUP(A295,[1]高三上!A$3:Q$629,15,0) -> #N/A | AB295: =VLOOKUP(A295,[1]高三上!A$3:Q$629,16,0) -> #N/A | AC295: =VLOOKUP(A295,[1]高二下!A$1:Q$618,5,0) -> 80.5 | AD295: =VLOOKUP(A295,[1]高二下!A$1:Q$618,6,0) -> 阙丽萍 | AE295: =VLOOKUP(A295,[1]高二下!A$1:Q$618,7,0) -> 66 | AF295: =VLOOKUP(A295,[1]高二下!A$1:Q$618,8,0) -> 李希 | AG295: =VLOOKUP(A295,[1]高二下!A$1:Q$618,9,0) -> 70.5 | AH295: =VLOOKUP(A295,[1]高二下!A$1:Q$618,10,0) -> 达娃央初 | AI295: =VLOOKUP(A295,[1]高二下!A$1:Q$618,11,0) -> 23 | AJ295: =VLOOKUP(A295,[1]高二下!A$1:Q$618,12,0) -> 高贵勇 | AK295: =VLOOKUP(A295,[1]高二下!A$1:Q$618,13,0) -> 35 | AL295: =VLOOKUP(A295,[1]高二下!A$1:Q$618,14,0) -> 陈文惠 | AM295: =VLOOKUP(A295,[1]高二下!A$1:Q$618,15,0) -> 34 | AN295: =VLOOKUP(A295,[1]高二下!A$1:Q$618,16,0) -> 卢祥 | AO295: =VLOOKUP(A295,[1]高二上!A$1:Q$571,5,0) -> 86 | AP295: =VLOOKUP(A295,[1]高二上!A$1:Q$571,6,0) -> 阙丽萍 | AQ295: =VLOOKUP(A295,[1]高二上!A$1:Q$571,7,0) -> 83 | AR295: =VLOOKUP(A295,[1]高二上!A$1:Q$571,8,0) -> 李希 | AS295: =VLOOKUP(A295,[1]高二上!A$1:Q$571,9,0) -> 64.5 | AT295: =VLOOKUP(A295,[1]高二上!A$1:Q$571,10,0) -> 谢斌 | AU295: =VLOOKUP(A295,[1]高二上!A$1:Q$571,11,0) -> 9 | AV295: =VLOOKUP(A295,[1]高二上!A$1:Q$571,12,0) -> 高贵勇 | AW295: =VLOOKUP(A295,[1]高二上!A$1:Q$571,13,0) -> 30 | AX295: =VLOOKUP(A295,[1]高二上!A$1:Q$571,14,0) -> 陈文惠 | AY295: =VLOOKUP(A295,[1]高二上!A$1:Q$571,15,0) -> 58 | AZ295: =VLOOKUP(A295,[1]高二上!A$1:Q$571,16,0) -> 卢祥 | BA295: =VLOOKUP(A295,[1]高一下!$A$1:$Q$584,5,0) -> 75 | BB295: =VLOOKUP(A295,[1]高一下!$A$1:$Q$584,6,0) -> 阙丽萍 | BC295: =VLOOKUP(A295,[1]高一下!$A$1:$Q$584,7,0) -> 79 | BD295: =VLOOKUP(A295,[1]高一下!$A$1:$Q$584,8,0) -> 李希 | BE295: =VLOOKUP(A295,[1]高一下!$A$1:$Q$584,9,0) -> 60.5 | BF295: =VLOOKUP(A295,[1]高一下!$A$1:$Q$584,10,0) -> 达娃央初 | BG295: =VLOOKUP(A295,[1]高一下!$A$1:$Q$584,11,0) -> 37 | BH295: =VLOOKUP(A295,[1]高一下!$A$1:$Q$584,12,0) -> 兰阿布 | BI295: =VLOOKUP(A295,[1]高一下!$A$1:$Q$584,13,0) -> 40 | BJ295: =VLOOKUP(A295,[1]高一下!$A$1:$Q$584,14,0) -> 陈文惠 | BK295: =VLOOKUP(A295,[1]高一下!$A$1:$Q$584,15,0) -> 25 | BL295: =VLOOKUP(A295,[1]高一下!$A$1:$Q$584,16,0) -> 卢祥 | BM295: =VLOOKUP(A295,[1]高一上!A$1:W$612,5,0) -> 60 | BN295: =VLOOKUP(A295,[1]高一上!A$1:W$612,6,0) -> 何苗 | BO295: =VLOOKUP(A295,[1]高一上!A$1:W$612,7,0) -> 49 | BP295: =VLOOKUP(A295,[1]高一上!A$1:W$612,8,0) -> 李希 | BQ295: =VLOOKUP(A295,[1]高一上!A$1:W$612,9,0) -> 30.5 | BR295: =VLOOKUP(A295,[1]高一上!A$1:W$612,10,0) -> 达娃央初 | BS295: =VLOOKUP(A295,[1]高一上!A$1:W$612,11,0) -> 21 | BT295: =VLOOKUP(A295,[1]高一上!A$1:W$612,12,0) -> 郑永朝 | BU295: =VLOOKUP(A295,[1]高一上!A$1:W$612,13,0) -> 42 | BV295: =VLOOKUP(A295,[1]高一上!A$1:W$612,14,0) -> 叶仁群 | BW295: =VLOOKUP(A295,[1]高一上!A$1:W$612,15,0) -> 34 | BX295: =VLOOKUP(A295,[1]高一上!A$1:W$612,16,0) -> 辜英琼 | BY295: =VLOOKUP(A295,[1]中考!A$1:N$590,5,0) -> #N/A | BZ295: =VLOOKUP(A295,[1]中考!A$1:N$590,6,0) -> #N/A | CA295: =VLOOKUP(A295,[1]中考!A$1:N$590,7,0) -> #N/A | CB295: =VLOOKUP(A295,[1]中考!A$1:N$590,8,0) -> #N/A | CC295: =VLOOKUP(A295,[1]中考!A$1:N$590,9,0) -> #N/A | CD295: =VLOOKUP(A295,[1]中考!A$1:N$590,10,0) -> #N/A
A296: 513422200403102319 | B296: 6 | C296: 杨六斤 | D296: 理科 | E296: 104 | F296: 阙丽萍 | G296: 45 | H296: 李希 | I296: 37 | J296: 兰卡布尺 | K296: 50.5 | L296: 高贵勇 | M296: 75.5 | N296: 杨建 | O296: 68.5 | P296: 杨建 | Q296: =VLOOKUP(A296,[1]高三上!A$3:Q$629,5,0) -> 87.0 | R296: =VLOOKUP(A296,[1]高三上!A$3:Q$629,6,0) -> 阙丽萍 | S296: =VLOOKUP(A296,[1]高三上!A$3:Q$629,7,0) -> 56.0 | T296: =VLOOKUP(A296,[1]高三上!A$3:Q$629,8,0) -> 李希 | U296: =VLOOKUP(A296,[1]高三上!A$3:Q$629,9,0) -> 40.5 | V296: =VLOOKUP(A296,[1]高三上!A$3:Q$629,10,0) -> 兰卡布尺 | W296: =VLOOKUP(A296,[1]高三上!A$3:Q$629,11,0) -> 20.0 | X296: =VLOOKUP(A296,[1]高三上!A$3:Q$629,12,0) -> 高贵勇 | Y296: =VLOOKUP(A296,[1]高三上!A$3:Q$629,13,0) -> 42.0 | Z296: =VLOOKUP(A296,[1]高三上!A$3:Q$629,14,0) -> 0 | AA296: =VLOOKUP(A296,[1]高三上!A$3:Q$629,15,0) -> 62.0 | AB296: =VLOOKUP(A296,[1]高三上!A$3:Q$629,16,0) -> 0 | AC296: =VLOOKUP(A296,[1]高二下!A$1:Q$618,5,0) -> 81 | AD296: =VLOOKUP(A296,[1]高二下!A$1:Q$618,6,0) -> 阙丽萍 | AE296: =VLOOKUP(A296,[1]高二下!A$1:Q$618,7,0) -> 61 | AF296: =VLOOKUP(A296,[1]高二下!A$1:Q$618,8,0) -> 李希 | AG296: =VLOOKUP(A296,[1]高二下!A$1:Q$618,9,0) -> 48 | AH296: =VLOOKUP(A296,[1]高二下!A$1:Q$618,10,0) -> 达娃央初 | AI296: =VLOOKUP(A296,[1]高二下!A$1:Q$618,11,0) -> 25 | AJ296: =VLOOKUP(A296,[1]高二下!A$1:Q$618,12,0) -> 高贵勇 | AK296: =VLOOKUP(A296,[1]高二下!A$1:Q$618,13,0) -> 49.5 | AL296: =VLOOKUP(A296,[1]高二下!A$1:Q$618,14,0) -> 陈文惠 | AM296: =VLOOKUP(A296,[1]高二下!A$1:Q$618,15,0) -> 61 | AN296: =VLOOKUP(A296,[1]高二下!A$1:Q$618,16,0) -> 卢祥 | AO296: =VLOOKUP(A296,[1]高二上!A$1:Q$571,5,0) -> 88 | AP296: =VLOOKUP(A296,[1]高二上!A$1:Q$571,6,0) -> 阙丽萍 | AQ296: =VLOOKUP(A296,[1]高二上!A$1:Q$571,7,0) -> 85 | AR296: =VLOOKUP(A296,[1]高二上!A$1:Q$571,8,0) -> 李希 | AS296: =VLOOKUP(A296,[1]高二上!A$1:Q$571,9,0) -> 38.5 | AT296: =VLOOKUP(A296,[1]高二上!A$1:Q$571,10,0) -> 谢斌 | AU296: =VLOOKUP(A296,[1]高二上!A$1:Q$571,11,0) -> 29 | AV296: =VLOOKUP(A296,[1]高二上!A$1:Q$571,12,0) -> 高贵勇 | AW296: =VLOOKUP(A296,[1]高二上!A$1:Q$571,13,0) -> 51 | AX296: =VLOOKUP(A296,[1]高二上!A$1:Q$571,14,0) -> 陈文惠 | AY296: =VLOOKUP(A296,[1]高二上!A$1:Q$571,15,0) -> 85 | AZ296: =VLOOKUP(A296,[1]高二上!A$1:Q$571,16,0) -> 卢祥 | BA296: =VLOOKUP(A296,[1]高一下!$A$1:$Q$584,5,0) -> 82 | BB296: =VLOOKUP(A296,[1]高一下!$A$1:$Q$584,6,0) -> 阙丽萍 | BC296: =VLOOKUP(A296,[1]高一下!$A$1:$Q$584,7,0) -> 89 | BD296: =VLOOKUP(A296,[1]高一下!$A$1:$Q$584,8,0) -> 李希 | BE296: =VLOOKUP(A296,[1]高一下!$A$1:$Q$584,9,0) -> 28 | BF296: =VLOOKUP(A296,[1]高一下!$A$1:$Q$584,10,0) -> 达娃央初 | BG296: =VLOOKUP(A296,[1]高一下!$A$1:$Q$584,11,0) -> 39 | BH296: =VLOOKUP(A296,[1]高一下!$A$1:$Q$584,12,0) -> 兰阿布 | BI296: =VLOOKUP(A296,[1]高一下!$A$1:$Q$584,13,0) -> 57 | BJ296: =VLOOKUP(A296,[1]高一下!$A$1:$Q$584,14,0) -> 陈文惠 | BK296: =VLOOKUP(A296,[1]高一下!$A$1:$Q$584,15,0) -> 61 | BL296: =VLOOKUP(A296,[1]高一下!$A$1:$Q$584,16,0) -> 卢祥 | BM296: =VLOOKUP(A296,[1]高一上!A$1:W$612,5,0) -> 64 | BN296: =VLOOKUP(A296,[1]高一上!A$1:W$612,6,0) -> 阙丽萍 | BO296: =VLOOKUP(A296,[1]高一上!A$1:W$612,7,0) -> 69 | BP296: =VLOOKUP(A296,[1]高一上!A$1:W$612,8,0) -> 李乔军 | BQ296: =VLOOKUP(A296,[1]高一上!A$1:W$612,9,0) -> 26.5 | BR296: =VLOOKUP(A296,[1]高一上!A$1:W$612,10,0) -> 赵顺诚 | BS296: =VLOOKUP(A296,[1]高一上!A$1:W$612,11,0) -> 45 | BT296: =VLOOKUP(A296,[1]高一上!A$1:W$612,12,0) -> 兰阿布 | BU296: =VLOOKUP(A296,[1]高一上!A$1:W$612,13,0) -> 72 | BV296: =VLOOKUP(A296,[1]高一上!A$1:W$612,14,0) -> 叶仁群 | BW296: =VLOOKUP(A296,[1]高一上!A$1:W$612,15,0) -> 62 | BX296: =VLOOKUP(A296,[1]高一上!A$1:W$612,16,0) -> 金勇 | BY296: =VLOOKUP(A296,[1]中考!A$1:N$590,5,0) -> 71 | BZ296: =VLOOKUP(A296,[1]中考!A$1:N$590,6,0) -> 96 | CA296: =VLOOKUP(A296,[1]中考!A$1:N$590,7,0) -> 69 | CB296: =VLOOKUP(A296,[1]中考!A$1:N$590,8,0) -> 68 | CC296: =VLOOKUP(A296,[1]中考!A$1:N$590,9,0) -> 42 | CD296: =VLOOKUP(A296,[1]中考!A$1:N$590,10,0) -> 31
A297: 513422200403142513 | B297: 6 | C297: 陈明友 | D297: 理科 | E297: 102 | F297: 阙丽萍 | G297: 38 | H297: 李希 | I297: 69 | J297: 兰卡布尺 | K297: 50.5 | L297: 高贵勇 | M297: 56 | N297: 杨建 | O297: 59.5 | P297: 杨建 | Q297: =VLOOKUP(A297,[1]高三上!A$3:Q$629,5,0) -> 89.0 | R297: =VLOOKUP(A297,[1]高三上!A$3:Q$629,6,0) -> 阙丽萍 | S297: =VLOOKUP(A297,[1]高三上!A$3:Q$629,7,0) -> 62.0 | T297: =VLOOKUP(A297,[1]高三上!A$3:Q$629,8,0) -> 李希 | U297: =VLOOKUP(A297,[1]高三上!A$3:Q$629,9,0) -> 59.5 | V297: =VLOOKUP(A297,[1]高三上!A$3:Q$629,10,0) -> 兰卡布尺 | W297: =VLOOKUP(A297,[1]高三上!A$3:Q$629,11,0) -> 44.0 | X297: =VLOOKUP(A297,[1]高三上!A$3:Q$629,12,0) -> 高贵勇 | Y297: =VLOOKUP(A297,[1]高三上!A$3:Q$629,13,0) -> 32.0 | Z297: =VLOOKUP(A297,[1]高三上!A$3:Q$629,14,0) -> 0 | AA297: =VLOOKUP(A297,[1]高三上!A$3:Q$629,15,0) -> 65.0 | AB297: =VLOOKUP(A297,[1]高三上!A$3:Q$629,16,0) -> 0 | AC297: =VLOOKUP(A297,[1]高二下!A$1:Q$618,5,0) -> 94 | AD297: =VLOOKUP(A297,[1]高二下!A$1:Q$618,6,0) -> 阙丽萍 | AE297: =VLOOKUP(A297,[1]高二下!A$1:Q$618,7,0) -> 71.5 | AF297: =VLOOKUP(A297,[1]高二下!A$1:Q$618,8,0) -> 李希 | AG297: =VLOOKUP(A297,[1]高二下!A$1:Q$618,9,0) -> 60.5 | AH297: =VLOOKUP(A297,[1]高二下!A$1:Q$618,10,0) -> 达娃央初 | AI297: =VLOOKUP(A297,[1]高二下!A$1:Q$618,11,0) -> 34.5 | AJ297: =VLOOKUP(A297,[1]高二下!A$1:Q$618,12,0) -> 高贵勇 | AK297: =VLOOKUP(A297,[1]高二下!A$1:Q$618,13,0) -> 36 | AL297: =VLOOKUP(A297,[1]高二下!A$1:Q$618,14,0) -> 陈文惠 | AM297: =VLOOKUP(A297,[1]高二下!A$1:Q$618,15,0) -> 53 | AN297: =VLOOKUP(A297,[1]高二下!A$1:Q$618,16,0) -> 卢祥 | AO297: =VLOOKUP(A297,[1]高二上!A$1:Q$571,5,0) -> 96 | AP297: =VLOOKUP(A297,[1]高二上!A$1:Q$571,6,0) -> 阙丽萍 | AQ297: =VLOOKUP(A297,[1]高二上!A$1:Q$571,7,0) -> 88 | AR297: =VLOOKUP(A297,[1]高二上!A$1:Q$571,8,0) -> 李希 | AS297: =VLOOKUP(A297,[1]高二上!A$1:Q$571,9,0) -> 52 | AT297: =VLOOKUP(A297,[1]高二上!A$1:Q$571,10,0) -> 谢斌 | AU297: =VLOOKUP(A297,[1]高二上!A$1:Q$571,11,0) -> 55 | AV297: =VLOOKUP(A297,[1]高二上!A$1:Q$571,12,0) -> 高贵勇 | AW297: =VLOOKUP(A297,[1]高二上!A$1:Q$571,13,0) -> 38 | AX297: =VLOOKUP(A297,[1]高二上!A$1:Q$571,14,0) -> 陈文惠 | AY297: =VLOOKUP(A297,[1]高二上!A$1:Q$571,15,0) -> 61 | AZ297: =VLOOKUP(A297,[1]高二上!A$1:Q$571,16,0) -> 卢祥 | BA297: =VLOOKUP(A297,[1]高一下!$A$1:$Q$584,5,0) -> 93 | BB297: =VLOOKUP(A297,[1]高一下!$A$1:$Q$584,6,0) -> 阙丽萍 | BC297: =VLOOKUP(A297,[1]高一下!$A$1:$Q$584,7,0) -> 105 | BD297: =VLOOKUP(A297,[1]高一下!$A$1:$Q$584,8,0) -> 李希 | BE297: =VLOOKUP(A297,[1]高一下!$A$1:$Q$584,9,0) -> 47.5 | BF297: =VLOOKUP(A297,[1]高一下!$A$1:$Q$584,10,0) -> 达娃央初 | BG297: =VLOOKUP(A297,[1]高一下!$A$1:$Q$584,11,0) -> 56 | BH297: =VLOOKUP(A297,[1]高一下!$A$1:$Q$584,12,0) -> 兰阿布 | BI297: =VLOOKUP(A297,[1]高一下!$A$1:$Q$584,13,0) -> 40 | BJ297: =VLOOKUP(A297,[1]高一下!$A$1:$Q$584,14,0) -> 陈文惠 | BK297: =VLOOKUP(A297,[1]高一下!$A$1:$Q$584,15,0) -> 63 | BL297: =VLOOKUP(A297,[1]高一下!$A$1:$Q$584,16,0) -> 卢祥 | BM297: =VLOOKUP(A297,[1]高一上!A$1:W$612,5,0) -> 82 | BN297: =VLOOKUP(A297,[1]高一上!A$1:W$612,6,0) -> 叶屏 | BO297: =VLOOKUP(A297,[1]高一上!A$1:W$612,7,0) -> 57 | BP297: =VLOOKUP(A297,[1]高一上!A$1:W$612,8,0) -> 余玉红 | BQ297: =VLOOKUP(A297,[1]高一上!A$1:W$612,9,0) -> 45.5 | BR297: =VLOOKUP(A297,[1]高一上!A$1:W$612,10,0) -> 胡昌燕 | BS297: =VLOOKUP(A297,[1]高一上!A$1:W$612,11,0) -> 33 | BT297: =VLOOKUP(A297,[1]高一上!A$1:W$612,12,0) -> 郑永朝 | BU297: =VLOOKUP(A297,[1]高一上!A$1:W$612,13,0) -> 35 | BV297: =VLOOKUP(A297,[1]高一上!A$1:W$612,14,0) -> 陈文惠 | BW297: =VLOOKUP(A297,[1]高一上!A$1:W$612,15,0) -> 59 | BX297: =VLOOKUP(A297,[1]高一上!A$1:W$612,16,0) -> 金勇 | BY297: =VLOOKUP(A297,[1]中考!A$1:N$590,5,0) -> 93 | BZ297: =VLOOKUP(A297,[1]中考!A$1:N$590,6,0) -> 83 | CA297: =VLOOKUP(A297,[1]中考!A$1:N$590,7,0) -> 61 | CB297: =VLOOKUP(A297,[1]中考!A$1:N$590,8,0) -> 76 | CC297: =VLOOKUP(A297,[1]中考!A$1:N$590,9,0) -> 40 | CD297: =VLOOKUP(A297,[1]中考!A$1:N$590,10,0) -> 21
A298: 513422200408250011 | B298: 6 | C298: 熊永发 | D298: 理科 | E298: 97 | F298: 阙丽萍 | G298: 68 | H298: 李希 | I298: 61 | J298: 兰卡布尺 | K298: 28 | L298: 高贵勇 | M298: 54 | N298: 杨建 | O298: 62.5 | P298: 杨建 | Q298: =VLOOKUP(A298,[1]高三上!A$3:Q$629,5,0) -> 93.0 | R298: =VLOOKUP(A298,[1]高三上!A$3:Q$629,6,0) -> 阙丽萍 | S298: =VLOOKUP(A298,[1]高三上!A$3:Q$629,7,0) -> 57.0 | T298: =VLOOKUP(A298,[1]高三上!A$3:Q$629,8,0) -> 李希 | U298: =VLOOKUP(A298,[1]高三上!A$3:Q$629,9,0) -> 37 | V298: =VLOOKUP(A298,[1]高三上!A$3:Q$629,10,0) -> 兰卡布尺 | W298: =VLOOKUP(A298,[1]高三上!A$3:Q$629,11,0) -> 13 | X298: =VLOOKUP(A298,[1]高三上!A$3:Q$629,12,0) -> 高贵勇 | Y298: =VLOOKUP(A298,[1]高三上!A$3:Q$629,13,0) -> 24 | Z298: =VLOOKUP(A298,[1]高三上!A$3:Q$629,14,0) -> 0 | AA298: =VLOOKUP(A298,[1]高三上!A$3:Q$629,15,0) -> 47 | AB298: =VLOOKUP(A298,[1]高三上!A$3:Q$629,16,0) -> 0 | AC298: =VLOOKUP(A298,[1]高二下!A$1:Q$618,5,0) -> #N/A | AD298: =VLOOKUP(A298,[1]高二下!A$1:Q$618,6,0) -> #N/A | AE298: =VLOOKUP(A298,[1]高二下!A$1:Q$618,7,0) -> #N/A | AF298: =VLOOKUP(A298,[1]高二下!A$1:Q$618,8,0) -> #N/A | AG298: =VLOOKUP(A298,[1]高二下!A$1:Q$618,9,0) -> #N/A | AH298: =VLOOKUP(A298,[1]高二下!A$1:Q$618,10,0) -> #N/A | AI298: =VLOOKUP(A298,[1]高二下!A$1:Q$618,11,0) -> #N/A | AJ298: =VLOOKUP(A298,[1]高二下!A$1:Q$618,12,0) -> #N/A | AK298: =VLOOKUP(A298,[1]高二下!A$1:Q$618,13,0) -> #N/A | AL298: =VLOOKUP(A298,[1]高二下!A$1:Q$618,14,0) -> #N/A | AM298: =VLOOKUP(A298,[1]高二下!A$1:Q$618,15,0) -> #N/A | AN298: =VLOOKUP(A298,[1]高二下!A$1:Q$618,16,0) -> #N/A | AO298: =VLOOKUP(A298,[1]高二上!A$1:Q$571,5,0) -> 94 | AP298: =VLOOKUP(A298,[1]高二上!A$1:Q$571,6,0) -> 阙丽萍 | AQ298: =VLOOKUP(A298,[1]高二上!A$1:Q$571,7,0) -> 102 | AR298: =VLOOKUP(A298,[1]高二上!A$1:Q$571,8,0) -> 李希 | AS298: =VLOOKUP(A298,[1]高二上!A$1:Q$571,9,0) -> 72.5 | AT298: =VLOOKUP(A298,[1]高二上!A$1:Q$571,10,0) -> 谢斌 | AU298: =VLOOKUP(A298,[1]高二上!A$1:Q$571,11,0) -> 13 | AV298: =VLOOKUP(A298,[1]高二上!A$1:Q$571,12,0) -> 高贵勇 | AW298: =VLOOKUP(A298,[1]高二上!A$1:Q$571,13,0) -> 39 | AX298: =VLOOKUP(A298,[1]高二上!A$1:Q$571,14,0) -> 陈文惠 | AY298: =VLOOKUP(A298,[1]高二上!A$1:Q$571,15,0) -> 58 | AZ298: =VLOOKUP(A298,[1]高二上!A$1:Q$571,16,0) -> 卢祥 | BA298: =VLOOKUP(A298,[1]高一下!$A$1:$Q$584,5,0) -> 93 | BB298: =VLOOKUP(A298,[1]高一下!$A$1:$Q$584,6,0) -> 阙丽萍 | BC298: =VLOOKUP(A298,[1]高一下!$A$1:$Q$584,7,0) -> 98 | BD298: =VLOOKUP(A298,[1]高一下!$A$1:$Q$584,8,0) -> 李希 | BE298: =VLOOKUP(A298,[1]高一下!$A$1:$Q$584,9,0) -> 86 | BF298: =VLOOKUP(A298,[1]高一下!$A$1:$Q$584,10,0) -> 达娃央初 | BG298: =VLOOKUP(A298,[1]高一下!$A$1:$Q$584,11,0) -> 26 | BH298: =VLOOKUP(A298,[1]高一下!$A$1:$Q$584,12,0) -> 兰阿布 | BI298: =VLOOKUP(A298,[1]高一下!$A$1:$Q$584,13,0) -> 57 | BJ298: =VLOOKUP(A298,[1]高一下!$A$1:$Q$584,14,0) -> 陈文惠 | BK298: =VLOOKUP(A298,[1]高一下!$A$1:$Q$584,15,0) -> 40 | BL298: =VLOOKUP(A298,[1]高一下!$A$1:$Q$584,16,0) -> 卢祥 | BM298: =VLOOKUP(A298,[1]高一上!A$1:W$612,5,0) -> 82 | BN298: =VLOOKUP(A298,[1]高一上!A$1:W$612,6,0) -> 叶屏 | BO298: =VLOOKUP(A298,[1]高一上!A$1:W$612,7,0) -> 82 | BP298: =VLOOKUP(A298,[1]高一上!A$1:W$612,8,0) -> 余玉红 | BQ298: =VLOOKUP(A298,[1]高一上!A$1:W$612,9,0) -> 54.5 | BR298: =VLOOKUP(A298,[1]高一上!A$1:W$612,10,0) -> 胡昌燕 | BS298: =VLOOKUP(A298,[1]高一上!A$1:W$612,11,0) -> 51 | BT298: =VLOOKUP(A298,[1]高一上!A$1:W$612,12,0) -> 郑永朝 | BU298: =VLOOKUP(A298,[1]高一上!A$1:W$612,13,0) -> 69 | BV298: =VLOOKUP(A298,[1]高一上!A$1:W$612,14,0) -> 陈文惠 | BW298: =VLOOKUP(A298,[1]高一上!A$1:W$612,15,0) -> 44 | BX298: =VLOOKUP(A298,[1]高一上!A$1:W$612,16,0) -> 金勇 | BY298: =VLOOKUP(A298,[1]中考!A$1:N$590,5,0) -> 90 | BZ298: =VLOOKUP(A298,[1]中考!A$1:N$590,6,0) -> 81 | CA298: =VLOOKUP(A298,[1]中考!A$1:N$590,7,0) -> 78 | CB298: =VLOOKUP(A298,[1]中考!A$1:N$590,8,0) -> 52 | CC298: =VLOOKUP(A298,[1]中考!A$1:N$590,9,0) -> 36 | CD298: =VLOOKUP(A298,[1]中考!A$1:N$590,10,0) -> 39
A299: 513422200303092926 | B299: 6 | C299: 沈小玲 | D299: 理科 | E299: 98 | F299: 阙丽萍 | G299: 67 | H299: 李希 | I299: 69 | J299: 兰卡布尺 | K299: 24 | L299: 高贵勇 | M299: 44 | N299: 杨建 | O299: 63.5 | P299: 杨建 | Q299: =VLOOKUP(A299,[1]高三上!A$3:Q$629,5,0) -> 96.0 | R299: =VLOOKUP(A299,[1]高三上!A$3:Q$629,6,0) -> 阙丽萍 | S299: =VLOOKUP(A299,[1]高三上!A$3:Q$629,7,0) -> 62.0 | T299: =VLOOKUP(A299,[1]高三上!A$3:Q$629,8,0) -> 李希 | U299: =VLOOKUP(A299,[1]高三上!A$3:Q$629,9,0) -> 89.5 | V299: =VLOOKUP(A299,[1]高三上!A$3:Q$629,10,0) -> 兰卡布尺 | W299: =VLOOKUP(A299,[1]高三上!A$3:Q$629,11,0) -> 24.0 | X299: =VLOOKUP(A299,[1]高三上!A$3:Q$629,12,0) -> 高贵勇 | Y299: =VLOOKUP(A299,[1]高三上!A$3:Q$629,13,0) -> 56.0 | Z299: =VLOOKUP(A299,[1]高三上!A$3:Q$629,14,0) -> 0 | AA299: =VLOOKUP(A299,[1]高三上!A$3:Q$629,15,0) -> 63.0 | AB299: =VLOOKUP(A299,[1]高三上!A$3:Q$629,16,0) -> 0 | AC299: =VLOOKUP(A299,[1]高二下!A$1:Q$618,5,0) -> 93.5 | AD299: =VLOOKUP(A299,[1]高二下!A$1:Q$618,6,0) -> 阙丽萍 | AE299: =VLOOKUP(A299,[1]高二下!A$1:Q$618,7,0) -> 83 | AF299: =VLOOKUP(A299,[1]高二下!A$1:Q$618,8,0) -> 李希 | AG299: =VLOOKUP(A299,[1]高二下!A$1:Q$618,9,0) -> 88 | AH299: =VLOOKUP(A299,[1]高二下!A$1:Q$618,10,0) -> 达娃央初 | AI299: =VLOOKUP(A299,[1]高二下!A$1:Q$618,11,0) -> 21.5 | AJ299: =VLOOKUP(A299,[1]高二下!A$1:Q$618,12,0) -> 高贵勇 | AK299: =VLOOKUP(A299,[1]高二下!A$1:Q$618,13,0) -> 13 | AL299: =VLOOKUP(A299,[1]高二下!A$1:Q$618,14,0) -> 陈文惠 | AM299: =VLOOKUP(A299,[1]高二下!A$1:Q$618,15,0) -> 24 | AN299: =VLOOKUP(A299,[1]高二下!A$1:Q$618,16,0) -> 卢祥 | AO299: =VLOOKUP(A299,[1]高二上!A$1:Q$571,5,0) -> 99 | AP299: =VLOOKUP(A299,[1]高二上!A$1:Q$571,6,0) -> 阙丽萍 | AQ299: =VLOOKUP(A299,[1]高二上!A$1:Q$571,7,0) -> 98 | AR299: =VLOOKUP(A299,[1]高二上!A$1:Q$571,8,0) -> 李希 | AS299: =VLOOKUP(A299,[1]高二上!A$1:Q$571,9,0) -> 86.5 | AT299: =VLOOKUP(A299,[1]高二上!A$1:Q$571,10,0) -> 谢斌 | AU299: =VLOOKUP(A299,[1]高二上!A$1:Q$571,11,0) -> 12 | AV299: =VLOOKUP(A299,[1]高二上!A$1:Q$571,12,0) -> 高贵勇 | AW299: =VLOOKUP(A299,[1]高二上!A$1:Q$571,13,0) -> 33 | AX299: =VLOOKUP(A299,[1]高二上!A$1:Q$571,14,0) -> 陈文惠 | AY299: =VLOOKUP(A299,[1]高二上!A$1:Q$571,15,0) -> 60 | AZ299: =VLOOKUP(A299,[1]高二上!A$1:Q$571,16,0) -> 卢祥 | BA299: =VLOOKUP(A299,[1]高一下!$A$1:$Q$584,5,0) -> 89 | BB299: =VLOOKUP(A299,[1]高一下!$A$1:$Q$584,6,0) -> 阙丽萍 | BC299: =VLOOKUP(A299,[1]高一下!$A$1:$Q$584,7,0) -> 118 | BD299: =VLOOKUP(A299,[1]高一下!$A$1:$Q$584,8,0) -> 李希 | BE299: =VLOOKUP(A299,[1]高一下!$A$1:$Q$584,9,0) -> 85 | BF299: =VLOOKUP(A299,[1]高一下!$A$1:$Q$584,10,0) -> 达娃央初 | BG299: =VLOOKUP(A299,[1]高一下!$A$1:$Q$584,11,0) -> 41 | BH299: =VLOOKUP(A299,[1]高一下!$A$1:$Q$584,12,0) -> 兰阿布 | BI299: =VLOOKUP(A299,[1]高一下!$A$1:$Q$584,13,0) -> 45 | BJ299: =VLOOKUP(A299,[1]高一下!$A$1:$Q$584,14,0) -> 陈文惠 | BK299: =VLOOKUP(A299,[1]高一下!$A$1:$Q$584,15,0) -> 58 | BL299: =VLOOKUP(A299,[1]高一下!$A$1:$Q$584,16,0) -> 卢祥 | BM299: =VLOOKUP(A299,[1]高一上!A$1:W$612,5,0) -> 77 | BN299: =VLOOKUP(A299,[1]高一上!A$1:W$612,6,0) -> 何苗 | BO299: =VLOOKUP(A299,[1]高一上!A$1:W$612,7,0) -> 64 | BP299: =VLOOKUP(A299,[1]高一上!A$1:W$612,8,0) -> 李希 | BQ299: =VLOOKUP(A299,[1]高一上!A$1:W$612,9,0) -> 66.5 | BR299: =VLOOKUP(A299,[1]高一上!A$1:W$612,10,0) -> 达娃央初 | BS299: =VLOOKUP(A299,[1]高一上!A$1:W$612,11,0) -> 31 | BT299: =VLOOKUP(A299,[1]高一上!A$1:W$612,12,0) -> 郑永朝 | BU299: =VLOOKUP(A299,[1]高一上!A$1:W$612,13,0) -> 51 | BV299: =VLOOKUP(A299,[1]高一上!A$1:W$612,14,0) -> 叶仁群 | BW299: =VLOOKUP(A299,[1]高一上!A$1:W$612,15,0) -> 28 | BX299: =VLOOKUP(A299,[1]高一上!A$1:W$612,16,0) -> 辜英琼 | BY299: =VLOOKUP(A299,[1]中考!A$1:N$590,5,0) -> 85 | BZ299: =VLOOKUP(A299,[1]中考!A$1:N$590,6,0) -> 71 | CA299: =VLOOKUP(A299,[1]中考!A$1:N$590,7,0) -> 87 | CB299: =VLOOKUP(A299,[1]中考!A$1:N$590,8,0) -> 42 | CC299: =VLOOKUP(A299,[1]中考!A$1:N$590,9,0) -> 32 | CD299: =VLOOKUP(A299,[1]中考!A$1:N$590,10,0) -> 35
... A647: 513422200003042126 | B647: 12 | C647: 吕长秀 | D647: 理科 | E647: 111 | F647: 朱霞 | G647: 57 | H647: 黄金华 | I647: 68 | J647: 程长寿 | K647: 22 | L647: 兰阿布 | M647: 55 | N647: 郑富全 | O647: 56.5 | P647: 卢祥 | Q647: =VLOOKUP(A647,[1]高三上!A$3:Q$629,5,0) -> 89.0 | R647: =VLOOKUP(A647,[1]高三上!A$3:Q$629,6,0) -> 朱霞 | S647: =VLOOKUP(A647,[1]高三上!A$3:Q$629,7,0) -> 64.0 | T647: =VLOOKUP(A647,[1]高三上!A$3:Q$629,8,0) -> 黄金华 | U647: =VLOOKUP(A647,[1]高三上!A$3:Q$629,9,0) -> 60.5 | V647: =VLOOKUP(A647,[1]高三上!A$3:Q$629,10,0) -> 程长寿 | W647: =VLOOKUP(A647,[1]高三上!A$3:Q$629,11,0) -> 19.0 | X647: =VLOOKUP(A647,[1]高三上!A$3:Q$629,12,0) -> 兰阿布 | Y647: =VLOOKUP(A647,[1]高三上!A$3:Q$629,13,0) -> 39.0 | Z647: =VLOOKUP(A647,[1]高三上!A$3:Q$629,14,0) -> 郑富全 | AA647: =VLOOKUP(A647,[1]高三上!A$3:Q$629,15,0) -> 70.0 | AB647: =VLOOKUP(A647,[1]高三上!A$3:Q$629,16,0) -> 卢祥 | AC647: =VLOOKUP(A647,[1]高二下!A$1:Q$618,5,0) -> 90 | AD647: =VLOOKUP(A647,[1]高二下!A$1:Q$618,6,0) -> 朱霞 | AE647: =VLOOKUP(A647,[1]高二下!A$1:Q$618,7,0) -> 53 | AF647: =VLOOKUP(A647,[1]高二下!A$1:Q$618,8,0) -> 黄金华 | AG647: =VLOOKUP(A647,[1]高二下!A$1:Q$618,9,0) -> 66 | AH647: =VLOOKUP(A647,[1]高二下!A$1:Q$618,10,0) -> 程长寿 | AI647: =VLOOKUP(A647,[1]高二下!A$1:Q$618,11,0) -> 18 | AJ647: =VLOOKUP(A647,[1]高二下!A$1:Q$618,12,0) -> 兰阿布 | AK647: =VLOOKUP(A647,[1]高二下!A$1:Q$618,13,0) -> 22 | AL647: =VLOOKUP(A647,[1]高二下!A$1:Q$618,14,0) -> 郑富全 | AM647: =VLOOKUP(A647,[1]高二下!A$1:Q$618,15,0) -> 43 | AN647: =VLOOKUP(A647,[1]高二下!A$1:Q$618,16,0) -> 卢祥 | AO647: =VLOOKUP(A647,[1]高二上!A$1:Q$571,5,0) -> 93 | AP647: =VLOOKUP(A647,[1]高二上!A$1:Q$571,6,0) -> 朱霞 | AQ647: =VLOOKUP(A647,[1]高二上!A$1:Q$571,7,0) -> 84 | AR647: =VLOOKUP(A647,[1]高二上!A$1:Q$571,8,0) -> 黄金华 | AS647: =VLOOKUP(A647,[1]高二上!A$1:Q$571,9,0) -> 71.5 | AT647: =VLOOKUP(A647,[1]高二上!A$1:Q$571,10,0) -> 程长寿 | AU647: =VLOOKUP(A647,[1]高二上!A$1:Q$571,11,0) -> 26 | AV647: =VLOOKUP(A647,[1]高二上!A$1:Q$571,12,0) -> 兰阿布 | AW647: =VLOOKUP(A647,[1]高二上!A$1:Q$571,13,0) -> 47 | AX647: =VLOOKUP(A647,[1]高二上!A$1:Q$571,14,0) -> 郑富全 | AY647: =VLOOKUP(A647,[1]高二上!A$1:Q$571,15,0) -> 65 | AZ647: =VLOOKUP(A647,[1]高二上!A$1:Q$571,16,0) -> 卢祥 | BA647: =VLOOKUP(A647,[1]高一下!$A$1:$Q$584,5,0) -> 98 | BB647: =VLOOKUP(A647,[1]高一下!$A$1:$Q$584,6,0) -> 何苗 | BC647: =VLOOKUP(A647,[1]高一下!$A$1:$Q$584,7,0) -> 78 | BD647: =VLOOKUP(A647,[1]高一下!$A$1:$Q$584,8,0) -> 黄金华 | BE647: =VLOOKUP(A647,[1]高一下!$A$1:$Q$584,9,0) -> 71 | BF647: =VLOOKUP(A647,[1]高一下!$A$1:$Q$584,10,0) -> 程长寿 | BG647: =VLOOKUP(A647,[1]高一下!$A$1:$Q$584,11,0) -> 36 | BH647: =VLOOKUP(A647,[1]高一下!$A$1:$Q$584,12,0) -> 兰阿布 | BI647: =VLOOKUP(A647,[1]高一下!$A$1:$Q$584,13,0) -> 37 | BJ647: =VLOOKUP(A647,[1]高一下!$A$1:$Q$584,14,0) -> 郑富全 | BK647: =VLOOKUP(A647,[1]高一下!$A$1:$Q$584,15,0) -> 51 | BL647: =VLOOKUP(A647,[1]高一下!$A$1:$Q$584,16,0) -> 卢祥 | BM647: =VLOOKUP(A647,[1]高一上!A$1:W$612,5,0) -> 81 | BN647: =VLOOKUP(A647,[1]高一上!A$1:W$612,6,0) -> 叶屏 | BO647: =VLOOKUP(A647,[1]高一上!A$1:W$612,7,0) -> 65 | BP647: =VLOOKUP(A647,[1]高一上!A$1:W$612,8,0) -> 余玉红 | BQ647: =VLOOKUP(A647,[1]高一上!A$1:W$612,9,0) -> 54 | BR647: =VLOOKUP(A647,[1]高一上!A$1:W$612,10,0) -> 胡昌燕 | BS647: =VLOOKUP(A647,[1]高一上!A$1:W$612,11,0) -> 37 | BT647: =VLOOKUP(A647,[1]高一上!A$1:W$612,12,0) -> 郑永朝 | BU647: =VLOOKUP(A647,[1]高一上!A$1:W$612,13,0) -> 79 | BV647: =VLOOKUP(A647,[1]高一上!A$1:W$612,14,0) -> 陈文惠 | BW647: =VLOOKUP(A647,[1]高一上!A$1:W$612,15,0) -> 44 | BX647: =VLOOKUP(A647,[1]高一上!A$1:W$612,16,0) -> 金勇 | BY647: =VLOOKUP(A647,[1]中考!A$1:N$590,5,0) -> 93 | BZ647: =VLOOKUP(A647,[1]中考!A$1:N$590,6,0) -> 80 | CA647: =VLOOKUP(A647,[1]中考!A$1:N$590,7,0) -> 84 | CB647: =VLOOKUP(A647,[1]中考!A$1:N$590,8,0) -> 60 | CC647: =VLOOKUP(A647,[1]中考!A$1:N$590,9,0) -> 40 | CD647: =VLOOKUP(A647,[1]中考!A$1:N$590,10,0) -> 39

Sheet 计算数据
A1: 身份证号码 | B1: 班级 | C1: 姓名 | D1: 文/理科 | E1: 高考 | W1: 高三上 | AO1: 高二下 | BG1: 高二上 | BY1: 高一下 | CQ1: 高一上 | DI1: 中考
E2: 语文 | H2: 数学 | K2: 英语 | N2: 物理/政治 | Q2: 化学/历史 | T2: 生物/地理 | W2: 语文 | Z2: 数学 | AC2: 英语 | AF2: 物理/政治 | AI2: 化学/历史 | AL2: 生物/地理 | AO2: 语文 | AR2: 数学 | AU2: 英语 | AX2: 物理/政治 | BA2: 化学/历史 | BD2: 生物/地理 | BG2: 语文 | BJ2: 数学 | BM2: 英语 | BP2: 物理/政治 | BS2: 化学/历史 | BV2: 生物/地理 | BY2: 语文 | CB2: 数学 | CE2: 英语 | CH2: 物理/政治 | CK2: 化学/历史 | CN2: 生物/地理 | CQ2: 语文 | CT2: 数学 | CW2: 英语 | CZ2: 物理/政治 | DC2: 化学/历史 | DF2: 生物/地理 | DI2: 语文 | DK2: 数学 | DM2: 英语 | DO2: 物理/政治 | DQ2: 化学/历史 | DS2: 生物/地理
E3: 成绩 | F3: 排名 | G3: 教师 | H3: 成绩 | I3: 排名 | J3: 教师 | K3: 成绩 | L3: 排名 | M3: 教师 | N3: 成绩 | O3: 排名 | P3: 教师 | Q3: 成绩 | R3: 排名 | S3: 教师 | T3: 成绩 | U3: 排名 | V3: 教师 | W3: 成绩 | X3: 排名 | Y3: 教师 | Z3: 成绩 | AA3: 排名 | AB3: 教师 | AC3: 成绩 | AD3: 排名 | AE3: 教师 | AF3: 成绩 | AG3: 排名 | AH3: 教师 | AI3: 成绩 | AJ3: 排名 | AK3: 教师 | AL3: 成绩 | AM3: 排名 | AN3: 教师 | AO3: 成绩 | AP3: 排名 | AQ3: 教师 | AR3: 成绩 | AS3: 排名 | AT3: 教师 | AU3: 成绩 | AV3: 排名 | AW3: 教师 | AX3: 成绩 | AY3: 排名 | AZ3: 教师 | BA3: 成绩 | BB3: 排名 | BC3: 教师 | BD3: 成绩 | BE3: 排名 | BF3: 教师 | BG3: 成绩 | BH3: 排名 | BI3: 教师 | BJ3: 成绩 | BK3: 排名 | BL3: 教师 | BM3: 成绩 | BN3: 排名 | BO3: 教师 | BP3: 成绩 | BQ3: 排名 | BR3: 教师 | BS3: 成绩 | BT3: 排名 | BU3: 教师 | BV3: 成绩 | BW3: 排名 | BX3: 教师 | BY3: 成绩 | BZ3: 排名 | CA3: 教师 | CB3: 成绩 | CC3: 排名 | CD3: 教师 | CE3: 成绩 | CF3: 排名 | CG3: 教师 | CH3: 成绩 | CI3: 排名 | CJ3: 教师 | CK3: 成绩 | CL3: 排名 | CM3: 教师 | CN3: 成绩 | CO3: 排名 | CP3: 教师 | CQ3: 成绩 | CR3: 排名 | CS3: 教师 | CT3: 成绩 | CU3: 排名 | CV3: 教师 | CW3: 成绩 | CX3: 排名 | CY3: 教师 | CZ3: 成绩 | DA3: 排名 | DB3: 教师 | DC3: 成绩 | DD3: 排名 | DE3: 教师 | DF3: 成绩 | DG3: 排名 | DH3: 教师 | DI3: 成绩 | DJ3: 排名 | DK3: 成绩 | DL3: 排名 | DM3: 成绩 | DN3: 排名 | DO3: 成绩 | DP3: 排名 | DQ3: 成绩 | DR3: 排名 | DS3: 成绩 | DT3: 排名
A4: 513422200405094228 | B4: 1 | C4: 边玛拉初 | D4: 文科 | E4: 111 | G4: 叶屏 | H4: 100 | J4: 余玉红 | K4: 116 | M4: 胡昌燕 | N4: 76 | P4: 卢银楷 | Q4: 64 | S4: 胡慧芳 | T4: 66 | V4: 金贵 | W4: 107 | Y4: 叶屏 | Z4: 76 | AB4: 余玉红 | AC4: 129.5 | AE4: 胡昌燕 | AF4: 73 | AH4: 卢银楷 | AI4: 66 | AK4: 胡慧芳 | AL4: 53 | AN4: 金贵 | AO4: 106.5 | AQ4: 叶屏 | AR4: 86.5 | AT4: 余玉红 | AU4: 121 | AW4: 胡昌燕 | AX4: 71 | AZ4: 卢银楷 | BA4: 67 | BC4: 胡慧芳 | BD4: 53 | BF4: 金贵 | BG4: 102 | BI4: 叶屏 | BJ4: 102 | BL4: 余玉红 | BM4: 113.5 | BO4: 胡昌燕 | BP4: 72 | BR4: 卢银楷 | BS4: 84 | BU4: 胡慧芳 | BV4: 54 | BX4: 金贵 | BY4: 101 | CA4: 叶屏 | CB4: 140 | CD4: 余玉红 | CE4: 102 | CG4: 胡昌燕 | CH4: 74 | CJ4: 杨吉华 | CK4: 71 | CM4: 胡慧芳 | CN4: 76 | CP4: 金贵 | CQ4: 79 | CS4: 叶屏 | CT4: 47 | CV4: 余玉红 | CW4: 97 | CY4: 胡昌燕 | CZ4: 77 | DB4: 杨吉华 | DC4: 52 | DE4: 胡慧芳 | DF4: 60 | DH4: 金贵 | DI4: 96 | DK4: 77 | DM4: 102 | DO4: 38 | DQ4: 43 | DS4: 39
A5: 513422200409152325 | B5: 1 | C5: 王燚 | D5: 文科 | E5: 109 | G5: 叶屏 | H5: 119 | J5: 余玉红 | K5: 109 | M5: 胡昌燕 | N5: 69 | P5: 卢银楷 | Q5: 71 | S5: 胡慧芳 | T5: 61 | V5: 金贵 | W5: 102 | Y5: 叶屏 | Z5: 90 | AB5: 余玉红 | AC5: 117.5 | AE5: 胡昌燕 | AF5: 64 | AH5: 卢银楷 | AI5: 73 | AK5: 胡慧芳 | AL5: 52 | AN5: 金贵 | AO5: 107.5 | AQ5: 叶屏 | AR5: 97 | AT5: 余玉红 | AU5: 103.5 | AW5: 胡昌燕 | AX5: 55 | AZ5: 卢银楷 | BA5: 65.5 | BC5: 胡慧芳 | BD5: 44.5 | BF5: 金贵 | BG5: 105 | BI5: 叶屏 | BJ5: 110 | BL5: 余玉红 | BM5: 104.5 | BO5: 胡昌燕 | BP5: 68 | BR5: 卢银楷 | BS5: 71 | BU5: 胡慧芳 | BV5: 64 | BX5: 金贵 | BY5: 99 | CA5: 叶屏 | CB5: 132 | CD5: 余玉红 | CE5: 107 | CG5: 胡昌燕 | CH5: 78 | CJ5: 杨吉华 | CK5: 72 | CM5: 胡慧芳 | CN5: 72 | CP5: 金贵 | CQ5: 96 | CS5: 张玉婷 | CT5: 92 | CV5: 胡付松 | CW5: 92 | CY5: 程长寿 | CZ5: 75 | DB5: 卢银楷 | DC5: 76 | DE5: 赵香才 | DF5: 57 | DH5: 骆泽群 | DI5: 97 | DK5: 90 | DM5: 117 | DO5: 38 | DQ5: 37 | DS5: 36
A6: 513422200301081529 | B6: 1 | C6: 吕央初 | D6: 文科 | E6: 108 | G6: 叶屏 | H6: 96 | J6: 余玉红 | K6: 118 | M6: 胡昌燕 | N6: 74 | P6: 卢银楷 | Q6: 68 | S6: 胡慧芳 | T6: 63 | V6: 金贵 | W6: 107 | Y6: 叶屏 | Z6: 77 | AB6: 余玉红 | AC6: 125.5 | AE6: 胡昌燕 | AF6: 68 | AH6: 卢银楷 | AI6: 73 | AK6: 胡慧芳 | AL6: 58 | AN6: 金贵 | AO6: 111 | AQ6: 叶屏 | AR6: 76.5 | AT6: 余玉红 | AU6: 130.5 | AW6: 胡昌燕 | AX6: 61 | AZ6: 卢银楷 | BA6: 73 | BC6: 胡慧芳 | BD6: 53.5 | BF6: 金贵 | BG6: 104 | BI6: 叶屏 | BJ6: 76 | BL6: 余玉红 | BM6: 122 | BO6: 胡昌燕 | BP6: 70 | BR6: 卢银楷 | BS6: 83 | BU6: 胡慧芳 | BV6: 66 | BX6: 金贵 | BY6: 108 | CA6: 叶屏 | CB6: 131 | CD6: 余玉红 | CE6: 125.5 | CG6: 胡昌燕 | CH6: 86 | CJ6: 杨吉华 | CK6: 72 | CM6: 胡慧芳 | CN6: 78 | CP6: 金贵 | CQ6: 90 | CS6: 张玉婷 | CT6: 95 | CV6: 胡付松 | CW6: 130.5 | CY6: 程长寿 | CZ6: 70 | DB6: 卢银楷 | DC6: 63 | DE6: 赵香才 | DF6: 74 | DH6: 骆泽群 | DI6: 113 | DK6: 84 | DM6: 142 | DO6: 47 | DQ6: 41 | DS6: 45
A7: 513422200410200013 | B7: 1 | C7: 李彤 | D7: 文科 | E7: 117 | G7: 叶屏 | H7: 106 | J7: 余玉红 | K7: 96 | M7: 胡昌燕 | N7: 69 | P7: 卢银楷 | Q7: 73 | S7: 胡慧芳 | T7: 60 | V7: 金贵 | W7: 101 | Y7: 叶屏 | Z7: 92 | AB7: 余玉红 | AC7: 107 | AE7: 胡昌燕 | AF7: 65 | AH7: 卢银楷 | AI7: 62 | AK7: 胡慧芳 | AL7: 48 | AN7: 金贵 | AO7: 103.5 | AQ7: 叶屏 | AR7: 72.5 | AT7: 余玉红 | AU7: 96.5 | AW7: 胡昌燕 | AX7: 67 | AZ7: 卢银楷 | BA7: 66.5 | BC7: 胡慧芳 | BD7: 58 | BF7: 金贵 | BG7: 109 | BI7: 叶屏 | BJ7: 119 | BL7: 余玉红 | BM7: 108.5 | BO7: 胡昌燕 | BP7: 66 | BR7: 卢银楷 | BS7: 83 | BU7: 胡慧芳 | BV7: 75 | BX7: 金贵 | BY7: 99 | CA7: 叶屏 | CB7: 121 | CD7: 余玉红 | CE7: 98 | CG7: 胡昌燕 | CH7: 76 | CJ7: 杨吉华 | CK7: 67 | CM7: 胡慧芳 | CN7: 70 | CP7: 金贵 | CQ7: 78 | CS7: 向美娟 | CT7: 78 | CV7: 徐万雄 | CW7: 98 | CY7: 聂艳梅 | CZ7: 85 | DB7: 杨吉华 | DC7: 66 | DE7: 胡慧芳 | DF7: 60 | DH7: 金贵 | DI7: 96 | DK7: 76 | DM7: 113 | DO7: 34 | DQ7: 38 | DS7: 44
A8: 513422200308205029 | B8: 1 | C8: 杜基祝玛 | D8: 文科 | E8: 120 | G8: 叶屏 | H8: 81 | J8: 余玉红 | K8: 112 | M8: 胡昌燕 | N8: 69 | P8: 卢银楷 | Q8: 71 | S8: 胡慧芳 | T8: 61 | V8: 金贵 | W8: 114 | Y8: 叶屏 | Z8: 55 | AB8: 余玉红 | AC8: 125.5 | AE8: 胡昌燕 | AF8: 70 | AH8: 卢银楷 | AI8: 55 | AK8: 胡慧芳 | AL8: 37 | AN8: 金贵 | AO8: 105.5 | AQ8: 叶屏 | AR8: 67 | AT8: 余玉红 | AU8: 121 | AW8: 胡昌燕 | AX8: 71.5 | AZ8: 卢银楷 | BA8: 60 | BC8: 胡慧芳 | BD8: 45 | BF8: 金贵 | BG8: 106 | BI8: 叶屏 | BJ8: 95 | BL8: 余玉红 | BM8: 115 | BO8: 胡昌燕 | BP8: 66 | BR8: 卢银楷 | BS8: 76 | BU8: 胡慧芳 | BV8: 59 | BX8: 金贵 | BY8: 105 | CA8: 叶屏 | CB8: 100 | CD8: 余玉红 | CE8: 123 | CG8: 胡昌燕 | CH8: 69 | CJ8: 杨吉华 | CK8: 66 | CM8: 胡慧芳 | CN8: 54 | CP8: 金贵 | CQ8: 89 | CS8: 何苗 | CT8: 98 | CV8: 黄金华 | CW8: 116.5 | CY8: 程长寿 | CZ8: 53 | DB8: 马巫各 | DC8: 40 | DE8: 胡慧芳 | DF8: 43 | DH8: 杜基次尔 | DI8: 114 | DK8: 85 | DM8: 128 | DO8: 46 | DQ8: 34 | DS8: 39
A9: 513422200503250722 | B9: 1 | C9: 王石美 | D9: 文科 | E9: 121 | G9: 叶屏 | H9: 73 | J9: 余玉红 | K9: 130 | M9: 胡昌燕 | N9: 67.5 | P9: 卢银楷 | Q9: 71.5 | S9: 胡慧芳 | T9: 41 | V9: 金贵 | W9: 109 | Y9: 叶屏 | Z9: 71 | AB9: 余玉红 | AC9: 132.5 | AE9: 胡昌燕 | AF9: 72 | AH9: 卢银楷 | AI9: 67 | AK9: 胡慧芳 | AL9: 61 | AN9: 金贵 | AO9: 109 | AQ9: 叶屏 | AR9: 87 | AT9: 余玉红 | AU9: 133 | AW9: 胡昌燕 | AX9: 68 | AZ9: 卢银楷 | BA9: 65 | BC9: 胡慧芳 | BD9: 63 | BF9: 金贵 | BG9: 103 | BI9: 叶屏 | BJ9: 94 | BL9: 余玉红 | BM9: 126 | BO9: 胡昌燕 | BP9: 65 | BR9: 卢银楷 | BS9: 70 | BU9: 胡慧芳 | BV9: 56 | BX9: 金贵 | BY9: 104 | CA9: 叶屏 | CB9: 99 | CD9: 余玉红 | CE9: 119 | CG9: 胡昌燕 | CH9: 70 | CJ9: 杨吉华 | CK9: 54 | CM9: 胡慧芳 | CN9: 53 | CP9: 金贵 | CQ9: 102 | CS9: 向美娟 | CT9: 77 | CV9: 徐万雄 | CW9: 114.5 | CY9: 聂艳梅 | CZ9: 48 | DB9: 杨吉华 | DC9: 52 | DE9: 胡慧芳 | DF9: 61 | DH9: 金贵 | DI9: 114 | DK9: 78 | DM9: 136 | DO9: 26 | DQ9: 37 | DS9: 40
A10: 513422200501255028 | B10: 1 | C10: 王志珍 | D10: 文科 | E10: 112 | G10: 叶屏 | H10: 95 | J10: 余玉红 | K10: 83 | M10: 胡昌燕 | N10: 68.5 | P10: 卢银楷 | Q10: 73 | S10: 胡慧芳 | T10: 60 | V10: 金贵 | W10: 103 | Y10: 叶屏 | Z10: 86 | AB10: 余玉红 | AC10: 109 | AE10: 胡昌燕 | AF10: 67 | AH10: 卢银楷 | AI10: 68 | AK10: 胡慧芳 | AL10: 56 | AN10: 金贵 | AO10: 92 | AQ10: 叶屏 | AR10: 69.5 | AT10: 余玉红 | AU10: 78 | AW10: 胡昌燕 | AX10: 51.5 | AZ10: 卢银楷 | BA10: 58 | BC10: 胡慧芳 | BD10: 67 | BF10: 金贵 | BG10: 105 | BI10: 叶屏 | BJ10: 104 | BL10: 余玉红 | BM10: 84.5 | BO10: 胡昌燕 | BP10: 63 | BR10: 卢银楷 | BS10: 83 | BU10: 胡慧芳 | BV10: 61 | BX10: 金贵 | BY10: 83 | CA10: 叶屏 | CB10: 120 | CD10: 余玉红 | CE10: 76 | CG10: 胡昌燕 | CH10: 58 | CJ10: 杨吉华 | CK10: 58 | CM10: 胡慧芳 | CN10: 60 | CP10: 金贵 | CQ10: 83 | CS10: 叶屏 | CT10: 77 | CV10: 余玉红 | CW10: 64.5 | CY10: 胡昌燕 | CZ10: 71 | DB10: 杨吉华 | DC10: 64 | DE10: 胡慧芳 | DF10: 72 | DH10: 金贵 | DI10: 93 | DK10: 81 | DM10: 69 | DO10: 40 | DQ10: 40 | DS10: 40
A11: 513422200301013622 | B11: 1 | C11: 祝玛央宗 | D11: 文科 | E11: 105 | G11: 叶屏 | H11: 87 | J11: 余玉红 | K11: 114 | M11: 胡昌燕 | N11: 67 | P11: 卢银楷 | Q11: 65 | S11: 胡慧芳 | T11: 49 | V11: 金贵 | W11: 108 | Y11: 叶屏 | Z11: 67 | AB11: 余玉红 | AC11: 124 | AE11: 胡昌燕 | AF11: 71 | AH11: 卢银楷 | AI11: 56 | AK11: 胡慧芳 | AL11: 43 | AN11: 金贵 | AO11: 97 | AQ11: 叶屏 | AR11: 65.5 | AT11: 余玉红 | AU11: 99.5 | AW11: 胡昌燕 | AX11: 58.5 | AZ11: 卢银楷 | BA11: 39 | BC11: 胡慧芳 | BD11: 56 | BF11: 金贵 | BG11: 0 | BJ11: 0 | BM11: 0 | BP11: 0 | BS11: 0 | BV11: 0 | BY11: 0 | CB11: 0 | CE11: 0 | CH11: 0 | CK11: 0 | CN11: 0 | CQ11: 0 | CT11: 0 | CW11: 0 | CZ11: 0 | DC11: 0 | DF11: 0 | DI11: 0 | DK11: 0 | DM11: 0 | DO11: 0 | DQ11: 0 | DS11: 0
A12: 513422200405166420 | B12: 1 | C12: 阿崩 | D12: 文科 | E12: 105 | G12: 叶屏 | H12: 84 | J12: 余玉红 | K12: 107 | M12: 胡昌燕 | N12: 61.5 | P12: 卢银楷 | Q12: 71.5 | S12: 胡慧芳 | T12: 53 | V12: 金贵 | W12: 98 | Y12: 叶屏 | Z12: 59 | AB12: 余玉红 | AC12: 88.5 | AE12: 胡昌燕 | AF12: 72 | AH12: 卢银楷 | AI12: 53 | AK12: 胡慧芳 | AL12: 37 | AN12: 金贵 | AO12: 97 | AQ12: 叶屏 | AR12: 58.5 | AT12: 余玉红 | AU12: 95 | AW12: 胡昌燕 | AX12: 59 | AZ12: 卢银楷 | BA12: 57.5 | BC12: 胡慧芳 | BD12: 49 | BF12: 金贵 | BG12: 99 | BI12: 叶屏 | BJ12: 88 | BL12: 余玉红 | BM12: 108.5 | BO12: 胡昌燕 | BP12: 55 | BR12: 卢银楷 | BS12: 79 | BU12: 胡慧芳 | BV12: 56 | BX12: 金贵 | BY12: 89 | CA12: 叶屏 | CB12: 97 | CD12: 余玉红 | CE12: 101.5 | CG12: 胡昌燕 | CH12: 59 | CJ12: 杨吉华 | CK12: 55 | CM12: 胡慧芳 | CN12: 47 | CP12: 金贵 | CQ12: 76 | CS12: 叶屏 | CT12: 44 | CV12: 余玉红 | CW12: 82 | CY12: 胡昌燕 | CZ12: 36 | DB12: 杨吉华 | DC12: 42 | DE12: 胡慧芳 | DF12: 39 | DH12: 金贵 | DI12: 89 | DK12: 66 | DM12: 112 | DO12: 21 | DQ12: 29 | DS12: 26
A13: 513422200608150728 | B13: 1 | C13: 杨贵秀 | D13: 文科 | E13: 113 | G13: 叶屏 | H13: 87 | J13: 余玉红 | K13: 104 | M13: 胡昌燕 | N13: 61 | P13: 卢银楷 | Q13: 71 | S13: 胡慧芳 | T13: 39 | V13: 金贵 | W13: 103 | Y13: 叶屏 | Z13: 80 | AB13: 余玉红 | AC13: 113.5 | AE13: 胡昌燕 | AF13: 57 | AH13: 卢银楷 | AI13: 59 | AK13: 胡慧芳 | AL13: 52 | AN13: 金贵 | AO13: 99 | AQ13: 叶屏 | AR13: 83 | AT13: 余玉红 | AU13: 104.5 | AW13: 胡昌燕 | AX13: 60.5 | AZ13: 卢银楷 | BA13: 76.5 | BC13: 胡慧芳 | BD13: 51 | BF13: 金贵 | BG13: 104 | BI13: 叶屏 | BJ13: 105 | BL13: 余玉红 | BM13: 99 | BO13: 胡昌燕 | BP13: 63 | BR13: 卢银楷 | BS13: 65 | BU13: 胡慧芳 | BV13: 41 | BX13: 金贵 | BY13: 96 | CA13: 叶屏 | CB13: 83 | CD13: 余玉红 | CE13: 93.5 | CG13: 胡昌燕 | CH13: 62 | CJ13: 杨吉华 | CK13: 46 | CM13: 胡慧芳 | CN13: 53 | CP13: 金贵 | CQ13: 81 | CS13: 叶屏 | CT13: 78 | CV13: 余玉红 | CW13: 83.5 | CY13: 胡昌燕 | CZ13: 73 | DB13: 杨吉华 | DC13: 39 | DE13: 胡慧芳 | DF13: 53 | DH13: 金贵 | DI13: 96 | DK13: 85 | DM13: 90 | DO13: 17 | DQ13: 39 | DS13: 28
A14: 513423200501083111 | B14: 1 | C14: 杨小勇 | D14: 文科 | E14: 105 | G14: 叶屏 | H14: 98 | J14: 余玉红 | K14: 96 | M14: 胡昌燕 | N14: 66 | P14: 卢银楷 | Q14: 65.5 | S14: 胡慧芳 | T14: 42 | V14: 金贵 | W14: 98 | Y14: 叶屏 | Z14: 49 | AB14: 余玉红 | AC14: 99 | AE14: 胡昌燕 | AF14: 66 | AH14: 卢银楷 | AI14: 65 | AK14: 胡慧芳 | AL14: 41 | AN14: 金贵 | AO14: 83.5 | AQ14: 叶屏 | AR14: 88 | AT14: 余玉红 | AU14: 83.5 | AW14: 胡昌燕 | AX14: 56.5 | AZ14: 卢银楷 | BA14: 67.5 | BC14: 胡慧芳 | BD14: 42 | BF14: 金贵 | BG14: 0 | BJ14: 0 | BM14: 0 | BP14: 0 | BS14: 0 | BV14: 0 | BY14: 0 | CB14: 0 | CE14: 0 | CH14: 0 | CK14: 0 | CN14: 0 | CQ14: 0 | CT14: 0 | CW14: 0 | CZ14: 0 | DC14: 0 | DF14: 0 | DI14: 0 | DK14: 0 | DM14: 0 | DO14: 0 | DQ14: 0 | DS14: 0
A15: 513422200508141111 | B15: 1 | C15: 朱建龙 | D15: 文科 | E15: 107 | G15: 叶屏 | H15: 94 | J15: 余玉红 | K15: 90 | M15: 胡昌燕 | N15: 69 | P15: 卢银楷 | Q15: 55 | S15: 胡慧芳 | T15: 54 | V15: 金贵 | W15: 119 | Y15: 叶屏 | Z15: 67 | AB15: 余玉红 | AC15: 102.5 | AE15: 胡昌燕 | AF15: 67 | AH15: 卢银楷 | AI15: 61 | AK15: 胡慧芳 | AL15: 51 | AN15: 金贵 | AO15: 98 | AQ15: 叶屏 | AR15: 66.5 | AT15: 余玉红 | AU15: 98.5 | AW15: 胡昌燕 | AX15: 45.5 | AZ15: 卢银楷 | BA15: 55.5 | BC15: 胡慧芳 | BD15: 47 | BF15: 金贵 | BG15: 102 | BI15: 叶屏 | BJ15: 98 | BL15: 余玉红 | BM15: 92.5 | BO15: 胡昌燕 | BP15: 50 | BR15: 卢银楷 | BS15: 79 | BU15: 胡慧芳 | BV15: 67 | BX15: 金贵 | BY15: 94 | CA15: 叶屏 | CB15: 76 | CD15: 余玉红 | CE15: 85.5 | CG15: 胡昌燕 | CH15: 60 | CJ15: 杨吉华 | CK15: 50 | CM15: 胡慧芳 | CN15: 59 | CP15: 金贵 | CQ15: 67 | CS15: 叶屏 | CT15: 57 | CV15: 余玉红 | CW15: 100 | CY15: 胡昌燕 | CZ15: 70 | DB15: 杨吉华 | DC15: 39 | DE15: 胡慧芳 | DF15: 51 | DH15: 金贵 | DI15: 91 | DK15: 65 | DM15: 121 | DO15: 30 | DQ15: 28 | DS15: 39
A16: 513422200306031125 | B16: 1 | C16: 沈旭红 | D16: 文科 | E16: 108 | G16: 叶屏 | H16: 52 | J16: 余玉红 | K16: 125 | M16: 胡昌燕 | N16: 66 | P16: 卢银楷 | Q16: 60 | S16: 胡慧芳 | T16: 58 | V16: 金贵 | W16: 93 | Y16: 叶屏 | Z16: 50 | AB16: 余玉红 | AC16: 123 | AE16: 胡昌燕 | AF16: 58 | AH16: 卢银楷 | AI16: 60 | AK16: 胡慧芳 | AL16: 62 | AN16: 金贵 | AO16: 92.5 | AQ16: 叶屏 | AR16: 42 | AT16: 余玉红 | AU16: 113.5 | AW16: 胡昌燕 | AX16: 64 | AZ16: 卢银楷 | BA16: 59 | BC16: 胡慧芳 | BD16: 54.5 | BF16: 金贵 | BG16: 94 | BI16: 叶屏 | BJ16: 36 | BL16: 余玉红 | BM16: 118.5 | BO16: 胡昌燕 | BP16: 52 | BR16: 卢银楷 | BS16: 68 | BU16: 胡慧芳 | BV16: 54 | BX16: 金贵 | BY16: 94 | CA16: 叶屏 | CB16: 20 | CD16: 余玉红 | CE16: 119 | CG16: 胡昌燕 | CH16: 56 | CJ16: 杨吉华 | CK16: 54 | CM16: 胡慧芳 | CN16: 41 | CP16: 金贵 | CQ16: 86 | CS16: 叶屏 | CT16: 22 | CV16: 余玉红 | CW16: 98.5 | CY16: 胡昌燕 | CZ16: 41 | DB16: 杨吉华 | DC16: 25 | DE16: 胡慧芳 | DF16: 31 | DH16: 金贵 | DI16: 103 | DK16: 59 | DM16: 129 | DO16: 27 | DQ16: 28 | DS16: 24
A17: 51342220050304681X | B17: 1 | C17: 王小强 | D17: 文科 | E17: 108 | G17: 叶屏 | H17: 70 | J17: 余玉红 | K17: 100 | M17: 胡昌燕 | N17: 54 | P17: 卢银楷 | Q17: 74.5 | S17: 胡慧芳 | T17: 57 | V17: 金贵 | W17: 104 | Y17: 叶屏 | Z17: 55 | AB17: 余玉红 | AC17: 117 | AE17: 胡昌燕 | AF17: 68 | AH17: 卢银楷 | AI17: 44 | AK17: 胡慧芳 | AL17: 40 | AN17: 金贵 | AO17: 84 | AQ17: 叶屏 | AR17: 78.5 | AT17: 余玉红 | AU17: 116.5 | AW17: 胡昌燕 | AX17: 63.5 | AZ17: 卢银楷 | BA17: 57.5 | BC17: 胡慧芳 | BD17: 41 | BF17: 金贵 | BG17: 109 | BI17: 叶屏 | BJ17: 98 | BL17: 余玉红 | BM17: 108 | BO17: 胡昌燕 | BP17: 62 | BR17: 卢银楷 | BS17: 80 | BU17: 胡慧芳 | BV17: 55 | BX17: 金贵 | BY17: 93 | CA17: 叶屏 | CB17: 126 | CD17: 余玉红 | CE17: 121.5 | CG17: 胡昌燕 | CH17: 70 | CJ17: 杨吉华 | CK17: 58 | CM17: 胡慧芳 | CN17: 61 | CP17: 金贵 | CQ17: 85 | CS17: 叶屏 | CT17: 62 | CV17: 余玉红 | CW17: 104.5 | CY17: 胡昌燕 | CZ17: 53 | DB17: 杨吉华 | DC17: 47 | DE17: 胡慧芳 | DF17: 40 | DH17: 金贵 | DI17: 109 | DK17: 59 | DM17: 123 | DO17: 31 | DQ17: 34 | DS17: 36
A18: 513422200506215025 | B18: 1 | C18: 甲阿拉姆 | D18: 文科 | E18: 104 | G18: 叶屏 | H18: 97 | J18: 余玉红 | K18: 89 | M18: 胡昌燕 | N18: 62.5 | P18: 卢银楷 | Q18: 65 | S18: 胡慧芳 | T18: 46 | V18: 金贵 | W18: 100 | Y18: 叶屏 | Z18: 67 | AB18: 余玉红 | AC18: 105.5 | AE18: 胡昌燕 | AF18: 52 | AH18: 卢银楷 | AI18: 53 | AK18: 胡慧芳 | AL18: 47 | AN18: 金贵 | AO18: 92 | AQ18: 叶屏 | AR18: 80 | AT18: 余玉红 | AU18: 92.5 | AW18: 胡昌燕 | AX18: 58.5 | AZ18: 卢银楷 | BA18: 62 | BC18: 胡慧芳 | BD18: 46.5 | BF18: 金贵 | BG18: 86 | BI18: 叶屏 | BJ18: 116 | BL18: 余玉红 | BM18: 100.5 | BO18: 胡昌燕 | BP18: 62 | BR18: 卢银楷 | BS18: 64 | BU18: 胡慧芳 | BV18: 49 | BX18: 金贵 | BY18: 93 | CA18: 叶屏 | CB18: 123 | CD18: 余玉红 | CE18: 101.5 | CG18: 胡昌燕 | CH18: 62 | CJ18: 杨吉华 | CK18: 59 | CM18: 胡慧芳 | CN18: 51 | CP18: 金贵 | CQ18: 84 | CS18: 向美娟 | CT18: 65 | CV18: 徐万雄 | CW18: 96.5 | CY18: 聂艳梅 | CZ18: 62 | DB18: 杨吉华 | DC18: 53 | DE18: 胡慧芳 | DF18: 56 | DH18: 金贵 | DI18: 102 | DK18: 85 | DM18: 127 | DO18: 36 | DQ18: 43 | DS18: 42
A19: 513422200311276629 | B19: 1 | C19: 曾雅琪 | D19: 文科 | E19: 97 | G19: 叶屏 | H19: 102 | J19: 余玉红 | K19: 84 | M19: 胡昌燕 | N19: 68 | P19: 卢银楷 | Q19: 54.5 | S19: 胡慧芳 | T19: 58 | V19: 金贵 | W19: 89 | Y19: 叶屏 | Z19: 73 | AB19: 余玉红 | AC19: 95.5 | AE19: 胡昌燕 | AF19: 53 | AH19: 卢银楷 | AI19: 56 | AK19: 胡慧芳 | AL19: 34 | AN19: 金贵 | AO19: 82 | AQ19: 叶屏 | AR19: 70.5 | AT19: 余玉红 | AU19: 84.5 | AW19: 胡昌燕 | AX19: 49 | AZ19: 卢银楷 | BA19: 42 | BC19: 胡慧芳 | BD19: 47 | BF19: 金贵 | BG19: 0 | BJ19: 0 | BM19: 0 | BP19: 0 | BS19: 0 | BV19: 0 | BY19: 0 | CB19: 0 | CE19: 0 | CH19: 0 | CK19: 0 | CN19: 0 | CQ19: 0 | CT19: 0 | CW19: 0 | CZ19: 0 | DC19: 0 | DF19: 0 | DI19: 0 | DK19: 0 | DM19: 0 | DO19: 0 | DQ19: 0 | DS19: 0
A20: 51342220030103401X | B20: 1 | C20: 龙布泽仁 | D20: 文科 | E20: 97 | G20: 叶屏 | H20: 81 | J20: 余玉红 | K20: 71 | M20: 胡昌燕 | N20: 77.5 | P20: 卢银楷 | Q20: 72 | S20: 胡慧芳 | T20: 64 | V20: 金贵 | W20: 106 | Y20: 叶屏 | Z20: 81 | AB20: 余玉红 | AC20: 63 | AE20: 胡昌燕 | AF20: 56 | AH20: 卢银楷 | AI20: 72 | AK20: 胡慧芳 | AL20: 57 | AN20: 金贵 | AO20: 103.5 | AQ20: 叶屏 | AR20: 66.5 | AT20: 余玉红 | AU20: 75 | AW20: 胡昌燕 | AX20: 55 | AZ20: 卢银楷 | BA20: 71.5 | BC20: 胡慧芳 | BD20: 54 | BF20: 金贵 | BG20: 101 | BI20: 叶屏 | BJ20: 85 | BL20: 余玉红 | BM20: 72.5 | BO20: 胡昌燕 | BP20: 52 | BR20: 卢银楷 | BS20: 82 | BU20: 胡慧芳 | BV20: 65 | BX20: 金贵 | BY20: 100 | CA20: 叶屏 | CB20: 106 | CD20: 余玉红 | CE20: 58 | CG20: 胡昌燕 | CH20: 60 | CJ20: 杨吉华 | CK20: 66 | CM20: 胡慧芳 | CN20: 63 | CP20: 金贵 | CQ20: 92 | CS20: 叶屏 | CT20: 62 | CV20: 余玉红 | CW20: 78 | CY20: 胡昌燕 | CZ20: 82 | DB20: 杨吉华 | DC20: 54 | DE20: 胡慧芳 | DF20: 70 | DH20: 金贵 | DI20: 100 | DK20: 78 | DM20: 84 | DO20: 33 | DQ20: 43 | DS20: 40
A21: 513422200108011334 | B21: 1 | C21: 马建峰 | D21: 文科 | E21: 115 | G21: 叶屏 | H21: 85 | J21: 余玉红 | K21: 72 | M21: 胡昌燕 | N21: 67 | P21: 卢银楷 | Q21: 73.5 | S21: 胡慧芳 | T21: 50 | V21: 金贵 | W21: 99 | Y21: 叶屏 | Z21: 58 | AB21: 余玉红 | AC21: 59 | AE21: 胡昌燕 | AF21: 62 | AH21: 卢银楷 | AI21: 70 | AK21: 胡慧芳 | AL21: 46 | AN21: 金贵 | AO21: 88 | AQ21: 叶屏 | AR21: 47 | AT21: 余玉红 | AU21: 60.5 | AW21: 胡昌燕 | AX21: 57 | AZ21: 卢银楷 | BA21: 58 | BC21: 胡慧芳 | BD21: 54 | BF21: 金贵 | BG21: 0 | BJ21: 0 | BM21: 0 | BP21: 0 | BS21: 0 | BV21: 0 | BY21: 0 | CB21: 0 | CE21: 0 | CH21: 0 | CK21: 0 | CN21: 0 | CQ21: 0 | CT21: 0 | CW21: 0 | CZ21: 0 | DC21: 0 | DF21: 0 | DI21: 0 | DK21: 0 | DM21: 0 | DO21: 0 | DQ21: 0 | DS21: 0
A22: 513422200504202722 | B22: 1 | C22: 徐永珍 | D22: 文科 | E22: 111 | G22: 叶屏 | H22: 78 | J22: 余玉红 | K22: 84 | M22: 胡昌燕 | N22: 71.5 | P22: 卢银楷 | Q22: 57 | S22: 胡慧芳 | T22: 57 | V22: 金贵 | W22: 107 | Y22: 叶屏 | Z22: 59 | AB22: 余玉红 | AC22: 91.5 | AE22: 胡昌燕 | AF22: 44 | AH22: 卢银楷 | AI22: 70 | AK22: 胡慧芳 | AL22: 45 | AN22: 金贵 | AO22: 99 | AQ22: 叶屏 | AR22: 62.5 | AT22: 余玉红 | AU22: 90 | AW22: 胡昌燕 | AX22: 57 | AZ22: 卢银楷 | BA22: 66 | BC22: 胡慧芳 | BD22: 38.5 | BF22: 金贵 | BG22: 105 | BI22: 叶屏 | BJ22: 77 | BL22: 余玉红 | BM22: 92 | BO22: 胡昌燕 | BP22: 62 | BR22: 卢银楷 | BS22: 73 | BU22: 胡慧芳 | BV22: 56 | BX22: 金贵 | BY22: 94 | CA22: 叶屏 | CB22: 90 | CD22: 余玉红 | CE22: 93 | CG22: 胡昌燕 | CH22: 59 | CJ22: 杨吉华 | CK22: 57 | CM22: 胡慧芳 | CN22: 43 | CP22: 金贵 | CQ22: 81 | CS22: 何苗 | CT22: 66 | CV22: 周军 | CW22: 73 | CY22: 程长寿 | CZ22: 39 | DB22: 杨吉华 | DC22: 37 | DE22: 赵香才 | DF22: 39 | DH22: 金贵 | DI22: 102 | DK22: 63 | DM22: 90 | DO22: 37 | DQ22: 23 | DS22: 22
A23: 513422200405031526 | B23: 1 | C23: 毛健美 | D23: 文科 | E23: 99 | G23: 叶屏 | H23: 107 | J23: 余玉红 | K23: 67 | M23: 胡昌燕 | N23: 64 | P23: 卢银楷 | Q23: 57.5 | S23: 胡慧芳 | T23: 64 | V23: 金贵 | W23: 100 | Y23: 叶屏 | Z23: 79 | AB23: 余玉红 | AC23: 74 | AE23: 胡昌燕 | AF23: 69 | AH23: 卢银楷 | AI23: 73 | AK23: 胡慧芳 | AL23: 67 | AN23: 金贵 | AO23: 101 | AQ23: 叶屏 | AR23: 95 | AT23: 余玉红 | AU23: 70.5 | AW23: 胡昌燕 | AX23: 61.5 | AZ23: 卢银楷 | BA23: 56.5 | BC23: 胡慧芳 | BD23: 55 | BF23: 金贵 | BG23: 0 | BJ23: 0 | BM23: 0 | BP23: 0 | BS23: 0 | BV23: 0 | BY23: 0 | CB23: 0 | CE23: 0 | CH23: 0 | CK23: 0 | CN23: 0 | CQ23: 0 | CT23: 0 | CW23: 0 | CZ23: 0 | DC23: 0 | DF23: 0 | DI23: 0 | DK23: 0 | DM23: 0 | DO23: 0 | DQ23: 0 | DS23: 0
A24: 513422200302041924 | B24: 1 | C24: 沈小花 | D24: 文科 | E24: 104 | G24: 叶屏 | H24: 102 | J24: 余玉红 | K24: 72 | M24: 胡昌燕 | N24: 67.5 | P24: 卢银楷 | Q24: 47.5 | S24: 胡慧芳 | T24: 63 | V24: 金贵 | W24: 89 | Y24: 叶屏 | Z24: 70 | AB24: 余玉红 | AC24: 75 | AE24: 胡昌燕 | AF24: 63 | AH24: 卢银楷 | AI24: 56 | AK24: 胡慧芳 | AL24: 48 | AN24: 金贵 | AO24: 88.5 | AQ24: 叶屏 | AR24: 80 | AT24: 余玉红 | AU24: 87.5 | AW24: 胡昌燕 | AX24: 58 | AZ24: 卢银楷 | BA24: 49 | BC24: 胡慧芳 | BD24: 52.5 | BF24: 金贵 | BG24: 89 | BI24: 叶屏 | BJ24: 105 | BL24: 余玉红 | BM24: 76 | BO24: 胡昌燕 | BP24: 65 | BR24: 卢银楷 | BS24: 65 | BU24: 胡慧芳 | BV24: 67 | BX24: 金贵 | BY24: 86 | CA24: 叶屏 | CB24: 127 | CD24: 余玉红 | CE24: 74.5 | CG24: 胡昌燕 | CH24: 61 | CJ24: 杨吉华 | CK24: 55 | CM24: 胡慧芳 | CN24: 51 | CP24: 金贵 | CQ24: 79 | CS24: 叶屏 | CT24: 66 | CV24: 余玉红 | CW24: 81 | CY24: 胡昌燕 | CZ24: 82 | DB24: 杨吉华 | DC24: 52 | DE24: 胡慧芳 | DF24: 60 | DH24: 金贵 | DI24: 96 | DK24: 94 | DM24: 88 | DO24: 34 | DQ24: 36 | DS24: 41
A25: 513422200403152527 | B25: 1 | C25: 王春秀 | D25: 文科 | E25: 101 | G25: 叶屏 | H25: 87 | J25: 余玉红 | K25: 80 | M25: 胡昌燕 | N25: 67 | P25: 卢银楷 | Q25: 62 | S25: 胡慧芳 | T25: 52 | V25: 金贵 | W25: 91 | Y25: 叶屏 | Z25: 55 | AB25: 余玉红 | AC25: 96 | AE25: 胡昌燕 | AF25: 66 | AH25: 卢银楷 | AI25: 46 | AK25: 胡慧芳 | AL25: 39 | AN25: 金贵 | AO25: 91.5 | AQ25: 叶屏 | AR25: 83.5 | AT25: 余玉红 | AU25: 100.5 | AW25: 胡昌燕 | AX25: 47 | AZ25: 卢银楷 | BA25: 58.5 | BC25: 胡慧芳 | BD25: 44 | BF25: 金贵 | BG25: 95 | BI25: 叶屏 | BJ25: 101 | BL25: 余玉红 | BM25: 93.5 | BO25: 胡昌燕 | BP25: 53 | BR25: 卢银楷 | BS25: 75 | BU25: 胡慧芳 | BV25: 50 | BX25: 金贵 | BY25: 90 | CA25: 叶屏 | CB25: 106 | CD25: 余玉红 | CE25: 89.5 | CG25: 胡昌燕 | CH25: 59 | CJ25: 杨吉华 | CK25: 58 | CM25: 胡慧芳 | CN25: 47 | CP25: 金贵 | CQ25: 84 | CS25: 向美娟 | CT25: 58 | CV25: 徐万雄 | CW25: 82.5 | CY25: 聂艳梅 | CZ25: 69 | DB25: 杨吉华 | DC25: 55 | DE25: 胡慧芳 | DF25: 47 | DH25: 金贵 | DI25: 99 | DK25: 81 | DM25: 115 | DO25: 32 | DQ25: 38 | DS25: 37
A26: 513422200406190916 | B26: 1 | C26: 陈伍斤 | D26: 文科 | E26: 97 | G26: 叶屏 | H26: 81 | J26: 余玉红 | K26: 104 | M26: 胡昌燕 | N26: 55.5 | P26: 卢银楷 | Q26: 66 | S26: 胡慧芳 | T26: 42 | V26: 金贵 | W26: 89 | Y26: 叶屏 | Z26: 72 | AB26: 余玉红 | AC26: 118.5 | AE26: 胡昌燕 | AF26: 57 | AH26: 卢银楷 | AI26: 54 | AK26: 胡慧芳 | AL26: 42 | AN26: 金贵 | AO26: 76 | AQ26: 叶屏 | AR26: 80 | AT26: 余玉红 | AU26: 111 | AW26: 胡昌燕 | AX26: 56.5 | AZ26: 卢银楷 | BA26: 49 | BC26: 胡慧芳 | BD26: 45.5 | BF26: 金贵 | BG26: 91 | BI26: 叶屏 | BJ26: 92 | BL26: 余玉红 | BM26: 107 | BO26: 胡昌燕 | BP26: 46 | BR26: 卢银楷 | BS26: 73 | BU26: 胡慧芳 | BV26: 47 | BX26: 金贵 | BY26: 89 | CA26: 叶屏 | CB26: 97 | CD26: 余玉红 | CE26: 92.5 | CG26: 胡昌燕 | CH26: 31 | CJ26: 杨吉华 | CK26: 35 | CM26: 胡慧芳 | CN26: 24 | CP26: 金贵 | CQ26: 66 | CS26: 叶屏 | CT26: 51 | CV26: 余玉红 | CW26: 89.5 | CY26: 胡昌燕 | CZ26: 29 | DB26: 杨吉华 | DC26: 28 | DE26: 胡慧芳 | DF26: 41 | DH26: 金贵 | DI26: 87 | DK26: 72 | DM26: 131 | DO26: 25 | DQ26: 28 | DS26: 19
A27: 513422199905305428 | B27: 1 | C27: 祝玛泽仁 | D27: 文科 | E27: 94 | G27: 叶屏 | H27: 98 | J27: 余玉红 | K27: 94 | M27: 胡昌燕 | N27: 60.5 | P27: 卢银楷 | Q27: 57 | S27: 胡慧芳 | T27: 41 | V27: 金贵 | W27: 82 | Y27: 叶屏 | Z27: 63 | AB27: 余玉红 | AC27: 96.5 | AE27: 胡昌燕 | AF27: 59 | AH27: 卢银楷 | AI27: 65 | AK27: 胡慧芳 | AL27: 49 | AN27: 金贵 | AO27: 89 | AQ27: 叶屏 | AR27: 70 | AT27: 余玉红 | AU27: 94 | AW27: 胡昌燕 | AX27: 59 | AZ27: 卢银楷 | BA27: 51.5 | BC27: 胡慧芳 | BD27: 38.5 | BF27: 金贵 | BG27: 0 | BJ27: 0 | BM27: 0 | BP27: 0 | BS27: 0 | BV27: 0 | BY27: 0 | CB27: 0 | CE27: 0 | CH27: 0 | CK27: 0 | CN27: 0 | CQ27: 0 | CT27: 0 | CW27: 0 | CZ27: 0 | DC27: 0 | DF27: 0 | DI27: 0 | DK27: 0 | DM27: 0 | DO27: 0 | DQ27: 0 | DS27: 0
A28: 513422200305151918 | B28: 1 | C28: 伍小东 | D28: 文科 | E28: 103 | G28: 叶屏 | H28: 73 | J28: 余玉红 | K28: 92 | M28: 胡昌燕 | N28: 54 | P28: 卢银楷 | Q28: 60.5 | S28: 胡慧芳 | T28: 61 | V28: 金贵 | W28: 98 | Y28: 叶屏 | Z28: 51 | AB28: 余玉红 | AC28: 92.5 | AE28: 胡昌燕 | AF28: 64 | AH28: 卢银楷 | AI28: 63 | AK28: 胡慧芳 | AL28: 56 | AN28: 金贵 | AO28: 98 | AQ28: 叶屏 | AR28: 76 | AT28: 余玉红 | AU28: 89 | AW28: 胡昌燕 | AX28: 64.5 | AZ28: 卢银楷 | BA28: 63.5 | BC28: 胡慧芳 | BD28: 51 | BF28: 金贵 | BG28: 100 | BI28: 叶屏 | BJ28: 82 | BL28: 余玉红 | BM28: 92.5 | BO28: 胡昌燕 | BP28: 50 | BR28: 卢银楷 | BS28: 70 | BU28: 胡慧芳 | BV28: 59 | BX28: 金贵 | BY28: 91 | CA28: 叶屏 | CB28: 90 | CD28: 余玉红 | CE28: 84.5 | CG28: 胡昌燕 | CH28: 70 | CJ28: 杨吉华 | CK28: 67 | CM28: 胡慧芳 | CN28: 65 | CP28: 金贵 | CQ28: 75 | CS28: 叶屏 | CT28: 67 | CV28: 余玉红 | CW28: 77.5 | CY28: 胡昌燕 | CZ28: 73 | DB28: 杨吉华 | DC28: 61 | DE28: 胡慧芳 | DF28: 43 | DH28: 金贵 | DI28: 90 | DK28: 81 | DM28: 101 | DO28: 39 | DQ28: 38 | DS28: 40
A29: 513422200401116426 | B29: 1 | C29: 格绒其珍 | D29: 文科 | E29: 111 | G29: 叶屏 | H29: 80 | J29: 余玉红 | K29: 87 | M29: 胡昌燕 | N29: 64 | P29: 卢银楷 | Q29: 61.5 | S29: 胡慧芳 | T29: 37 | V29: 金贵 | W29: 102 | Y29: 叶屏 | Z29: 43 | AB29: 余玉红 | AC29: 78.5 | AE29: 胡昌燕 | AF29: 57 | AH29: 卢银楷 | AI29: 56 | AK29: 胡慧芳 | AL29: 38 | AN29: 金贵 | AO29: 83 | AQ29: 叶屏 | AR29: 73 | AT29: 余玉红 | AU29: 77 | AW29: 胡昌燕 | AX29: 62.5 | AZ29: 卢银楷 | BA29: 56.5 | BC29: 胡慧芳 | BD29: 42 | BF29: 金贵 | BG29: 91 | BI29: 叶屏 | BJ29: 81 | BL29: 余玉红 | BM29: 89 | BO29: 胡昌燕 | BP29: 58 | BR29: 卢银楷 | BS29: 73 | BU29: 胡慧芳 | BV29: 49 | BX29: 金贵 | BY29: 84 | CA29: 叶屏 | CB29: 67 | CD29: 余玉红 | CE29: 92.5 | CG29: 胡昌燕 | CH29: 52 | CJ29: 杨吉华 | CK29: 51 | CM29: 胡慧芳 | CN29: 47 | CP29: 金贵 | CQ29: 79 | CS29: 叶屏 | CT29: 63 | CV29: 余玉红 | CW29: 83.5 | CY29: 胡昌燕 | CZ29: 35 | DB29: 杨吉华 | DC29: 43 | DE29: 胡慧芳 | DF29: 38 | DH29: 金贵 | DI29: 95 | DK29: 69 | DM29: 104 | DO29: 19 | DQ29: 35 | DS29: 32
A30: 513422200306102528 | B30: 1 | C30: 李小群 | D30: 文科 | E30: 105 | G30: 叶屏 | H30: 80 | J30: 余玉红 | K30: 88 | M30: 胡昌燕 | N30: 68 | P30: 卢银楷 | Q30: 55.5 | S30: 胡慧芳 | T30: 43 | V30: 金贵 | W30: 101 | Y30: 叶屏 | Z30: 70 | AB30: 余玉红 | AC30: 104.5 | AE30: 胡昌燕 | AF30: 63 | AH30: 卢银楷 | AI30: 45 | AK30: 胡慧芳 | AL30: 39 | AN30: 金贵 | AO30: 101 | AQ30: 叶屏 | AR30: 76 | AT30: 余玉红 | AU30: 97.5 | AW30: 胡昌燕 | AX30: 49.5 | AZ30: 卢银楷 | BA30: 55.5 | BC30: 胡慧芳 | BD30: 31 | BF30: 金贵 | BG30: 94 | BI30: 叶屏 | BJ30: 85 | BL30: 余玉红 | BM30: 108 | BO30: 胡昌燕 | BP30: 58 | BR30: 卢银楷 | BS30: 70 | BU30: 胡慧芳 | BV30: 53 | BX30: 金贵 | BY30: 82 | CA30: 叶屏 | CB30: 115 | CD30: 余玉红 | CE30: 95 | CG30: 胡昌燕 | CH30: 67 | CJ30: 杨吉华 | CK30: 56 | CM30: 胡慧芳 | CN30: 63 | CP30: 金贵 | CQ30: 79 | CS30: 叶屏 | CT30: 66 | CV30: 余玉红 | CW30: 86.5 | CY30: 胡昌燕 | CZ30: 44 | DB30: 杨吉华 | DC30: 37 | DE30: 胡慧芳 | DF30: 45 | DH30: 金贵 | DI30: 80 | DK30: 63 | DM30: 91 | DO30: 28 | DQ30: 42 | DS30: 39
A31: 513422200312052715 | B31: 1 | C31: 杨万强 | D31: 文科 | E31: 110 | G31: 叶屏 | H31: 78 | J31: 余玉红 | K31: 76 | M31: 胡昌燕 | N31: 63 | P31: 卢银楷 | Q31: 69 | S31: 胡慧芳 | T31: 44 | V31: 金贵 | W31: 91 | Y31: 叶屏 | Z31: 58 | AB31: 余玉红 | AC31: 69.5 | AE31: 胡昌燕 | AF31: 44 | AH31: 卢银楷 | AI31: 52 | AK31: 胡慧芳 | AL31: 32 | AN31: 金贵 | AO31: 92.5 | AQ31: 叶屏 | AR31: 80.5 | AT31: 余玉红 | AU31: 70 | AW31: 胡昌燕 | AX31: 52.5 | AZ31: 卢银楷 | BA31: 63 | BC31: 胡慧芳 | BD31: 42 | BF31: 金贵 | BG31: 98 | BI31: 叶屏 | BJ31: 71 | BL31: 余玉红 | BM31: 67.5 | BO31: 胡昌燕 | BP31: 47 | BR31: 卢银楷 | BS31: 74 | BU31: 胡慧芳 | BV31: 57 | BX31: 金贵 | BY31: 80 | CA31: 叶屏 | CB31: 101 | CD31: 余玉红 | CE31: 61 | CG31: 胡昌燕 | CH31: 53 | CJ31: 杨吉华 | CK31: 56 | CM31: 胡慧芳 | CN31: 44 | CP31: 金贵 | CQ31: 73 | CS31: 叶屏 | CT31: 74 | CV31: 余玉红 | CW31: 56.5 | CY31: 胡昌燕 | CZ31: 47 | DB31: 杨吉华 | DC31: 25 | DE31: 胡慧芳 | DF31: 38 | DH31: 金贵 | DI31: 96 | DK31: 90 | DM31: 80 | DO31: 26 | DQ31: 28 | DS31: 21
A32: 513422200401012328 | B32: 1 | C32: 扎西央宗 | D32: 文科 | E32: 111 | G32: 叶屏 | H32: 69 | J32: 余玉红 | K32: 105 | M32: 胡昌燕 | N32: 63 | P32: 卢银楷 | Q32: 57 | S32: 胡慧芳 | T32: 33 | V32: 金贵 | W32: 96 | Y32: 叶屏 | Z32: 48 | AB32: 余玉红 | AC32: 106.5 | AE32: 胡昌燕 | AF32: 56 | AH32: 卢银楷 | AI32: 60 | AK32: 胡慧芳 | AL32: 34 | AN32: 金贵 | AO32: 92.5 | AQ32: 叶屏 | AR32: 70.5 | AT32: 余玉红 | AU32: 106.5 | AW32: 胡昌燕 | AX32: 65 | AZ32: 卢银楷 | BA32: 65 | BC32: 胡慧芳 | BD32: 25 | BF32: 金贵 | BG32: 0 | BJ32: 0 | BM32: 0 | BP32: 0 | BS32: 0 | BV32: 0 | BY32: 0 | CB32: 0 | CE32: 0 | CH32: 0 | CK32: 0 | CN32: 0 | CQ32: 0 | CT32: 0 | CW32: 0 | CZ32: 0 | DC32: 0 | DF32: 0 | DI32: 0 | DK32: 0 | DM32: 0 | DO32: 0 | DQ32: 0 | DS32: 0
A33: 513422200408102721 | B33: 1 | C33: 黄春秀 | D33: 文科 | E33: 97 | G33: 叶屏 | H33: 87 | J33: 余玉红 | K33: 94 | M33: 胡昌燕 | N33: 67 | P33: 卢银楷 | Q33: 55 | S33: 胡慧芳 | T33: 36 | V33: 金贵 | W33: 102 | Y33: 叶屏 | Z33: 63 | AB33: 余玉红 | AC33: 99.5 | AE33: 胡昌燕 | AF33: 56 | AH33: 卢银楷 | AI33: 44 | AK33: 胡慧芳 | AL33: 36 | AN33: 金贵 | AO33: 99 | AQ33: 叶屏 | AR33: 59.5 | AT33: 余玉红 | AU33: 88.5 | AW33: 胡昌燕 | AX33: 48.5 | AZ33: 卢银楷 | BA33: 40 | BC33: 胡慧芳 | BD33: 28 | BF33: 金贵 | BG33: 97 | BI33: 叶屏 | BJ33: 71 | BL33: 余玉红 | BM33: 99.5 | BO33: 胡昌燕 | BP33: 61 | BR33: 卢银楷 | BS33: 67 | BU33: 胡慧芳 | BV33: 34 | BX33: 金贵 | BY33: 88 | CA33: 叶屏 | CB33: 97 | CD33: 余玉红 | CE33: 102.5 | CG33: 胡昌燕 | CH33: 55 | CJ33: 杨吉华 | CK33: 51 | CM33: 胡慧芳 | CN33: 42 | CP33: 金贵 | CQ33: 71 | CS33: 叶屏 | CT33: 37 | CV33: 余玉红 | CW33: 80 | CY33: 胡昌燕 | CZ33: 37 | DB33: 杨吉华 | DC33: 33 | DE33: 胡慧芳 | DF33: 27 | DH33: 金贵 | DI33: 96 | DK33: 72 | DM33: 116 | DO33: 21 | DQ33: 35 | DS33: 28
A34: 510922200502228181 | B34: 1 | C34: 任可欣 | D34: 文科 | E34: 106 | G34: 叶屏 | H34: 83 | J34: 余玉红 | K34: 83 | M34: 胡昌燕 | N34: 65 | P34: 卢银楷 | Q34: 56.5 | S34: 胡慧芳 | T34: 41 | V34: 金贵 | W34: 104 | Y34: 叶屏 | Z34: 69 | AB34: 余玉红 | AC34: 85 | AE34: 胡昌燕 | AF34: 66 | AH34: 卢银楷 | AI34: 54 | AK34: 胡慧芳 | AL34: 42 | AN34: 金贵 | AO34: 98 | AQ34: 叶屏 | AR34: 73 | AT34: 余玉红 | AU34: 72.5 | AW34: 胡昌燕 | AX34: 62.5 | AZ34: 卢银楷 | BA34: 61 | BC34: 胡慧芳 | BD34: 42.5 | BF34: 金贵 | BG34: 96 | BI34: 叶屏 | BJ34: 115 | BL34: 余玉红 | BM34: 85.5 | BO34: 胡昌燕 | BP34: 63 | BR34: 卢银楷 | BS34: 73 | BU34: 胡慧芳 | BV34: 57 | BX34: 金贵 | BY34: 83 | CA34: 叶屏 | CB34: 111 | CD34: 余玉红 | CE34: 66.5 | CG34: 胡昌燕 | CH34: 67 | CJ34: 杨吉华 | CK34: 64 | CM34: 胡慧芳 | CN34: 61 | CP34: 金贵 | CQ34: 75 | CS34: 叶屏 | CT34: 58 | CV34: 余玉红 | CW34: 70.5 | CY34: 胡昌燕 | CZ34: 79 | DB34: 杨吉华 | DC34: 66 | DE34: 胡慧芳 | DF34: 60 | DH34: 金贵 | DI34: 93 | DK34: 84 | DM34: 93 | DO34: 30 | DQ34: 39 | DS34: 38
A35: 513422200311124828 | B35: 1 | C35: 祝玛拉姆 | D35: 文科 | E35: 96 | G35: 叶屏 | H35: 80 | J35: 余玉红 | K35: 88 | M35: 胡昌燕 | N35: 58.5 | P35: 卢银楷 | Q35: 59.5 | S35: 胡慧芳 | T35: 51 | V35: 金贵 | W35: 91 | Y35: 叶屏 | Z35: 66 | AB35: 余玉红 | AC35: 111 | AE35: 胡昌燕 | AF35: 54 | AH35: 卢银楷 | AI35: 56 | AK35: 胡慧芳 | AL35: 50 | AN35: 金贵 | AO35: 82.5 | AQ35: 叶屏 | AR35: 88 | AT35: 余玉红 | AU35: 106.5 | AW35: 胡昌燕 | AX35: 56.5 | AZ35: 卢银楷 | BA35: 47 | BC35: 胡慧芳 | BD35: 55.5 | BF35: 金贵 | BG35: 89 | BI35: 叶屏 | BJ35: 82 | BL35: 余玉红 | BM35: 96.5 | BO35: 胡昌燕 | BP35: 59 | BR35: 卢银楷 | BS35: 73 | BU35: 胡慧芳 | BV35: 66 | BX35: 金贵 | BY35: 97 | CA35: 叶屏 | CB35: 119 | CD35: 余玉红 | CE35: 97 | CG35: 胡昌燕 | CH35: 62 | CJ35: 杨吉华 | CK35: 59 | CM35: 胡慧芳 | CN35: 67 | CP35: 金贵 | CQ35: 83 | CS35: 向美娟 | CT35: 65 | CV35: 徐万雄 | CW35: 109 | CY35: 聂艳梅 | CZ35: 59 | DB35: 杨吉华 | DC35: 49 | DE35: 胡慧芳 | DF35: 49 | DH35: 金贵 | DI35: 88 | DK35: 78 | DM35: 119 | DO35: 24 | DQ35: 30 | DS35: 35
A36: 513422200212082714 | B36: 1 | C36: 杨顺勇 | D36: 文科 | E36: 107 | G36: 叶屏 | H36: 64 | J36: 余玉红 | K36: 69 | M36: 胡昌燕 | N36: 67.5 | P36: 卢银楷 | Q36: 58 | S36: 胡慧芳 | T36: 64 | V36: 金贵 | W36: 100 | Y36: 叶屏 | Z36: 42 | AB36: 余玉红 | AC36: 83 | AE36: 胡昌燕 | AF36: 54 | AH36: 卢银楷 | AI36: 61 | AK36: 胡慧芳 | AL36: 38 | AN36: 金贵 | AO36: 93.5 | AQ36: 叶屏 | AR36: 57.5 | AT36: 余玉红 | AU36: 78 | AW36: 胡昌燕 | AX36: 49 | AZ36: 卢银楷 | BA36: 56 | BC36: 胡慧芳 | BD36: 58.5 | BF36: 金贵 | BG36: 68 | BI36: 叶屏 | BJ36: 81 | BL36: 余玉红 | BM36: 74 | BO36: 胡昌燕 | BP36: 60 | BR36: 卢银楷 | BS36: 81 | BU36: 胡慧芳 | BV36: 62 | BX36: 金贵 | BY36: 96 | CA36: 叶屏 | CB36: 82 | CD36: 余玉红 | CE36: 85 | CG36: 胡昌燕 | CH36: 59 | CJ36: 杨吉华 | CK36: 48 | CM36: 胡慧芳 | CN36: 57 | CP36: 金贵 | CQ36: 90 | CS36: 叶屏 | CT36: 54 | CV36: 余玉红 | CW36: 72.5 | CY36: 胡昌燕 | CZ36: 67 | DB36: 杨吉华 | DC36: 41 | DE36: 胡慧芳 | DF36: 42 | DH36: 金贵 | DI36: 100 | DK36: 76 | DM36: 86 | DO36: 33 | DQ36: 37 | DS36: 34
A37: 513422200212164429 | B37: 1 | C37: 毛学英 | D37: 文科 | E37: 104 | G37: 叶屏 | H37: 72 | J37: 余玉红 | K37: 75 | M37: 胡昌燕 | N37: 69 | P37: 卢银楷 | Q37: 57.5 | S37: 胡慧芳 | T37: 51 | V37: 金贵 | W37: 97 | Y37: 叶屏 | Z37: 49 | AB37: 余玉红 | AC37: 80 | AE37: 胡昌燕 | AF37: 68 | AH37: 卢银楷 | AI37: 50 | AK37: 胡慧芳 | AL37: 38 | AN37: 金贵 | AO37: 90 | AQ37: 叶屏 | AR37: 54.5 | AT37: 余玉红 | AU37: 69.5 | AW37: 胡昌燕 | AX37: 53 | AZ37: 卢银楷 | BA37: 53.5 | BC37: 胡慧芳 | BD37: 35.5 | BF37: 金贵 | BG37: 98 | BI37: 叶屏 | BJ37: 68 | BL37: 余玉红 | BM37: 78.5 | BO37: 胡昌燕 | BP37: 65 | BR37: 卢银楷 | BS37: 76 | BU37: 胡慧芳 | BV37: 69 | BX37: 金贵 | BY37: 93 | CA37: 叶屏 | CB37: 86 | CD37: 余玉红 | CE37: 68.5 | CG37: 胡昌燕 | CH37: 54 | CJ37: 杨吉华 | CK37: 56 | CM37: 胡慧芳 | CN37: 54 | CP37: 金贵 | CQ37: 80 | CS37: 叶屏 | CT37: 68 | CV37: 余玉红 | CW37: 68 | CY37: 胡昌燕 | CZ37: 39 | DB37: 杨吉华 | DC37: 41 | DE37: 胡慧芳 | DF37: 38 | DH37: 金贵 | DI37: 93 | DK37: 83 | DM37: 85 | DO37: 37 | DQ37: 34 | DS37: 36
A38: 513422200411190013 | B38: 1 | C38: 田健平 | D38: 文科 | E38: 97 | G38: 叶屏 | H38: 87 | J38: 余玉红 | K38: 76 | M38: 胡昌燕 | N38: 67.5 | P38: 卢银楷 | Q38: 47 | S38: 胡慧芳 | T38: 54 | V38: 金贵 | W38: 86 | Y38: 叶屏 | Z38: 51 | AB38: 余玉红 | AC38: 85.5 | AE38: 胡昌燕 | AF38: 61 | AH38: 卢银楷 | AI38: 60 | AK38: 胡慧芳 | AL38: 53 | AN38: 金贵 | AO38: 82 | AQ38: 叶屏 | AR38: 77.5 | AT38: 余玉红 | AU38: 68.5 | AW38: 胡昌燕 | AX38: 50.5 | AZ38: 卢银楷 | BA38: 58.5 | BC38: 胡慧芳 | BD38: 48.5 | BF38: 金贵 | BG38: 100 | BI38: 叶屏 | BJ38: 95 | BL38: 余玉红 | BM38: 82.5 | BO38: 胡昌燕 | BP38: 64 | BR38: 卢银楷 | BS38: 69 | BU38: 胡慧芳 | BV38: 57 | BX38: 金贵 | BY38: 84 | CA38: 叶屏 | CB38: 116 | CD38: 余玉红 | CE38: 82.5 | CG38: 胡昌燕 | CH38: 61 | CJ38: 杨吉华 | CK38: 44 | CM38: 胡慧芳 | CN38: 56 | CP38: 金贵 | CQ38: 70 | CS38: 叶屏 | CT38: 60 | CV38: 余玉红 | CW38: 79 | CY38: 胡昌燕 | CZ38: 55 | DB38: 杨吉华 | DC38: 49 | DE38: 胡慧芳 | DF38: 48 | DH38: 金贵 | DI38: 93 | DK38: 62 | DM38: 100 | DO38: 23 | DQ38: 29 | DS38: 31
A39: 51342220040309542X | B39: 1 | C39: 桑珍祝玛 | D39: 文科 | E39: 92 | G39: 叶屏 | H39: 101 | J39: 余玉红 | K39: 70 | M39: 胡昌燕 | N39: 66 | P39: 卢银楷 | Q39: 58.5 | S39: 胡慧芳 | T39: 40 | V39: 金贵 | W39: 94 | Y39: 叶屏 | Z39: 71 | AB39: 余玉红 | AC39: 62.5 | AE39: 胡昌燕 | AF39: 68 | AH39: 卢银楷 | AI39: 58 | AK39: 胡慧芳 | AL39: 54 | AN39: 金贵 | AO39: 90 | AQ39: 叶屏 | AR39: 66 | AT39: 余玉红 | AU39: 80 | AW39: 胡昌燕 | AX39: 52 | AZ39: 卢银楷 | BA39: 49.5 | BC39: 胡慧芳 | BD39: 44.5 | BF39: 金贵 | BG39: 95 | BI39: 叶屏 | BJ39: 68 | BL39: 余玉红 | BM39: 79.5 | BO39: 胡昌燕 | BP39: 66 | BR39: 卢银楷 | BS39: 73 | BU39: 胡慧芳 | BV39: 63 | BX39: 金贵 | BY39: 92 | CA39: 叶屏 | CB39: 88 | CD39: 余玉红 | CE39: 88 | CG39: 胡昌燕 | CH39: 70 | CJ39: 杨吉华 | CK39: 61 | CM39: 胡慧芳 | CN39: 54 | CP39: 金贵 | CQ39: 82 | CS39: 叶屏 | CT39: 49 | CV39: 余玉红 | CW39: 64.5 | CY39: 胡昌燕 | CZ39: 86 | DB39: 杨吉华 | DC39: 67 | DE39: 胡慧芳 | DF39: 44 | DH39: 金贵 | DI39: 92 | DK39: 72 | DM39: 85 | DO39: 39 | DQ39: 41 | DS39: 38
A40: 513422200301057019 | B40: 1 | C40: 丁么偏初 | D40: 文科 | E40: 94 | G40: 叶屏 | H40: 100 | J40: 余玉红 | K40: 47 | M40: 胡昌燕 | N40: 70.5 | P40: 卢银楷 | Q40: 67 | S40: 胡慧芳 | T40: 49 | V40: 金贵 | W40: 88 | Y40: 叶屏 | Z40: 60 | AB40: 余玉红 | AC40: 33 | AE40: 胡昌燕 | AF40: 56 | AH40: 卢银楷 | AI40: 50 | AK40: 胡慧芳 | AL40: 38 | AN40: 金贵 | AO40: 81.5 | AQ40: 叶屏 | AR40: 91 | AT40: 余玉红 | AU40: 47.5 | AW40: 胡昌燕 | AX40: 48 | AZ40: 卢银楷 | BA40: 51.5 | BC40: 胡慧芳 | BD40: 44 | BF40: 金贵 | BG40: 91 | BI40: 叶屏 | BJ40: 87 | BL40: 余玉红 | BM40: 55.5 | BO40: 胡昌燕 | BP40: 49 | BR40: 卢银楷 | BS40: 80 | BU40: 胡慧芳 | BV40: 50 | BX40: 金贵 | BY40: 75 | CA40: 叶屏 | CB40: 123 | CD40: 余玉红 | CE40: 41.5 | CG40: 胡昌燕 | CH40: 48 | CJ40: 杨吉华 | CK40: 51 | CM40: 胡慧芳 | CN40: 59 | CP40: 金贵 | CQ40: 60 | CS40: 何苗 | CT40: 75 | CV40: 李希 | CW40: 38 | CY40: 达娃央初 | CZ40: 51 | DB40: 马巫各 | DC40: 39 | DE40: 勾中文 | DF40: 47 | DH40: 骆泽群 | DI40: 83 | DK40: 74 | DM40: 48 | DO40: 24 | DQ40: 34 | DS40: 26
A41: 513422200310052914 | B41: 1 | C41: 苟建康 | D41: 文科 | E41: 103 | G41: 叶屏 | H41: 72 | J41: 余玉红 | K41: 75 | M41: 胡昌燕 | N41: 68.5 | P41: 卢银楷 | Q41: 70 | S41: 胡慧芳 | T41: 38 | V41: 金贵 | W41: 100 | Y41: 叶屏 | Z41: 63 | AB41: 余玉红 | AC41: 91.5 | AE41: 胡昌燕 | AF41: 63 | AH41: 卢银楷 | AI41: 56 | AK41: 胡慧芳 | AL41: 54 | AN41: 金贵 | AO41: 86.5 | AQ41: 叶屏 | AR41: 56 | AT41: 余玉红 | AU41: 75 | AW41: 胡昌燕 | AX41: 59.5 | AZ41: 卢银楷 | BA41: 61.5 | BC41: 胡慧芳 | BD41: 33 | BF41: 金贵 | BG41: 104 | BI41: 叶屏 | BJ41: 84 | BL41: 余玉红 | BM41: 81 | BO41: 胡昌燕 | BP41: 54 | BR41: 卢银楷 | BS41: 75 | BU41: 胡慧芳 | BV41: 52 | BX41: 金贵 | BY41: 91 | CA41: 叶屏 | CB41: 72 | CD41: 余玉红 | CE41: 61 | CG41: 胡昌燕 | CH41: 60 | CJ41: 杨吉华 | CK41: 61 | CM41: 胡慧芳 | CN41: 51 | CP41: 金贵 | CQ41: 0 | CT41: 0 | CW41: 0 | CZ41: 0 | DC41: 0 | DF41: 0 | DI41: 95 | DK41: 49 | DM41: 40 | DO41: 31 | DQ41: 20 | DS41: 32
A42: 513422200205163823 | B42: 1 | C42: 马友力 | D42: 文科 | E42: 94 | G42: 叶屏 | H42: 82 | J42: 余玉红 | K42: 97 | M42: 胡昌燕 | N42: 55 | P42: 卢银楷 | Q42: 56.5 | S42: 胡慧芳 | T42: 37 | V42: 金贵 | W42: 90 | Y42: 叶屏 | Z42: 69 | AB42: 余玉红 | AC42: 95.5 | AE42: 胡昌燕 | AF42: 53 | AH42: 卢银楷 | AI42: 43 | AK42: 胡慧芳 | AL42: 49 | AN42: 金贵 | AO42: 91.5 | AQ42: 叶屏 | AR42: 76 | AT42: 余玉红 | AU42: 92.5 | AW42: 胡昌燕 | AX42: 57 | AZ42: 卢银楷 | BA42: 52.5 | BC42: 胡慧芳 | BD42: 46.5 | BF42: 金贵 | BG42: 99 | BI42: 叶屏 | BJ42: 68 | BL42: 余玉红 | BM42: 105 | BO42: 胡昌燕 | BP42: 60 | BR42: 卢银楷 | BS42: 84 | BU42: 胡慧芳 | BV42: 60 | BX42: 金贵 | BY42: 84 | CA42: 叶屏 | CB42: 105 | CD42: 余玉红 | CE42: 102 | CG42: 胡昌燕 | CH42: 61 | CJ42: 杨吉华 | CK42: 58 | CM42: 胡慧芳 | CN42: 54 | CP42: 金贵 | CQ42: 61 | CS42: 叶屏 | CT42: 52 | CV42: 余玉红 | CW42: 74.5 | CY42: 胡昌燕 | CZ42: 65 | DB42: 杨吉华 | DC42: 24 | DE42: 胡慧芳 | DF42: 55 | DH42: 金贵 | DI42: 79 | DK42: 70 | DM42: 110 | DO42: 30 | DQ42: 27 | DS42: 33
A43: 513422200401032724 | B43: 1 | C43: 陈远春 | D43: 文科 | E43: 102 | G43: 叶屏 | H43: 67 | J43: 余玉红 | K43: 85 | M43: 胡昌燕 | N43: 61.5 | P43: 卢银楷 | Q43: 54 | S43: 胡慧芳 | T43: 51 | V43: 金贵 | W43: 92 | Y43: 叶屏 | Z43: 75 | AB43: 余玉红 | AC43: 77.5 | AE43: 胡昌燕 | AF43: 57 | AH43: 卢银楷 | AI43: 42 | AK43: 胡慧芳 | AL43: 49 | AN43: 金贵 | AO43: 94.5 | AQ43: 叶屏 | AR43: 52 | AT43: 余玉红 | AU43: 77.5 | AW43: 胡昌燕 | AX43: 36.5 | AZ43: 卢银楷 | BA43: 51.5 | BC43: 胡慧芳 | BD43: 42.5 | BF43: 金贵 | BG43: 94 | BI43: 叶屏 | BJ43: 73 | BL43: 余玉红 | BM43: 77 | BO43: 胡昌燕 | BP43: 57 | BR43: 卢银楷 | BS43: 72 | BU43: 胡慧芳 | BV43: 57 | BX43: 金贵 | BY43: 87 | CA43: 叶屏 | CB43: 112 | CD43: 余玉红 | CE43: 89 | CG43: 胡昌燕 | CH43: 61 | CJ43: 杨吉华 | CK43: 57 | CM43: 胡慧芳 | CN43: 53 | CP43: 金贵 | CQ43: 74 | CS43: 叶屏 | CT43: 48 | CV43: 余玉红 | CW43: 73.5 | CY43: 胡昌燕 | CZ43: 65 | DB43: 杨吉华 | DC43: 29 | DE43: 胡慧芳 | DF43: 37 | DH43: 金贵 | DI43: 89 | DK43: 83 | DM43: 108 | DO43: 29 | DQ43: 29 | DS43: 32
A44: 513422200204014025 | B44: 1 | C44: 次尔祝玛 | D44: 文科 | E44: 107 | G44: 叶屏 | H44: 68 | J44: 余玉红 | K44: 84 | M44: 胡昌燕 | N44: 58 | P44: 卢银楷 | Q44: 53.5 | S44: 胡慧芳 | T44: 46 | V44: 金贵 | W44: 91 | Y44: 叶屏 | Z44: 59 | AB44: 余玉红 | AC44: 97.5 | AE44: 胡昌燕 | AF44: 45 | AH44: 卢银楷 | AI44: 37 | AK44: 胡慧芳 | AL44: 19 | AN44: 金贵 | AO44: 90 | AQ44: 叶屏 | AR44: 52 | AT44: 余玉红 | AU44: 78 | AW44: 胡昌燕 | AX44: 58 | AZ44: 卢银楷 | BA44: 49 | BC44: 胡慧芳 | BD44: 29.5 | BF44: 金贵 | BG44: 95 | BI44: 叶屏 | BJ44: 65 | BL44: 余玉红 | BM44: 100.5 | BO44: 胡昌燕 | BP44: 60 | BR44: 卢银楷 | BS44: 69 | BU44: 胡慧芳 | BV44: 52 | BX44: 金贵 | BY44: 100 | CA44: 叶屏 | CB44: 105 | CD44: 余玉红 | CE44: 81 | CG44: 胡昌燕 | CH44: 71 | CJ44: 杨吉华 | CK44: 52 | CM44: 胡慧芳 | CN44: 39 | CP44: 金贵 | CQ44: 87 | CS44: 何苗 | CT44: 63 | CV44: 李希 | CW44: 65.5 | CY44: 达娃央初 | CZ44: 53 | DB44: 马巫各 | DC44: 31 | DE44: 勾中文 | DF44: 53 | DH44: 骆泽群 | DI44: 93 | DK44: 55 | DM44: 104 | DO44: 31 | DQ44: 31 | DS44: 31
A45: 513422200601172529 | B45: 1 | C45: 王静 | D45: 文科 | E45: 114 | G45: 叶屏 | H45: 52 | J45: 余玉红 | K45: 74 | M45: 胡昌燕 | N45: 62.5 | P45: 卢银楷 | Q45: 69.5 | S45: 胡慧芳 | T45: 45 | V45: 金贵 | W45: 106 | Y45: 叶屏 | Z45: 26 | AB45: 余玉红 | AC45: 78.5 | AE45: 胡昌燕 | AF45: 61 | AH45: 卢银楷 | AI45: 56 | AK45: 胡慧芳 | AL45: 43 | AN45: 金贵 | AO45: 100.5 | AQ45: 叶屏 | AR45: 36 | AT45: 余玉红 | AU45: 60.5 | AW45: 胡昌燕 | AX45: 57 | AZ45: 卢银楷 | BA45: 65 | BC45: 胡慧芳 | BD45: 42 | BF45: 金贵 | BG45: 108 | BI45: 叶屏 | BJ45: 75 | BL45: 余玉红 | BM45: 69.5 | BO45: 胡昌燕 | BP45: 46 | BR45: 卢银楷 | BS45: 81 | BU45: 胡慧芳 | BV45: 65 | BX45: 金贵 | BY45: 84 | CA45: 叶屏 | CB45: 30 | CD45: 余玉红 | CE45: 84.5 | CG45: 胡昌燕 | CH45: 53 | CJ45: 杨吉华 | CK45: 60 | CM45: 胡慧芳 | CN45: 49 | CP45: 金贵 | CQ45: 85 | CS45: 何苗 | CT45: 50 | CV45: 杨周宇 | CW45: 62.5 | CY45: 胡昌燕 | CZ45: 41 | DB45: 马巫各 | DC45: 25 | DE45: 胡慧芳 | DF45: 38 | DH45: 杜基次尔 | DI45: 111 | DK45: 59 | DM45: 73 | DO45: 25 | DQ45: 22 | DS45: 26
A46: 513422200402032320 | B46: 1 | C46: 蓉翡 | D46: 文科 | E46: 96 | G46: 叶屏 | H46: 72 | J46: 余玉红 | K46: 90 | M46: 胡昌燕 | N46: 60 | P46: 卢银楷 | Q46: 58 | S46: 胡慧芳 | T46: 39 | V46: 金贵 | W46: 93 | Y46: 叶屏 | Z46: 65 | AB46: 余玉红 | AC46: 110 | AE46: 胡昌燕 | AF46: 49 | AH46: 卢银楷 | AI46: 43 | AK46: 胡慧芳 | AL46: 31 | AN46: 金贵 | AO46: 89.5 | AQ46: 叶屏 | AR46: 69 | AT46: 余玉红 | AU46: 94 | AW46: 胡昌燕 | AX46: 34.5 | AZ46: 卢银楷 | BA46: 57.5 | BC46: 胡慧芳 | BD46: 27.5 | BF46: 金贵 | BG46: 104 | BI46: 叶屏 | BJ46: 67 | BL46: 余玉红 | BM46: 117.5 | BO46: 胡昌燕 | BP46: 35 | BR46: 卢银楷 | BS46: 65 | BU46: 胡慧芳 | BV46: 40 | BX46: 金贵 | BY46: 92 | CA46: 叶屏 | CB46: 73 | CD46: 余玉红 | CE46: 99.5 | CG46: 胡昌燕 | CH46: 45 | CJ46: 杨吉华 | CK46: 42 | CM46: 胡慧芳 | CN46: 51 | CP46: 金贵 | CQ46: 77 | CS46: 何苗 | CT46: 32 | CV46: 杨周宇 | CW46: 85 | CY46: 胡昌燕 | CZ46: 41 | DB46: 马巫各 | DC46: 29 | DE46: 胡慧芳 | DF46: 28 | DH46: 杜基次尔 | DI46: 99 | DK46: 63 | DM46: 106 | DO46: 17 | DQ46: 22 | DS46: 27
A47: 513422200410171128 | B47: 1 | C47: 杨尔琪 | D47: 文科 | E47: 102 | G47: 叶屏 | H47: 73 | J47: 余玉红 | K47: 83 | M47: 胡昌燕 | N47: 59.5 | P47: 卢银楷 | Q47: 50 | S47: 胡慧芳 | T47: 43 | V47: 金贵 | W47: 103 | Y47: 叶屏 | Z47: 57 | AB47: 余玉红 | AC47: 105.5 | AE47: 胡昌燕 | AF47: 67 | AH47: 卢银楷 | AI47: 54 | AK47: 胡慧芳 | AL47: 23 | AN47: 金贵 | AO47: 84 | AQ47: 叶屏 | AR47: 73 | AT47: 余玉红 | AU47: 91 | AW47: 胡昌燕 | AX47: 50.5 | AZ47: 卢银楷 | BA47: 49 | BC47: 胡慧芳 | BD47: 32.5 | BF47: 金贵 | BG47: 97 | BI47: 叶屏 | BJ47: 68 | BL47: 余玉红 | BM47: 97 | BO47: 胡昌燕 | BP47: 58 | BR47: 卢银楷 | BS47: 60 | BU47: 胡慧芳 | BV47: 44 | BX47: 金贵 | BY47: 85 | CA47: 叶屏 | CB47: 76 | CD47: 余玉红 | CE47: 93.5 | CG47: 胡昌燕 | CH47: 57 | CJ47: 杨吉华 | CK47: 50 | CM47: 胡慧芳 | CN47: 45 | CP47: 金贵 | CQ47: 85 | CS47: 何苗 | CT47: 49 | CV47: 周军 | CW47: 61.5 | CY47: 程长寿 | CZ47: 36 | DB47: 杨吉华 | DC47: 32 | DE47: 赵香才 | DF47: 39 | DH47: 金贵 | DI47: 88 | DK47: 69 | DM47: 73 | DO47: 33 | DQ47: 27 | DS47: 31
A48: 513422200206126821 | B48: 1 | C48: 哈日尔古木 | D48: 文科 | E48: 96 | G48: 叶屏 | H48: 91 | J48: 余玉红 | K48: 64 | M48: 胡昌燕 | N48: 51 | P48: 卢银楷 | Q48: 55.5 | S48: 胡慧芳 | T48: 48 | V48: 金贵 | W48: 83 | Y48: 叶屏 | Z48: 38 | AB48: 余玉红 | AC48: 77 | AE48: 胡昌燕 | AF48: 54 | AH48: 卢银楷 | AI48: 26 | AK48: 胡慧芳 | AL48: 38 | AN48: 金贵 | AO48: 0 | AR48: 0 | AU48: 0 | AX48: 0 | BA48: 0 | BD48: 0 | BG48: 0 | BJ48: 0 | BM48: 0 | BP48: 0 | BS48: 0 | BV48: 0 | BY48: 94 | CA48: 叶屏 | CB48: 104 | CD48: 余玉红 | CE48: 69 | CG48: 胡昌燕 | CH48: 69 | CJ48: 杨吉华 | CK48: 51 | CM48: 胡慧芳 | CN48: 44 | CP48: 金贵 | CQ48: 64 | CS48: 叶屏 | CT48: 62 | CV48: 余玉红 | CW48: 62.5 | CY48: 胡昌燕 | CZ48: 60 | DB48: 杨吉华 | DC48: 39 | DE48: 胡慧芳 | DF48: 56 | DH48: 金贵 | DI48: 89 | DK48: 77 | DM48: 86 | DO48: 30 | DQ48: 29 | DS48: 31
A49: 513422200308054822 | B49: 1 | C49: 次尔央青 | D49: 文科 | E49: 91 | G49: 叶屏 | H49: 57 | J49: 余玉红 | K49: 89 | M49: 胡昌燕 | N49: 60.5 | P49: 卢银楷 | Q49: 56 | S49: 胡慧芳 | T49: 51 | V49: 金贵 | W49: 82 | Y49: 叶屏 | Z49: 59 | AB49: 余玉红 | AC49: 98 | AE49: 胡昌燕 | AF49: 59 | AH49: 卢银楷 | AI49: 40 | AK49: 胡慧芳 | AL49: 44 | AN49: 金贵 | AO49: 92.5 | AQ49: 叶屏 | AR49: 52.5 | AT49: 余玉红 | AU49: 100.5 | AW49: 胡昌燕 | AX49: 44 | AZ49: 卢银楷 | BA49: 32 | BC49: 胡慧芳 | BD49: 51 | BF49: 金贵 | BG49: 95 | BI49: 叶屏 | BJ49: 70 | BL49: 余玉红 | BM49: 90.5 | BO49: 胡昌燕 | BP49: 46 | BR49: 卢银楷 | BS49: 67 | BU49: 胡慧芳 | BV49: 52 | BX49: 金贵 | BY49: 82 | CA49: 叶屏 | CB49: 83 | CD49: 余玉红 | CE49: 87 | CG49: 胡昌燕 | CH49: 47 | CJ49: 杨吉华 | CK49: 49 | CM49: 胡慧芳 | CN49: 41 | CP49: 金贵 | CQ49: 74 | CS49: 叶屏 | CT49: 63 | CV49: 余玉红 | CW49: 91.5 | CY49: 胡昌燕 | CZ49: 52 | DB49: 杨吉华 | DC49: 36 | DE49: 胡慧芳 | DF49: 47 | DH49: 金贵 | DI49: 96 | DK49: 74 | DM49: 105 | DO49: 19 | DQ49: 32 | DS49: 24
A50: 513422200108192526 | B50: 1 | C50: 李蕴 | D50: 文科 | E50: 90 | G50: 叶屏 | H50: 59 | J50: 余玉红 | K50: 68 | M50: 胡昌燕 | N50: 59.5 | P50: 卢银楷 | Q50: 65.5 | S50: 胡慧芳 | T50: 60 | V50: 金贵 | W50: 87 | Y50: 叶屏 | Z50: 62 | AB50: 余玉红 | AC50: 74 | AE50: 胡昌燕 | AF50: 56 | AH50: 卢银楷 | AI50: 51 | AK50: 胡慧芳 | AL50: 54 | AN50: 金贵 | AO50: 78 | AQ50: 叶屏 | AR50: 42.5 | AT50: 余玉红 | AU50: 83.5 | AW50: 胡昌燕 | AX50: 60.5 | AZ50: 卢银楷 | BA50: 59 | BC50: 胡慧芳 | BD50: 38.5 | BF50: 金贵 | BG50: 99 | BI50: 叶屏 | BJ50: 43 | BL50: 余玉红 | BM50: 85 | BO50: 胡昌燕 | BP50: 48 | BR50: 卢银楷 | BS50: 69 | BU50: 胡慧芳 | BV50: 56 | BX50: 金贵 | BY50: 89 | CA50: 叶屏 | CB50: 54 | CD50: 李希 | CE50: 66 | CG50: 达娃央初 | CH50: 67 | CJ50: 马巫各 | CK50: 38 | CM50: 赵香才 | CN50: 39 | CP50: 金贵 | CQ50: 78 | CS50: 何苗 | CT50: 30 | CV50: 李希 | CW50: 62 | CY50: 达娃央初 | CZ50: 47 | DB50: 马巫各 | DC50: 33 | DE50: 赵香才 | DF50: 35 | DH50: 金贵 | DI50: 97 | DK50: 47 | DM50: 81 | DO50: 21 | DQ50: 35 | DS50: 38
A51: 513422200405012923 | B51: 1 | C51: 严小飞 | D51: 文科 | E51: 93 | G51: 叶屏 | H51: 60 | J51: 余玉红 | K51: 72 | M51: 胡昌燕 | N51: 69 | P51: 卢银楷 | Q51: 52.5 | S51: 胡慧芳 | T51: 55 | V51: 金贵 | W51: 90 | Y51: 叶屏 | Z51: 71 | AB51: 余玉红 | AC51: 85 | AE51: 胡昌燕 | AF51: 56 | AH51: 卢银楷 | AI51: 57 | AK51: 胡慧芳 | AL51: 42 | AN51: 金贵 | AO51: 92 | AQ51: 叶屏 | AR51: 67 | AT51: 余玉红 | AU51: 80.5 | AW51: 胡昌燕 | AX51: 56 | AZ51: 卢银楷 | BA51: 47.5 | BC51: 胡慧芳 | BD51: 56 | BF51: 金贵 | BG51: 84 | BI51: 叶屏 | BJ51: 81 | BL51: 余玉红 | BM51: 79.5 | BO51: 胡昌燕 | BP51: 57 | BR51: 卢银楷 | BS51: 71 | BU51: 胡慧芳 | BV51: 61 | BX51: 金贵 | BY51: 86 | CA51: 叶屏 | CB51: 84 | CD51: 余玉红 | CE51: 70.5 | CG51: 胡昌燕 | CH51: 63 | CJ51: 杨吉华 | CK51: 53 | CM51: 胡慧芳 | CN51: 53 | CP51: 金贵 | CQ51: 66 | CS51: 何苗 | CT51: 58 | CV51: 胡付松 | CW51: 57 | CY51: 聂艳梅 | CZ51: 30 | DB51: 卢银楷 | DC51: 41 | DE51: 赵香才 | DF51: 26 | DH51: 骆泽群 | DI51: 65 | DK51: 70 | DM51: 80 | DO51: 38 | DQ51: 18 | DS51: 36
A52: 51342220031204212X | B52: 1 | C52: 吕长英 | D52: 文科 | E52: 106 | G52: 叶屏 | H52: 59 | J52: 余玉红 | K52: 62 | M52: 胡昌燕 | N52: 57 | P52: 卢银楷 | Q52: 67.5 | S52: 胡慧芳 | T52: 45 | V52: 金贵 | W52: 103 | Y52: 叶屏 | Z52: 44 | AB52: 余玉红 | AC52: 71 | AE52: 胡昌燕 | AF52: 48 | AH52: 卢银楷 | AI52: 68 | AK52: 胡慧芳 | AL52: 40 | AN52: 金贵 | AO52: 0 | AR52: 0 | AU52: 0 | AX52: 0 | BA52: 0 | BD52: 0 | BG52: 0 | BJ52: 0 | BM52: 0 | BP52: 0 | BS52: 0 | BV52: 0 | BY52: 86 | CA52: 叶屏 | CB52: 56 | CD52: 余玉红 | CE52: 55.5 | CG52: 胡昌燕 | CH52: 63 | CJ52: 杨吉华 | CK52: 64 | CM52: 胡慧芳 | CN52: 56 | CP52: 金贵 | CQ52: 80 | CS52: 叶屏 | CT52: 63 | CV52: 余玉红 | CW52: 67.5 | CY52: 胡昌燕 | CZ52: 50 | DB52: 杨吉华 | DC52: 32 | DE52: 胡慧芳 | DF52: 28 | DH52: 金贵 | DI52: 101 | DK52: 66 | DM52: 82 | DO52: 38 | DQ52: 33 | DS52: 37
