Workbook

Sheet 汇总表
A1: 学期 | B1: 姓名 | C1: 得分 | E1: 最终数据 | F1: 姓名 | G1: 得分
A2: 高考 | B2: 叶屏 | C2: =AVERAGEIF(评价分!$B$2:$C$41,B2,评价分!$C$2:$C$41) -> 100.15438 | F2: 叶屏 | G2: =SUMIF($B$2:$C$224,F2,$C$2:$C$224) -> 591.84337
B3: 阙丽萍 | C3: =AVERAGEIF(评价分!$B$2:$C$41,B3,评价分!$C$2:$C$41) -> 99.538602 | F3: 阙丽萍 | G3: =SUMIF($B$2:$C$224,F3,$C$2:$C$224) -> 590.21809
B4: 曹霞 | C4: =AVERAGEIF(评价分!$B$2:$C$41,B4,评价分!$C$2:$C$41) -> 96.082652 | F4: 曹霞 | G4: =SUMIF($B$2:$C$224,F4,$C$2:$C$224) -> 193.11927
B5: 余玉红 | C5: =AVERAGEIF(评价分!$B$2:$C$41,B5,评价分!$C$2:$C$41) -> 93.112707 | F5: 余玉红 | G5: =SUMIF($B$2:$C$224,F5,$C$2:$C$224) -> 594.85249
B6: 李希 | C6: =AVERAGEIF(评价分!$B$2:$C$41,B6,评价分!$C$2:$C$41) -> 102.82076 | F6: 李希 | G6: =SUMIF($B$2:$C$224,F6,$C$2:$C$224) -> 599.70214
B7: 王德兵 | C7: =AVERAGEIF(评价分!$B$2:$C$41,B7,评价分!$C$2:$C$41) -> 98.90956 | F7: 王德兵 | G7: =SUMIF($B$2:$C$224,F7,$C$2:$C$224) -> 196.89302
B8: 胡昌燕 | C8: =AVERAGEIF(评价分!$B$2:$C$41,B8,评价分!$C$2:$C$41) -> 100.3376 | F8: 胡昌燕 | G8: =SUMIF($B$2:$C$224,F8,$C$2:$C$224) -> 601.07007
B9: 赵顺诚 | C9: =AVERAGEIF(评价分!$B$2:$C$41,B9,评价分!$C$2:$C$41) -> 98.027142 | F9: 赵顺诚 | G9: =SUMIF($B$2:$C$224,F9,$C$2:$C$224) -> 590.79947
B10: 汪睿 | C10: =AVERAGEIF(评价分!$B$2:$C$41,B10,评价分!$C$2:$C$41) -> 98.801837 | F10: 汪睿 | G10: =SUMIF($B$2:$C$224,F10,$C$2:$C$224) -> 195.12144
B11: 兰卡布尺 | C11: =AVERAGEIF(评价分!$B$2:$C$41,B11,评价分!$C$2:$C$41) -> 96.350171 | F11: 兰卡布尺 | G11: =SUMIF($B$2:$C$224,F11,$C$2:$C$224) -> 196.58655
B12: 卢银楷 | C12: =AVERAGEIF(评价分!$B$2:$C$41,B12,评价分!$C$2:$C$41) -> 97.466033 | F12: 卢银楷 | G12: =SUMIF($B$2:$C$224,F12,$C$2:$C$224) -> 599.8982
B13: 吴文艺→康宇峰 | C13: =AVERAGEIF(评价分!$B$2:$C$41,B13,评价分!$C$2:$C$41) -> 97.648051 | F13: 吴文艺→康宇峰 | G13: =SUMIF($B$2:$C$224,F13,$C$2:$C$224) -> 97.648051
B14: 胡慧芳 | C14: =AVERAGEIF(评价分!$B$2:$C$41,B14,评价分!$C$2:$C$41) -> 97.534877 | F14: 胡慧芳 | G14: =SUMIF($B$2:$C$224,F14,$C$2:$C$224) -> 597.92908
... B36: 田友米 | C36: =AVERAGEIF(评价分!$B$2:$C$41,B36,评价分!$C$2:$C$41) -> 80.774366 | F36: 田友米 | G36: =SUMIF($B$2:$C$224,F36,$C$2:$C$224) -> 591.5774
A37: 高三上 | B37: 叶屏 | C37: =AVERAGEIF(评价分!$F$2:$G$41,B37,评价分!$G$2:$G$41) -> 99.963436 | F37: 吴文艺 | G37: =SUMIF($B$2:$C$224,F37,$C$2:$C$224) -> 95.780848
B38: 阙丽萍 | C38: =AVERAGEIF(评价分!$F$2:$G$41,B38,评价分!$G$2:$G$41) -> 100.11589 | F38: 甲阿祝玛 | G38: =SUMIF($B$2:$C$224,F38,$C$2:$C$224) -> 97.083333
B39: 曹霞 | C39: =AVERAGEIF(评价分!$F$2:$G$41,B39,评价分!$G$2:$G$41) -> 97.036613 | F39: 马勇 | G39: =SUMIF($B$2:$C$224,F39,$C$2:$C$224) -> 197.01601
B40: 余玉红 | C40: =AVERAGEIF(评价分!$F$2:$G$41,B40,评价分!$G$2:$G$41) -> 102.94686 | F40: 罗锐 | G40: =SUMIF($B$2:$C$224,F40,$C$2:$C$224) -> 197.1767
B41: 李希 | C41: =AVERAGEIF(评价分!$F$2:$G$41,B41,评价分!$G$2:$G$41) -> 99.076936 | F41: 向翠琳 | G41: =SUMIF($B$2:$C$224,F41,$C$2:$C$224) -> 391.81235
B42: 王德兵 | C42: =AVERAGEIF(评价分!$F$2:$G$41,B42,评价分!$G$2:$G$41) -> 97.983458 | F42: 杨小波 | G42: =SUMIF($B$2:$C$224,F42,$C$2:$C$224) -> 95.346689
B43: 胡昌燕 | C43: =AVERAGEIF(评价分!$F$2:$G$41,B43,评价分!$G$2:$G$41) -> 100.54989 | F43: 马巫各 | G43: =SUMIF($B$2:$C$224,F43,$C$2:$C$224) -> 398.57005
B44: 赵顺诚 | C44: =AVERAGEIF(评价分!$F$2:$G$41,B44,评价分!$G$2:$G$41) -> 101.2084 | F44: 徐万雄 | G44: =SUMIF($B$2:$C$224,F44,$C$2:$C$224) -> 388.00442
B45: 汪睿 | C45: =AVERAGEIF(评价分!$F$2:$G$41,B45,评价分!$G$2:$G$41) -> 96.319603 | F45: 达娃央初 | G45: =SUMIF($B$2:$C$224,F45,$C$2:$C$224) -> 300.37051
B46: 兰卡布尺 | C46: =AVERAGEIF(评价分!$F$2:$G$41,B46,评价分!$G$2:$G$41) -> 100.23638 | F46: 郑永朝 | G46: =SUMIF($B$2:$C$224,F46,$C$2:$C$224) -> 399.49214
B47: 卢银楷 | C47: =AVERAGEIF(评价分!$F$2:$G$41,B47,评价分!$G$2:$G$41) -> 103.40821 | F47: 王玉强 | G47: =SUMIF($B$2:$C$224,F47,$C$2:$C$224) -> 195.12987
B48: 吴文艺 | C48: =AVERAGEIF(评价分!$F$2:$G$41,B48,评价分!$G$2:$G$41) -> 95.780848 | F48: 刘跃军 | G48: =SUMIF($B$2:$C$224,F48,$C$2:$C$224) -> 191.02987
B49: 胡慧芳 | C49: =AVERAGEIF(评价分!$F$2:$G$41,B49,评价分!$G$2:$G$41) -> 104.23188 | F49: 谢斌 | G49: =SUMIF($B$2:$C$224,F49,$C$2:$C$224) -> 97.440981
... B62: 高贵勇 | C62: =AVERAGEIF(评价分!$F$2:$G$41,B62,评价分!$G$2:$G$41) -> 100.2357 | F62: 金勇 | G62: =SUMIF($B$2:$C$224,F62,$C$2:$C$224) -> 100.11204
B63: 兰阿布 | C63: =AVERAGEIF(评价分!$F$2:$G$41,B63,评价分!$G$2:$G$41) -> 103.98279
B64: 王友春 | C64: =AVERAGEIF(评价分!$F$2:$G$41,B64,评价分!$G$2:$G$41) -> 100.03232
B65: 陈文惠 | C65: =AVERAGEIF(评价分!$F$2:$G$41,B65,评价分!$G$2:$G$41) -> 104.2169
B66: 刘厚江 | C66: =AVERAGEIF(评价分!$F$2:$G$41,B66,评价分!$G$2:$G$41) -> 103.7476
B67: 叶仁群 | C67: =AVERAGEIF(评价分!$F$2:$G$41,B67,评价分!$G$2:$G$41) -> 100.59488
B68: 郑富全 | C68: =AVERAGEIF(评价分!$F$2:$G$41,B68,评价分!$G$2:$G$41) -> 93.700122
B69: 杨建 | C69: =AVERAGEIF(评价分!$F$2:$G$41,B69,评价分!$G$2:$G$41) -> 109.91879
B70: 卢祥 | C70: =AVERAGEIF(评价分!$F$2:$G$41,B70,评价分!$G$2:$G$41) -> 131.6616
B71: 田友米 | C71: =AVERAGEIF(评价分!$F$2:$G$41,B71,评价分!$G$2:$G$41) -> 118.68671
A72: 高二下 | B72: 叶屏 | C72: =AVERAGEIF(评价分!$I$2:$J$44,B72,评价分!$J$2:$J$44) -> 92.602364
B73: 阙丽萍 | C73: =AVERAGEIF(评价分!$I$2:$J$44,B73,评价分!$J$2:$J$44) -> 93.348624
...

Sheet 原始成绩
A1: 身份证号码 | B1: 班级 | C1: 姓名 | D1: 文/理科 | E1: 高考 | Q1: 高三上 | AC1: 高二下 | AO1: 高二上 | BA1: 高一下 | BM1: 高一上 | BY1: 中考
E2: 语文 | G2: 数学 | I2: 英语 | K2: 物理/政治 | M2: 化学/历史 | O2: 生物/地理 | Q2: 语文 | S2: 数学 | U2: 英语 | W2: 物理/政治 | Y2: 化学/历史 | AA2: 生物/地理 | AC2: 语文 | AE2: 数学 | AG2: 英语 | AI2: 物理/政治 | AK2: 化学/历史 | AM2: 生物/地理 | AO2: 语文 | AQ2: 数学 | AS2: 英语 | AU2: 物理/政治 | AW2: 化学/历史 | AY2: 生物/地理 | BA2: 语文 | BC2: 数学 | BE2: 英语 | BG2: 物理/政治 | BI2: 化学/历史 | BK2: 生物/地理 | BM2: 语文 | BO2: 数学 | BQ2: 英语 | BS2: 物理/政治 | BU2: 化学/历史 | BW2: 生物/地理 | BY2: 语文 | BZ2: 数学 | CA2: 英语 | CB2: 物理/政治 | CC2: 化学/历史 | CD2: 生物/地理
E3: 成绩 | F3: 教师 | G3: 成绩 | H3: 教师 | I3: 成绩 | J3: 教师 | K3: 成绩 | L3: 教师 | M3: 成绩 | N3: 教师 | O3: 成绩 | P3: 教师 | Q3: 成绩 | R3: 教师 | S3: 成绩 | T3: 教师 | U3: 成绩 | V3: 教师 | W3: 成绩 | X3: 教师 | Y3: 成绩 | Z3: 教师 | AA3: 成绩 | AB3: 教师 | AC3: 成绩 | AD3: 教师 | AE3: 成绩 | AF3: 教师 | AG3: 成绩 | AH3: 教师 | AI3: 成绩 | AJ3: 教师 | AK3: 成绩 | AL3: 教师 | AM3: 成绩 | AN3: 教师 | AO3: 成绩 | AP3: 教师 | AQ3: 成绩 | AR3: 教师 | AS3: 成绩 | AT3: 教师 | AU3: 成绩 | AV3: 教师 | AW3: 成绩 | AX3: 教师 | AY3: 成绩 | AZ3: 教师 | BA3: 成绩 | BB3: 教师 | BC3: 成绩 | BD3: 教师 | BE3: 成绩 | BF3: 教师 | BG3: 成绩 | BH3: 教师 | BI3: 成绩 | BJ3: 教师 | BK3: 成绩 | BL3: 教师 | BM3: 成绩 | BN3: 教师 | BO3: 成绩 | BP3: 教师 | BQ3: 成绩 | BR3: 教师 | BS3: 成绩 | BT3: 教师 | BU3: 成绩 | BV3: 教师 | BW3: 成绩 | BX3: 教师 | BY3: 成绩 | BZ3: 成绩 | CA3: 成绩 | CB3: 成绩 | CC3: 成绩 | CD3: 成绩
A4: 513422200405094228 | B4: 1 | C4: 边玛拉初 | D4: 文科 | E4: 111 | F4: 叶屏 | G4: 100 | H4: 余玉红 | I4: 116 | J4: 胡昌燕 | K4: 76 | L4: 卢银楷 | M4: 64 | N4: 胡慧芳 | O4: 66 | P4: 金贵 | Q4: =VLOOKUP(A4,[1]高三上!A$3:Q$629,5,0) -> 107 | R4: =VLOOKUP(A4,[1]高三上!A$3:Q$629,6,0) -> 叶屏 | S4: =VLOOKUP(A4,[1]高三上!A$3:Q$629,7,0) -> 76 | T4: =VLOOKUP(A4,[1]高三上!A$3:Q$629,8,0) -> 余玉红 | U4: =VLOOKUP(A4,[1]高三上!A$3:Q$629,9,0) -> 129.5 | V4: =VLOOKUP(A4,[1]高三上!A$3:Q$629,10,0) -> 胡昌燕 | W4: =VLOOKUP(A4,[1]高三上!A$3:Q$629,11,0) -> 73 | X4: =VLOOKUP(A4,[1]高三上!A$3:Q$629,12,0) -> 卢银楷 | Y4: =VLOOKUP(A4,[1]高三上!A$3:Q$629,13,0) -> 66 | Z4: =VLOOKUP(A4,[1]高三上!A$3:Q$629,14,0) -> 胡慧芳 | AA4: =VLOOKUP(A4,[1]高三上!A$3:Q$629,15,0) -> 53 | AB4: =VLOOKUP(A4,[1]高三上!A$3:Q$629,16,0) -> 金贵 | AC4: =VLOOKUP(A4,[1]高二下!A$1:Q$618,5,0) -> 106.5 | AD4: =VLOOKUP(A4,[1]高二下!A$1:Q$618,6,0) -> 叶屏 | AE4: =VLOOKUP(A4,[1]高二下!A$1:Q$618,7,0) -> 86.5 | AF4: =VLOOKUP(A4,[1]高二下!A$1:Q$618,8,0) -> 余玉红 | AG4: =VLOOKUP(A4,[1]高二下!A$1:Q$618,9,0) -> 121 | AH4: =VLOOKUP(A4,[1]高二下!A$1:Q$618,10,0) -> 胡昌燕 | AI4: =VLOOKUP(A4,[1]高二下!A$1:Q$618,11,0) -> 71 | AJ4: =VLOOKUP(A4,[1]高二下!A$1:Q$618,12,0) -> 卢银楷 | AK4: =VLOOKUP(A4,[1]高二下!A$1:Q$618,13,0) -> 67 | AL4: =VLOOKUP(A4,[1]高二下!A$1:Q$618,14,0) -> 胡慧芳 | AM4: =VLOOKUP(A4,[1]高二下!A$1:Q$618,15,0) -> 53 | AN4: =VLOOKUP(A4,[1]高二下!A$1:Q$618,16,0) -> 金贵 | AO4: =VLOOKUP(A4,[1]高二上!A$1:Q$571,5,0) -> 102 | AP4: =VLOOKUP(A4,[1]高二上!A$1:Q$571,6,0) -> 叶屏 | AQ4: =VLOOKUP(A4,[1]高二上!A$1:Q$571,7,0) -> 102 | AR4: =VLOOKUP(A4,[1]高二上!A$1:Q$571,8,0) -> 余玉红 | AS4: =VLOOKUP(A4,[1]高二上!A$1:Q$571,9,0) -> 113.5 | AT4: =VLOOKUP(A4,[1]高二上!A$1:Q$571,10,0) -> 胡昌燕 | AU4: =VLOOKUP(A4,[1]高二上!A$1:Q$571,11,0) -> 72 | AV4: =VLOOKUP(A4,[1]高二上!A$1:Q$571,12,0) -> 卢银楷 | AW4: =VLOOKUP(A4,[1]高二上!A$1:Q$571,13,0) -> 84 | AX4: =VLOOKUP(A4,[1]高二上!A$1:Q$571,14,0) -> 胡慧芳 | AY4: =VLOOKUP(A4,[1]高二上!A$1:Q$571,15,0) -> 54 | AZ4: =VLOOKUP(A4,[1]高二上!A$1:Q$571,16,0) -> 金贵 | BA4: =VLOOKUP(A4,[1]高一下!$A$1:$Q$584,5,0) -> 101 | BB4: =VLOOKUP(A4,[1]高一下!$A$1:$Q$584,6,0) -> 叶屏 | BC4: =VLOOKUP(A4,[1]高一下!$A$1:$Q$584,7,0) -> 140 | BD4: =VLOOKUP(A4,[1]高一下!$A$1:$Q$584,8,0) -> 余玉红 | BE4: =VLOOKUP(A4,[1]高一下!$A$1:$Q$584,9,0) -> 102 | BF4: =VLOOKUP(A4,[1]高一下!$A$1:$Q$584,10,0) -> 胡昌燕 | BG4: =VLOOKUP(A4,[1]高一下!$A$1:$Q$584,11,0) -> 74 | BH4: =VLOOKUP(A4,[1]高一下!$A$1:$Q$584,12,0) -> 杨吉华 | BI4: =VLOOKUP(A4,[1]高一下!$A$1:$Q$584,13,0) -> 71 | BJ4: =VLOOKUP(A4,[1]高一下!$A$1:$Q$584,14,0) -> 胡慧芳 | BK4: =VLOOKUP(A4,[1]高一下!$A$1:$Q$584,15,0) -> 76 | BL4: =VLOOKUP(A4,[1]高一下!$A$1:$Q$584,16,0) -> 金贵 | BM4: =VLOOKUP(A4,[1]高一上!A$1:W$612,5,0) -> 79 | BN4: =VLOOKUP(A4,[1]高一上!A$1:W$612,6,0) -> 叶屏 | BO4: =VLOOKUP(A4,[1]高一上!A$1:W$612,7,0) -> 47 | BP4: =VLOOKUP(A4,[1]高一上!A$1:W$612,8,0) -> 余玉红 | BQ4: =VLOOKUP(A4,[1]高一上!A$1:W$612,9,0) -> 97 | BR4: =VLOOKUP(A4,[1]高一上!A$1:W$612,10,0) -> 胡昌燕 | BS4: =VLOOKUP(A4,[1]高一上!A$1:W$612,17,0) -> 77 | BT4: =VLOOKUP(A4,[1]高一上!A$1:W$612,18,0) -> 杨吉华 | BU4: =VLOOKUP(A4,[1]高一上!A$1:W$612,19,0) -> 52 | BV4: =VLOOKUP(A4,[1]高一上!A$1:W$612,20,0) -> 胡慧芳 | BW4: =VLOOKUP(A4,[1]高一上!A$1:W$612,21,0) -> 60 | BX4: =VLOOKUP(A4,[1]高一上!A$1:W$612,22,0) -> 金贵 | BY4: =VLOOKUP(A4,[1]中考!A$1:N$590,5,0) -> 96 | BZ4: =VLOOKUP(A4,[1]中考!A$1:N$590,6,0) -> 77 | CA4: =VLOOKUP(A4,[1]中考!A$1:N$590,7,0) -> 102 | CB4: =VLOOKUP(A4,[1]中考!A$1:N$590,11,0) -> 38 | CC4: =VLOOKUP(A4,[1]中考!A$1:N$590,12,0) -> 43 | CD4: =VLOOKUP(A4,[1]中考!A$1:N$590,13,0) -> 39
A5: 513422200409152325 | B5: 1 | C5: 王燚 | D5: 文科 | E5: 109 | F5: 叶屏 | G5: 119 | H5: 余玉红 | I5: 109 | J5: 胡昌燕 | K5: 69 | L5: 卢银楷 | M5: 71 | N5: 胡慧芳 | O5: 61 | P5: 金贵 | Q5: =VLOOKUP(A5,[1]高三上!A$3:Q$629,5,0) -> 102 | R5: =VLOOKUP(A5,[1]高三上!A$3:Q$629,6,0) -> 叶屏 | S5: =VLOOKUP(A5,[1]高三上!A$3:Q$629,7,0) -> 90 | T5: =VLOOKUP(A5,[1]高三上!A$3:Q$629,8,0) -> 余玉红 | U5: =VLOOKUP(A5,[1]高三上!A$3:Q$629,9,0) -> 117.5 | V5: =VLOOKUP(A5,[1]高三上!A$3:Q$629,10,0) -> 胡昌燕 | W5: =VLOOKUP(A5,[1]高三上!A$3:Q$629,11,0) -> 64 | X5: =VLOOKUP(A5,[1]高三上!A$3:Q$629,12,0) -> 卢银楷 | Y5: =VLOOKUP(A5,[1]高三上!A$3:Q$629,13,0) -> 73 | Z5: =VLOOKUP(A5,[1]高三上!A$3:Q$629,14,0) -> 胡慧芳 | AA5: =VLOOKUP(A5,[1]高三上!A$3:Q$629,15,0) -> 52 | AB5: =VLOOKUP(A5,[1]高三上!A$3:Q$629,16,0) -> 金贵 | AC5: =VLOOKUP(A5,[1]高二下!A$1:Q$618,5,0) -> 107.5 | AD5: =VLOOKUP(A5,[1]高二下!A$1:Q$618,6,0) -> 叶屏 | AE5: =VLOOKUP(A5,[1]高二下!A$1:Q$618,7,0) -> 97 | AF5: =VLOOKUP(A5,[1]高二下!A$1:Q$618,8,0) -> 余玉红 | AG5: =VLOOKUP(A5,[1]高二下!A$1:Q$618,9,0) -> 103.5 | AH5: =VLOOKUP(A5,[1]高二下!A$1:Q$618,10,0) -> 胡昌燕 | AI5: =VLOOKUP(A5,[1]高二下!A$1:Q$618,11,0) -> 55 | AJ5: =VLOOKUP(A5,[1]高二下!A$1:Q$618,12,0) -> 卢银楷 | AK5: =VLOOKUP(A5,[1]高二下!A$1:Q$618,13,0) -> 65.5 | AL5: =VLOOKUP(A5,[1]高二下!A$1:Q$618,14,0) -> 胡慧芳 | AM5: =VLOOKUP(A5,[1]高二下!A$1:Q$618,15,0) -> 44.5 | AN5: =VLOOKUP(A5,[1]高二下!A$1:Q$618,16,0) -> 金贵 | AO5: =VLOOKUP(A5,[1]高二上!A$1:Q$571,5,0) -> 105 | AP5: =VLOOKUP(A5,[1]高二上!A$1:Q$571,6,0) -> 叶屏 | AQ5: =VLOOKUP(A5,[1]高二上!A$1:Q$571,7,0) -> 110 | AR5: =VLOOKUP(A5,[1]高二上!A$1:Q$571,8,0) -> 余玉红 | AS5: =VLOOKUP(A5,[1]高二上!A$1:Q$571,9,0) -> 104.5 | AT5: =VLOOKUP(A5,[1]高二上!A$1:Q$571,10,0) -> 胡昌燕 | AU5: =VLOOKUP(A5,[1]高二上!A$1:Q$571,11,0) -> 68 | AV5: =VLOOKUP(A5,[1]高二上!A$1:Q$571,12,0) -> 卢银楷 | AW5: =VLOOKUP(A5,[1]高二上!A$1:Q$571,13,0) -> 71 | AX5: =VLOOKUP(A5,[1]高二上!A$1:Q$571,14,0) -> 胡慧芳 | AY5: =VLOOKUP(A5,[1]高二上!A$1:Q$571,15,0) -> 64 | AZ5: =VLOOKUP(A5,[1]高二上!A$1:Q$571,16,0) -> 金贵 | BA5: =VLOOKUP(A5,[1]高一下!$A$1:$Q$584,5,0) -> 99 | BB5: =VLOOKUP(A5,[1]高一下!$A$1:$Q$584,6,0) -> 叶屏 | BC5: =VLOOKUP(A5,[1]高一下!$A$1:$Q$584,7,0) -> 132 | BD5: =VLOOKUP(A5,[1]高一下!$A$1:$Q$584,8,0) -> 余玉红 | BE5: =VLOOKUP(A5,[1]高一下!$A$1:$Q$584,9,0) -> 107 | BF5: =VLOOKUP(A5,[1]高一下!$A$1:$Q$584,10,0) -> 胡昌燕 | BG5: =VLOOKUP(A5,[1]高一下!$A$1:$Q$584,11,0) -> 78 | BH5: =VLOOKUP(A5,[1]高一下!$A$1:$Q$584,12,0) -> 杨吉华 | BI5: =VLOOKUP(A5,[1]高一下!$A$1:$Q$584,13,0) -> 72 | BJ5: =VLOOKUP(A5,[1]高一下!$A$1:$Q$584,14,0) -> 胡慧芳 | BK5: =VLOOKUP(A5,[1]高一下!$A$1:$Q$584,15,0) -> 72 | BL5: =VLOOKUP(A5,[1]高一下!$A$1:$Q$584,16,0) -> 金贵 | BM5: =VLOOKUP(A5,[1]高一上!A$1:W$612,5,0) -> 96 | BN5: =VLOOKUP(A5,[1]高一上!A$1:W$612,6,0) -> 张玉婷 | BO5: =VLOOKUP(A5,[1]高一上!A$1:W$612,7,0) -> 92 | BP5: =VLOOKUP(A5,[1]高一上!A$1:W$612,8,0) -> 胡付松 | BQ5: =VLOOKUP(A5,[1]高一上!A$1:W$612,9,0) -> 92 | BR5: =VLOOKUP(A5,[1]高一上!A$1:W$612,10,0) -> 程长寿 | BS5: =VLOOKUP(A5,[1]高一上!A$1:W$612,17,0) -> 75 | BT5: =VLOOKUP(A5,[1]高一上!A$1:W$612,18,0) -> 卢银楷 | BU5: =VLOOKUP(A5,[1]高一上!A$1:W$612,19,0) -> 76 | BV5: =VLOOKUP(A5,[1]高一上!A$1:W$612,20,0) -> 赵香才 | BW5: =VLOOKUP(A5,[1]高一上!A$1:W$612,21,0) -> 57 | BX5: =VLOOKUP(A5,[1]高一上!A$1:W$612,22,0) -> 骆泽群 | BY5: =VLOOKUP(A5,[1]中考!A$1:N$590,5,0) -> 97 | BZ5: =VLOOKUP(A5,[1]中考!A$1:N$590,6,0) -> 90 | CA5: =VLOOKUP(A5,[1]中考!A$1:N$590,7,0) -> 117 | CB5: =VLOOKUP(A5,[1]中考!A$1:N$590,11,0) -> 38 | CC5: =VLOOKUP(A5,[1]中考!A$1:N$590,12,0) -> 37 | CD5: =VLOOKUP(A5,[1]中考!A$1:N$590,13,0) -> 36
A6: 513422200301081529 | B6: 1 | C6: 吕央初 | D6: 文科 | E6: 108 | F6: 叶屏 | G6: 96 | H6: 余玉红 | I6: 118 | J6: 胡昌燕 | K6: 74 | L6: 卢银楷 | M6: 68 | N6: 胡慧芳 | O6: 63 | P6: 金贵 | Q6: =VLOOKUP(A6,[1]高三上!A$3:Q$629,5,0) -> 107 | R6: =VLOOKUP(A6,[1]高三上!A$3:Q$629,6,0) -> 叶屏 | S6: =VLOOKUP(A6,[1]高三上!A$3:Q$629,7,0) -> 77 | T6: =VLOOKUP(A6,[1]高三上!A$3:Q$629,8,0) -> 余玉红 | U6: =VLOOKUP(A6,[1]高三上!A$3:Q$629,9,0) -> 125.5 | V6: =VLOOKUP(A6,[1]高三上!A$3:Q$629,10,0) -> 胡昌燕 | W6: =VLOOKUP(A6,[1]高三上!A$3:Q$629,11,0) -> 68 | X6: =VLOOKUP(A6,[1]高三上!A$3:Q$629,12,0) -> 卢银楷 | Y6: =VLOOKUP(A6,[1]高三上!A$3:Q$629,13,0) -> 73 | Z6: =VLOOKUP(A6,[1]高三上!A$3:Q$629,14,0) -> 胡慧芳 | AA6: =VLOOKUP(A6,[1]高三上!A$3:Q$629,15,0) -> 58 | AB6: =VLOOKUP(A6,[1]高三上!A$3:Q$629,16,0) -> 金贵 | AC6: =VLOOKUP(A6,[1]高二下!A$1:Q$618,5,0) -> 111 | AD6: =VLOOKUP(A6,[1]高二下!A$1:Q$618,6,0) -> 叶屏 | AE6: =VLOOKUP(A6,[1]高二下!A$1:Q$618,7,0) -> 76.5 | AF6: =VLOOKUP(A6,[1]高二下!A$1:Q$618,8,0) -> 余玉红 | AG6: =VLOOKUP(A6,[1]高二下!A$1:Q$618,9,0) -> 130.5 | AH6: =VLOOKUP(A6,[1]高二下!A$1:Q$618,10,0) -> 胡昌燕 | AI6: =VLOOKUP(A6,[1]高二下!A$1:Q$618,11,0) -> 61 | AJ6: =VLOOKUP(A6,[1]高二下!A$1:Q$618,12,0) -> 卢银楷 | AK6: =VLOOKUP(A6,[1]高二下!A$1:Q$618,13,0) -> 73 | AL6: =VLOOKUP(A6,[1]高二下!A$1:Q$618,14,0) -> 胡慧芳 | AM6: =VLOOKUP(A6,[1]高二下!A$1:Q$618,15,0) -> 53.5 | AN6: =VLOOKUP(A6,[1]高二下!A$1:Q$618,16,0) -> 金贵 | AO6: =VLOOKUP(A6,[1]高二上!A$1:Q$571,5,0) -> 104 | AP6: =VLOOKUP(A6,[1]高二上!A$1:Q$571,6,0) -> 叶屏 | AQ6: =VLOOKUP(A6,[1]高二上!A$1:Q$571,7,0) -> 76 | AR6: =VLOOKUP(A6,[1]高二上!A$1:Q$571,8,0) -> 余玉红 | AS6: =VLOOKUP(A6,[1]高二上!A$1:Q$571,9,0) -> 122 | AT6: =VLOOKUP(A6,[1]高二上!A$1:Q$571,10,0) -> 胡昌燕 | AU6: =VLOOKUP(A6,[1]高二上!A$1:Q$571,11,0) -> 70 | AV6: =VLOOKUP(A6,[1]高二上!A$1:Q$571,12,0) -> 卢银楷 | AW6: =VLOOKUP(A6,[1]高二上!A$1:Q$571,13,0) -> 83 | AX6: =VLOOKUP(A6,[1]高二上!A$1:Q$571,14,0) -> 胡慧芳 | AY6: =VLOOKUP(A6,[1]高二上!A$1:Q$571,15,0) -> 66 | AZ6: =VLOOKUP(A6,[1]高二上!A$1:Q$571,16,0) -> 金贵 | BA6: =VLOOKUP(A6,[1]高一下!$A$1:$Q$584,5,0) -> 108 | BB6: =VLOOKUP(A6,[1]高一下!$A$1:$Q$584,6,0) -> 叶屏 | BC6: =VLOOKUP(A6,[1]高一下!$A$1:$Q$584,7,0) -> 131 | BD6: =VLOOKUP(A6,[1]高一下!$A$1:$Q$584,8,0) -> 余玉红 | BE6: =VLOOKUP(A6,[1]高一下!$A$1:$Q$584,9,0) -> 125.5 | BF6: =VLOOKUP(A6,[1]高一下!$A$1:$Q$584,10,0) -> 胡昌燕 | BG6: =VLOOKUP(A6,[1]高一下!$A$1:$Q$584,11,0) -> 86 | BH6: =VLOOKUP(A6,[1]高一下!$A$1:$Q$584,12,0) -> 杨吉华 | BI6: =VLOOKUP(A6,[1]高一下!$A$1:$Q$584,13,0) -> 72 | BJ6: =VLOOKUP(A6,[1]高一下!$A$1:$Q$584,14,0) -> 胡慧芳 | BK6: =VLOOKUP(A6,[1]高一下!$A$1:$Q$584,15,0) -> 78 | BL6: =VLOOKUP(A6,[1]高一下!$A$1:$Q$584,16,0) -> 金贵 | BM6: =VLOOKUP(A6,[1]高一上!A$1:W$612,5,0) -> 90 | BN6: =VLOOKUP(A6,[1]高一上!A$1:W$612,6,0) -> 张玉婷 | BO6: =VLOOKUP(A6,[1]高一上!A$1:W$612,7,0) -> 95 | BP6: =VLOOKUP(A6,[1]高一上!A$1:W$612,8,0) -> 胡付松 | BQ6: =VLOOKUP(A6,[1]高一上!A$1:W$612,9,0) -> 130.5 | BR6: =VLOOKUP(A6,[1]高一上!A$1:W$612,10,0) -> 程长寿 | BS6: =VLOOKUP(A6,[1]高一上!A$1:W$612,17,0) -> 70 | BT6: =VLOOKUP(A6,[1]高一上!A$1:W$612,18,0) -> 卢银楷 | BU6: =VLOOKUP(A6,[1]高一上!A$1:W$612,19,0) -> 63 | BV6: =VLOOKUP(A6,[1]高一上!A$1:W$612,20,0) -> 赵香才 | BW6: =VLOOKUP(A6,[1]高一上!A$1:W$612,21,0) -> 74 | BX6: =VLOOKUP(A6,[1]高一上!A$1:W$612,22,0) -> 骆泽群 | BY6: =VLOOKUP(A6,[1]中考!A$1:N$590,5,0) -> 113 | BZ6: =VLOOKUP(A6,[1]中考!A$1:N$590,6,0) -> 84 | CA6: =VLOOKUP(A6,[1]中考!A$1:N$590,7,0) -> 142 | CB6: =VLOOKUP(A6,[1]中考!A$1:N$590,11,0) -> 47 | CC6: =VLOOKUP(A6,[1]中考!A$1:N$590,12,0) -> 41 | CD6: =VLOOKUP(A6,[1]中考!A$1:N$590,13,0) -> 45
A7: 513422200410200013 | B7: 1 | C7: 李彤 | D7: 文科 | E7: 117 | F7: 叶屏 | G7: 106 | H7: 余玉红 | I7: 96 | J7: 胡昌燕 | K7: 69 | L7: 卢银楷 | M7: 73 | N7: 胡慧芳 | O7: 60 | P7: 金贵 | Q7: =VLOOKUP(A7,[1]高三上!A$3:Q$629,5,0) -> 101 | R7: =VLOOKUP(A7,[1]高三上!A$3:Q$629,6,0) -> 叶屏 | S7: =VLOOKUP(A7,[1]高三上!A$3:Q$629,7,0) -> 92 | T7: =VLOOKUP(A7,[1]高三上!A$3:Q$629,8,0) -> 余玉红 | U7: =VLOOKUP(A7,[1]高三上!A$3:Q$629,9,0) -> 107 | V7: =VLOOKUP(A7,[1]高三上!A$3:Q$629,10,0) -> 胡昌燕 | W7: =VLOOKUP(A7,[1]高三上!A$3:Q$629,11,0) -> 65 | X7: =VLOOKUP(A7,[1]高三上!A$3:Q$629,12,0) -> 卢银楷 | Y7: =VLOOKUP(A7,[1]高三上!A$3:Q$629,13,0) -> 62 | Z7: =VLOOKUP(A7,[1]高三上!A$3:Q$629,14,0) -> 胡慧芳 | AA7: =VLOOKUP(A7,[1]高三上!A$3:Q$629,15,0) -> 48 | AB7: =VLOOKUP(A7,[1]高三上!A$3:Q$629,16,0) -> 金贵 | AC7: =VLOOKUP(A7,[1]高二下!A$1:Q$618,5,0) -> 103.5 | AD7: =VLOOKUP(A7,[1]高二下!A$1:Q$618,6,0) -> 叶屏 | AE7: =VLOOKUP(A7,[1]高二下!A$1:Q$618,7,0) -> 72.5 | AF7: =VLOOKUP(A7,[1]高二下!A$1:Q$618,8,0) -> 余玉红 | AG7: =VLOOKUP(A7,[1]高二下!A$1:Q$618,9,0) -> 96.5 | AH7: =VLOOKUP(A7,[1]高二下!A$1:Q$618,10,0) -> 胡昌燕 | AI7: =VLOOKUP(A7,[1]高二下!A$1:Q$618,11,0) -> 67 | AJ7: =VLOOKUP(A7,[1]高二下!A$1:Q$618,12,0) -> 卢银楷 | AK7: =VLOOKUP(A7,[1]高二下!A$1:Q$618,13,0) -> 66.5 | AL7: =VLOOKUP(A7,[1]高二下!A$1:Q$618,14,0) -> 胡慧芳 | AM7: =VLOOKUP(A7,[1]高二下!A$1:Q$618,15,0) -> 58 | AN7: =VLOOKUP(A7,[1]高二下!A$1:Q$618,16,0) -> 金贵 | AO7: =VLOOKUP(A7,[1]高二上!A$1:Q$571,5,0) -> 109 | AP7: =VLOOKUP(A7,[1]高二上!A$1:Q$571,6,0) -> 叶屏 | AQ7: =VLOOKUP(A7,[1]高二上!A$1:Q$571,7,0) -> 119 | AR7: =VLOOKUP(A7,[1]高二上!A$1:Q$571,8,0) -> 余玉红 | AS7: =VLOOKUP(A7,[1]高二上!A$1:Q$571,9,0) -> 108.5 | AT7: =VLOOKUP(A7,[1]高二上!A$1:Q$571,10,0) -> 胡昌燕 | AU7: =VLOOKUP(A7,[1]高二上!A$1:Q$571,11,0) -> 66 | AV7: =VLOOKUP(A7,[1]高二上!A$1:Q$571,12,0) -> 卢银楷 | AW7: =VLOOKUP(A7,[1]高二上!A$1:Q$571,13,0) -> 83 | AX7: =VLOOKUP(A7,[1]高二上!A$1:Q$571,14,0) -> 胡慧芳 | AY7: =VLOOKUP(A7,[1]高二上!A$1:Q$571,15,0) -> 75 | AZ7: =VLOOKUP(A7,[1]高二上!A$1:Q$571,16,0) -> 金贵 | BA7: =VLOOKUP(A7,[1]高一下!$A$1:$Q$584,5,0) -> 99 | BB7: =VLOOKUP(A7,[1]高一下!$A$1:$Q$584,6,0) -> 叶屏 | BC7: =VLOOKUP(A7,[1]高一下!$A$1:$Q$584,7,0) -> 121 | BD7: =VLOOKUP(A7,[1]高一下!$A$1:$Q$584,8,0) -> 余玉红 | BE7: =VLOOKUP(A7,[1]高一下!$A$1:$Q$584,9,0) -> 98 | BF7: =VLOOKUP(A7,[1]高一下!$A$1:$Q$584,10,0) -> 胡昌燕 | BG7: =VLOOKUP(A7,[1]高一下!$A$1:$Q$584,11,0) -> 76 | BH7: =VLOOKUP(A7,[1]高一下!$A$1:$Q$584,12,0) -> 杨吉华 | BI7: =VLOOKUP(A7,[1]高一下!$A$1:$Q$584,13,0) -> 67 | BJ7: =VLOOKUP(A7,[1]高一下!$A$1:$Q$584,14,0) -> 胡慧芳 | BK7: =VLOOKUP(A7,[1]高一下!$A$1:$Q$584,15,0) -> 70 | BL7: =VLOOKUP(A7,[1]高一下!$A$1:$Q$584,16,0) -> 金贵 | BM7: =VLOOKUP(A7,[1]高一上!A$1:W$612,5,0) -> 78 | BN7: =VLOOKUP(A7,[1]高一上!A$1:W$612,6,0) -> 向美娟 | BO7: =VLOOKUP(A7,[1]高一上!A$1:W$612,7,0) -> 78 | BP7: =VLOOKUP(A7,[1]高一上!A$1:W$612,8,0) -> 徐万雄 | BQ7: =VLOOKUP(A7,[1]高一上!A$1:W$612,9,0) -> 98 | BR7: =VLOOKUP(A7,[1]高一上!A$1:W$612,10,0) -> 聂艳梅 | BS7: =VLOOKUP(A7,[1]高一上!A$1:W$612,17,0) -> 85 | BT7: =VLOOKUP(A7,[1]高一上!A$1:W$612,18,0) -> 杨吉华 | BU7: =VLOOKUP(A7,[1]高一上!A$1:W$612,19,0) -> 66 | BV7: =VLOOKUP(A7,[1]高一上!A$1:W$612,20,0) -> 胡慧芳 | BW7: =VLOOKUP(A7,[1]高一上!A$1:W$612,21,0) -> 60 | BX7: =VLOOKUP(A7,[1]高一上!A$1:W$612,22,0) -> 金贵 | BY7: =VLOOKUP(A7,[1]中考!A$1:N$590,5,0) -> 96 | BZ7: =VLOOKUP(A7,[1]中考!A$1:N$590,6,0) -> 76 | CA7: =VLOOKUP(A7,[1]中考!A$1:N$590,7,0) -> 113 | CB7: =VLOOKUP(A7,[1]中考!A$1:N$590,11,0) -> 34 | CC7: =VLOOKUP(A7,[1]中考!A$1:N$590,12,0) -> 38 | CD7: =VLOOKUP(A7,[1]中考!A$1:N$590,13,0) -> 44
A8: 513422200308205029 | B8: 1 | C8: 杜基祝玛 | D8: 文科 | E8: 120 | F8: 叶屏 | G8: 81 | H8: 余玉红 | I8: 112 | J8: 胡昌燕 | K8: 69 | L8: 卢银楷 | M8: 71 | N8: 胡慧芳 | O8: 61 | P8: 金贵 | Q8: =VLOOKUP(A8,[1]高三上!A$3:Q$629,5,0) -> 114 | R8: =VLOOKUP(A8,[1]高三上!A$3:Q$629,6,0) -> 叶屏 | S8: =VLOOKUP(A8,[1]高三上!A$3:Q$629,7,0) -> 55 | T8: =VLOOKUP(A8,[1]高三上!A$3:Q$629,8,0) -> 余玉红 | U8: =VLOOKUP(A8,[1]高三上!A$3:Q$629,9,0) -> 125.5 | V8: =VLOOKUP(A8,[1]高三上!A$3:Q$629,10,0) -> 胡昌燕 | W8: =VLOOKUP(A8,[1]高三上!A$3:Q$629,11,0) -> 70 | X8: =VLOOKUP(A8,[1]高三上!A$3:Q$629,12,0) -> 卢银楷 | Y8: =VLOOKUP(A8,[1]高三上!A$3:Q$629,13,0) -> 55 | Z8: =VLOOKUP(A8,[1]高三上!A$3:Q$629,14,0) -> 胡慧芳 | AA8: =VLOOKUP(A8,[1]高三上!A$3:Q$629,15,0) -> 37 | AB8: =VLOOKUP(A8,[1]高三上!A$3:Q$629,16,0) -> 金贵 | AC8: =VLOOKUP(A8,[1]高二下!A$1:Q$618,5,0) -> 105.5 | AD8: =VLOOKUP(A8,[1]高二下!A$1:Q$618,6,0) -> 叶屏 | AE8: =VLOOKUP(A8,[1]高二下!A$1:Q$618,7,0) -> 67 | AF8: =VLOOKUP(A8,[1]高二下!A$1:Q$618,8,0) -> 余玉红 | AG8: =VLOOKUP(A8,[1]高二下!A$1:Q$618,9,0) -> 121 | AH8: =VLOOKUP(A8,[1]高二下!A$1:Q$618,10,0) -> 胡昌燕 | AI8: =VLOOKUP(A8,[1]高二下!A$1:Q$618,11,0) -> 71.5 | AJ8: =VLOOKUP(A8,[1]高二下!A$1:Q$618,12,0) -> 卢银楷 | AK8: =VLOOKUP(A8,[1]高二下!A$1:Q$618,13,0) -> 60 | AL8: =VLOOKUP(A8,[1]高二下!A$1:Q$618,14,0) -> 胡慧芳 | AM8: =VLOOKUP(A8,[1]高二下!A$1:Q$618,15,0) -> 45 | AN8: =VLOOKUP(A8,[1]高二下!A$1:Q$618,16,0) -> 金贵 | AO8: =VLOOKUP(A8,[1]高二上!A$1:Q$571,5,0) -> 106 | AP8: =VLOOKUP(A8,[1]高二上!A$1:Q$571,6,0) -> 叶屏 | AQ8: =VLOOKUP(A8,[1]高二上!A$1:Q$571,7,0) -> 95 | AR8: =VLOOKUP(A8,[1]高二上!A$1:Q$571,8,0) -> 余玉红 | AS8: =VLOOKUP(A8,[1]高二上!A$1:Q$571,9,0) -> 115 | AT8: =VLOOKUP(A8,[1]高二上!A$1:Q$571,10,0) -> 胡昌燕 | AU8: =VLOOKUP(A8,[1]高二上!A$1:Q$571,11,0) -> 66 | AV8: =VLOOKUP(A8,[1]高二上!A$1:Q$571,12,0) -> 卢银楷 | AW8: =VLOOKUP(A8,[1]高二上!A$1:Q$571,13,0) -> 76 | AX8: =VLOOKUP(A8,[1]高二上!A$1:Q$571,14,0) -> 胡慧芳 | AY8: =VLOOKUP(A8,[1]高二上!A$1:Q$571,15,0) -> 59 | AZ8: =VLOOKUP(A8,[1]高二上!A$1:Q$571,16,0) -> 金贵 | BA8: =VLOOKUP(A8,[1]高一下!$A$1:$Q$584,5,0) -> 105 | BB8: =VLOOKUP(A8,[1]高一下!$A$1:$Q$584,6,0) -> 叶屏 | BC8: =VLOOKUP(A8,[1]高一下!$A$1:$Q$584,7,0) -> 100 | BD8: =VLOOKUP(A8,[1]高一下!$A$1:$Q$584,8,0) -> 余玉红 | BE8: =VLOOKUP(A8,[1]高一下!$A$1:$Q$584,9,0) -> 123 | BF8: =VLOOKUP(A8,[1]高一下!$A$1:$Q$584,10,0) -> 胡昌燕 | BG8: =VLOOKUP(A8,[1]高一下!$A$1:$Q$584,11,0) -> 69 | BH8: =VLOOKUP(A8,[1]高一下!$A$1:$Q$584,12,0) -> 杨吉华 | BI8: =VLOOKUP(A8,[1]高一下!$A$1:$Q$584,13,0) -> 66 | BJ8: =VLOOKUP(A8,[1]高一下!$A$1:$Q$584,14,0) -> 胡慧芳 | BK8: =VLOOKUP(A8,[1]高一下!$A$1:$Q$584,15,0) -> 54 | BL8: =VLOOKUP(A8,[1]高一下!$A$1:$Q$584,16,0) -> 金贵 | BM8: =VLOOKUP(A8,[1]高一上!A$1:W$612,5,0) -> 89 | BN8: =VLOOKUP(A8,[1]高一上!A$1:W$612,6,0) -> 何苗 | BO8: =VLOOKUP(A8,[1]高一上!A$1:W$612,7,0) -> 98 | BP8: =VLOOKUP(A8,[1]高一上!A$1:W$612,8,0) -> 黄金华 | BQ8: =VLOOKUP(A8,[1]高一上!A$1:W$612,9,0) -> 116.5 | BR8: =VLOOKUP(A8,[1]高一上!A$1:W$612,10,0) -> 程长寿 | BS8: =VLOOKUP(A8,[1]高一上!A$1:W$612,17,0) -> 53 | BT8: =VLOOKUP(A8,[1]高一上!A$1:W$612,18,0) -> 马巫各 | BU8: =VLOOKUP(A8,[1]高一上!A$1:W$612,19,0) -> 40 | BV8: =VLOOKUP(A8,[1]高一上!A$1:W$612,20,0) -> 胡慧芳 | BW8: =VLOOKUP(A8,[1]高一上!A$1:W$612,21,0) -> 43 | BX8: =VLOOKUP(A8,[1]高一上!A$1:W$612,22,0) -> 杜基次尔 | BY8: =VLOOKUP(A8,[1]中考!A$1:N$590,5,0) -> 114 | BZ8: =VLOOKUP(A8,[1]中考!A$1:N$590,6,0) -> 85 | CA8: =VLOOKUP(A8,[1]中考!A$1:N$590,7,0) -> 128 | CB8: =VLOOKUP(A8,[1]中考!A$1:N$590,11,0) -> 46 | CC8: =VLOOKUP(A8,[1]中考!A$1:N$590,12,0) -> 34 | CD8: =VLOOKUP(A8,[1]中考!A$1:N$590,13,0) -> 39
A9: 513422200503250722 | B9: 1 | C9: 王石美 | D9: 文科 | E9: 121 | F9: 叶屏 | G9: 73 | H9: 余玉红 | I9: 130 | J9: 胡昌燕 | K9: 67.5 | L9: 卢银楷 | M9: 71.5 | N9: 胡慧芳 | O9: 41 | P9: 金贵 | Q9: =VLOOKUP(A9,[1]高三上!A$3:Q$629,5,0) -> 109 | R9: =VLOOKUP(A9,[1]高三上!A$3:Q$629,6,0) -> 叶屏 | S9: =VLOOKUP(A9,[1]高三上!A$3:Q$629,7,0) -> 71 | T9: =VLOOKUP(A9,[1]高三上!A$3:Q$629,8,0) -> 余玉红 | U9: =VLOOKUP(A9,[1]高三上!A$3:Q$629,9,0) -> 132.5 | V9: =VLOOKUP(A9,[1]高三上!A$3:Q$629,10,0) -> 胡昌燕 | W9: =VLOOKUP(A9,[1]高三上!A$3:Q$629,11,0) -> 72 | X9: =VLOOKUP(A9,[1]高三上!A$3:Q$629,12,0) -> 卢银楷 | Y9: =VLOOKUP(A9,[1]高三上!A$3:Q$629,13,0) -> 67 | Z9: =VLOOKUP(A9,[1]高三上!A$3:Q$629,14,0) -> 胡慧芳 | AA9: =VLOOKUP(A9,[1]高三上!A$3:Q$629,15,0) -> 61 | AB9: =VLOOKUP(A9,[1]高三上!A$3:Q$629,16,0) -> 金贵 | AC9: =VLOOKUP(A9,[1]高二下!A$1:Q$618,5,0) -> 109 | AD9: =VLOOKUP(A9,[1]高二下!A$1:Q$618,6,0) -> 叶屏 | AE9: =VLOOKUP(A9,[1]高二下!A$1:Q$618,7,0) -> 87 | AF9: =VLOOKUP(A9,[1]高二下!A$1:Q$618,8,0) -> 余玉红 | AG9: =VLOOKUP(A9,[1]高二下!A$1:Q$618,9,0) -> 133 | AH9: =VLOOKUP(A9,[1]高二下!A$1:Q$618,10,0) -> 胡昌燕 | AI9: =VLOOKUP(A9,[1]高二下!A$1:Q$618,11,0) -> 68 | AJ9: =VLOOKUP(A9,[1]高二下!A$1:Q$618,12,0) -> 卢银楷 | AK9: =VLOOKUP(A9,[1]高二下!A$1:Q$618,13,0) -> 65 | AL9: =VLOOKUP(A9,[1]高二下!A$1:Q$618,14,0) -> 胡慧芳 | AM9: =VLOOKUP(A9,[1]高二下!A$1:Q$618,15,0) -> 63 | AN9: =VLOOKUP(A9,[1]高二下!A$1:Q$618,16,0) -> 金贵 | AO9: =VLOOKUP(A9,[1]高二上!A$1:Q$571,5,0) -> 103 | AP9: =VLOOKUP(A9,[1]高二上!A$1:Q$571,6,0) -> 叶屏 | AQ9: =VLOOKUP(A9,[1]高二上!A$1:Q$571,7,0) -> 94 | AR9: =VLOOKUP(A9,[1]高二上!A$1:Q$571,8,0) -> 余玉红 | AS9: =VLOOKUP(A9,[1]高二上!A$1:Q$571,9,0) -> 126 | AT9: =VLOOKUP(A9,[1]高二上!A$1:Q$571,10,0) -> 胡昌燕 | AU9: =VLOOKUP(A9,[1]高二上!A$1:Q$571,11,0) -> 65 | AV9: =VLOOKUP(A9,[1]高二上!A$1:Q$571,12,0) -> 卢银楷 | AW9: =VLOOKUP(A9,[1]高二上!A$1:Q$571,13,0) -> 70 | AX9: =VLOOKUP(A9,[1]高二上!A$1:Q$571,14,0) -> 胡慧芳 | AY9: =VLOOKUP(A9,[1]高二上!A$1:Q$571,15,0) -> 56 | AZ9: =VLOOKUP(A9,[1]高二上!A$1:Q$571,16,0) -> 金贵 | BA9: =VLOOKUP(A9,[1]高一下!$A$1:$Q$584,5,0) -> 104 | BB9: =VLOOKUP(A9,[1]高一下!$A$1:$Q$584,6,0) -> 叶屏 | BC9: =VLOOKUP(A9,[1]高一下!$A$1:$Q$584,7,0) -> 99 | BD9: =VLOOKUP(A9,[1]高一下!$A$1:$Q$584,8,0) -> 余玉红 | BE9: =VLOOKUP(A9,[1]高一下!$A$1:$Q$584,9,0) -> 119 | BF9: =VLOOKUP(A9,[1]高一下!$A$1:$Q$584,10,0) -> 胡昌燕 | BG9: =VLOOKUP(A9,[1]高一下!$A$1:$Q$584,11,0) -> 70 | BH9: =VLOOKUP(A9,[1]高一下!$A$1:$Q$584,12,0) -> 杨吉华 | BI9: =VLOOKUP(A9,[1]高一下!$A$1:$Q$584,13,0) -> 54 | BJ9: =VLOOKUP(A9,[1]高一下!$A$1:$Q$584,14,0) -> 胡慧芳 | BK9: =VLOOKUP(A9,[1]高一下!$A$1:$Q$584,15,0) -> 53 | BL9: =VLOOKUP(A9,[1]高一下!$A$1:$Q$584,16,0) -> 金贵 | BM9: =VLOOKUP(A9,[1]高一上!A$1:W$612,5,0) -> 102 | BN9: =VLOOKUP(A9,[1]高一上!A$1:W$612,6,0) -> 向美娟 | BO9: =VLOOKUP(A9,[1]高一上!A$1:W$612,7,0) -> 77 | BP9: =VLOOKUP(A9,[1]高一上!A$1:W$612,8,0) -> 徐万雄 | BQ9: =VLOOKUP(A9,[1]高一上!A$1:W$612,9,0) -> 114.5 | BR9: =VLOOKUP(A9,[1]高一上!A$1:W$612,10,0) -> 聂艳梅 | BS9: =VLOOKUP(A9,[1]高一上!A$1:W$612,17,0) -> 48 | BT9: =VLOOKUP(A9,[1]高一上!A$1:W$612,18,0) -> 杨吉华 | BU9: =VLOOKUP(A9,[1]高一上!A$1:W$612,19,0) -> 52 | BV9: =VLOOKUP(A9,[1]高一上!A$1:W$612,20,0) -> 胡慧芳 | BW9: =VLOOKUP(A9,[1]高一上!A$1:W$612,21,0) -> 61 | BX9: =VLOOKUP(A9,[1]高一上!A$1:W$612,22,0) -> 金贵 | BY9: =VLOOKUP(A9,[1]中考!A$1:N$590,5,0) -> 114 | BZ9: =VLOOKUP(A9,[1]中考!A$1:N$590,6,0) -> 78 | CA9: =VLOOKUP(A9,[1]中考!A$1:N$590,7,0) -> 136 | CB9: =VLOOKUP(A9,[1]中考!A$1:N$590,11,0) -> 26 | CC9: =VLOOKUP(A9,[1]中考!A$1:N$590,12,0) -> 37 | CD9: =VLOOKUP(A9,[1]中考!A$1:N$590,13,0) -> 40
A10: 513422200501255028 | B10: 1 | C10: 王志珍 | D10: 文科 | E10: 112 | F10: 叶屏 | G10: 95 | H10: 余玉红 | I10: 83 | J10: 胡昌燕 | K10: 68.5 | L10: 卢银楷 | M10: 73 | N10: 胡慧芳 | O10: 60 | P10: 金贵 | Q10: =VLOOKUP(A10,[1]高三上!A$3:Q$629,5,0) -> 103 | R10: =VLOOKUP(A10,[1]高三上!A$3:Q$629,6,0) -> 叶屏 | S10: =VLOOKUP(A10,[1]高三上!A$3:Q$629,7,0) -> 86 | T10: =VLOOKUP(A10,[1]高三上!A$3:Q$629,8,0) -> 余玉红 | U10: =VLOOKUP(A10,[1]高三上!A$3:Q$629,9,0) -> 109 | V10: =VLOOKUP(A10,[1]高三上!A$3:Q$629,10,0) -> 胡昌燕 | W10: =VLOOKUP(A10,[1]高三上!A$3:Q$629,11,0) -> 67 | X10: =VLOOKUP(A10,[1]高三上!A$3:Q$629,12,0) -> 卢银楷 | Y10: =VLOOKUP(A10,[1]高三上!A$3:Q$629,13,0) -> 68 | Z10: =VLOOKUP(A10,[1]高三上!A$3:Q$629,14,0) -> 胡慧芳 | AA10: =VLOOKUP(A10,[1]高三上!A$3:Q$629,15,0) -> 56 | AB10: =VLOOKUP(A10,[1]高三上!A$3:Q$629,16,0) -> 金贵 | AC10: =VLOOKUP(A10,[1]高二下!A$1:Q$618,5,0) -> 92 | AD10: =VLOOKUP(A10,[1]高二下!A$1:Q$618,6,0) -> 叶屏 | AE10: =VLOOKUP(A10,[1]高二下!A$1:Q$618,7,0) -> 69.5 | AF10: =VLOOKUP(A10,[1]高二下!A$1:Q$618,8,0) -> 余玉红 | AG10: =VLOOKUP(A10,[1]高二下!A$1:Q$618,9,0) -> 78 | AH10: =VLOOKUP(A10,[1]高二下!A$1:Q$618,10,0) -> 胡昌燕 | AI10: =VLOOKUP(A10,[1]高二下!A$1:Q$618,11,0) -> 51.5 | AJ10: =VLOOKUP(A10,[1]高二下!A$1:Q$618,12,0) -> 卢银楷 | AK10: =VLOOKUP(A10,[1]高二下!A$1:Q$618,13,0) -> 58 | AL10: =VLOOKUP(A10,[1]高二下!A$1:Q$618,14,0) -> 胡慧芳 | AM10: =VLOOKUP(A10,[1]高二下!A$1:Q$618,15,0) -> 67 | AN10: =VLOOKUP(A10,[1]高二下!A$1:Q$618,16,0) -> 金贵 | AO10: =VLOOKUP(A10,[1]高二上!A$1:Q$571,5,0) -> 105 | AP10: =VLOOKUP(A10,[1]高二上!A$1:Q$571,6,0) -> 叶屏 | AQ10: =VLOOKUP(A10,[1]高二上!A$1:Q$571,7,0) -> 104 | AR10: =VLOOKUP(A10,[1]高二上!A$1:Q$571,8,0) -> 余玉红 | AS10: =VLOOKUP(A10,[1]高二上!A$1:Q$571,9,0) -> 84.5 | AT10: =VLOOKUP(A10,[1]高二上!A$1:Q$571,10,0) -> 胡昌燕 | AU10: =VLOOKUP(A10,[1]高二上!A$1:Q$571,11,0) -> 63 | AV10: =VLOOKUP(A10,[1]高二上!A$1:Q$571,12,0) -> 卢银楷 | AW10: =VLOOKUP(A10,[1]高二上!A$1:Q$571,13,0) -> 83 | AX10: =VLOOKUP(A10,[1]高二上!A$1:Q$571,14,0) -> 胡慧芳 | AY10: =VLOOKUP(A10,[1]高二上!A$1:Q$571,15,0) -> 61 | AZ10: =VLOOKUP(A10,[1]高二上!A$1:Q$571,16,0) -> 金贵 | BA10: =VLOOKUP(A10,[1]高一下!$A$1:$Q$584,5,0) -> 83 | BB10: =VLOOKUP(A10,[1]高一下!$A$1:$Q$584,6,0) -> 叶屏 | BC10: =VLOOKUP(A10,[1]高一下!$A$1:$Q$584,7,0) -> 120 | BD10: =VLOOKUP(A10,[1]高一下!$A$1:$Q$584,8,0) -> 余玉红 | BE10: =VLOOKUP(A10,[1]高一下!$A$1:$Q$584,9,0) -> 76 | BF10: =VLOOKUP(A10,[1]高一下!$A$1:$Q$584,10,0) -> 胡昌燕 | BG10: =VLOOKUP(A10,[1]高一下!$A$1:$Q$584,11,0) -> 58 | BH10: =VLOOKUP(A10,[1]高一下!$A$1:$Q$584,12,0) -> 杨吉华 | BI10: =VLOOKUP(A10,[1]高一下!$A$1:$Q$584,13,0) -> 58 | BJ10: =VLOOKUP(A10,[1]高一下!$A$1:$Q$584,14,0) -> 胡慧芳 | BK10: =VLOOKUP(A10,[1]高一下!$A$1:$Q$584,15,0) -> 60 | BL10: =VLOOKUP(A10,[1]高一下!$A$1:$Q$584,16,0) -> 金贵 | BM10: =VLOOKUP(A10,[1]高一上!A$1:W$612,5,0) -> 83 | BN10: =VLOOKUP(A10,[1]高一上!A$1:W$612,6,0) -> 叶屏 | BO10: =VLOOKUP(A10,[1]高一上!A$1:W$612,7,0) -> 77 | BP10: =VLOOKUP(A10,[1]高一上!A$1:W$612,8,0) -> 余玉红 | BQ10: =VLOOKUP(A10,[1]高一上!A$1:W$612,9,0) -> 64.5 | BR10: =VLOOKUP(A10,[1]高一上!A$1:W$612,10,0) -> 胡昌燕 | BS10: =VLOOKUP(A10,[1]高一上!A$1:W$612,17,0) -> 71 | BT10: =VLOOKUP(A10,[1]高一上!A$1:W$612,18,0) -> 杨吉华 | BU10: =VLOOKUP(A10,[1]高一上!A$1:W$612,19,0) -> 64 | BV10: =VLOOKUP(A10,[1]高一上!A$1:W$612,20,0) -> 胡慧芳 | BW10: =VLOOKUP(A10,[1]高一上!A$1:W$612,21,0) -> 72 | BX10: =VLOOKUP(A10,[1]高一上!A$1:W$612,22,0) -> 金贵 | BY10: =VLOOKUP(A10,[1]中考!A$1:N$590,5,0) -> 93 | BZ10: =VLOOKUP(A10,[1]中考!A$1:N$590,6,0) -> 81 | CA10: =VLOOKUP(A10,[1]中考!A$1:N$590,7,0) -> 69 | CB10: =VLOOKUP(A10,[1]中考!A$1:N$590,11,0) -> 40 | CC10: =VLOOKUP(A10,[1]中考!A$1:N$590,12,0) -> 40 | CD10: =VLOOKUP(A10,[1]中考!A$1:N$590,13,0) -> 40
A11: 513422200301013622 | B11: 1 | C11: 祝玛央宗 | D11: 文科 | E11: 105 | F11: 叶屏 | G11: 87 | H11: 余玉红 | I11: 114 | J11: 胡昌燕 | K11: 67 | L11: 卢银楷 | M11: 65 | N11: 胡慧芳 | O11: 49 | P11: 金贵 | Q11: =VLOOKUP(A11,[1]高三上!A$3:Q$629,5,0) -> 108 | R11: =VLOOKUP(A11,[1]高三上!A$3:Q$629,6,0) -> 叶屏 | S11: =VLOOKUP(A11,[1]高三上!A$3:Q$629,7,0) -> 67 | T11: =VLOOKUP(A11,[1]高三上!A$3:Q$629,8,0) -> 余玉红 | U11: =VLOOKUP(A11,[1]高三上!A$3:Q$629,9,0) -> 124 | V11: =VLOOKUP(A11,[1]高三上!A$3:Q$629,10,0) -> 胡昌燕 | W11: =VLOOKUP(A11,[1]高三上!A$3:Q$629,11,0) -> 71 | X11: =VLOOKUP(A11,[1]高三上!A$3:Q$629,12,0) -> 卢银楷 | Y11: =VLOOKUP(A11,[1]高三上!A$3:Q$629,13,0) -> 56 | Z11: =VLOOKUP(A11,[1]高三上!A$3:Q$629,14,0) -> 胡慧芳 | AA11: =VLOOKUP(A11,[1]高三上!A$3:Q$629,15,0) -> 43 | AB11: =VLOOKUP(A11,[1]高三上!A$3:Q$629,16,0) -> 金贵 | AC11: =VLOOKUP(A11,[1]高二下!A$1:Q$618,5,0) -> 97 | AD11: =VLOOKUP(A11,[1]高二下!A$1:Q$618,6,0) -> 叶屏 | AE11: =VLOOKUP(A11,[1]高二下!A$1:Q$618,7,0) -> 65.5 | AF11: =VLOOKUP(A11,[1]高二下!A$1:Q$618,8,0) -> 余玉红 | AG11: =VLOOKUP(A11,[1]高二下!A$1:Q$618,9,0) -> 99.5 | AH11: =VLOOKUP(A11,[1]高二下!A$1:Q$618,10,0) -> 胡昌燕 | AI11: =VLOOKUP(A11,[1]高二下!A$1:Q$618,11,0) -> 58.5 | AJ11: =VLOOKUP(A11,[1]高二下!A$1:Q$618,12,0) -> 卢银楷 | AK11: =VLOOKUP(A11,[1]高二下!A$1:Q$618,13,0) -> 39 | AL11: =VLOOKUP(A11,[1]高二下!A$1:Q$618,14,0) -> 胡慧芳 | AM11: =VLOOKUP(A11,[1]高二下!A$1:Q$618,15,0) -> 56 | AN11: =VLOOKUP(A11,[1]高二下!A$1:Q$618,16,0) -> 金贵 | AO11: =VLOOKUP(A11,[1]高二上!A$1:Q$571,5,0) -> #N/A | AP11: =VLOOKUP(A11,[1]高二上!A$1:Q$571,6,0) -> #N/A | AQ11: =VLOOKUP(A11,[1]高二上!A$1:Q$571,7,0) -> #N/A | AR11: =VLOOKUP(A11,[1]高二上!A$1:Q$571,8,0) -> #N/A | AS11: =VLOOKUP(A11,[1]高二上!A$1:Q$571,9,0) -> #N/A | AT11: =VLOOKUP(A11,[1]高二上!A$1:Q$571,10,0) -> #N/A | AU11: =VLOOKUP(A11,[1]高二上!A$1:Q$571,11,0) -> #N/A | AV11: =VLOOKUP(A11,[1]高二上!A$1:Q$571,12,0) -> #N/A | AW11: =VLOOKUP(A11,[1]高二上!A$1:Q$571,13,0) -> #N/A | AX11: =VLOOKUP(A11,[1]高二上!A$1:Q$571,14,0) -> #N/A | AY11: =VLOOKUP(A11,[1]高二上!A$1:Q$571,15,0) -> #N/A | AZ11: =VLOOKUP(A11,[1]高二上!A$1:Q$571,16,0) -> #N/A | BA11: =VLOOKUP(A11,[1]高一下!$A$1:$Q$584,5,0) -> #N/A | BB11: =VLOOKUP(A11,[1]高一下!$A$1:$Q$584,6,0) -> #N/A | BC11: =VLOOKUP(A11,[1]高一下!$A$1:$Q$584,7,0) -> #N/A | BD11: =VLOOKUP(A11,[1]高一下!$A$1:$Q$584,8,0) -> #N/A | BE11: =VLOOKUP(A11,[1]高一下!$A$1:$Q$584,9,0) -> #N/A | BF11: =VLOOKUP(A11,[1]高一下!$A$1:$Q$584,10,0) -> #N/A | BG11: =VLOOKUP(A11,[1]高一下!$A$1:$Q$584,11,0) -> #N/A | BH11: =VLOOKUP(A11,[1]高一下!$A$1:$Q$584,12,0) -> #N/A | BI11: =VLOOKUP(A11,[1]高一下!$A$1:$Q$584,13,0) -> #N/A | BJ11: =VLOOKUP(A11,[1]高一下!$A$1:$Q$584,14,0) -> #N/A | BK11: =VLOOKUP(A11,[1]高一下!$A$1:$Q$584,15,0) -> #N/A | BL11: =VLOOKUP(A11,[1]高一下!$A$1:$Q$584,16,0) -> #N/A | BM11: =VLOOKUP(A11,[1]高一上!A$1:W$612,5,0) -> #N/A | BN11: =VLOOKUP(A11,[1]高一上!A$1:W$612,6,0) -> #N/A | BO11: =VLOOKUP(A11,[1]高一上!A$1:W$612,7,0) -> #N/A | BP11: =VLOOKUP(A11,[1]高一上!A$1:W$612,8,0) -> #N/A | BQ11: =VLOOKUP(A11,[1]高一上!A$1:W$612,9,0) -> #N/A | BR11: =VLOOKUP(A11,[1]高一上!A$1:W$612,10,0) -> #N/A | BS11: =VLOOKUP(A11,[1]高一上!A$1:W$612,17,0) -> #N/A | BT11: =VLOOKUP(A11,[1]高一上!A$1:W$612,18,0) -> #N/A | BU11: =VLOOKUP(A11,[1]高一上!A$1:W$612,19,0) -> #N/A | BV11: =VLOOKUP(A11,[1]高一上!A$1:W$612,20,0) -> #N/A | BW11: =VLOOKUP(A11,[1]高一上!A$1:W$612,21,0) -> #N/A | BX11: =VLOOKUP(A11,[1]高一上!A$1:W$612,22,0) -> #N/A | BY11: =VLOOKUP(A11,[1]中考!A$1:N$590,5,0) -> #N/A | BZ11: =VLOOKUP(A11,[1]中考!A$1:N$590,6,0) -> #N/A | CA11: =VLOOKUP(A11,[1]中考!A$1:N$590,7,0) -> #N/A | CB11: =VLOOKUP(A11,[1]中考!A$1:N$590,11,0) -> #N/A | CC11: =VLOOKUP(A11,[1]中考!A$1:N$590,12,0) -> #N/A | CD11: =VLOOKUP(A11,[1]中考!A$1:N$590,13,0) -> #N/A
A12: 513422200405166420 | B12: 1 | C12: 阿崩 | D12: 文科 | E12: 105 | F12: 叶屏 | G12: 84 | H12: 余玉红 | I12: 107 | J12: 胡昌燕 | K12: 61.5 | L12: 卢银楷 | M12: 71.5 | N12: 胡慧芳 | O12: 53 | P12: 金贵 | Q12: =VLOOKUP(A12,[1]高三上!A$3:Q$629,5,0) -> 98 | R12: =VLOOKUP(A12,[1]高三上!A$3:Q$629,6,0) -> 叶屏 | S12: =VLOOKUP(A12,[1]高三上!A$3:Q$629,7,0) -> 59 | T12: =VLOOKUP(A12,[1]高三上!A$3:Q$629,8,0) -> 余玉红 | U12: =VLOOKUP(A12,[1]高三上!A$3:Q$629,9,0) -> 88.5 | V12: =VLOOKUP(A12,[1]高三上!A$3:Q$629,10,0) -> 胡昌燕 | W12: =VLOOKUP(A12,[1]高三上!A$3:Q$629,11,0) -> 72 | X12: =VLOOKUP(A12,[1]高三上!A$3:Q$629,12,0) -> 卢银楷 | Y12: =VLOOKUP(A12,[1]高三上!A$3:Q$629,13,0) -> 53 | Z12: =VLOOKUP(A12,[1]高三上!A$3:Q$629,14,0) -> 胡慧芳 | AA12: =VLOOKUP(A12,[1]高三上!A$3:Q$629,15,0) -> 37 | AB12: =VLOOKUP(A12,[1]高三上!A$3:Q$629,16,0) -> 金贵 | AC12: =VLOOKUP(A12,[1]高二下!A$1:Q$618,5,0) -> 97 | AD12: =VLOOKUP(A12,[1]高二下!A$1:Q$618,6,0) -> 叶屏 | AE12: =VLOOKUP(A12,[1]高二下!A$1:Q$618,7,0) -> 58.5 | AF12: =VLOOKUP(A12,[1]高二下!A$1:Q$618,8,0) -> 余玉红 | AG12: =VLOOKUP(A12,[1]高二下!A$1:Q$618,9,0) -> 95 | AH12: =VLOOKUP(A12,[1]高二下!A$1:Q$618,10,0) -> 胡昌燕 | AI12: =VLOOKUP(A12,[1]高二下!A$1:Q$618,11,0) -> 59 | AJ12: =VLOOKUP(A12,[1]高二下!A$1:Q$618,12,0) -> 卢银楷 | AK12: =VLOOKUP(A12,[1]高二下!A$1:Q$618,13,0) -> 57.5 | AL12: =VLOOKUP(A12,[1]高二下!A$1:Q$618,14,0) -> 胡慧芳 | AM12: =VLOOKUP(A12,[1]高二下!A$1:Q$618,15,0) -> 49 | AN12: =VLOOKUP(A12,[1]高二下!A$1:Q$618,16,0) -> 金贵 | AO12: =VLOOKUP(A12,[1]高二上!A$1:Q$571,5,0) -> 99 | AP12: =VLOOKUP(A12,[1]高二上!A$1:Q$571,6,0) -> 叶屏 | AQ12: =VLOOKUP(A12,[1]高二上!A$1:Q$571,7,0) -> 88 | AR12: =VLOOKUP(A12,[1]高二上!A$1:Q$571,8,0) -> 余玉红 | AS12: =VLOOKUP(A12,[1]高二上!A$1:Q$571,9,0) -> 108.5 | AT12: =VLOOKUP(A12,[1]高二上!A$1:Q$571,10,0) -> 胡昌燕 | AU12: =VLOOKUP(A12,[1]高二上!A$1:Q$571,11,0) -> 55 | AV12: =VLOOKUP(A12,[1]高二上!A$1:Q$571,12,0) -> 卢银楷 | AW12: =VLOOKUP(A12,[1]高二上!A$1:Q$571,13,0) -> 79 | AX12: =VLOOKUP(A12,[1]高二上!A$1:Q$571,14,0) -> 胡慧芳 | AY12: =VLOOKUP(A12,[1]高二上!A$1:Q$571,15,0) -> 56 | AZ12: =VLOOKUP(A12,[1]高二上!A$1:Q$571,16,0) -> 金贵 | BA12: =VLOOKUP(A12,[1]高一下!$A$1:$Q$584,5,0) -> 89 | BB12: =VLOOKUP(A12,[1]高一下!$A$1:$Q$584,6,0) -> 叶屏 | BC12: =VLOOKUP(A12,[1]高一下!$A$1:$Q$584,7,0) -> 97 | BD12: =VLOOKUP(A12,[1]高一下!$A$1:$Q$584,8,0) -> 余玉红 | BE12: =VLOOKUP(A12,[1]高一下!$A$1:$Q$584,9,0) -> 101.5 | BF12: =VLOOKUP(A12,[1]高一下!$A$1:$Q$584,10,0) -> 胡昌燕 | BG12: =VLOOKUP(A12,[1]高一下!$A$1:$Q$584,11,0) -> 59 | BH12: =VLOOKUP(A12,[1]高一下!$A$1:$Q$584,12,0) -> 杨吉华 | BI12: =VLOOKUP(A12,[1]高一下!$A$1:$Q$584,13,0) -> 55 | BJ12: =VLOOKUP(A12,[1]高一下!$A$1:$Q$584,14,0) -> 胡慧芳 | BK12: =VLOOKUP(A12,[1]高一下!$A$1:$Q$584,15,0) -> 47 | BL12: =VLOOKUP(A12,[1]高一下!$A$1:$Q$584,16,0) -> 金贵 | BM12: =VLOOKUP(A12,[1]高一上!A$1:W$612,5,0) -> 76 | BN12: =VLOOKUP(A12,[1]高一上!A$1:W$612,6,0) -> 叶屏 | BO12: =VLOOKUP(A12,[1]高一上!A$1:W$612,7,0) -> 44 | BP12: =VLOOKUP(A12,[1]高一上!A$1:W$612,8,0) -> 余玉红 | BQ12: =VLOOKUP(A12,[1]高一上!A$1:W$612,9,0) -> 82 | BR12: =VLOOKUP(A12,[1]高一上!A$1:W$612,10,0) -> 胡昌燕 | BS12: =VLOOKUP(A12,[1]高一上!A$1:W$612,17,0) -> 36 | BT12: =VLOOKUP(A12,[1]高一上!A$1:W$612,18,0) -> 杨吉华 | BU12: =VLOOKUP(A12,[1]高一上!A$1:W$612,19,0) -> 42 | BV12: =VLOOKUP(A12,[1]高一上!A$1:W$612,20,0) -> 胡慧芳 | BW12: =VLOOKUP(A12,[1]高一上!A$1:W$612,21,0) -> 39 | BX12: =VLOOKUP(A12,[1]高一上!A$1:W$612,22,0) -> 金贵 | BY12: =VLOOKUP(A12,[1]中考!A$1:N$590,5,0) -> 89 | BZ12: =VLOOKUP(A12,[1]中考!A$1:N$590,6,0) -> 66 | CA12: =VLOOKUP(A12,[1]中考!A$1:N$590,7,0) -> 112 | CB12: =VLOOKUP(A12,[1]中考!A$1:N$590,11,0) -> 21 | CC12: =VLOOKUP(A12,[1]中考!A$1:N$590,12,0) -> 29 | CD12: =VLOOKUP(A12,[1]中考!A$1:N$590,13,0) -> 26
A13: 513422200608150728 | B13: 1 | C13: 杨贵秀 | D13: 文科 | E13: 113 | F13: 叶屏 | G13: 87 | H13: 余玉红 | I13: 104 | J13: 胡昌燕 | K13: 61 | L13: 卢银楷 | M13: 71 | N13: 胡慧芳 | O13: 39 | P13: 金贵 | Q13: =VLOOKUP(A13,[1]高三上!A$3:Q$629,5,0) -> 103 | R13: =VLOOKUP(A13,[1]高三上!A$3:Q$629,6,0) -> 叶屏 | S13: =VLOOKUP(A13,[1]高三上!A$3:Q$629,7,0) -> 80 | T13: =VLOOKUP(A13,[1]高三上!A$3:Q$629,8,0) -> 余玉红 | U13: =VLOOKUP(A13,[1]高三上!A$3:Q$629,9,0) -> 113.5 | V13: =VLOOKUP(A13,[1]高三上!A$3:Q$629,10,0) -> 胡昌燕 | W13: =VLOOKUP(A13,[1]高三上!A$3:Q$629,11,0) -> 57 | X13: =VLOOKUP(A13,[1]高三上!A$3:Q$629,12,0) -> 卢银楷 | Y13: =VLOOKUP(A13,[1]高三上!A$3:Q$629,13,0) -> 59 | Z13: =VLOOKUP(A13,[1]高三上!A$3:Q$629,14,0) -> 胡慧芳 | AA13: =VLOOKUP(A13,[1]高三上!A$3:Q$629,15,0) -> 52 | AB13: =VLOOKUP(A13,[1]高三上!A$3:Q$629,16,0) -> 金贵 | AC13: =VLOOKUP(A13,[1]高二下!A$1:Q$618,5,0) -> 99 | AD13: =VLOOKUP(A13,[1]高二下!A$1:Q$618,6,0) -> 叶屏 | AE13: =VLOOKUP(A13,[1]高二下!A$1:Q$618,7,0) -> 83 | AF13: =VLOOKUP(A13,[1]高二下!A$1:Q$618,8,0) -> 余玉红 | AG13: =VLOOKUP(A13,[1]高二下!A$1:Q$618,9,0) -> 104.5 | AH13: =VLOOKUP(A13,[1]高二下!A$1:Q$618,10,0) -> 胡昌燕 | AI13: =VLOOKUP(A13,[1]高二下!A$1:Q$618,11,0) -> 60.5 | AJ13: =VLOOKUP(A13,[1]高二下!A$1:Q$618,12,0) -> 卢银楷 | AK13: =VLOOKUP(A13,[1]高二下!A$1:Q$618,13,0) -> 76.5 | AL13: =VLOOKUP(A13,[1]高二下!A$1:Q$618,14,0) -> 胡慧芳 | AM13: =VLOOKUP(A13,[1]高二下!A$1:Q$618,15,0) -> 51 | AN13: =VLOOKUP(A13,[1]高二下!A$1:Q$618,16,0) -> 金贵 | AO13: =VLOOKUP(A13,[1]高二上!A$1:Q$571,5,0) -> 104 | AP13: =VLOOKUP(A13,[1]高二上!A$1:Q$571,6,0) -> 叶屏 | AQ13: =VLOOKUP(A13,[1]高二上!A$1:Q$571,7,0) -> 105 | AR13: =VLOOKUP(A13,[1]高二上!A$1:Q$571,8,0) -> 余玉红 | AS13: =VLOOKUP(A13,[1]高二上!A$1:Q$571,9,0) -> 99 | AT13: =VLOOKUP(A13,[1]高二上!A$1:Q$571,10,0) -> 胡昌燕 | AU13: =VLOOKUP(A13,[1]高二上!A$1:Q$571,11,0) -> 63 | AV13: =VLOOKUP(A13,[1]高二上!A$1:Q$571,12,0) -> 卢银楷 | AW13: =VLOOKUP(A13,[1]高二上!A$1:Q$571,13,0) -> 65 | AX13: =VLOOKUP(A13,[1]高二上!A$1:Q$571,14,0) -> 胡慧芳 | AY13: =VLOOKUP(A13,[1]高二上!A$1:Q$571,15,0) -> 41 | AZ13: =VLOOKUP(A13,[1]高二上!A$1:Q$571,16,0) -> 金贵 | BA13: =VLOOKUP(A13,[1]高一下!$A$1:$Q$584,5,0) -> 96 | BB13: =VLOOKUP(A13,[1]高一下!$A$1:$Q$584,6,0) -> 叶屏 | BC13: =VLOOKUP(A13,[1]高一下!$A$1:$Q$584,7,0) -> 83 | BD13: =VLOOKUP(A13,[1]高一下!$A$1:$Q$584,8,0) -> 余玉红 | BE13: =VLOOKUP(A13,[1]高一下!$A$1:$Q$584,9,0) -> 93.5 | BF13: =VLOOKUP(A13,[1]高一下!$A$1:$Q$584,10,0) -> 胡昌燕 | BG13: =VLOOKUP(A13,[1]高一下!$A$1:$Q$584,11,0) -> 62 | BH13: =VLOOKUP(A13,[1]高一下!$A$1:$Q$584,12,0) -> 杨吉华 | BI13: =VLOOKUP(A13,[1]高一下!$A$1:$Q$584,13,0) -> 46 | BJ13: =VLOOKUP(A13,[1]高一下!$A$1:$Q$584,14,0) -> 胡慧芳 | BK13: =VLOOKUP(A13,[1]高一下!$A$1:$Q$584,15,0) -> 53 | BL13: =VLOOKUP(A13,[1]高一下!$A$1:$Q$584,16,0) -> 金贵 | BM13: =VLOOKUP(A13,[1]高一上!A$1:W$612,5,0) -> 81 | BN13: =VLOOKUP(A13,[1]高一上!A$1:W$612,6,0) -> 叶屏 | BO13: =VLOOKUP(A13,[1]高一上!A$1:W$612,7,0) -> 78 | BP13: =VLOOKUP(A13,[1]高一上!A$1:W$612,8,0) -> 余玉红 | BQ13: =VLOOKUP(A13,[1]高一上!A$1:W$612,9,0) -> 83.5 | BR13: =VLOOKUP(A13,[1]高一上!A$1:W$612,10,0) -> 胡昌燕 | BS13: =VLOOKUP(A13,[1]高一上!A$1:W$612,17,0) -> 73 | BT13: =VLOOKUP(A13,[1]高一上!A$1:W$612,18,0) -> 杨吉华 | BU13: =VLOOKUP(A13,[1]高一上!A$1:W$612,19,0) -> 39 | BV13: =VLOOKUP(A13,[1]高一上!A$1:W$612,20,0) -> 胡慧芳 | BW13: =VLOOKUP(A13,[1]高一上!A$1:W$612,21,0) -> 53 | BX13: =VLOOKUP(A13,[1]高一上!A$1:W$612,22,0) -> 金贵 | BY13: =VLOOKUP(A13,[1]中考!A$1:N$590,5,0) -> 96 | BZ13: =VLOOKUP(A13,[1]中考!A$1:N$590,6,0) -> 85 | CA13: =VLOOKUP(A13,[1]中考!A$1:N$590,7,0) -> 90 | CB13: =VLOOKUP(A13,[1]中考!A$1:N$590,11,0) -> 17 | CC13: =VLOOKUP(A13,[1]中考!A$1:N$590,12,0) -> 39 | CD13: =VLOOKUP(A13,[1]中考!A$1:N$590,13,0) -> 28
A14: 513423200501083111 | B14: 1 | C14: 杨小勇 | D14: 文科 | E14: 105 | F14: 叶屏 | G14: 98 | H14: 余玉红 | I14: 96 | J14: 胡昌燕 | K14: 66 | L14: 卢银楷 | M14: 65.5 | N14: 胡慧芳 | O14: 42 | P14: 金贵 | Q14: =VLOOKUP(A14,[1]高三上!A$3:Q$629,5,0) -> 98 | R14: =VLOOKUP(A14,[1]高三上!A$3:Q$629,6,0) -> 叶屏 | S14: =VLOOKUP(A14,[1]高三上!A$3:Q$629,7,0) -> 49 | T14: =VLOOKUP(A14,[1]高三上!A$3:Q$629,8,0) -> 余玉红 | U14: =VLOOKUP(A14,[1]高三上!A$3:Q$629,9,0) -> 99 | V14: =VLOOKUP(A14,[1]高三上!A$3:Q$629,10,0) -> 胡昌燕 | W14: =VLOOKUP(A14,[1]高三上!A$3:Q$629,11,0) -> 66 | X14: =VLOOKUP(A14,[1]高三上!A$3:Q$629,12,0) -> 卢银楷 | Y14: =VLOOKUP(A14,[1]高三上!A$3:Q$629,13,0) -> 65 | Z14: =VLOOKUP(A14,[1]高三上!A$3:Q$629,14,0) -> 胡慧芳 | AA14: =VLOOKUP(A14,[1]高三上!A$3:Q$629,15,0) -> 41 | AB14: =VLOOKUP(A14,[1]高三上!A$3:Q$629,16,0) -> 金贵 | AC14: =VLOOKUP(A14,[1]高二下!A$1:Q$618,5,0) -> 83.5 | AD14: =VLOOKUP(A14,[1]高二下!A$1:Q$618,6,0) -> 叶屏 | AE14: =VLOOKUP(A14,[1]高二下!A$1:Q$618,7,0) -> 88 | AF14: =VLOOKUP(A14,[1]高二下!A$1:Q$618,8,0) -> 余玉红 | AG14: =VLOOKUP(A14,[1]高二下!A$1:Q$618,9,0) -> 83.5 | AH14: =VLOOKUP(A14,[1]高二下!A$1:Q$618,10,0) -> 胡昌燕 | AI14: =VLOOKUP(A14,[1]高二下!A$1:Q$618,11,0) -> 56.5 | AJ14: =VLOOKUP(A14,[1]高二下!A$1:Q$618,12,0) -> 卢银楷 | AK14: =VLOOKUP(A14,[1]高二下!A$1:Q$618,13,0) -> 67.5 | AL14: =VLOOKUP(A14,[1]高二下!A$1:Q$618,14,0) -> 胡慧芳 | AM14: =VLOOKUP(A14,[1]高二下!A$1:Q$618,15,0) -> 42 | AN14: =VLOOKUP(A14,[1]高二下!A$1:Q$618,16,0) -> 金贵 | AO14: =VLOOKUP(A14,[1]高二上!A$1:Q$571,5,0) -> #N/A | AP14: =VLOOKUP(A14,[1]高二上!A$1:Q$571,6,0) -> #N/A | AQ14: =VLOOKUP(A14,[1]高二上!A$1:Q$571,7,0) -> #N/A | AR14: =VLOOKUP(A14,[1]高二上!A$1:Q$571,8,0) -> #N/A | AS14: =VLOOKUP(A14,[1]高二上!A$1:Q$571,9,0) -> #N/A | AT14: =VLOOKUP(A14,[1]高二上!A$1:Q$571,10,0) -> #N/A | AU14: =VLOOKUP(A14,[1]高二上!A$1:Q$571,11,0) -> #N/A | AV14: =VLOOKUP(A14,[1]高二上!A$1:Q$571,12,0) -> #N/A | AW14: =VLOOKUP(A14,[1]高二上!A$1:Q$571,13,0) -> #N/A | AX14: =VLOOKUP(A14,[1]高二上!A$1:Q$571,14,0) -> #N/A | AY14: =VLOOKUP(A14,[1]高二上!A$1:Q$571,15,0) -> #N/A | AZ14: =VLOOKUP(A14,[1]高二上!A$1:Q$571,16,0) -> #N/A | BA14: =VLOOKUP(A14,[1]高一下!$A$1:$Q$584,5,0) -> #N/A | BB14: =VLOOKUP(A14,[1]高一下!$A$1:$Q$584,6,0) -> #N/A | BC14: =VLOOKUP(A14,[1]高一下!$A$1:$Q$584,7,0) -> #N/A | BD14: =VLOOKUP(A14,[1]高一下!$A$1:$Q$584,8,0) -> #N/A | BE14: =VLOOKUP(A14,[1]高一下!$A$1:$Q$584,9,0) -> #N/A | BF14: =VLOOKUP(A14,[1]高一下!$A$1:$Q$584,10,0) -> #N/A | BG14: =VLOOKUP(A14,[1]高一下!$A$1:$Q$584,11,0) -> #N/A | BH14: =VLOOKUP(A14,[1]高一下!$A$1:$Q$584,12,0) -> #N/A | BI14: =VLOOKUP(A14,[1]高一下!$A$1:$Q$584,13,0) -> #N/A | BJ14: =VLOOKUP(A14,[1]高一下!$A$1:$Q$584,14,0) -> #N/A | BK14: =VLOOKUP(A14,[1]高一下!$A$1:$Q$584,15,0) -> #N/A | BL14: =VLOOKUP(A14,[1]高一下!$A$1:$Q$584,16,0) -> #N/A | BM14: =VLOOKUP(A14,[1]高一上!A$1:W$612,5,0) -> #N/A | BN14: =VLOOKUP(A14,[1]高一上!A$1:W$612,6,0) -> #N/A | BO14: =VLOOKUP(A14,[1]高一上!A$1:W$612,7,0) -> #N/A | BP14: =VLOOKUP(A14,[1]高一上!A$1:W$612,8,0) -> #N/A | BQ14: =VLOOKUP(A14,[1]高一上!A$1:W$612,9,0) -> #N/A | BR14: =VLOOKUP(A14,[1]高一上!A$1:W$612,10,0) -> #N/A | BS14: =VLOOKUP(A14,[1]高一上!A$1:W$612,17,0) -> #N/A | BT14: =VLOOKUP(A14,[1]高一上!A$1:W$612,18,0) -> #N/A | BU14: =VLOOKUP(A14,[1]高一上!A$1:W$612,19,0) -> #N/A | BV14: =VLOOKUP(A14,[1]高一上!A$1:W$612,20,0) -> #N/A | BW14: =VLOOKUP(A14,[1]高一上!A$1:W$612,21,0) -> #N/A | BX14: =VLOOKUP(A14,[1]高一上!A$1:W$612,22,0) -> #N/A | BY14: =VLOOKUP(A14,[1]中考!A$1:N$590,5,0) -> #N/A | BZ14: =VLOOKUP(A14,[1]中考!A$1:N$590,6,0) -> #N/A | CA14: =VLOOKUP(A14,[1]中考!A$1:N$590,7,0) -> #N/A | CB14: =VLOOKUP(A14,[1]中考!A$1:N$590,11,0) -> #N/A | CC14: =VLOOKUP(A14,[1]中考!A$1:N$590,12,0) -> #N/A | CD14: =VLOOKUP(A14,[1]中考!A$1:N$590,13,0) -> #N/A
A15: 513422200508141111 | B15: 1 | C15: 朱建龙 | D15: 文科 | E15: 107 | F15: 叶屏 | G15: 94 | H15: 余玉红 | I15: 90 | J15: 胡昌燕 | K15: 69 | L15: 卢银楷 | M15: 55 | N15: 胡慧芳 | O15: 54 | P15: 金贵 | Q15: =VLOOKUP(A15,[1]高三上!A$3:Q$629,5,0) -> 119 | R15: =VLOOKUP(A15,[1]高三上!A$3:Q$629,6,0) -> 叶屏 | S15: =VLOOKUP(A15,[1]高三上!A$3:Q$629,7,0) -> 67 | T15: =VLOOKUP(A15,[1]高三上!A$3:Q$629,8,0) -> 余玉红 | U15: =VLOOKUP(A15,[1]高三上!A$3:Q$629,9,0) -> 102.5 | V15: =VLOOKUP(A15,[1]高三上!A$3:Q$629,10,0) -> 胡昌燕 | W15: =VLOOKUP(A15,[1]高三上!A$3:Q$629,11,0) -> 67 | X15: =VLOOKUP(A15,[1]高三上!A$3:Q$629,12,0) -> 卢银楷 | Y15: =VLOOKUP(A15,[1]高三上!A$3:Q$629,13,0) -> 61 | Z15: =VLOOKUP(A15,[1]高三上!A$3:Q$629,14,0) -> 胡慧芳 | AA15: =VLOOKUP(A15,[1]高三上!A$3:Q$629,15,0) -> 51 | AB15: =VLOOKUP(A15,[1]高三上!A$3:Q$629,16,0) -> 金贵 | AC15: =VLOOKUP(A15,[1]高二下!A$1:Q$618,5,0) -> 98 | AD15: =VLOOKUP(A15,[1]高二下!A$1:Q$618,6,0) -> 叶屏 | AE15: =VLOOKUP(A15,[1]高二下!A$1:Q$618,7,0) -> 66.5 | AF15: =VLOOKUP(A15,[1]高二下!A$1:Q$618,8,0) -> 余玉红 | AG15: =VLOOKUP(A15,[1]高二下!A$1:Q$618,9,0) -> 98.5 | AH15: =VLOOKUP(A15,[1]高二下!A$1:Q$618,10,0) -> 胡昌燕 | AI15: =VLOOKUP(A15,[1]高二下!A$1:Q$618,11,0) -> 45.5 | AJ15: =VLOOKUP(A15,[1]高二下!A$1:Q$618,12,0) -> 卢银楷 | AK15: =VLOOKUP(A15,[1]高二下!A$1:Q$618,13,0) -> 55.5 | AL15: =VLOOKUP(A15,[1]高二下!A$1:Q$618,14,0) -> 胡慧芳 | AM15: =VLOOKUP(A15,[1]高二下!A$1:Q$618,15,0) -> 47 | AN15: =VLOOKUP(A15,[1]高二下!A$1:Q$618,16,0) -> 金贵 | AO15: =VLOOKUP(A15,[1]高二上!A$1:Q$571,5,0) -> 102 | AP15: =VLOOKUP(A15,[1]高二上!A$1:Q$571,6,0) -> 叶屏 | AQ15: =VLOOKUP(A15,[1]高二上!A$1:Q$571,7,0) -> 98 | AR15: =VLOOKUP(A15,[1]高二上!A$1:Q$571,8,0) -> 余玉红 | AS15: =VLOOKUP(A15,[1]高二上!A$1:Q$571,9,0) -> 92.5 | AT15: =VLOOKUP(A15,[1]高二上!A$1:Q$571,10,0) -> 胡昌燕 | AU15: =VLOOKUP(A15,[1]高二上!A$1:Q$571,11,0) -> 50 | AV15: =VLOOKUP(A15,[1]高二上!A$1:Q$571,12,0) -> 卢银楷 | AW15: =VLOOKUP(A15,[1]高二上!A$1:Q$571,13,0) -> 79 | AX15: =VLOOKUP(A15,[1]高二上!A$1:Q$571,14,0) -> 胡慧芳 | AY15: =VLOOKUP(A15,[1]高二上!A$1:Q$571,15,0) -> 67 | AZ15: =VLOOKUP(A15,[1]高二上!A$1:Q$571,16,0) -> 金贵 | BA15: =VLOOKUP(A15,[1]高一下!$A$1:$Q$584,5,0) -> 94 | BB15: =VLOOKUP(A15,[1]高一下!$A$1:$Q$584,6,0) -> 叶屏 | BC15: =VLOOKUP(A15,[1]高一下!$A$1:$Q$584,7,0) -> 76 | BD15: =VLOOKUP(A15,[1]高一下!$A$1:$Q$584,8,0) -> 余玉红 | BE15: =VLOOKUP(A15,[1]高一下!$A$1:$Q$584,9,0) -> 85.5 | BF15: =VLOOKUP(A15,[1]高一下!$A$1:$Q$584,10,0) -> 胡昌燕 | BG15: =VLOOKUP(A15,[1]高一下!$A$1:$Q$584,11,0) -> 60 | BH15: =VLOOKUP(A15,[1]高一下!$A$1:$Q$584,12,0) -> 杨吉华 | BI15: =VLOOKUP(A15,[1]高一下!$A$1:$Q$584,13,0) -> 50 | BJ15: =VLOOKUP(A15,[1]高一下!$A$1:$Q$584,14,0) -> 胡慧芳 | BK15: =VLOOKUP(A15,[1]高一下!$A$1:$Q$584,15,0) -> 59 | BL15: =VLOOKUP(A15,[1]高一下!$A$1:$Q$584,16,0) -> 金贵 | BM15: =VLOOKUP(A15,[1]高一上!A$1:W$612,5,0) -> 67 | BN15: =VLOOKUP(A15,[1]高一上!A$1:W$612,6,0) -> 叶屏 | BO15: =VLOOKUP(A15,[1]高一上!A$1:W$612,7,0) -> 57 | BP15: =VLOOKUP(A15,[1]高一上!A$1:W$612,8,0) -> 余玉红 | BQ15: =VLOOKUP(A15,[1]高一上!A$1:W$612,9,0) -> 100 | BR15: =VLOOKUP(A15,[1]高一上!A$1:W$612,10,0) -> 胡昌燕 | BS15: =VLOOKUP(A15,[1]高一上!A$1:W$612,17,0) -> 70 | BT15: =VLOOKUP(A15,[1]高一上!A$1:W$612,18,0) -> 杨吉华 | BU15: =VLOOKUP(A15,[1]高一上!A$1:W$612,19,0) -> 39 | BV15: =VLOOKUP(A15,[1]高一上!A$1:W$612,20,0) -> 胡慧芳 | BW15: =VLOOKUP(A15,[1]高一上!A$1:W$612,21,0) -> 51 | BX15: =VLOOKUP(A15,[1]高一上!A$1:W$612,22,0) -> 金贵 | BY15: =VLOOKUP(A15,[1]中考!A$1:N$590,5,0) -> 91 | BZ15: =VLOOKUP(A15,[1]中考!A$1:N$590,6,0) -> 65 | CA15: =VLOOKUP(A15,[1]中考!A$1:N$590,7,0) -> 121 | CB15: =VLOOKUP(A15,[1]中考!A$1:N$590,11,0) -> 30 | CC15: =VLOOKUP(A15,[1]中考!A$1:N$590,12,0) -> 28 | CD15: =VLOOKUP(A15,[1]中考!A$1:N$590,13,0) -> 39
... A146: 513422200107034219 | B146: 3 | C146: 阿巴杜基 | D146: 文科 | E146: 100 | F146: 曹霞 | G146: 87 | H146: 余玉红 | I146: 48 | J146: 汪睿 | K146: 60.5 | L146: 赵香才 | M146: 46.5 | N146: 卢银楷 | O146: 49 | P146: 杜基次尔 | Q146: =VLOOKUP(A146,[1]高三上!A$3:Q$629,5,0) -> 88 | R146: =VLOOKUP(A146,[1]高三上!A$3:Q$629,6,0) -> 曹霞 | S146: =VLOOKUP(A146,[1]高三上!A$3:Q$629,7,0) -> 67 | T146: =VLOOKUP(A146,[1]高三上!A$3:Q$629,8,0) -> 余玉红 | U146: =VLOOKUP(A146,[1]高三上!A$3:Q$629,9,0) -> 43.5 | V146: =VLOOKUP(A146,[1]高三上!A$3:Q$629,10,0) -> 汪睿 | W146: =VLOOKUP(A146,[1]高三上!A$3:Q$629,11,0) -> 45 | X146: =VLOOKUP(A146,[1]高三上!A$3:Q$629,12,0) -> 卢银楷 | Y146: =VLOOKUP(A146,[1]高三上!A$3:Q$629,13,0) -> 46 | Z146: =VLOOKUP(A146,[1]高三上!A$3:Q$629,14,0) -> 赵香才 | AA146: =VLOOKUP(A146,[1]高三上!A$3:Q$629,15,0) -> 34 | AB146: =VLOOKUP(A146,[1]高三上!A$3:Q$629,16,0) -> 杜基次尔 | AC146: =VLOOKUP(A146,[1]高二下!A$1:Q$618,5,0) -> 92 | AD146: =VLOOKUP(A146,[1]高二下!A$1:Q$618,6,0) -> 何光红 | AE146: =VLOOKUP(A146,[1]高二下!A$1:Q$618,7,0) -> 74 | AF146: =VLOOKUP(A146,[1]高二下!A$1:Q$618,8,0) -> 余玉红 | AG146: =VLOOKUP(A146,[1]高二下!A$1:Q$618,9,0) -> 66.5 | AH146: =VLOOKUP(A146,[1]高二下!A$1:Q$618,10,0) -> 向翠琳 | AI146: =VLOOKUP(A146,[1]高二下!A$1:Q$618,11,0) -> 47 | AJ146: =VLOOKUP(A146,[1]高二下!A$1:Q$618,12,0) -> 卢银楷 | AK146: =VLOOKUP(A146,[1]高二下!A$1:Q$618,13,0) -> 55 | AL146: =VLOOKUP(A146,[1]高二下!A$1:Q$618,14,0) -> 赵香才 | AM146: =VLOOKUP(A146,[1]高二下!A$1:Q$618,15,0) -> 43.5 | AN146: =VLOOKUP(A146,[1]高二下!A$1:Q$618,16,0) -> 杜基次尔 | AO146: =VLOOKUP(A146,[1]高二上!A$1:Q$571,5,0) -> 85 | AP146: =VLOOKUP(A146,[1]高二上!A$1:Q$571,6,0) -> 何光红 | AQ146: =VLOOKUP(A146,[1]高二上!A$1:Q$571,7,0) -> 87 | AR146: =VLOOKUP(A146,[1]高二上!A$1:Q$571,8,0) -> 余玉红 | AS146: =VLOOKUP(A146,[1]高二上!A$1:Q$571,9,0) -> 47 | AT146: =VLOOKUP(A146,[1]高二上!A$1:Q$571,10,0) -> 向翠琳 | AU146: =VLOOKUP(A146,[1]高二上!A$1:Q$571,11,0) -> 43 | AV146: =VLOOKUP(A146,[1]高二上!A$1:Q$571,12,0) -> 卢银楷 | AW146: =VLOOKUP(A146,[1]高二上!A$1:Q$571,13,0) -> 67 | AX146: =VLOOKUP(A146,[1]高二上!A$1:Q$571,14,0) -> 勾中文 | AY146: =VLOOKUP(A146,[1]高二上!A$1:Q$571,15,0) -> 48 | AZ146: =VLOOKUP(A146,[1]高二上!A$1:Q$571,16,0) -> 杜基次尔 | BA146: =VLOOKUP(A146,[1]高一下!$A$1:$Q$584,5,0) -> #N/A | BB146: =VLOOKUP(A146,[1]高一下!$A$1:$Q$584,6,0) -> #N/A | BC146: =VLOOKUP(A146,[1]高一下!$A$1:$Q$584,7,0) -> #N/A | BD146: =VLOOKUP(A146,[1]高一下!$A$1:$Q$584,8,0) -> #N/A | BE146: =VLOOKUP(A146,[1]高一下!$A$1:$Q$584,9,0) -> #N/A | BF146: =VLOOKUP(A146,[1]高一下!$A$1:$Q$584,10,0) -> #N/A | BG146: =VLOOKUP(A146,[1]高一下!$A$1:$Q$584,11,0) -> #N/A | BH146: =VLOOKUP(A146,[1]高一下!$A$1:$Q$584,12,0) -> #N/A | BI146: =VLOOKUP(A146,[1]高一下!$A$1:$Q$584,13,0) -> #N/A | BJ146: =VLOOKUP(A146,[1]高一下!$A$1:$Q$584,14,0) -> #N/A | BK146: =VLOOKUP(A146,[1]高一下!$A$1:$Q$584,15,0) -> #N/A | BL146: =VLOOKUP(A146,[1]高一下!$A$1:$Q$584,16,0) -> #N/A | BM146: =VLOOKUP(A146,[1]高一上!A$1:W$612,5,0) -> 73 | BN146: =VLOOKUP(A146,[1]高一上!A$1:W$612,6,0) -> 何苗 | BO146: =VLOOKUP(A146,[1]高一上!A$1:W$612,7,0) -> 70 | BP146: =VLOOKUP(A146,[1]高一上!A$1:W$612,8,0) -> 余玉红 | BQ146: =VLOOKUP(A146,[1]高一上!A$1:W$612,9,0) -> 44.5 | BR146: =VLOOKUP(A146,[1]高一上!A$1:W$612,10,0) -> 邵晖 | BS146: =VLOOKUP(A146,[1]高一上!A$1:W$612,17,0) -> 60 | BT146: =VLOOKUP(A146,[1]高一上!A$1:W$612,18,0) -> 杨吉华 | BU146: =VLOOKUP(A146,[1]高一上!A$1:W$612,19,0) -> 24 | BV146: =VLOOKUP(A146,[1]高一上!A$1:W$612,20,0) -> 勾中文 | BW146: =VLOOKUP(A146,[1]高一上!A$1:W$612,21,0) -> 31 | BX146: =VLOOKUP(A146,[1]高一上!A$1:W$612,22,0) -> 杜基次尔 | BY146: =VLOOKUP(A146,[1]中考!A$1:N$590,5,0) -> 51 | BZ146: =VLOOKUP(A146,[1]中考!A$1:N$590,6,0) -> 64 | CA146: =VLOOKUP(A146,[1]中考!A$1:N$590,7,0) -> 48 | CB146: =VLOOKUP(A146,[1]中考!A$1:N$590,11,0) -> 27 | CC146: =VLOOKUP(A146,[1]中考!A$1:N$590,12,0) -> 32 | CD146: =VLOOKUP(A146,[1]中考!A$1:N$590,13,0) -> 36
A147: 513422200505162523 | B147: 3 | C147: 唐辉翠 | D147: 文科 | E147: 100 | F147: 曹霞 | G147: 57 | H147: 余玉红 | I147: 66 | J147: 汪睿 | K147: 60.5 | L147: 赵香才 | M147: 58.5 | N147: 卢银楷 | P147: 杜基次尔 | Q147: =VLOOKUP(A147,[1]高三上!A$3:Q$629,5,0) -> 90 | R147: =VLOOKUP(A147,[1]高三上!A$3:Q$629,6,0) -> 曹霞 | S147: =VLOOKUP(A147,[1]高三上!A$3:Q$629,7,0) -> 34 | T147: =VLOOKUP(A147,[1]高三上!A$3:Q$629,8,0) -> 余玉红 | U147: =VLOOKUP(A147,[1]高三上!A$3:Q$629,9,0) -> 64.5 | V147: =VLOOKUP(A147,[1]高三上!A$3:Q$629,10,0) -> 汪睿 | W147: =VLOOKUP(A147,[1]高三上!A$3:Q$629,11,0) -> 53 | X147: =VLOOKUP(A147,[1]高三上!A$3:Q$629,12,0) -> 卢银楷 | Y147: =VLOOKUP(A147,[1]高三上!A$3:Q$629,13,0) -> 47 | Z147: =VLOOKUP(A147,[1]高三上!A$3:Q$629,14,0) -> 赵香才 | AA147: =VLOOKUP(A147,[1]高三上!A$3:Q$629,15,0) -> 49 | AB147: =VLOOKUP(A147,[1]高三上!A$3:Q$629,16,0) -> 杜基次尔 | AC147: =VLOOKUP(A147,[1]高二下!A$1:Q$618,5,0) -> 92 | AD147: =VLOOKUP(A147,[1]高二下!A$1:Q$618,6,0) -> 何光红 | AE147: =VLOOKUP(A147,[1]高二下!A$1:Q$618,7,0) -> 44 | AF147: =VLOOKUP(A147,[1]高二下!A$1:Q$618,8,0) -> 余玉红 | AG147: =VLOOKUP(A147,[1]高二下!A$1:Q$618,9,0) -> 49.5 | AH147: =VLOOKUP(A147,[1]高二下!A$1:Q$618,10,0) -> 向翠琳 | AI147: =VLOOKUP(A147,[1]高二下!A$1:Q$618,11,0) -> 43.5 | AJ147: =VLOOKUP(A147,[1]高二下!A$1:Q$618,12,0) -> 卢银楷 | AK147: =VLOOKUP(A147,[1]高二下!A$1:Q$618,13,0) -> 58 | AL147: =VLOOKUP(A147,[1]高二下!A$1:Q$618,14,0) -> 赵香才 | AM147: =VLOOKUP(A147,[1]高二下!A$1:Q$618,15,0) -> 53 | AN147: =VLOOKUP(A147,[1]高二下!A$1:Q$618,16,0) -> 杜基次尔 | AO147: =VLOOKUP(A147,[1]高二上!A$1:Q$571,5,0) -> 96 | AP147: =VLOOKUP(A147,[1]高二上!A$1:Q$571,6,0) -> 何光红 | AQ147: =VLOOKUP(A147,[1]高二上!A$1:Q$571,7,0) -> 36 | AR147: =VLOOKUP(A147,[1]高二上!A$1:Q$571,8,0) -> 余玉红 | AS147: =VLOOKUP(A147,[1]高二上!A$1:Q$571,9,0) -> 66.5 | AT147: =VLOOKUP(A147,[1]高二上!A$1:Q$571,10,0) -> 向翠琳 | AU147: =VLOOKUP(A147,[1]高二上!A$1:Q$571,11,0) -> 49 | AV147: =VLOOKUP(A147,[1]高二上!A$1:Q$571,12,0) -> 卢银楷 | AW147: =VLOOKUP(A147,[1]高二上!A$1:Q$571,13,0) -> 75 | AX147: =VLOOKUP(A147,[1]高二上!A$1:Q$571,14,0) -> 勾中文 | AY147: =VLOOKUP(A147,[1]高二上!A$1:Q$571,15,0) -> 63 | AZ147: =VLOOKUP(A147,[1]高二上!A$1:Q$571,16,0) -> 杜基次尔 | BA147: =VLOOKUP(A147,[1]高一下!$A$1:$Q$584,5,0) -> 93 | BB147: =VLOOKUP(A147,[1]高一下!$A$1:$Q$584,6,0) -> 朱霞 | BC147: =VLOOKUP(A147,[1]高一下!$A$1:$Q$584,7,0) -> 47 | BD147: =VLOOKUP(A147,[1]高一下!$A$1:$Q$584,8,0) -> 余玉红 | BE147: =VLOOKUP(A147,[1]高一下!$A$1:$Q$584,9,0) -> 59 | BF147: =VLOOKUP(A147,[1]高一下!$A$1:$Q$584,10,0) -> 赵顺诚 | BG147: =VLOOKUP(A147,[1]高一下!$A$1:$Q$584,11,0) -> 56 | BH147: =VLOOKUP(A147,[1]高一下!$A$1:$Q$584,12,0) -> 杨吉华 | BI147: =VLOOKUP(A147,[1]高一下!$A$1:$Q$584,13,0) -> 44 | BJ147: =VLOOKUP(A147,[1]高一下!$A$1:$Q$584,14,0) -> 赵香才 | BK147: =VLOOKUP(A147,[1]高一下!$A$1:$Q$584,15,0) -> 62 | BL147: =VLOOKUP(A147,[1]高一下!$A$1:$Q$584,16,0) -> 杜基次尔 | BM147: =VLOOKUP(A147,[1]高一上!A$1:W$612,5,0) -> 71 | BN147: =VLOOKUP(A147,[1]高一上!A$1:W$612,6,0) -> 何苗 | BO147: =VLOOKUP(A147,[1]高一上!A$1:W$612,7,0) -> 30 | BP147: =VLOOKUP(A147,[1]高一上!A$1:W$612,8,0) -> 周军 | BQ147: =VLOOKUP(A147,[1]高一上!A$1:W$612,9,0) -> 53.5 | BR147: =VLOOKUP(A147,[1]高一上!A$1:W$612,10,0) -> 程长寿 | BS147: =VLOOKUP(A147,[1]高一上!A$1:W$612,17,0) -> 23 | BT147: =VLOOKUP(A147,[1]高一上!A$1:W$612,18,0) -> 杨吉华 | BU147: =VLOOKUP(A147,[1]高一上!A$1:W$612,19,0) -> 34 | BV147: =VLOOKUP(A147,[1]高一上!A$1:W$612,20,0) -> 赵香才 | BW147: =VLOOKUP(A147,[1]高一上!A$1:W$612,21,0) -> 27 | BX147: =VLOOKUP(A147,[1]高一上!A$1:W$612,22,0) -> 金贵 | BY147: =VLOOKUP(A147,[1]中考!A$1:N$590,5,0) -> 92 | BZ147: =VLOOKUP(A147,[1]中考!A$1:N$590,6,0) -> 72 | CA147: =VLOOKUP(A147,[1]中考!A$1:N$590,7,0) -> 74 | CB147: =VLOOKUP(A147,[1]中考!A$1:N$590,11,0) -> 30 | CC147: =VLOOKUP(A147,[1]中考!A$1:N$590,12,0) -> 33 | CD147: =VLOOKUP(A147,[1]中考!A$1:N$590,13,0) -> 44
A148: 513422200312082519 | B148: 3 | C148: 扎西尼玛 | D148: 文科 | E148: 93 | F148: 曹霞 | G148: 90 | H148: 余玉红 | I148: 55 | J148: 汪睿 | K148: 61 | L148: 赵香才 | M148: 48.5 | N148: 卢银楷 | O148: 37 | P148: 杜基次尔 | Q148: =VLOOKUP(A148,[1]高三上!A$3:Q$629,5,0) -> #N/A | R148: =VLOOKUP(A148,[1]高三上!A$3:Q$629,6,0) -> #N/A | S148: =VLOOKUP(A148,[1]高三上!A$3:Q$629,7,0) -> #N/A | T148: =VLOOKUP(A148,[1]高三上!A$3:Q$629,8,0) -> #N/A | U148: =VLOOKUP(A148,[1]高三上!A$3:Q$629,9,0) -> #N/A | V148: =VLOOKUP(A148,[1]高三上!A$3:Q$629,10,0) -> #N/A | W148: =VLOOKUP(A148,[1]高三上!A$3:Q$629,11,0) -> #N/A | X148: =VLOOKUP(A148,[1]高三上!A$3:Q$629,12,0) -> #N/A | Y148: =VLOOKUP(A148,[1]高三上!A$3:Q$629,13,0) -> #N/A | Z148: =VLOOKUP(A148,[1]高三上!A$3:Q$629,14,0) -> #N/A | AA148: =VLOOKUP(A148,[1]高三上!A$3:Q$629,15,0) -> #N/A | AB148: =VLOOKUP(A148,[1]高三上!A$3:Q$629,16,0) -> #N/A | AC148: =VLOOKUP(A148,[1]高二下!A$1:Q$618,5,0) -> 89 | AD148: =VLOOKUP(A148,[1]高二下!A$1:Q$618,6,0) -> 何光红 | AE148: =VLOOKUP(A148,[1]高二下!A$1:Q$618,7,0) -> 66 | AF148: =VLOOKUP(A148,[1]高二下!A$1:Q$618,8,0) -> 余玉红 | AG148: =VLOOKUP(A148,[1]高二下!A$1:Q$618,9,0) -> 48.5 | AH148: =VLOOKUP(A148,[1]高二下!A$1:Q$618,10,0) -> 向翠琳 | AI148: =VLOOKUP(A148,[1]高二下!A$1:Q$618,11,0) -> 50.5 | AJ148: =VLOOKUP(A148,[1]高二下!A$1:Q$618,12,0) -> 卢银楷 | AK148: =VLOOKUP(A148,[1]高二下!A$1:Q$618,13,0) -> 54 | AL148: =VLOOKUP(A148,[1]高二下!A$1:Q$618,14,0) -> 赵香才 | AM148: =VLOOKUP(A148,[1]高二下!A$1:Q$618,15,0) -> 28.5 | AN148: =VLOOKUP(A148,[1]高二下!A$1:Q$618,16,0) -> 杜基次尔 | AO148: =VLOOKUP(A148,[1]高二上!A$1:Q$571,5,0) -> #N/A | AP148: =VLOOKUP(A148,[1]高二上!A$1:Q$571,6,0) -> #N/A | AQ148: =VLOOKUP(A148,[1]高二上!A$1:Q$571,7,0) -> #N/A | AR148: =VLOOKUP(A148,[1]高二上!A$1:Q$571,8,0) -> #N/A | AS148: =VLOOKUP(A148,[1]高二上!A$1:Q$571,9,0) -> #N/A | AT148: =VLOOKUP(A148,[1]高二上!A$1:Q$571,10,0) -> #N/A | AU148: =VLOOKUP(A148,[1]高二上!A$1:Q$571,11,0) -> #N/A | AV148: =VLOOKUP(A148,[1]高二上!A$1:Q$571,12,0) -> #N/A | AW148: =VLOOKUP(A148,[1]高二上!A$1:Q$571,13,0) -> #N/A | AX148: =VLOOKUP(A148,[1]高二上!A$1:Q$571,14,0) -> #N/A | AY148: =VLOOKUP(A148,[1]高二上!A$1:Q$571,15,0) -> #N/A | AZ148: =VLOOKUP(A148,[1]高二上!A$1:Q$571,16,0) -> #N/A | BA148: =VLOOKUP(A148,[1]高一下!$A$1:$Q$584,5,0) -> #N/A | BB148: =VLOOKUP(A148,[1]高一下!$A$1:$Q$584,6,0) -> #N/A | BC148: =VLOOKUP(A148,[1]高一下!$A$1:$Q$584,7,0) -> #N/A | BD148: =VLOOKUP(A148,[1]高一下!$A$1:$Q$584,8,0) -> #N/A | BE148: =VLOOKUP(A148,[1]高一下!$A$1:$Q$584,9,0) -> #N/A | BF148: =VLOOKUP(A148,[1]高一下!$A$1:$Q$584,10,0) -> #N/A | BG148: =VLOOKUP(A148,[1]高一下!$A$1:$Q$584,11,0) -> #N/A | BH148: =VLOOKUP(A148,[1]高一下!$A$1:$Q$584,12,0) -> #N/A | BI148: =VLOOKUP(A148,[1]高一下!$A$1:$Q$584,13,0) -> #N/A | BJ148: =VLOOKUP(A148,[1]高一下!$A$1:$Q$584,14,0) -> #N/A | BK148: =VLOOKUP(A148,[1]高一下!$A$1:$Q$584,15,0) -> #N/A | BL148: =VLOOKUP(A148,[1]高一下!$A$1:$Q$584,16,0) -> #N/A | BM148: =VLOOKUP(A148,[1]高一上!A$1:W$612,5,0) -> #N/A | BN148: =VLOOKUP(A148,[1]高一上!A$1:W$612,6,0) -> #N/A | BO148: =VLOOKUP(A148,[1]高一上!A$1:W$612,7,0) -> #N/A | BP148: =VLOOKUP(A148,[1]高一上!A$1:W$612,8,0) -> #N/A | BQ148: =VLOOKUP(A148,[1]高一上!A$1:W$612,9,0) -> #N/A | BR148: =VLOOKUP(A148,[1]高一上!A$1:W$612,10,0) -> #N/A | BS148: =VLOOKUP(A148,[1]高一上!A$1:W$612,17,0) -> #N/A | BT148: =VLOOKUP(A148,[1]高一上!A$1:W$612,18,0) -> #N/A | BU148: =VLOOKUP(A148,[1]高一上!A$1:W$612,19,0) -> #N/A | BV148: =VLOOKUP(A148,[1]高一上!A$1:W$612,20,0) -> #N/A | BW148: =VLOOKUP(A148,[1]高一上!A$1:W$612,21,0) -> #N/A | BX148: =VLOOKUP(A148,[1]高一上!A$1:W$612,22,0) -> #N/A | BY148: =VLOOKUP(A148,[1]中考!A$1:N$590,5,0) -> #N/A | BZ148: =VLOOKUP(A148,[1]中考!A$1:N$590,6,0) -> #N/A | CA148: =VLOOKUP(A148,[1]中考!A$1:N$590,7,0) -> #N/A | CB148: =VLOOKUP(A148,[1]中考!A$1:N$590,11,0) -> #N/A | CC148: =VLOOKUP(A148,[1]中考!A$1:N$590,12,0) -> #N/A | CD148: =VLOOKUP(A148,[1]中考!A$1:N$590,13,0) -> #N/A
