Workbook
Name basicdata: '3.1总分上线'!$B$4:$CS$652
Name 班主任: #REF!,#REF!,#REF!,#REF!,#REF!,#REF!
Name 单双上线: '3.2学科单双上线'!#REF!
Name 高2016级质量奖: #REF!
Name 高2017级质量奖: #REF!
Name 高2018级质量奖: #REF!
Name 基本奖: #REF!
Name 文化贡献奖: #REF!
Name 文化贡献奖: #REF!
Name 学生教师总表: '3.1总分上线'!$B$4:$CS$652
Name 总分上线: '3.1总分上线'!$A$668:$B$716
Name 总分上线教师分数: '3.1总分上线'!$U$4:$AF$646,'3.1总分上线'!$AH$4:$AS$646,'3.1总分上线'!$AU$4:$BF$646,'3.1总分上线'!$BH$4:$BS$646,'3.1总分上线'!$BU$4:$CF$646,'3.1总分上线'!$CH$4:$CS$646

Sheet 分数线
C1: 总分 | D1: 语文 | E1: 数学 | F1: 英语 | G1: 物理/政治 | H1: 化学/历史 | I1: 生物/地理
A2: 本科线 | B2: 理科 | C2: 433 | D2: 103 | E2: 73 | F2: 90 | G2: 48.5 | H2: 58.5 | I2: 67
B3: 文科 | C3: 458 | D3: 106 | E3: 87 | F3: 95 | G3: 68 | H3: 65 | I3: 54
C5: 总分 | D5: 语文 | E5: 数学 | F5: 英语 | G5: 物理/政治 | H5: 化学/历史 | I5: 生物/地理
A6: 重本线 | B6: 理科 | C6: 520 | D6: 111 | E6: 95 | F6: 116 | G6: 71 | H6: 75 | I6: 77.5
B7: 文科 | C7: 527 | D7: 115 | E7: 112 | F7: 121.5 | G7: 75 | H7: 75.5 | I7: 65
A9: 附：

Sheet 3.上线质量
C1: 总分上线 | E1: 学科单双上线
A2: 序号 | B2: 姓名 | C2: 得分 | D2: 金额 | E2: 得分 | F2: 金额 | G2: sum
A3: 1 | B3: 曹霞 | C3: =VLOOKUP(B3,'3.1总分上线'!$A$669:$B$729,2,FALSE) -> 27 | D3: =C3*312528.9/SUM($C$3:$C$62) -> 1375.5337 | E3: =VLOOKUP(B3,'3.2学科单双上线'!$A$664:$B$724,2,FALSE) -> 189 | F3: =E3*208352.6/SUM($E$3:$E$61) -> 1290.0287 | G3: =D3+F3 -> 2665.5624
A4: 2 | B4: 陈文惠 | C4: =VLOOKUP(B4,'3.1总分上线'!$A$669:$B$729,2,FALSE) -> 206.1 | D4: =C4*312528.9/SUM($C$3:$C$62) -> 10499.907 | E4: =VLOOKUP(B4,'3.2学科单双上线'!$A$664:$B$724,2,FALSE) -> 1074.6 | F4: =E4*208352.6/SUM($E$3:$E$61) -> 7334.7345 | G4: =D4+F4 -> 17834.642
A5: 3 | B5: 程长寿 | C5: =VLOOKUP(B5,'3.1总分上线'!$A$669:$B$729,2,FALSE) -> 433.02 | D5: =C5*312528.9/SUM($C$3:$C$62) -> 22060.504 | E5: =VLOOKUP(B5,'3.2学科单双上线'!$A$664:$B$724,2,FALSE) -> 2241 | F5: =E5*208352.6/SUM($E$3:$E$61) -> 15296.054 | G5: =D5+F5 -> 37356.558
A6: 4 | B6: 达娃央初 | C6: =VLOOKUP(B6,'3.1总分上线'!$A$669:$B$729,2,FALSE) -> 3.54 | D6: =C6*312528.9/SUM($C$3:$C$62) -> 180.34775 | E6: =VLOOKUP(B6,'3.2学科单双上线'!$A$664:$B$724,2,FALSE) -> 18.9 | F6: =E6*208352.6/SUM($E$3:$E$61) -> 129.00287 | G6: =D6+F6 -> 309.35062
A7: 5 | B7: 杜基次尔 | C7: =VLOOKUP(B7,'3.1总分上线'!$A$669:$B$729,2,FALSE) -> 72.72 | D7: =C7*312528.9/SUM($C$3:$C$62) -> 3704.7708 | E7: =VLOOKUP(B7,'3.2学科单双上线'!$A$664:$B$724,2,FALSE) -> 822.6 | F7: =E7*208352.6/SUM($E$3:$E$61) -> 5614.6962 | G7: =D7+F7 -> 9319.467
A8: 6 | B8: 高贵勇 | C8: =VLOOKUP(B8,'3.1总分上线'!$A$669:$B$729,2,FALSE) -> -15.03 | D8: =C8*312528.9/SUM($C$3:$C$62) -> -765.71376 | E8: =VLOOKUP(B8,'3.2学科单双上线'!$A$664:$B$724,2,FALSE) -> 167.4 | F8: =E8*208352.6/SUM($E$3:$E$61) -> 1142.5968 | G8: =D8+F8 -> 376.88307
A9: 7 | B9: 勾中文 | C9: =VLOOKUP(B9,'3.1总分上线'!$A$669:$B$729,2,FALSE) -> 2.16 | D9: =C9*312528.9/SUM($C$3:$C$62) -> 110.0427 | E9: =VLOOKUP(B9,'3.2学科单双上线'!$A$664:$B$724,2,FALSE) -> 41.4 | F9: =E9*208352.6/SUM($E$3:$E$61) -> 282.57771 | G9: =D9+F9 -> 392.62041
A10: 8 | B10: 辜英琼 | C10: =VLOOKUP(B10,'3.1总分上线'!$A$669:$B$729,2,FALSE) -> 62.04 | D10: =C10*312528.9/SUM($C$3:$C$62) -> 3160.6708 | E10: =VLOOKUP(B10,'3.2学科单双上线'!$A$664:$B$724,2,FALSE) -> 216 | F10: =E10*208352.6/SUM($E$3:$E$61) -> 1474.3185 | G10: =D10+F10 -> 4634.9893
A11: 9 | B11: 何光红 | C11: =VLOOKUP(B11,'3.1总分上线'!$A$669:$B$729,2,FALSE) -> 72 | D11: =C11*312528.9/SUM($C$3:$C$62) -> 3668.0899 | E11: =VLOOKUP(B11,'3.2学科单双上线'!$A$664:$B$724,2,FALSE) -> 322.2 | F11: =E11*208352.6/SUM($E$3:$E$61) -> 2199.1917 | G11: =D11+F11 -> 5867.2816
A12: 10 | B12: 何苗 | C12: =VLOOKUP(B12,'3.1总分上线'!$A$669:$B$729,2,FALSE) -> 51.6 | D12: =C12*312528.9/SUM($C$3:$C$62) -> 2628.7978 | E12: =VLOOKUP(B12,'3.2学科单双上线'!$A$664:$B$724,2,FALSE) -> 241.2 | F12: =E12*208352.6/SUM($E$3:$E$61) -> 1646.3223 | G12: =D12+F12 -> 4275.1201
A13: 11 | B13: 胡昌燕 | C13: =VLOOKUP(B13,'3.1总分上线'!$A$669:$B$729,2,FALSE) -> 234.06 | D13: =C13*312528.9/SUM($C$3:$C$62) -> 11924.349 | E13: =VLOOKUP(B13,'3.2学科单双上线'!$A$664:$B$724,2,FALSE) -> 750.6 | F13: =E13*208352.6/SUM($E$3:$E$61) -> 5123.2567 | G13: =D13+F13 -> 17047.606
A14: 12 | B14: 胡付松 | C14: =VLOOKUP(B14,'3.1总分上线'!$A$669:$B$729,2,FALSE) -> 261.78 | D14: =C14*312528.9/SUM($C$3:$C$62) -> 13336.563 | E14: =VLOOKUP(B14,'3.2学科单双上线'!$A$664:$B$724,2,FALSE) -> 1220.4 | F14: =E14*208352.6/SUM($E$3:$E$61) -> 8329.8995 | G14: =D14+F14 -> 21666.463
... A62: 60 | B62: 朱霞 | C62: =VLOOKUP(B62,'3.1总分上线'!$A$669:$B$729,2,FALSE) -> 170.28 | D62: =C62*312528.9/SUM($C$3:$C$62) -> 8675.0326 | E62: =VLOOKUP(B62,'3.2学科单双上线'!$A$664:$B$724,2,FALSE) -> 1020.6 | F62: =E62*208352.6/SUM($E$3:$E$61) -> 6966.1549 | G62: =D62+F62 -> 15641.187
G63: =SUM(G3:G62) -> 527847.65

Sheet 3.1总分上线
H1: 高考成绩 | O1: 目标得分 | T1: 20-21学年上 | AG1: 20-21学年下 | AT1: 21-22学年上 | BG1: 21-22学年下 | BT1: 22-23学年上 | CG1: 22-23学年下
O2: 本科：目标生上线+36 分/生，目标生未上线-36 分/生，目标外上线+72 分/生； 重本：目标生上线+72 分/生，目标生未上线-72 分/生，目标外上线+144 分。 | T2: 班级 | U2: 语文 | W2: 数学 | Y2: 英语 | AA2: 物理/政治 | AC2: 化学/历史 | AE2: 生物/地理 | AG2: 班级 | AH2: 语文 | AJ2: 数学 | AL2: 英语 | AN2: 物理/政治 | AP2: 化学/历史 | AR2: 生物/地理 | AT2: 班级 | AU2: 语文 | AW2: 数学 | AY2: 英语 | BA2: 物理/政治 | BC2: 化学/历史 | BE2: 生物/地理 | BG2: 班级 | BH2: 语文 | BJ2: 数学 | BL2: 英语 | BN2: 物理/政治 | BP2: 化学/历史 | BR2: 生物/地理 | BT2: 班级 | BU2: 语文 | BW2: 数学 | BY2: 英语 | CA2: 物理/政治 | CC2: 化学/历史 | CE2: 生物/地理 | CG2: 班级 | CH2: 语文 | CJ2: 数学 | CL2: 英语 | CN2: 物理/政治 | CP2: 化学/历史 | CR2: 生物/地理
B3: 1 | C3: 2 | D3: 3 | E3: 4 | F3: 5 | G3: 6 | H3: 7 | I3: 8 | J3: 9 | K3: 10 | L3: 11 | M3: 12 | N3: 13 | O3: 14 | P3: 15 | Q3: 16 | R3: 17 | S3: 18 | T3: 19 | U3: 20 | V3: 21 | W3: 22 | X3: 23 | Y3: 24 | Z3: 25 | AA3: 26 | AB3: 27 | AC3: 28 | AD3: 29 | AE3: 30 | AF3: 31 | AG3: 32 | AH3: 33 | AI3: 34 | AJ3: 35 | AK3: 36 | AL3: 37 | AM3: 38 | AN3: 39 | AO3: 40 | AP3: 41 | AQ3: 42 | AR3: 43 | AS3: 44 | AT3: 45 | AU3: 46 | AV3: 47 | AW3: 48 | AX3: 49 | AY3: 50 | AZ3: 51 | BA3: 52 | BB3: 53 | BC3: 54 | BD3: 55 | BE3: 56 | BF3: 57 | BG3: 58 | BH3: 59 | BI3: 60 | BJ3: 61 | BK3: 62 | BL3: 63 | BM3: 64 | BN3: 65 | BO3: 66 | BP3: 67 | BQ3: 68 | BR3: 69 | BS3: 70 | BT3: 71 | BU3: 72 | BV3: 73 | BW3: 74 | BX3: 75 | BY3: 76 | BZ3: 77 | CA3: 78 | CB3: 79 | CC3: 80 | CD3: 81 | CE3: 82 | CF3: 83 | CG3: 84 | CH3: 85 | CI3: 86 | CJ3: 87 | CK3: 88 | CL3: 89 | CM3: 90 | CN3: 91 | CO3: 92 | CP3: 93 | CQ3: 94 | CR3: 95 | CS3: 96
A4: 姓名 | B4: 身份证号码 | C4: 类别 | D4: 科类 | E4: 备注 | F4: 本科目标 | G4: 重本目标 | H4: 语文 | I4: 数学 | J4: 英语 | K4: 物理/政治 | L4: 化学/历史 | M4: 生物/地理 | N4: 总分 | O4: 是否上本科 | P4: 本科 得分 | Q4: 是否上重本 | R4: 重本 得分 | S4: 目标得分合计 | T4: 班级 | U4: 教师 姓名 | V4: 得分 | W4: 教师 姓名 | X4: 得分 | Y4: 教师 姓名 | Z4: 得分 | AA4: 教师 姓名 | AB4: 得分 | AC4: 教师 姓名 | AD4: 得分 | AE4: 教师 姓名 | AF4: 得分 | AG4: 班级 | AH4: 教师 姓名 | AI4: 得分 | AJ4: 教师 姓名 | AK4: 得分 | AL4: 教师 姓名 | AM4: 得分 | AN4: 教师 姓名 | AO4: 得分 | AP4: 教师 姓名 | AQ4: 得分 | AR4: 教师 姓名 | AS4: 得分 | AT4: 班级 | AU4: 教师 姓名 | AV4: 得分 | AW4: 教师 姓名 | AX4: 得分 | AY4: 教师 姓名 | AZ4: 得分 | BA4: 教师 姓名 | BB4: 得分 | BC4: 教师 姓名 | BD4: 得分 | BE4: 教师 姓名 | BF4: 得分 | BG4: 班级 | BH4: 教师 姓名 | BI4: 得分 | BJ4: 教师 姓名 | BK4: 得分 | BL4: 教师 姓名 | BM4: 得分 | BN4: 教师 姓名 | BO4: 得分 | BP4: 教师 姓名 | BQ4: 得分 | BR4: 教师 姓名 | BS4: 得分 | BT4: 班级 | BU4: 教师 姓名 | BV4: 得分 | BW4: 教师 姓名 | BX4: 得分 | BY4: 教师 姓名 | BZ4: 得分 | CA4: 教师 姓名 | CB4: 得分 | CC4: 教师 姓名 | CD4: 得分 | CE4: 教师 姓名 | CF4: 得分 | CG4: 班级 | CH4: 教师 姓名 | CI4: 得分 | CJ4: 教师 姓名 | CK4: 得分 | CL4: 教师 姓名 | CM4: 得分 | CN4: 教师 姓名 | CO4: 得分 | CP4: 教师 姓名 | CQ4: 得分 | CR4: 教师 姓名 | CS4: 得分
A5: 马建峰 | B5: 513422200108011334 | C5: 往届 | D5: 文科 | F5: 1 | G5: 0 | H5: 115 | I5: 85 | J5: 72 | K5: 67 | L5: 73.5 | M5: 50 | N5: 463 | O5: =IF(D5="理科",IF(N5>=分数线!$C$2,"本科",""),IF(D5="文科",IF(N5>=分数线!$C$3,"本科",""))) -> 本科 | P5: =IF(F5>0,IF(O5="本科",(2-F5)*36,-(F5)*36),IF(O5="本科",2*36,0)) -> 36 | Q5: =IF(D5="理科",IF(N5>=分数线!$C$6,"重本",""),IF(D5="文科",IF(N5>=分数线!$C$7,"重本",""))) | R5: =IF(G5>0,IF(Q5="重本",G5*72,-(G5)*72),IF(Q5="重本",2*72,0)) -> 0 | S5: =P5+R5 -> 36 | T5: NULL | U5: NULL | V5: =IF($C5="应届",($S5*0.1)/6,IF($C5="往届","","NULL")) | W5: NULL | X5: =IF($C5="应届",($S5*0.1)/6,IF($C5="往届","","NULL")) | Y5: NULL | Z5: =IF($C5="应届",($S5*0.1)/6,IF($C5="往届","","NULL")) | AA5: NULL | AB5: =IF($C5="应届",($S5*0.1)/6,IF($C5="往届","","NULL")) | AC5: NULL | AD5: =IF($C5="应届",($S5*0.1)/6,IF($C5="往届","","NULL")) | AE5: NULL | AF5: =IF($C5="应届",($S5*0.1)/6,IF($C5="往届","","NULL")) | AG5: NULL | AH5: NULL | AI5: =IF($C5="应届",($S5*0.1)/6,IF($C5="往届","","NULL")) | AJ5: NULL | AK5: =IF($C5="应届",($S5*0.1)/6,IF($C5="往届","","NULL")) | AL5: NULL | AM5: =IF($C5="应届",($S5*0.1)/6,IF($C5="往届","","NULL")) | AN5: NULL | AO5: =IF($C5="应届",($S5*0.1)/6,IF($C5="往届","","NULL")) | AP5: NULL | AQ5: =IF($C5="应届",($S5*0.1)/6,IF($C5="往届","","NULL")) | AR5: NULL | AS5: =IF($C5="应届",($S5*0.1)/6,IF($C5="往届","","NULL")) | AT5: NULL | AU5: NULL | AV5: =IF($C5="应届",($S5*0.15)/6,IF($C5="往届","","NULL")) | AW5: NULL | AX5: =IF($C5="应届",($S5*0.15)/6,IF($C5="往届","","NULL")) | AY5: NULL | AZ5: =IF($C5="应届",($S5*0.15)/6,IF($C5="往届","","NULL")) | BA5: NULL | BB5: =IF($C5="应届",($S5*0.15)/6,IF($C5="往届","","NULL")) | BC5: NULL | BD5: =IF($C5="应届",($S5*0.15)/6,IF($C5="往届","","NULL")) | BE5: NULL | BF5: =IF($C5="应届",($S5*0.15)/6,IF($C5="往届","","NULL")) | BG5: NULL | BH5: NULL | BI5: =IF($C5="应届",($S5*0.15)/6,IF($C5="往届","","NULL")) | BJ5: NULL | BK5: =IF($C5="应届",($S5*0.15)/6,IF($C5="往届","","NULL")) | BL5: NULL | BM5: =IF($C5="应届",($S5*0.15)/6,IF($C5="往届","","NULL")) | BN5: NULL | BO5: =IF($C5="应届",($S5*0.15)/6,IF($C5="往届","","NULL")) | BP5: NULL | BQ5: =IF($C5="应届",($S5*0.15)/6,IF($C5="往届","","NULL")) | BR5: NULL | BS5: =IF($C5="应届",($S5*0.15)/6,IF($C5="往届","","NULL")) | BT5: 1 | BU5: 叶屏 | BV5: =IF($C5="应届",($S5*0.25)/6,IF($C5="往届",($S5*0.5)/6,"NULL")) -> 3 | BW5: 余玉红 | BX5: =IF($C5="应届",($S5*0.25)/6,IF($C5="往届",($S5*0.5)/6,"NULL")) -> 3 | BY5: 胡昌燕 | BZ5: =IF($C5="应届",($S5*0.25)/6,IF($C5="往届",($S5*0.5)/6,"NULL")) -> 3 | CA5: 卢银楷 | CB5: =IF($C5="应届",($S5*0.25)/6,IF($C5="往届",($S5*0.5)/6,"NULL")) -> 3 | CC5: 胡慧芳 | CD5: =IF($C5="应届",($S5*0.25)/6,IF($C5="往届",($S5*0.5)/6,"NULL")) -> 3 | CE5: 金贵 | CF5: =IF($C5="应届",($S5*0.25)/6,IF($C5="往届",($S5*0.5)/6,"NULL")) -> 3 | CG5: 1 | CH5: 叶屏 | CI5: =IF($C5="应届",($S5*0.25)/6,IF($C5="往届",($S5*0.5)/6,"NULL")) -> 3 | CJ5: 余玉红 | CK5: =IF($C5="应届",($S5*0.25)/6,IF($C5="往届",($S5*0.5)/6,"NULL")) -> 3 | CL5: 胡昌燕 | CM5: =IF($C5="应届",($S5*0.25)/6,IF($C5="往届",($S5*0.5)/6,"NULL")) -> 3 | CN5: 卢银楷 | CO5: =IF($C5="应届",($S5*0.25)/6,IF($C5="往届",($S5*0.5)/6,"NULL")) -> 3 | CP5: 胡慧芳 | CQ5: =IF($C5="应届",($S5*0.25)/6,IF($C5="往届",($S5*0.5)/6,"NULL")) -> 3 | CR5: 金贵 | CS5: =IF($C5="应届",($S5*0.25)/6,IF($C5="往届",($S5*0.5)/6,"NULL")) -> 3
A6: 毛健美 | B6: 513422200405031526 | C6: 往届 | D6: 文科 | F6: 1 | G6: 0 | H6: 99 | I6: 107 | J6: 67 | K6: 64 | L6: 57.5 | M6: 64 | N6: 459 | O6: =IF(D6="理科",IF(N6>=分数线!$C$2,"本科",""),IF(D6="文科",IF(N6>=分数线!$C$3,"本科",""))) -> 本科 | P6: =IF(F6>0,IF(O6="本科",(2-F6)*36,-(F6)*36),IF(O6="本科",2*36,0)) -> 36 | Q6: =IF(D6="理科",IF(N6>=分数线!$C$6,"重本",""),IF(D6="文科",IF(N6>=分数线!$C$7,"重本",""))) | R6: =IF(G6>0,IF(Q6="重本",G6*72,-(G6)*72),IF(Q6="重本",2*72,0)) -> 0 | S6: =P6+R6 -> 36 | T6: NULL | U6: NULL | V6: =IF($C6="应届",($S6*0.1)/6,IF($C6="往届","","NULL")) | W6: NULL | X6: =IF($C6="应届",($S6*0.1)/6,IF($C6="往届","","NULL")) | Y6: NULL | Z6: =IF($C6="应届",($S6*0.1)/6,IF($C6="往届","","NULL")) | AA6: NULL | AB6: =IF($C6="应届",($S6*0.1)/6,IF($C6="往届","","NULL")) | AC6: NULL | AD6: =IF($C6="应届",($S6*0.1)/6,IF($C6="往届","","NULL")) | AE6: NULL | AF6: =IF($C6="应届",($S6*0.1)/6,IF($C6="往届","","NULL")) | AG6: NULL | AH6: NULL | AI6: =IF($C6="应届",($S6*0.1)/6,IF($C6="往届","","NULL")) | AJ6: NULL | AK6: =IF($C6="应届",($S6*0.1)/6,IF($C6="往届","","NULL")) | AL6: NULL | AM6: =IF($C6="应届",($S6*0.1)/6,IF($C6="往届","","NULL")) | AN6: NULL | AO6: =IF($C6="应届",($S6*0.1)/6,IF($C6="往届","","NULL")) | AP6: NULL | AQ6: =IF($C6="应届",($S6*0.1)/6,IF($C6="往届","","NULL")) | AR6: NULL | AS6: =IF($C6="应届",($S6*0.1)/6,IF($C6="往届","","NULL")) | AT6: NULL | AU6: NULL | AV6: =IF($C6="应届",($S6*0.15)/6,IF($C6="往届","","NULL")) | AW6: NULL | AX6: =IF($C6="应届",($S6*0.15)/6,IF($C6="往届","","NULL")) | AY6: NULL | AZ6: =IF($C6="应届",($S6*0.15)/6,IF($C6="往届","","NULL")) | BA6: NULL | BB6: =IF($C6="应届",($S6*0.15)/6,IF($C6="往届","","NULL")) | BC6: NULL | BD6: =IF($C6="应届",($S6*0.15)/6,IF($C6="往届","","NULL")) | BE6: NULL | BF6: =IF($C6="应届",($S6*0.15)/6,IF($C6="往届","","NULL")) | BG6: NULL | BH6: NULL | BI6: =IF($C6="应届",($S6*0.15)/6,IF($C6="往届","","NULL")) | BJ6: NULL | BK6: =IF($C6="应届",($S6*0.15)/6,IF($C6="往届","","NULL")) | BL6: NULL | BM6: =IF($C6="应届",($S6*0.15)/6,IF($C6="往届","","NULL")) | BN6: NULL | BO6: =IF($C6="应届",($S6*0.15)/6,IF($C6="往届","","NULL")) | BP6: NULL | BQ6: =IF($C6="应届",($S6*0.15)/6,IF($C6="往届","","NULL")) | BR6: NULL | BS6: =IF($C6="应届",($S6*0.15)/6,IF($C6="往届","","NULL")) | BT6: 1 | BU6: 叶屏 | BV6: =IF($C6="应届",($S6*0.25)/6,IF($C6="往届",($S6*0.5)/6,"NULL")) -> 3 | BW6: 余玉红 | BX6: =IF($C6="应届",($S6*0.25)/6,IF($C6="往届",($S6*0.5)/6,"NULL")) -> 3 | BY6: 胡昌燕 | BZ6: =IF($C6="应届",($S6*0.25)/6,IF($C6="往届",($S6*0.5)/6,"NULL")) -> 3 | CA6: 卢银楷 | CB6: =IF($C6="应届",($S6*0.25)/6,IF($C6="往届",($S6*0.5)/6,"NULL")) -> 3 | CC6: 胡慧芳 | CD6: =IF($C6="应届",($S6*0.25)/6,IF($C6="往届",($S6*0.5)/6,"NULL")) -> 3 | CE6: 金贵 | CF6: =IF($C6="应届",($S6*0.25)/6,IF($C6="往届",($S6*0.5)/6,"NULL")) -> 3 | CG6: 1 | CH6: 叶屏 | CI6: =IF($C6="应届",($S6*0.25)/6,IF($C6="往届",($S6*0.5)/6,"NULL")) -> 3 | CJ6: 余玉红 | CK6: =IF($C6="应届",($S6*0.25)/6,IF($C6="往届",($S6*0.5)/6,"NULL")) -> 3 | CL6: 胡昌燕 | CM6: =IF($C6="应届",($S6*0.25)/6,IF($C6="往届",($S6*0.5)/6,"NULL")) -> 3 | CN6: 卢银楷 | CO6: =IF($C6="应届",($S6*0.25)/6,IF($C6="往届",($S6*0.5)/6,"NULL")) -> 3 | CP6: 胡慧芳 | CQ6: =IF($C6="应届",($S6*0.25)/6,IF($C6="往届",($S6*0.5)/6,"NULL")) -> 3 | CR6: 金贵 | CS6: =IF($C6="应届",($S6*0.25)/6,IF($C6="往届",($S6*0.5)/6,"NULL")) -> 3
A7: 祝玛央宗 | B7: 513422200301013622 | C7: 往届 | D7: 文科 | F7: 1 | G7: 0 | H7: 105 | I7: 87 | J7: 114 | K7: 67 | L7: 65 | M7: 49 | N7: 487 | O7: =IF(D7="理科",IF(N7>=分数线!$C$2,"本科",""),IF(D7="文科",IF(N7>=分数线!$C$3,"本科",""))) -> 本科 | P7: =IF(F7>0,IF(O7="本科",(2-F7)*36,-(F7)*36),IF(O7="本科",2*36,0)) -> 36 | Q7: =IF(D7="理科",IF(N7>=分数线!$C$6,"重本",""),IF(D7="文科",IF(N7>=分数线!$C$7,"重本",""))) | R7: =IF(G7>0,IF(Q7="重本",G7*72,-(G7)*72),IF(Q7="重本",2*72,0)) -> 0 | S7: =P7+R7 -> 36 | T7: NULL | U7: NULL | V7: =IF($C7="应届",($S7*0.1)/6,IF($C7="往届","","NULL")) | W7: NULL | X7: =IF($C7="应届",($S7*0.1)/6,IF($C7="往届","","NULL")) | Y7: NULL | Z7: =IF($C7="应届",($S7*0.1)/6,IF($C7="往届","","NULL")) | AA7: NULL | AB7: =IF($C7="应届",($S7*0.1)/6,IF($C7="往届","","NULL")) | AC7: NULL | AD7: =IF($C7="应届",($S7*0.1)/6,IF($C7="往届","","NULL")) | AE7: NULL | AF7: =IF($C7="应届",($S7*0.1)/6,IF($C7="往届","","NULL")) | AG7: NULL | AH7: NULL | AI7: =IF($C7="应届",($S7*0.1)/6,IF($C7="往届","","NULL")) | AJ7: NULL | AK7: =IF($C7="应届",($S7*0.1)/6,IF($C7="往届","","NULL")) | AL7: NULL | AM7: =IF($C7="应届",($S7*0.1)/6,IF($C7="往届","","NULL")) | AN7: NULL | AO7: =IF($C7="应届",($S7*0.1)/6,IF($C7="往届","","NULL")) | AP7: NULL | AQ7: =IF($C7="应届",($S7*0.1)/6,IF($C7="往届","","NULL")) | AR7: NULL | AS7: =IF($C7="应届",($S7*0.1)/6,IF($C7="往届","","NULL")) | AT7: NULL | AU7: NULL | AV7: =IF($C7="应届",($S7*0.15)/6,IF($C7="往届","","NULL")) | AW7: NULL | AX7: =IF($C7="应届",($S7*0.15)/6,IF($C7="往届","","NULL")) | AY7: NULL | AZ7: =IF($C7="应届",($S7*0.15)/6,IF($C7="往届","","NULL")) | BA7: NULL | BB7: =IF($C7="应届",($S7*0.15)/6,IF($C7="往届","","NULL")) | BC7: NULL | BD7: =IF($C7="应届",($S7*0.15)/6,IF($C7="往届","","NULL")) | BE7: NULL | BF7: =IF($C7="应届",($S7*0.15)/6,IF($C7="往届","","NULL")) | BG7: NULL | BH7: NULL | BI7: =IF($C7="应届",($S7*0.15)/6,IF($C7="往届","","NULL")) | BJ7: NULL | BK7: =IF($C7="应届",($S7*0.15)/6,IF($C7="往届","","NULL")) | BL7: NULL | BM7: =IF($C7="应届",($S7*0.15)/6,IF($C7="往届","","NULL")) | BN7: NULL | BO7: =IF($C7="应届",($S7*0.15)/6,IF($C7="往届","","NULL")) | BP7: NULL | BQ7: =IF($C7="应届",($S7*0.15)/6,IF($C7="往届","","NULL")) | BR7: NULL | BS7: =IF($C7="应届",($S7*0.15)/6,IF($C7="往届","","NULL")) | BT7: 1 | BU7: 叶屏 | BV7: =IF($C7="应届",($S7*0.25)/6,IF($C7="往届",($S7*0.5)/6,"NULL")) -> 3 | BW7: 余玉红 | BX7: =IF($C7="应届",($S7*0.25)/6,IF($C7="往届",($S7*0.5)/6,"NULL")) -> 3 | BY7: 胡昌燕 | BZ7: =IF($C7="应届",($S7*0.25)/6,IF($C7="往届",($S7*0.5)/6,"NULL")) -> 3 | CA7: 卢银楷 | CB7: =IF($C7="应届",($S7*0.25)/6,IF($C7="往届",($S7*0.5)/6,"NULL")) -> 3 | CC7: 胡慧芳 | CD7: =IF($C7="应届",($S7*0.25)/6,IF($C7="往届",($S7*0.5)/6,"NULL")) -> 3 | CE7: 金贵 | CF7: =IF($C7="应届",($S7*0.25)/6,IF($C7="往届",($S7*0.5)/6,"NULL")) -> 3 | CG7: 1 | CH7: 叶屏 | CI7: =IF($C7="应届",($S7*0.25)/6,IF($C7="往届",($S7*0.5)/6,"NULL")) -> 3 | CJ7: 余玉红 | CK7: =IF($C7="应届",($S7*0.25)/6,IF($C7="往届",($S7*0.5)/6,"NULL")) -> 3 | CL7: 胡昌燕 | CM7: =IF($C7="应届",($S7*0.25)/6,IF($C7="往届",($S7*0.5)/6,"NULL")) -> 3 | CN7: 卢银楷 | CO7: =IF($C7="应届",($S7*0.25)/6,IF($C7="往届",($S7*0.5)/6,"NULL")) -> 3 | CP7: 胡慧芳 | CQ7: =IF($C7="应届",($S7*0.25)/6,IF($C7="往届",($S7*0.5)/6,"NULL")) -> 3 | CR7: 金贵 | CS7: =IF($C7="应届",($S7*0.25)/6,IF($C7="往届",($S7*0.5)/6,"NULL")) -> 3
A8: 杨小勇 | B8: 513423200501083111 | C8: 往届 | D8: 文科 | F8: 1 | G8: 0 | H8: 105 | I8: 98 | J8: 96 | K8: 66 | L8: 65.5 | M8: 42 | N8: 473 | O8: =IF(D8="理科",IF(N8>=分数线!$C$2,"本科",""),IF(D8="文科",IF(N8>=分数线!$C$3,"本科",""))) -> 本科 | P8: =IF(F8>0,IF(O8="本科",(2-F8)*36,-(F8)*36),IF(O8="本科",2*36,0)) -> 36 | Q8: =IF(D8="理科",IF(N8>=分数线!$C$6,"重本",""),IF(D8="文科",IF(N8>=分数线!$C$7,"重本",""))) | R8: =IF(G8>0,IF(Q8="重本",G8*72,-(G8)*72),IF(Q8="重本",2*72,0)) -> 0 | S8: =P8+R8 -> 36 | T8: NULL | U8: NULL | V8: =IF($C8="应届",($S8*0.1)/6,IF($C8="往届","","NULL")) | W8: NULL | X8: =IF($C8="应届",($S8*0.1)/6,IF($C8="往届","","NULL")) | Y8: NULL | Z8: =IF($C8="应届",($S8*0.1)/6,IF($C8="往届","","NULL")) | AA8: NULL | AB8: =IF($C8="应届",($S8*0.1)/6,IF($C8="往届","","NULL")) | AC8: NULL | AD8: =IF($C8="应届",($S8*0.1)/6,IF($C8="往届","","NULL")) | AE8: NULL | AF8: =IF($C8="应届",($S8*0.1)/6,IF($C8="往届","","NULL")) | AG8: NULL | AH8: NULL | AI8: =IF($C8="应届",($S8*0.1)/6,IF($C8="往届","","NULL")) | AJ8: NULL | AK8: =IF($C8="应届",($S8*0.1)/6,IF($C8="往届","","NULL")) | AL8: NULL | AM8: =IF($C8="应届",($S8*0.1)/6,IF($C8="往届","","NULL")) | AN8: NULL | AO8: =IF($C8="应届",($S8*0.1)/6,IF($C8="往届","","NULL")) | AP8: NULL | AQ8: =IF($C8="应届",($S8*0.1)/6,IF($C8="往届","","NULL")) | AR8: NULL | AS8: =IF($C8="应届",($S8*0.1)/6,IF($C8="往届","","NULL")) | AT8: NULL | AU8: NULL | AV8: =IF($C8="应届",($S8*0.15)/6,IF($C8="往届","","NULL")) | AW8: NULL | AX8: =IF($C8="应届",($S8*0.15)/6,IF($C8="往届","","NULL")) | AY8: NULL | AZ8: =IF($C8="应届",($S8*0.15)/6,IF($C8="往届","","NULL")) | BA8: NULL | BB8: =IF($C8="应届",($S8*0.15)/6,IF($C8="往届","","NULL")) | BC8: NULL | BD8: =IF($C8="应届",($S8*0.15)/6,IF($C8="往届","","NULL")) | BE8: NULL | BF8: =IF($C8="应届",($S8*0.15)/6,IF($C8="往届","","NULL")) | BG8: NULL | BH8: NULL | BI8: =IF($C8="应届",($S8*0.15)/6,IF($C8="往届","","NULL")) | BJ8: NULL | BK8: =IF($C8="应届",($S8*0.15)/6,IF($C8="往届","","NULL")) | BL8: NULL | BM8: =IF($C8="应届",($S8*0.15)/6,IF($C8="往届","","NULL")) | BN8: NULL | BO8: =IF($C8="应届",($S8*0.15)/6,IF($C8="往届","","NULL")) | BP8: NULL | BQ8: =IF($C8="应届",($S8*0.15)/6,IF($C8="往届","","NULL")) | BR8: NULL | BS8: =IF($C8="应届",($S8*0.15)/6,IF($C8="往届","","NULL")) | BT8: 1 | BU8: 叶屏 | BV8: =IF($C8="应届",($S8*0.25)/6,IF($C8="往届",($S8*0.5)/6,"NULL")) -> 3 | BW8: 余玉红 | BX8: =IF($C8="应届",($S8*0.25)/6,IF($C8="往届",($S8*0.5)/6,"NULL")) -> 3 | BY8: 胡昌燕 | BZ8: =IF($C8="应届",($S8*0.25)/6,IF($C8="往届",($S8*0.5)/6,"NULL")) -> 3 | CA8: 卢银楷 | CB8: =IF($C8="应届",($S8*0.25)/6,IF($C8="往届",($S8*0.5)/6,"NULL")) -> 3 | CC8: 胡慧芳 | CD8: =IF($C8="应届",($S8*0.25)/6,IF($C8="往届",($S8*0.5)/6,"NULL")) -> 3 | CE8: 金贵 | CF8: =IF($C8="应届",($S8*0.25)/6,IF($C8="往届",($S8*0.5)/6,"NULL")) -> 3 | CG8: 1 | CH8: 叶屏 | CI8: =IF($C8="应届",($S8*0.25)/6,IF($C8="往届",($S8*0.5)/6,"NULL")) -> 3 | CJ8: 余玉红 | CK8: =IF($C8="应届",($S8*0.25)/6,IF($C8="往届",($S8*0.5)/6,"NULL")) -> 3 | CL8: 胡昌燕 | CM8: =IF($C8="应届",($S8*0.25)/6,IF($C8="往届",($S8*0.5)/6,"NULL")) -> 3 | CN8: 卢银楷 | CO8: =IF($C8="应届",($S8*0.25)/6,IF($C8="往届",($S8*0.5)/6,"NULL")) -> 3 | CP8: 胡慧芳 | CQ8: =IF($C8="应届",($S8*0.25)/6,IF($C8="往届",($S8*0.5)/6,"NULL")) -> 3 | CR8: 金贵 | CS8: =IF($C8="应届",($S8*0.25)/6,IF($C8="往届",($S8*0.5)/6,"NULL")) -> 3
A9: 祝玛泽仁 | B9: 513422199905305428 | C9: 往届 | D9: 文科 | F9: 1 | G9: 0 | H9: 94 | I9: 98 | J9: 94 | K9: 60.5 | L9: 57 | M9: 41 | N9: 445 | O9: =IF(D9="理科",IF(N9>=分数线!$C$2,"本科",""),IF(D9="文科",IF(N9>=分数线!$C$3,"本科",""))) | P9: =IF(F9>0,IF(O9="本科",(2-F9)*36,-(F9)*36),IF(O9="本科",2*36,0)) -> -36 | Q9: =IF(D9="理科",IF(N9>=分数线!$C$6,"重本",""),IF(D9="文科",IF(N9>=分数线!$C$7,"重本",""))) | R9: =IF(G9>0,IF(Q9="重本",G9*72,-(G9)*72),IF(Q9="重本",2*72,0)) -> 0 | S9: =P9+R9 -> -36 | T9: NULL | U9: NULL | V9: =IF($C9="应届",($S9*0.1)/6,IF($C9="往届","","NULL")) | W9: NULL | X9: =IF($C9="应届",($S9*0.1)/6,IF($C9="往届","","NULL")) | Y9: NULL | Z9: =IF($C9="应届",($S9*0.1)/6,IF($C9="往届","","NULL")) | AA9: NULL | AB9: =IF($C9="应届",($S9*0.1)/6,IF($C9="往届","","NULL")) | AC9: NULL | AD9: =IF($C9="应届",($S9*0.1)/6,IF($C9="往届","","NULL")) | AE9: NULL | AF9: =IF($C9="应届",($S9*0.1)/6,IF($C9="往届","","NULL")) | AG9: NULL | AH9: NULL | AI9: =IF($C9="应届",($S9*0.1)/6,IF($C9="往届","","NULL")) | AJ9: NULL | AK9: =IF($C9="应届",($S9*0.1)/6,IF($C9="往届","","NULL")) | AL9: NULL | AM9: =IF($C9="应届",($S9*0.1)/6,IF($C9="往届","","NULL")) | AN9: NULL | AO9: =IF($C9="应届",($S9*0.1)/6,IF($C9="往届","","NULL")) | AP9: NULL | AQ9: =IF($C9="应届",($S9*0.1)/6,IF($C9="往届","","NULL")) | AR9: NULL | AS9: =IF($C9="应届",($S9*0.1)/6,IF($C9="往届","","NULL")) | AT9: NULL | AU9: NULL | AV9: =IF($C9="应届",($S9*0.15)/6,IF($C9="往届","","NULL")) | AW9: NULL | AX9: =IF($C9="应届",($S9*0.15)/6,IF($C9="往届","","NULL")) | AY9: NULL | AZ9: =IF($C9="应届",($S9*0.15)/6,IF($C9="往届","","NULL")) | BA9: NULL | BB9: =IF($C9="应届",($S9*0.15)/6,IF($C9="往届","","NULL")) | BC9: NULL | BD9: =IF($C9="应届",($S9*0.15)/6,IF($C9="往届","","NULL")) | BE9: NULL | BF9: =IF($C9="应届",($S9*0.15)/6,IF($C9="往届","","NULL")) | BG9: NULL | BH9: NULL | BI9: =IF($C9="应届",($S9*0.15)/6,IF($C9="往届","","NULL")) | BJ9: NULL | BK9: =IF($C9="应届",($S9*0.15)/6,IF($C9="往届","","NULL")) | BL9: NULL | BM9: =IF($C9="应届",($S9*0.15)/6,IF($C9="往届","","NULL")) | BN9: NULL | BO9: =IF($C9="应届",($S9*0.15)/6,IF($C9="往届","","NULL")) | BP9: NULL | BQ9: =IF($C9="应届",($S9*0.15)/6,IF($C9="往届","","NULL")) | BR9: NULL | BS9: =IF($C9="应届",($S9*0.15)/6,IF($C9="往届","","NULL")) | BT9: 1 | BU9: 叶屏 | BV9: =IF($C9="应届",($S9*0.25)/6,IF($C9="往届",($S9*0.5)/6,"NULL")) -> -3 | BW9: 余玉红 | BX9: =IF($C9="应届",($S9*0.25)/6,IF($C9="往届",($S9*0.5)/6,"NULL")) -> -3 | BY9: 胡昌燕 | BZ9: =IF($C9="应届",($S9*0.25)/6,IF($C9="往届",($S9*0.5)/6,"NULL")) -> -3 | CA9: 卢银楷 | CB9: =IF($C9="应届",($S9*0.25)/6,IF($C9="往届",($S9*0.5)/6,"NULL")) -> -3 | CC9: 胡慧芳 | CD9: =IF($C9="应届",($S9*0.25)/6,IF($C9="往届",($S9*0.5)/6,"NULL")) -> -3 | CE9: 金贵 | CF9: =IF($C9="应届",($S9*0.25)/6,IF($C9="往届",($S9*0.5)/6,"NULL")) -> -3 | CG9: 1 | CH9: 叶屏 | CI9: =IF($C9="应届",($S9*0.25)/6,IF($C9="往届",($S9*0.5)/6,"NULL")) -> -3 | CJ9: 余玉红 | CK9: =IF($C9="应届",($S9*0.25)/6,IF($C9="往届",($S9*0.5)/6,"NULL")) -> -3 | CL9: 胡昌燕 | CM9: =IF($C9="应届",($S9*0.25)/6,IF($C9="往届",($S9*0.5)/6,"NULL")) -> -3 | CN9: 卢银楷 | CO9: =IF($C9="应届",($S9*0.25)/6,IF($C9="往届",($S9*0.5)/6,"NULL")) -> -3 | CP9: 胡慧芳 | CQ9: =IF($C9="应届",($S9*0.25)/6,IF($C9="往届",($S9*0.5)/6,"NULL")) -> -3 | CR9: 金贵 | CS9: =IF($C9="应届",($S9*0.25)/6,IF($C9="往届",($S9*0.5)/6,"NULL")) -> -3
A10: 曾雅琪 | B10: 513422200311276629 | C10: 往届 | D10: 文科 | F10: 1 | G10: 0 | H10: 97 | I10: 102 | J10: 84 | K10: 68 | L10: 54.5 | M10: 58 | N10: 464 | O10: =IF(D10="理科",IF(N10>=分数线!$C$2,"本科",""),IF(D10="文科",IF(N10>=分数线!$C$3,"本科",""))) -> 本科 | P10: =IF(F10>0,IF(O10="本科",(2-F10)*36,-(F10)*36),IF(O10="本科",2*36,0)) -> 36 | Q10: =IF(D10="理科",IF(N10>=分数线!$C$6,"重本",""),IF(D10="文科",IF(N10>=分数线!$C$7,"重本",""))) | R10: =IF(G10>0,IF(Q10="重本",G10*72,-(G10)*72),IF(Q10="重本",2*72,0)) -> 0 | S10: =P10+R10 -> 36 | T10: NULL | U10: NULL | V10: =IF($C10="应届",($S10*0.1)/6,IF($C10="往届","","NULL")) | W10: NULL | X10: =IF($C10="应届",($S10*0.1)/6,IF($C10="往届","","NULL")) | Y10: NULL | Z10: =IF($C10="应届",($S10*0.1)/6,IF($C10="往届","","NULL")) | AA10: NULL | AB10: =IF($C10="应届",($S10*0.1)/6,IF($C10="往届","","NULL")) | AC10: NULL | AD10: =IF($C10="应届",($S10*0.1)/6,IF($C10="往届","","NULL")) | AE10: NULL | AF10: =IF($C10="应届",($S10*0.1)/6,IF($C10="往届","","NULL")) | AG10: NULL | AH10: NULL | AI10: =IF($C10="应届",($S10*0.1)/6,IF($C10="往届","","NULL")) | AJ10: NULL | AK10: =IF($C10="应届",($S10*0.1)/6,IF($C10="往届","","NULL")) | AL10: NULL | AM10: =IF($C10="应届",($S10*0.1)/6,IF($C10="往届","","NULL")) | AN10: NULL | AO10: =IF($C10="应届",($S10*0.1)/6,IF($C10="往届","","NULL")) | AP10: NULL | AQ10: =IF($C10="应届",($S10*0.1)/6,IF($C10="往届","","NULL")) | AR10: NULL | AS10: =IF($C10="应届",($S10*0.1)/6,IF($C10="往届","","NULL")) | AT10: NULL | AU10: NULL | AV10: =IF($C10="应届",($S10*0.15)/6,IF($C10="往届","","NULL")) | AW10: NULL | AX10: =IF($C10="应届",($S10*0.15)/6,IF($C10="往届","","NULL")) | AY10: NULL | AZ10: =IF($C10="应届",($S10*0.15)/6,IF($C10="往届","","NULL")) | BA10: NULL | BB10: =IF($C10="应届",($S10*0.15)/6,IF($C10="往届","","NULL")) | BC10: NULL | BD10: =IF($C10="应届",($S10*0.15)/6,IF($C10="往届","","NULL")) | BE10: NULL | BF10: =IF($C10="应届",($S10*0.15)/6,IF($C10="往届","","NULL")) | BG10: NULL | BH10: NULL | BI10: =IF($C10="应届",($S10*0.15)/6,IF($C10="往届","","NULL")) | BJ10: NULL | BK10: =IF($C10="应届",($S10*0.15)/6,IF($C10="往届","","NULL")) | BL10: NULL | BM10: =IF($C10="应届",($S10*0.15)/6,IF($C10="往届","","NULL")) | BN10: NULL | BO10: =IF($C10="应届",($S10*0.15)/6,IF($C10="往届","","NULL")) | BP10: NULL | BQ10: =IF($C10="应届",($S10*0.15)/6,IF($C10="往届","","NULL")) | BR10: NULL | BS10: =IF($C10="应届",($S10*0.15)/6,IF($C10="往届","","NULL")) | BT10: 1 | BU10: 叶屏 | BV10: =IF($C10="应届",($S10*0.25)/6,IF($C10="往届",($S10*0.5)/6,"NULL")) -> 3 | BW10: 余玉红 | BX10: =IF($C10="应届",($S10*0.25)/6,IF($C10="往届",($S10*0.5)/6,"NULL")) -> 3 | BY10: 胡昌燕 | BZ10: =IF($C10="应届",($S10*0.25)/6,IF($C10="往届",($S10*0.5)/6,"NULL")) -> 3 | CA10: 卢银楷 | CB10: =IF($C10="应届",($S10*0.25)/6,IF($C10="往届",($S10*0.5)/6,"NULL")) -> 3 | CC10: 胡慧芳 | CD10: =IF($C10="应届",($S10*0.25)/6,IF($C10="往届",($S10*0.5)/6,"NULL")) -> 3 | CE10: 金贵 | CF10: =IF($C10="应届",($S10*0.25)/6,IF($C10="往届",($S10*0.5)/6,"NULL")) -> 3 | CG10: 1 | CH10: 叶屏 | CI10: =IF($C10="应届",($S10*0.25)/6,IF($C10="往届",($S10*0.5)/6,"NULL")) -> 3 | CJ10: 余玉红 | CK10: =IF($C10="应届",($S10*0.25)/6,IF($C10="往届",($S10*0.5)/6,"NULL")) -> 3 | CL10: 胡昌燕 | CM10: =IF($C10="应届",($S10*0.25)/6,IF($C10="往届",($S10*0.5)/6,"NULL")) -> 3 | CN10: 卢银楷 | CO10: =IF($C10="应届",($S10*0.25)/6,IF($C10="往届",($S10*0.5)/6,"NULL")) -> 3 | CP10: 胡慧芳 | CQ10: =IF($C10="应届",($S10*0.25)/6,IF($C10="往届",($S10*0.5)/6,"NULL")) -> 3 | CR10: 金贵 | CS10: =IF($C10="应届",($S10*0.25)/6,IF($C10="往届",($S10*0.5)/6,"NULL")) -> 3
A11: 扎西央宗 | B11: 513422200401012328 | C11: 往届 | D11: 文科 | F11: 0 | G11: 0 | H11: 111 | I11: 69 | J11: 105 | K11: 63 | L11: 57 | M11: 33 | N11: 438 | O11: =IF(D11="理科",IF(N11>=分数线!$C$2,"本科",""),IF(D11="文科",IF(N11>=分数线!$C$3,"本科",""))) | P11: =IF(F11>0,IF(O11="本科",(2-F11)*36,-(F11)*36),IF(O11="本科",2*36,0)) -> 0 | Q11: =IF(D11="理科",IF(N11>=分数线!$C$6,"重本",""),IF(D11="文科",IF(N11>=分数线!$C$7,"重本",""))) | R11: =IF(G11>0,IF(Q11="重本",G11*72,-(G11)*72),IF(Q11="重本",2*72,0)) -> 0 | S11: =P11+R11 -> 0 | T11: NULL | U11: NULL | V11: =IF($C11="应届",($S11*0.1)/6,IF($C11="往届","","NULL")) | W11: NULL | X11: =IF($C11="应届",($S11*0.1)/6,IF($C11="往届","","NULL")) | Y11: NULL | Z11: =IF($C11="应届",($S11*0.1)/6,IF($C11="往届","","NULL")) | AA11: NULL | AB11: =IF($C11="应届",($S11*0.1)/6,IF($C11="往届","","NULL")) | AC11: NULL | AD11: =IF($C11="应届",($S11*0.1)/6,IF($C11="往届","","NULL")) | AE11: NULL | AF11: =IF($C11="应届",($S11*0.1)/6,IF($C11="往届","","NULL")) | AG11: NULL | AH11: NULL | AI11: =IF($C11="应届",($S11*0.1)/6,IF($C11="往届","","NULL")) | AJ11: NULL | AK11: =IF($C11="应届",($S11*0.1)/6,IF($C11="往届","","NULL")) | AL11: NULL | AM11: =IF($C11="应届",($S11*0.1)/6,IF($C11="往届","","NULL")) | AN11: NULL | AO11: =IF($C11="应届",($S11*0.1)/6,IF($C11="往届","","NULL")) | AP11: NULL | AQ11: =IF($C11="应届",($S11*0.1)/6,IF($C11="往届","","NULL")) | AR11: NULL | AS11: =IF($C11="应届",($S11*0.1)/6,IF($C11="往届","","NULL")) | AT11: NULL | AU11: NULL | AV11: =IF($C11="应届",($S11*0.15)/6,IF($C11="往届","","NULL")) | AW11: NULL | AX11: =IF($C11="应届",($S11*0.15)/6,IF($C11="往届","","NULL")) | AY11: NULL | AZ11: =IF($C11="应届",($S11*0.15)/6,IF($C11="往届","","NULL")) | BA11: NULL | BB11: =IF($C11="应届",($S11*0.15)/6,IF($C11="往届","","NULL")) | BC11: NULL | BD11: =IF($C11="应届",($S11*0.15)/6,IF($C11="往届","","NULL")) | BE11: NULL | BF11: =IF($C11="应届",($S11*0.15)/6,IF($C11="往届","","NULL")) | BG11: NULL | BH11: NULL | BI11: =IF($C11="应届",($S11*0.15)/6,IF($C11="往届","","NULL")) | BJ11: NULL | BK11: =IF($C11="应届",($S11*0.15)/6,IF($C11="往届","","NULL")) | BL11: NULL | BM11: =IF($C11="应届",($S11*0.15)/6,IF($C11="往届","","NULL")) | BN11: NULL | BO11: =IF($C11="应届",($S11*0.15)/6,IF($C11="往届","","NULL")) | BP11: NULL | BQ11: =IF($C11="应届",($S11*0.15)/6,IF($C11="往届","","NULL")) | BR11: NULL | BS11: =IF($C11="应届",($S11*0.15)/6,IF($C11="往届","","NULL")) | BT11: 1 | BU11: 叶屏 | BV11: =IF($C11="应届",($S11*0.25)/6,IF($C11="往届",($S11*0.5)/6,"NULL")) -> 0 | BW11: 余玉红 | BX11: =IF($C11="应届",($S11*0.25)/6,IF($C11="往届",($S11*0.5)/6,"NULL")) -> 0 | BY11: 胡昌燕 | BZ11: =IF($C11="应届",($S11*0.25)/6,IF($C11="往届",($S11*0.5)/6,"NULL")) -> 0 | CA11: 卢银楷 | CB11: =IF($C11="应届",($S11*0.25)/6,IF($C11="往届",($S11*0.5)/6,"NULL")) -> 0 | CC11: 胡慧芳 | CD11: =IF($C11="应届",($S11*0.25)/6,IF($C11="往届",($S11*0.5)/6,"NULL")) -> 0 | CE11: 金贵 | CF11: =IF($C11="应届",($S11*0.25)/6,IF($C11="往届",($S11*0.5)/6,"NULL")) -> 0 | CG11: 1 | CH11: 叶屏 | CI11: =IF($C11="应届",($S11*0.25)/6,IF($C11="往届",($S11*0.5)/6,"NULL")) -> 0 | CJ11: 余玉红 | CK11: =IF($C11="应届",($S11*0.25)/6,IF($C11="往届",($S11*0.5)/6,"NULL")) -> 0 | CL11: 胡昌燕 | CM11: =IF($C11="应届",($S11*0.25)/6,IF($C11="往届",($S11*0.5)/6,"NULL")) -> 0 | CN11: 卢银楷 | CO11: =IF($C11="应届",($S11*0.25)/6,IF($C11="往届",($S11*0.5)/6,"NULL")) -> 0 | CP11: 胡慧芳 | CQ11: =IF($C11="应届",($S11*0.25)/6,IF($C11="往届",($S11*0.5)/6,"NULL")) -> 0 | CR11: 金贵 | CS11: =IF($C11="应届",($S11*0.25)/6,IF($C11="往届",($S11*0.5)/6,"NULL")) -> 0
A12: 马子落 | B12: 513422200403156624 | C12: 往届 | D12: 文科 | F12: 1 | G12: 0 | H12: 100 | I12: 101 | J12: 88 | K12: 64.5 | L12: 71 | M12: 62 | N12: 487 | O12: =IF(D12="理科",IF(N12>=分数线!$C$2,"本科",""),IF(D12="文科",IF(N12>=分数线!$C$3,"本科",""))) -> 本科 | P12: =IF(F12>0,IF(O12="本科",(2-F12)*36,-(F12)*36),IF(O12="本科",2*36,0)) -> 36 | Q12: =IF(D12="理科",IF(N12>=分数线!$C$6,"重本",""),IF(D12="文科",IF(N12>=分数线!$C$7,"重本",""))) | R12: =IF(G12>0,IF(Q12="重本",G12*72,-(G12)*72),IF(Q12="重本",2*72,0)) -> 0 | S12: =P12+R12 -> 36 | T12: NULL | U12: NULL | V12: =IF($C12="应届",($S12*0.1)/6,IF($C12="往届","","NULL")) | W12: NULL | X12: =IF($C12="应届",($S12*0.1)/6,IF($C12="往届","","NULL")) | Y12: NULL | Z12: =IF($C12="应届",($S12*0.1)/6,IF($C12="往届","","NULL")) | AA12: NULL | AB12: =IF($C12="应届",($S12*0.1)/6,IF($C12="往届","","NULL")) | AC12: NULL | AD12: =IF($C12="应届",($S12*0.1)/6,IF($C12="往届","","NULL")) | AE12: NULL | AF12: =IF($C12="应届",($S12*0.1)/6,IF($C12="往届","","NULL")) | AG12: NULL | AH12: NULL | AI12: =IF($C12="应届",($S12*0.1)/6,IF($C12="往届","","NULL")) | AJ12: NULL | AK12: =IF($C12="应届",($S12*0.1)/6,IF($C12="往届","","NULL")) | AL12: NULL | AM12: =IF($C12="应届",($S12*0.1)/6,IF($C12="往届","","NULL")) | AN12: NULL | AO12: =IF($C12="应届",($S12*0.1)/6,IF($C12="往届","","NULL")) | AP12: NULL | AQ12: =IF($C12="应届",($S12*0.1)/6,IF($C12="往届","","NULL")) | AR12: NULL | AS12: =IF($C12="应届",($S12*0.1)/6,IF($C12="往届","","NULL")) | AT12: NULL | AU12: NULL | AV12: =IF($C12="应届",($S12*0.15)/6,IF($C12="往届","","NULL")) | AW12: NULL | AX12: =IF($C12="应届",($S12*0.15)/6,IF($C12="往届","","NULL")) | AY12: NULL | AZ12: =IF($C12="应届",($S12*0.15)/6,IF($C12="往届","","NULL")) | BA12: NULL | BB12: =IF($C12="应届",($S12*0.15)/6,IF($C12="往届","","NULL")) | BC12: NULL | BD12: =IF($C12="应届",($S12*0.15)/6,IF($C12="往届","","NULL")) | BE12: NULL | BF12: =IF($C12="应届",($S12*0.15)/6,IF($C12="往届","","NULL")) | BG12: NULL | BH12: NULL | BI12: =IF($C12="应届",($S12*0.15)/6,IF($C12="往届","","NULL")) | BJ12: NULL | BK12: =IF($C12="应届",($S12*0.15)/6,IF($C12="往届","","NULL")) | BL12: NULL | BM12: =IF($C12="应届",($S12*0.15)/6,IF($C12="往届","","NULL")) | BN12: NULL | BO12: =IF($C12="应届",($S12*0.15)/6,IF($C12="往届","","NULL")) | BP12: NULL | BQ12: =IF($C12="应届",($S12*0.15)/6,IF($C12="往届","","NULL")) | BR12: NULL | BS12: =IF($C12="应届",($S12*0.15)/6,IF($C12="往届","","NULL")) | BT12: 2 | BU12: 阙丽萍 | BV12: =IF($C12="应届",($S12*0.25)/6,IF($C12="往届",($S12*0.5)/6,"NULL")) -> 3 | BW12: 李希 | BX12: =IF($C12="应届",($S12*0.25)/6,IF($C12="往届",($S12*0.5)/6,"NULL")) -> 3 | BY12: 赵顺诚 | BZ12: =IF($C12="应届",($S12*0.25)/6,IF($C12="往届",($S12*0.5)/6,"NULL")) -> 3 | CA12: 吴文艺 | CB12: =IF($C12="应届",($S12*0.25)/6,IF($C12="往届",($S12*0.5)/6,"NULL")) -> 3 | CC12: 赵香才 | CD12: =IF($C12="应届",($S12*0.25)/6,IF($C12="往届",($S12*0.5)/6,"NULL")) -> 3 | CE12: 杜基次尔 | CF12: =IF($C12="应届",($S12*0.25)/6,IF($C12="往届",($S12*0.5)/6,"NULL")) -> 3 | CG12: 2 | CH12: 阙丽萍 | CI12: =IF($C12="应届",($S12*0.25)/6,IF($C12="往届",($S12*0.5)/6,"NULL")) -> 3 | CJ12: 李希 | CK12: =IF($C12="应届",($S12*0.25)/6,IF($C12="往届",($S12*0.5)/6,"NULL")) -> 3 | CL12: 赵顺诚 | CM12: =IF($C12="应届",($S12*0.25)/6,IF($C12="往届",($S12*0.5)/6,"NULL")) -> 3 | CN12: 吴文艺/康宇峰 | CO12: =IF($C12="应届",($S12*0.25)/6,IF($C12="往届",($S12*0.5)/6,"NULL")) -> 3 | CP12: 赵香才 | CQ12: =IF($C12="应届",($S12*0.25)/6,IF($C12="往届",($S12*0.5)/6,"NULL")) -> 3 | CR12: 杜基次尔 | CS12: =IF($C12="应届",($S12*0.25)/6,IF($C12="往届",($S12*0.5)/6,"NULL")) -> 3
A13: 次尔拉初 | B13: 513422200402215020 | C13: 往届 | D13: 文科 | F13: 1 | G13: 0 | H13: 100 | I13: 106 | J13: 94 | K13: 61.5 | L13: 64.5 | M13: 50 | N13: 476 | O13: =IF(D13="理科",IF(N13>=分数线!$C$2,"本科",""),IF(D13="文科",IF(N13>=分数线!$C$3,"本科",""))) -> 本科 | P13: =IF(F13>0,IF(O13="本科",(2-F13)*36,-(F13)*36),IF(O13="本科",2*36,0)) -> 36 | Q13: =IF(D13="理科",IF(N13>=分数线!$C$6,"重本",""),IF(D13="文科",IF(N13>=分数线!$C$7,"重本",""))) | R13: =IF(G13>0,IF(Q13="重本",G13*72,-(G13)*72),IF(Q13="重本",2*72,0)) -> 0 | S13: =P13+R13 -> 36 | T13: NULL | U13: NULL | V13: =IF($C13="应届",($S13*0.1)/6,IF($C13="往届","","NULL")) | W13: NULL | X13: =IF($C13="应届",($S13*0.1)/6,IF($C13="往届","","NULL")) | Y13: NULL | Z13: =IF($C13="应届",($S13*0.1)/6,IF($C13="往届","","NULL")) | AA13: NULL | AB13: =IF($C13="应届",($S13*0.1)/6,IF($C13="往届","","NULL")) | AC13: NULL | AD13: =IF($C13="应届",($S13*0.1)/6,IF($C13="往届","","NULL")) | AE13: NULL | AF13: =IF($C13="应届",($S13*0.1)/6,IF($C13="往届","","NULL")) | AG13: NULL | AH13: NULL | AI13: =IF($C13="应届",($S13*0.1)/6,IF($C13="往届","","NULL")) | AJ13: NULL | AK13: =IF($C13="应届",($S13*0.1)/6,IF($C13="往届","","NULL")) | AL13: NULL | AM13: =IF($C13="应届",($S13*0.1)/6,IF($C13="往届","","NULL")) | AN13: NULL | AO13: =IF($C13="应届",($S13*0.1)/6,IF($C13="往届","","NULL")) | AP13: NULL | AQ13: =IF($C13="应届",($S13*0.1)/6,IF($C13="往届","","NULL")) | AR13: NULL | AS13: =IF($C13="应届",($S13*0.1)/6,IF($C13="往届","","NULL")) | AT13: NULL | AU13: NULL | AV13: =IF($C13="应届",($S13*0.15)/6,IF($C13="往届","","NULL")) | AW13: NULL | AX13: =IF($C13="应届",($S13*0.15)/6,IF($C13="往届","","NULL")) | AY13: NULL | AZ13: =IF($C13="应届",($S13*0.15)/6,IF($C13="往届","","NULL")) | BA13: NULL | BB13: =IF($C13="应届",($S13*0.15)/6,IF($C13="往届","","NULL")) | BC13: NULL | BD13: =IF($C13="应届",($S13*0.15)/6,IF($C13="往届","","NULL")) | BE13: NULL | BF13: =IF($C13="应届",($S13*0.15)/6,IF($C13="往届","","NULL")) | BG13: NULL | BH13: NULL | BI13: =IF($C13="应届",($S13*0.15)/6,IF($C13="往届","","NULL")) | BJ13: NULL | BK13: =IF($C13="应届",($S13*0.15)/6,IF($C13="往届","","NULL")) | BL13: NULL | BM13: =IF($C13="应届",($S13*0.15)/6,IF($C13="往届","","NULL")) | BN13: NULL | BO13: =IF($C13="应届",($S13*0.15)/6,IF($C13="往届","","NULL")) | BP13: NULL | BQ13: =IF($C13="应届",($S13*0.15)/6,IF($C13="往届","","NULL")) | BR13: NULL | BS13: =IF($C13="应届",($S13*0.15)/6,IF($C13="往届","","NULL")) | BT13: 2 | BU13: 阙丽萍 | BV13: =IF($C13="应届",($S13*0.25)/6,IF($C13="往届",($S13*0.5)/6,"NULL")) -> 3 | BW13: 李希 | BX13: =IF($C13="应届",($S13*0.25)/6,IF($C13="往届",($S13*0.5)/6,"NULL")) -> 3 | BY13: 赵顺诚 | BZ13: =IF($C13="应届",($S13*0.25)/6,IF($C13="往届",($S13*0.5)/6,"NULL")) -> 3 | CA13: 吴文艺 | CB13: =IF($C13="应届",($S13*0.25)/6,IF($C13="往届",($S13*0.5)/6,"NULL")) -> 3 | CC13: 赵香才 | CD13: =IF($C13="应届",($S13*0.25)/6,IF($C13="往届",($S13*0.5)/6,"NULL")) -> 3 | CE13: 杜基次尔 | CF13: =IF($C13="应届",($S13*0.25)/6,IF($C13="往届",($S13*0.5)/6,"NULL")) -> 3 | CG13: 2 | CH13: 阙丽萍 | CI13: =IF($C13="应届",($S13*0.25)/6,IF($C13="往届",($S13*0.5)/6,"NULL")) -> 3 | CJ13: 李希 | CK13: =IF($C13="应届",($S13*0.25)/6,IF($C13="往届",($S13*0.5)/6,"NULL")) -> 3 | CL13: 赵顺诚 | CM13: =IF($C13="应届",($S13*0.25)/6,IF($C13="往届",($S13*0.5)/6,"NULL")) -> 3 | CN13: 吴文艺/康宇峰 | CO13: =IF($C13="应届",($S13*0.25)/6,IF($C13="往届",($S13*0.5)/6,"NULL")) -> 3 | CP13: 赵香才 | CQ13: =IF($C13="应届",($S13*0.25)/6,IF($C13="往届",($S13*0.5)/6,"NULL")) -> 3 | CR13: 杜基次尔 | CS13: =IF($C13="应届",($S13*0.25)/6,IF($C13="往届",($S13*0.5)/6,"NULL")) -> 3
A14: 金拉初 | B14: 51342220021007442X | C14: 往届 | D14: 文科 | F14: 0 | G14: 0 | H14: 110 | I14: 84 | J14: 119 | K14: 70.5 | L14: 36.5 | M14: 33 | N14: 453 | O14: =IF(D14="理科",IF(N14>=分数线!$C$2,"本科",""),IF(D14="文科",IF(N14>=分数线!$C$3,"本科",""))) | P14: =IF(F14>0,IF(O14="本科",(2-F14)*36,-(F14)*36),IF(O14="本科",2*36,0)) -> 0 | Q14: =IF(D14="理科",IF(N14>=分数线!$C$6,"重本",""),IF(D14="文科",IF(N14>=分数线!$C$7,"重本",""))) | R14: =IF(G14>0,IF(Q14="重本",G14*72,-(G14)*72),IF(Q14="重本",2*72,0)) -> 0 | S14: =P14+R14 -> 0 | T14: NULL | U14: NULL | V14: =IF($C14="应届",($S14*0.1)/6,IF($C14="往届","","NULL")) | W14: NULL | X14: =IF($C14="应届",($S14*0.1)/6,IF($C14="往届","","NULL")) | Y14: NULL | Z14: =IF($C14="应届",($S14*0.1)/6,IF($C14="往届","","NULL")) | AA14: NULL | AB14: =IF($C14="应届",($S14*0.1)/6,IF($C14="往届","","NULL")) | AC14: NULL | AD14: =IF($C14="应届",($S14*0.1)/6,IF($C14="往届","","NULL")) | AE14: NULL | AF14: =IF($C14="应届",($S14*0.1)/6,IF($C14="往届","","NULL")) | AG14: NULL | AH14: NULL | AI14: =IF($C14="应届",($S14*0.1)/6,IF($C14="往届","","NULL")) | AJ14: NULL | AK14: =IF($C14="应届",($S14*0.1)/6,IF($C14="往届","","NULL")) | AL14: NULL | AM14: =IF($C14="应届",($S14*0.1)/6,IF($C14="往届","","NULL")) | AN14: NULL | AO14: =IF($C14="应届",($S14*0.1)/6,IF($C14="往届","","NULL")) | AP14: NULL | AQ14: =IF($C14="应届",($S14*0.1)/6,IF($C14="往届","","NULL")) | AR14: NULL | AS14: =IF($C14="应届",($S14*0.1)/6,IF($C14="往届","","NULL")) | AT14: NULL | AU14: NULL | AV14: =IF($C14="应届",($S14*0.15)/6,IF($C14="往届","","NULL")) | AW14: NULL | AX14: =IF($C14="应届",($S14*0.15)/6,IF($C14="往届","","NULL")) | AY14: NULL | AZ14: =IF($C14="应届",($S14*0.15)/6,IF($C14="往届","","NULL")) | BA14: NULL | BB14: =IF($C14="应届",($S14*0.15)/6,IF($C14="往届","","NULL")) | BC14: NULL | BD14: =IF($C14="应届",($S14*0.15)/6,IF($C14="往届","","NULL")) | BE14: NULL | BF14: =IF($C14="应届",($S14*0.15)/6,IF($C14="往届","","NULL")) | BG14: NULL | BH14: NULL | BI14: =IF($C14="应届",($S14*0.15)/6,IF($C14="往届","","NULL")) | BJ14: NULL | BK14: =IF($C14="应届",($S14*0.15)/6,IF($C14="往届","","NULL")) | BL14: NULL | BM14: =IF($C14="应届",($S14*0.15)/6,IF($C14="往届","","NULL")) | BN14: NULL | BO14: =IF($C14="应届",($S14*0.15)/6,IF($C14="往届","","NULL")) | BP14: NULL | BQ14: =IF($C14="应届",($S14*0.15)/6,IF($C14="往届","","NULL")) | BR14: NULL | BS14: =IF($C14="应届",($S14*0.15)/6,IF($C14="往届","","NULL")) | BT14: 2 | BU14: 阙丽萍 | BV14: =IF($C14="应届",($S14*0.25)/6,IF($C14="往届",($S14*0.5)/6,"NULL")) -> 0 | BW14: 李希 | BX14: =IF($C14="应届",($S14*0.25)/6,IF($C14="往届",($S14*0.5)/6,"NULL")) -> 0 | BY14: 赵顺诚 | BZ14: =IF($C14="应届",($S14*0.25)/6,IF($C14="往届",($S14*0.5)/6,"NULL")) -> 0 | CA14: 吴文艺 | CB14: =IF($C14="应届",($S14*0.25)/6,IF($C14="往届",($S14*0.5)/6,"NULL")) -> 0 | CC14: 赵香才 | CD14: =IF($C14="应届",($S14*0.25)/6,IF($C14="往届",($S14*0.5)/6,"NULL")) -> 0 | CE14: 杜基次尔 | CF14: =IF($C14="应届",($S14*0.25)/6,IF($C14="往届",($S14*0.5)/6,"NULL")) -> 0 | CG14: 2 | CH14: 阙丽萍 | CI14: =IF($C14="应届",($S14*0.25)/6,IF($C14="往届",($S14*0.5)/6,"NULL")) -> 0 | CJ14: 李希 | CK14: =IF($C14="应届",($S14*0.25)/6,IF($C14="往届",($S14*0.5)/6,"NULL")) -> 0 | CL14: 赵顺诚 | CM14: =IF($C14="应届",($S14*0.25)/6,IF($C14="往届",($S14*0.5)/6,"NULL")) -> 0 | CN14: 吴文艺/康宇峰 | CO14: =IF($C14="应届",($S14*0.25)/6,IF($C14="往届",($S14*0.5)/6,"NULL")) -> 0 | CP14: 赵香才 | CQ14: =IF($C14="应届",($S14*0.25)/6,IF($C14="往届",($S14*0.5)/6,"NULL")) -> 0 | CR14: 杜基次尔 | CS14: =IF($C14="应届",($S14*0.25)/6,IF($C14="往届",($S14*0.5)/6,"NULL")) -> 0
A15: 叶才岗 | B15: 513422200308122119 | C15: 往届 | D15: 文科 | F15: 1 | G15: 0 | H15: 107 | I15: 93 | J15: 50 | K15: 60.5 | L15: 73.5 | M15: 49 | N15: 433 | O15: =IF(D15="理科",IF(N15>=分数线!$C$2,"本科",""),IF(D15="文科",IF(N15>=分数线!$C$3,"本科",""))) | P15: =IF(F15>0,IF(O15="本科",(2-F15)*36,-(F15)*36),IF(O15="本科",2*36,0)) -> -36 | Q15: =IF(D15="理科",IF(N15>=分数线!$C$6,"重本",""),IF(D15="文科",IF(N15>=分数线!$C$7,"重本",""))) | R15: =IF(G15>0,IF(Q15="重本",G15*72,-(G15)*72),IF(Q15="重本",2*72,0)) -> 0 | S15: =P15+R15 -> -36 | T15: NULL | U15: NULL | V15: =IF($C15="应届",($S15*0.1)/6,IF($C15="往届","","NULL")) | W15: NULL | X15: =IF($C15="应届",($S15*0.1)/6,IF($C15="往届","","NULL")) | Y15: NULL | Z15: =IF($C15="应届",($S15*0.1)/6,IF($C15="往届","","NULL")) | AA15: NULL | AB15: =IF($C15="应届",($S15*0.1)/6,IF($C15="往届","","NULL")) | AC15: NULL | AD15: =IF($C15="应届",($S15*0.1)/6,IF($C15="往届","","NULL")) | AE15: NULL | AF15: =IF($C15="应届",($S15*0.1)/6,IF($C15="往届","","NULL")) | AG15: NULL | AH15: NULL | AI15: =IF($C15="应届",($S15*0.1)/6,IF($C15="往届","","NULL")) | AJ15: NULL | AK15: =IF($C15="应届",($S15*0.1)/6,IF($C15="往届","","NULL")) | AL15: NULL | AM15: =IF($C15="应届",($S15*0.1)/6,IF($C15="往届","","NULL")) | AN15: NULL | AO15: =IF($C15="应届",($S15*0.1)/6,IF($C15="往届","","NULL")) | AP15: NULL | AQ15: =IF($C15="应届",($S15*0.1)/6,IF($C15="往届","","NULL")) | AR15: NULL | AS15: =IF($C15="应届",($S15*0.1)/6,IF($C15="往届","","NULL")) | AT15: NULL | AU15: NULL | AV15: =IF($C15="应届",($S15*0.15)/6,IF($C15="往届","","NULL")) | AW15: NULL | AX15: =IF($C15="应届",($S15*0.15)/6,IF($C15="往届","","NULL")) | AY15: NULL | AZ15: =IF($C15="应届",($S15*0.15)/6,IF($C15="往届","","NULL")) | BA15: NULL | BB15: =IF($C15="应届",($S15*0.15)/6,IF($C15="往届","","NULL")) | BC15: NULL | BD15: =IF($C15="应届",($S15*0.15)/6,IF($C15="往届","","NULL")) | BE15: NULL | BF15: =IF($C15="应届",($S15*0.15)/6,IF($C15="往届","","NULL")) | BG15: NULL | BH15: NULL | BI15: =IF($C15="应届",($S15*0.15)/6,IF($C15="往届","","NULL")) | BJ15: NULL | BK15: =IF($C15="应届",($S15*0.15)/6,IF($C15="往届","","NULL")) | BL15: NULL | BM15: =IF($C15="应届",($S15*0.15)/6,IF($C15="往届","","NULL")) | BN15: NULL | BO15: =IF($C15="应届",($S15*0.15)/6,IF($C15="往届","","NULL")) | BP15: NULL | BQ15: =IF($C15="应届",($S15*0.15)/6,IF($C15="往届","","NULL")) | BR15: NULL | BS15: =IF($C15="应届",($S15*0.15)/6,IF($C15="往届","","NULL")) | BT15: 2 | BU15: 阙丽萍 | BV15: =IF($C15="应届",($S15*0.25)/6,IF($C15="往届",($S15*0.5)/6,"NULL")) -> -3 | BW15: 李希 | BX15: =IF($C15="应届",($S15*0.25)/6,IF($C15="往届",($S15*0.5)/6,"NULL")) -> -3 | BY15: 赵顺诚 | BZ15: =IF($C15="应届",($S15*0.25)/6,IF($C15="往届",($S15*0.5)/6,"NULL")) -> -3 | CA15: 吴文艺 | CB15: =IF($C15="应届",($S15*0.25)/6,IF($C15="往届",($S15*0.5)/6,"NULL")) -> -3 | CC15: 赵香才 | CD15: =IF($C15="应届",($S15*0.25)/6,IF($C15="往届",($S15*0.5)/6,"NULL")) -> -3 | CE15: 杜基次尔 | CF15: =IF($C15="应届",($S15*0.25)/6,IF($C15="往届",($S15*0.5)/6,"NULL")) -> -3 | CG15: 2 | CH15: 阙丽萍 | CI15: =IF($C15="应届",($S15*0.25)/6,IF($C15="往届",($S15*0.5)/6,"NULL")) -> -3 | CJ15: 李希 | CK15: =IF($C15="应届",($S15*0.25)/6,IF($C15="往届",($S15*0.5)/6,"NULL")) -> -3 | CL15: 赵顺诚 | CM15: =IF($C15="应届",($S15*0.25)/6,IF($C15="往届",($S15*0.5)/6,"NULL")) -> -3 | CN15: 吴文艺/康宇峰 | CO15: =IF($C15="应届",($S15*0.25)/6,IF($C15="往届",($S15*0.5)/6,"NULL")) -> -3 | CP15: 赵香才 | CQ15: =IF($C15="应届",($S15*0.25)/6,IF($C15="往届",($S15*0.5)/6,"NULL")) -> -3 | CR15: 杜基次尔 | CS15: =IF($C15="应届",($S15*0.25)/6,IF($C15="往届",($S15*0.5)/6,"NULL")) -> -3
A16: 罗伍呷 | B16: 513422200111060022 | C16: 往届 | D16: 文科 | F16: 1 | G16: 0 | H16: 107 | I16: 64 | J16: 90 | K16: 71 | L16: 61.5 | M16: 49 | N16: 443 | O16: =IF(D16="理科",IF(N16>=分数线!$C$2,"本科",""),IF(D16="文科",IF(N16>=分数线!$C$3,"本科",""))) | P16: =IF(F16>0,IF(O16="本科",(2-F16)*36,-(F16)*36),IF(O16="本科",2*36,0)) -> -36 | Q16: =IF(D16="理科",IF(N16>=分数线!$C$6,"重本",""),IF(D16="文科",IF(N16>=分数线!$C$7,"重本",""))) | R16: =IF(G16>0,IF(Q16="重本",G16*72,-(G16)*72),IF(Q16="重本",2*72,0)) -> 0 | S16: =P16+R16 -> -36 | T16: NULL | U16: NULL | V16: =IF($C16="应届",($S16*0.1)/6,IF($C16="往届","","NULL")) | W16: NULL | X16: =IF($C16="应届",($S16*0.1)/6,IF($C16="往届","","NULL")) | Y16: NULL | Z16: =IF($C16="应届",($S16*0.1)/6,IF($C16="往届","","NULL")) | AA16: NULL | AB16: =IF($C16="应届",($S16*0.1)/6,IF($C16="往届","","NULL")) | AC16: NULL | AD16: =IF($C16="应届",($S16*0.1)/6,IF($C16="往届","","NULL")) | AE16: NULL | AF16: =IF($C16="应届",($S16*0.1)/6,IF($C16="往届","","NULL")) | AG16: NULL | AH16: NULL | AI16: =IF($C16="应届",($S16*0.1)/6,IF($C16="往届","","NULL")) | AJ16: NULL | AK16: =IF($C16="应届",($S16*0.1)/6,IF($C16="往届","","NULL")) | AL16: NULL | AM16: =IF($C16="应届",($S16*0.1)/6,IF($C16="往届","","NULL")) | AN16: NULL | AO16: =IF($C16="应届",($S16*0.1)/6,IF($C16="往届","","NULL")) | AP16: NULL | AQ16: =IF($C16="应届",($S16*0.1)/6,IF($C16="往届","","NULL")) | AR16: NULL | AS16: =IF($C16="应届",($S16*0.1)/6,IF($C16="往届","","NULL")) | AT16: NULL | AU16: NULL | AV16: =IF($C16="应届",($S16*0.15)/6,IF($C16="往届","","NULL")) | AW16: NULL | AX16: =IF($C16="应届",($S16*0.15)/6,IF($C16="往届","","NULL")) | AY16: NULL | AZ16: =IF($C16="应届",($S16*0.15)/6,IF($C16="往届","","NULL")) | BA16: NULL | BB16: =IF($C16="应届",($S16*0.15)/6,IF($C16="往届","","NULL")) | BC16: NULL | BD16: =IF($C16="应届",($S16*0.15)/6,IF($C16="往届","","NULL")) | BE16: NULL | BF16: =IF($C16="应届",($S16*0.15)/6,IF($C16="往届","","NULL")) | BG16: NULL | BH16: NULL | BI16: =IF($C16="应届",($S16*0.15)/6,IF($C16="往届","","NULL")) | BJ16: NULL | BK16: =IF($C16="应届",($S16*0.15)/6,IF($C16="往届","","NULL")) | BL16: NULL | BM16: =IF($C16="应届",($S16*0.15)/6,IF($C16="往届","","NULL")) | BN16: NULL | BO16: =IF($C16="应届",($S16*0.15)/6,IF($C16="往届","","NULL")) | BP16: NULL | BQ16: =IF($C16="应届",($S16*0.15)/6,IF($C16="往届","","NULL")) | BR16: NULL | BS16: =IF($C16="应届",($S16*0.15)/6,IF($C16="往届","","NULL")) | BT16: 2 | BU16: 阙丽萍 | BV16: =IF($C16="应届",($S16*0.25)/6,IF($C16="往届",($S16*0.5)/6,"NULL")) -> -3 | BW16: 李希 | BX16: =IF($C16="应届",($S16*0.25)/6,IF($C16="往届",($S16*0.5)/6,"NULL")) -> -3 | BY16: 赵顺诚 | BZ16: =IF($C16="应届",($S16*0.25)/6,IF($C16="往届",($S16*0.5)/6,"NULL")) -> -3 | CA16: 吴文艺 | CB16: =IF($C16="应届",($S16*0.25)/6,IF($C16="往届",($S16*0.5)/6,"NULL")) -> -3 | CC16: 赵香才 | CD16: =IF($C16="应届",($S16*0.25)/6,IF($C16="往届",($S16*0.5)/6,"NULL")) -> -3 | CE16: 杜基次尔 | CF16: =IF($C16="应届",($S16*0.25)/6,IF($C16="往届",($S16*0.5)/6,"NULL")) -> -3 | CG16: 2 | CH16: 阙丽萍 | CI16: =IF($C16="应届",($S16*0.25)/6,IF($C16="往届",($S16*0.5)/6,"NULL")) -> -3 | CJ16: 李希 | CK16: =IF($C16="应届",($S16*0.25)/6,IF($C16="往届",($S16*0.5)/6,"NULL")) -> -3 | CL16: 赵顺诚 | CM16: =IF($C16="应届",($S16*0.25)/6,IF($C16="往届",($S16*0.5)/6,"NULL")) -> -3 | CN16: 吴文艺/康宇峰 | CO16: =IF($C16="应届",($S16*0.25)/6,IF($C16="往届",($S16*0.5)/6,"NULL")) -> -3 | CP16: 赵香才 | CQ16: =IF($C16="应届",($S16*0.25)/6,IF($C16="往届",($S16*0.5)/6,"NULL")) -> -3 | CR16: 杜基次尔 | CS16: =IF($C16="应届",($S16*0.25)/6,IF($C16="往届",($S16*0.5)/6,"NULL")) -> -3
... A22: 扎西 | B22: 513422200001145412 | C22: 往届 | D22: 文科 | F22: 0 | G22: 0 | H22: 105 | I22: 62 | J22: 90 | K22: 67.5 | L22: 59.5 | M22: 57 | N22: 441 | O22: =IF(D22="理科",IF(N22>=分数线!$C$2,"本科",""),IF(D22="文科",IF(N22>=分数线!$C$3,"本科",""))) | P22: =IF(F22>0,IF(O22="本科",(2-F22)*36,-(F22)*36),IF(O22="本科",2*36,0)) -> 0 | Q22: =IF(D22="理科",IF(N22>=分数线!$C$6,"重本",""),IF(D22="文科",IF(N22>=分数线!$C$7,"重本",""))) | R22: =IF(G22>0,IF(Q22="重本",G22*72,-(G22)*72),IF(Q22="重本",2*72,0)) -> 0 | S22: =P22+R22 -> 0 | T22: NULL | U22: NULL | V22: =IF($C22="应届",($S22*0.1)/6,IF($C22="往届","","NULL")) | W22: NULL | X22: =IF($C22="应届",($S22*0.1)/6,IF($C22="往届","","NULL")) | Y22: NULL | Z22: =IF($C22="应届",($S22*0.1)/6,IF($C22="往届","","NULL")) | AA22: NULL | AB22: =IF($C22="应届",($S22*0.1)/6,IF($C22="往届","","NULL")) | AC22: NULL | AD22: =IF($C22="应届",($S22*0.1)/6,IF($C22="往届","","NULL")) | AE22: NULL | AF22: =IF($C22="应届",($S22*0.1)/6,IF($C22="往届","","NULL")) | AG22: NULL | AH22: NULL | AI22: =IF($C22="应届",($S22*0.1)/6,IF($C22="往届","","NULL")) | AJ22: NULL | AK22: =IF($C22="应届",($S22*0.1)/6,IF($C22="往届","","NULL")) | AL22: NULL | AM22: =IF($C22="应届",($S22*0.1)/6,IF($C22="往届","","NULL")) | AN22: NULL | AO22: =IF($C22="应届",($S22*0.1)/6,IF($C22="往届","","NULL")) | AP22: NULL | AQ22: =IF($C22="应届",($S22*0.1)/6,IF($C22="往届","","NULL")) | AR22: NULL | AS22: =IF($C22="应届",($S22*0.1)/6,IF($C22="往届","","NULL")) | AT22: NULL | AU22: NULL | AV22: =IF($C22="应届",($S22*0.15)/6,IF($C22="往届","","NULL")) | AW22: NULL | AX22: =IF($C22="应届",($S22*0.15)/6,IF($C22="往届","","NULL")) | AY22: NULL | AZ22: =IF($C22="应届",($S22*0.15)/6,IF($C22="往届","","NULL")) | BA22: NULL | BB22: =IF($C22="应届",($S22*0.15)/6,IF($C22="往届","","NULL")) | BC22: NULL | BD22: =IF($C22="应届",($S22*0.15)/6,IF($C22="往届","","NULL")) | BE22: NULL | BF22: =IF($C22="应届",($S22*0.15)/6,IF($C22="往届","","NULL")) | BG22: NULL | BH22: NULL | BI22: =IF($C22="应届",($S22*0.15)/6,IF($C22="往届","","NULL")) | BJ22: NULL | BK22: =IF($C22="应届",($S22*0.15)/6,IF($C22="往届","","NULL")) | BL22: NULL | BM22: =IF($C22="应届",($S22*0.15)/6,IF($C22="往届","","NULL")) | BN22: NULL | BO22: =IF($C22="应届",($S22*0.15)/6,IF($C22="往届","","NULL")) | BP22: NULL | BQ22: =IF($C22="应届",($S22*0.15)/6,IF($C22="往届","","NULL")) | BR22: NULL | BS22: =IF($C22="应届",($S22*0.15)/6,IF($C22="往届","","NULL")) | BT22: 3 | BU22: 曹霞 | BV22: =IF($C22="应届",($S22*0.25)/6,IF($C22="往届",($S22*0.5)/6,"NULL")) -> 0 | BW22: 余玉红 | BX22: =IF($C22="应届",($S22*0.25)/6,IF($C22="往届",($S22*0.5)/6,"NULL")) -> 0 | BY22: 汪睿 | BZ22: =IF($C22="应届",($S22*0.25)/6,IF($C22="往届",($S22*0.5)/6,"NULL")) -> 0 | CA22: 卢银楷 | CB22: =IF($C22="应届",($S22*0.25)/6,IF($C22="往届",($S22*0.5)/6,"NULL")) -> 0 | CC22: 赵香才 | CD22: =IF($C22="应届",($S22*0.25)/6,IF($C22="往届",($S22*0.5)/6,"NULL")) -> 0 | CE22: 杜基次尔 | CF22: =IF($C22="应届",($S22*0.25)/6,IF($C22="往届",($S22*0.5)/6,"NULL")) -> 0 | CG22: 3 | CH22: 曹霞 | CI22: =IF($C22="应届",($S22*0.25)/6,IF($C22="往届",($S22*0.5)/6,"NULL")) -> 0 | CJ22: 余玉红 | CK22: =IF($C22="应届",($S22*0.25)/6,IF($C22="往届",($S22*0.5)/6,"NULL")) -> 0 | CL22: 汪睿 | CM22: =IF($C22="应届",($S22*0.25)/6,IF($C22="往届",($S22*0.5)/6,"NULL")) -> 0 | CN22: 赵香才 | CO22: =IF($C22="应届",($S22*0.25)/6,IF($C22="往届",($S22*0.5)/6,"NULL")) -> 0 | CP22: 卢银楷 | CQ22: =IF($C22="应届",($S22*0.25)/6,IF($C22="往届",($S22*0.5)/6,"NULL")) -> 0 | CR22: 杜基次尔 | CS22: =IF($C22="应届",($S22*0.25)/6,IF($C22="往届",($S22*0.5)/6,"NULL")) -> 0
A23: 扎西尼玛 | B23: 513422200312082519 | C23: 往届 | D23: 文科 | F23: 0 | G23: 0 | H23: 93 | I23: 90 | J23: 55 | K23: 61 | L23: 48.5 | M23: 37 | N23: 385 | O23: =IF(D23="理科",IF(N23>=分数线!$C$2,"本科",""),IF(D23="文科",IF(N23>=分数线!$C$3,"本科",""))) | P23: =IF(F23>0,IF(O23="本科",(2-F23)*36,-(F23)*36),IF(O23="本科",2*36,0)) -> 0 | Q23: =IF(D23="理科",IF(N23>=分数线!$C$6,"重本",""),IF(D23="文科",IF(N23>=分数线!$C$7,"重本",""))) | R23: =IF(G23>0,IF(Q23="重本",G23*72,-(G23)*72),IF(Q23="重本",2*72,0)) -> 0 | S23: =P23+R23 -> 0 | T23: NULL | U23: NULL | V23: =IF($C23="应届",($S23*0.1)/6,IF($C23="往届","","NULL")) | W23: NULL | X23: =IF($C23="应届",($S23*0.1)/6,IF($C23="往届","","NULL")) | Y23: NULL | Z23: =IF($C23="应届",($S23*0.1)/6,IF($C23="往届","","NULL")) | AA23: NULL | AB23: =IF($C23="应届",($S23*0.1)/6,IF($C23="往届","","NULL")) | AC23: NULL | AD23: =IF($C23="应届",($S23*0.1)/6,IF($C23="往届","","NULL")) | AE23: NULL | AF23: =IF($C23="应届",($S23*0.1)/6,IF($C23="往届","","NULL")) | AG23: NULL | AH23: NULL | AI23: =IF($C23="应届",($S23*0.1)/6,IF($C23="往届","","NULL")) | AJ23: NULL | AK23: =IF($C23="应届",($S23*0.1)/6,IF($C23="往届","","NULL")) | AL23: NULL | AM23: =IF($C23="应届",($S23*0.1)/6,IF($C23="往届","","NULL")) | AN23: NULL | AO23: =IF($C23="应届",($S23*0.1)/6,IF($C23="往届","","NULL")) | AP23: NULL | AQ23: =IF($C23="应届",($S23*0.1)/6,IF($C23="往届","","NULL")) | AR23: NULL | AS23: =IF($C23="应届",($S23*0.1)/6,IF($C23="往届","","NULL")) | AT23: NULL | AU23: NULL | AV23: =IF($C23="应届",($S23*0.15)/6,IF($C23="往届","","NULL")) | AW23: NULL | AX23: =IF($C23="应届",($S23*0.15)/6,IF($C23="往届","","NULL")) | AY23: NULL | AZ23: =IF($C23="应届",($S23*0.15)/6,IF($C23="往届","","NULL")) | BA23: NULL | BB23: =IF($C23="应届",($S23*0.15)/6,IF($C23="往届","","NULL")) | BC23: NULL | BD23: =IF($C23="应届",($S23*0.15)/6,IF($C23="往届","","NULL")) | BE23: NULL | BF23: =IF($C23="应届",($S23*0.15)/6,IF($C23="往届","","NULL")) | BG23: NULL | BH23: NULL | BI23: =IF($C23="应届",($S23*0.15)/6,IF($C23="往届","","NULL")) | BJ23: NULL | BK23: =IF($C23="应届",($S23*0.15)/6,IF($C23="往届","","NULL")) | BL23: NULL | BM23: =IF($C23="应届",($S23*0.15)/6,IF($C23="往届","","NULL")) | BN23: NULL | BO23: =IF($C23="应届",($S23*0.15)/6,IF($C23="往届","","NULL")) | BP23: NULL | BQ23: =IF($C23="应届",($S23*0.15)/6,IF($C23="往届","","NULL")) | BR23: NULL | BS23: =IF($C23="应届",($S23*0.15)/6,IF($C23="往届","","NULL")) | BT23: #N/A | BU23: #N/A | BV23: =IF($C23="应届",($S23*0.25)/6,IF($C23="往届",($S23*0.5)/6,"NULL")) -> 0 | BW23: #N/A | BX23: =IF($C23="应届",($S23*0.25)/6,IF($C23="往届",($S23*0.5)/6,"NULL")) -> 0 | BY23: 汪睿 | BZ23: =IF($C23="应届",($S23*0.25)/6,IF($C23="往届",($S23*0.5)/6,"NULL")) -> 0 | CA23: #N/A | CB23: =IF($C23="应届",($S23*0.25)/6,IF($C23="往届",($S23*0.5)/6,"NULL")) -> 0 | CC23: #N/A | CD23: =IF($C23="应届",($S23*0.25)/6,IF($C23="往届",($S23*0.5)/6,"NULL")) -> 0 | CE23: #N/A | CF23: =IF($C23="应届",($S23*0.25)/6,IF($C23="往届",($S23*0.5)/6,"NULL")) -> 0 | CG23: 3 | CH23: 曹霞 | CI23: =IF($C23="应届",($S23*0.25)/6,IF($C23="往届",($S23*0.5)/6,"NULL")) -> 0 | CJ23: 余玉红 | CK23: =IF($C23="应届",($S23*0.25)/6,IF($C23="往届",($S23*0.5)/6,"NULL")) -> 0 | CL23: 汪睿 | CM23: =IF($C23="应届",($S23*0.25)/6,IF($C23="往届",($S23*0.5)/6,"NULL")) -> 0 | CN23: 赵香才 | CO23: =IF($C23="应届",($S23*0.25)/6,IF($C23="往届",($S23*0.5)/6,"NULL")) -> 0 | CP23: 卢银楷 | CQ23: =IF($C23="应届",($S23*0.25)/6,IF($C23="往届",($S23*0.5)/6,"NULL")) -> 0 | CR23: 杜基次尔 | CS23: =IF($C23="应届",($S23*0.25)/6,IF($C23="往届",($S23*0.5)/6,"NULL")) -> 0
A24: 苏朗拉姆 | B24: 513422200211254625 | C24: 往届 | D24: 文科 | F24: 0 | G24: 0 | H24: 80 | I24: 12 | J24: 23 | K24: 40 | L24: 44.5 | M24: 37 | N24: 237 | O24: =IF(D24="理科",IF(N24>=分数线!$C$2,"本科",""),IF(D24="文科",IF(N24>=分数线!$C$3,"本科",""))) | P24: =IF(F24>0,IF(O24="本科",(2-F24)*36,-(F24)*36),IF(O24="本科",2*36,0)) -> 0 | Q24: =IF(D24="理科",IF(N24>=分数线!$C$6,"重本",""),IF(D24="文科",IF(N24>=分数线!$C$7,"重本",""))) | R24: =IF(G24>0,IF(Q24="重本",G24*72,-(G24)*72),IF(Q24="重本",2*72,0)) -> 0 | S24: =P24+R24 -> 0 | T24: NULL | U24: NULL | V24: =IF($C24="应届",($S24*0.1)/6,IF($C24="往届","","NULL")) | W24: NULL | X24: =IF($C24="应届",($S24*0.1)/6,IF($C24="往届","","NULL")) | Y24: NULL | Z24: =IF($C24="应届",($S24*0.1)/6,IF($C24="往届","","NULL")) | AA24: NULL | AB24: =IF($C24="应届",($S24*0.1)/6,IF($C24="往届","","NULL")) | AC24: NULL | AD24: =IF($C24="应届",($S24*0.1)/6,IF($C24="往届","","NULL")) | AE24: NULL | AF24: =IF($C24="应届",($S24*0.1)/6,IF($C24="往届","","NULL")) | AG24: NULL | AH24: NULL | AI24: =IF($C24="应届",($S24*0.1)/6,IF($C24="往届","","NULL")) | AJ24: NULL | AK24: =IF($C24="应届",($S24*0.1)/6,IF($C24="往届","","NULL")) | AL24: NULL | AM24: =IF($C24="应届",($S24*0.1)/6,IF($C24="往届","","NULL")) | AN24: NULL | AO24: =IF($C24="应届",($S24*0.1)/6,IF($C24="往届","","NULL")) | AP24: NULL | AQ24: =IF($C24="应届",($S24*0.1)/6,IF($C24="往届","","NULL")) | AR24: NULL | AS24: =IF($C24="应届",($S24*0.1)/6,IF($C24="往届","","NULL")) | AT24: NULL | AU24: NULL | AV24: =IF($C24="应届",($S24*0.15)/6,IF($C24="往届","","NULL")) | AW24: NULL | AX24: =IF($C24="应届",($S24*0.15)/6,IF($C24="往届","","NULL")) | AY24: NULL | AZ24: =IF($C24="应届",($S24*0.15)/6,IF($C24="往届","","NULL")) | BA24: NULL | BB24: =IF($C24="应届",($S24*0.15)/6,IF($C24="往届","","NULL")) | BC24: NULL | BD24: =IF($C24="应届",($S24*0.15)/6,IF($C24="往届","","NULL")) | BE24: NULL | BF24: =IF($C24="应届",($S24*0.15)/6,IF($C24="往届","","NULL")) | BG24: NULL | BH24: NULL | BI24: =IF($C24="应届",($S24*0.15)/6,IF($C24="往届","","NULL")) | BJ24: NULL | BK24: =IF($C24="应届",($S24*0.15)/6,IF($C24="往届","","NULL")) | BL24: NULL | BM24: =IF($C24="应届",($S24*0.15)/6,IF($C24="往届","","NULL")) | BN24: NULL | BO24: =IF($C24="应届",($S24*0.15)/6,IF($C24="往届","","NULL")) | BP24: NULL | BQ24: =IF($C24="应届",($S24*0.15)/6,IF($C24="往届","","NULL")) | BR24: NULL | BS24: =IF($C24="应届",($S24*0.15)/6,IF($C24="往届","","NULL")) | BT24: #N/A | BU24: #N/A | BV24: =IF($C24="应届",($S24*0.25)/6,IF($C24="往届",($S24*0.5)/6,"NULL")) -> 0 | BW24: #N/A | BX24: =IF($C24="应届",($S24*0.25)/6,IF($C24="往届",($S24*0.5)/6,"NULL")) -> 0 | BY24: 汪睿 | BZ24: =IF($C24="应届",($S24*0.25)/6,IF($C24="往届",($S24*0.5)/6,"NULL")) -> 0 | CA24: #N/A | CB24: =IF($C24="应届",($S24*0.25)/6,IF($C24="往届",($S24*0.5)/6,"NULL")) -> 0 | CC24: #N/A | CD24: =IF($C24="应届",($S24*0.25)/6,IF($C24="往届",($S24*0.5)/6,"NULL")) -> 0 | CE24: #N/A | CF24: =IF($C24="应届",($S24*0.25)/6,IF($C24="往届",($S24*0.5)/6,"NULL")) -> 0 | CG24: 3 | CH24: 曹霞 | CI24: =IF($C24="应届",($S24*0.25)/6,IF($C24="往届",($S24*0.5)/6,"NULL")) -> 0 | CJ24: 余玉红 | CK24: =IF($C24="应届",($S24*0.25)/6,IF($C24="往届",($S24*0.5)/6,"NULL")) -> 0 | CL24: 汪睿 | CM24: =IF($C24="应届",($S24*0.25)/6,IF($C24="往届",($S24*0.5)/6,"NULL")) -> 0 | CN24: 赵香才 | CO24: =IF($C24="应届",($S24*0.25)/6,IF($C24="往届",($S24*0.5)/6,"NULL")) -> 0 | CP24: 卢银楷 | CQ24: =IF($C24="应届",($S24*0.25)/6,IF($C24="往届",($S24*0.5)/6,"NULL")) -> 0 | CR24: 杜基次尔 | CS24: =IF($C24="应届",($S24*0.25)/6,IF($C24="往届",($S24*0.5)/6,"NULL")) -> 0
