Workbook
Name basicdata: '3.1总分上线'!$B$4:$CS$652
Name 班主任: #REF!,#REF!,#REF!,#REF!,#REF!,#REF!
Name 单双上线: '3.2学科单双上线'!#REF!
Name 高2016级质量奖: #REF!
Name 高2017级质量奖: #REF!
Name 高2018级质量奖: #REF!
Name 基本奖: #REF!
Name 文化贡献奖: #REF!
Name 文化贡献奖: #REF!
Name 学生教师总表: '3.1总分上线'!$B$4:$CS$652
Name 总分上线: '3.1总分上线'!$A$668:$B$716
Name 总分上线教师分数: '3.1总分上线'!$U$4:$AF$646,'3.1总分上线'!$AH$4:$AS$646,'3.1总分上线'!$AU$4:$BF$646,'3.1总分上线'!$BH$4:$BS$646,'3.1总分上线'!$BU$4:$CF$646,'3.1总分上线'!$CH$4:$CS$646

Sheet 分数线
C1: 总分 | D1: 语文 | E1: 数学 | F1: 英语 | G1: 物理/政治 | H1: 化学/历史 | I1: 生物/地理
A2: 本科线 | B2: 理科 | C2: 433 | D2: 103 | E2: 73 | F2: 90 | G2: 48.5 | H2: 58.5 | I2: 67
B3: 文科 | C3: 458 | D3: 106 | E3: 87 | F3: 95 | G3: 68 | H3: 65 | I3: 54
C5: 总分 | D5: 语文 | E5: 数学 | F5: 英语 | G5: 物理/政治 | H5: 化学/历史 | I5: 生物/地理
A6: 重本线 | B6: 理科 | C6: 520 | D6: 111 | E6: 95 | F6: 116 | G6: 71 | H6: 75 | I6: 77.5
B7: 文科 | C7: 527 | D7: 115 | E7: 112 | F7: 121.5 | G7: 75 | H7: 75.5 | I7: 65
A9: 附：

Sheet 3.上线质量
C1: 总分上线 | E1: 学科单双上线
A2: 序号 | B2: 姓名 | C2: 得分 | D2: 金额 | E2: 得分 | F2: 金额 | G2: sum
A3: 1 | B3: 曹霞 | C3: =VLOOKUP(B3,'3.1总分上线'!$A$669:$B$729,2,FALSE) -> 27 | D3: =C3*312528.9/SUM($C$3:$C$62) -> 1375.5337 | E3: =VLOOKUP(B3,'3.2学科单双上线'!$A$664:$B$724,2,FALSE) -> 189 | F3: =E3*208352.6/SUM($E$3:$E$61) -> 1290.0287 | G3: =D3+F3 -> 2665.5624
A4: 2 | B4: 陈文惠 | C4: =VLOOKUP(B4,'3.1总分上线'!$A$669:$B$729,2,FALSE) -> 206.1 | D4: =C4*312528.9/SUM($C$3:$C$62) -> 10499.907 | E4: =VLOOKUP(B4,'3.2学科单双上线'!$A$664:$B$724,2,FALSE) -> 1074.6 | F4: =E4*208352.6/SUM($E$3:$E$61) -> 7334.7345 | G4: =D4+F4 -> 17834.642
A5: 3 | B5: 程长寿 | C5: =VLOOKUP(B5,'3.1总分上线'!$A$669:$B$729,2,FALSE) -> 433.02 | D5: =C5*312528.9/SUM($C$3:$C$62) -> 22060.504 | E5: =VLOOKUP(B5,'3.2学科单双上线'!$A$664:$B$724,2,FALSE) -> 2241 | F5: =E5*208352.6/SUM($E$3:$E$61) -> 15296.054 | G5: =D5+F5 -> 37356.558
A6: 4 | B6: 达娃央初 | C6: =VLOOKUP(B6,'3.1总分上线'!$A$669:$B$729,2,FALSE) -> 3.54 | D6: =C6*312528.9/SUM($C$3:$C$62) -> 180.34775 | E6: =VLOOKUP(B6,'3.2学科单双上线'!$A$664:$B$724,2,FALSE) -> 18.9 | F6: =E6*208352.6/SUM($E$3:$E$61) -> 129.00287 | G6: =D6+F6 -> 309.35062
A7: 5 | B7: 杜基次尔 | C7: =VLOOKUP(B7,'3.1总分上线'!$A$669:$B$729,2,FALSE) -> 72.72 | D7: =C7*312528.9/SUM($C$3:$C$62) -> 3704.7708 | E7: =VLOOKUP(B7,'3.2学科单双上线'!$A$664:$B$724,2,FALSE) -> 822.6 | F7: =E7*208352.6/SUM($E$3:$E$61) -> 5614.6962 | G7: =D7+F7 -> 9319.467
A8: 6 | B8: 高贵勇 | C8: =VLOOKUP(B8,'3.1总分上线'!$A$669:$B$729,2,FALSE) -> -15.03 | D8: =C8*312528.9/SUM($C$3:$C$62) -> -765.71376 | E8: =VLOOKUP(B8,'3.2学科单双上线'!$A$664:$B$724,2,FALSE) -> 167.4 | F8: =E8*208352.6/SUM($E$3:$E$61) -> 1142.5968 | G8: =D8+F8 -> 376.88307
A9: 7 | B9: 勾中文 | C9: =VLOOKUP(B9,'3.1总分上线'!$A$669:$B$729,2,FALSE) -> 2.16 | D9: =C9*312528.9/SUM($C$3:$C$62) -> 110.0427 | E9: =VLOOKUP(B9,'3.2学科单双上线'!$A$664:$B$724,2,FALSE) -> 41.4 | F9: =E9*208352.6/SUM($E$3:$E$61) -> 282.57771 | G9: =D9+F9 -> 392.62041
A10: 8 | B10: 辜英琼 | C10: =VLOOKUP(B10,'3.1总分上线'!$A$669:$B$729,2,FALSE) -> 62.04 | D10: =C10*312528.9/SUM($C$3:$C$62) -> 3160.6708 | E10: =VLOOKUP(B10,'3.2学科单双上线'!$A$664:$B$724,2,FALSE) -> 216 | F10: =E10*208352.6/SUM($E$3:$E$61) -> 1474.3185 | G10: =D10+F10 -> 4634.9893
A11: 9 | B11: 何光红 | C11: =VLOOKUP(B11,'3.1总分上线'!$A$669:$B$729,2,FALSE) -> 72 | D11: =C11*312528.9/SUM($C$3:$C$62) -> 3668.0899 | E11: =VLOOKUP(B11,'3.2学科单双上线'!$A$664:$B$724,2,FALSE) -> 322.2 | F11: =E11*208352.6/SUM($E$3:$E$61) -> 2199.1917 | G11: =D11+F11 -> 5867.2816
A12: 10 | B12: 何苗 | C12: =VLOOKUP(B12,'3.1总分上线'!$A$669:$B$729,2,FALSE) -> 51.6 | D12: =C12*312528.9/SUM($C$3:$C$62) -> 2628.7978 | E12: =VLOOKUP(B12,'3.2学科单双上线'!$A$664:$B$724,2,FALSE) -> 241.2 | F12: =E12*208352.6/SUM($E$3:$E$61) -> 1646.3223 | G12: =D12+F12 -> 4275.1201
A13: 11 | B13: 胡昌燕 | C13: =VLOOKUP(B13,'3.1总分上线'!$A$669:$B$729,2,FALSE) -> 234.06 | D13: =C13*312528.9/SUM($C$3:$C$62) -> 11924.349 | E13: =VLOOKUP(B13,'3.2学科单双上线'!$A$664:$B$724,2,FALSE) -> 750.6 | F13: =E13*208352.6/SUM($E$3:$E$61) -> 5123.2567 | G13: =D13+F13 -> 17047.606
A14: 12 | B14: 胡付松 | C14: =VLOOKUP(B14,'3.1总分上线'!$A$669:$B$729,2,FALSE) -> 261.78 | D14: =C14*312528.9/SUM($C$3:$C$62) -> 13336.563 | E14: =VLOOKUP(B14,'3.2学科单双上线'!$A$664:$B$724,2,FALSE) -> 1220.4 | F14: =E14*208352.6/SUM($E$3:$E$61) -> 8329.8995 | G14: =D14+F14 -> 21666.463
... A62: 60 | B62: 朱霞 | C62: =VLOOKUP(B62,'3.1总分上线'!$A$669:$B$729,2,FALSE) -> 170.28 | D62: =C62*312528.9/SUM($C$3:$C$62) -> 8675.0326 | E62: =VLOOKUP(B62,'3.2学科单双上线'!$A$664:$B$724,2,FALSE) -> 1020.6 | F62: =E62*208352.6/SUM($E$3:$E$61) -> 6966.1549 | G62: =D62+F62 -> 15641.187
G63: =SUM(G3:G62) -> 527847.65

Sheet 3.1总分上线
H1: 高考成绩 | O1: 目标得分 | T1: 20-21学年上 | AG1: 20-21学年下 | AT1: 21-22学年上 | BG1: 21-22学年下 | BT1: 22-23学年上 | CG1: 22-23学年下
O2: 本科：目标生上线+36 分/生，目标生未上线-36 分/生，目标外上线+72 分/生； 重本：目标生上线+72 分/生，目标生未上线-72 分/生，目标外上线+144 分。 | T2: 班级 | U2: 语文 | W2: 数学 | Y2: 英语 | AA2: 物理/政治 | AC2: 化学/历史 | AE2: 生物/地理 | AG2: 班级 | AH2: 语文 | AJ2: 数学 | AL2: 英语 | AN2: 物理/政治 | AP2: 化学/历史 | AR2: 生物/地理 | AT2: 班级 | AU2: 语文 | AW2: 数学 | AY2: 英语 | BA2: 物理/政治 | BC2: 化学/历史 | BE2: 生物/地理 | BG2: 班级 | BH2: 语文 | BJ2: 数学 | BL2: 英语 | BN2: 物理/政治 | BP2: 化学/历史 | BR2: 生物/地理 | BT2: 班级 | BU2: 语文 | BW2: 数学 | BY2: 英语 | CA2: 物理/政治 | CC2: 化学/历史 | CE2: 生物/地理 | CG2: 班级 | CH2: 语文 | CJ2: 数学 | CL2: 英语 | CN2: 物理/政治 | CP2: 化学/历史 | CR2: 生物/地理
B3: 1 | C3: 2 | D3: 3 | E3: 4 | F3: 5 | G3: 6 | H3: 7 | I3: 8 | J3: 9 | K3: 10 | L3: 11 | M3: 12 | N3: 13 | O3: 14 | P3: 15 | Q3: 16 | R3: 17 | S3: 18 | T3: 19 | U3: 20 | V3: 21 | W3: 22 | X3: 23 | Y3: 24 | Z3: 25 | AA3: 26 | AB3: 27 | AC3: 28 | AD3: 29 | AE3: 30 | AF3: 31 | AG3: 32 | AH3: 33 | AI3: 34 | AJ3: 35 | AK3: 36 | AL3: 37 | AM3: 38 | AN3: 39 | AO3: 40 | AP3: 41 | AQ3: 42 | AR3: 43 | AS3: 44 | AT3: 45 | AU3: 46 | AV3: 47 | AW3: 48 | AX3: 49 | AY3: 50 | AZ3: 51 | BA3: 52 | BB3: 53 | BC3: 54 | BD3: 55 | BE3: 56 | BF3: 57 | BG3: 58 | BH3: 59 | BI3: 60 | BJ3: 61 | BK3: 62 | BL3: 63 | BM3: 64 | BN3: 65 | BO3: 66 | BP3: 67 | BQ3: 68 | BR3: 69 | BS3: 70 | BT3: 71 | BU3: 72 | BV3: 73 | BW3: 74 | BX3: 75 | BY3: 76 | BZ3: 77 | CA3: 78 | CB3: 79 | CC3: 80 | CD3: 81 | CE3: 82 | CF3: 83 | CG3: 84 | CH3: 85 | CI3: 86 | CJ3: 87 | CK3: 88 | CL3: 89 | CM3: 90 | CN3: 91 | CO3: 92 | CP3: 93 | CQ3: 94 | CR3: 95 | CS3: 96
A4: 姓名 | B4: 身份证号码 | C4: 类别 | D4: 科类 | E4: 备注 | F4: 本科目标 | G4: 重本目标 | H4: 语文 | I4: 数学 | J4: 英语 | K4: 物理/政治 | L4: 化学/历史 | M4: 生物/地理 | N4: 总分 | O4: 是否上本科 | P4: 本科 得分 | Q4: 是否上重本 | R4: 重本 得分 | S4: 目标得分合计 | T4: 班级 | U4: 教师 姓名 | V4: 得分 | W4: 教师 姓名 | X4: 得分 | Y4: 教师 姓名 | Z4: 得分 | AA4: 教师 姓名 | AB4: 得分 | AC4: 教师 姓名 | AD4: 得分 | AE4: 教师 姓名 | AF4: 得分 | AG4: 班级 | AH4: 教师 姓名 | AI4: 得分 | AJ4: 教师 姓名 | AK4: 得分 | AL4: 教师 姓名 | AM4: 得分 | AN4: 教师 姓名 | AO4: 得分 | AP4: 教师 姓名 | AQ4: 得分 | AR4: 教师 姓名 | AS4: 得分 | AT4: 班级 | AU4: 教师 姓名 | AV4: 得分 | AW4: 教师 姓名 | AX4: 得分 | AY4: 教师 姓名 | AZ4: 得分 | BA4: 教师 姓名 | BB4: 得分 | BC4: 教师 姓名 | BD4: 得分 | BE4: 教师 姓名 | BF4: 得分 | BG4: 班级 | BH4: 教师 姓名 | BI4: 得分 | BJ4: 教师 姓名 | BK4: 得分 | BL4: 教师 姓名 | BM4: 得分 | BN4: 教师 姓名 | BO4: 得分 | BP4: 教师 姓名 | BQ4: 得分 | BR4: 教师 姓名 | BS4: 得分 | BT4: 班级 | BU4: 教师 姓名 | BV4: 得分 | BW4: 教师 姓名 | BX4: 得分 | BY4: 教师 姓名 | BZ4: 得分 | CA4: 教师 姓名 | CB4: 得分 | CC4: 教师 姓名 | CD4: 得分 | CE4: 教师 姓名 | CF4: 得分 | CG4: 班级 | CH4: 教师 姓名 | CI4: 得分 | CJ4: 教师 姓名 | CK4: 得分 | CL4: 教师 姓名 | CM4: 得分 | CN4: 教师 姓名 | CO4: 得分 | CP4: 教师 姓名 | CQ4: 得分 | CR4: 教师 姓名 | CS4: 得分
A5: 马建峰 | B5: 513422200108011334 | C5: 往届 | D5: 文科 | F5: 1 | G5: 0 | H5: 115 | I5: 85 | J5: 72 | K5: 67 | L5: 73.5 | M5: 50 | N5: 463 | O5: =IF(D5="理科",IF(N5>=分数线!$C$2,"本科",""),IF(D5="文科",IF(N5>=分数线!$C$3,"本科",""))) -> 本科 | P5: =IF(F5>0,IF(O5="本科",(2-F5)*36,-(F5)*36),IF(O5="本科",2*36,0)) -> 36 | Q5: =IF(D5="理科",IF(N5>=分数线!$C$6,"重本",""),IF(D5="文科",IF(N5>=分数线!$C$7,"重本",""))) | R5: =IF(G5>0,IF(Q5="重本",G5*72,-(G5)*72),IF(Q5="重本",2*72,0)) -> 0 | S5: =P5+R5 -> 36 | T5: NULL | U5: NULL | V5: =IF($C5="应届",($S5*0.1)/6,IF($C5="往届","","NULL")) | W5: NULL | X5: =IF($C5="应届",($S5*0.1)/6,IF($C5="往届","","NULL")) | Y5: NULL | Z5: =IF($C5="应届",($S5*0.1)/6,IF($C5="往届","","NULL")) | AA5: NULL | AB5: =IF($C5="应届",($S5*0.1)/6,IF($C5="往届","","NULL")) | AC5: NULL | AD5: =IF($C5="应届",($S5*0.1)/6,IF($C5="往届","","NULL")) | AE5: NULL | AF5: =IF($C5="应届",($S5*0.1)/6,IF($C5="往届","","NULL")) | AG5: NULL | AH5: NULL | AI5: =IF($C5="应届",($S5*0.1)/6,IF($C5="往届","","NULL")) | AJ5: NULL | AK5: =IF($C5="应届",($S5*0.1)/6,IF($C5="往届","","NULL")) | AL5: NULL | AM5: =IF($C5="应届",($S5*0.1)/6,IF($C5="往届","","NULL")) | AN5: NULL | AO5: =IF($C5="应届",($S5*0.1)/6,IF($C5="往届","","NULL")) | AP5: NULL | AQ5: =IF($C5="应届",($S5*0.1)/6,IF($C5="往届","","NULL")) | AR5: NULL | AS5: =IF($C5="应届",($S5*0.1)/6,IF($C5="往届","","NULL")) | AT5: NULL | AU5: NULL | AV5: =IF($C5="应届",($S5*0.15)/6,IF($C5="往届","","NULL")) | AW5: NULL | AX5: =IF($C5="应届",($S5*0.15)/6,IF($C5="往届","","NULL")) | AY5: NULL | AZ5: =IF($C5="应届",($S5*0.15)/6,IF($C5="往届","","NULL")) | BA5: NULL | BB5: =IF($C5="应届",($S5*0.15)/6,IF($C5="往届","","NULL")) | BC5: NULL | BD5: =IF($C5="应届",($S5*0.15)/6,IF($C5="往届","","NULL")) | BE5: NULL | BF5: =IF($C5="应届",($S5*0.15)/6,IF($C5="往届","","NULL")) | BG5: NULL | BH5: NULL | BI5: =IF($C5="应届",($S5*0.15)/6,IF($C5="往届","","NULL")) | BJ5: NULL | BK5: =IF($C5="应届",($S5*0.15)/6,IF($C5="往届","","NULL")) | BL5: NULL | BM5: =IF($C5="应届",($S5*0.15)/6,IF($C5="往届","","NULL")) | BN5: NULL | BO5: =IF($C5="应届",($S5*0.15)/6,IF($C5="往届","","NULL")) | BP5: NULL | BQ5: =IF($C5="应届",($S5*0.15)/6,IF($C5="往届","","NULL")) | BR5: NULL | BS5: =IF($C5="应届",($S5*0.15)/6,IF($C5="往届","","NULL")) | BT5: 1 | BU5: 叶屏 | BV5: =IF($C5="应届",($S5*0.25)/6,IF($C5="往届",($S5*0.5)/6,"NULL")) -> 3 | BW5: 余玉红 | BX5: =IF($C5="应届",($S5*0.25)/6,IF($C5="往届",($S5*0.5)/6,"NULL")) -> 3 | BY5: 胡昌燕 | BZ5: =IF($C5="应届",($S5*0.25)/6,IF($C5="往届",($S5*0.5)/6,"NULL")) -> 3 | CA5: 卢银楷 | CB5: =IF($C5="应届",($S5*0.25)/6,IF($C5="往届",($S5*0.5)/6,"NULL")) -> 3 | CC5: 胡慧芳 | CD5: =IF($C5="应届",($S5*0.25)/6,IF($C5="往届",($S5*0.5)/6,"NULL")) -> 3 | CE5: 金贵 | CF5: =IF($C5="应届",($S5*0.25)/6,IF($C5="往届",($S5*0.5)/6,"NULL")) -> 3 | CG5: 1 | CH5: 叶屏 | CI5: =IF($C5="应届",($S5*0.25)/6,IF($C5="往届",($S5*0.5)/6,"NULL")) -> 3 | CJ5: 余玉红 | CK5: =IF($C5="应届",($S5*0.25)/6,IF($C5="往届",($S5*0.5)/6,"NULL")) -> 3 | CL5: 胡昌燕 | CM5: =IF($C5="应届",($S5*0.25)/6,IF($C5="往届",($S5*0.5)/6,"NULL")) -> 3 | CN5: 卢银楷 | CO5: =IF($C5="应届",($S5*0.25)/6,IF($C5="往届",($S5*0.5)/6,"NULL")) -> 3 | CP5: 胡慧芳 | CQ5: =IF($C5="应届",($S5*0.25)/6,IF($C5="往届",($S5*0.5)/6,"NULL")) -> 3 | CR5: 金贵 | CS5: =IF($C5="应届",($S5*0.25)/6,IF($C5="往届",($S5*0.5)/6,"NULL")) -> 3
A6: 毛健美 | B6: 513422200405031526 | C6: 往届 | D6: 文科 | F6: 1 | G6: 0 | H6: 99 | I6: 107 | J6: 67 | K6: 64 | L6: 57.5 | M6: 64 | N6: 459 | O6: =IF(D6="理科",IF(N6>=分数线!$C$2,"本科",""),IF(D6="文科",IF(N6>=分数线!$C$3,"本科",""))) -> 本科 | P6: =IF(F6>0,IF(O6="本科",(2-F6)*36,-(F6)*36),IF(O6="本科",2*36,0)) -> 36 | Q6: =IF(D6="理科",IF(N6>=分数线!$C$6,"重本",""),IF(D6="文科",IF(N6>=分数线!$C$7,"重本",""))) | R6: =IF(G6>0,IF(Q6="重本",G6*72,-(G6)*72),IF(Q6="重本",2*72,0)) -> 0 | S6: =P6+R6 -> 36 | T6: NULL | U6: NULL | V6: =IF($C6="应届",($S6*0.1)/6,IF($C6="往届","","NULL")) | W6: NULL | X6: =IF($C6="应届",($S6*0.1)/6,IF($C6="往届","","NULL")) | Y6: NULL | Z6: =IF($C6="应届",($S6*0.1)/6,IF($C6="往届","","NULL")) | AA6: NULL | AB6: =IF($C6="应届",($S6*0.1)/6,IF($C6="往届","","NULL")) | AC6: NULL | AD6: =IF($C6="应届",($S6*0.1)/6,IF($C6="往届","","NULL")) | AE6: NULL | AF6: =IF($C6="应届",($S6*0.1)/6,IF($C6="往届","","NULL")) | AG6: NULL | AH6: NULL | AI6: =IF($C6="应届",($S6*0.1)/6,IF($C6="往届","","NULL")) | AJ6: NULL | AK6: =IF($C6="应届",($S6*0.1)/6,IF($C6="往届","","NULL")) | AL6: NULL | AM6: =IF($C6="应届",($S6*0.1)/6,IF($C6="往届","","NULL")) | AN6: NULL | AO6: =IF($C6="应届",($S6*0.1)/6,IF($C6="往届","","NULL")) | AP6: NULL | AQ6: =IF($C6="应届",($S6*0.1)/6,IF($C6="往届","","NULL")) | AR6: NULL | AS6: =IF($C6="应届",($S6*0.1)/6,IF($C6="往届","","NULL")) | AT6: NULL | AU6: NULL | AV6: =IF($C6="应届",($S6*0.15)/6,IF($C6="往届","","NULL")) | AW6: NULL | AX6: =IF($C6="应届",($S6*0.15)/6,IF($C6="往届","","NULL")) | AY6: NULL | AZ6: =IF($C6="应届",($S6*0.15)/6,IF($C6="往届","","NULL")) | BA6: NULL | BB6: =IF($C6="应届",($S6*0.15)/6,IF($C6="往届","","NULL")) | BC6: NULL | BD6: =IF($C6="应届",($S6*0.15)/6,IF($C6="往届","","NULL")) | BE6: NULL | BF6: =IF($C6="应届",($S6*0.15)/6,IF($C6="往届","","NULL")) | BG6: NULL | BH6: NULL | BI6: =IF($C6="应届",($S6*0.15)/6,IF($C6="往届","","NULL")) | BJ6: NULL | BK6: =IF($C6="应届",($S6*0.15)/6,IF($C6="往届","","NULL")) | BL6: NULL | BM6: =IF($C6="应届",($S6*0.15)/6,IF($C6="往届","","NULL")) | BN6: NULL | BO6: =IF($C6="应届",($S6*0.15)/6,IF($C6="往届","","NULL")) | BP6: NULL | BQ6: =IF($C6="应届",($S6*0.15)/6,IF($C6="往届","","NULL")) | BR6: NULL | BS6: =IF($C6="应届",($S6*0.15)/6,IF($C6="往届","","NULL")) | BT6: 1 | BU6: 叶屏 | BV6: =IF($C6="应届",($S6*0.25)/6,IF($C6="往届",($S6*0.5)/6,"NULL")) -> 3 | BW6: 余玉红 | BX6: =IF($C6="应届",($S6*0.25)/6,IF($C6="往届",($S6*0.5)/6,"NULL")) -> 3 | BY6: 胡昌燕 | BZ6: =IF($C6="应届",($S6*0.25)/6,IF($C6="往届",($S6*0.5)/6,"NULL")) -> 3 | CA6: 卢银楷 | CB6: =IF($C6="应届",($S6*0.25)/6,IF($C6="往届",($S6*0.5)/6,"NULL")) -> 3 | CC6: 胡慧芳 | CD6: =IF($C6="应届",($S6*0.25)/6,IF($C6="往届",($S6*0.5)/6,"NULL")) -> 3 | CE6: 金贵 | CF6: =IF($C6="应届",($S6*0.25)/6,IF($C6="往届",($S6*0.5)/6,"NULL")) -> 3 | CG6: 1 | CH6: 叶屏 | CI6: =IF($C6="应届",($S6*0.25)/6,IF($C6="往届",($S6*0.5)/6,"NULL")) -> 3 | CJ6: 余玉红 | CK6: =IF($C6="应届",($S6*0.25)/6,IF($C6="往届",($S6*0.5)/6,"NULL")) -> 3 | CL6: 胡昌燕 | CM6: =IF($C6="应届",($S6*0.25)/6,IF($C6="往届",($S6*0.5)/6,"NULL")) -> 3 | CN6: 卢银楷 | CO6: =IF($C6="应届",($S6*0.25)/6,IF($C6="往届",($S6*0.5)/6,"NULL")) -> 3 | CP6: 胡慧芳 | CQ6: =IF($C6="应届",($S6*0.25)/6,IF($C6="往届",($S6*0.5)/6,"NULL")) -> 3 | CR6: 金贵 | CS6: =IF($C6="应届",($S6*0.25)/6,IF($C6="往届",($S6*0.5)/6,"NULL")) -> 3
A7: 祝玛央宗 | B7: 513422200301013622 | C7: 往届 | D7: 文科 | F7: 1 | G7: 0 | H7: 105 | I7: 87 | J7: 114 | K7: 67 | L7: 65 | M7: 49 | N7: 487 | O7: =IF(D7="理科",IF(N7>=分数线!$C$2,"本科",""),IF(D7="文科",IF(N7>=分数线!$C$3,"本科",""))) -> 本科 | P7: =IF(F7>0,IF(O7="本科",(2-F7)*36,-(F7)*36),IF(O7="本科",2*36,0)) -> 36 | Q7: =IF(D7="理科",IF(N7>=分数线!$C$6,"重本",""),IF(D7="文科",IF(N7>=分数线!$C$7,"重本",""))) | R7: =IF(G7>0,IF(Q7="重本",G7*72,-(G7)*72),IF(Q7="重本",2*72,0)) -> 0 | S7: =P7+R7 -> 36 | T7: NULL | U7: NULL | V7: =IF($C7="应届",($S7*0.1)/6,IF($C7="往届","","NULL")) | W7: NULL | X7: =IF($C7="应届",($S7*0.1)/6,IF($C7="往届","","NULL")) | Y7: NULL | Z7: =IF($C7="应届",($S7*0.1)/6,IF($C7="往届","","NULL")) | AA7: NULL | AB7: =IF($C7="应届",($S7*0.1)/6,IF($C7="往届","","NULL")) | AC7: NULL | AD7: =IF($C7="应届",($S7*0.1)/6,IF($C7="往届","","NULL")) | AE7: NULL | AF7: =IF($C7="应届",($S7*0.1)/6,IF($C7="往届","","NULL")) | AG7: NULL | AH7: NULL | AI7: =IF($C7="应届",($S7*0.1)/6,IF($C7="往届","","NULL")) | AJ7: NULL | AK7: =IF($C7="应届",($S7*0.1)/6,IF($C7="往届","","NULL")) | AL7: NULL | AM7: =IF($C7="应届",($S7*0.1)/6,IF($C7="往届","","NULL")) | AN7: NULL | AO7: =IF($C7="应届",($S7*0.1)/6,IF($C7="往届","","NULL")) | AP7: NULL | AQ7: =IF($C7="应届",($S7*0.1)/6,IF($C7="往届","","NULL")) | AR7: NULL | AS7: =IF($C7="应届",($S7*0.1)/6,IF($C7="往届","","NULL")) | AT7: NULL | AU7: NULL | AV7: =IF($C7="应届",($S7*0.15)/6,IF($C7="往届","","NULL")) | AW7: NULL | AX7: =IF($C7="应届",($S7*0.15)/6,IF($C7="往届","","NULL")) | AY7: NULL | AZ7: =IF($C7="应届",($S7*0.15)/6,IF($C7="往届","","NULL")) | BA7: NULL | BB7: =IF($C7="应届",($S7*0.15)/6,IF($C7="往届","","NULL")) | BC7: NULL | BD7: =IF($C7="应届",($S7*0.15)/6,IF($C7="往届","","NULL")) | BE7: NULL | BF7: =IF($C7="应届",($S7*0.15)/6,IF($C7="往届","","NULL")) | BG7: NULL | BH7: NULL | BI7: =IF($C7="应届",($S7*0.15)/6,IF($C7="往届","","NULL")) | BJ7: NULL | BK7: =IF($C7="应届",($S7*0.15)/6,IF($C7="往届","","NULL")) | BL7: NULL | BM7: =IF($C7="应届",($S7*0.15)/6,IF($C7="往届","","NULL")) | BN7: NULL | BO7: =IF($C7="应届",($S7*0.15)/6,IF($C7="往届","","NULL")) | BP7: NULL | BQ7: =IF($C7="应届",($S7*0.15)/6,IF($C7="往届","","NULL")) | BR7: NULL | BS7: =IF($C7="应届",($S7*0.15)/6,IF($C7="往届","","NULL")) | BT7: 1 | BU7: 叶屏 | BV7: =IF($C7="应届",($S7*0.25)/6,IF($C7="往届",($S7*0.5)/6,"NULL")) -> 3 | BW7: 余玉红 | BX7: =IF($C7="应届",($S7*0.25)/6,IF($C7="往届",($S7*0.5)/6,"NULL")) -> 3 | BY7: 胡昌燕 | BZ7: =IF($C7="应届",($S7*0.25)/6,IF($C7="往届",($S7*0.5)/6,"NULL")) -> 3 | CA7: 卢银楷 | CB7: =IF($C7="应届",($S7*0.25)/6,IF($C7="往届",($S7*0.5)/6,"NULL")) -> 3 | CC7: 胡慧芳 | CD7: =IF($C7="应届",($S7*0.25)/6,IF($C7="往届",($S7*0.5)/6,"NULL")) -> 3 | CE7: 金贵 | CF7: =IF($C7="应届",($S7*0.25)/6,IF($C7="往届",($S7*0.5)/6,"NULL")) -> 3 | CG7: 1 | CH7: 叶屏 | CI7: =IF($C7="应届",($S7*0.25)/6,IF($C7="往届",($S7*0.5)/6,"NULL")) -> 3 | CJ7: 余玉红 | CK7: =IF($C7="应届",($S7*0.25)/6,IF($C7="往届",($S7*0.5)/6,"NULL")) -> 3 | CL7: 胡昌燕 | CM7: =IF($C7="应届",($S7*0.25)/6,IF($C7="往届",($S7*0.5)/6,"NULL")) -> 3 | CN7: 卢银楷 | CO7: =IF($C7="应届",($S7*0.25)/6,IF($C7="往届",($S7*0.5)/6,"NULL")) -> 3 | CP7: 胡慧芳 | CQ7: =IF($C7="应届",($S7*0.25)/6,IF($C7="往届",($S7*0.5)/6,"NULL")) -> 3 | CR7: 金贵 | CS7: =IF($C7="应届",($S7*0.25)/6,IF($C7="往届",($S7*0.5)/6,"NULL")) -> 3
A8: 杨小勇 | B8: 513423200501083111 | C8: 往届 | D8: 文科 | F8: 1 | G8: 0 | H8: 105 | I8: 98 | J8: 96 | K8: 66 | L8: 65.5 | M8: 42 | N8: 473 | O8: =IF(D8="理科",IF(N8>=分数线!$C$2,"本科",""),IF(D8="文科",IF(N8>=分数线!$C$3,"本科",""))) -> 本科 | P8: =IF(F8>0,IF(O8="本科",(2-F8)*36,-(F8)*36),IF(O8="本科",2*36,0)) -> 36 | Q8: =IF(D8="理科",IF(N8>=分数线!$C$6,"重本",""),IF(D8="文科",IF(N8>=分数线!$C$7,"重本",""))) | R8: =IF(G8>0,IF(Q8="重本",G8*72,-(G8)*72),IF(Q8="重本",2*72,0)) -> 0 | S8: =P8+R8 -> 36 | T8: NULL | U8: NULL | V8: =IF($C8="应届",($S8*0.1)/6,IF($C8="往届","","NULL")) | W8: NULL | X8: =IF($C8="应届",($S8*0.1)/6,IF($C8="往届","","NULL")) | Y8: NULL | Z8: =IF($C8="应届",($S8*0.1)/6,IF($C8="往届","","NULL")) | AA8: NULL | AB8: =IF($C8="应届",($S8*0.1)/6,IF($C8="往届","","NULL")) | AC8: NULL | AD8: =IF($C8="应届",($S8*0.1)/6,IF($C8="往届","","NULL")) | AE8: NULL | AF8: =IF($C8="应届",($S8*0.1)/6,IF($C8="往届","","NULL")) | AG8: NULL | AH8: NULL | AI8: =IF($C8="应届",($S8*0.1)/6,IF($C8="往届","","NULL")) | AJ8: NULL | AK8: =IF($C8="应届",($S8*0.1)/6,IF($C8="往届","","NULL")) | AL8: NULL | AM8: =IF($C8="应届",($S8*0.1)/6,IF($C8="往届","","NULL")) | AN8: NULL | AO8: =IF($C8="应届",($S8*0.1)/6,IF($C8="往届","","NULL")) | AP8: NULL | AQ8: =IF($C8="应届",($S8*0.1)/6,IF($C8="往届","","NULL")) | AR8: NULL | AS8: =IF($C8="应届",($S8*0.1)/6,IF($C8="往届","","NULL")) | AT8: NULL | AU8: NULL | AV8: =IF($C8="应届",($S8*0.15)/6,IF($C8="往届","","NULL")) | AW8: NULL | AX8: =IF($C8="应届",($S8*0.15)/6,IF($C8="往届","","NULL")) | AY8: NULL | AZ8: =IF($C8="应届",($S8*0.15)/6,IF($C8="往届","","NULL")) | BA8: NULL | BB8: =IF($C8="应届",($S8*0.15)/6,IF($C8="往届","","NULL")) | BC8: NULL | BD8: =IF($C8="应届",($S8*0.15)/6,IF($C8="往届","","NULL")) | BE8: NULL | BF8: =IF($C8="应届",($S8*0.15)/6,IF($C8="往届","","NULL")) | BG8: NULL | BH8: NULL | BI8: =IF($C8="应届",($S8*0.15)/6,IF($C8="往届","","NULL")) | BJ8: NULL | BK8: =IF($C8="应届",($S8*0.15)/6,IF($C8="往届","","NULL")) | BL8: NULL | BM8: =IF($C8="应届",($S8*0.15)/6,IF($C8="往届","","NULL")) | BN8: NULL | BO8: =IF($C8="应届",($S8*0.15)/6,IF($C8="往届","","NULL")) | BP8: NULL | BQ8: =IF($C8="应届",($S8*0.15)/6,IF($C8="往届","","NULL")) | BR8: NULL | BS8: =IF($C8="应届",($S8*0.15)/6,IF($C8="往届","","NULL")) | BT8: 1 | BU8: 叶屏 | BV8: =IF($C8="应届",($S8*0.25)/6,IF($C8="往届",($S8*0.5)/6,"NULL")) -> 3 | BW8: 余玉红 | BX8: =IF($C8="应届",($S8*0.25)/6,IF($C8="往届",($S8*0.5)/6,"NULL")) -> 3 | BY8: 胡昌燕 | BZ8: =IF($C8="应届",($S8*0.25)/6,IF($C8="往届",($S8*0.5)/6,"NULL")) -> 3 | CA8: 卢银楷 | CB8: =IF($C8="应届",($S8*0.25)/6,IF($C8="往届",($S8*0.5)/6,"NULL")) -> 3 | CC8: 胡慧芳 | CD8: =IF($C8="应届",($S8*0.25)/6,IF($C8="往届",($S8*0.5)/6,"NULL")) -> 3 | CE8: 金贵 | CF8: =IF($C8="应届",($S8*0.25)/6,IF($C8="往届",($S8*0.5)/6,"NULL")) -> 3 | CG8: 1 | CH8: 叶屏 | CI8: =IF($C8="应届",($S8*0.25)/6,IF($C8="往届",($S8*0.5)/6,"NULL")) -> 3 | CJ8: 余玉红 | CK8: =IF($C8="应届",($S8*0.25)/6,IF($C8="往届",($S8*0.5)/6,"NULL")) -> 3 | CL8: 胡昌燕 | CM8: =IF($C8="应届",($S8*0.25)/6,IF($C8="往届",($S8*0.5)/6,"NULL")) -> 3 | CN8: 卢银楷 | CO8: =IF($C8="应届",($S8*0.25)/6,IF($C8="往届",($S8*0.5)/6,"NULL")) -> 3 | CP8: 胡慧芳 | CQ8: =IF($C8="应届",($S8*0.25)/6,IF($C8="往届",($S8*0.5)/6,"NULL")) -> 3 | CR8: 金贵 | CS8: =IF($C8="应届",($S8*0.25)/6,IF($C8="往届",($S8*0.5)/6,"NULL")) -> 3
A9: 祝玛泽仁 | B9: 513422199905305428 | C9: 往届 | D9: 文科 | F9: 1 | G9: 0 | H9: 94 | I9: 98 | J9: 94 | K9: 60.5 | L9: 57 | M9: 41 | N9: 445 | O9: =IF(D9="理科",IF(N9>=分数线!$C$2,"本科",""),IF(D9="文科",IF(N9>=分数线!$C$3,"本科",""))) | P9: =IF(F9>0,IF(O9="本科",(2-F9)*36,-(F9)*36),IF(O9="本科",2*36,0)) -> -36 | Q9: =IF(D9="理科",IF(N9>=分数线!$C$6,"重本",""),IF(D9="文科",IF(N9>=分数线!$C$7,"重本",""))) | R9: =IF(G9>0,IF(Q9="重本",G9*72,-(G9)*72),IF(Q9="重本",2*72,0)) -> 0 | S9: =P9+R9 -> -36 | T9: NULL | U9: NULL | V9: =IF($C9="应届",($S9*0.1)/6,IF($C9="往届","","NULL")) | W9: NULL | X9: =IF($C9="应届",($S9*0.1)/6,IF($C9="往届","","NULL")) | Y9: NULL | Z9: =IF($C9="应届",($S9*0.1)/6,IF($C9="往届","","NULL")) | AA9: NULL | AB9: =IF($C9="应届",($S9*0.1)/6,IF($C9="往届","","NULL")) | AC9: NULL | AD9: =IF($C9="应届",($S9*0.1)/6,IF($C9="往届","","NULL")) | AE9: NULL | AF9: =IF($C9="应届",($S9*0.1)/6,IF($C9="往届","","NULL")) | AG9: NULL | AH9: NULL | AI9: =IF($C9="应届",($S9*0.1)/6,IF($C9="往届","","NULL")) | AJ9: NULL | AK9: =IF($C9="应届",($S9*0.1)/6,IF($C9="往届","","NULL")) | AL9: NULL | AM9: =IF($C9="应届",($S9*0.1)/6,IF($C9="往届","","NULL")) | AN9: NULL | AO9: =IF($C9="应届",($S9*0.1)/6,IF($C9="往届","","NULL")) | AP9: NULL | AQ9: =IF($C9="应届",($S9*0.1)/6,IF($C9="往届","","NULL")) | AR9: NULL | AS9: =IF($C9="应届",($S9*0.1)/6,IF($C9="往届","","NULL")) | AT9: NULL | AU9: NULL | AV9: =IF($C9="应届",($S9*0.15)/6,IF($C9="往届","","NULL")) | AW9: NULL | AX9: =IF($C9="应届",($S9*0.15)/6,IF($C9="往届","","NULL")) | AY9: NULL | AZ9: =IF($C9="应届",($S9*0.15)/6,IF($C9="往届","","NULL")) | BA9: NULL | BB9: =IF($C9="应届",($S9*0.15)/6,IF($C9="往届","","NULL")) | BC9: NULL | BD9: =IF($C9="应届",($S9*0.15)/6,IF($C9="往届","","NULL")) | BE9: NULL | BF9: =IF($C9="应届",($S9*0.15)/6,IF($C9="往届","","NULL")) | BG9: NULL | BH9: NULL | BI9: =IF($C9="应届",($S9*0.15)/6,IF($C9="往届","","NULL")) | BJ9: NULL | BK9: =IF($C9="应届",($S9*0.15)/6,IF($C9="往届","","NULL")) | BL9: NULL | BM9: =IF($C9="应届",($S9*0.15)/6,IF($C9="往届","","NULL")) | BN9: NULL | BO9: =IF($C9="应届",($S9*0.15)/6,IF($C9="往届","","NULL")) | BP9: NULL | BQ9: =IF($C9="应届",($S9*0.15)/6,IF($C9="往届","","NULL")) | BR9: NULL | BS9: =IF($C9="应届",($S9*0.15)/6,IF($C9="往届","","NULL")) | BT9: 1 | BU9: 叶屏 | BV9: =IF($C9="应届",($S9*0.25)/6,IF($C9="往届",($S9*0.5)/6,"NULL")) -> -3 | BW9: 余玉红 | BX9: =IF($C9="应届",($S9*0.25)/6,IF($C9="往届",($S9*0.5)/6,"NULL")) -> -3 | BY9: 胡昌燕 | BZ9: =IF($C9="应届",($S9*0.25)/6,IF($C9="往届",($S9*0.5)/6,"NULL")) -> -3 | CA9: 卢银楷 | CB9: =IF($C9="应届",($S9*0.25)/6,IF($C9="往届",($S9*0.5)/6,"NULL")) -> -3 | CC9: 胡慧芳 | CD9: =IF($C9="应届",($S9*0.25)/6,IF($C9="往届",($S9*0.5)/6,"NULL")) -> -3 | CE9: 金贵 | CF9: =IF($C9="应届",($S9*0.25)/6,IF($C9="往届",($S9*0.5)/6,"NULL")) -> -3 | CG9: 1 | CH9: 叶屏 | CI9: =IF($C9="应届",($S9*0.25)/6,IF($C9="往届",($S9*0.5)/6,"NULL")) -> -3 | CJ9: 余玉红 | CK9: =IF($C9="应届",($S9*0.25)/6,IF($C9="往届",($S9*0.5)/6,"NULL")) -> -3 | CL9: 胡昌燕 | CM9: =IF($C9="应届",($S9*0.25)/6,IF($C9="往届",($S9*0.5)/6,"NULL")) -> -3 | CN9: 卢银楷 | CO9: =IF($C9="应届",($S9*0.25)/6,IF($C9="往届",($S9*0.5)/6,"NULL")) -> -3 | CP9: 胡慧芳 | CQ9: =IF($C9="应届",($S9*0.25)/6,IF($C9="往届",($S9*0.5)/6,"NULL")) -> -3 | CR9: 金贵 | CS9: =IF($C9="应届",($S9*0.25)/6,IF($C9="往届",($S9*0.5)/6,"NULL")) -> -3
A10: 曾雅琪 | B10: 513422200311276629 | C10: 往届 | D10: 文科 | F10: 1 | G10: 0 | H10: 97 | I10: 102 | J10: 84 | K10: 68 | L10: 54.5 | M10: 58 | N10: 464 | O10: =IF(D10="理科",IF(N10>=分数线!$C$2,"本科",""),IF(D10="文科",IF(N10>=分数线!$C$3,"本科",""))) -> 本科 | P10: =IF(F10>0,IF(O10="本科",(2-F10)*36,-(F10)*36),IF(O10="本科",2*36,0)) -> 36 | Q10: =IF(D10="理科",IF(N10>=分数线!$C$6,"重本",""),IF(D10="文科",IF(N10>=分数线!$C$7,"重本",""))) | R10: =IF(G10>0,IF(Q10="重本",G10*72,-(G10)*72),IF(Q10="重本",2*72,0)) -> 0 | S10: =P10+R10 -> 36 | T10: NULL | U10: NULL | V10: =IF($C10="应届",($S10*0.1)/6,IF($C10="往届","","NULL")) | W10: NULL | X10: =IF($C10="应届",($S10*0.1)/6,IF($C10="往届","","NULL")) | Y10: NULL | Z10: =IF($C10="应届",($S10*0.1)/6,IF($C10="往届","","NULL")) | AA10: NULL | AB10: =IF($C10="应届",($S10*0.1)/6,IF($C10="往届","","NULL")) | AC10: NULL | AD10: =IF($C10="应届",($S10*0.1)/6,IF($C10="往届","","NULL")) | AE10: NULL | AF10: =IF($C10="应届",($S10*0.1)/6,IF($C10="往届","","NULL")) | AG10: NULL | AH10: NULL | AI10: =IF($C10="应届",($S10*0.1)/6,IF($C10="往届","","NULL")) | AJ10: NULL | AK10: =IF($C10="应届",($S10*0.1)/6,IF($C10="往届","","NULL")) | AL10: NULL | AM10: =IF($C10="应届",($S10*0.1)/6,IF($C10="往届","","NULL")) | AN10: NULL | AO10: =IF($C10="应届",($S10*0.1)/6,IF($C10="往届","","NULL")) | AP10: NULL | AQ10: =IF($C10="应届",($S10*0.1)/6,IF($C10="往届","","NULL")) | AR10: NULL | AS10: =IF($C10="应届",($S10*0.1)/6,IF($C10="往届","","NULL")) | AT10: NULL | AU10: NULL | AV10: =IF($C10="应届",($S10*0.15)/6,IF($C10="往届","","NULL")) | AW10: NULL | AX10: =IF($C10="应届",($S10*0.15)/6,IF($C10="往届","","NULL")) | AY10: NULL | AZ10: =IF($C10="应届",($S10*0.15)/6,IF($C10="往届","","NULL")) | BA10: NULL | BB10: =IF($C10="应届",($S10*0.15)/6,IF($C10="往届","","NULL")) | BC10: NULL | BD10: =IF($C10="应届",($S10*0.15)/6,IF($C10="往届","","NULL")) | BE10: NULL | BF10: =IF($C10="应届",($S10*0.15)/6,IF($C10="往届","","NULL")) | BG10: NULL | BH10: NULL | BI10: =IF($C10="应届",($S10*0.15)/6,IF($C10="往届","","NULL")) | BJ10: NULL | BK10: =IF($C10="应届",($S10*0.15)/6,IF($C10="往届","","NULL")) | BL10: NULL | BM10: =IF($C10="应届",($S10*0.15)/6,IF($C10="往届","","NULL")) | BN10: NULL | BO10: =IF($C10="应届",($S10*0.15)/6,IF($C10="往届","","NULL")) | BP10: NULL | BQ10: =IF($C10="应届",($S10*0.15)/6,IF($C10="往届","","NULL")) | BR10: NULL | BS10: =IF($C10="应届",($S10*0.15)/6,IF($C10="往届","","NULL")) | BT10: 1 | BU10: 叶屏 | BV10: =IF($C10="应届",($S10*0.25)/6,IF($C10="往届",($S10*0.5)/6,"NULL")) -> 3 | BW10: 余玉红 | BX10: =IF($C10="应届",($S10*0.25)/6,IF($C10="往届",($S10*0.5)/6,"NULL")) -> 3 | BY10: 胡昌燕 | BZ10: =IF($C10="应届",($S10*0.25)/6,IF($C10="往届",($S10*0.5)/6,"NULL")) -> 3 | CA10: 卢银楷 | CB10: =IF($C10="应届",($S10*0.25)/6,IF($C10="往届",($S10*0.5)/6,"NULL")) -> 3 | CC10: 胡慧芳 | CD10: =IF($C10="应届",($S10*0.25)/6,IF($C10="往届",($S10*0.5)/6,"NULL")) -> 3 | CE10: 金贵 | CF10: =IF($C10="应届",($S10*0.25)/6,IF($C10="往届",($S10*0.5)/6,"NULL")) -> 3 | CG10: 1 | CH10: 叶屏 | CI10: =IF($C10="应届",($S10*0.25)/6,IF($C10="往届",($S10*0.5)/6,"NULL")) -> 3 | CJ10: 余玉红 | CK10: =IF($C10="应届",($S10*0.25)/6,IF($C10="往届",($S10*0.5)/6,"NULL")) -> 3 | CL10: 胡昌燕 | CM10: =IF($C10="应届",($S10*0.25)/6,IF($C10="往届",($S10*0.5)/6,"NULL")) -> 3 | CN10: 卢银楷 | CO10: =IF($C10="应届",($S10*0.25)/6,IF($C10="往届",($S10*0.5)/6,"NULL")) -> 3 | CP10: 胡慧芳 | CQ10: =IF($C10="应届",($S10*0.25)/6,IF($C10="往届",($S10*0.5)/6,"NULL")) -> 3 | CR10: 金贵 | CS10: =IF($C10="应届",($S10*0.25)/6,IF($C10="往届",($S10*0.5)/6,"NULL")) -> 3
A11: 扎西央宗 | B11: 513422200401012328 | C11: 往届 | D11: 文科 | F11: 0 | G11: 0 | H11: 111 | I11: 69 | J11: 105 | K11: 63 | L11: 57 | M11: 33 | N11: 438 | O11: =IF(D11="理科",IF(N11>=分数线!$C$2,"本科",""),IF(D11="文科",IF(N11>=分数线!$C$3,"本科",""))) | P11: =IF(F11>0,IF(O11="本科",(2-F11)*36,-(F11)*36),IF(O11="本科",2*36,0)) -> 0 | Q11: =IF(D11="理科",IF(N11>=分数线!$C$6,"重本",""),IF(D11="文科",IF(N11>=分数线!$C$7,"重本",""))) | R11: =IF(G11>0,IF(Q11="重本",G11*72,-(G11)*72),IF(Q11="重本",2*72,0)) -> 0 | S11: =P11+R11 -> 0 | T11: NULL | U11: NULL | V11: =IF($C11="应届",($S11*0.1)/6,IF($C11="往届","","NULL")) | W11: NULL | X11: =IF($C11="应届",($S11*0.1)/6,IF($C11="往届","","NULL")) | Y11: NULL | Z11: =IF($C11="应届",($S11*0.1)/6,IF($C11="往届","","NULL")) | AA11: NULL | AB11: =IF($C11="应届",($S11*0.1)/6,IF($C11="往届","","NULL")) | AC11: NULL | AD11: =IF($C11="应届",($S11*0.1)/6,IF($C11="往届","","NULL")) | AE11: NULL | AF11: =IF($C11="应届",($S11*0.1)/6,IF($C11="往届","","NULL")) | AG11: NULL | AH11: NULL | AI11: =IF($C11="应届",($S11*0.1)/6,IF($C11="往届","","NULL")) | AJ11: NULL | AK11: =IF($C11="应届",($S11*0.1)/6,IF($C11="往届","","NULL")) | AL11: NULL | AM11: =IF($C11="应届",($S11*0.1)/6,IF($C11="往届","","NULL")) | AN11: NULL | AO11: =IF($C11="应届",($S11*0.1)/6,IF($C11="往届","","NULL")) | AP11: NULL | AQ11: =IF($C11="应届",($S11*0.1)/6,IF($C11="往届","","NULL")) | AR11: NULL | AS11: =IF($C11="应届",($S11*0.1)/6,IF($C11="往届","","NULL")) | AT11: NULL | AU11: NULL | AV11: =IF($C11="应届",($S11*0.15)/6,IF($C11="往届","","NULL")) | AW11: NULL | AX11: =IF($C11="应届",($S11*0.15)/6,IF($C11="往届","","NULL")) | AY11: NULL | AZ11: =IF($C11="应届",($S11*0.15)/6,IF($C11="往届","","NULL")) | BA11: NULL | BB11: =IF($C11="应届",($S11*0.15)/6,IF($C11="往届","","NULL")) | BC11: NULL | BD11: =IF($C11="应届",($S11*0.15)/6,IF($C11="往届","","NULL")) | BE11: NULL | BF11: =IF($C11="应届",($S11*0.15)/6,IF($C11="往届","","NULL")) | BG11: NULL | BH11: NULL | BI11: =IF($C11="应届",($S11*0.15)/6,IF($C11="往届","","NULL")) | BJ11: NULL | BK11: =IF($C11="应届",($S11*0.15)/6,IF($C11="往届","","NULL")) | BL11: NULL | BM11: =IF($C11="应届",($S11*0.15)/6,IF($C11="往届","","NULL")) | BN11: NULL | BO11: =IF($C11="应届",($S11*0.15)/6,IF($C11="往届","","NULL")) | BP11: NULL | BQ11: =IF($C11="应届",($S11*0.15)/6,IF($C11="往届","","NULL")) | BR11: NULL | BS11: =IF($C11="应届",($S11*0.15)/6,IF($C11="往届","","NULL")) | BT11: 1 | BU11: 叶屏 | BV11: =IF($C11="应届",($S11*0.25)/6,IF($C11="往届",($S11*0.5)/6,"NULL")) -> 0 | BW11: 余玉红 | BX11: =IF($C11="应届",($S11*0.25)/6,IF($C11="往届",($S11*0.5)/6,"NULL")) -> 0 | BY11: 胡昌燕 | BZ11: =IF($C11="应届",($S11*0.25)/6,IF($C11="往届",($S11*0.5)/6,"NULL")) -> 0 | CA11: 卢银楷 | CB11: =IF($C11="应届",($S11*0.25)/6,IF($C11="往届",($S11*0.5)/6,"NULL")) -> 0 | CC11: 胡慧芳 | CD11: =IF($C11="应届",($S11*0.25)/6,IF($C11="往届",($S11*0.5)/6,"NULL")) -> 0 | CE11: 金贵 | CF11: =IF($C11="应届",($S11*0.25)/6,IF($C11="往届",($S11*0.5)/6,"NULL")) -> 0 | CG11: 1 | CH11: 叶屏 | CI11: =IF($C11="应届",($S11*0.25)/6,IF($C11="往届",($S11*0.5)/6,"NULL")) -> 0 | CJ11: 余玉红 | CK11: =IF($C11="应届",($S11*0.25)/6,IF($C11="往届",($S11*0.5)/6,"NULL")) -> 0 | CL11: 胡昌燕 | CM11: =IF($C11="应届",($S11*0.25)/6,IF($C11="往届",($S11*0.5)/6,"NULL")) -> 0 | CN11: 卢银楷 | CO11: =IF($C11="应届",($S11*0.25)/6,IF($C11="往届",($S11*0.5)/6,"NULL")) -> 0 | CP11: 胡慧芳 | CQ11: =IF($C11="应届",($S11*0.25)/6,IF($C11="往届",($S11*0.5)/6,"NULL")) -> 0 | CR11: 金贵 | CS11: =IF($C11="应届",($S11*0.25)/6,IF($C11="往届",($S11*0.5)/6,"NULL")) -> 0
A12: 马子落 | B12: 513422200403156624 | C12: 往届 | D12: 文科 | F12: 1 | G12: 0 | H12: 100 | I12: 101 | J12: 88 | K12: 64.5 | L12: 71 | M12: 62 | N12: 487 | O12: =IF(D12="理科",IF(N12>=分数线!$C$2,"本科",""),IF(D12="文科",IF(N12>=分数线!$C$3,"本科",""))) -> 本科 | P12: =IF(F12>0,IF(O12="本科",(2-F12)*36,-(F12)*36),IF(O12="本科",2*36,0)) -> 36 | Q12: =IF(D12="理科",IF(N12>=分数线!$C$6,"重本",""),IF(D12="文科",IF(N12>=分数线!$C$7,"重本",""))) | R12: =IF(G12>0,IF(Q12="重本",G12*72,-(G12)*72),IF(Q12="重本",2*72,0)) -> 0 | S12: =P12+R12 -> 36 | T12: NULL | U12: NULL | V12: =IF($C12="应届",($S12*0.1)/6,IF($C12="往届","","NULL")) | W12: NULL | X12: =IF($C12="应届",($S12*0.1)/6,IF($C12="往届","","NULL")) | Y12: NULL | Z12: =IF($C12="应届",($S12*0.1)/6,IF($C12="往届","","NULL")) | AA12: NULL | AB12: =IF($C12="应届",($S12*0.1)/6,IF($C12="往届","","NULL")) | AC12: NULL | AD12: =IF($C12="应届",($S12*0.1)/6,IF($C12="往届","","NULL")) | AE12: NULL | AF12: =IF($C12="应届",($S12*0.1)/6,IF($C12="往届","","NULL")) | AG12: NULL | AH12: NULL | AI12: =IF($C12="应届",($S12*0.1)/6,IF($C12="往届","","NULL")) | AJ12: NULL | AK12: =IF($C12="应届",($S12*0.1)/6,IF($C12="往届","","NULL")) | AL12: NULL | AM12: =IF($C12="应届",($S12*0.1)/6,IF($C12="往届","","NULL")) | AN12: NULL | AO12: =IF($C12="应届",($S12*0.1)/6,IF($C12="往届","","NULL")) | AP12: NULL | AQ12: =IF($C12="应届",($S12*0.1)/6,IF($C12="往届","","NULL")) | AR12: NULL | AS12: =IF($C12="应届",($S12*0.1)/6,IF($C12="往届","","NULL")) | AT12: NULL | AU12: NULL | AV12: =IF($C12="应届",($S12*0.15)/6,IF($C12="往届","","NULL")) | AW12: NULL | AX12: =IF($C12="应届",($S12*0.15)/6,IF($C12="往届","","NULL")) | AY12: NULL | AZ12: =IF($C12="应届",($S12*0.15)/6,IF($C12="往届","","NULL")) | BA12: NULL | BB12: =IF($C12="应届",($S12*0.15)/6,IF($C12="往届","","NULL")) | BC12: NULL | BD12: =IF($C12="应届",($S12*0.15)/6,IF($C12="往届","","NULL")) | BE12: NULL | BF12: =IF($C12="应届",($S12*0.15)/6,IF($C12="往届","","NULL")) | BG12: NULL | BH12: NULL | BI12: =IF($C12="应届",($S12*0.15)/6,IF($C12="往届","","NULL")) | BJ12: NULL | BK12: =IF($C12="应届",($S12*0.15)/6,IF($C12="往届","","NULL")) | BL12: NULL | BM12: =IF($C12="应届",($S12*0.15)/6,IF($C12="往届","","NULL")) | BN12: NULL | BO12: =IF($C12="应届",($S12*0.15)/6,IF($C12="往届","","NULL")) | BP12: NULL | BQ12: =IF($C12="应届",($S12*0.15)/6,IF($C12="往届","","NULL")) | BR12: NULL | BS12: =IF($C12="应届",($S12*0.15)/6,IF($C12="往届","","NULL")) | BT12: 2 | BU12: 阙丽萍 | BV12: =IF($C12="应届",($S12*0.25)/6,IF($C12="往届",($S12*0.5)/6,"NULL")) -> 3 | BW12: 李希 | BX12: =IF($C12="应届",($S12*0.25)/6,IF($C12="往届",($S12*0.5)/6,"NULL")) -> 3 | BY12: 赵顺诚 | BZ12: =IF($C12="应届",($S12*0.25)/6,IF($C12="往届",($S12*0.5)/6,"NULL")) -> 3 | CA12: 吴文艺 | CB12: =IF($C12="应届",($S12*0.25)/6,IF($C12="往届",($S12*0.5)/6,"NULL")) -> 3 | CC12: 赵香才 | CD12: =IF($C12="应届",($S12*0.25)/6,IF($C12="往届",($S12*0.5)/6,"NULL")) -> 3 | CE12: 杜基次尔 | CF12: =IF($C12="应届",($S12*0.25)/6,IF($C12="往届",($S12*0.5)/6,"NULL")) -> 3 | CG12: 2 | CH12: 阙丽萍 | CI12: =IF($C12="应届",($S12*0.25)/6,IF($C12="往届",($S12*0.5)/6,"NULL")) -> 3 | CJ12: 李希 | CK12: =IF($C12="应届",($S12*0.25)/6,IF($C12="往届",($S12*0.5)/6,"NULL")) -> 3 | CL12: 赵顺诚 | CM12: =IF($C12="应届",($S12*0.25)/6,IF($C12="往届",($S12*0.5)/6,"NULL")) -> 3 | CN12: 吴文艺/康宇峰 | CO12: =IF($C12="应届",($S12*0.25)/6,IF($C12="往届",($S12*0.5)/6,"NULL")) -> 3 | CP12: 赵香才 | CQ12: =IF($C12="应届",($S12*0.25)/6,IF($C12="往届",($S12*0.5)/6,"NULL")) -> 3 | CR12: 杜基次尔 | CS12: =IF($C12="应届",($S12*0.25)/6,IF($C12="往届",($S12*0.5)/6,"NULL")) -> 3
A13: 次尔拉初 | B13: 513422200402215020 | C13: 往届 | D13: 文科 | F13: 1 | G13: 0 | H13: 100 | I13: 106 | J13: 94 | K13: 61.5 | L13: 64.5 | M13: 50 | N13: 476 | O13: =IF(D13="理科",IF(N13>=分数线!$C$2,"本科",""),IF(D13="文科",IF(N13>=分数线!$C$3,"本科",""))) -> 本科 | P13: =IF(F13>0,IF(O13="本科",(2-F13)*36,-(F13)*36),IF(O13="本科",2*36,0)) -> 36 | Q13: =IF(D13="理科",IF(N13>=分数线!$C$6,"重本",""),IF(D13="文科",IF(N13>=分数线!$C$7,"重本",""))) | R13: =IF(G13>0,IF(Q13="重本",G13*72,-(G13)*72),IF(Q13="重本",2*72,0)) -> 0 | S13: =P13+R13 -> 36 | T13: NULL | U13: NULL | V13: =IF($C13="应届",($S13*0.1)/6,IF($C13="往届","","NULL")) | W13: NULL | X13: =IF($C13="应届",($S13*0.1)/6,IF($C13="往届","","NULL")) | Y13: NULL | Z13: =IF($C13="应届",($S13*0.1)/6,IF($C13="往届","","NULL")) | AA13: NULL | AB13: =IF($C13="应届",($S13*0.1)/6,IF($C13="往届","","NULL")) | AC13: NULL | AD13: =IF($C13="应届",($S13*0.1)/6,IF($C13="往届","","NULL")) | AE13: NULL | AF13: =IF($C13="应届",($S13*0.1)/6,IF($C13="往届","","NULL")) | AG13: NULL | AH13: NULL | AI13: =IF($C13="应届",($S13*0.1)/6,IF($C13="往届","","NULL")) | AJ13: NULL | AK13: =IF($C13="应届",($S13*0.1)/6,IF($C13="往届","","NULL")) | AL13: NULL | AM13: =IF($C13="应届",($S13*0.1)/6,IF($C13="往届","","NULL")) | AN13: NULL | AO13: =IF($C13="应届",($S13*0.1)/6,IF($C13="往届","","NULL")) | AP13: NULL | AQ13: =IF($C13="应届",($S13*0.1)/6,IF($C13="往届","","NULL")) | AR13: NULL | AS13: =IF($C13="应届",($S13*0.1)/6,IF($C13="往届","","NULL")) | AT13: NULL | AU13: NULL | AV13: =IF($C13="应届",($S13*0.15)/6,IF($C13="往届","","NULL")) | AW13: NULL | AX13: =IF($C13="应届",($S13*0.15)/6,IF($C13="往届","","NULL")) | AY13: NULL | AZ13: =IF($C13="应届",($S13*0.15)/6,IF($C13="往届","","NULL")) | BA13: NULL | BB13: =IF($C13="应届",($S13*0.15)/6,IF($C13="往届","","NULL")) | BC13: NULL | BD13: =IF($C13="应届",($S13*0.15)/6,IF($C13="往届","","NULL")) | BE13: NULL | BF13: =IF($C13="应届",($S13*0.15)/6,IF($C13="往届","","NULL")) | BG13: NULL | BH13: NULL | BI13: =IF($C13="应届",($S13*0.15)/6,IF($C13="往届","","NULL")) | BJ13: NULL | BK13: =IF($C13="应届",($S13*0.15)/6,IF($C13="往届","","NULL")) | BL13: NULL | BM13: =IF($C13="应届",($S13*0.15)/6,IF($C13="往届","","NULL")) | BN13: NULL | BO13: =IF($C13="应届",($S13*0.15)/6,IF($C13="往届","","NULL")) | BP13: NULL | BQ13: =IF($C13="应届",($S13*0.15)/6,IF($C13="往届","","NULL")) | BR13: NULL | BS13: =IF($C13="应届",($S13*0.15)/6,IF($C13="往届","","NULL")) | BT13: 2 | BU13: 阙丽萍 | BV13: =IF($C13="应届",($S13*0.25)/6,IF($C13="往届",($S13*0.5)/6,"NULL")) -> 3 | BW13: 李希 | BX13: =IF($C13="应届",($S13*0.25)/6,IF($C13="往届",($S13*0.5)/6,"NULL")) -> 3 | BY13: 赵顺诚 | BZ13: =IF($C13="应届",($S13*0.25)/6,IF($C13="往届",($S13*0.5)/6,"NULL")) -> 3 | CA13: 吴文艺 | CB13: =IF($C13="应届",($S13*0.25)/6,IF($C13="往届",($S13*0.5)/6,"NULL")) -> 3 | CC13: 赵香才 | CD13: =IF($C13="应届",($S13*0.25)/6,IF($C13="往届",($S13*0.5)/6,"NULL")) -> 3 | CE13: 杜基次尔 | CF13: =IF($C13="应届",($S13*0.25)/6,IF($C13="往届",($S13*0.5)/6,"NULL")) -> 3 | CG13: 2 | CH13: 阙丽萍 | CI13: =IF($C13="应届",($S13*0.25)/6,IF($C13="往届",($S13*0.5)/6,"NULL")) -> 3 | CJ13: 李希 | CK13: =IF($C13="应届",($S13*0.25)/6,IF($C13="往届",($S13*0.5)/6,"NULL")) -> 3 | CL13: 赵顺诚 | CM13: =IF($C13="应届",($S13*0.25)/6,IF($C13="往届",($S13*0.5)/6,"NULL")) -> 3 | CN13: 吴文艺/康宇峰 | CO13: =IF($C13="应届",($S13*0.25)/6,IF($C13="往届",($S13*0.5)/6,"NULL")) -> 3 | CP13: 赵香才 | CQ13: =IF($C13="应届",($S13*0.25)/6,IF($C13="往届",($S13*0.5)/6,"NULL")) -> 3 | CR13: 杜基次尔 | CS13: =IF($C13="应届",($S13*0.25)/6,IF($C13="往届",($S13*0.5)/6,"NULL")) -> 3
A14: 金拉初 | B14: 51342220021007442X | C14: 往届 | D14: 文科 | F14: 0 | G14: 0 | H14: 110 | I14: 84 | J14: 119 | K14: 70.5 | L14: 36.5 | M14: 33 | N14: 453 | O14: =IF(D14="理科",IF(N14>=分数线!$C$2,"本科",""),IF(D14="文科",IF(N14>=分数线!$C$3,"本科",""))) | P14: =IF(F14>0,IF(O14="本科",(2-F14)*36,-(F14)*36),IF(O14="本科",2*36,0)) -> 0 | Q14: =IF(D14="理科",IF(N14>=分数线!$C$6,"重本",""),IF(D14="文科",IF(N14>=分数线!$C$7,"重本",""))) | R14: =IF(G14>0,IF(Q14="重本",G14*72,-(G14)*72),IF(Q14="重本",2*72,0)) -> 0 | S14: =P14+R14 -> 0 | T14: NULL | U14: NULL | V14: =IF($C14="应届",($S14*0.1)/6,IF($C14="往届","","NULL")) | W14: NULL | X14: =IF($C14="应届",($S14*0.1)/6,IF($C14="往届","","NULL")) | Y14: NULL | Z14: =IF($C14="应届",($S14*0.1)/6,IF($C14="往届","","NULL")) | AA14: NULL | AB14: =IF($C14="应届",($S14*0.1)/6,IF($C14="往届","","NULL")) | AC14: NULL | AD14: =IF($C14="应届",($S14*0.1)/6,IF($C14="往届","","NULL")) | AE14: NULL | AF14: =IF($C14="应届",($S14*0.1)/6,IF($C14="往届","","NULL")) | AG14: NULL | AH14: NULL | AI14: =IF($C14="应届",($S14*0.1)/6,IF($C14="往届","","NULL")) | AJ14: NULL | AK14: =IF($C14="应届",($S14*0.1)/6,IF($C14="往届","","NULL")) | AL14: NULL | AM14: =IF($C14="应届",($S14*0.1)/6,IF($C14="往届","","NULL")) | AN14: NULL | AO14: =IF($C14="应届",($S14*0.1)/6,IF($C14="往届","","NULL")) | AP14: NULL | AQ14: =IF($C14="应届",($S14*0.1)/6,IF($C14="往届","","NULL")) | AR14: NULL | AS14: =IF($C14="应届",($S14*0.1)/6,IF($C14="往届","","NULL")) | AT14: NULL | AU14: NULL | AV14: =IF($C14="应届",($S14*0.15)/6,IF($C14="往届","","NULL")) | AW14: NULL | AX14: =IF($C14="应届",($S14*0.15)/6,IF($C14="往届","","NULL")) | AY14: NULL | AZ14: =IF($C14="应届",($S14*0.15)/6,IF($C14="往届","","NULL")) | BA14: NULL | BB14: =IF($C14="应届",($S14*0.15)/6,IF($C14="往届","","NULL")) | BC14: NULL | BD14: =IF($C14="应届",($S14*0.15)/6,IF($C14="往届","","NULL")) | BE14: NULL | BF14: =IF($C14="应届",($S14*0.15)/6,IF($C14="往届","","NULL")) | BG14: NULL | BH14: NULL | BI14: =IF($C14="应届",($S14*0.15)/6,IF($C14="往届","","NULL")) | BJ14: NULL | BK14: =IF($C14="应届",($S14*0.15)/6,IF($C14="往届","","NULL")) | BL14: NULL | BM14: =IF($C14="应届",($S14*0.15)/6,IF($C14="往届","","NULL")) | BN14: NULL | BO14: =IF($C14="应届",($S14*0.15)/6,IF($C14="往届","","NULL")) | BP14: NULL | BQ14: =IF($C14="应届",($S14*0.15)/6,IF($C14="往届","","NULL")) | BR14: NULL | BS14: =IF($C14="应届",($S14*0.15)/6,IF($C14="往届","","NULL")) | BT14: 2 | BU14: 阙丽萍 | BV14: =IF($C14="应届",($S14*0.25)/6,IF($C14="往届",($S14*0.5)/6,"NULL")) -> 0 | BW14: 李希 | BX14: =IF($C14="应届",($S14*0.25)/6,IF($C14="往届",($S14*0.5)/6,"NULL")) -> 0 | BY14: 赵顺诚 | BZ14: =IF($C14="应届",($S14*0.25)/6,IF($C14="往届",($S14*0.5)/6,"NULL")) -> 0 | CA14: 吴文艺 | CB14: =IF($C14="应届",($S14*0.25)/6,IF($C14="往届",($S14*0.5)/6,"NULL")) -> 0 | CC14: 赵香才 | CD14: =IF($C14="应届",($S14*0.25)/6,IF($C14="往届",($S14*0.5)/6,"NULL")) -> 0 | CE14: 杜基次尔 | CF14: =IF($C14="应届",($S14*0.25)/6,IF($C14="往届",($S14*0.5)/6,"NULL")) -> 0 | CG14: 2 | CH14: 阙丽萍 | CI14: =IF($C14="应届",($S14*0.25)/6,IF($C14="往届",($S14*0.5)/6,"NULL")) -> 0 | CJ14: 李希 | CK14: =IF($C14="应届",($S14*0.25)/6,IF($C14="往届",($S14*0.5)/6,"NULL")) -> 0 | CL14: 赵顺诚 | CM14: =IF($C14="应届",($S14*0.25)/6,IF($C14="往届",($S14*0.5)/6,"NULL")) -> 0 | CN14: 吴文艺/康宇峰 | CO14: =IF($C14="应届",($S14*0.25)/6,IF($C14="往届",($S14*0.5)/6,"NULL")) -> 0 | CP14: 赵香才 | CQ14: =IF($C14="应届",($S14*0.25)/6,IF($C14="往届",($S14*0.5)/6,"NULL")) -> 0 | CR14: 杜基次尔 | CS14: =IF($C14="应届",($S14*0.25)/6,IF($C14="往届",($S14*0.5)/6,"NULL")) -> 0
A15: 叶才岗 | B15: 513422200308122119 | C15: 往届 | D15: 文科 | F15: 1 | G15: 0 | H15: 107 | I15: 93 | J15: 50 | K15: 60.5 | L15: 73.5 | M15: 49 | N15: 433 | O15: =IF(D15="理科",IF(N15>=分数线!$C$2,"本科",""),IF(D15="文科",IF(N15>=分数线!$C$3,"本科",""))) | P15: =IF(F15>0,IF(O15="本科",(2-F15)*36,-(F15)*36),IF(O15="本科",2*36,0)) -> -36 | Q15: =IF(D15="理科",IF(N15>=分数线!$C$6,"重本",""),IF(D15="文科",IF(N15>=分数线!$C$7,"重本",""))) | R15: =IF(G15>0,IF(Q15="重本",G15*72,-(G15)*72),IF(Q15="重本",2*72,0)) -> 0 | S15: =P15+R15 -> -36 | T15: NULL | U15: NULL | V15: =IF($C15="应届",($S15*0.1)/6,IF($C15="往届","","NULL")) | W15: NULL | X15: =IF($C15="应届",($S15*0.1)/6,IF($C15="往届","","NULL")) | Y15: NULL | Z15: =IF($C15="应届",($S15*0.1)/6,IF($C15="往届","","NULL")) | AA15: NULL | AB15: =IF($C15="应届",($S15*0.1)/6,IF($C15="往届","","NULL")) | AC15: NULL | AD15: =IF($C15="应届",($S15*0.1)/6,IF($C15="往届","","NULL")) | AE15: NULL | AF15: =IF($C15="应届",($S15*0.1)/6,IF($C15="往届","","NULL")) | AG15: NULL | AH15: NULL | AI15: =IF($C15="应届",($S15*0.1)/6,IF($C15="往届","","NULL")) | AJ15: NULL | AK15: =IF($C15="应届",($S15*0.1)/6,IF($C15="往届","","NULL")) | AL15: NULL | AM15: =IF($C15="应届",($S15*0.1)/6,IF($C15="往届","","NULL")) | AN15: NULL | AO15: =IF($C15="应届",($S15*0.1)/6,IF($C15="往届","","NULL")) | AP15: NULL | AQ15: =IF($C15="应届",($S15*0.1)/6,IF($C15="往届","","NULL")) | AR15: NULL | AS15: =IF($C15="应届",($S15*0.1)/6,IF($C15="往届","","NULL")) | AT15: NULL | AU15: NULL | AV15: =IF($C15="应届",($S15*0.15)/6,IF($C15="往届","","NULL")) | AW15: NULL | AX15: =IF($C15="应届",($S15*0.15)/6,IF($C15="往届","","NULL")) | AY15: NULL | AZ15: =IF($C15="应届",($S15*0.15)/6,IF($C15="往届","","NULL")) | BA15: NULL | BB15: =IF($C15="应届",($S15*0.15)/6,IF($C15="往届","","NULL")) | BC15: NULL | BD15: =IF($C15="应届",($S15*0.15)/6,IF($C15="往届","","NULL")) | BE15: NULL | BF15: =IF($C15="应届",($S15*0.15)/6,IF($C15="往届","","NULL")) | BG15: NULL | BH15: NULL | BI15: =IF($C15="应届",($S15*0.15)/6,IF($C15="往届","","NULL")) | BJ15: NULL | BK15: =IF($C15="应届",($S15*0.15)/6,IF($C15="往届","","NULL")) | BL15: NULL | BM15: =IF($C15="应届",($S15*0.15)/6,IF($C15="往届","","NULL")) | BN15: NULL | BO15: =IF($C15="应届",($S15*0.15)/6,IF($C15="往届","","NULL")) | BP15: NULL | BQ15: =IF($C15="应届",($S15*0.15)/6,IF($C15="往届","","NULL")) | BR15: NULL | BS15: =IF($C15="应届",($S15*0.15)/6,IF($C15="往届","","NULL")) | BT15: 2 | BU15: 阙丽萍 | BV15: =IF($C15="应届",($S15*0.25)/6,IF($C15="往届",($S15*0.5)/6,"NULL")) -> -3 | BW15: 李希 | BX15: =IF($C15="应届",($S15*0.25)/6,IF($C15="往届",($S15*0.5)/6,"NULL")) -> -3 | BY15: 赵顺诚 | BZ15: =IF($C15="应届",($S15*0.25)/6,IF($C15="往届",($S15*0.5)/6,"NULL")) -> -3 | CA15: 吴文艺 | CB15: =IF($C15="应届",($S15*0.25)/6,IF($C15="往届",($S15*0.5)/6,"NULL")) -> -3 | CC15: 赵香才 | CD15: =IF($C15="应届",($S15*0.25)/6,IF($C15="往届",($S15*0.5)/6,"NULL")) -> -3 | CE15: 杜基次尔 | CF15: =IF($C15="应届",($S15*0.25)/6,IF($C15="往届",($S15*0.5)/6,"NULL")) -> -3 | CG15: 2 | CH15: 阙丽萍 | CI15: =IF($C15="应届",($S15*0.25)/6,IF($C15="往届",($S15*0.5)/6,"NULL")) -> -3 | CJ15: 李希 | CK15: =IF($C15="应届",($S15*0.25)/6,IF($C15="往届",($S15*0.5)/6,"NULL")) -> -3 | CL15: 赵顺诚 | CM15: =IF($C15="应届",($S15*0.25)/6,IF($C15="往届",($S15*0.5)/6,"NULL")) -> -3 | CN15: 吴文艺/康宇峰 | CO15: =IF($C15="应届",($S15*0.25)/6,IF($C15="往届",($S15*0.5)/6,"NULL")) -> -3 | CP15: 赵香才 | CQ15: =IF($C15="应届",($S15*0.25)/6,IF($C15="往届",($S15*0.5)/6,"NULL")) -> -3 | CR15: 杜基次尔 | CS15: =IF($C15="应届",($S15*0.25)/6,IF($C15="往届",($S15*0.5)/6,"NULL")) -> -3
A16: 罗伍呷 | B16: 513422200111060022 | C16: 往届 | D16: 文科 | F16: 1 | G16: 0 | H16: 107 | I16: 64 | J16: 90 | K16: 71 | L16: 61.5 | M16: 49 | N16: 443 | O16: =IF(D16="理科",IF(N16>=分数线!$C$2,"本科",""),IF(D16="文科",IF(N16>=分数线!$C$3,"本科",""))) | P16: =IF(F16>0,IF(O16="本科",(2-F16)*36,-(F16)*36),IF(O16="本科",2*36,0)) -> -36 | Q16: =IF(D16="理科",IF(N16>=分数线!$C$6,"重本",""),IF(D16="文科",IF(N16>=分数线!$C$7,"重本",""))) | R16: =IF(G16>0,IF(Q16="重本",G16*72,-(G16)*72),IF(Q16="重本",2*72,0)) -> 0 | S16: =P16+R16 -> -36 | T16: NULL | U16: NULL | V16: =IF($C16="应届",($S16*0.1)/6,IF($C16="往届","","NULL")) | W16: NULL | X16: =IF($C16="应届",($S16*0.1)/6,IF($C16="往届","","NULL")) | Y16: NULL | Z16: =IF($C16="应届",($S16*0.1)/6,IF($C16="往届","","NULL")) | AA16: NULL | AB16: =IF($C16="应届",($S16*0.1)/6,IF($C16="往届","","NULL")) | AC16: NULL | AD16: =IF($C16="应届",($S16*0.1)/6,IF($C16="往届","","NULL")) | AE16: NULL | AF16: =IF($C16="应届",($S16*0.1)/6,IF($C16="往届","","NULL")) | AG16: NULL | AH16: NULL | AI16: =IF($C16="应届",($S16*0.1)/6,IF($C16="往届","","NULL")) | AJ16: NULL | AK16: =IF($C16="应届",($S16*0.1)/6,IF($C16="往届","","NULL")) | AL16: NULL | AM16: =IF($C16="应届",($S16*0.1)/6,IF($C16="往届","","NULL")) | AN16: NULL | AO16: =IF($C16="应届",($S16*0.1)/6,IF($C16="往届","","NULL")) | AP16: NULL | AQ16: =IF($C16="应届",($S16*0.1)/6,IF($C16="往届","","NULL")) | AR16: NULL | AS16: =IF($C16="应届",($S16*0.1)/6,IF($C16="往届","","NULL")) | AT16: NULL | AU16: NULL | AV16: =IF($C16="应届",($S16*0.15)/6,IF($C16="往届","","NULL")) | AW16: NULL | AX16: =IF($C16="应届",($S16*0.15)/6,IF($C16="往届","","NULL")) | AY16: NULL | AZ16: =IF($C16="应届",($S16*0.15)/6,IF($C16="往届","","NULL")) | BA16: NULL | BB16: =IF($C16="应届",($S16*0.15)/6,IF($C16="往届","","NULL")) | BC16: NULL | BD16: =IF($C16="应届",($S16*0.15)/6,IF($C16="往届","","NULL")) | BE16: NULL | BF16: =IF($C16="应届",($S16*0.15)/6,IF($C16="往届","","NULL")) | BG16: NULL | BH16: NULL | BI16: =IF($C16="应届",($S16*0.15)/6,IF($C16="往届","","NULL")) | BJ16: NULL | BK16: =IF($C16="应届",($S16*0.15)/6,IF($C16="往届","","NULL")) | BL16: NULL | BM16: =IF($C16="应届",($S16*0.15)/6,IF($C16="往届","","NULL")) | BN16: NULL | BO16: =IF($C16="应届",($S16*0.15)/6,IF($C16="往届","","NULL")) | BP16: NULL | BQ16: =IF($C16="应届",($S16*0.15)/6,IF($C16="往届","","NULL")) | BR16: NULL | BS16: =IF($C16="应届",($S16*0.15)/6,IF($C16="往届","","NULL")) | BT16: 2 | BU16: 阙丽萍 | BV16: =IF($C16="应届",($S16*0.25)/6,IF($C16="往届",($S16*0.5)/6,"NULL")) -> -3 | BW16: 李希 | BX16: =IF($C16="应届",($S16*0.25)/6,IF($C16="往届",($S16*0.5)/6,"NULL")) -> -3 | BY16: 赵顺诚 | BZ16: =IF($C16="应届",($S16*0.25)/6,IF($C16="往届",($S16*0.5)/6,"NULL")) -> -3 | CA16: 吴文艺 | CB16: =IF($C16="应届",($S16*0.25)/6,IF($C16="往届",($S16*0.5)/6,"NULL")) -> -3 | CC16: 赵香才 | CD16: =IF($C16="应届",($S16*0.25)/6,IF($C16="往届",($S16*0.5)/6,"NULL")) -> -3 | CE16: 杜基次尔 | CF16: =IF($C16="应届",($S16*0.25)/6,IF($C16="往届",($S16*0.5)/6,"NULL")) -> -3 | CG16: 2 | CH16: 阙丽萍 | CI16: =IF($C16="应届",($S16*0.25)/6,IF($C16="往届",($S16*0.5)/6,"NULL")) -> -3 | CJ16: 李希 | CK16: =IF($C16="应届",($S16*0.25)/6,IF($C16="往届",($S16*0.5)/6,"NULL")) -> -3 | CL16: 赵顺诚 | CM16: =IF($C16="应届",($S16*0.25)/6,IF($C16="往届",($S16*0.5)/6,"NULL")) -> -3 | CN16: 吴文艺/康宇峰 | CO16: =IF($C16="应届",($S16*0.25)/6,IF($C16="往届",($S16*0.5)/6,"NULL")) -> -3 | CP16: 赵香才 | CQ16: =IF($C16="应届",($S16*0.25)/6,IF($C16="往届",($S16*0.5)/6,"NULL")) -> -3 | CR16: 杜基次尔 | CS16: =IF($C16="应届",($S16*0.25)/6,IF($C16="往届",($S16*0.5)/6,"NULL")) -> -3
... A22: 扎西 | B22: 513422200001145412 | C22: 往届 | D22: 文科 | F22: 0 | G22: 0 | H22: 105 | I22: 62 | J22: 90 | K22: 67.5 | L22: 59.5 | M22: 57 | N22: 441 | O22: =IF(D22="理科",IF(N22>=分数线!$C$2,"本科",""),IF(D22="文科",IF(N22>=分数线!$C$3,"本科",""))) | P22: =IF(F22>0,IF(O22="本科",(2-F22)*36,-(F22)*36),IF(O22="本科",2*36,0)) -> 0 | Q22: =IF(D22="理科",IF(N22>=分数线!$C$6,"重本",""),IF(D22="文科",IF(N22>=分数线!$C$7,"重本",""))) | R22: =IF(G22>0,IF(Q22="重本",G22*72,-(G22)*72),IF(Q22="重本",2*72,0)) -> 0 | S22: =P22+R22 -> 0 | T22: NULL | U22: NULL | V22: =IF($C22="应届",($S22*0.1)/6,IF($C22="往届","","NULL")) | W22: NULL | X22: =IF($C22="应届",($S22*0.1)/6,IF($C22="往届","","NULL")) | Y22: NULL | Z22: =IF($C22="应届",($S22*0.1)/6,IF($C22="往届","","NULL")) | AA22: NULL | AB22: =IF($C22="应届",($S22*0.1)/6,IF($C22="往届","","NULL")) | AC22: NULL | AD22: =IF($C22="应届",($S22*0.1)/6,IF($C22="往届","","NULL")) | AE22: NULL | AF22: =IF($C22="应届",($S22*0.1)/6,IF($C22="往届","","NULL")) | AG22: NULL | AH22: NULL | AI22: =IF($C22="应届",($S22*0.1)/6,IF($C22="往届","","NULL")) | AJ22: NULL | AK22: =IF($C22="应届",($S22*0.1)/6,IF($C22="往届","","NULL")) | AL22: NULL | AM22: =IF($C22="应届",($S22*0.1)/6,IF($C22="往届","","NULL")) | AN22: NULL | AO22: =IF($C22="应届",($S22*0.1)/6,IF($C22="往届","","NULL")) | AP22: NULL | AQ22: =IF($C22="应届",($S22*0.1)/6,IF($C22="往届","","NULL")) | AR22: NULL | AS22: =IF($C22="应届",($S22*0.1)/6,IF($C22="往届","","NULL")) | AT22: NULL | AU22: NULL | AV22: =IF($C22="应届",($S22*0.15)/6,IF($C22="往届","","NULL")) | AW22: NULL | AX22: =IF($C22="应届",($S22*0.15)/6,IF($C22="往届","","NULL")) | AY22: NULL | AZ22: =IF($C22="应届",($S22*0.15)/6,IF($C22="往届","","NULL")) | BA22: NULL | BB22: =IF($C22="应届",($S22*0.15)/6,IF($C22="往届","","NULL")) | BC22: NULL | BD22: =IF($C22="应届",($S22*0.15)/6,IF($C22="往届","","NULL")) | BE22: NULL | BF22: =IF($C22="应届",($S22*0.15)/6,IF($C22="往届","","NULL")) | BG22: NULL | BH22: NULL | BI22: =IF($C22="应届",($S22*0.15)/6,IF($C22="往届","","NULL")) | BJ22: NULL | BK22: =IF($C22="应届",($S22*0.15)/6,IF($C22="往届","","NULL")) | BL22: NULL | BM22: =IF($C22="应届",($S22*0.15)/6,IF($C22="往届","","NULL")) | BN22: NULL | BO22: =IF($C22="应届",($S22*0.15)/6,IF($C22="往届","","NULL")) | BP22: NULL | BQ22: =IF($C22="应届",($S22*0.15)/6,IF($C22="往届","","NULL")) | BR22: NULL | BS22: =IF($C22="应届",($S22*0.15)/6,IF($C22="往届","","NULL")) | BT22: 3 | BU22: 曹霞 | BV22: =IF($C22="应届",($S22*0.25)/6,IF($C22="往届",($S22*0.5)/6,"NULL")) -> 0 | BW22: 余玉红 | BX22: =IF($C22="应届",($S22*0.25)/6,IF($C22="往届",($S22*0.5)/6,"NULL")) -> 0 | BY22: 汪睿 | BZ22: =IF($C22="应届",($S22*0.25)/6,IF($C22="往届",($S22*0.5)/6,"NULL")) -> 0 | CA22: 卢银楷 | CB22: =IF($C22="应届",($S22*0.25)/6,IF($C22="往届",($S22*0.5)/6,"NULL")) -> 0 | CC22: 赵香才 | CD22: =IF($C22="应届",($S22*0.25)/6,IF($C22="往届",($S22*0.5)/6,"NULL")) -> 0 | CE22: 杜基次尔 | CF22: =IF($C22="应届",($S22*0.25)/6,IF($C22="往届",($S22*0.5)/6,"NULL")) -> 0 | CG22: 3 | CH22: 曹霞 | CI22: =IF($C22="应届",($S22*0.25)/6,IF($C22="往届",($S22*0.5)/6,"NULL")) -> 0 | CJ22: 余玉红 | CK22: =IF($C22="应届",($S22*0.25)/6,IF($C22="往届",($S22*0.5)/6,"NULL")) -> 0 | CL22: 汪睿 | CM22: =IF($C22="应届",($S22*0.25)/6,IF($C22="往届",($S22*0.5)/6,"NULL")) -> 0 | CN22: 赵香才 | CO22: =IF($C22="应届",($S22*0.25)/6,IF($C22="往届",($S22*0.5)/6,"NULL")) -> 0 | CP22: 卢银楷 | CQ22: =IF($C22="应届",($S22*0.25)/6,IF($C22="往届",($S22*0.5)/6,"NULL")) -> 0 | CR22: 杜基次尔 | CS22: =IF($C22="应届",($S22*0.25)/6,IF($C22="往届",($S22*0.5)/6,"NULL")) -> 0
A23: 扎西尼玛 | B23: 513422200312082519 | C23: 往届 | D23: 文科 | F23: 0 | G23: 0 | H23: 93 | I23: 90 | J23: 55 | K23: 61 | L23: 48.5 | M23: 37 | N23: 385 | O23: =IF(D23="理科",IF(N23>=分数线!$C$2,"本科",""),IF(D23="文科",IF(N23>=分数线!$C$3,"本科",""))) | P23: =IF(F23>0,IF(O23="本科",(2-F23)*36,-(F23)*36),IF(O23="本科",2*36,0)) -> 0 | Q23: =IF(D23="理科",IF(N23>=分数线!$C$6,"重本",""),IF(D23="文科",IF(N23>=分数线!$C$7,"重本",""))) | R23: =IF(G23>0,IF(Q23="重本",G23*72,-(G23)*72),IF(Q23="重本",2*72,0)) -> 0 | S23: =P23+R23 -> 0 | T23: NULL | U23: NULL | V23: =IF($C23="应届",($S23*0.1)/6,IF($C23="往届","","NULL")) | W23: NULL | X23: =IF($C23="应届",($S23*0.1)/6,IF($C23="往届","","NULL")) | Y23: NULL | Z23: =IF($C23="应届",($S23*0.1)/6,IF($C23="往届","","NULL")) | AA23: NULL | AB23: =IF($C23="应届",($S23*0.1)/6,IF($C23="往届","","NULL")) | AC23: NULL | AD23: =IF($C23="应届",($S23*0.1)/6,IF($C23="往届","","NULL")) | AE23: NULL | AF23: =IF($C23="应届",($S23*0.1)/6,IF($C23="往届","","NULL")) | AG23: NULL | AH23: NULL | AI23: =IF($C23="应届",($S23*0.1)/6,IF($C23="往届","","NULL")) | AJ23: NULL | AK23: =IF($C23="应届",($S23*0.1)/6,IF($C23="往届","","NULL")) | AL23: NULL | AM23: =IF($C23="应届",($S23*0.1)/6,IF($C23="往届","","NULL")) | AN23: NULL | AO23: =IF($C23="应届",($S23*0.1)/6,IF($C23="往届","","NULL")) | AP23: NULL | AQ23: =IF($C23="应届",($S23*0.1)/6,IF($C23="往届","","NULL")) | AR23: NULL | AS23: =IF($C23="应届",($S23*0.1)/6,IF($C23="往届","","NULL")) | AT23: NULL | AU23: NULL | AV23: =IF($C23="应届",($S23*0.15)/6,IF($C23="往届","","NULL")) | AW23: NULL | AX23: =IF($C23="应届",($S23*0.15)/6,IF($C23="往届","","NULL")) | AY23: NULL | AZ23: =IF($C23="应届",($S23*0.15)/6,IF($C23="往届","","NULL")) | BA23: NULL | BB23: =IF($C23="应届",($S23*0.15)/6,IF($C23="往届","","NULL")) | BC23: NULL | BD23: =IF($C23="应届",($S23*0.15)/6,IF($C23="往届","","NULL")) | BE23: NULL | BF23: =IF($C23="应届",($S23*0.15)/6,IF($C23="往届","","NULL")) | BG23: NULL | BH23: NULL | BI23: =IF($C23="应届",($S23*0.15)/6,IF($C23="往届","","NULL")) | BJ23: NULL | BK23: =IF($C23="应届",($S23*0.15)/6,IF($C23="往届","","NULL")) | BL23: NULL | BM23: =IF($C23="应届",($S23*0.15)/6,IF($C23="往届","","NULL")) | BN23: NULL | BO23: =IF($C23="应届",($S23*0.15)/6,IF($C23="往届","","NULL")) | BP23: NULL | BQ23: =IF($C23="应届",($S23*0.15)/6,IF($C23="往届","","NULL")) | BR23: NULL | BS23: =IF($C23="应届",($S23*0.15)/6,IF($C23="往届","","NULL")) | BT23: #N/A | BU23: #N/A | BV23: =IF($C23="应届",($S23*0.25)/6,IF($C23="往届",($S23*0.5)/6,"NULL")) -> 0 | BW23: #N/A | BX23: =IF($C23="应届",($S23*0.25)/6,IF($C23="往届",($S23*0.5)/6,"NULL")) -> 0 | BY23: 汪睿 | BZ23: =IF($C23="应届",($S23*0.25)/6,IF($C23="往届",($S23*0.5)/6,"NULL")) -> 0 | CA23: #N/A | CB23: =IF($C23="应届",($S23*0.25)/6,IF($C23="往届",($S23*0.5)/6,"NULL")) -> 0 | CC23: #N/A | CD23: =IF($C23="应届",($S23*0.25)/6,IF($C23="往届",($S23*0.5)/6,"NULL")) -> 0 | CE23: #N/A | CF23: =IF($C23="应届",($S23*0.25)/6,IF($C23="往届",($S23*0.5)/6,"NULL")) -> 0 | CG23: 3 | CH23: 曹霞 | CI23: =IF($C23="应届",($S23*0.25)/6,IF($C23="往届",($S23*0.5)/6,"NULL")) -> 0 | CJ23: 余玉红 | CK23: =IF($C23="应届",($S23*0.25)/6,IF($C23="往届",($S23*0.5)/6,"NULL")) -> 0 | CL23: 汪睿 | CM23: =IF($C23="应届",($S23*0.25)/6,IF($C23="往届",($S23*0.5)/6,"NULL")) -> 0 | CN23: 赵香才 | CO23: =IF($C23="应届",($S23*0.25)/6,IF($C23="往届",($S23*0.5)/6,"NULL")) -> 0 | CP23: 卢银楷 | CQ23: =IF($C23="应届",($S23*0.25)/6,IF($C23="往届",($S23*0.5)/6,"NULL")) -> 0 | CR23: 杜基次尔 | CS23: =IF($C23="应届",($S23*0.25)/6,IF($C23="往届",($S23*0.5)/6,"NULL")) -> 0
A24: 苏朗拉姆 | B24: 513422200211254625 | C24: 往届 | D24: 文科 | F24: 0 | G24: 0 | H24: 80 | I24: 12 | J24: 23 | K24: 40 | L24: 44.5 | M24: 37 | N24: 237 | O24: =IF(D24="理科",IF(N24>=分数线!$C$2,"本科",""),IF(D24="文科",IF(N24>=分数线!$C$3,"本科",""))) | P24: =IF(F24>0,IF(O24="本科",(2-F24)*36,-(F24)*36),IF(O24="本科",2*36,0)) -> 0 | Q24: =IF(D24="理科",IF(N24>=分数线!$C$6,"重本",""),IF(D24="文科",IF(N24>=分数线!$C$7,"重本",""))) | R24: =IF(G24>0,IF(Q24="重本",G24*72,-(G24)*72),IF(Q24="重本",2*72,0)) -> 0 | S24: =P24+R24 -> 0 | T24: NULL | U24: NULL | V24: =IF($C24="应届",($S24*0.1)/6,IF($C24="往届","","NULL")) | W24: NULL | X24: =IF($C24="应届",($S24*0.1)/6,IF($C24="往届","","NULL")) | Y24: NULL | Z24: =IF($C24="应届",($S24*0.1)/6,IF($C24="往届","","NULL")) | AA24: NULL | AB24: =IF($C24="应届",($S24*0.1)/6,IF($C24="往届","","NULL")) | AC24: NULL | AD24: =IF($C24="应届",($S24*0.1)/6,IF($C24="往届","","NULL")) | AE24: NULL | AF24: =IF($C24="应届",($S24*0.1)/6,IF($C24="往届","","NULL")) | AG24: NULL | AH24: NULL | AI24: =IF($C24="应届",($S24*0.1)/6,IF($C24="往届","","NULL")) | AJ24: NULL | AK24: =IF($C24="应届",($S24*0.1)/6,IF($C24="往届","","NULL")) | AL24: NULL | AM24: =IF($C24="应届",($S24*0.1)/6,IF($C24="往届","","NULL")) | AN24: NULL | AO24: =IF($C24="应届",($S24*0.1)/6,IF($C24="往届","","NULL")) | AP24: NULL | AQ24: =IF($C24="应届",($S24*0.1)/6,IF($C24="往届","","NULL")) | AR24: NULL | AS24: =IF($C24="应届",($S24*0.1)/6,IF($C24="往届","","NULL")) | AT24: NULL | AU24: NULL | AV24: =IF($C24="应届",($S24*0.15)/6,IF($C24="往届","","NULL")) | AW24: NULL | AX24: =IF($C24="应届",($S24*0.15)/6,IF($C24="往届","","NULL")) | AY24: NULL | AZ24: =IF($C24="应届",($S24*0.15)/6,IF($C24="往届","","NULL")) | BA24: NULL | BB24: =IF($C24="应届",($S24*0.15)/6,IF($C24="往届","","NULL")) | BC24: NULL | BD24: =IF($C24="应届",($S24*0.15)/6,IF($C24="往届","","NULL")) | BE24: NULL | BF24: =IF($C24="应届",($S24*0.15)/6,IF($C24="往届","","NULL")) | BG24: NULL | BH24: NULL | BI24: =IF($C24="应届",($S24*0.15)/6,IF($C24="往届","","NULL")) | BJ24: NULL | BK24: =IF($C24="应届",($S24*0.15)/6,IF($C24="往届","","NULL")) | BL24: NULL | BM24: =IF($C24="应届",($S24*0.15)/6,IF($C24="往届","","NULL")) | BN24: NULL | BO24: =IF($C24="应届",($S24*0.15)/6,IF($C24="往届","","NULL")) | BP24: NULL | BQ24: =IF($C24="应届",($S24*0.15)/6,IF($C24="往届","","NULL")) | BR24: NULL | BS24: =IF($C24="应届",($S24*0.15)/6,IF($C24="往届","","NULL")) | BT24: #N/A | BU24: #N/A | BV24: =IF($C24="应届",($S24*0.25)/6,IF($C24="往届",($S24*0.5)/6,"NULL")) -> 0 | BW24: #N/A | BX24: =IF($C24="应届",($S24*0.25)/6,IF($C24="往届",($S24*0.5)/6,"NULL")) -> 0 | BY24: 汪睿 | BZ24: =IF($C24="应届",($S24*0.25)/6,IF($C24="往届",($S24*0.5)/6,"NULL")) -> 0 | CA24: #N/A | CB24: =IF($C24="应届",($S24*0.25)/6,IF($C24="往届",($S24*0.5)/6,"NULL")) -> 0 | CC24: #N/A | CD24: =IF($C24="应届",($S24*0.25)/6,IF($C24="往届",($S24*0.5)/6,"NULL")) -> 0 | CE24: #N/A | CF24: =IF($C24="应届",($S24*0.25)/6,IF($C24="往届",($S24*0.5)/6,"NULL")) -> 0 | CG24: 3 | CH24: 曹霞 | CI24: =IF($C24="应届",($S24*0.25)/6,IF($C24="往届",($S24*0.5)/6,"NULL")) -> 0 | CJ24: 余玉红 | CK24: =IF($C24="应届",($S24*0.25)/6,IF($C24="往届",($S24*0.5)/6,"NULL")) -> 0 | CL24: 汪睿 | CM24: =IF($C24="应届",($S24*0.25)/6,IF($C24="往届",($S24*0.5)/6,"NULL")) -> 0 | CN24: 赵香才 | CO24: =IF($C24="应届",($S24*0.25)/6,IF($C24="往届",($S24*0.5)/6,"NULL")) -> 0 | CP24: 卢银楷 | CQ24: =IF($C24="应届",($S24*0.25)/6,IF($C24="往届",($S24*0.5)/6,"NULL")) -> 0 | CR24: 杜基次尔 | CS24: =IF($C24="应届",($S24*0.25)/6,IF($C24="往届",($S24*0.5)/6,"NULL")) -> 0
A25: 王辉 | B25: 51342220010805131X | C25: 往届 | D25: 文科 | F25: 0 | G25: 0 | H25: 97 | I25: 71 | J25: 31 | K25: 64 | L25: 47.5 | M25: 38 | N25: 349 | O25: =IF(D25="理科",IF(N25>=分数线!$C$2,"本科",""),IF(D25="文科",IF(N25>=分数线!$C$3,"本科",""))) | P25: =IF(F25>0,IF(O25="本科",(2-F25)*36,-(F25)*36),IF(O25="本科",2*36,0)) -> 0 | Q25: =IF(D25="理科",IF(N25>=分数线!$C$6,"重本",""),IF(D25="文科",IF(N25>=分数线!$C$7,"重本",""))) | R25: =IF(G25>0,IF(Q25="重本",G25*72,-(G25)*72),IF(Q25="重本",2*72,0)) -> 0 | S25: =P25+R25 -> 0 | T25: NULL | U25: NULL | V25: =IF($C25="应届",($S25*0.1)/6,IF($C25="往届","","NULL")) | W25: NULL | X25: =IF($C25="应届",($S25*0.1)/6,IF($C25="往届","","NULL")) | Y25: NULL | Z25: =IF($C25="应届",($S25*0.1)/6,IF($C25="往届","","NULL")) | AA25: NULL | AB25: =IF($C25="应届",($S25*0.1)/6,IF($C25="往届","","NULL")) | AC25: NULL | AD25: =IF($C25="应届",($S25*0.1)/6,IF($C25="往届","","NULL")) | AE25: NULL | AF25: =IF($C25="应届",($S25*0.1)/6,IF($C25="往届","","NULL")) | AG25: NULL | AH25: NULL | AI25: =IF($C25="应届",($S25*0.1)/6,IF($C25="往届","","NULL")) | AJ25: NULL | AK25: =IF($C25="应届",($S25*0.1)/6,IF($C25="往届","","NULL")) | AL25: NULL | AM25: =IF($C25="应届",($S25*0.1)/6,IF($C25="往届","","NULL")) | AN25: NULL | AO25: =IF($C25="应届",($S25*0.1)/6,IF($C25="往届","","NULL")) | AP25: NULL | AQ25: =IF($C25="应届",($S25*0.1)/6,IF($C25="往届","","NULL")) | AR25: NULL | AS25: =IF($C25="应届",($S25*0.1)/6,IF($C25="往届","","NULL")) | AT25: NULL | AU25: NULL | AV25: =IF($C25="应届",($S25*0.15)/6,IF($C25="往届","","NULL")) | AW25: NULL | AX25: =IF($C25="应届",($S25*0.15)/6,IF($C25="往届","","NULL")) | AY25: NULL | AZ25: =IF($C25="应届",($S25*0.15)/6,IF($C25="往届","","NULL")) | BA25: NULL | BB25: =IF($C25="应届",($S25*0.15)/6,IF($C25="往届","","NULL")) | BC25: NULL | BD25: =IF($C25="应届",($S25*0.15)/6,IF($C25="往届","","NULL")) | BE25: NULL | BF25: =IF($C25="应届",($S25*0.15)/6,IF($C25="往届","","NULL")) | BG25: NULL | BH25: NULL | BI25: =IF($C25="应届",($S25*0.15)/6,IF($C25="往届","","NULL")) | BJ25: NULL | BK25: =IF($C25="应届",($S25*0.15)/6,IF($C25="往届","","NULL")) | BL25: NULL | BM25: =IF($C25="应届",($S25*0.15)/6,IF($C25="往届","","NULL")) | BN25: NULL | BO25: =IF($C25="应届",($S25*0.15)/6,IF($C25="往届","","NULL")) | BP25: NULL | BQ25: =IF($C25="应届",($S25*0.15)/6,IF($C25="往届","","NULL")) | BR25: NULL | BS25: =IF($C25="应届",($S25*0.15)/6,IF($C25="往届","","NULL")) | BT25: 4 | BU25: 曹霞 | BV25: =IF($C25="应届",($S25*0.25)/6,IF($C25="往届",($S25*0.5)/6,"NULL")) -> 0 | BW25: 王德兵 | BX25: =IF($C25="应届",($S25*0.25)/6,IF($C25="往届",($S25*0.5)/6,"NULL")) -> 0 | BY25: 汪睿 | BZ25: =IF($C25="应届",($S25*0.25)/6,IF($C25="往届",($S25*0.5)/6,"NULL")) -> 0 | CA25: 卢银楷 | CB25: =IF($C25="应届",($S25*0.25)/6,IF($C25="往届",($S25*0.5)/6,"NULL")) -> 0 | CC25: 胡慧芳 | CD25: =IF($C25="应届",($S25*0.25)/6,IF($C25="往届",($S25*0.5)/6,"NULL")) -> 0 | CE25: 杜基次尔 | CF25: =IF($C25="应届",($S25*0.25)/6,IF($C25="往届",($S25*0.5)/6,"NULL")) -> 0 | CG25: 4 | CH25: 曹霞 | CI25: =IF($C25="应届",($S25*0.25)/6,IF($C25="往届",($S25*0.5)/6,"NULL")) -> 0 | CJ25: 王德兵 | CK25: =IF($C25="应届",($S25*0.25)/6,IF($C25="往届",($S25*0.5)/6,"NULL")) -> 0 | CL25: 汪睿 | CM25: =IF($C25="应届",($S25*0.25)/6,IF($C25="往届",($S25*0.5)/6,"NULL")) -> 0 | CN25: 卢银楷 | CO25: =IF($C25="应届",($S25*0.25)/6,IF($C25="往届",($S25*0.5)/6,"NULL")) -> 0 | CP25: 胡慧芳 | CQ25: =IF($C25="应届",($S25*0.25)/6,IF($C25="往届",($S25*0.5)/6,"NULL")) -> 0 | CR25: 杜基次尔 | CS25: =IF($C25="应届",($S25*0.25)/6,IF($C25="往届",($S25*0.5)/6,"NULL")) -> 0
A26: 邱阿撒 | B26: 513422200210102910 | C26: 往届 | D26: 文科 | F26: 0 | G26: 0 | H26: 104 | I26: 102 | J26: 63 | K26: 63.5 | L26: 71.5 | M26: 61 | N26: 465 | O26: =IF(D26="理科",IF(N26>=分数线!$C$2,"本科",""),IF(D26="文科",IF(N26>=分数线!$C$3,"本科",""))) -> 本科 | P26: =IF(F26>0,IF(O26="本科",(2-F26)*36,-(F26)*36),IF(O26="本科",2*36,0)) -> 72 | Q26: =IF(D26="理科",IF(N26>=分数线!$C$6,"重本",""),IF(D26="文科",IF(N26>=分数线!$C$7,"重本",""))) | R26: =IF(G26>0,IF(Q26="重本",G26*72,-(G26)*72),IF(Q26="重本",2*72,0)) -> 0 | S26: =P26+R26 -> 72 | T26: NULL | U26: NULL | V26: =IF($C26="应届",($S26*0.1)/6,IF($C26="往届","","NULL")) | W26: NULL | X26: =IF($C26="应届",($S26*0.1)/6,IF($C26="往届","","NULL")) | Y26: NULL | Z26: =IF($C26="应届",($S26*0.1)/6,IF($C26="往届","","NULL")) | AA26: NULL | AB26: =IF($C26="应届",($S26*0.1)/6,IF($C26="往届","","NULL")) | AC26: NULL | AD26: =IF($C26="应届",($S26*0.1)/6,IF($C26="往届","","NULL")) | AE26: NULL | AF26: =IF($C26="应届",($S26*0.1)/6,IF($C26="往届","","NULL")) | AG26: NULL | AH26: NULL | AI26: =IF($C26="应届",($S26*0.1)/6,IF($C26="往届","","NULL")) | AJ26: NULL | AK26: =IF($C26="应届",($S26*0.1)/6,IF($C26="往届","","NULL")) | AL26: NULL | AM26: =IF($C26="应届",($S26*0.1)/6,IF($C26="往届","","NULL")) | AN26: NULL | AO26: =IF($C26="应届",($S26*0.1)/6,IF($C26="往届","","NULL")) | AP26: NULL | AQ26: =IF($C26="应届",($S26*0.1)/6,IF($C26="往届","","NULL")) | AR26: NULL | AS26: =IF($C26="应届",($S26*0.1)/6,IF($C26="往届","","NULL")) | AT26: NULL | AU26: NULL | AV26: =IF($C26="应届",($S26*0.15)/6,IF($C26="往届","","NULL")) | AW26: NULL | AX26: =IF($C26="应届",($S26*0.15)/6,IF($C26="往届","","NULL")) | AY26: NULL | AZ26: =IF($C26="应届",($S26*0.15)/6,IF($C26="往届","","NULL")) | BA26: NULL | BB26: =IF($C26="应届",($S26*0.15)/6,IF($C26="往届","","NULL")) | BC26: NULL | BD26: =IF($C26="应届",($S26*0.15)/6,IF($C26="往届","","NULL")) | BE26: NULL | BF26: =IF($C26="应届",($S26*0.15)/6,IF($C26="往届","","NULL")) | BG26: NULL | BH26: NULL | BI26: =IF($C26="应届",($S26*0.15)/6,IF($C26="往届","","NULL")) | BJ26: NULL | BK26: =IF($C26="应届",($S26*0.15)/6,IF($C26="往届","","NULL")) | BL26: NULL | BM26: =IF($C26="应届",($S26*0.15)/6,IF($C26="往届","","NULL")) | BN26: NULL | BO26: =IF($C26="应届",($S26*0.15)/6,IF($C26="往届","","NULL")) | BP26: NULL | BQ26: =IF($C26="应届",($S26*0.15)/6,IF($C26="往届","","NULL")) | BR26: NULL | BS26: =IF($C26="应届",($S26*0.15)/6,IF($C26="往届","","NULL")) | BT26: 4 | BU26: 曹霞 | BV26: =IF($C26="应届",($S26*0.25)/6,IF($C26="往届",($S26*0.5)/6,"NULL")) -> 6 | BW26: 王德兵 | BX26: =IF($C26="应届",($S26*0.25)/6,IF($C26="往届",($S26*0.5)/6,"NULL")) -> 6 | BY26: 汪睿 | BZ26: =IF($C26="应届",($S26*0.25)/6,IF($C26="往届",($S26*0.5)/6,"NULL")) -> 6 | CA26: 卢银楷 | CB26: =IF($C26="应届",($S26*0.25)/6,IF($C26="往届",($S26*0.5)/6,"NULL")) -> 6 | CC26: 胡慧芳 | CD26: =IF($C26="应届",($S26*0.25)/6,IF($C26="往届",($S26*0.5)/6,"NULL")) -> 6 | CE26: 杜基次尔 | CF26: =IF($C26="应届",($S26*0.25)/6,IF($C26="往届",($S26*0.5)/6,"NULL")) -> 6 | CG26: 4 | CH26: 曹霞 | CI26: =IF($C26="应届",($S26*0.25)/6,IF($C26="往届",($S26*0.5)/6,"NULL")) -> 6 | CJ26: 王德兵 | CK26: =IF($C26="应届",($S26*0.25)/6,IF($C26="往届",($S26*0.5)/6,"NULL")) -> 6 | CL26: 汪睿 | CM26: =IF($C26="应届",($S26*0.25)/6,IF($C26="往届",($S26*0.5)/6,"NULL")) -> 6 | CN26: 卢银楷 | CO26: =IF($C26="应届",($S26*0.25)/6,IF($C26="往届",($S26*0.5)/6,"NULL")) -> 6 | CP26: 胡慧芳 | CQ26: =IF($C26="应届",($S26*0.25)/6,IF($C26="往届",($S26*0.5)/6,"NULL")) -> 6 | CR26: 杜基次尔 | CS26: =IF($C26="应届",($S26*0.25)/6,IF($C26="往届",($S26*0.5)/6,"NULL")) -> 6
A27: 杨小强 | B27: 513422200309171713 | C27: 往届 | D27: 文科 | F27: 0 | G27: 0 | H27: 88 | I27: 87 | J27: 36 | K27: 51.5 | L27: 57 | M27: 55 | N27: 375 | O27: =IF(D27="理科",IF(N27>=分数线!$C$2,"本科",""),IF(D27="文科",IF(N27>=分数线!$C$3,"本科",""))) | P27: =IF(F27>0,IF(O27="本科",(2-F27)*36,-(F27)*36),IF(O27="本科",2*36,0)) -> 0 | Q27: =IF(D27="理科",IF(N27>=分数线!$C$6,"重本",""),IF(D27="文科",IF(N27>=分数线!$C$7,"重本",""))) | R27: =IF(G27>0,IF(Q27="重本",G27*72,-(G27)*72),IF(Q27="重本",2*72,0)) -> 0 | S27: =P27+R27 -> 0 | T27: NULL | U27: NULL | V27: =IF($C27="应届",($S27*0.1)/6,IF($C27="往届","","NULL")) | W27: NULL | X27: =IF($C27="应届",($S27*0.1)/6,IF($C27="往届","","NULL")) | Y27: NULL | Z27: =IF($C27="应届",($S27*0.1)/6,IF($C27="往届","","NULL")) | AA27: NULL | AB27: =IF($C27="应届",($S27*0.1)/6,IF($C27="往届","","NULL")) | AC27: NULL | AD27: =IF($C27="应届",($S27*0.1)/6,IF($C27="往届","","NULL")) | AE27: NULL | AF27: =IF($C27="应届",($S27*0.1)/6,IF($C27="往届","","NULL")) | AG27: NULL | AH27: NULL | AI27: =IF($C27="应届",($S27*0.1)/6,IF($C27="往届","","NULL")) | AJ27: NULL | AK27: =IF($C27="应届",($S27*0.1)/6,IF($C27="往届","","NULL")) | AL27: NULL | AM27: =IF($C27="应届",($S27*0.1)/6,IF($C27="往届","","NULL")) | AN27: NULL | AO27: =IF($C27="应届",($S27*0.1)/6,IF($C27="往届","","NULL")) | AP27: NULL | AQ27: =IF($C27="应届",($S27*0.1)/6,IF($C27="往届","","NULL")) | AR27: NULL | AS27: =IF($C27="应届",($S27*0.1)/6,IF($C27="往届","","NULL")) | AT27: NULL | AU27: NULL | AV27: =IF($C27="应届",($S27*0.15)/6,IF($C27="往届","","NULL")) | AW27: NULL | AX27: =IF($C27="应届",($S27*0.15)/6,IF($C27="往届","","NULL")) | AY27: NULL | AZ27: =IF($C27="应届",($S27*0.15)/6,IF($C27="往届","","NULL")) | BA27: NULL | BB27: =IF($C27="应届",($S27*0.15)/6,IF($C27="往届","","NULL")) | BC27: NULL | BD27: =IF($C27="应届",($S27*0.15)/6,IF($C27="往届","","NULL")) | BE27: NULL | BF27: =IF($C27="应届",($S27*0.15)/6,IF($C27="往届","","NULL")) | BG27: NULL | BH27: NULL | BI27: =IF($C27="应届",($S27*0.15)/6,IF($C27="往届","","NULL")) | BJ27: NULL | BK27: =IF($C27="应届",($S27*0.15)/6,IF($C27="往届","","NULL")) | BL27: NULL | BM27: =IF($C27="应届",($S27*0.15)/6,IF($C27="往届","","NULL")) | BN27: NULL | BO27: =IF($C27="应届",($S27*0.15)/6,IF($C27="往届","","NULL")) | BP27: NULL | BQ27: =IF($C27="应届",($S27*0.15)/6,IF($C27="往届","","NULL")) | BR27: NULL | BS27: =IF($C27="应届",($S27*0.15)/6,IF($C27="往届","","NULL")) | BT27: #N/A | BU27: #N/A | BV27: =IF($C27="应届",($S27*0.25)/6,IF($C27="往届",($S27*0.5)/6,"NULL")) -> 0 | BW27: #N/A | BX27: =IF($C27="应届",($S27*0.25)/6,IF($C27="往届",($S27*0.5)/6,"NULL")) -> 0 | BY27: 汪睿 | BZ27: =IF($C27="应届",($S27*0.25)/6,IF($C27="往届",($S27*0.5)/6,"NULL")) -> 0 | CA27: #N/A | CB27: =IF($C27="应届",($S27*0.25)/6,IF($C27="往届",($S27*0.5)/6,"NULL")) -> 0 | CC27: #N/A | CD27: =IF($C27="应届",($S27*0.25)/6,IF($C27="往届",($S27*0.5)/6,"NULL")) -> 0 | CE27: #N/A | CF27: =IF($C27="应届",($S27*0.25)/6,IF($C27="往届",($S27*0.5)/6,"NULL")) -> 0 | CG27: 4 | CH27: 曹霞 | CI27: =IF($C27="应届",($S27*0.25)/6,IF($C27="往届",($S27*0.5)/6,"NULL")) -> 0 | CJ27: 王德兵 | CK27: =IF($C27="应届",($S27*0.25)/6,IF($C27="往届",($S27*0.5)/6,"NULL")) -> 0 | CL27: 汪睿 | CM27: =IF($C27="应届",($S27*0.25)/6,IF($C27="往届",($S27*0.5)/6,"NULL")) -> 0 | CN27: 卢银楷 | CO27: =IF($C27="应届",($S27*0.25)/6,IF($C27="往届",($S27*0.5)/6,"NULL")) -> 0 | CP27: 胡慧芳 | CQ27: =IF($C27="应届",($S27*0.25)/6,IF($C27="往届",($S27*0.5)/6,"NULL")) -> 0 | CR27: 杜基次尔 | CS27: =IF($C27="应届",($S27*0.25)/6,IF($C27="往届",($S27*0.5)/6,"NULL")) -> 0
A28: 伍辉 | B28: 513422200311151914 | C28: 往届 | D28: 文科 | F28: 0 | G28: 0 | H28: 110 | I28: 88 | J28: 88 | K28: 66.5 | L28: 65 | M28: 36 | N28: 454 | O28: =IF(D28="理科",IF(N28>=分数线!$C$2,"本科",""),IF(D28="文科",IF(N28>=分数线!$C$3,"本科",""))) | P28: =IF(F28>0,IF(O28="本科",(2-F28)*36,-(F28)*36),IF(O28="本科",2*36,0)) -> 0 | Q28: =IF(D28="理科",IF(N28>=分数线!$C$6,"重本",""),IF(D28="文科",IF(N28>=分数线!$C$7,"重本",""))) | R28: =IF(G28>0,IF(Q28="重本",G28*72,-(G28)*72),IF(Q28="重本",2*72,0)) -> 0 | S28: =P28+R28 -> 0 | T28: NULL | U28: NULL | V28: =IF($C28="应届",($S28*0.1)/6,IF($C28="往届","","NULL")) | W28: NULL | X28: =IF($C28="应届",($S28*0.1)/6,IF($C28="往届","","NULL")) | Y28: NULL | Z28: =IF($C28="应届",($S28*0.1)/6,IF($C28="往届","","NULL")) | AA28: NULL | AB28: =IF($C28="应届",($S28*0.1)/6,IF($C28="往届","","NULL")) | AC28: NULL | AD28: =IF($C28="应届",($S28*0.1)/6,IF($C28="往届","","NULL")) | AE28: NULL | AF28: =IF($C28="应届",($S28*0.1)/6,IF($C28="往届","","NULL")) | AG28: NULL | AH28: NULL | AI28: =IF($C28="应届",($S28*0.1)/6,IF($C28="往届","","NULL")) | AJ28: NULL | AK28: =IF($C28="应届",($S28*0.1)/6,IF($C28="往届","","NULL")) | AL28: NULL | AM28: =IF($C28="应届",($S28*0.1)/6,IF($C28="往届","","NULL")) | AN28: NULL | AO28: =IF($C28="应届",($S28*0.1)/6,IF($C28="往届","","NULL")) | AP28: NULL | AQ28: =IF($C28="应届",($S28*0.1)/6,IF($C28="往届","","NULL")) | AR28: NULL | AS28: =IF($C28="应届",($S28*0.1)/6,IF($C28="往届","","NULL")) | AT28: NULL | AU28: NULL | AV28: =IF($C28="应届",($S28*0.15)/6,IF($C28="往届","","NULL")) | AW28: NULL | AX28: =IF($C28="应届",($S28*0.15)/6,IF($C28="往届","","NULL")) | AY28: NULL | AZ28: =IF($C28="应届",($S28*0.15)/6,IF($C28="往届","","NULL")) | BA28: NULL | BB28: =IF($C28="应届",($S28*0.15)/6,IF($C28="往届","","NULL")) | BC28: NULL | BD28: =IF($C28="应届",($S28*0.15)/6,IF($C28="往届","","NULL")) | BE28: NULL | BF28: =IF($C28="应届",($S28*0.15)/6,IF($C28="往届","","NULL")) | BG28: NULL | BH28: NULL | BI28: =IF($C28="应届",($S28*0.15)/6,IF($C28="往届","","NULL")) | BJ28: NULL | BK28: =IF($C28="应届",($S28*0.15)/6,IF($C28="往届","","NULL")) | BL28: NULL | BM28: =IF($C28="应届",($S28*0.15)/6,IF($C28="往届","","NULL")) | BN28: NULL | BO28: =IF($C28="应届",($S28*0.15)/6,IF($C28="往届","","NULL")) | BP28: NULL | BQ28: =IF($C28="应届",($S28*0.15)/6,IF($C28="往届","","NULL")) | BR28: NULL | BS28: =IF($C28="应届",($S28*0.15)/6,IF($C28="往届","","NULL")) | BT28: 4 | BU28: 曹霞 | BV28: =IF($C28="应届",($S28*0.25)/6,IF($C28="往届",($S28*0.5)/6,"NULL")) -> 0 | BW28: 王德兵 | BX28: =IF($C28="应届",($S28*0.25)/6,IF($C28="往届",($S28*0.5)/6,"NULL")) -> 0 | BY28: 汪睿 | BZ28: =IF($C28="应届",($S28*0.25)/6,IF($C28="往届",($S28*0.5)/6,"NULL")) -> 0 | CA28: 卢银楷 | CB28: =IF($C28="应届",($S28*0.25)/6,IF($C28="往届",($S28*0.5)/6,"NULL")) -> 0 | CC28: 胡慧芳 | CD28: =IF($C28="应届",($S28*0.25)/6,IF($C28="往届",($S28*0.5)/6,"NULL")) -> 0 | CE28: 杜基次尔 | CF28: =IF($C28="应届",($S28*0.25)/6,IF($C28="往届",($S28*0.5)/6,"NULL")) -> 0 | CG28: 4 | CH28: 曹霞 | CI28: =IF($C28="应届",($S28*0.25)/6,IF($C28="往届",($S28*0.5)/6,"NULL")) -> 0 | CJ28: 王德兵 | CK28: =IF($C28="应届",($S28*0.25)/6,IF($C28="往届",($S28*0.5)/6,"NULL")) -> 0 | CL28: 汪睿 | CM28: =IF($C28="应届",($S28*0.25)/6,IF($C28="往届",($S28*0.5)/6,"NULL")) -> 0 | CN28: 卢银楷 | CO28: =IF($C28="应届",($S28*0.25)/6,IF($C28="往届",($S28*0.5)/6,"NULL")) -> 0 | CP28: 胡慧芳 | CQ28: =IF($C28="应届",($S28*0.25)/6,IF($C28="往届",($S28*0.5)/6,"NULL")) -> 0 | CR28: 杜基次尔 | CS28: =IF($C28="应届",($S28*0.25)/6,IF($C28="往届",($S28*0.5)/6,"NULL")) -> 0
A29: 龚星美 | B29: 513422200312180020 | C29: 往届 | D29: 文科 | F29: 0 | G29: 0 | H29: 97 | I29: 33 | J29: 42 | K29: 53 | L29: 52.5 | M29: 60 | N29: 338 | O29: =IF(D29="理科",IF(N29>=分数线!$C$2,"本科",""),IF(D29="文科",IF(N29>=分数线!$C$3,"本科",""))) | P29: =IF(F29>0,IF(O29="本科",(2-F29)*36,-(F29)*36),IF(O29="本科",2*36,0)) -> 0 | Q29: =IF(D29="理科",IF(N29>=分数线!$C$6,"重本",""),IF(D29="文科",IF(N29>=分数线!$C$7,"重本",""))) | R29: =IF(G29>0,IF(Q29="重本",G29*72,-(G29)*72),IF(Q29="重本",2*72,0)) -> 0 | S29: =P29+R29 -> 0 | T29: NULL | U29: NULL | V29: =IF($C29="应届",($S29*0.1)/6,IF($C29="往届","","NULL")) | W29: NULL | X29: =IF($C29="应届",($S29*0.1)/6,IF($C29="往届","","NULL")) | Y29: NULL | Z29: =IF($C29="应届",($S29*0.1)/6,IF($C29="往届","","NULL")) | AA29: NULL | AB29: =IF($C29="应届",($S29*0.1)/6,IF($C29="往届","","NULL")) | AC29: NULL | AD29: =IF($C29="应届",($S29*0.1)/6,IF($C29="往届","","NULL")) | AE29: NULL | AF29: =IF($C29="应届",($S29*0.1)/6,IF($C29="往届","","NULL")) | AG29: NULL | AH29: NULL | AI29: =IF($C29="应届",($S29*0.1)/6,IF($C29="往届","","NULL")) | AJ29: NULL | AK29: =IF($C29="应届",($S29*0.1)/6,IF($C29="往届","","NULL")) | AL29: NULL | AM29: =IF($C29="应届",($S29*0.1)/6,IF($C29="往届","","NULL")) | AN29: NULL | AO29: =IF($C29="应届",($S29*0.1)/6,IF($C29="往届","","NULL")) | AP29: NULL | AQ29: =IF($C29="应届",($S29*0.1)/6,IF($C29="往届","","NULL")) | AR29: NULL | AS29: =IF($C29="应届",($S29*0.1)/6,IF($C29="往届","","NULL")) | AT29: NULL | AU29: NULL | AV29: =IF($C29="应届",($S29*0.15)/6,IF($C29="往届","","NULL")) | AW29: NULL | AX29: =IF($C29="应届",($S29*0.15)/6,IF($C29="往届","","NULL")) | AY29: NULL | AZ29: =IF($C29="应届",($S29*0.15)/6,IF($C29="往届","","NULL")) | BA29: NULL | BB29: =IF($C29="应届",($S29*0.15)/6,IF($C29="往届","","NULL")) | BC29: NULL | BD29: =IF($C29="应届",($S29*0.15)/6,IF($C29="往届","","NULL")) | BE29: NULL | BF29: =IF($C29="应届",($S29*0.15)/6,IF($C29="往届","","NULL")) | BG29: NULL | BH29: NULL | BI29: =IF($C29="应届",($S29*0.15)/6,IF($C29="往届","","NULL")) | BJ29: NULL | BK29: =IF($C29="应届",($S29*0.15)/6,IF($C29="往届","","NULL")) | BL29: NULL | BM29: =IF($C29="应届",($S29*0.15)/6,IF($C29="往届","","NULL")) | BN29: NULL | BO29: =IF($C29="应届",($S29*0.15)/6,IF($C29="往届","","NULL")) | BP29: NULL | BQ29: =IF($C29="应届",($S29*0.15)/6,IF($C29="往届","","NULL")) | BR29: NULL | BS29: =IF($C29="应届",($S29*0.15)/6,IF($C29="往届","","NULL")) | BT29: #N/A | BU29: #N/A | BV29: =IF($C29="应届",($S29*0.25)/6,IF($C29="往届",($S29*0.5)/6,"NULL")) -> 0 | BW29: #N/A | BX29: =IF($C29="应届",($S29*0.25)/6,IF($C29="往届",($S29*0.5)/6,"NULL")) -> 0 | BY29: 汪睿 | BZ29: =IF($C29="应届",($S29*0.25)/6,IF($C29="往届",($S29*0.5)/6,"NULL")) -> 0 | CA29: #N/A | CB29: =IF($C29="应届",($S29*0.25)/6,IF($C29="往届",($S29*0.5)/6,"NULL")) -> 0 | CC29: #N/A | CD29: =IF($C29="应届",($S29*0.25)/6,IF($C29="往届",($S29*0.5)/6,"NULL")) -> 0 | CE29: #N/A | CF29: =IF($C29="应届",($S29*0.25)/6,IF($C29="往届",($S29*0.5)/6,"NULL")) -> 0 | CG29: 4 | CH29: 曹霞 | CI29: =IF($C29="应届",($S29*0.25)/6,IF($C29="往届",($S29*0.5)/6,"NULL")) -> 0 | CJ29: 王德兵 | CK29: =IF($C29="应届",($S29*0.25)/6,IF($C29="往届",($S29*0.5)/6,"NULL")) -> 0 | CL29: 汪睿 | CM29: =IF($C29="应届",($S29*0.25)/6,IF($C29="往届",($S29*0.5)/6,"NULL")) -> 0 | CN29: 卢银楷 | CO29: =IF($C29="应届",($S29*0.25)/6,IF($C29="往届",($S29*0.5)/6,"NULL")) -> 0 | CP29: 胡慧芳 | CQ29: =IF($C29="应届",($S29*0.25)/6,IF($C29="往届",($S29*0.5)/6,"NULL")) -> 0 | CR29: 杜基次尔 | CS29: =IF($C29="应届",($S29*0.25)/6,IF($C29="往届",($S29*0.5)/6,"NULL")) -> 0
A30: 扎西央初 | B30: 513422200303211526 | C30: 往届 | D30: 文科 | F30: 0 | G30: 0 | H30: 89 | I30: 47 | J30: 56 | K30: 48.5 | L30: 63.5 | M30: 30 | N30: 334 | O30: =IF(D30="理科",IF(N30>=分数线!$C$2,"本科",""),IF(D30="文科",IF(N30>=分数线!$C$3,"本科",""))) | P30: =IF(F30>0,IF(O30="本科",(2-F30)*36,-(F30)*36),IF(O30="本科",2*36,0)) -> 0 | Q30: =IF(D30="理科",IF(N30>=分数线!$C$6,"重本",""),IF(D30="文科",IF(N30>=分数线!$C$7,"重本",""))) | R30: =IF(G30>0,IF(Q30="重本",G30*72,-(G30)*72),IF(Q30="重本",2*72,0)) -> 0 | S30: =P30+R30 -> 0 | T30: NULL | U30: NULL | V30: =IF($C30="应届",($S30*0.1)/6,IF($C30="往届","","NULL")) | W30: NULL | X30: =IF($C30="应届",($S30*0.1)/6,IF($C30="往届","","NULL")) | Y30: NULL | Z30: =IF($C30="应届",($S30*0.1)/6,IF($C30="往届","","NULL")) | AA30: NULL | AB30: =IF($C30="应届",($S30*0.1)/6,IF($C30="往届","","NULL")) | AC30: NULL | AD30: =IF($C30="应届",($S30*0.1)/6,IF($C30="往届","","NULL")) | AE30: NULL | AF30: =IF($C30="应届",($S30*0.1)/6,IF($C30="往届","","NULL")) | AG30: NULL | AH30: NULL | AI30: =IF($C30="应届",($S30*0.1)/6,IF($C30="往届","","NULL")) | AJ30: NULL | AK30: =IF($C30="应届",($S30*0.1)/6,IF($C30="往届","","NULL")) | AL30: NULL | AM30: =IF($C30="应届",($S30*0.1)/6,IF($C30="往届","","NULL")) | AN30: NULL | AO30: =IF($C30="应届",($S30*0.1)/6,IF($C30="往届","","NULL")) | AP30: NULL | AQ30: =IF($C30="应届",($S30*0.1)/6,IF($C30="往届","","NULL")) | AR30: NULL | AS30: =IF($C30="应届",($S30*0.1)/6,IF($C30="往届","","NULL")) | AT30: NULL | AU30: NULL | AV30: =IF($C30="应届",($S30*0.15)/6,IF($C30="往届","","NULL")) | AW30: NULL | AX30: =IF($C30="应届",($S30*0.15)/6,IF($C30="往届","","NULL")) | AY30: NULL | AZ30: =IF($C30="应届",($S30*0.15)/6,IF($C30="往届","","NULL")) | BA30: NULL | BB30: =IF($C30="应届",($S30*0.15)/6,IF($C30="往届","","NULL")) | BC30: NULL | BD30: =IF($C30="应届",($S30*0.15)/6,IF($C30="往届","","NULL")) | BE30: NULL | BF30: =IF($C30="应届",($S30*0.15)/6,IF($C30="往届","","NULL")) | BG30: NULL | BH30: NULL | BI30: =IF($C30="应届",($S30*0.15)/6,IF($C30="往届","","NULL")) | BJ30: NULL | BK30: =IF($C30="应届",($S30*0.15)/6,IF($C30="往届","","NULL")) | BL30: NULL | BM30: =IF($C30="应届",($S30*0.15)/6,IF($C30="往届","","NULL")) | BN30: NULL | BO30: =IF($C30="应届",($S30*0.15)/6,IF($C30="往届","","NULL")) | BP30: NULL | BQ30: =IF($C30="应届",($S30*0.15)/6,IF($C30="往届","","NULL")) | BR30: NULL | BS30: =IF($C30="应届",($S30*0.15)/6,IF($C30="往届","","NULL")) | BT30: #N/A | BU30: #N/A | BV30: =IF($C30="应届",($S30*0.25)/6,IF($C30="往届",($S30*0.5)/6,"NULL")) -> 0 | BW30: #N/A | BX30: =IF($C30="应届",($S30*0.25)/6,IF($C30="往届",($S30*0.5)/6,"NULL")) -> 0 | BY30: 汪睿 | BZ30: =IF($C30="应届",($S30*0.25)/6,IF($C30="往届",($S30*0.5)/6,"NULL")) -> 0 | CA30: #N/A | CB30: =IF($C30="应届",($S30*0.25)/6,IF($C30="往届",($S30*0.5)/6,"NULL")) -> 0 | CC30: #N/A | CD30: =IF($C30="应届",($S30*0.25)/6,IF($C30="往届",($S30*0.5)/6,"NULL")) -> 0 | CE30: #N/A | CF30: =IF($C30="应届",($S30*0.25)/6,IF($C30="往届",($S30*0.5)/6,"NULL")) -> 0 | CG30: 4 | CH30: 曹霞 | CI30: =IF($C30="应届",($S30*0.25)/6,IF($C30="往届",($S30*0.5)/6,"NULL")) -> 0 | CJ30: 王德兵 | CK30: =IF($C30="应届",($S30*0.25)/6,IF($C30="往届",($S30*0.5)/6,"NULL")) -> 0 | CL30: 汪睿 | CM30: =IF($C30="应届",($S30*0.25)/6,IF($C30="往届",($S30*0.5)/6,"NULL")) -> 0 | CN30: 卢银楷 | CO30: =IF($C30="应届",($S30*0.25)/6,IF($C30="往届",($S30*0.5)/6,"NULL")) -> 0 | CP30: 胡慧芳 | CQ30: =IF($C30="应届",($S30*0.25)/6,IF($C30="往届",($S30*0.5)/6,"NULL")) -> 0 | CR30: 杜基次尔 | CS30: =IF($C30="应届",($S30*0.25)/6,IF($C30="往届",($S30*0.5)/6,"NULL")) -> 0
A31: 次仁拥宗 | B31: 513422200405156441 | C31: 往届 | D31: 文科 | F31: 0 | G31: 0 | H31: 100 | I31: 52 | J31: 65 | K31: 61.5 | L31: 47 | M31: 40 | N31: 366 | O31: =IF(D31="理科",IF(N31>=分数线!$C$2,"本科",""),IF(D31="文科",IF(N31>=分数线!$C$3,"本科",""))) | P31: =IF(F31>0,IF(O31="本科",(2-F31)*36,-(F31)*36),IF(O31="本科",2*36,0)) -> 0 | Q31: =IF(D31="理科",IF(N31>=分数线!$C$6,"重本",""),IF(D31="文科",IF(N31>=分数线!$C$7,"重本",""))) | R31: =IF(G31>0,IF(Q31="重本",G31*72,-(G31)*72),IF(Q31="重本",2*72,0)) -> 0 | S31: =P31+R31 -> 0 | T31: NULL | U31: NULL | V31: =IF($C31="应届",($S31*0.1)/6,IF($C31="往届","","NULL")) | W31: NULL | X31: =IF($C31="应届",($S31*0.1)/6,IF($C31="往届","","NULL")) | Y31: NULL | Z31: =IF($C31="应届",($S31*0.1)/6,IF($C31="往届","","NULL")) | AA31: NULL | AB31: =IF($C31="应届",($S31*0.1)/6,IF($C31="往届","","NULL")) | AC31: NULL | AD31: =IF($C31="应届",($S31*0.1)/6,IF($C31="往届","","NULL")) | AE31: NULL | AF31: =IF($C31="应届",($S31*0.1)/6,IF($C31="往届","","NULL")) | AG31: NULL | AH31: NULL | AI31: =IF($C31="应届",($S31*0.1)/6,IF($C31="往届","","NULL")) | AJ31: NULL | AK31: =IF($C31="应届",($S31*0.1)/6,IF($C31="往届","","NULL")) | AL31: NULL | AM31: =IF($C31="应届",($S31*0.1)/6,IF($C31="往届","","NULL")) | AN31: NULL | AO31: =IF($C31="应届",($S31*0.1)/6,IF($C31="往届","","NULL")) | AP31: NULL | AQ31: =IF($C31="应届",($S31*0.1)/6,IF($C31="往届","","NULL")) | AR31: NULL | AS31: =IF($C31="应届",($S31*0.1)/6,IF($C31="往届","","NULL")) | AT31: NULL | AU31: NULL | AV31: =IF($C31="应届",($S31*0.15)/6,IF($C31="往届","","NULL")) | AW31: NULL | AX31: =IF($C31="应届",($S31*0.15)/6,IF($C31="往届","","NULL")) | AY31: NULL | AZ31: =IF($C31="应届",($S31*0.15)/6,IF($C31="往届","","NULL")) | BA31: NULL | BB31: =IF($C31="应届",($S31*0.15)/6,IF($C31="往届","","NULL")) | BC31: NULL | BD31: =IF($C31="应届",($S31*0.15)/6,IF($C31="往届","","NULL")) | BE31: NULL | BF31: =IF($C31="应届",($S31*0.15)/6,IF($C31="往届","","NULL")) | BG31: NULL | BH31: NULL | BI31: =IF($C31="应届",($S31*0.15)/6,IF($C31="往届","","NULL")) | BJ31: NULL | BK31: =IF($C31="应届",($S31*0.15)/6,IF($C31="往届","","NULL")) | BL31: NULL | BM31: =IF($C31="应届",($S31*0.15)/6,IF($C31="往届","","NULL")) | BN31: NULL | BO31: =IF($C31="应届",($S31*0.15)/6,IF($C31="往届","","NULL")) | BP31: NULL | BQ31: =IF($C31="应届",($S31*0.15)/6,IF($C31="往届","","NULL")) | BR31: NULL | BS31: =IF($C31="应届",($S31*0.15)/6,IF($C31="往届","","NULL")) | BT31: 4 | BU31: 曹霞 | BV31: =IF($C31="应届",($S31*0.25)/6,IF($C31="往届",($S31*0.5)/6,"NULL")) -> 0 | BW31: 王德兵 | BX31: =IF($C31="应届",($S31*0.25)/6,IF($C31="往届",($S31*0.5)/6,"NULL")) -> 0 | BY31: 汪睿 | BZ31: =IF($C31="应届",($S31*0.25)/6,IF($C31="往届",($S31*0.5)/6,"NULL")) -> 0 | CA31: 卢银楷 | CB31: =IF($C31="应届",($S31*0.25)/6,IF($C31="往届",($S31*0.5)/6,"NULL")) -> 0 | CC31: 胡慧芳 | CD31: =IF($C31="应届",($S31*0.25)/6,IF($C31="往届",($S31*0.5)/6,"NULL")) -> 0 | CE31: 杜基次尔 | CF31: =IF($C31="应届",($S31*0.25)/6,IF($C31="往届",($S31*0.5)/6,"NULL")) -> 0 | CG31: 4 | CH31: 曹霞 | CI31: =IF($C31="应届",($S31*0.25)/6,IF($C31="往届",($S31*0.5)/6,"NULL")) -> 0 | CJ31: 王德兵 | CK31: =IF($C31="应届",($S31*0.25)/6,IF($C31="往届",($S31*0.5)/6,"NULL")) -> 0 | CL31: 汪睿 | CM31: =IF($C31="应届",($S31*0.25)/6,IF($C31="往届",($S31*0.5)/6,"NULL")) -> 0 | CN31: 卢银楷 | CO31: =IF($C31="应届",($S31*0.25)/6,IF($C31="往届",($S31*0.5)/6,"NULL")) -> 0 | CP31: 胡慧芳 | CQ31: =IF($C31="应届",($S31*0.25)/6,IF($C31="往届",($S31*0.5)/6,"NULL")) -> 0 | CR31: 杜基次尔 | CS31: =IF($C31="应届",($S31*0.25)/6,IF($C31="往届",($S31*0.5)/6,"NULL")) -> 0
A32: 旦珠 | B32: 513422200210096856 | C32: 往届 | D32: 文科 | F32: 0 | G32: 0 | H32: 86 | I32: 46 | J32: 48 | K32: 59.5 | L32: 68.5 | M32: 43 | N32: 351 | O32: =IF(D32="理科",IF(N32>=分数线!$C$2,"本科",""),IF(D32="文科",IF(N32>=分数线!$C$3,"本科",""))) | P32: =IF(F32>0,IF(O32="本科",(2-F32)*36,-(F32)*36),IF(O32="本科",2*36,0)) -> 0 | Q32: =IF(D32="理科",IF(N32>=分数线!$C$6,"重本",""),IF(D32="文科",IF(N32>=分数线!$C$7,"重本",""))) | R32: =IF(G32>0,IF(Q32="重本",G32*72,-(G32)*72),IF(Q32="重本",2*72,0)) -> 0 | S32: =P32+R32 -> 0 | T32: NULL | U32: NULL | V32: =IF($C32="应届",($S32*0.1)/6,IF($C32="往届","","NULL")) | W32: NULL | X32: =IF($C32="应届",($S32*0.1)/6,IF($C32="往届","","NULL")) | Y32: NULL | Z32: =IF($C32="应届",($S32*0.1)/6,IF($C32="往届","","NULL")) | AA32: NULL | AB32: =IF($C32="应届",($S32*0.1)/6,IF($C32="往届","","NULL")) | AC32: NULL | AD32: =IF($C32="应届",($S32*0.1)/6,IF($C32="往届","","NULL")) | AE32: NULL | AF32: =IF($C32="应届",($S32*0.1)/6,IF($C32="往届","","NULL")) | AG32: NULL | AH32: NULL | AI32: =IF($C32="应届",($S32*0.1)/6,IF($C32="往届","","NULL")) | AJ32: NULL | AK32: =IF($C32="应届",($S32*0.1)/6,IF($C32="往届","","NULL")) | AL32: NULL | AM32: =IF($C32="应届",($S32*0.1)/6,IF($C32="往届","","NULL")) | AN32: NULL | AO32: =IF($C32="应届",($S32*0.1)/6,IF($C32="往届","","NULL")) | AP32: NULL | AQ32: =IF($C32="应届",($S32*0.1)/6,IF($C32="往届","","NULL")) | AR32: NULL | AS32: =IF($C32="应届",($S32*0.1)/6,IF($C32="往届","","NULL")) | AT32: NULL | AU32: NULL | AV32: =IF($C32="应届",($S32*0.15)/6,IF($C32="往届","","NULL")) | AW32: NULL | AX32: =IF($C32="应届",($S32*0.15)/6,IF($C32="往届","","NULL")) | AY32: NULL | AZ32: =IF($C32="应届",($S32*0.15)/6,IF($C32="往届","","NULL")) | BA32: NULL | BB32: =IF($C32="应届",($S32*0.15)/6,IF($C32="往届","","NULL")) | BC32: NULL | BD32: =IF($C32="应届",($S32*0.15)/6,IF($C32="往届","","NULL")) | BE32: NULL | BF32: =IF($C32="应届",($S32*0.15)/6,IF($C32="往届","","NULL")) | BG32: NULL | BH32: NULL | BI32: =IF($C32="应届",($S32*0.15)/6,IF($C32="往届","","NULL")) | BJ32: NULL | BK32: =IF($C32="应届",($S32*0.15)/6,IF($C32="往届","","NULL")) | BL32: NULL | BM32: =IF($C32="应届",($S32*0.15)/6,IF($C32="往届","","NULL")) | BN32: NULL | BO32: =IF($C32="应届",($S32*0.15)/6,IF($C32="往届","","NULL")) | BP32: NULL | BQ32: =IF($C32="应届",($S32*0.15)/6,IF($C32="往届","","NULL")) | BR32: NULL | BS32: =IF($C32="应届",($S32*0.15)/6,IF($C32="往届","","NULL")) | BT32: 5 | BU32: 叶屏 | BV32: =IF($C32="应届",($S32*0.25)/6,IF($C32="往届",($S32*0.5)/6,"NULL")) -> 0 | BW32: 王德兵 | BX32: =IF($C32="应届",($S32*0.25)/6,IF($C32="往届",($S32*0.5)/6,"NULL")) -> 0 | BY32: 兰卡布尺 | BZ32: =IF($C32="应届",($S32*0.25)/6,IF($C32="往届",($S32*0.5)/6,"NULL")) -> 0 | CA32: 吴文艺 | CB32: =IF($C32="应届",($S32*0.25)/6,IF($C32="往届",($S32*0.5)/6,"NULL")) -> 0 | CC32: 赵香才 | CD32: =IF($C32="应届",($S32*0.25)/6,IF($C32="往届",($S32*0.5)/6,"NULL")) -> 0 | CE32: 金贵 | CF32: =IF($C32="应届",($S32*0.25)/6,IF($C32="往届",($S32*0.5)/6,"NULL")) -> 0 | CG32: 5 | CH32: 叶屏 | CI32: =IF($C32="应届",($S32*0.25)/6,IF($C32="往届",($S32*0.5)/6,"NULL")) -> 0 | CJ32: 王德兵 | CK32: =IF($C32="应届",($S32*0.25)/6,IF($C32="往届",($S32*0.5)/6,"NULL")) -> 0 | CL32: 兰卡布尺 | CM32: =IF($C32="应届",($S32*0.25)/6,IF($C32="往届",($S32*0.5)/6,"NULL")) -> 0 | CN32: 吴文艺/康宇峰 | CO32: =IF($C32="应届",($S32*0.25)/6,IF($C32="往届",($S32*0.5)/6,"NULL")) -> 0 | CP32: 赵香才 | CQ32: =IF($C32="应届",($S32*0.25)/6,IF($C32="往届",($S32*0.5)/6,"NULL")) -> 0 | CR32: 金贵 | CS32: =IF($C32="应届",($S32*0.25)/6,IF($C32="往届",($S32*0.5)/6,"NULL")) -> 0
A33: 胡秀珍 | B33: 513422200101166229 | C33: 往届 | D33: 文科 | F33: 0 | G33: 0 | H33: 118 | I33: 79 | J33: 75 | K33: 69 | L33: 64 | M33: 38 | N33: 443 | O33: =IF(D33="理科",IF(N33>=分数线!$C$2,"本科",""),IF(D33="文科",IF(N33>=分数线!$C$3,"本科",""))) | P33: =IF(F33>0,IF(O33="本科",(2-F33)*36,-(F33)*36),IF(O33="本科",2*36,0)) -> 0 | Q33: =IF(D33="理科",IF(N33>=分数线!$C$6,"重本",""),IF(D33="文科",IF(N33>=分数线!$C$7,"重本",""))) | R33: =IF(G33>0,IF(Q33="重本",G33*72,-(G33)*72),IF(Q33="重本",2*72,0)) -> 0 | S33: =P33+R33 -> 0 | T33: NULL | U33: NULL | V33: =IF($C33="应届",($S33*0.1)/6,IF($C33="往届","","NULL")) | W33: NULL | X33: =IF($C33="应届",($S33*0.1)/6,IF($C33="往届","","NULL")) | Y33: NULL | Z33: =IF($C33="应届",($S33*0.1)/6,IF($C33="往届","","NULL")) | AA33: NULL | AB33: =IF($C33="应届",($S33*0.1)/6,IF($C33="往届","","NULL")) | AC33: NULL | AD33: =IF($C33="应届",($S33*0.1)/6,IF($C33="往届","","NULL")) | AE33: NULL | AF33: =IF($C33="应届",($S33*0.1)/6,IF($C33="往届","","NULL")) | AG33: NULL | AH33: NULL | AI33: =IF($C33="应届",($S33*0.1)/6,IF($C33="往届","","NULL")) | AJ33: NULL | AK33: =IF($C33="应届",($S33*0.1)/6,IF($C33="往届","","NULL")) | AL33: NULL | AM33: =IF($C33="应届",($S33*0.1)/6,IF($C33="往届","","NULL")) | AN33: NULL | AO33: =IF($C33="应届",($S33*0.1)/6,IF($C33="往届","","NULL")) | AP33: NULL | AQ33: =IF($C33="应届",($S33*0.1)/6,IF($C33="往届","","NULL")) | AR33: NULL | AS33: =IF($C33="应届",($S33*0.1)/6,IF($C33="往届","","NULL")) | AT33: NULL | AU33: NULL | AV33: =IF($C33="应届",($S33*0.15)/6,IF($C33="往届","","NULL")) | AW33: NULL | AX33: =IF($C33="应届",($S33*0.15)/6,IF($C33="往届","","NULL")) | AY33: NULL | AZ33: =IF($C33="应届",($S33*0.15)/6,IF($C33="往届","","NULL")) | BA33: NULL | BB33: =IF($C33="应届",($S33*0.15)/6,IF($C33="往届","","NULL")) | BC33: NULL | BD33: =IF($C33="应届",($S33*0.15)/6,IF($C33="往届","","NULL")) | BE33: NULL | BF33: =IF($C33="应届",($S33*0.15)/6,IF($C33="往届","","NULL")) | BG33: NULL | BH33: NULL | BI33: =IF($C33="应届",($S33*0.15)/6,IF($C33="往届","","NULL")) | BJ33: NULL | BK33: =IF($C33="应届",($S33*0.15)/6,IF($C33="往届","","NULL")) | BL33: NULL | BM33: =IF($C33="应届",($S33*0.15)/6,IF($C33="往届","","NULL")) | BN33: NULL | BO33: =IF($C33="应届",($S33*0.15)/6,IF($C33="往届","","NULL")) | BP33: NULL | BQ33: =IF($C33="应届",($S33*0.15)/6,IF($C33="往届","","NULL")) | BR33: NULL | BS33: =IF($C33="应届",($S33*0.15)/6,IF($C33="往届","","NULL")) | BT33: 5 | BU33: 叶屏 | BV33: =IF($C33="应届",($S33*0.25)/6,IF($C33="往届",($S33*0.5)/6,"NULL")) -> 0 | BW33: 王德兵 | BX33: =IF($C33="应届",($S33*0.25)/6,IF($C33="往届",($S33*0.5)/6,"NULL")) -> 0 | BY33: 兰卡布尺 | BZ33: =IF($C33="应届",($S33*0.25)/6,IF($C33="往届",($S33*0.5)/6,"NULL")) -> 0 | CA33: 吴文艺 | CB33: =IF($C33="应届",($S33*0.25)/6,IF($C33="往届",($S33*0.5)/6,"NULL")) -> 0 | CC33: 赵香才 | CD33: =IF($C33="应届",($S33*0.25)/6,IF($C33="往届",($S33*0.5)/6,"NULL")) -> 0 | CE33: 金贵 | CF33: =IF($C33="应届",($S33*0.25)/6,IF($C33="往届",($S33*0.5)/6,"NULL")) -> 0 | CG33: 5 | CH33: 叶屏 | CI33: =IF($C33="应届",($S33*0.25)/6,IF($C33="往届",($S33*0.5)/6,"NULL")) -> 0 | CJ33: 王德兵 | CK33: =IF($C33="应届",($S33*0.25)/6,IF($C33="往届",($S33*0.5)/6,"NULL")) -> 0 | CL33: 兰卡布尺 | CM33: =IF($C33="应届",($S33*0.25)/6,IF($C33="往届",($S33*0.5)/6,"NULL")) -> 0 | CN33: 吴文艺/康宇峰 | CO33: =IF($C33="应届",($S33*0.25)/6,IF($C33="往届",($S33*0.5)/6,"NULL")) -> 0 | CP33: 赵香才 | CQ33: =IF($C33="应届",($S33*0.25)/6,IF($C33="往届",($S33*0.5)/6,"NULL")) -> 0 | CR33: 金贵 | CS33: =IF($C33="应届",($S33*0.25)/6,IF($C33="往届",($S33*0.5)/6,"NULL")) -> 0
A34: 祝玛央青 | B34: 513422200203084021 | C34: 往届 | D34: 文科 | F34: 0 | G34: 0 | H34: 101 | I34: 99 | J34: 87 | K34: 65.5 | L34: 67 | M34: 55 | N34: 470 | O34: =IF(D34="理科",IF(N34>=分数线!$C$2,"本科",""),IF(D34="文科",IF(N34>=分数线!$C$3,"本科",""))) -> 本科 | P34: =IF(F34>0,IF(O34="本科",(2-F34)*36,-(F34)*36),IF(O34="本科",2*36,0)) -> 72 | Q34: =IF(D34="理科",IF(N34>=分数线!$C$6,"重本",""),IF(D34="文科",IF(N34>=分数线!$C$7,"重本",""))) | R34: =IF(G34>0,IF(Q34="重本",G34*72,-(G34)*72),IF(Q34="重本",2*72,0)) -> 0 | S34: =P34+R34 -> 72 | T34: NULL | U34: NULL | V34: =IF($C34="应届",($S34*0.1)/6,IF($C34="往届","","NULL")) | W34: NULL | X34: =IF($C34="应届",($S34*0.1)/6,IF($C34="往届","","NULL")) | Y34: NULL | Z34: =IF($C34="应届",($S34*0.1)/6,IF($C34="往届","","NULL")) | AA34: NULL | AB34: =IF($C34="应届",($S34*0.1)/6,IF($C34="往届","","NULL")) | AC34: NULL | AD34: =IF($C34="应届",($S34*0.1)/6,IF($C34="往届","","NULL")) | AE34: NULL | AF34: =IF($C34="应届",($S34*0.1)/6,IF($C34="往届","","NULL")) | AG34: NULL | AH34: NULL | AI34: =IF($C34="应届",($S34*0.1)/6,IF($C34="往届","","NULL")) | AJ34: NULL | AK34: =IF($C34="应届",($S34*0.1)/6,IF($C34="往届","","NULL")) | AL34: NULL | AM34: =IF($C34="应届",($S34*0.1)/6,IF($C34="往届","","NULL")) | AN34: NULL | AO34: =IF($C34="应届",($S34*0.1)/6,IF($C34="往届","","NULL")) | AP34: NULL | AQ34: =IF($C34="应届",($S34*0.1)/6,IF($C34="往届","","NULL")) | AR34: NULL | AS34: =IF($C34="应届",($S34*0.1)/6,IF($C34="往届","","NULL")) | AT34: NULL | AU34: NULL | AV34: =IF($C34="应届",($S34*0.15)/6,IF($C34="往届","","NULL")) | AW34: NULL | AX34: =IF($C34="应届",($S34*0.15)/6,IF($C34="往届","","NULL")) | AY34: NULL | AZ34: =IF($C34="应届",($S34*0.15)/6,IF($C34="往届","","NULL")) | BA34: NULL | BB34: =IF($C34="应届",($S34*0.15)/6,IF($C34="往届","","NULL")) | BC34: NULL | BD34: =IF($C34="应届",($S34*0.15)/6,IF($C34="往届","","NULL")) | BE34: NULL | BF34: =IF($C34="应届",($S34*0.15)/6,IF($C34="往届","","NULL")) | BG34: NULL | BH34: NULL | BI34: =IF($C34="应届",($S34*0.15)/6,IF($C34="往届","","NULL")) | BJ34: NULL | BK34: =IF($C34="应届",($S34*0.15)/6,IF($C34="往届","","NULL")) | BL34: NULL | BM34: =IF($C34="应届",($S34*0.15)/6,IF($C34="往届","","NULL")) | BN34: NULL | BO34: =IF($C34="应届",($S34*0.15)/6,IF($C34="往届","","NULL")) | BP34: NULL | BQ34: =IF($C34="应届",($S34*0.15)/6,IF($C34="往届","","NULL")) | BR34: NULL | BS34: =IF($C34="应届",($S34*0.15)/6,IF($C34="往届","","NULL")) | BT34: 5 | BU34: 叶屏 | BV34: =IF($C34="应届",($S34*0.25)/6,IF($C34="往届",($S34*0.5)/6,"NULL")) -> 6 | BW34: 王德兵 | BX34: =IF($C34="应届",($S34*0.25)/6,IF($C34="往届",($S34*0.5)/6,"NULL")) -> 6 | BY34: 兰卡布尺 | BZ34: =IF($C34="应届",($S34*0.25)/6,IF($C34="往届",($S34*0.5)/6,"NULL")) -> 6 | CA34: 吴文艺 | CB34: =IF($C34="应届",($S34*0.25)/6,IF($C34="往届",($S34*0.5)/6,"NULL")) -> 6 | CC34: 赵香才 | CD34: =IF($C34="应届",($S34*0.25)/6,IF($C34="往届",($S34*0.5)/6,"NULL")) -> 6 | CE34: 金贵 | CF34: =IF($C34="应届",($S34*0.25)/6,IF($C34="往届",($S34*0.5)/6,"NULL")) -> 6 | CG34: 5 | CH34: 叶屏 | CI34: =IF($C34="应届",($S34*0.25)/6,IF($C34="往届",($S34*0.5)/6,"NULL")) -> 6 | CJ34: 王德兵 | CK34: =IF($C34="应届",($S34*0.25)/6,IF($C34="往届",($S34*0.5)/6,"NULL")) -> 6 | CL34: 兰卡布尺 | CM34: =IF($C34="应届",($S34*0.25)/6,IF($C34="往届",($S34*0.5)/6,"NULL")) -> 6 | CN34: 吴文艺/康宇峰 | CO34: =IF($C34="应届",($S34*0.25)/6,IF($C34="往届",($S34*0.5)/6,"NULL")) -> 6 | CP34: 赵香才 | CQ34: =IF($C34="应届",($S34*0.25)/6,IF($C34="往届",($S34*0.5)/6,"NULL")) -> 6 | CR34: 金贵 | CS34: =IF($C34="应届",($S34*0.25)/6,IF($C34="往届",($S34*0.5)/6,"NULL")) -> 6
A35: 王国林 | B35: 51342220030228001X | C35: 往届 | D35: 文科 | F35: 0 | G35: 0 | H35: 113 | I35: 75 | J35: 98 | K35: 68.5 | L35: 60 | M35: 73 | N35: 488 | O35: =IF(D35="理科",IF(N35>=分数线!$C$2,"本科",""),IF(D35="文科",IF(N35>=分数线!$C$3,"本科",""))) -> 本科 | P35: =IF(F35>0,IF(O35="本科",(2-F35)*36,-(F35)*36),IF(O35="本科",2*36,0)) -> 72 | Q35: =IF(D35="理科",IF(N35>=分数线!$C$6,"重本",""),IF(D35="文科",IF(N35>=分数线!$C$7,"重本",""))) | R35: =IF(G35>0,IF(Q35="重本",G35*72,-(G35)*72),IF(Q35="重本",2*72,0)) -> 0 | S35: =P35+R35 -> 72 | T35: NULL | U35: NULL | V35: =IF($C35="应届",($S35*0.1)/6,IF($C35="往届","","NULL")) | W35: NULL | X35: =IF($C35="应届",($S35*0.1)/6,IF($C35="往届","","NULL")) | Y35: NULL | Z35: =IF($C35="应届",($S35*0.1)/6,IF($C35="往届","","NULL")) | AA35: NULL | AB35: =IF($C35="应届",($S35*0.1)/6,IF($C35="往届","","NULL")) | AC35: NULL | AD35: =IF($C35="应届",($S35*0.1)/6,IF($C35="往届","","NULL")) | AE35: NULL | AF35: =IF($C35="应届",($S35*0.1)/6,IF($C35="往届","","NULL")) | AG35: NULL | AH35: NULL | AI35: =IF($C35="应届",($S35*0.1)/6,IF($C35="往届","","NULL")) | AJ35: NULL | AK35: =IF($C35="应届",($S35*0.1)/6,IF($C35="往届","","NULL")) | AL35: NULL | AM35: =IF($C35="应届",($S35*0.1)/6,IF($C35="往届","","NULL")) | AN35: NULL | AO35: =IF($C35="应届",($S35*0.1)/6,IF($C35="往届","","NULL")) | AP35: NULL | AQ35: =IF($C35="应届",($S35*0.1)/6,IF($C35="往届","","NULL")) | AR35: NULL | AS35: =IF($C35="应届",($S35*0.1)/6,IF($C35="往届","","NULL")) | AT35: NULL | AU35: NULL | AV35: =IF($C35="应届",($S35*0.15)/6,IF($C35="往届","","NULL")) | AW35: NULL | AX35: =IF($C35="应届",($S35*0.15)/6,IF($C35="往届","","NULL")) | AY35: NULL | AZ35: =IF($C35="应届",($S35*0.15)/6,IF($C35="往届","","NULL")) | BA35: NULL | BB35: =IF($C35="应届",($S35*0.15)/6,IF($C35="往届","","NULL")) | BC35: NULL | BD35: =IF($C35="应届",($S35*0.15)/6,IF($C35="往届","","NULL")) | BE35: NULL | BF35: =IF($C35="应届",($S35*0.15)/6,IF($C35="往届","","NULL")) | BG35: NULL | BH35: NULL | BI35: =IF($C35="应届",($S35*0.15)/6,IF($C35="往届","","NULL")) | BJ35: NULL | BK35: =IF($C35="应届",($S35*0.15)/6,IF($C35="往届","","NULL")) | BL35: NULL | BM35: =IF($C35="应届",($S35*0.15)/6,IF($C35="往届","","NULL")) | BN35: NULL | BO35: =IF($C35="应届",($S35*0.15)/6,IF($C35="往届","","NULL")) | BP35: NULL | BQ35: =IF($C35="应届",($S35*0.15)/6,IF($C35="往届","","NULL")) | BR35: NULL | BS35: =IF($C35="应届",($S35*0.15)/6,IF($C35="往届","","NULL")) | BT35: 5 | BU35: 叶屏 | BV35: =IF($C35="应届",($S35*0.25)/6,IF($C35="往届",($S35*0.5)/6,"NULL")) -> 6 | BW35: 王德兵 | BX35: =IF($C35="应届",($S35*0.25)/6,IF($C35="往届",($S35*0.5)/6,"NULL")) -> 6 | BY35: 兰卡布尺 | BZ35: =IF($C35="应届",($S35*0.25)/6,IF($C35="往届",($S35*0.5)/6,"NULL")) -> 6 | CA35: 吴文艺 | CB35: =IF($C35="应届",($S35*0.25)/6,IF($C35="往届",($S35*0.5)/6,"NULL")) -> 6 | CC35: 赵香才 | CD35: =IF($C35="应届",($S35*0.25)/6,IF($C35="往届",($S35*0.5)/6,"NULL")) -> 6 | CE35: 金贵 | CF35: =IF($C35="应届",($S35*0.25)/6,IF($C35="往届",($S35*0.5)/6,"NULL")) -> 6 | CG35: 5 | CH35: 叶屏 | CI35: =IF($C35="应届",($S35*0.25)/6,IF($C35="往届",($S35*0.5)/6,"NULL")) -> 6 | CJ35: 王德兵 | CK35: =IF($C35="应届",($S35*0.25)/6,IF($C35="往届",($S35*0.5)/6,"NULL")) -> 6 | CL35: 兰卡布尺 | CM35: =IF($C35="应届",($S35*0.25)/6,IF($C35="往届",($S35*0.5)/6,"NULL")) -> 6 | CN35: 吴文艺/康宇峰 | CO35: =IF($C35="应届",($S35*0.25)/6,IF($C35="往届",($S35*0.5)/6,"NULL")) -> 6 | CP35: 赵香才 | CQ35: =IF($C35="应届",($S35*0.25)/6,IF($C35="往届",($S35*0.5)/6,"NULL")) -> 6 | CR35: 金贵 | CS35: =IF($C35="应届",($S35*0.25)/6,IF($C35="往届",($S35*0.5)/6,"NULL")) -> 6
A36: 本地米 | B36: 513422200308105028 | C36: 往届 | D36: 文科 | F36: 0 | G36: 0 | H36: 103 | I36: 67 | J36: 72 | K36: 70.5 | L36: 64.5 | M36: 58 | N36: 435 | O36: =IF(D36="理科",IF(N36>=分数线!$C$2,"本科",""),IF(D36="文科",IF(N36>=分数线!$C$3,"本科",""))) | P36: =IF(F36>0,IF(O36="本科",(2-F36)*36,-(F36)*36),IF(O36="本科",2*36,0)) -> 0 | Q36: =IF(D36="理科",IF(N36>=分数线!$C$6,"重本",""),IF(D36="文科",IF(N36>=分数线!$C$7,"重本",""))) | R36: =IF(G36>0,IF(Q36="重本",G36*72,-(G36)*72),IF(Q36="重本",2*72,0)) -> 0 | S36: =P36+R36 -> 0 | T36: NULL | U36: NULL | V36: =IF($C36="应届",($S36*0.1)/6,IF($C36="往届","","NULL")) | W36: NULL | X36: =IF($C36="应届",($S36*0.1)/6,IF($C36="往届","","NULL")) | Y36: NULL | Z36: =IF($C36="应届",($S36*0.1)/6,IF($C36="往届","","NULL")) | AA36: NULL | AB36: =IF($C36="应届",($S36*0.1)/6,IF($C36="往届","","NULL")) | AC36: NULL | AD36: =IF($C36="应届",($S36*0.1)/6,IF($C36="往届","","NULL")) | AE36: NULL | AF36: =IF($C36="应届",($S36*0.1)/6,IF($C36="往届","","NULL")) | AG36: NULL | AH36: NULL | AI36: =IF($C36="应届",($S36*0.1)/6,IF($C36="往届","","NULL")) | AJ36: NULL | AK36: =IF($C36="应届",($S36*0.1)/6,IF($C36="往届","","NULL")) | AL36: NULL | AM36: =IF($C36="应届",($S36*0.1)/6,IF($C36="往届","","NULL")) | AN36: NULL | AO36: =IF($C36="应届",($S36*0.1)/6,IF($C36="往届","","NULL")) | AP36: NULL | AQ36: =IF($C36="应届",($S36*0.1)/6,IF($C36="往届","","NULL")) | AR36: NULL | AS36: =IF($C36="应届",($S36*0.1)/6,IF($C36="往届","","NULL")) | AT36: NULL | AU36: NULL | AV36: =IF($C36="应届",($S36*0.15)/6,IF($C36="往届","","NULL")) | AW36: NULL | AX36: =IF($C36="应届",($S36*0.15)/6,IF($C36="往届","","NULL")) | AY36: NULL | AZ36: =IF($C36="应届",($S36*0.15)/6,IF($C36="往届","","NULL")) | BA36: NULL | BB36: =IF($C36="应届",($S36*0.15)/6,IF($C36="往届","","NULL")) | BC36: NULL | BD36: =IF($C36="应届",($S36*0.15)/6,IF($C36="往届","","NULL")) | BE36: NULL | BF36: =IF($C36="应届",($S36*0.15)/6,IF($C36="往届","","NULL")) | BG36: NULL | BH36: NULL | BI36: =IF($C36="应届",($S36*0.15)/6,IF($C36="往届","","NULL")) | BJ36: NULL | BK36: =IF($C36="应届",($S36*0.15)/6,IF($C36="往届","","NULL")) | BL36: NULL | BM36: =IF($C36="应届",($S36*0.15)/6,IF($C36="往届","","NULL")) | BN36: NULL | BO36: =IF($C36="应届",($S36*0.15)/6,IF($C36="往届","","NULL")) | BP36: NULL | BQ36: =IF($C36="应届",($S36*0.15)/6,IF($C36="往届","","NULL")) | BR36: NULL | BS36: =IF($C36="应届",($S36*0.15)/6,IF($C36="往届","","NULL")) | BT36: 5 | BU36: 叶屏 | BV36: =IF($C36="应届",($S36*0.25)/6,IF($C36="往届",($S36*0.5)/6,"NULL")) -> 0 | BW36: 王德兵 | BX36: =IF($C36="应届",($S36*0.25)/6,IF($C36="往届",($S36*0.5)/6,"NULL")) -> 0 | BY36: 兰卡布尺 | BZ36: =IF($C36="应届",($S36*0.25)/6,IF($C36="往届",($S36*0.5)/6,"NULL")) -> 0 | CA36: 吴文艺 | CB36: =IF($C36="应届",($S36*0.25)/6,IF($C36="往届",($S36*0.5)/6,"NULL")) -> 0 | CC36: 赵香才 | CD36: =IF($C36="应届",($S36*0.25)/6,IF($C36="往届",($S36*0.5)/6,"NULL")) -> 0 | CE36: 金贵 | CF36: =IF($C36="应届",($S36*0.25)/6,IF($C36="往届",($S36*0.5)/6,"NULL")) -> 0 | CG36: 5 | CH36: 叶屏 | CI36: =IF($C36="应届",($S36*0.25)/6,IF($C36="往届",($S36*0.5)/6,"NULL")) -> 0 | CJ36: 王德兵 | CK36: =IF($C36="应届",($S36*0.25)/6,IF($C36="往届",($S36*0.5)/6,"NULL")) -> 0 | CL36: 兰卡布尺 | CM36: =IF($C36="应届",($S36*0.25)/6,IF($C36="往届",($S36*0.5)/6,"NULL")) -> 0 | CN36: 吴文艺/康宇峰 | CO36: =IF($C36="应届",($S36*0.25)/6,IF($C36="往届",($S36*0.5)/6,"NULL")) -> 0 | CP36: 赵香才 | CQ36: =IF($C36="应届",($S36*0.25)/6,IF($C36="往届",($S36*0.5)/6,"NULL")) -> 0 | CR36: 金贵 | CS36: =IF($C36="应届",($S36*0.25)/6,IF($C36="往届",($S36*0.5)/6,"NULL")) -> 0
A37: 次仁拉姆 | B37: 513422200308250321 | C37: 往届 | D37: 文科 | F37: 0 | G37: 0 | H37: 97 | I37: 65 | J37: 75 | K37: 58.5 | L37: 34.5 | M37: 33 | N37: 363 | O37: =IF(D37="理科",IF(N37>=分数线!$C$2,"本科",""),IF(D37="文科",IF(N37>=分数线!$C$3,"本科",""))) | P37: =IF(F37>0,IF(O37="本科",(2-F37)*36,-(F37)*36),IF(O37="本科",2*36,0)) -> 0 | Q37: =IF(D37="理科",IF(N37>=分数线!$C$6,"重本",""),IF(D37="文科",IF(N37>=分数线!$C$7,"重本",""))) | R37: =IF(G37>0,IF(Q37="重本",G37*72,-(G37)*72),IF(Q37="重本",2*72,0)) -> 0 | S37: =P37+R37 -> 0 | T37: NULL | U37: NULL | V37: =IF($C37="应届",($S37*0.1)/6,IF($C37="往届","","NULL")) | W37: NULL | X37: =IF($C37="应届",($S37*0.1)/6,IF($C37="往届","","NULL")) | Y37: NULL | Z37: =IF($C37="应届",($S37*0.1)/6,IF($C37="往届","","NULL")) | AA37: NULL | AB37: =IF($C37="应届",($S37*0.1)/6,IF($C37="往届","","NULL")) | AC37: NULL | AD37: =IF($C37="应届",($S37*0.1)/6,IF($C37="往届","","NULL")) | AE37: NULL | AF37: =IF($C37="应届",($S37*0.1)/6,IF($C37="往届","","NULL")) | AG37: NULL | AH37: NULL | AI37: =IF($C37="应届",($S37*0.1)/6,IF($C37="往届","","NULL")) | AJ37: NULL | AK37: =IF($C37="应届",($S37*0.1)/6,IF($C37="往届","","NULL")) | AL37: NULL | AM37: =IF($C37="应届",($S37*0.1)/6,IF($C37="往届","","NULL")) | AN37: NULL | AO37: =IF($C37="应届",($S37*0.1)/6,IF($C37="往届","","NULL")) | AP37: NULL | AQ37: =IF($C37="应届",($S37*0.1)/6,IF($C37="往届","","NULL")) | AR37: NULL | AS37: =IF($C37="应届",($S37*0.1)/6,IF($C37="往届","","NULL")) | AT37: NULL | AU37: NULL | AV37: =IF($C37="应届",($S37*0.15)/6,IF($C37="往届","","NULL")) | AW37: NULL | AX37: =IF($C37="应届",($S37*0.15)/6,IF($C37="往届","","NULL")) | AY37: NULL | AZ37: =IF($C37="应届",($S37*0.15)/6,IF($C37="往届","","NULL")) | BA37: NULL | BB37: =IF($C37="应届",($S37*0.15)/6,IF($C37="往届","","NULL")) | BC37: NULL | BD37: =IF($C37="应届",($S37*0.15)/6,IF($C37="往届","","NULL")) | BE37: NULL | BF37: =IF($C37="应届",($S37*0.15)/6,IF($C37="往届","","NULL")) | BG37: NULL | BH37: NULL | BI37: =IF($C37="应届",($S37*0.15)/6,IF($C37="往届","","NULL")) | BJ37: NULL | BK37: =IF($C37="应届",($S37*0.15)/6,IF($C37="往届","","NULL")) | BL37: NULL | BM37: =IF($C37="应届",($S37*0.15)/6,IF($C37="往届","","NULL")) | BN37: NULL | BO37: =IF($C37="应届",($S37*0.15)/6,IF($C37="往届","","NULL")) | BP37: NULL | BQ37: =IF($C37="应届",($S37*0.15)/6,IF($C37="往届","","NULL")) | BR37: NULL | BS37: =IF($C37="应届",($S37*0.15)/6,IF($C37="往届","","NULL")) | BT37: 5 | BU37: 叶屏 | BV37: =IF($C37="应届",($S37*0.25)/6,IF($C37="往届",($S37*0.5)/6,"NULL")) -> 0 | BW37: 王德兵 | BX37: =IF($C37="应届",($S37*0.25)/6,IF($C37="往届",($S37*0.5)/6,"NULL")) -> 0 | BY37: 兰卡布尺 | BZ37: =IF($C37="应届",($S37*0.25)/6,IF($C37="往届",($S37*0.5)/6,"NULL")) -> 0 | CA37: 吴文艺 | CB37: =IF($C37="应届",($S37*0.25)/6,IF($C37="往届",($S37*0.5)/6,"NULL")) -> 0 | CC37: 赵香才 | CD37: =IF($C37="应届",($S37*0.25)/6,IF($C37="往届",($S37*0.5)/6,"NULL")) -> 0 | CE37: 金贵 | CF37: =IF($C37="应届",($S37*0.25)/6,IF($C37="往届",($S37*0.5)/6,"NULL")) -> 0 | CG37: 5 | CH37: 叶屏 | CI37: =IF($C37="应届",($S37*0.25)/6,IF($C37="往届",($S37*0.5)/6,"NULL")) -> 0 | CJ37: 王德兵 | CK37: =IF($C37="应届",($S37*0.25)/6,IF($C37="往届",($S37*0.5)/6,"NULL")) -> 0 | CL37: 兰卡布尺 | CM37: =IF($C37="应届",($S37*0.25)/6,IF($C37="往届",($S37*0.5)/6,"NULL")) -> 0 | CN37: 吴文艺/康宇峰 | CO37: =IF($C37="应届",($S37*0.25)/6,IF($C37="往届",($S37*0.5)/6,"NULL")) -> 0 | CP37: 赵香才 | CQ37: =IF($C37="应届",($S37*0.25)/6,IF($C37="往届",($S37*0.5)/6,"NULL")) -> 0 | CR37: 金贵 | CS37: =IF($C37="应届",($S37*0.25)/6,IF($C37="往届",($S37*0.5)/6,"NULL")) -> 0
A38: 降初祝玛 | B38: 513422200111036823 | C38: 往届 | D38: 理科 | F38: 1 | G38: 0 | H38: 100 | I38: 71 | J38: 72 | K38: 47 | L38: 47 | M38: 54 | N38: 391 | O38: =IF(D38="理科",IF(N38>=分数线!$C$2,"本科",""),IF(D38="文科",IF(N38>=分数线!$C$3,"本科",""))) | P38: =IF(F38>0,IF(O38="本科",(2-F38)*36,-(F38)*36),IF(O38="本科",2*36,0)) -> -36 | Q38: =IF(D38="理科",IF(N38>=分数线!$C$6,"重本",""),IF(D38="文科",IF(N38>=分数线!$C$7,"重本",""))) | R38: =IF(G38>0,IF(Q38="重本",G38*72,-(G38)*72),IF(Q38="重本",2*72,0)) -> 0 | S38: =P38+R38 -> -36 | T38: NULL | U38: NULL | V38: =IF($C38="应届",($S38*0.1)/6,IF($C38="往届","","NULL")) | W38: NULL | X38: =IF($C38="应届",($S38*0.1)/6,IF($C38="往届","","NULL")) | Y38: NULL | Z38: =IF($C38="应届",($S38*0.1)/6,IF($C38="往届","","NULL")) | AA38: NULL | AB38: =IF($C38="应届",($S38*0.1)/6,IF($C38="往届","","NULL")) | AC38: NULL | AD38: =IF($C38="应届",($S38*0.1)/6,IF($C38="往届","","NULL")) | AE38: NULL | AF38: =IF($C38="应届",($S38*0.1)/6,IF($C38="往届","","NULL")) | AG38: NULL | AH38: NULL | AI38: =IF($C38="应届",($S38*0.1)/6,IF($C38="往届","","NULL")) | AJ38: NULL | AK38: =IF($C38="应届",($S38*0.1)/6,IF($C38="往届","","NULL")) | AL38: NULL | AM38: =IF($C38="应届",($S38*0.1)/6,IF($C38="往届","","NULL")) | AN38: NULL | AO38: =IF($C38="应届",($S38*0.1)/6,IF($C38="往届","","NULL")) | AP38: NULL | AQ38: =IF($C38="应届",($S38*0.1)/6,IF($C38="往届","","NULL")) | AR38: NULL | AS38: =IF($C38="应届",($S38*0.1)/6,IF($C38="往届","","NULL")) | AT38: NULL | AU38: NULL | AV38: =IF($C38="应届",($S38*0.15)/6,IF($C38="往届","","NULL")) | AW38: NULL | AX38: =IF($C38="应届",($S38*0.15)/6,IF($C38="往届","","NULL")) | AY38: NULL | AZ38: =IF($C38="应届",($S38*0.15)/6,IF($C38="往届","","NULL")) | BA38: NULL | BB38: =IF($C38="应届",($S38*0.15)/6,IF($C38="往届","","NULL")) | BC38: NULL | BD38: =IF($C38="应届",($S38*0.15)/6,IF($C38="往届","","NULL")) | BE38: NULL | BF38: =IF($C38="应届",($S38*0.15)/6,IF($C38="往届","","NULL")) | BG38: NULL | BH38: NULL | BI38: =IF($C38="应届",($S38*0.15)/6,IF($C38="往届","","NULL")) | BJ38: NULL | BK38: =IF($C38="应届",($S38*0.15)/6,IF($C38="往届","","NULL")) | BL38: NULL | BM38: =IF($C38="应届",($S38*0.15)/6,IF($C38="往届","","NULL")) | BN38: NULL | BO38: =IF($C38="应届",($S38*0.15)/6,IF($C38="往届","","NULL")) | BP38: NULL | BQ38: =IF($C38="应届",($S38*0.15)/6,IF($C38="往届","","NULL")) | BR38: NULL | BS38: =IF($C38="应届",($S38*0.15)/6,IF($C38="往届","","NULL")) | BT38: 6 | BU38: 阙丽萍 | BV38: =IF($C38="应届",($S38*0.25)/6,IF($C38="往届",($S38*0.5)/6,"NULL")) -> -3 | BW38: 李希 | BX38: =IF($C38="应届",($S38*0.25)/6,IF($C38="往届",($S38*0.5)/6,"NULL")) -> -3 | BY38: 兰卡布尺 | BZ38: =IF($C38="应届",($S38*0.25)/6,IF($C38="往届",($S38*0.5)/6,"NULL")) -> -3 | CA38: 高贵勇 | CB38: =IF($C38="应届",($S38*0.25)/6,IF($C38="往届",($S38*0.5)/6,"NULL")) -> -3 | CC38: 陈文惠 | CD38: =IF($C38="应届",($S38*0.25)/6,IF($C38="往届",($S38*0.5)/6,"NULL")) -> -3 | CE38: 杨建 | CF38: =IF($C38="应届",($S38*0.25)/6,IF($C38="往届",($S38*0.5)/6,"NULL")) -> -3 | CG38: 6 | CH38: 阙丽萍 | CI38: =IF($C38="应届",($S38*0.25)/6,IF($C38="往届",($S38*0.5)/6,"NULL")) -> -3 | CJ38: 李希 | CK38: =IF($C38="应届",($S38*0.25)/6,IF($C38="往届",($S38*0.5)/6,"NULL")) -> -3 | CL38: 兰卡布尺 | CM38: =IF($C38="应届",($S38*0.25)/6,IF($C38="往届",($S38*0.5)/6,"NULL")) -> -3 | CN38: 高贵勇 | CO38: =IF($C38="应届",($S38*0.25)/6,IF($C38="往届",($S38*0.5)/6,"NULL")) -> -3 | CP38: 杨建 | CQ38: =IF($C38="应届",($S38*0.25)/6,IF($C38="往届",($S38*0.5)/6,"NULL")) -> -3 | CR38: 杨建 | CS38: =IF($C38="应届",($S38*0.25)/6,IF($C38="往届",($S38*0.5)/6,"NULL")) -> -3
A39: 扎拉杜基 | B39: 513422200010204218 | C39: 往届 | D39: 理科 | F39: 0 | G39: 0 | H39: 87 | I39: 83 | J39: 29 | K39: 48 | L39: 48.5 | M39: 37 | N39: 343 | O39: =IF(D39="理科",IF(N39>=分数线!$C$2,"本科",""),IF(D39="文科",IF(N39>=分数线!$C$3,"本科",""))) | P39: =IF(F39>0,IF(O39="本科",(2-F39)*36,-(F39)*36),IF(O39="本科",2*36,0)) -> 0 | Q39: =IF(D39="理科",IF(N39>=分数线!$C$6,"重本",""),IF(D39="文科",IF(N39>=分数线!$C$7,"重本",""))) | R39: =IF(G39>0,IF(Q39="重本",G39*72,-(G39)*72),IF(Q39="重本",2*72,0)) -> 0 | S39: =P39+R39 -> 0 | T39: NULL | U39: NULL | V39: =IF($C39="应届",($S39*0.1)/6,IF($C39="往届","","NULL")) | W39: NULL | X39: =IF($C39="应届",($S39*0.1)/6,IF($C39="往届","","NULL")) | Y39: NULL | Z39: =IF($C39="应届",($S39*0.1)/6,IF($C39="往届","","NULL")) | AA39: NULL | AB39: =IF($C39="应届",($S39*0.1)/6,IF($C39="往届","","NULL")) | AC39: NULL | AD39: =IF($C39="应届",($S39*0.1)/6,IF($C39="往届","","NULL")) | AE39: NULL | AF39: =IF($C39="应届",($S39*0.1)/6,IF($C39="往届","","NULL")) | AG39: NULL | AH39: NULL | AI39: =IF($C39="应届",($S39*0.1)/6,IF($C39="往届","","NULL")) | AJ39: NULL | AK39: =IF($C39="应届",($S39*0.1)/6,IF($C39="往届","","NULL")) | AL39: NULL | AM39: =IF($C39="应届",($S39*0.1)/6,IF($C39="往届","","NULL")) | AN39: NULL | AO39: =IF($C39="应届",($S39*0.1)/6,IF($C39="往届","","NULL")) | AP39: NULL | AQ39: =IF($C39="应届",($S39*0.1)/6,IF($C39="往届","","NULL")) | AR39: NULL | AS39: =IF($C39="应届",($S39*0.1)/6,IF($C39="往届","","NULL")) | AT39: NULL | AU39: NULL | AV39: =IF($C39="应届",($S39*0.15)/6,IF($C39="往届","","NULL")) | AW39: NULL | AX39: =IF($C39="应届",($S39*0.15)/6,IF($C39="往届","","NULL")) | AY39: NULL | AZ39: =IF($C39="应届",($S39*0.15)/6,IF($C39="往届","","NULL")) | BA39: NULL | BB39: =IF($C39="应届",($S39*0.15)/6,IF($C39="往届","","NULL")) | BC39: NULL | BD39: =IF($C39="应届",($S39*0.15)/6,IF($C39="往届","","NULL")) | BE39: NULL | BF39: =IF($C39="应届",($S39*0.15)/6,IF($C39="往届","","NULL")) | BG39: NULL | BH39: NULL | BI39: =IF($C39="应届",($S39*0.15)/6,IF($C39="往届","","NULL")) | BJ39: NULL | BK39: =IF($C39="应届",($S39*0.15)/6,IF($C39="往届","","NULL")) | BL39: NULL | BM39: =IF($C39="应届",($S39*0.15)/6,IF($C39="往届","","NULL")) | BN39: NULL | BO39: =IF($C39="应届",($S39*0.15)/6,IF($C39="往届","","NULL")) | BP39: NULL | BQ39: =IF($C39="应届",($S39*0.15)/6,IF($C39="往届","","NULL")) | BR39: NULL | BS39: =IF($C39="应届",($S39*0.15)/6,IF($C39="往届","","NULL")) | BT39: 6 | BU39: 阙丽萍 | BV39: =IF($C39="应届",($S39*0.25)/6,IF($C39="往届",($S39*0.5)/6,"NULL")) -> 0 | BW39: 李希 | BX39: =IF($C39="应届",($S39*0.25)/6,IF($C39="往届",($S39*0.5)/6,"NULL")) -> 0 | BY39: 兰卡布尺 | BZ39: =IF($C39="应届",($S39*0.25)/6,IF($C39="往届",($S39*0.5)/6,"NULL")) -> 0 | CA39: 高贵勇 | CB39: =IF($C39="应届",($S39*0.25)/6,IF($C39="往届",($S39*0.5)/6,"NULL")) -> 0 | CC39: 陈文惠 | CD39: =IF($C39="应届",($S39*0.25)/6,IF($C39="往届",($S39*0.5)/6,"NULL")) -> 0 | CE39: 杨建 | CF39: =IF($C39="应届",($S39*0.25)/6,IF($C39="往届",($S39*0.5)/6,"NULL")) -> 0 | CG39: 6 | CH39: 阙丽萍 | CI39: =IF($C39="应届",($S39*0.25)/6,IF($C39="往届",($S39*0.5)/6,"NULL")) -> 0 | CJ39: 李希 | CK39: =IF($C39="应届",($S39*0.25)/6,IF($C39="往届",($S39*0.5)/6,"NULL")) -> 0 | CL39: 兰卡布尺 | CM39: =IF($C39="应届",($S39*0.25)/6,IF($C39="往届",($S39*0.5)/6,"NULL")) -> 0 | CN39: 高贵勇 | CO39: =IF($C39="应届",($S39*0.25)/6,IF($C39="往届",($S39*0.5)/6,"NULL")) -> 0 | CP39: 杨建 | CQ39: =IF($C39="应届",($S39*0.25)/6,IF($C39="往届",($S39*0.5)/6,"NULL")) -> 0 | CR39: 杨建 | CS39: =IF($C39="应届",($S39*0.25)/6,IF($C39="往届",($S39*0.5)/6,"NULL")) -> 0
A40: 拉初 | B40: 513422200103043820 | C40: 往届 | D40: 理科 | F40: 0 | G40: 0 | H40: 93 | I40: 56 | J40: 66 | K40: 24.5 | L40: 38 | M40: 47.5 | N40: 325 | O40: =IF(D40="理科",IF(N40>=分数线!$C$2,"本科",""),IF(D40="文科",IF(N40>=分数线!$C$3,"本科",""))) | P40: =IF(F40>0,IF(O40="本科",(2-F40)*36,-(F40)*36),IF(O40="本科",2*36,0)) -> 0 | Q40: =IF(D40="理科",IF(N40>=分数线!$C$6,"重本",""),IF(D40="文科",IF(N40>=分数线!$C$7,"重本",""))) | R40: =IF(G40>0,IF(Q40="重本",G40*72,-(G40)*72),IF(Q40="重本",2*72,0)) -> 0 | S40: =P40+R40 -> 0 | T40: NULL | U40: NULL | V40: =IF($C40="应届",($S40*0.1)/6,IF($C40="往届","","NULL")) | W40: NULL | X40: =IF($C40="应届",($S40*0.1)/6,IF($C40="往届","","NULL")) | Y40: NULL | Z40: =IF($C40="应届",($S40*0.1)/6,IF($C40="往届","","NULL")) | AA40: NULL | AB40: =IF($C40="应届",($S40*0.1)/6,IF($C40="往届","","NULL")) | AC40: NULL | AD40: =IF($C40="应届",($S40*0.1)/6,IF($C40="往届","","NULL")) | AE40: NULL | AF40: =IF($C40="应届",($S40*0.1)/6,IF($C40="往届","","NULL")) | AG40: NULL | AH40: NULL | AI40: =IF($C40="应届",($S40*0.1)/6,IF($C40="往届","","NULL")) | AJ40: NULL | AK40: =IF($C40="应届",($S40*0.1)/6,IF($C40="往届","","NULL")) | AL40: NULL | AM40: =IF($C40="应届",($S40*0.1)/6,IF($C40="往届","","NULL")) | AN40: NULL | AO40: =IF($C40="应届",($S40*0.1)/6,IF($C40="往届","","NULL")) | AP40: NULL | AQ40: =IF($C40="应届",($S40*0.1)/6,IF($C40="往届","","NULL")) | AR40: NULL | AS40: =IF($C40="应届",($S40*0.1)/6,IF($C40="往届","","NULL")) | AT40: NULL | AU40: NULL | AV40: =IF($C40="应届",($S40*0.15)/6,IF($C40="往届","","NULL")) | AW40: NULL | AX40: =IF($C40="应届",($S40*0.15)/6,IF($C40="往届","","NULL")) | AY40: NULL | AZ40: =IF($C40="应届",($S40*0.15)/6,IF($C40="往届","","NULL")) | BA40: NULL | BB40: =IF($C40="应届",($S40*0.15)/6,IF($C40="往届","","NULL")) | BC40: NULL | BD40: =IF($C40="应届",($S40*0.15)/6,IF($C40="往届","","NULL")) | BE40: NULL | BF40: =IF($C40="应届",($S40*0.15)/6,IF($C40="往届","","NULL")) | BG40: NULL | BH40: NULL | BI40: =IF($C40="应届",($S40*0.15)/6,IF($C40="往届","","NULL")) | BJ40: NULL | BK40: =IF($C40="应届",($S40*0.15)/6,IF($C40="往届","","NULL")) | BL40: NULL | BM40: =IF($C40="应届",($S40*0.15)/6,IF($C40="往届","","NULL")) | BN40: NULL | BO40: =IF($C40="应届",($S40*0.15)/6,IF($C40="往届","","NULL")) | BP40: NULL | BQ40: =IF($C40="应届",($S40*0.15)/6,IF($C40="往届","","NULL")) | BR40: NULL | BS40: =IF($C40="应届",($S40*0.15)/6,IF($C40="往届","","NULL")) | BT40: 6 | BU40: 阙丽萍 | BV40: =IF($C40="应届",($S40*0.25)/6,IF($C40="往届",($S40*0.5)/6,"NULL")) -> 0 | BW40: 李希 | BX40: =IF($C40="应届",($S40*0.25)/6,IF($C40="往届",($S40*0.5)/6,"NULL")) -> 0 | BY40: 兰卡布尺 | BZ40: =IF($C40="应届",($S40*0.25)/6,IF($C40="往届",($S40*0.5)/6,"NULL")) -> 0 | CA40: 高贵勇 | CB40: =IF($C40="应届",($S40*0.25)/6,IF($C40="往届",($S40*0.5)/6,"NULL")) -> 0 | CC40: 陈文惠 | CD40: =IF($C40="应届",($S40*0.25)/6,IF($C40="往届",($S40*0.5)/6,"NULL")) -> 0 | CE40: 杨建 | CF40: =IF($C40="应届",($S40*0.25)/6,IF($C40="往届",($S40*0.5)/6,"NULL")) -> 0 | CG40: 6 | CH40: 阙丽萍 | CI40: =IF($C40="应届",($S40*0.25)/6,IF($C40="往届",($S40*0.5)/6,"NULL")) -> 0 | CJ40: 李希 | CK40: =IF($C40="应届",($S40*0.25)/6,IF($C40="往届",($S40*0.5)/6,"NULL")) -> 0 | CL40: 兰卡布尺 | CM40: =IF($C40="应届",($S40*0.25)/6,IF($C40="往届",($S40*0.5)/6,"NULL")) -> 0 | CN40: 高贵勇 | CO40: =IF($C40="应届",($S40*0.25)/6,IF($C40="往届",($S40*0.5)/6,"NULL")) -> 0 | CP40: 杨建 | CQ40: =IF($C40="应届",($S40*0.25)/6,IF($C40="往届",($S40*0.5)/6,"NULL")) -> 0 | CR40: 杨建 | CS40: =IF($C40="应届",($S40*0.25)/6,IF($C40="往届",($S40*0.5)/6,"NULL")) -> 0
A41: 次尔拉初 | B41: 513422200209174028 | C41: 往届 | D41: 理科 | F41: 0 | G41: 0 | H41: 93 | I41: 65 | J41: 69 | K41: 20.5 | L41: 42 | M41: 42.5 | N41: 332 | O41: =IF(D41="理科",IF(N41>=分数线!$C$2,"本科",""),IF(D41="文科",IF(N41>=分数线!$C$3,"本科",""))) | P41: =IF(F41>0,IF(O41="本科",(2-F41)*36,-(F41)*36),IF(O41="本科",2*36,0)) -> 0 | Q41: =IF(D41="理科",IF(N41>=分数线!$C$6,"重本",""),IF(D41="文科",IF(N41>=分数线!$C$7,"重本",""))) | R41: =IF(G41>0,IF(Q41="重本",G41*72,-(G41)*72),IF(Q41="重本",2*72,0)) -> 0 | S41: =P41+R41 -> 0 | T41: NULL | U41: NULL | V41: =IF($C41="应届",($S41*0.1)/6,IF($C41="往届","","NULL")) | W41: NULL | X41: =IF($C41="应届",($S41*0.1)/6,IF($C41="往届","","NULL")) | Y41: NULL | Z41: =IF($C41="应届",($S41*0.1)/6,IF($C41="往届","","NULL")) | AA41: NULL | AB41: =IF($C41="应届",($S41*0.1)/6,IF($C41="往届","","NULL")) | AC41: NULL | AD41: =IF($C41="应届",($S41*0.1)/6,IF($C41="往届","","NULL")) | AE41: NULL | AF41: =IF($C41="应届",($S41*0.1)/6,IF($C41="往届","","NULL")) | AG41: NULL | AH41: NULL | AI41: =IF($C41="应届",($S41*0.1)/6,IF($C41="往届","","NULL")) | AJ41: NULL | AK41: =IF($C41="应届",($S41*0.1)/6,IF($C41="往届","","NULL")) | AL41: NULL | AM41: =IF($C41="应届",($S41*0.1)/6,IF($C41="往届","","NULL")) | AN41: NULL | AO41: =IF($C41="应届",($S41*0.1)/6,IF($C41="往届","","NULL")) | AP41: NULL | AQ41: =IF($C41="应届",($S41*0.1)/6,IF($C41="往届","","NULL")) | AR41: NULL | AS41: =IF($C41="应届",($S41*0.1)/6,IF($C41="往届","","NULL")) | AT41: NULL | AU41: NULL | AV41: =IF($C41="应届",($S41*0.15)/6,IF($C41="往届","","NULL")) | AW41: NULL | AX41: =IF($C41="应届",($S41*0.15)/6,IF($C41="往届","","NULL")) | AY41: NULL | AZ41: =IF($C41="应届",($S41*0.15)/6,IF($C41="往届","","NULL")) | BA41: NULL | BB41: =IF($C41="应届",($S41*0.15)/6,IF($C41="往届","","NULL")) | BC41: NULL | BD41: =IF($C41="应届",($S41*0.15)/6,IF($C41="往届","","NULL")) | BE41: NULL | BF41: =IF($C41="应届",($S41*0.15)/6,IF($C41="往届","","NULL")) | BG41: NULL | BH41: NULL | BI41: =IF($C41="应届",($S41*0.15)/6,IF($C41="往届","","NULL")) | BJ41: NULL | BK41: =IF($C41="应届",($S41*0.15)/6,IF($C41="往届","","NULL")) | BL41: NULL | BM41: =IF($C41="应届",($S41*0.15)/6,IF($C41="往届","","NULL")) | BN41: NULL | BO41: =IF($C41="应届",($S41*0.15)/6,IF($C41="往届","","NULL")) | BP41: NULL | BQ41: =IF($C41="应届",($S41*0.15)/6,IF($C41="往届","","NULL")) | BR41: NULL | BS41: =IF($C41="应届",($S41*0.15)/6,IF($C41="往届","","NULL")) | BT41: 6 | BU41: 阙丽萍 | BV41: =IF($C41="应届",($S41*0.25)/6,IF($C41="往届",($S41*0.5)/6,"NULL")) -> 0 | BW41: 李希 | BX41: =IF($C41="应届",($S41*0.25)/6,IF($C41="往届",($S41*0.5)/6,"NULL")) -> 0 | BY41: 兰卡布尺 | BZ41: =IF($C41="应届",($S41*0.25)/6,IF($C41="往届",($S41*0.5)/6,"NULL")) -> 0 | CA41: 高贵勇 | CB41: =IF($C41="应届",($S41*0.25)/6,IF($C41="往届",($S41*0.5)/6,"NULL")) -> 0 | CC41: 陈文惠 | CD41: =IF($C41="应届",($S41*0.25)/6,IF($C41="往届",($S41*0.5)/6,"NULL")) -> 0 | CE41: 杨建 | CF41: =IF($C41="应届",($S41*0.25)/6,IF($C41="往届",($S41*0.5)/6,"NULL")) -> 0 | CG41: 6 | CH41: 阙丽萍 | CI41: =IF($C41="应届",($S41*0.25)/6,IF($C41="往届",($S41*0.5)/6,"NULL")) -> 0 | CJ41: 李希 | CK41: =IF($C41="应届",($S41*0.25)/6,IF($C41="往届",($S41*0.5)/6,"NULL")) -> 0 | CL41: 兰卡布尺 | CM41: =IF($C41="应届",($S41*0.25)/6,IF($C41="往届",($S41*0.5)/6,"NULL")) -> 0 | CN41: 高贵勇 | CO41: =IF($C41="应届",($S41*0.25)/6,IF($C41="往届",($S41*0.5)/6,"NULL")) -> 0 | CP41: 杨建 | CQ41: =IF($C41="应届",($S41*0.25)/6,IF($C41="往届",($S41*0.5)/6,"NULL")) -> 0 | CR41: 杨建 | CS41: =IF($C41="应届",($S41*0.25)/6,IF($C41="往届",($S41*0.5)/6,"NULL")) -> 0
A42: 马小弟 | B42: 513422200512071515 | C42: 往届 | D42: 理科 | F42: 0 | G42: 0 | H42: 100 | I42: 62 | J42: 87 | K42: 47.5 | L42: 45.5 | M42: 71.5 | N42: 414 | O42: =IF(D42="理科",IF(N42>=分数线!$C$2,"本科",""),IF(D42="文科",IF(N42>=分数线!$C$3,"本科",""))) | P42: =IF(F42>0,IF(O42="本科",(2-F42)*36,-(F42)*36),IF(O42="本科",2*36,0)) -> 0 | Q42: =IF(D42="理科",IF(N42>=分数线!$C$6,"重本",""),IF(D42="文科",IF(N42>=分数线!$C$7,"重本",""))) | R42: =IF(G42>0,IF(Q42="重本",G42*72,-(G42)*72),IF(Q42="重本",2*72,0)) -> 0 | S42: =P42+R42 -> 0 | T42: NULL | U42: NULL | V42: =IF($C42="应届",($S42*0.1)/6,IF($C42="往届","","NULL")) | W42: NULL | X42: =IF($C42="应届",($S42*0.1)/6,IF($C42="往届","","NULL")) | Y42: NULL | Z42: =IF($C42="应届",($S42*0.1)/6,IF($C42="往届","","NULL")) | AA42: NULL | AB42: =IF($C42="应届",($S42*0.1)/6,IF($C42="往届","","NULL")) | AC42: NULL | AD42: =IF($C42="应届",($S42*0.1)/6,IF($C42="往届","","NULL")) | AE42: NULL | AF42: =IF($C42="应届",($S42*0.1)/6,IF($C42="往届","","NULL")) | AG42: NULL | AH42: NULL | AI42: =IF($C42="应届",($S42*0.1)/6,IF($C42="往届","","NULL")) | AJ42: NULL | AK42: =IF($C42="应届",($S42*0.1)/6,IF($C42="往届","","NULL")) | AL42: NULL | AM42: =IF($C42="应届",($S42*0.1)/6,IF($C42="往届","","NULL")) | AN42: NULL | AO42: =IF($C42="应届",($S42*0.1)/6,IF($C42="往届","","NULL")) | AP42: NULL | AQ42: =IF($C42="应届",($S42*0.1)/6,IF($C42="往届","","NULL")) | AR42: NULL | AS42: =IF($C42="应届",($S42*0.1)/6,IF($C42="往届","","NULL")) | AT42: NULL | AU42: NULL | AV42: =IF($C42="应届",($S42*0.15)/6,IF($C42="往届","","NULL")) | AW42: NULL | AX42: =IF($C42="应届",($S42*0.15)/6,IF($C42="往届","","NULL")) | AY42: NULL | AZ42: =IF($C42="应届",($S42*0.15)/6,IF($C42="往届","","NULL")) | BA42: NULL | BB42: =IF($C42="应届",($S42*0.15)/6,IF($C42="往届","","NULL")) | BC42: NULL | BD42: =IF($C42="应届",($S42*0.15)/6,IF($C42="往届","","NULL")) | BE42: NULL | BF42: =IF($C42="应届",($S42*0.15)/6,IF($C42="往届","","NULL")) | BG42: NULL | BH42: NULL | BI42: =IF($C42="应届",($S42*0.15)/6,IF($C42="往届","","NULL")) | BJ42: NULL | BK42: =IF($C42="应届",($S42*0.15)/6,IF($C42="往届","","NULL")) | BL42: NULL | BM42: =IF($C42="应届",($S42*0.15)/6,IF($C42="往届","","NULL")) | BN42: NULL | BO42: =IF($C42="应届",($S42*0.15)/6,IF($C42="往届","","NULL")) | BP42: NULL | BQ42: =IF($C42="应届",($S42*0.15)/6,IF($C42="往届","","NULL")) | BR42: NULL | BS42: =IF($C42="应届",($S42*0.15)/6,IF($C42="往届","","NULL")) | BT42: 6 | BU42: 阙丽萍 | BV42: =IF($C42="应届",($S42*0.25)/6,IF($C42="往届",($S42*0.5)/6,"NULL")) -> 0 | BW42: 李希 | BX42: =IF($C42="应届",($S42*0.25)/6,IF($C42="往届",($S42*0.5)/6,"NULL")) -> 0 | BY42: 兰卡布尺 | BZ42: =IF($C42="应届",($S42*0.25)/6,IF($C42="往届",($S42*0.5)/6,"NULL")) -> 0 | CA42: 高贵勇 | CB42: =IF($C42="应届",($S42*0.25)/6,IF($C42="往届",($S42*0.5)/6,"NULL")) -> 0 | CC42: 陈文惠 | CD42: =IF($C42="应届",($S42*0.25)/6,IF($C42="往届",($S42*0.5)/6,"NULL")) -> 0 | CE42: 杨建 | CF42: =IF($C42="应届",($S42*0.25)/6,IF($C42="往届",($S42*0.5)/6,"NULL")) -> 0 | CG42: 6 | CH42: 阙丽萍 | CI42: =IF($C42="应届",($S42*0.25)/6,IF($C42="往届",($S42*0.5)/6,"NULL")) -> 0 | CJ42: 李希 | CK42: =IF($C42="应届",($S42*0.25)/6,IF($C42="往届",($S42*0.5)/6,"NULL")) -> 0 | CL42: 兰卡布尺 | CM42: =IF($C42="应届",($S42*0.25)/6,IF($C42="往届",($S42*0.5)/6,"NULL")) -> 0 | CN42: 高贵勇 | CO42: =IF($C42="应届",($S42*0.25)/6,IF($C42="往届",($S42*0.5)/6,"NULL")) -> 0 | CP42: 杨建 | CQ42: =IF($C42="应届",($S42*0.25)/6,IF($C42="往届",($S42*0.5)/6,"NULL")) -> 0 | CR42: 杨建 | CS42: =IF($C42="应届",($S42*0.25)/6,IF($C42="往届",($S42*0.5)/6,"NULL")) -> 0
... A50: 樊偏初 | B50: 513422200210011517 | C50: 往届 | D50: 理科 | F50: 0 | G50: 0 | H50: 94 | I50: 52 | J50: 73 | K50: 43 | L50: 63 | M50: 68.5 | N50: 394 | O50: =IF(D50="理科",IF(N50>=分数线!$C$2,"本科",""),IF(D50="文科",IF(N50>=分数线!$C$3,"本科",""))) | P50: =IF(F50>0,IF(O50="本科",(2-F50)*36,-(F50)*36),IF(O50="本科",2*36,0)) -> 0 | Q50: =IF(D50="理科",IF(N50>=分数线!$C$6,"重本",""),IF(D50="文科",IF(N50>=分数线!$C$7,"重本",""))) | R50: =IF(G50>0,IF(Q50="重本",G50*72,-(G50)*72),IF(Q50="重本",2*72,0)) -> 0 | S50: =P50+R50 -> 0 | T50: NULL | U50: NULL | V50: =IF($C50="应届",($S50*0.1)/6,IF($C50="往届","","NULL")) | W50: NULL | X50: =IF($C50="应届",($S50*0.1)/6,IF($C50="往届","","NULL")) | Y50: NULL | Z50: =IF($C50="应届",($S50*0.1)/6,IF($C50="往届","","NULL")) | AA50: NULL | AB50: =IF($C50="应届",($S50*0.1)/6,IF($C50="往届","","NULL")) | AC50: NULL | AD50: =IF($C50="应届",($S50*0.1)/6,IF($C50="往届","","NULL")) | AE50: NULL | AF50: =IF($C50="应届",($S50*0.1)/6,IF($C50="往届","","NULL")) | AG50: NULL | AH50: NULL | AI50: =IF($C50="应届",($S50*0.1)/6,IF($C50="往届","","NULL")) | AJ50: NULL | AK50: =IF($C50="应届",($S50*0.1)/6,IF($C50="往届","","NULL")) | AL50: NULL | AM50: =IF($C50="应届",($S50*0.1)/6,IF($C50="往届","","NULL")) | AN50: NULL | AO50: =IF($C50="应届",($S50*0.1)/6,IF($C50="往届","","NULL")) | AP50: NULL | AQ50: =IF($C50="应届",($S50*0.1)/6,IF($C50="往届","","NULL")) | AR50: NULL | AS50: =IF($C50="应届",($S50*0.1)/6,IF($C50="往届","","NULL")) | AT50: NULL | AU50: NULL | AV50: =IF($C50="应届",($S50*0.15)/6,IF($C50="往届","","NULL")) | AW50: NULL | AX50: =IF($C50="应届",($S50*0.15)/6,IF($C50="往届","","NULL")) | AY50: NULL | AZ50: =IF($C50="应届",($S50*0.15)/6,IF($C50="往届","","NULL")) | BA50: NULL | BB50: =IF($C50="应届",($S50*0.15)/6,IF($C50="往届","","NULL")) | BC50: NULL | BD50: =IF($C50="应届",($S50*0.15)/6,IF($C50="往届","","NULL")) | BE50: NULL | BF50: =IF($C50="应届",($S50*0.15)/6,IF($C50="往届","","NULL")) | BG50: NULL | BH50: NULL | BI50: =IF($C50="应届",($S50*0.15)/6,IF($C50="往届","","NULL")) | BJ50: NULL | BK50: =IF($C50="应届",($S50*0.15)/6,IF($C50="往届","","NULL")) | BL50: NULL | BM50: =IF($C50="应届",($S50*0.15)/6,IF($C50="往届","","NULL")) | BN50: NULL | BO50: =IF($C50="应届",($S50*0.15)/6,IF($C50="往届","","NULL")) | BP50: NULL | BQ50: =IF($C50="应届",($S50*0.15)/6,IF($C50="往届","","NULL")) | BR50: NULL | BS50: =IF($C50="应届",($S50*0.15)/6,IF($C50="往届","","NULL")) | BT50: 8 | BU50: 向美娟 | BV50: =IF($C50="应届",($S50*0.25)/6,IF($C50="往届",($S50*0.5)/6,"NULL")) -> 0 | BW50: 胡付松 | BX50: =IF($C50="应届",($S50*0.25)/6,IF($C50="往届",($S50*0.5)/6,"NULL")) -> 0 | BY50: 廖云虹 | BZ50: =IF($C50="应届",($S50*0.25)/6,IF($C50="往届",($S50*0.5)/6,"NULL")) -> 0 | CA50: 兰阿布 | CB50: =IF($C50="应届",($S50*0.25)/6,IF($C50="往届",($S50*0.5)/6,"NULL")) -> 0 | CC50: 叶仁群 | CD50: =IF($C50="应届",($S50*0.25)/6,IF($C50="往届",($S50*0.5)/6,"NULL")) -> 0 | CE50: 杨建 | CF50: =IF($C50="应届",($S50*0.25)/6,IF($C50="往届",($S50*0.5)/6,"NULL")) -> 0 | CG50: 8 | CH50: 向美娟 | CI50: =IF($C50="应届",($S50*0.25)/6,IF($C50="往届",($S50*0.5)/6,"NULL")) -> 0 | CJ50: 胡付松 | CK50: =IF($C50="应届",($S50*0.25)/6,IF($C50="往届",($S50*0.5)/6,"NULL")) -> 0 | CL50: 廖云虹 | CM50: =IF($C50="应届",($S50*0.25)/6,IF($C50="往届",($S50*0.5)/6,"NULL")) -> 0 | CN50: 兰阿布 | CO50: =IF($C50="应届",($S50*0.25)/6,IF($C50="往届",($S50*0.5)/6,"NULL")) -> 0 | CP50: 叶仁群 | CQ50: =IF($C50="应届",($S50*0.25)/6,IF($C50="往届",($S50*0.5)/6,"NULL")) -> 0 | CR50: 杨建 | CS50: =IF($C50="应届",($S50*0.25)/6,IF($C50="往届",($S50*0.5)/6,"NULL")) -> 0
A51: 谭远宏 | B51: 513422200603011518 | C51: 往届 | D51: 理科 | F51: 0 | G51: 0 | H51: 94 | I51: 86 | J51: 76 | K51: 78.5 | L51: 45 | M51: 74.5 | N51: 454 | P51: =IF(F51>0,IF(O51="本科",(2-F51)*36,-(F51)*36),IF(O51="本科",2*36,0)) -> 0 | T51: NULL | U51: NULL | W51: NULL | Y51: NULL | AA51: NULL | AC51: NULL | AE51: NULL | AG51: NULL | AH51: NULL | AJ51: NULL | AL51: NULL | AN51: NULL | AP51: NULL | AR51: NULL | AT51: NULL | AU51: NULL | AW51: NULL | AY51: NULL | BA51: NULL | BC51: NULL | BE51: NULL | BG51: NULL | BH51: NULL | BJ51: NULL | BL51: NULL | BN51: NULL | BP51: NULL | BR51: NULL | BT51: 8 | BU51: 向美娟 | BW51: 胡付松 | BY51: 廖云虹 | CA51: 兰阿布 | CC51: 叶仁群 | CE51: 杨建 | CG51: 8 | CH51: 向美娟 | CJ51: 胡付松 | CL51: 廖云虹 | CN51: 兰阿布 | CP51: 叶仁群 | CR51: 杨建
A52: 李荣清 | B52: 513422200304011710 | C52: 往届 | D52: 理科 | F52: 0 | G52: 0 | H52: 105 | I52: 72 | J52: 50 | K52: 42 | L52: 44 | M52: 65 | N52: 378 | P52: =IF(F52>0,IF(O52="本科",(2-F52)*36,-(F52)*36),IF(O52="本科",2*36,0)) -> 0 | T52: NULL | U52: NULL | W52: NULL | Y52: NULL | AA52: NULL | AC52: NULL | AE52: NULL | AG52: NULL | AH52: NULL | AJ52: NULL | AL52: NULL | AN52: NULL | AP52: NULL | AR52: NULL | AT52: NULL | AU52: NULL | AW52: NULL | AY52: NULL | BA52: NULL | BC52: NULL | BE52: NULL | BG52: NULL | BH52: NULL | BJ52: NULL | BL52: NULL | BN52: NULL | BP52: NULL | BR52: NULL | BT52: 9 | BU52: 张玉婷 | BW52: 黄金华 | BY52: 廖云虹 | CA52: 高贵勇 | CC52: 刘厚江 | CE52: 卢祥 | CG52: 9 | CH52: 张玉婷 | CJ52: 黄金华 | CL52: 廖云虹 | CN52: 高贵勇 | CP52: 刘厚江 | CR52: 卢祥
A53: 罗伍斤 | B53: 51342220001205273X | C53: 往届 | D53: 理科 | F53: 0 | G53: 0 | H53: 88 | I53: 60 | J53: 61 | K53: 31 | L53: 34 | M53: 49 | N53: 323 | P53: =IF(F53>0,IF(O53="本科",(2-F53)*36,-(F53)*36),IF(O53="本科",2*36,0)) -> 0 | T53: NULL | U53: NULL | W53: NULL | Y53: NULL | AA53: NULL | AC53: NULL | AE53: NULL | AG53: NULL | AH53: NULL | AJ53: NULL | AL53: NULL | AN53: NULL | AP53: NULL | AR53: NULL | AT53: NULL | AU53: NULL | AW53: NULL | AY53: NULL | BA53: NULL | BC53: NULL | BE53: NULL | BG53: NULL | BH53: NULL | BJ53: NULL | BL53: NULL | BN53: NULL | BP53: NULL | BR53: NULL | BT53: #N/A | BU53: #N/A | BW53: #N/A | BY53: 廖云虹 | CA53: #N/A | CC53: #N/A | CE53: #N/A | CG53: 9 | CH53: 张玉婷 | CJ53: 黄金华 | CL53: 廖云虹 | CN53: 高贵勇 | CP53: 刘厚江 | CR53: 卢祥
A54: 陈平平 | B54: 513422200503132515 | C54: 往届 | D54: 理科 | F54: 1 | G54: 0 | H54: 101 | I54: 82 | J54: 53 | K54: 62 | L54: 62 | M54: 69.5 | N54: 430 | P54: =IF(F54>0,IF(O54="本科",(2-F54)*36,-(F54)*36),IF(O54="本科",2*36,0)) -> -36 | T54: NULL | U54: NULL | W54: NULL | Y54: NULL | AA54: NULL | AC54: NULL | AE54: NULL | AG54: NULL | AH54: NULL | AJ54: NULL | AL54: NULL | AN54: NULL | AP54: NULL | AR54: NULL | AT54: NULL | AU54: NULL | AW54: NULL | AY54: NULL | BA54: NULL | BC54: NULL | BE54: NULL | BG54: NULL | BH54: NULL | BJ54: NULL | BL54: NULL | BN54: NULL | BP54: NULL | BR54: NULL | BT54: 10 | BU54: 向美娟 | BW54: 潘勇 | BY54: 赵顺诚 | CA54: 王友春 | CC54: 陈文惠 | CE54: 田友米 | CG54: 10 | CH54: 向美娟 | CJ54: 潘勇 | CL54: 赵顺诚 | CN54: 王友春 | CP54: 陈文惠 | CR54: 田友米
A55: 黄寒霜 | B55: 513422200211302922 | C55: 往届 | D55: 理科 | F55: 1 | G55: 0 | H55: 113 | I55: 78 | J55: 111 | K55: 51.5 | L55: 68 | M55: 72 | N55: 494 | P55: =IF(F55>0,IF(O55="本科",(2-F55)*36,-(F55)*36),IF(O55="本科",2*36,0)) -> -36 | T55: NULL | U55: NULL | W55: NULL | Y55: NULL | AA55: NULL | AC55: NULL | AE55: NULL | AG55: NULL | AH55: NULL | AJ55: NULL | AL55: NULL | AN55: NULL | AP55: NULL | AR55: NULL | AT55: NULL | AU55: NULL | AW55: NULL | AY55: NULL | BA55: NULL | BC55: NULL | BE55: NULL | BG55: NULL | BH55: NULL | BJ55: NULL | BL55: NULL | BN55: NULL | BP55: NULL | BR55: NULL | BT55: #N/A | BU55: #N/A | BW55: #N/A | BY55: 赵顺诚 | CA55: #N/A | CC55: #N/A | CE55: #N/A | CG55: 10 | CH55: 向美娟 | CJ55: 潘勇 | CL55: 赵顺诚 | CN55: 王友春 | CP55: 陈文惠 | CR55: 田友米
A56: 李平 | B56: 513422200303252512 | C56: 往届 | D56: 理科 | F56: 1 | G56: 0 | H56: 112 | I56: 69 | J56: 84 | K56: 59 | L56: 58 | M56: 75.5 | N56: 458 | P56: =IF(F56>0,IF(O56="本科",(2-F56)*36,-(F56)*36),IF(O56="本科",2*36,0)) -> -36 | T56: NULL | U56: NULL | W56: NULL | Y56: NULL | AA56: NULL | AC56: NULL | AE56: NULL | AG56: NULL | AH56: NULL | AJ56: NULL | AL56: NULL | AN56: NULL | AP56: NULL | AR56: NULL | AT56: NULL | AU56: NULL | AW56: NULL | AY56: NULL | BA56: NULL | BC56: NULL | BE56: NULL | BG56: NULL | BH56: NULL | BJ56: NULL | BL56: NULL | BN56: NULL | BP56: NULL | BR56: NULL | BT56: 10 | BU56: 向美娟 | BW56: 潘勇 | BY56: 赵顺诚 | CA56: 王友春 | CC56: 陈文惠 | CE56: 田友米 | CG56: 10 | CH56: 向美娟 | CJ56: 潘勇 | CL56: 赵顺诚 | CN56: 王友春 | CP56: 陈文惠 | CR56: 田友米
A57: 李荣融 | B57: 513422200310021720 | C57: 往届 | D57: 理科 | F57: 1 | G57: 0 | H57: 95 | I57: 67 | J57: 66 | K57: 43.5 | L57: 61 | M57: 70 | N57: 403 | P57: =IF(F57>0,IF(O57="本科",(2-F57)*36,-(F57)*36),IF(O57="本科",2*36,0)) -> -36 | T57: NULL | U57: NULL | W57: NULL | Y57: NULL | AA57: NULL | AC57: NULL | AE57: NULL | AG57: NULL | AH57: NULL | AJ57: NULL | AL57: NULL | AN57: NULL | AP57: NULL | AR57: NULL | AT57: NULL | AU57: NULL | AW57: NULL | AY57: NULL | BA57: NULL | BC57: NULL | BE57: NULL | BG57: NULL | BH57: NULL | BJ57: NULL | BL57: NULL | BN57: NULL | BP57: NULL | BR57: NULL | BT57: 7 | BU57: 何光红 | BW57: 潘勇 | BY57: 胡昌燕 | CA57: 兰阿布 | CC57: 刘厚江 | CE57: 杨建 | CG57: 7 | CH57: 何光红 | CJ57: 潘勇 | CL57: 胡昌燕 | CN57: 兰阿布 | CP57: 刘厚江 | CR57: 杨建
A58: 马金银 | B58: 513422200208150032 | C58: 往届 | D58: 理科 | F58: 1 | G58: 0 | H58: 106 | I58: 77 | J58: 55 | K58: 62 | L58: 70.5 | M58: 77.5 | N58: 448 | P58: =IF(F58>0,IF(O58="本科",(2-F58)*36,-(F58)*36),IF(O58="本科",2*36,0)) -> -36 | T58: NULL | U58: NULL | W58: NULL | Y58: NULL | AA58: NULL | AC58: NULL | AE58: NULL | AG58: NULL | AH58: NULL | AJ58: NULL | AL58: NULL | AN58: NULL | AP58: NULL | AR58: NULL | AT58: NULL | AU58: NULL | AW58: NULL | AY58: NULL | BA58: NULL | BC58: NULL | BE58: NULL | BG58: NULL | BH58: NULL | BJ58: NULL | BL58: NULL | BN58: NULL | BP58: NULL | BR58: NULL | BT58: 10 | BU58: 向美娟 | BW58: 潘勇 | BY58: 赵顺诚 | CA58: 王友春 | CC58: 陈文惠 | CE58: 田友米 | CG58: 10 | CH58: 向美娟 | CJ58: 潘勇 | CL58: 赵顺诚 | CN58: 王友春 | CP58: 陈文惠 | CR58: 田友米
A59: 吕伍呷 | B59: 51342220030316212X | C59: 往届 | D59: 理科 | F59: 1 | G59: 0 | H59: 109 | I59: 69 | J59: 99 | K59: 35 | L59: 45 | M59: 44.5 | N59: 402 | P59: =IF(F59>0,IF(O59="本科",(2-F59)*36,-(F59)*36),IF(O59="本科",2*36,0)) -> -36 | T59: NULL | U59: NULL | W59: NULL | Y59: NULL | AA59: NULL | AC59: NULL | AE59: NULL | AG59: NULL | AH59: NULL | AJ59: NULL | AL59: NULL | AN59: NULL | AP59: NULL | AR59: NULL | AT59: NULL | AU59: NULL | AW59: NULL | AY59: NULL | BA59: NULL | BC59: NULL | BE59: NULL | BG59: NULL | BH59: NULL | BJ59: NULL | BL59: NULL | BN59: NULL | BP59: NULL | BR59: NULL | BT59: 10 | BU59: 向美娟 | BW59: 潘勇 | BY59: 赵顺诚 | CA59: 王友春 | CC59: 陈文惠 | CE59: 田友米 | CG59: 10 | CH59: 向美娟 | CJ59: 潘勇 | CL59: 赵顺诚 | CN59: 王友春 | CP59: 陈文惠 | CR59: 田友米
A60: 王次掉莫 | B60: 513422200101146826 | C60: 往届 | D60: 理科 | F60: 1 | G60: 0 | H60: 110 | I60: 94 | J60: 95 | K60: 66.5 | L60: 57.5 | M60: 72.5 | N60: 496 | P60: =IF(F60>0,IF(O60="本科",(2-F60)*36,-(F60)*36),IF(O60="本科",2*36,0)) -> -36 | T60: NULL | U60: NULL | W60: NULL | Y60: NULL | AA60: NULL | AC60: NULL | AE60: NULL | AG60: NULL | AH60: NULL | AJ60: NULL | AL60: NULL | AN60: NULL | AP60: NULL | AR60: NULL | AT60: NULL | AU60: NULL | AW60: NULL | AY60: NULL | BA60: NULL | BC60: NULL | BE60: NULL | BG60: NULL | BH60: NULL | BJ60: NULL | BL60: NULL | BN60: NULL | BP60: NULL | BR60: NULL | BT60: 11 | BU60: 张玉婷 | BW60: 胡付松 | BY60: 程长寿 | CA60: 王友春 | CC60: 叶仁群 | CE60: 田友米 | CG60: 11 | CH60: 张玉婷 | CJ60: 胡付松 | CL60: 程长寿 | CN60: 王友春 | CP60: 叶仁群 | CR60: 田友米
A61: 年吉 | B61: 51342220030902502X | C61: 往届 | D61: 理科 | F61: 1 | G61: 0 | H61: 104 | I61: 72 | J61: 128 | K61: 42.5 | L61: 63.5 | M61: 74.5 | N61: 485 | P61: =IF(F61>0,IF(O61="本科",(2-F61)*36,-(F61)*36),IF(O61="本科",2*36,0)) -> -36 | T61: NULL | U61: NULL | W61: NULL | Y61: NULL | AA61: NULL | AC61: NULL | AE61: NULL | AG61: NULL | AH61: NULL | AJ61: NULL | AL61: NULL | AN61: NULL | AP61: NULL | AR61: NULL | AT61: NULL | AU61: NULL | AW61: NULL | AY61: NULL | BA61: NULL | BC61: NULL | BE61: NULL | BG61: NULL | BH61: NULL | BJ61: NULL | BL61: NULL | BN61: NULL | BP61: NULL | BR61: NULL | BT61: 11 | BU61: 张玉婷 | BW61: 胡付松 | BY61: 程长寿 | CA61: 王友春 | CC61: 叶仁群 | CE61: 田友米 | CG61: 11 | CH61: 张玉婷 | CJ61: 胡付松 | CL61: 程长寿 | CN61: 王友春 | CP61: 叶仁群 | CR61: 田友米
A62: 沈建英 | B62: 513422200107053823 | C62: 往届 | D62: 理科 | F62: 1 | G62: 0 | H62: 101 | I62: 64 | J62: 100 | K62: 51.5 | L62: 54 | M62: 61 | N62: 432 | P62: =IF(F62>0,IF(O62="本科",(2-F62)*36,-(F62)*36),IF(O62="本科",2*36,0)) -> -36 | T62: NULL | U62: NULL | W62: NULL | Y62: NULL | AA62: NULL | AC62: NULL | AE62: NULL | AG62: NULL | AH62: NULL | AJ62: NULL | AL62: NULL | AN62: NULL | AP62: NULL | AR62: NULL | AT62: NULL | AU62: NULL | AW62: NULL | AY62: NULL | BA62: NULL | BC62: NULL | BE62: NULL | BG62: NULL | BH62: NULL | BJ62: NULL | BL62: NULL | BN62: NULL | BP62: NULL | BR62: NULL | BT62: 11 | BU62: 张玉婷 | BW62: 胡付松 | BY62: 程长寿 | CA62: 王友春 | CC62: 叶仁群 | CE62: 田友米 | CG62: 11 | CH62: 张玉婷 | CJ62: 胡付松 | CL62: 程长寿 | CN62: 王友春 | CP62: 叶仁群 | CR62: 田友米
A63: 兰习志 | B63: 513422200510016213 | C63: 往届 | D63: 理科 | F63: 1 | G63: 0 | H63: 97 | I63: 88 | J63: 88 | K63: 63 | L63: 68 | M63: 74 | N63: 478 | P63: =IF(F63>0,IF(O63="本科",(2-F63)*36,-(F63)*36),IF(O63="本科",2*36,0)) -> -36 | T63: NULL | U63: NULL | W63: NULL | Y63: NULL | AA63: NULL | AC63: NULL | AE63: NULL | AG63: NULL | AH63: NULL | AJ63: NULL | AL63: NULL | AN63: NULL | AP63: NULL | AR63: NULL | AT63: NULL | AU63: NULL | AW63: NULL | AY63: NULL | BA63: NULL | BC63: NULL | BE63: NULL | BG63: NULL | BH63: NULL | BJ63: NULL | BL63: NULL | BN63: NULL | BP63: NULL | BR63: NULL | BT63: 11 | BU63: 张玉婷 | BW63: 胡付松 | BY63: 程长寿 | CA63: 王友春 | CC63: 叶仁群 | CE63: 田友米 | CG63: 11 | CH63: 张玉婷 | CJ63: 胡付松 | CL63: 程长寿 | CN63: 王友春 | CP63: 叶仁群 | CR63: 田友米
A64: 吕你色 | B64: 513422200212280016 | C64: 往届 | D64: 理科 | F64: 1 | G64: 0 | H64: 95 | I64: 101 | J64: 84 | K64: 61.5 | L64: 46 | M64: 59 | N64: 447 | P64: =IF(F64>0,IF(O64="本科",(2-F64)*36,-(F64)*36),IF(O64="本科",2*36,0)) -> -36 | T64: NULL | U64: NULL | W64: NULL | Y64: NULL | AA64: NULL | AC64: NULL | AE64: NULL | AG64: NULL | AH64: NULL | AJ64: NULL | AL64: NULL | AN64: NULL | AP64: NULL | AR64: NULL | AT64: NULL | AU64: NULL | AW64: NULL | AY64: NULL | BA64: NULL | BC64: NULL | BE64: NULL | BG64: NULL | BH64: NULL | BJ64: NULL | BL64: NULL | BN64: NULL | BP64: NULL | BR64: NULL | BT64: 11 | BU64: 张玉婷 | BW64: 胡付松 | BY64: 程长寿 | CA64: 王友春 | CC64: 叶仁群 | CE64: 田友米 | CG64: 11 | CH64: 张玉婷 | CJ64: 胡付松 | CL64: 程长寿 | CN64: 王友春 | CP64: 叶仁群 | CR64: 田友米
A65: 杨勇珍 | B65: 513422200302232122 | C65: 往届 | D65: 理科 | F65: 1 | G65: 0 | H65: 105 | I65: 83 | J65: 94 | K65: 48 | L65: 60.5 | M65: 67.5 | N65: 458 | P65: =IF(F65>0,IF(O65="本科",(2-F65)*36,-(F65)*36),IF(O65="本科",2*36,0)) -> -36 | T65: NULL | U65: NULL | W65: NULL | Y65: NULL | AA65: NULL | AC65: NULL | AE65: NULL | AG65: NULL | AH65: NULL | AJ65: NULL | AL65: NULL | AN65: NULL | AP65: NULL | AR65: NULL | AT65: NULL | AU65: NULL | AW65: NULL | AY65: NULL | BA65: NULL | BC65: NULL | BE65: NULL | BG65: NULL | BH65: NULL | BJ65: NULL | BL65: NULL | BN65: NULL | BP65: NULL | BR65: NULL | BT65: 12 | BU65: 朱霞 | BW65: 黄金华 | BY65: 程长寿 | CA65: 兰阿布 | CC65: 郑富全 | CE65: 卢祥 | CG65: 12 | CH65: 朱霞 | CJ65: 黄金华 | CL65: 程长寿 | CN65: 兰阿布 | CP65: 郑富全 | CR65: 卢祥
A66: 马海艳 | B66: 513422200204160022 | C66: 往届 | D66: 理科 | F66: 1 | G66: 0 | H66: 108 | I66: 69 | J66: 91 | K66: 33.5 | L66: 53.5 | M66: 58.5 | N66: 414 | P66: =IF(F66>0,IF(O66="本科",(2-F66)*36,-(F66)*36),IF(O66="本科",2*36,0)) -> -36 | T66: NULL | U66: NULL | W66: NULL | Y66: NULL | AA66: NULL | AC66: NULL | AE66: NULL | AG66: NULL | AH66: NULL | AJ66: NULL | AL66: NULL | AN66: NULL | AP66: NULL | AR66: NULL | AT66: NULL | AU66: NULL | AW66: NULL | AY66: NULL | BA66: NULL | BC66: NULL | BE66: NULL | BG66: NULL | BH66: NULL | BJ66: NULL | BL66: NULL | BN66: NULL | BP66: NULL | BR66: NULL | BT66: 12 | BU66: 朱霞 | BW66: 黄金华 | BY66: 程长寿 | CA66: 兰阿布 | CC66: 郑富全 | CE66: 卢祥 | CG66: 12 | CH66: 朱霞 | CJ66: 黄金华 | CL66: 程长寿 | CN66: 兰阿布 | CP66: 郑富全 | CR66: 卢祥
A67: 卓玛央青 | B67: 513422200401250027 | C67: 往届 | D67: 理科 | F67: 1 | G67: 0 | H67: 116 | I67: 98 | J67: 125 | K67: 82 | L67: 72 | M67: 82.5 | N67: 576 | P67: =IF(F67>0,IF(O67="本科",(2-F67)*36,-(F67)*36),IF(O67="本科",2*36,0)) -> -36 | T67: NULL | U67: NULL | W67: NULL | Y67: NULL | AA67: NULL | AC67: NULL | AE67: NULL | AG67: NULL | AH67: NULL | AJ67: NULL | AL67: NULL | AN67: NULL | AP67: NULL | AR67: NULL | AT67: NULL | AU67: NULL | AW67: NULL | AY67: NULL | BA67: NULL | BC67: NULL | BE67: NULL | BG67: NULL | BH67: NULL | BJ67: NULL | BL67: NULL | BN67: NULL | BP67: NULL | BR67: NULL | BT67: 12 | BU67: 朱霞 | BW67: 黄金华 | BY67: 程长寿 | CA67: 兰阿布 | CC67: 郑富全 | CE67: 卢祥 | CG67: 12 | CH67: 朱霞 | CJ67: 黄金华 | CL67: 程长寿 | CN67: 兰阿布 | CP67: 郑富全 | CR67: 卢祥
... A70: 次尔央珍 | B70: 513422200302136026 | C70: 往届 | D70: 理科 | F70: 1 | G70: 0 | H70: 100 | I70: 82 | J70: 86 | K70: 36 | L70: 49 | M70: 50.5 | N70: 408 | P70: =IF(F70>0,IF(O70="本科",(2-F70)*36,-(F70)*36),IF(O70="本科",2*36,0)) -> -36 | T70: NULL | U70: NULL | W70: NULL | Y70: NULL | AA70: NULL | AC70: NULL | AE70: NULL | AG70: NULL | AH70: NULL | AJ70: NULL | AL70: NULL | AN70: NULL | AP70: NULL | AR70: NULL | AT70: NULL | AU70: NULL | AW70: NULL | AY70: NULL | BA70: NULL | BC70: NULL | BE70: NULL | BG70: NULL | BH70: NULL | BJ70: NULL | BL70: NULL | BN70: NULL | BP70: NULL | BR70: NULL | BT70: 12 | BU70: 朱霞 | BW70: 黄金华 | BY70: 程长寿 | CA70: 兰阿布 | CC70: 郑富全 | CE70: 卢祥 | CG70: 12 | CH70: 朱霞 | CJ70: 黄金华 | CL70: 程长寿 | CN70: 兰阿布 | CP70: 郑富全 | CR70: 卢祥
A71: 鲁绒祝玛 | B71: 513422200410276229 | C71: 应届 | D71: 理科 | F71: 1 | G71: 1 | H71: 119 | I71: 112 | J71: 130 | K71: 70 | L71: 88 | M71: 79 | N71: 598 | O71: =IF(D71="理科",IF(N71>=分数线!$C$2,"本科",""),IF(D71="文科",IF(N71>=分数线!$C$3,"本科",""))) -> 本科 | P71: =IF(F71>0,IF(O71="本科",(2-F71)*36,-(F71)*36),IF(O71="本科",2*36,0)) -> 36 | Q71: =IF(D71="理科",IF(N71>=分数线!$C$6,"重本",""),IF(D71="文科",IF(N71>=分数线!$C$7,"重本",""))) -> 重本 | R71: =IF(G71>0,IF(Q71="重本",G71*72,-(G71)*72),IF(Q71="重本",2*72,0)) -> 72 | S71: =P71+R71 -> 108 | T71: 12 | U71: 何苗 | V71: =IF($C71="应届",($S71*0.1)/6,IF($C71="往届","","NULL")) -> 1.8 | W71: 黄金华 | X71: =IF($C71="应届",($S71*0.1)/6,IF($C71="往届","","NULL")) -> 1.8 | Y71: 程长寿 | Z71: =IF($C71="应届",($S71*0.1)/6,IF($C71="往届","","NULL")) -> 1.8 | AA71: 兰阿布 | AB71: =IF($C71="应届",($S71*0.1)/6,IF($C71="往届","","NULL")) -> 1.8 | AC71: 郑富全 | AD71: =IF($C71="应届",($S71*0.1)/6,IF($C71="往届","","NULL")) -> 1.8 | AE71: 卢祥 | AF71: =IF($C71="应届",($S71*0.1)/6,IF($C71="往届","","NULL")) -> 1.8 | AG71: 12 | AH71: 何苗 | AI71: =IF($C71="应届",($S71*0.1)/6,IF($C71="往届","","NULL")) -> 1.8 | AJ71: 黄金华 | AK71: =IF($C71="应届",($S71*0.1)/6,IF($C71="往届","","NULL")) -> 1.8 | AL71: 程长寿 | AM71: =IF($C71="应届",($S71*0.1)/6,IF($C71="往届","","NULL")) -> 1.8 | AN71: 兰阿布 | AO71: =IF($C71="应届",($S71*0.1)/6,IF($C71="往届","","NULL")) -> 1.8 | AP71: 郑富全 | AQ71: =IF($C71="应届",($S71*0.1)/6,IF($C71="往届","","NULL")) -> 1.8 | AR71: 卢祥 | AS71: =IF($C71="应届",($S71*0.1)/6,IF($C71="往届","","NULL")) -> 1.8 | AT71: 12 | AU71: 朱霞 | AV71: =IF($C71="应届",($S71*0.15)/6,IF($C71="往届","","NULL")) -> 2.7 | AW71: 黄金华 | AX71: =IF($C71="应届",($S71*0.15)/6,IF($C71="往届","","NULL")) -> 2.7 | AY71: 程长寿 | AZ71: =IF($C71="应届",($S71*0.15)/6,IF($C71="往届","","NULL")) -> 2.7 | BA71: 兰阿布 | BB71: =IF($C71="应届",($S71*0.15)/6,IF($C71="往届","","NULL")) -> 2.7 | BC71: 郑富全 | BD71: =IF($C71="应届",($S71*0.15)/6,IF($C71="往届","","NULL")) -> 2.7 | BE71: 卢祥 | BF71: =IF($C71="应届",($S71*0.15)/6,IF($C71="往届","","NULL")) -> 2.7 | BG71: 12 | BH71: 朱霞 | BI71: =IF($C71="应届",($S71*0.15)/6,IF($C71="往届","","NULL")) -> 2.7 | BJ71: 黄金华 | BK71: =IF($C71="应届",($S71*0.15)/6,IF($C71="往届","","NULL")) -> 2.7 | BL71: 程长寿 | BM71: =IF($C71="应届",($S71*0.15)/6,IF($C71="往届","","NULL")) -> 2.7 | BN71: 兰阿布 | BO71: =IF($C71="应届",($S71*0.15)/6,IF($C71="往届","","NULL")) -> 2.7 | BP71: 郑富全 | BQ71: =IF($C71="应届",($S71*0.15)/6,IF($C71="往届","","NULL")) -> 2.7 | BR71: 卢祥 | BS71: =IF($C71="应届",($S71*0.15)/6,IF($C71="往届","","NULL")) -> 2.7 | BT71: 12 | BU71: 朱霞 | BV71: =IF($C71="应届",($S71*0.25)/6,IF($C71="往届",($S71*0.5)/6,"NULL")) -> 4.5 | BW71: 黄金华 | BX71: =IF($C71="应届",($S71*0.25)/6,IF($C71="往届",($S71*0.5)/6,"NULL")) -> 4.5 | BY71: 程长寿 | BZ71: =IF($C71="应届",($S71*0.25)/6,IF($C71="往届",($S71*0.5)/6,"NULL")) -> 4.5 | CA71: 兰阿布 | CB71: =IF($C71="应届",($S71*0.25)/6,IF($C71="往届",($S71*0.5)/6,"NULL")) -> 4.5 | CC71: 郑富全 | CD71: =IF($C71="应届",($S71*0.25)/6,IF($C71="往届",($S71*0.5)/6,"NULL")) -> 4.5 | CE71: 卢祥 | CF71: =IF($C71="应届",($S71*0.25)/6,IF($C71="往届",($S71*0.5)/6,"NULL")) -> 4.5 | CG71: 12 | CH71: 朱霞 | CI71: =IF($C71="应届",($S71*0.25)/6,IF($C71="往届",($S71*0.5)/6,"NULL")) -> 4.5 | CJ71: 黄金华 | CK71: =IF($C71="应届",($S71*0.25)/6,IF($C71="往届",($S71*0.5)/6,"NULL")) -> 4.5 | CL71: 程长寿 | CM71: =IF($C71="应届",($S71*0.25)/6,IF($C71="往届",($S71*0.5)/6,"NULL")) -> 4.5 | CN71: 兰阿布 | CO71: =IF($C71="应届",($S71*0.25)/6,IF($C71="往届",($S71*0.5)/6,"NULL")) -> 4.5 | CP71: 郑富全 | CQ71: =IF($C71="应届",($S71*0.25)/6,IF($C71="往届",($S71*0.5)/6,"NULL")) -> 4.5 | CR71: 卢祥 | CS71: =IF($C71="应届",($S71*0.25)/6,IF($C71="往届",($S71*0.5)/6,"NULL")) -> 4.5
A72: 代稞钰 | B72: 513422200504086215 | C72: 应届 | D72: 理科 | F72: 1 | G72: 1 | H72: 115 | I72: 90 | J72: 130 | K72: 69 | L72: 80 | M72: 77.5 | N72: 564 | O72: =IF(D72="理科",IF(N72>=分数线!$C$2,"本科",""),IF(D72="文科",IF(N72>=分数线!$C$3,"本科",""))) -> 本科 | P72: =IF(F72>0,IF(O72="本科",(2-F72)*36,-(F72)*36),IF(O72="本科",2*36,0)) -> 36 | Q72: =IF(D72="理科",IF(N72>=分数线!$C$6,"重本",""),IF(D72="文科",IF(N72>=分数线!$C$7,"重本",""))) -> 重本 | R72: =IF(G72>0,IF(Q72="重本",G72*72,-(G72)*72),IF(Q72="重本",2*72,0)) -> 72 | S72: =P72+R72 -> 108 | T72: 11 | U72: 张玉婷 | V72: =IF($C72="应届",($S72*0.1)/6,IF($C72="往届","","NULL")) -> 1.8 | W72: 胡付松 | X72: =IF($C72="应届",($S72*0.1)/6,IF($C72="往届","","NULL")) -> 1.8 | Y72: 程长寿 | Z72: =IF($C72="应届",($S72*0.1)/6,IF($C72="往届","","NULL")) -> 1.8 | AA72: 郑永朝 | AB72: =IF($C72="应届",($S72*0.1)/6,IF($C72="往届","","NULL")) -> 1.8 | AC72: 叶仁群 | AD72: =IF($C72="应届",($S72*0.1)/6,IF($C72="往届","","NULL")) -> 1.8 | AE72: 辜英琼 | AF72: =IF($C72="应届",($S72*0.1)/6,IF($C72="往届","","NULL")) -> 1.8 | AG72: 11 | AH72: 张玉婷 | AI72: =IF($C72="应届",($S72*0.1)/6,IF($C72="往届","","NULL")) -> 1.8 | AJ72: 胡付松 | AK72: =IF($C72="应届",($S72*0.1)/6,IF($C72="往届","","NULL")) -> 1.8 | AL72: 程长寿 | AM72: =IF($C72="应届",($S72*0.1)/6,IF($C72="往届","","NULL")) -> 1.8 | AN72: 郑永朝 | AO72: =IF($C72="应届",($S72*0.1)/6,IF($C72="往届","","NULL")) -> 1.8 | AP72: 叶仁群 | AQ72: =IF($C72="应届",($S72*0.1)/6,IF($C72="往届","","NULL")) -> 1.8 | AR72: 辜英琼 | AS72: =IF($C72="应届",($S72*0.1)/6,IF($C72="往届","","NULL")) -> 1.8 | AT72: 11 | AU72: 张玉婷 | AV72: =IF($C72="应届",($S72*0.15)/6,IF($C72="往届","","NULL")) -> 2.7 | AW72: 胡付松 | AX72: =IF($C72="应届",($S72*0.15)/6,IF($C72="往届","","NULL")) -> 2.7 | AY72: 程长寿 | AZ72: =IF($C72="应届",($S72*0.15)/6,IF($C72="往届","","NULL")) -> 2.7 | BA72: 郑永朝 | BB72: =IF($C72="应届",($S72*0.15)/6,IF($C72="往届","","NULL")) -> 2.7 | BC72: 叶仁群 | BD72: =IF($C72="应届",($S72*0.15)/6,IF($C72="往届","","NULL")) -> 2.7 | BE72: 杨建 | BF72: =IF($C72="应届",($S72*0.15)/6,IF($C72="往届","","NULL")) -> 2.7 | BG72: 11 | BH72: 张玉婷 | BI72: =IF($C72="应届",($S72*0.15)/6,IF($C72="往届","","NULL")) -> 2.7 | BJ72: 胡付松 | BK72: =IF($C72="应届",($S72*0.15)/6,IF($C72="往届","","NULL")) -> 2.7 | BL72: 程长寿 | BM72: =IF($C72="应届",($S72*0.15)/6,IF($C72="往届","","NULL")) -> 2.7 | BN72: 郑永朝 | BO72: =IF($C72="应届",($S72*0.15)/6,IF($C72="往届","","NULL")) -> 2.7 | BP72: 叶仁群 | BQ72: =IF($C72="应届",($S72*0.15)/6,IF($C72="往届","","NULL")) -> 2.7 | BR72: 田友米 | BS72: =IF($C72="应届",($S72*0.15)/6,IF($C72="往届","","NULL")) -> 2.7 | BT72: 11 | BU72: 张玉婷 | BV72: =IF($C72="应届",($S72*0.25)/6,IF($C72="往届",($S72*0.5)/6,"NULL")) -> 4.5 | BW72: 胡付松 | BX72: =IF($C72="应届",($S72*0.25)/6,IF($C72="往届",($S72*0.5)/6,"NULL")) -> 4.5 | BY72: 程长寿 | BZ72: =IF($C72="应届",($S72*0.25)/6,IF($C72="往届",($S72*0.5)/6,"NULL")) -> 4.5 | CA72: 王友春 | CB72: =IF($C72="应届",($S72*0.25)/6,IF($C72="往届",($S72*0.5)/6,"NULL")) -> 4.5 | CC72: 叶仁群 | CD72: =IF($C72="应届",($S72*0.25)/6,IF($C72="往届",($S72*0.5)/6,"NULL")) -> 4.5 | CE72: 田友米 | CF72: =IF($C72="应届",($S72*0.25)/6,IF($C72="往届",($S72*0.5)/6,"NULL")) -> 4.5 | CG72: 11 | CH72: 张玉婷 | CI72: =IF($C72="应届",($S72*0.25)/6,IF($C72="往届",($S72*0.5)/6,"NULL")) -> 4.5 | CJ72: 胡付松 | CK72: =IF($C72="应届",($S72*0.25)/6,IF($C72="往届",($S72*0.5)/6,"NULL")) -> 4.5 | CL72: 程长寿 | CM72: =IF($C72="应届",($S72*0.25)/6,IF($C72="往届",($S72*0.5)/6,"NULL")) -> 4.5 | CN72: 王友春 | CO72: =IF($C72="应届",($S72*0.25)/6,IF($C72="往届",($S72*0.5)/6,"NULL")) -> 4.5 | CP72: 叶仁群 | CQ72: =IF($C72="应届",($S72*0.25)/6,IF($C72="往届",($S72*0.5)/6,"NULL")) -> 4.5 | CR72: 田友米 | CS72: =IF($C72="应届",($S72*0.25)/6,IF($C72="往届",($S72*0.5)/6,"NULL")) -> 4.5
A73: 扎西龙布 | B73: 513422200403160914 | C73: 应届 | D73: 理科 | F73: 1 | G73: 0 | H73: 113 | I73: 97 | J73: 118 | K73: 69 | L73: 77 | M73: 82.5 | N73: 557 | O73: =IF(D73="理科",IF(N73>=分数线!$C$2,"本科",""),IF(D73="文科",IF(N73>=分数线!$C$3,"本科",""))) -> 本科 | P73: =IF(F73>0,IF(O73="本科",(2-F73)*36,-(F73)*36),IF(O73="本科",2*36,0)) -> 36 | Q73: =IF(D73="理科",IF(N73>=分数线!$C$6,"重本",""),IF(D73="文科",IF(N73>=分数线!$C$7,"重本",""))) -> 重本 | R73: =IF(G73>0,IF(Q73="重本",G73*72,-(G73)*72),IF(Q73="重本",2*72,0)) -> 144 | S73: =P73+R73 -> 180 | T73: 12 | U73: 何苗 | V73: =IF($C73="应届",($S73*0.1)/6,IF($C73="往届","","NULL")) -> 3 | W73: 黄金华 | X73: =IF($C73="应届",($S73*0.1)/6,IF($C73="往届","","NULL")) -> 3 | Y73: 程长寿 | Z73: =IF($C73="应届",($S73*0.1)/6,IF($C73="往届","","NULL")) -> 3 | AA73: 兰阿布 | AB73: =IF($C73="应届",($S73*0.1)/6,IF($C73="往届","","NULL")) -> 3 | AC73: 郑富全 | AD73: =IF($C73="应届",($S73*0.1)/6,IF($C73="往届","","NULL")) -> 3 | AE73: 卢祥 | AF73: =IF($C73="应届",($S73*0.1)/6,IF($C73="往届","","NULL")) -> 3 | AG73: 12 | AH73: 何苗 | AI73: =IF($C73="应届",($S73*0.1)/6,IF($C73="往届","","NULL")) -> 3 | AJ73: 黄金华 | AK73: =IF($C73="应届",($S73*0.1)/6,IF($C73="往届","","NULL")) -> 3 | AL73: 程长寿 | AM73: =IF($C73="应届",($S73*0.1)/6,IF($C73="往届","","NULL")) -> 3 | AN73: 兰阿布 | AO73: =IF($C73="应届",($S73*0.1)/6,IF($C73="往届","","NULL")) -> 3 | AP73: 郑富全 | AQ73: =IF($C73="应届",($S73*0.1)/6,IF($C73="往届","","NULL")) -> 3 | AR73: 卢祥 | AS73: =IF($C73="应届",($S73*0.1)/6,IF($C73="往届","","NULL")) -> 3 | AT73: 12 | AU73: 朱霞 | AV73: =IF($C73="应届",($S73*0.15)/6,IF($C73="往届","","NULL")) -> 4.5 | AW73: 黄金华 | AX73: =IF($C73="应届",($S73*0.15)/6,IF($C73="往届","","NULL")) -> 4.5 | AY73: 程长寿 | AZ73: =IF($C73="应届",($S73*0.15)/6,IF($C73="往届","","NULL")) -> 4.5 | BA73: 兰阿布 | BB73: =IF($C73="应届",($S73*0.15)/6,IF($C73="往届","","NULL")) -> 4.5 | BC73: 郑富全 | BD73: =IF($C73="应届",($S73*0.15)/6,IF($C73="往届","","NULL")) -> 4.5 | BE73: 卢祥 | BF73: =IF($C73="应届",($S73*0.15)/6,IF($C73="往届","","NULL")) -> 4.5 | BG73: 12 | BH73: 朱霞 | BI73: =IF($C73="应届",($S73*0.15)/6,IF($C73="往届","","NULL")) -> 4.5 | BJ73: 黄金华 | BK73: =IF($C73="应届",($S73*0.15)/6,IF($C73="往届","","NULL")) -> 4.5 | BL73: 程长寿 | BM73: =IF($C73="应届",($S73*0.15)/6,IF($C73="往届","","NULL")) -> 4.5 | BN73: 兰阿布 | BO73: =IF($C73="应届",($S73*0.15)/6,IF($C73="往届","","NULL")) -> 4.5 | BP73: 郑富全 | BQ73: =IF($C73="应届",($S73*0.15)/6,IF($C73="往届","","NULL")) -> 4.5 | BR73: 卢祥 | BS73: =IF($C73="应届",($S73*0.15)/6,IF($C73="往届","","NULL")) -> 4.5 | BT73: 12 | BU73: 朱霞 | BV73: =IF($C73="应届",($S73*0.25)/6,IF($C73="往届",($S73*0.5)/6,"NULL")) -> 7.5 | BW73: 黄金华 | BX73: =IF($C73="应届",($S73*0.25)/6,IF($C73="往届",($S73*0.5)/6,"NULL")) -> 7.5 | BY73: 程长寿 | BZ73: =IF($C73="应届",($S73*0.25)/6,IF($C73="往届",($S73*0.5)/6,"NULL")) -> 7.5 | CA73: 兰阿布 | CB73: =IF($C73="应届",($S73*0.25)/6,IF($C73="往届",($S73*0.5)/6,"NULL")) -> 7.5 | CC73: 郑富全 | CD73: =IF($C73="应届",($S73*0.25)/6,IF($C73="往届",($S73*0.5)/6,"NULL")) -> 7.5 | CE73: 卢祥 | CF73: =IF($C73="应届",($S73*0.25)/6,IF($C73="往届",($S73*0.5)/6,"NULL")) -> 7.5 | CG73: 12 | CH73: 朱霞 | CI73: =IF($C73="应届",($S73*0.25)/6,IF($C73="往届",($S73*0.5)/6,"NULL")) -> 7.5 | CJ73: 黄金华 | CK73: =IF($C73="应届",($S73*0.25)/6,IF($C73="往届",($S73*0.5)/6,"NULL")) -> 7.5 | CL73: 程长寿 | CM73: =IF($C73="应届",($S73*0.25)/6,IF($C73="往届",($S73*0.5)/6,"NULL")) -> 7.5 | CN73: 兰阿布 | CO73: =IF($C73="应届",($S73*0.25)/6,IF($C73="往届",($S73*0.5)/6,"NULL")) -> 7.5 | CP73: 郑富全 | CQ73: =IF($C73="应届",($S73*0.25)/6,IF($C73="往届",($S73*0.5)/6,"NULL")) -> 7.5 | CR73: 卢祥 | CS73: =IF($C73="应届",($S73*0.25)/6,IF($C73="往届",($S73*0.5)/6,"NULL")) -> 7.5
A74: 打珍偏初 | B74: 51342220030803483X | C74: 应届 | D74: 理科 | F74: 1 | G74: 0 | H74: 107 | I74: 114 | J74: 106 | K74: 74.5 | L74: 73 | M74: 72.5 | N74: 547 | O74: =IF(D74="理科",IF(N74>=分数线!$C$2,"本科",""),IF(D74="文科",IF(N74>=分数线!$C$3,"本科",""))) -> 本科 | P74: =IF(F74>0,IF(O74="本科",(2-F74)*36,-(F74)*36),IF(O74="本科",2*36,0)) -> 36 | Q74: =IF(D74="理科",IF(N74>=分数线!$C$6,"重本",""),IF(D74="文科",IF(N74>=分数线!$C$7,"重本",""))) -> 重本 | R74: =IF(G74>0,IF(Q74="重本",G74*72,-(G74)*72),IF(Q74="重本",2*72,0)) -> 144 | S74: =P74+R74 -> 180 | T74: 11 | U74: 张玉婷 | V74: =IF($C74="应届",($S74*0.1)/6,IF($C74="往届","","NULL")) -> 3 | W74: 胡付松 | X74: =IF($C74="应届",($S74*0.1)/6,IF($C74="往届","","NULL")) -> 3 | Y74: 程长寿 | Z74: =IF($C74="应届",($S74*0.1)/6,IF($C74="往届","","NULL")) -> 3 | AA74: 郑永朝 | AB74: =IF($C74="应届",($S74*0.1)/6,IF($C74="往届","","NULL")) -> 3 | AC74: 叶仁群 | AD74: =IF($C74="应届",($S74*0.1)/6,IF($C74="往届","","NULL")) -> 3 | AE74: 辜英琼 | AF74: =IF($C74="应届",($S74*0.1)/6,IF($C74="往届","","NULL")) -> 3 | AG74: 11 | AH74: 张玉婷 | AI74: =IF($C74="应届",($S74*0.1)/6,IF($C74="往届","","NULL")) -> 3 | AJ74: 胡付松 | AK74: =IF($C74="应届",($S74*0.1)/6,IF($C74="往届","","NULL")) -> 3 | AL74: 程长寿 | AM74: =IF($C74="应届",($S74*0.1)/6,IF($C74="往届","","NULL")) -> 3 | AN74: 郑永朝 | AO74: =IF($C74="应届",($S74*0.1)/6,IF($C74="往届","","NULL")) -> 3 | AP74: 叶仁群 | AQ74: =IF($C74="应届",($S74*0.1)/6,IF($C74="往届","","NULL")) -> 3 | AR74: 辜英琼 | AS74: =IF($C74="应届",($S74*0.1)/6,IF($C74="往届","","NULL")) -> 3 | AT74: 11 | AU74: 张玉婷 | AV74: =IF($C74="应届",($S74*0.15)/6,IF($C74="往届","","NULL")) -> 4.5 | AW74: 胡付松 | AX74: =IF($C74="应届",($S74*0.15)/6,IF($C74="往届","","NULL")) -> 4.5 | AY74: 程长寿 | AZ74: =IF($C74="应届",($S74*0.15)/6,IF($C74="往届","","NULL")) -> 4.5 | BA74: 郑永朝 | BB74: =IF($C74="应届",($S74*0.15)/6,IF($C74="往届","","NULL")) -> 4.5 | BC74: 叶仁群 | BD74: =IF($C74="应届",($S74*0.15)/6,IF($C74="往届","","NULL")) -> 4.5 | BE74: 杨建 | BF74: =IF($C74="应届",($S74*0.15)/6,IF($C74="往届","","NULL")) -> 4.5 | BG74: 11 | BH74: 张玉婷 | BI74: =IF($C74="应届",($S74*0.15)/6,IF($C74="往届","","NULL")) -> 4.5 | BJ74: 胡付松 | BK74: =IF($C74="应届",($S74*0.15)/6,IF($C74="往届","","NULL")) -> 4.5 | BL74: 程长寿 | BM74: =IF($C74="应届",($S74*0.15)/6,IF($C74="往届","","NULL")) -> 4.5 | BN74: 郑永朝 | BO74: =IF($C74="应届",($S74*0.15)/6,IF($C74="往届","","NULL")) -> 4.5 | BP74: 叶仁群 | BQ74: =IF($C74="应届",($S74*0.15)/6,IF($C74="往届","","NULL")) -> 4.5 | BR74: 田友米 | BS74: =IF($C74="应届",($S74*0.15)/6,IF($C74="往届","","NULL")) -> 4.5 | BT74: 11 | BU74: 张玉婷 | BV74: =IF($C74="应届",($S74*0.25)/6,IF($C74="往届",($S74*0.5)/6,"NULL")) -> 7.5 | BW74: 胡付松 | BX74: =IF($C74="应届",($S74*0.25)/6,IF($C74="往届",($S74*0.5)/6,"NULL")) -> 7.5 | BY74: 程长寿 | BZ74: =IF($C74="应届",($S74*0.25)/6,IF($C74="往届",($S74*0.5)/6,"NULL")) -> 7.5 | CA74: 王友春 | CB74: =IF($C74="应届",($S74*0.25)/6,IF($C74="往届",($S74*0.5)/6,"NULL")) -> 7.5 | CC74: 叶仁群 | CD74: =IF($C74="应届",($S74*0.25)/6,IF($C74="往届",($S74*0.5)/6,"NULL")) -> 7.5 | CE74: 田友米 | CF74: =IF($C74="应届",($S74*0.25)/6,IF($C74="往届",($S74*0.5)/6,"NULL")) -> 7.5 | CG74: 11 | CH74: 张玉婷 | CI74: =IF($C74="应届",($S74*0.25)/6,IF($C74="往届",($S74*0.5)/6,"NULL")) -> 7.5 | CJ74: 胡付松 | CK74: =IF($C74="应届",($S74*0.25)/6,IF($C74="往届",($S74*0.5)/6,"NULL")) -> 7.5 | CL74: 程长寿 | CM74: =IF($C74="应届",($S74*0.25)/6,IF($C74="往届",($S74*0.5)/6,"NULL")) -> 7.5 | CN74: 王友春 | CO74: =IF($C74="应届",($S74*0.25)/6,IF($C74="往届",($S74*0.5)/6,"NULL")) -> 7.5 | CP74: 叶仁群 | CQ74: =IF($C74="应届",($S74*0.25)/6,IF($C74="往届",($S74*0.5)/6,"NULL")) -> 7.5 | CR74: 田友米 | CS74: =IF($C74="应届",($S74*0.25)/6,IF($C74="往届",($S74*0.5)/6,"NULL")) -> 7.5
A75: 杨阔 | B75: 513422200502250034 | C75: 应届 | D75: 理科 | F75: 1 | G75: 1 | H75: 106 | I75: 103 | J75: 105 | K75: 74.5 | L75: 81.5 | M75: 76 | N75: 546 | O75: =IF(D75="理科",IF(N75>=分数线!$C$2,"本科",""),IF(D75="文科",IF(N75>=分数线!$C$3,"本科",""))) -> 本科 | P75: =IF(F75>0,IF(O75="本科",(2-F75)*36,-(F75)*36),IF(O75="本科",2*36,0)) -> 36 | Q75: =IF(D75="理科",IF(N75>=分数线!$C$6,"重本",""),IF(D75="文科",IF(N75>=分数线!$C$7,"重本",""))) -> 重本 | R75: =IF(G75>0,IF(Q75="重本",G75*72,-(G75)*72),IF(Q75="重本",2*72,0)) -> 72 | S75: =P75+R75 -> 108 | T75: 12 | U75: 何苗 | V75: =IF($C75="应届",($S75*0.1)/6,IF($C75="往届","","NULL")) -> 1.8 | W75: 黄金华 | X75: =IF($C75="应届",($S75*0.1)/6,IF($C75="往届","","NULL")) -> 1.8 | Y75: 聂艳梅 | Z75: =IF($C75="应届",($S75*0.1)/6,IF($C75="往届","","NULL")) -> 1.8 | AA75: 兰阿布 | AB75: =IF($C75="应届",($S75*0.1)/6,IF($C75="往届","","NULL")) -> 1.8 | AC75: 郑富全 | AD75: =IF($C75="应届",($S75*0.1)/6,IF($C75="往届","","NULL")) -> 1.8 | AE75: 卢祥 | AF75: =IF($C75="应届",($S75*0.1)/6,IF($C75="往届","","NULL")) -> 1.8 | AG75: 12 | AH75: 何苗 | AI75: =IF($C75="应届",($S75*0.1)/6,IF($C75="往届","","NULL")) -> 1.8 | AJ75: 黄金华 | AK75: =IF($C75="应届",($S75*0.1)/6,IF($C75="往届","","NULL")) -> 1.8 | AL75: 聂艳梅 | AM75: =IF($C75="应届",($S75*0.1)/6,IF($C75="往届","","NULL")) -> 1.8 | AN75: 兰阿布 | AO75: =IF($C75="应届",($S75*0.1)/6,IF($C75="往届","","NULL")) -> 1.8 | AP75: 郑富全 | AQ75: =IF($C75="应届",($S75*0.1)/6,IF($C75="往届","","NULL")) -> 1.8 | AR75: 卢祥 | AS75: =IF($C75="应届",($S75*0.1)/6,IF($C75="往届","","NULL")) -> 1.8 | AT75: 12 | AU75: 朱霞 | AV75: =IF($C75="应届",($S75*0.15)/6,IF($C75="往届","","NULL")) -> 2.7 | AW75: 黄金华 | AX75: =IF($C75="应届",($S75*0.15)/6,IF($C75="往届","","NULL")) -> 2.7 | AY75: 程长寿 | AZ75: =IF($C75="应届",($S75*0.15)/6,IF($C75="往届","","NULL")) -> 2.7 | BA75: 兰阿布 | BB75: =IF($C75="应届",($S75*0.15)/6,IF($C75="往届","","NULL")) -> 2.7 | BC75: 郑富全 | BD75: =IF($C75="应届",($S75*0.15)/6,IF($C75="往届","","NULL")) -> 2.7 | BE75: 卢祥 | BF75: =IF($C75="应届",($S75*0.15)/6,IF($C75="往届","","NULL")) -> 2.7 | BG75: 12 | BH75: 朱霞 | BI75: =IF($C75="应届",($S75*0.15)/6,IF($C75="往届","","NULL")) -> 2.7 | BJ75: 黄金华 | BK75: =IF($C75="应届",($S75*0.15)/6,IF($C75="往届","","NULL")) -> 2.7 | BL75: 程长寿 | BM75: =IF($C75="应届",($S75*0.15)/6,IF($C75="往届","","NULL")) -> 2.7 | BN75: 兰阿布 | BO75: =IF($C75="应届",($S75*0.15)/6,IF($C75="往届","","NULL")) -> 2.7 | BP75: 郑富全 | BQ75: =IF($C75="应届",($S75*0.15)/6,IF($C75="往届","","NULL")) -> 2.7 | BR75: 卢祥 | BS75: =IF($C75="应届",($S75*0.15)/6,IF($C75="往届","","NULL")) -> 2.7 | BT75: 12 | BU75: 朱霞 | BV75: =IF($C75="应届",($S75*0.25)/6,IF($C75="往届",($S75*0.5)/6,"NULL")) -> 4.5 | BW75: 黄金华 | BX75: =IF($C75="应届",($S75*0.25)/6,IF($C75="往届",($S75*0.5)/6,"NULL")) -> 4.5 | BY75: 程长寿 | BZ75: =IF($C75="应届",($S75*0.25)/6,IF($C75="往届",($S75*0.5)/6,"NULL")) -> 4.5 | CA75: 兰阿布 | CB75: =IF($C75="应届",($S75*0.25)/6,IF($C75="往届",($S75*0.5)/6,"NULL")) -> 4.5 | CC75: 郑富全 | CD75: =IF($C75="应届",($S75*0.25)/6,IF($C75="往届",($S75*0.5)/6,"NULL")) -> 4.5 | CE75: 卢祥 | CF75: =IF($C75="应届",($S75*0.25)/6,IF($C75="往届",($S75*0.5)/6,"NULL")) -> 4.5 | CG75: 12 | CH75: 朱霞 | CI75: =IF($C75="应届",($S75*0.25)/6,IF($C75="往届",($S75*0.5)/6,"NULL")) -> 4.5 | CJ75: 黄金华 | CK75: =IF($C75="应届",($S75*0.25)/6,IF($C75="往届",($S75*0.5)/6,"NULL")) -> 4.5 | CL75: 程长寿 | CM75: =IF($C75="应届",($S75*0.25)/6,IF($C75="往届",($S75*0.5)/6,"NULL")) -> 4.5 | CN75: 兰阿布 | CO75: =IF($C75="应届",($S75*0.25)/6,IF($C75="往届",($S75*0.5)/6,"NULL")) -> 4.5 | CP75: 郑富全 | CQ75: =IF($C75="应届",($S75*0.25)/6,IF($C75="往届",($S75*0.5)/6,"NULL")) -> 4.5 | CR75: 卢祥 | CS75: =IF($C75="应届",($S75*0.25)/6,IF($C75="往届",($S75*0.5)/6,"NULL")) -> 4.5
A76: 马瑞 | B76: 51342220060801171X | C76: 应届 | D76: 理科 | F76: 1 | G76: 0 | H76: 108 | I76: 96 | J76: 110 | K76: 72 | L76: 75 | M76: 81.5 | N76: 543 | O76: =IF(D76="理科",IF(N76>=分数线!$C$2,"本科",""),IF(D76="文科",IF(N76>=分数线!$C$3,"本科",""))) -> 本科 | P76: =IF(F76>0,IF(O76="本科",(2-F76)*36,-(F76)*36),IF(O76="本科",2*36,0)) -> 36 | Q76: =IF(D76="理科",IF(N76>=分数线!$C$6,"重本",""),IF(D76="文科",IF(N76>=分数线!$C$7,"重本",""))) -> 重本 | R76: =IF(G76>0,IF(Q76="重本",G76*72,-(G76)*72),IF(Q76="重本",2*72,0)) -> 144 | S76: =P76+R76 -> 180 | T76: 10 | U76: 向美娟 | V76: =IF($C76="应届",($S76*0.1)/6,IF($C76="往届","","NULL")) -> 3 | W76: 徐万雄 | X76: =IF($C76="应届",($S76*0.1)/6,IF($C76="往届","","NULL")) -> 3 | Y76: 聂艳梅 | Z76: =IF($C76="应届",($S76*0.1)/6,IF($C76="往届","","NULL")) -> 3 | AA76: 郑永朝 | AB76: =IF($C76="应届",($S76*0.1)/6,IF($C76="往届","","NULL")) -> 3 | AC76: 陈文惠 | AD76: =IF($C76="应届",($S76*0.1)/6,IF($C76="往届","","NULL")) -> 3 | AE76: 田友米 | AF76: =IF($C76="应届",($S76*0.1)/6,IF($C76="往届","","NULL")) -> 3 | AG76: 10 | AH76: 向美娟 | AI76: =IF($C76="应届",($S76*0.1)/6,IF($C76="往届","","NULL")) -> 3 | AJ76: 徐万雄 | AK76: =IF($C76="应届",($S76*0.1)/6,IF($C76="往届","","NULL")) -> 3 | AL76: 聂艳梅 | AM76: =IF($C76="应届",($S76*0.1)/6,IF($C76="往届","","NULL")) -> 3 | AN76: 郑永朝 | AO76: =IF($C76="应届",($S76*0.1)/6,IF($C76="往届","","NULL")) -> 3 | AP76: 陈文惠 | AQ76: =IF($C76="应届",($S76*0.1)/6,IF($C76="往届","","NULL")) -> 3 | AR76: 田友米 | AS76: =IF($C76="应届",($S76*0.1)/6,IF($C76="往届","","NULL")) -> 3 | AT76: 10 | AU76: 向美娟 | AV76: =IF($C76="应届",($S76*0.15)/6,IF($C76="往届","","NULL")) -> 4.5 | AW76: 徐万雄 | AX76: =IF($C76="应届",($S76*0.15)/6,IF($C76="往届","","NULL")) -> 4.5 | AY76: 赵顺诚 | AZ76: =IF($C76="应届",($S76*0.15)/6,IF($C76="往届","","NULL")) -> 4.5 | BA76: 王玉强 | BB76: =IF($C76="应届",($S76*0.15)/6,IF($C76="往届","","NULL")) -> 4.5 | BC76: 陈文惠 | BD76: =IF($C76="应届",($S76*0.15)/6,IF($C76="往届","","NULL")) -> 4.5 | BE76: 田友米 | BF76: =IF($C76="应届",($S76*0.15)/6,IF($C76="往届","","NULL")) -> 4.5 | BG76: 10 | BH76: 向美娟 | BI76: =IF($C76="应届",($S76*0.15)/6,IF($C76="往届","","NULL")) -> 4.5 | BJ76: 徐万雄 | BK76: =IF($C76="应届",($S76*0.15)/6,IF($C76="往届","","NULL")) -> 4.5 | BL76: 赵顺诚 | BM76: =IF($C76="应届",($S76*0.15)/6,IF($C76="往届","","NULL")) -> 4.5 | BN76: 郑永朝 | BO76: =IF($C76="应届",($S76*0.15)/6,IF($C76="往届","","NULL")) -> 4.5 | BP76: 陈文惠 | BQ76: =IF($C76="应届",($S76*0.15)/6,IF($C76="往届","","NULL")) -> 4.5 | BR76: 田友米 | BS76: =IF($C76="应届",($S76*0.15)/6,IF($C76="往届","","NULL")) -> 4.5 | BT76: 10 | BU76: 向美娟 | BV76: =IF($C76="应届",($S76*0.25)/6,IF($C76="往届",($S76*0.5)/6,"NULL")) -> 7.5 | BW76: 潘勇 | BX76: =IF($C76="应届",($S76*0.25)/6,IF($C76="往届",($S76*0.5)/6,"NULL")) -> 7.5 | BY76: 赵顺诚 | BZ76: =IF($C76="应届",($S76*0.25)/6,IF($C76="往届",($S76*0.5)/6,"NULL")) -> 7.5 | CA76: 王友春 | CB76: =IF($C76="应届",($S76*0.25)/6,IF($C76="往届",($S76*0.5)/6,"NULL")) -> 7.5 | CC76: 陈文惠 | CD76: =IF($C76="应届",($S76*0.25)/6,IF($C76="往届",($S76*0.5)/6,"NULL")) -> 7.5 | CE76: 田友米 | CF76: =IF($C76="应届",($S76*0.25)/6,IF($C76="往届",($S76*0.5)/6,"NULL")) -> 7.5 | CG76: 10 | CH76: 向美娟 | CI76: =IF($C76="应届",($S76*0.25)/6,IF($C76="往届",($S76*0.5)/6,"NULL")) -> 7.5 | CJ76: 潘勇 | CK76: =IF($C76="应届",($S76*0.25)/6,IF($C76="往届",($S76*0.5)/6,"NULL")) -> 7.5 | CL76: 赵顺诚 | CM76: =IF($C76="应届",($S76*0.25)/6,IF($C76="往届",($S76*0.5)/6,"NULL")) -> 7.5 | CN76: 王友春 | CO76: =IF($C76="应届",($S76*0.25)/6,IF($C76="往届",($S76*0.5)/6,"NULL")) -> 7.5 | CP76: 陈文惠 | CQ76: =IF($C76="应届",($S76*0.25)/6,IF($C76="往届",($S76*0.5)/6,"NULL")) -> 7.5 | CR76: 田友米 | CS76: =IF($C76="应届",($S76*0.25)/6,IF($C76="往届",($S76*0.5)/6,"NULL")) -> 7.5
A77: 鲁伍几 | B77: 51342220060110151X | C77: 应届 | D77: 理科 | F77: 1 | G77: 1 | H77: 101 | I77: 113 | J77: 79 | K77: 101 | L77: 76.5 | M77: 72 | N77: 543 | O77: =IF(D77="理科",IF(N77>=分数线!$C$2,"本科",""),IF(D77="文科",IF(N77>=分数线!$C$3,"本科",""))) -> 本科 | P77: =IF(F77>0,IF(O77="本科",(2-F77)*36,-(F77)*36),IF(O77="本科",2*36,0)) -> 36 | Q77: =IF(D77="理科",IF(N77>=分数线!$C$6,"重本",""),IF(D77="文科",IF(N77>=分数线!$C$7,"重本",""))) -> 重本 | R77: =IF(G77>0,IF(Q77="重本",G77*72,-(G77)*72),IF(Q77="重本",2*72,0)) -> 72 | S77: =P77+R77 -> 108 | T77: 12 | U77: 何苗 | V77: =IF($C77="应届",($S77*0.1)/6,IF($C77="往届","","NULL")) -> 1.8 | W77: 黄金华 | X77: =IF($C77="应届",($S77*0.1)/6,IF($C77="往届","","NULL")) -> 1.8 | Y77: 聂艳梅 | Z77: =IF($C77="应届",($S77*0.1)/6,IF($C77="往届","","NULL")) -> 1.8 | AA77: 兰阿布 | AB77: =IF($C77="应届",($S77*0.1)/6,IF($C77="往届","","NULL")) -> 1.8 | AC77: 郑富全 | AD77: =IF($C77="应届",($S77*0.1)/6,IF($C77="往届","","NULL")) -> 1.8 | AE77: 卢祥 | AF77: =IF($C77="应届",($S77*0.1)/6,IF($C77="往届","","NULL")) -> 1.8 | AG77: 12 | AH77: 何苗 | AI77: =IF($C77="应届",($S77*0.1)/6,IF($C77="往届","","NULL")) -> 1.8 | AJ77: 黄金华 | AK77: =IF($C77="应届",($S77*0.1)/6,IF($C77="往届","","NULL")) -> 1.8 | AL77: 聂艳梅 | AM77: =IF($C77="应届",($S77*0.1)/6,IF($C77="往届","","NULL")) -> 1.8 | AN77: 兰阿布 | AO77: =IF($C77="应届",($S77*0.1)/6,IF($C77="往届","","NULL")) -> 1.8 | AP77: 郑富全 | AQ77: =IF($C77="应届",($S77*0.1)/6,IF($C77="往届","","NULL")) -> 1.8 | AR77: 卢祥 | AS77: =IF($C77="应届",($S77*0.1)/6,IF($C77="往届","","NULL")) -> 1.8 | AT77: 12 | AU77: 朱霞 | AV77: =IF($C77="应届",($S77*0.15)/6,IF($C77="往届","","NULL")) -> 2.7 | AW77: 黄金华 | AX77: =IF($C77="应届",($S77*0.15)/6,IF($C77="往届","","NULL")) -> 2.7 | AY77: 程长寿 | AZ77: =IF($C77="应届",($S77*0.15)/6,IF($C77="往届","","NULL")) -> 2.7 | BA77: 兰阿布 | BB77: =IF($C77="应届",($S77*0.15)/6,IF($C77="往届","","NULL")) -> 2.7 | BC77: 郑富全 | BD77: =IF($C77="应届",($S77*0.15)/6,IF($C77="往届","","NULL")) -> 2.7 | BE77: 卢祥 | BF77: =IF($C77="应届",($S77*0.15)/6,IF($C77="往届","","NULL")) -> 2.7 | BG77: 12 | BH77: 朱霞 | BI77: =IF($C77="应届",($S77*0.15)/6,IF($C77="往届","","NULL")) -> 2.7 | BJ77: 黄金华 | BK77: =IF($C77="应届",($S77*0.15)/6,IF($C77="往届","","NULL")) -> 2.7 | BL77: 程长寿 | BM77: =IF($C77="应届",($S77*0.15)/6,IF($C77="往届","","NULL")) -> 2.7 | BN77: 兰阿布 | BO77: =IF($C77="应届",($S77*0.15)/6,IF($C77="往届","","NULL")) -> 2.7 | BP77: 郑富全 | BQ77: =IF($C77="应届",($S77*0.15)/6,IF($C77="往届","","NULL")) -> 2.7 | BR77: 卢祥 | BS77: =IF($C77="应届",($S77*0.15)/6,IF($C77="往届","","NULL")) -> 2.7 | BT77: 12 | BU77: 朱霞 | BV77: =IF($C77="应届",($S77*0.25)/6,IF($C77="往届",($S77*0.5)/6,"NULL")) -> 4.5 | BW77: 黄金华 | BX77: =IF($C77="应届",($S77*0.25)/6,IF($C77="往届",($S77*0.5)/6,"NULL")) -> 4.5 | BY77: 程长寿 | BZ77: =IF($C77="应届",($S77*0.25)/6,IF($C77="往届",($S77*0.5)/6,"NULL")) -> 4.5 | CA77: 兰阿布 | CB77: =IF($C77="应届",($S77*0.25)/6,IF($C77="往届",($S77*0.5)/6,"NULL")) -> 4.5 | CC77: 郑富全 | CD77: =IF($C77="应届",($S77*0.25)/6,IF($C77="往届",($S77*0.5)/6,"NULL")) -> 4.5 | CE77: 卢祥 | CF77: =IF($C77="应届",($S77*0.25)/6,IF($C77="往届",($S77*0.5)/6,"NULL")) -> 4.5 | CG77: 12 | CH77: 朱霞 | CI77: =IF($C77="应届",($S77*0.25)/6,IF($C77="往届",($S77*0.5)/6,"NULL")) -> 4.5 | CJ77: 黄金华 | CK77: =IF($C77="应届",($S77*0.25)/6,IF($C77="往届",($S77*0.5)/6,"NULL")) -> 4.5 | CL77: 程长寿 | CM77: =IF($C77="应届",($S77*0.25)/6,IF($C77="往届",($S77*0.5)/6,"NULL")) -> 4.5 | CN77: 兰阿布 | CO77: =IF($C77="应届",($S77*0.25)/6,IF($C77="往届",($S77*0.5)/6,"NULL")) -> 4.5 | CP77: 郑富全 | CQ77: =IF($C77="应届",($S77*0.25)/6,IF($C77="往届",($S77*0.5)/6,"NULL")) -> 4.5 | CR77: 卢祥 | CS77: =IF($C77="应届",($S77*0.25)/6,IF($C77="往届",($S77*0.5)/6,"NULL")) -> 4.5
A78: 马志锋 | B78: 513422200410054618 | C78: 应届 | D78: 理科 | F78: 1 | G78: 0 | H78: 110 | I78: 93 | J78: 116 | K78: 77.5 | L78: 62 | M78: 80 | N78: 539 | O78: =IF(D78="理科",IF(N78>=分数线!$C$2,"本科",""),IF(D78="文科",IF(N78>=分数线!$C$3,"本科",""))) -> 本科 | P78: =IF(F78>0,IF(O78="本科",(2-F78)*36,-(F78)*36),IF(O78="本科",2*36,0)) -> 36 | Q78: =IF(D78="理科",IF(N78>=分数线!$C$6,"重本",""),IF(D78="文科",IF(N78>=分数线!$C$7,"重本",""))) -> 重本 | R78: =IF(G78>0,IF(Q78="重本",G78*72,-(G78)*72),IF(Q78="重本",2*72,0)) -> 144 | S78: =P78+R78 -> 180 | T78: 10 | U78: 向美娟 | V78: =IF($C78="应届",($S78*0.1)/6,IF($C78="往届","","NULL")) -> 3 | W78: 徐万雄 | X78: =IF($C78="应届",($S78*0.1)/6,IF($C78="往届","","NULL")) -> 3 | Y78: 聂艳梅 | Z78: =IF($C78="应届",($S78*0.1)/6,IF($C78="往届","","NULL")) -> 3 | AA78: 郑永朝 | AB78: =IF($C78="应届",($S78*0.1)/6,IF($C78="往届","","NULL")) -> 3 | AC78: 陈文惠 | AD78: =IF($C78="应届",($S78*0.1)/6,IF($C78="往届","","NULL")) -> 3 | AE78: 田友米 | AF78: =IF($C78="应届",($S78*0.1)/6,IF($C78="往届","","NULL")) -> 3 | AG78: 10 | AH78: 向美娟 | AI78: =IF($C78="应届",($S78*0.1)/6,IF($C78="往届","","NULL")) -> 3 | AJ78: 徐万雄 | AK78: =IF($C78="应届",($S78*0.1)/6,IF($C78="往届","","NULL")) -> 3 | AL78: 聂艳梅 | AM78: =IF($C78="应届",($S78*0.1)/6,IF($C78="往届","","NULL")) -> 3 | AN78: 郑永朝 | AO78: =IF($C78="应届",($S78*0.1)/6,IF($C78="往届","","NULL")) -> 3 | AP78: 陈文惠 | AQ78: =IF($C78="应届",($S78*0.1)/6,IF($C78="往届","","NULL")) -> 3 | AR78: 田友米 | AS78: =IF($C78="应届",($S78*0.1)/6,IF($C78="往届","","NULL")) -> 3 | AT78: 10 | AU78: 向美娟 | AV78: =IF($C78="应届",($S78*0.15)/6,IF($C78="往届","","NULL")) -> 4.5 | AW78: 徐万雄 | AX78: =IF($C78="应届",($S78*0.15)/6,IF($C78="往届","","NULL")) -> 4.5 | AY78: 赵顺诚 | AZ78: =IF($C78="应届",($S78*0.15)/6,IF($C78="往届","","NULL")) -> 4.5 | BA78: 王玉强 | BB78: =IF($C78="应届",($S78*0.15)/6,IF($C78="往届","","NULL")) -> 4.5 | BC78: 陈文惠 | BD78: =IF($C78="应届",($S78*0.15)/6,IF($C78="往届","","NULL")) -> 4.5 | BE78: 田友米 | BF78: =IF($C78="应届",($S78*0.15)/6,IF($C78="往届","","NULL")) -> 4.5 | BG78: 10 | BH78: 向美娟 | BI78: =IF($C78="应届",($S78*0.15)/6,IF($C78="往届","","NULL")) -> 4.5 | BJ78: 徐万雄 | BK78: =IF($C78="应届",($S78*0.15)/6,IF($C78="往届","","NULL")) -> 4.5 | BL78: 赵顺诚 | BM78: =IF($C78="应届",($S78*0.15)/6,IF($C78="往届","","NULL")) -> 4.5 | BN78: 郑永朝 | BO78: =IF($C78="应届",($S78*0.15)/6,IF($C78="往届","","NULL")) -> 4.5 | BP78: 陈文惠 | BQ78: =IF($C78="应届",($S78*0.15)/6,IF($C78="往届","","NULL")) -> 4.5 | BR78: 田友米 | BS78: =IF($C78="应届",($S78*0.15)/6,IF($C78="往届","","NULL")) -> 4.5 | BT78: 10 | BU78: 向美娟 | BV78: =IF($C78="应届",($S78*0.25)/6,IF($C78="往届",($S78*0.5)/6,"NULL")) -> 7.5 | BW78: 潘勇 | BX78: =IF($C78="应届",($S78*0.25)/6,IF($C78="往届",($S78*0.5)/6,"NULL")) -> 7.5 | BY78: 赵顺诚 | BZ78: =IF($C78="应届",($S78*0.25)/6,IF($C78="往届",($S78*0.5)/6,"NULL")) -> 7.5 | CA78: 王友春 | CB78: =IF($C78="应届",($S78*0.25)/6,IF($C78="往届",($S78*0.5)/6,"NULL")) -> 7.5 | CC78: 陈文惠 | CD78: =IF($C78="应届",($S78*0.25)/6,IF($C78="往届",($S78*0.5)/6,"NULL")) -> 7.5 | CE78: 田友米 | CF78: =IF($C78="应届",($S78*0.25)/6,IF($C78="往届",($S78*0.5)/6,"NULL")) -> 7.5 | CG78: 10 | CH78: 向美娟 | CI78: =IF($C78="应届",($S78*0.25)/6,IF($C78="往届",($S78*0.5)/6,"NULL")) -> 7.5 | CJ78: 潘勇 | CK78: =IF($C78="应届",($S78*0.25)/6,IF($C78="往届",($S78*0.5)/6,"NULL")) -> 7.5 | CL78: 赵顺诚 | CM78: =IF($C78="应届",($S78*0.25)/6,IF($C78="往届",($S78*0.5)/6,"NULL")) -> 7.5 | CN78: 王友春 | CO78: =IF($C78="应届",($S78*0.25)/6,IF($C78="往届",($S78*0.5)/6,"NULL")) -> 7.5 | CP78: 陈文惠 | CQ78: =IF($C78="应届",($S78*0.25)/6,IF($C78="往届",($S78*0.5)/6,"NULL")) -> 7.5 | CR78: 田友米 | CS78: =IF($C78="应届",($S78*0.25)/6,IF($C78="往届",($S78*0.5)/6,"NULL")) -> 7.5
A79: 罗伍子 | B79: 513422200609193818 | C79: 应届 | D79: 理科 | F79: 1 | G79: 0 | H79: 115 | I79: 100 | J79: 117 | K79: 73.5 | L79: 65 | M79: 66 | N79: 537 | O79: =IF(D79="理科",IF(N79>=分数线!$C$2,"本科",""),IF(D79="文科",IF(N79>=分数线!$C$3,"本科",""))) -> 本科 | P79: =IF(F79>0,IF(O79="本科",(2-F79)*36,-(F79)*36),IF(O79="本科",2*36,0)) -> 36 | Q79: =IF(D79="理科",IF(N79>=分数线!$C$6,"重本",""),IF(D79="文科",IF(N79>=分数线!$C$7,"重本",""))) -> 重本 | R79: =IF(G79>0,IF(Q79="重本",G79*72,-(G79)*72),IF(Q79="重本",2*72,0)) -> 144 | S79: =P79+R79 -> 180 | T79: 12 | U79: 何苗 | V79: =IF($C79="应届",($S79*0.1)/6,IF($C79="往届","","NULL")) -> 3 | W79: 黄金华 | X79: =IF($C79="应届",($S79*0.1)/6,IF($C79="往届","","NULL")) -> 3 | Y79: 程长寿 | Z79: =IF($C79="应届",($S79*0.1)/6,IF($C79="往届","","NULL")) -> 3 | AA79: 兰阿布 | AB79: =IF($C79="应届",($S79*0.1)/6,IF($C79="往届","","NULL")) -> 3 | AC79: 郑富全 | AD79: =IF($C79="应届",($S79*0.1)/6,IF($C79="往届","","NULL")) -> 3 | AE79: 卢祥 | AF79: =IF($C79="应届",($S79*0.1)/6,IF($C79="往届","","NULL")) -> 3 | AG79: 12 | AH79: 何苗 | AI79: =IF($C79="应届",($S79*0.1)/6,IF($C79="往届","","NULL")) -> 3 | AJ79: 黄金华 | AK79: =IF($C79="应届",($S79*0.1)/6,IF($C79="往届","","NULL")) -> 3 | AL79: 程长寿 | AM79: =IF($C79="应届",($S79*0.1)/6,IF($C79="往届","","NULL")) -> 3 | AN79: 兰阿布 | AO79: =IF($C79="应届",($S79*0.1)/6,IF($C79="往届","","NULL")) -> 3 | AP79: 郑富全 | AQ79: =IF($C79="应届",($S79*0.1)/6,IF($C79="往届","","NULL")) -> 3 | AR79: 卢祥 | AS79: =IF($C79="应届",($S79*0.1)/6,IF($C79="往届","","NULL")) -> 3 | AT79: 12 | AU79: 朱霞 | AV79: =IF($C79="应届",($S79*0.15)/6,IF($C79="往届","","NULL")) -> 4.5 | AW79: 黄金华 | AX79: =IF($C79="应届",($S79*0.15)/6,IF($C79="往届","","NULL")) -> 4.5 | AY79: 程长寿 | AZ79: =IF($C79="应届",($S79*0.15)/6,IF($C79="往届","","NULL")) -> 4.5 | BA79: 兰阿布 | BB79: =IF($C79="应届",($S79*0.15)/6,IF($C79="往届","","NULL")) -> 4.5 | BC79: 郑富全 | BD79: =IF($C79="应届",($S79*0.15)/6,IF($C79="往届","","NULL")) -> 4.5 | BE79: 卢祥 | BF79: =IF($C79="应届",($S79*0.15)/6,IF($C79="往届","","NULL")) -> 4.5 | BG79: 12 | BH79: 朱霞 | BI79: =IF($C79="应届",($S79*0.15)/6,IF($C79="往届","","NULL")) -> 4.5 | BJ79: 黄金华 | BK79: =IF($C79="应届",($S79*0.15)/6,IF($C79="往届","","NULL")) -> 4.5 | BL79: 程长寿 | BM79: =IF($C79="应届",($S79*0.15)/6,IF($C79="往届","","NULL")) -> 4.5 | BN79: 兰阿布 | BO79: =IF($C79="应届",($S79*0.15)/6,IF($C79="往届","","NULL")) -> 4.5 | BP79: 郑富全 | BQ79: =IF($C79="应届",($S79*0.15)/6,IF($C79="往届","","NULL")) -> 4.5 | BR79: 卢祥 | BS79: =IF($C79="应届",($S79*0.15)/6,IF($C79="往届","","NULL")) -> 4.5 | BT79: 12 | BU79: 朱霞 | BV79: =IF($C79="应届",($S79*0.25)/6,IF($C79="往届",($S79*0.5)/6,"NULL")) -> 7.5 | BW79: 黄金华 | BX79: =IF($C79="应届",($S79*0.25)/6,IF($C79="往届",($S79*0.5)/6,"NULL")) -> 7.5 | BY79: 程长寿 | BZ79: =IF($C79="应届",($S79*0.25)/6,IF($C79="往届",($S79*0.5)/6,"NULL")) -> 7.5 | CA79: 兰阿布 | CB79: =IF($C79="应届",($S79*0.25)/6,IF($C79="往届",($S79*0.5)/6,"NULL")) -> 7.5 | CC79: 郑富全 | CD79: =IF($C79="应届",($S79*0.25)/6,IF($C79="往届",($S79*0.5)/6,"NULL")) -> 7.5 | CE79: 卢祥 | CF79: =IF($C79="应届",($S79*0.25)/6,IF($C79="往届",($S79*0.5)/6,"NULL")) -> 7.5 | CG79: 12 | CH79: 朱霞 | CI79: =IF($C79="应届",($S79*0.25)/6,IF($C79="往届",($S79*0.5)/6,"NULL")) -> 7.5 | CJ79: 黄金华 | CK79: =IF($C79="应届",($S79*0.25)/6,IF($C79="往届",($S79*0.5)/6,"NULL")) -> 7.5 | CL79: 程长寿 | CM79: =IF($C79="应届",($S79*0.25)/6,IF($C79="往届",($S79*0.5)/6,"NULL")) -> 7.5 | CN79: 兰阿布 | CO79: =IF($C79="应届",($S79*0.25)/6,IF($C79="往届",($S79*0.5)/6,"NULL")) -> 7.5 | CP79: 郑富全 | CQ79: =IF($C79="应届",($S79*0.25)/6,IF($C79="往届",($S79*0.5)/6,"NULL")) -> 7.5 | CR79: 卢祥 | CS79: =IF($C79="应届",($S79*0.25)/6,IF($C79="往届",($S79*0.5)/6,"NULL")) -> 7.5
A80: 李小秀 | B80: 51342220041115272X | C80: 应届 | D80: 理科 | F80: 1 | G80: 1 | H80: 116 | I80: 74 | J80: 121 | K80: 71 | L80: 75 | M80: 78 | N80: 535 | O80: =IF(D80="理科",IF(N80>=分数线!$C$2,"本科",""),IF(D80="文科",IF(N80>=分数线!$C$3,"本科",""))) -> 本科 | P80: =IF(F80>0,IF(O80="本科",(2-F80)*36,-(F80)*36),IF(O80="本科",2*36,0)) -> 36 | Q80: =IF(D80="理科",IF(N80>=分数线!$C$6,"重本",""),IF(D80="文科",IF(N80>=分数线!$C$7,"重本",""))) -> 重本 | R80: =IF(G80>0,IF(Q80="重本",G80*72,-(G80)*72),IF(Q80="重本",2*72,0)) -> 72 | S80: =P80+R80 -> 108 | T80: 10 | U80: 向美娟 | V80: =IF($C80="应届",($S80*0.1)/6,IF($C80="往届","","NULL")) -> 1.8 | W80: 徐万雄 | X80: =IF($C80="应届",($S80*0.1)/6,IF($C80="往届","","NULL")) -> 1.8 | Y80: 聂艳梅 | Z80: =IF($C80="应届",($S80*0.1)/6,IF($C80="往届","","NULL")) -> 1.8 | AA80: 郑永朝 | AB80: =IF($C80="应届",($S80*0.1)/6,IF($C80="往届","","NULL")) -> 1.8 | AC80: 陈文惠 | AD80: =IF($C80="应届",($S80*0.1)/6,IF($C80="往届","","NULL")) -> 1.8 | AE80: 田友米 | AF80: =IF($C80="应届",($S80*0.1)/6,IF($C80="往届","","NULL")) -> 1.8 | AG80: 10 | AH80: 向美娟 | AI80: =IF($C80="应届",($S80*0.1)/6,IF($C80="往届","","NULL")) -> 1.8 | AJ80: 徐万雄 | AK80: =IF($C80="应届",($S80*0.1)/6,IF($C80="往届","","NULL")) -> 1.8 | AL80: 聂艳梅 | AM80: =IF($C80="应届",($S80*0.1)/6,IF($C80="往届","","NULL")) -> 1.8 | AN80: 郑永朝 | AO80: =IF($C80="应届",($S80*0.1)/6,IF($C80="往届","","NULL")) -> 1.8 | AP80: 陈文惠 | AQ80: =IF($C80="应届",($S80*0.1)/6,IF($C80="往届","","NULL")) -> 1.8 | AR80: 田友米 | AS80: =IF($C80="应届",($S80*0.1)/6,IF($C80="往届","","NULL")) -> 1.8 | AT80: 10 | AU80: 向美娟 | AV80: =IF($C80="应届",($S80*0.15)/6,IF($C80="往届","","NULL")) -> 2.7 | AW80: 徐万雄 | AX80: =IF($C80="应届",($S80*0.15)/6,IF($C80="往届","","NULL")) -> 2.7 | AY80: 赵顺诚 | AZ80: =IF($C80="应届",($S80*0.15)/6,IF($C80="往届","","NULL")) -> 2.7 | BA80: 王玉强 | BB80: =IF($C80="应届",($S80*0.15)/6,IF($C80="往届","","NULL")) -> 2.7 | BC80: 陈文惠 | BD80: =IF($C80="应届",($S80*0.15)/6,IF($C80="往届","","NULL")) -> 2.7 | BE80: 田友米 | BF80: =IF($C80="应届",($S80*0.15)/6,IF($C80="往届","","NULL")) -> 2.7 | BG80: 10 | BH80: 向美娟 | BI80: =IF($C80="应届",($S80*0.15)/6,IF($C80="往届","","NULL")) -> 2.7 | BJ80: 徐万雄 | BK80: =IF($C80="应届",($S80*0.15)/6,IF($C80="往届","","NULL")) -> 2.7 | BL80: 赵顺诚 | BM80: =IF($C80="应届",($S80*0.15)/6,IF($C80="往届","","NULL")) -> 2.7 | BN80: 郑永朝 | BO80: =IF($C80="应届",($S80*0.15)/6,IF($C80="往届","","NULL")) -> 2.7 | BP80: 陈文惠 | BQ80: =IF($C80="应届",($S80*0.15)/6,IF($C80="往届","","NULL")) -> 2.7 | BR80: 田友米 | BS80: =IF($C80="应届",($S80*0.15)/6,IF($C80="往届","","NULL")) -> 2.7 | BT80: 10 | BU80: 向美娟 | BV80: =IF($C80="应届",($S80*0.25)/6,IF($C80="往届",($S80*0.5)/6,"NULL")) -> 4.5 | BW80: 潘勇 | BX80: =IF($C80="应届",($S80*0.25)/6,IF($C80="往届",($S80*0.5)/6,"NULL")) -> 4.5 | BY80: 赵顺诚 | BZ80: =IF($C80="应届",($S80*0.25)/6,IF($C80="往届",($S80*0.5)/6,"NULL")) -> 4.5 | CA80: 王友春 | CB80: =IF($C80="应届",($S80*0.25)/6,IF($C80="往届",($S80*0.5)/6,"NULL")) -> 4.5 | CC80: 陈文惠 | CD80: =IF($C80="应届",($S80*0.25)/6,IF($C80="往届",($S80*0.5)/6,"NULL")) -> 4.5 | CE80: 田友米 | CF80: =IF($C80="应届",($S80*0.25)/6,IF($C80="往届",($S80*0.5)/6,"NULL")) -> 4.5 | CG80: 10 | CH80: 向美娟 | CI80: =IF($C80="应届",($S80*0.25)/6,IF($C80="往届",($S80*0.5)/6,"NULL")) -> 4.5 | CJ80: 潘勇 | CK80: =IF($C80="应届",($S80*0.25)/6,IF($C80="往届",($S80*0.5)/6,"NULL")) -> 4.5 | CL80: 赵顺诚 | CM80: =IF($C80="应届",($S80*0.25)/6,IF($C80="往届",($S80*0.5)/6,"NULL")) -> 4.5 | CN80: 王友春 | CO80: =IF($C80="应届",($S80*0.25)/6,IF($C80="往届",($S80*0.5)/6,"NULL")) -> 4.5 | CP80: 陈文惠 | CQ80: =IF($C80="应届",($S80*0.25)/6,IF($C80="往届",($S80*0.5)/6,"NULL")) -> 4.5 | CR80: 田友米 | CS80: =IF($C80="应届",($S80*0.25)/6,IF($C80="往届",($S80*0.5)/6,"NULL")) -> 4.5
A81: 边玛杜基 | B81: 513422200409073619 | C81: 应届 | D81: 理科 | F81: 0.8 | G81: 0 | H81: 104 | I81: 117 | J81: 86 | K81: 79.5 | L81: 66 | M81: 80.5 | N81: 533 | O81: =IF(D81="理科",IF(N81>=分数线!$C$2,"本科",""),IF(D81="文科",IF(N81>=分数线!$C$3,"本科",""))) -> 本科 | P81: =IF(F81>0,IF(O81="本科",(2-F81)*36,-(F81)*36),IF(O81="本科",2*36,0)) -> 43.2 | Q81: =IF(D81="理科",IF(N81>=分数线!$C$6,"重本",""),IF(D81="文科",IF(N81>=分数线!$C$7,"重本",""))) -> 重本 | R81: =IF(G81>0,IF(Q81="重本",G81*72,-(G81)*72),IF(Q81="重本",2*72,0)) -> 144 | S81: =P81+R81 -> 187.2 | T81: 11 | U81: 张玉婷 | V81: =IF($C81="应届",($S81*0.1)/6,IF($C81="往届","","NULL")) -> 3.12 | W81: 胡付松 | X81: =IF($C81="应届",($S81*0.1)/6,IF($C81="往届","","NULL")) -> 3.12 | Y81: 向翠琳 | Z81: =IF($C81="应届",($S81*0.1)/6,IF($C81="往届","","NULL")) -> 3.12 | AA81: 郑永朝 | AB81: =IF($C81="应届",($S81*0.1)/6,IF($C81="往届","","NULL")) -> 3.12 | AC81: 叶仁群 | AD81: =IF($C81="应届",($S81*0.1)/6,IF($C81="往届","","NULL")) -> 3.12 | AE81: 辜英琼 | AF81: =IF($C81="应届",($S81*0.1)/6,IF($C81="往届","","NULL")) -> 3.12 | AG81: 11 | AH81: 张玉婷 | AI81: =IF($C81="应届",($S81*0.1)/6,IF($C81="往届","","NULL")) -> 3.12 | AJ81: 胡付松 | AK81: =IF($C81="应届",($S81*0.1)/6,IF($C81="往届","","NULL")) -> 3.12 | AL81: 向翠琳 | AM81: =IF($C81="应届",($S81*0.1)/6,IF($C81="往届","","NULL")) -> 3.12 | AN81: 郑永朝 | AO81: =IF($C81="应届",($S81*0.1)/6,IF($C81="往届","","NULL")) -> 3.12 | AP81: 叶仁群 | AQ81: =IF($C81="应届",($S81*0.1)/6,IF($C81="往届","","NULL")) -> 3.12 | AR81: 辜英琼 | AS81: =IF($C81="应届",($S81*0.1)/6,IF($C81="往届","","NULL")) -> 3.12 | AT81: 11 | AU81: 张玉婷 | AV81: =IF($C81="应届",($S81*0.15)/6,IF($C81="往届","","NULL")) -> 4.68 | AW81: 胡付松 | AX81: =IF($C81="应届",($S81*0.15)/6,IF($C81="往届","","NULL")) -> 4.68 | AY81: 程长寿 | AZ81: =IF($C81="应届",($S81*0.15)/6,IF($C81="往届","","NULL")) -> 4.68 | BA81: 郑永朝 | BB81: =IF($C81="应届",($S81*0.15)/6,IF($C81="往届","","NULL")) -> 4.68 | BC81: 叶仁群 | BD81: =IF($C81="应届",($S81*0.15)/6,IF($C81="往届","","NULL")) -> 4.68 | BE81: 杨建 | BF81: =IF($C81="应届",($S81*0.15)/6,IF($C81="往届","","NULL")) -> 4.68 | BG81: 11 | BH81: 张玉婷 | BI81: =IF($C81="应届",($S81*0.15)/6,IF($C81="往届","","NULL")) -> 4.68 | BJ81: 胡付松 | BK81: =IF($C81="应届",($S81*0.15)/6,IF($C81="往届","","NULL")) -> 4.68 | BL81: 程长寿 | BM81: =IF($C81="应届",($S81*0.15)/6,IF($C81="往届","","NULL")) -> 4.68 | BN81: 郑永朝 | BO81: =IF($C81="应届",($S81*0.15)/6,IF($C81="往届","","NULL")) -> 4.68 | BP81: 叶仁群 | BQ81: =IF($C81="应届",($S81*0.15)/6,IF($C81="往届","","NULL")) -> 4.68 | BR81: 田友米 | BS81: =IF($C81="应届",($S81*0.15)/6,IF($C81="往届","","NULL")) -> 4.68 | BT81: 11 | BU81: 张玉婷 | BV81: =IF($C81="应届",($S81*0.25)/6,IF($C81="往届",($S81*0.5)/6,"NULL")) -> 7.8 | BW81: 胡付松 | BX81: =IF($C81="应届",($S81*0.25)/6,IF($C81="往届",($S81*0.5)/6,"NULL")) -> 7.8 | BY81: 程长寿 | BZ81: =IF($C81="应届",($S81*0.25)/6,IF($C81="往届",($S81*0.5)/6,"NULL")) -> 7.8 | CA81: 王友春 | CB81: =IF($C81="应届",($S81*0.25)/6,IF($C81="往届",($S81*0.5)/6,"NULL")) -> 7.8 | CC81: 叶仁群 | CD81: =IF($C81="应届",($S81*0.25)/6,IF($C81="往届",($S81*0.5)/6,"NULL")) -> 7.8 | CE81: 田友米 | CF81: =IF($C81="应届",($S81*0.25)/6,IF($C81="往届",($S81*0.5)/6,"NULL")) -> 7.8 | CG81: 11 | CH81: 张玉婷 | CI81: =IF($C81="应届",($S81*0.25)/6,IF($C81="往届",($S81*0.5)/6,"NULL")) -> 7.8 | CJ81: 胡付松 | CK81: =IF($C81="应届",($S81*0.25)/6,IF($C81="往届",($S81*0.5)/6,"NULL")) -> 7.8 | CL81: 程长寿 | CM81: =IF($C81="应届",($S81*0.25)/6,IF($C81="往届",($S81*0.5)/6,"NULL")) -> 7.8 | CN81: 王友春 | CO81: =IF($C81="应届",($S81*0.25)/6,IF($C81="往届",($S81*0.5)/6,"NULL")) -> 7.8 | CP81: 叶仁群 | CQ81: =IF($C81="应届",($S81*0.25)/6,IF($C81="往届",($S81*0.5)/6,"NULL")) -> 7.8 | CR81: 田友米 | CS81: =IF($C81="应届",($S81*0.25)/6,IF($C81="往届",($S81*0.5)/6,"NULL")) -> 7.8
A82: 周兆莹 | B82: 513422200502080020 | C82: 应届 | D82: 理科 | F82: 1 | G82: 1 | H82: 111 | I82: 83 | J82: 118 | K82: 72 | L82: 70 | M82: 77.5 | N82: 532 | O82: =IF(D82="理科",IF(N82>=分数线!$C$2,"本科",""),IF(D82="文科",IF(N82>=分数线!$C$3,"本科",""))) -> 本科 | P82: =IF(F82>0,IF(O82="本科",(2-F82)*36,-(F82)*36),IF(O82="本科",2*36,0)) -> 36 | Q82: =IF(D82="理科",IF(N82>=分数线!$C$6,"重本",""),IF(D82="文科",IF(N82>=分数线!$C$7,"重本",""))) -> 重本 | R82: =IF(G82>0,IF(Q82="重本",G82*72,-(G82)*72),IF(Q82="重本",2*72,0)) -> 72 | S82: =P82+R82 -> 108 | T82: 11 | U82: 张玉婷 | V82: =IF($C82="应届",($S82*0.1)/6,IF($C82="往届","","NULL")) -> 1.8 | W82: 胡付松 | X82: =IF($C82="应届",($S82*0.1)/6,IF($C82="往届","","NULL")) -> 1.8 | Y82: 程长寿 | Z82: =IF($C82="应届",($S82*0.1)/6,IF($C82="往届","","NULL")) -> 1.8 | AA82: 郑永朝 | AB82: =IF($C82="应届",($S82*0.1)/6,IF($C82="往届","","NULL")) -> 1.8 | AC82: 叶仁群 | AD82: =IF($C82="应届",($S82*0.1)/6,IF($C82="往届","","NULL")) -> 1.8 | AE82: 辜英琼 | AF82: =IF($C82="应届",($S82*0.1)/6,IF($C82="往届","","NULL")) -> 1.8 | AG82: 11 | AH82: 张玉婷 | AI82: =IF($C82="应届",($S82*0.1)/6,IF($C82="往届","","NULL")) -> 1.8 | AJ82: 胡付松 | AK82: =IF($C82="应届",($S82*0.1)/6,IF($C82="往届","","NULL")) -> 1.8 | AL82: 程长寿 | AM82: =IF($C82="应届",($S82*0.1)/6,IF($C82="往届","","NULL")) -> 1.8 | AN82: 郑永朝 | AO82: =IF($C82="应届",($S82*0.1)/6,IF($C82="往届","","NULL")) -> 1.8 | AP82: 叶仁群 | AQ82: =IF($C82="应届",($S82*0.1)/6,IF($C82="往届","","NULL")) -> 1.8 | AR82: 辜英琼 | AS82: =IF($C82="应届",($S82*0.1)/6,IF($C82="往届","","NULL")) -> 1.8 | AT82: 11 | AU82: 张玉婷 | AV82: =IF($C82="应届",($S82*0.15)/6,IF($C82="往届","","NULL")) -> 2.7 | AW82: 胡付松 | AX82: =IF($C82="应届",($S82*0.15)/6,IF($C82="往届","","NULL")) -> 2.7 | AY82: 程长寿 | AZ82: =IF($C82="应届",($S82*0.15)/6,IF($C82="往届","","NULL")) -> 2.7 | BA82: 郑永朝 | BB82: =IF($C82="应届",($S82*0.15)/6,IF($C82="往届","","NULL")) -> 2.7 | BC82: 叶仁群 | BD82: =IF($C82="应届",($S82*0.15)/6,IF($C82="往届","","NULL")) -> 2.7 | BE82: 杨建 | BF82: =IF($C82="应届",($S82*0.15)/6,IF($C82="往届","","NULL")) -> 2.7 | BG82: 11 | BH82: 张玉婷 | BI82: =IF($C82="应届",($S82*0.15)/6,IF($C82="往届","","NULL")) -> 2.7 | BJ82: 胡付松 | BK82: =IF($C82="应届",($S82*0.15)/6,IF($C82="往届","","NULL")) -> 2.7 | BL82: 程长寿 | BM82: =IF($C82="应届",($S82*0.15)/6,IF($C82="往届","","NULL")) -> 2.7 | BN82: 郑永朝 | BO82: =IF($C82="应届",($S82*0.15)/6,IF($C82="往届","","NULL")) -> 2.7 | BP82: 叶仁群 | BQ82: =IF($C82="应届",($S82*0.15)/6,IF($C82="往届","","NULL")) -> 2.7 | BR82: 田友米 | BS82: =IF($C82="应届",($S82*0.15)/6,IF($C82="往届","","NULL")) -> 2.7 | BT82: 11 | BU82: 张玉婷 | BV82: =IF($C82="应届",($S82*0.25)/6,IF($C82="往届",($S82*0.5)/6,"NULL")) -> 4.5 | BW82: 胡付松 | BX82: =IF($C82="应届",($S82*0.25)/6,IF($C82="往届",($S82*0.5)/6,"NULL")) -> 4.5 | BY82: 程长寿 | BZ82: =IF($C82="应届",($S82*0.25)/6,IF($C82="往届",($S82*0.5)/6,"NULL")) -> 4.5 | CA82: 王友春 | CB82: =IF($C82="应届",($S82*0.25)/6,IF($C82="往届",($S82*0.5)/6,"NULL")) -> 4.5 | CC82: 叶仁群 | CD82: =IF($C82="应届",($S82*0.25)/6,IF($C82="往届",($S82*0.5)/6,"NULL")) -> 4.5 | CE82: 田友米 | CF82: =IF($C82="应届",($S82*0.25)/6,IF($C82="往届",($S82*0.5)/6,"NULL")) -> 4.5 | CG82: 11 | CH82: 张玉婷 | CI82: =IF($C82="应届",($S82*0.25)/6,IF($C82="往届",($S82*0.5)/6,"NULL")) -> 4.5 | CJ82: 胡付松 | CK82: =IF($C82="应届",($S82*0.25)/6,IF($C82="往届",($S82*0.5)/6,"NULL")) -> 4.5 | CL82: 程长寿 | CM82: =IF($C82="应届",($S82*0.25)/6,IF($C82="往届",($S82*0.5)/6,"NULL")) -> 4.5 | CN82: 王友春 | CO82: =IF($C82="应届",($S82*0.25)/6,IF($C82="往届",($S82*0.5)/6,"NULL")) -> 4.5 | CP82: 叶仁群 | CQ82: =IF($C82="应届",($S82*0.25)/6,IF($C82="往届",($S82*0.5)/6,"NULL")) -> 4.5 | CR82: 田友米 | CS82: =IF($C82="应届",($S82*0.25)/6,IF($C82="往届",($S82*0.5)/6,"NULL")) -> 4.5
A83: 熊欣平 | B83: 51342220040805001X | C83: 应届 | D83: 理科 | F83: 1 | G83: 1 | H83: 113 | I83: 90 | J83: 121 | K83: 64 | L83: 64.5 | M83: 75 | N83: 528 | O83: =IF(D83="理科",IF(N83>=分数线!$C$2,"本科",""),IF(D83="文科",IF(N83>=分数线!$C$3,"本科",""))) -> 本科 | P83: =IF(F83>0,IF(O83="本科",(2-F83)*36,-(F83)*36),IF(O83="本科",2*36,0)) -> 36 | Q83: =IF(D83="理科",IF(N83>=分数线!$C$6,"重本",""),IF(D83="文科",IF(N83>=分数线!$C$7,"重本",""))) -> 重本 | R83: =IF(G83>0,IF(Q83="重本",G83*72,-(G83)*72),IF(Q83="重本",2*72,0)) -> 72 | S83: =P83+R83 -> 108 | T83: 11 | U83: 张玉婷 | V83: =IF($C83="应届",($S83*0.1)/6,IF($C83="往届","","NULL")) -> 1.8 | W83: 胡付松 | X83: =IF($C83="应届",($S83*0.1)/6,IF($C83="往届","","NULL")) -> 1.8 | Y83: 程长寿 | Z83: =IF($C83="应届",($S83*0.1)/6,IF($C83="往届","","NULL")) -> 1.8 | AA83: 郑永朝 | AB83: =IF($C83="应届",($S83*0.1)/6,IF($C83="往届","","NULL")) -> 1.8 | AC83: 叶仁群 | AD83: =IF($C83="应届",($S83*0.1)/6,IF($C83="往届","","NULL")) -> 1.8 | AE83: 辜英琼 | AF83: =IF($C83="应届",($S83*0.1)/6,IF($C83="往届","","NULL")) -> 1.8 | AG83: 11 | AH83: 张玉婷 | AI83: =IF($C83="应届",($S83*0.1)/6,IF($C83="往届","","NULL")) -> 1.8 | AJ83: 胡付松 | AK83: =IF($C83="应届",($S83*0.1)/6,IF($C83="往届","","NULL")) -> 1.8 | AL83: 程长寿 | AM83: =IF($C83="应届",($S83*0.1)/6,IF($C83="往届","","NULL")) -> 1.8 | AN83: 郑永朝 | AO83: =IF($C83="应届",($S83*0.1)/6,IF($C83="往届","","NULL")) -> 1.8 | AP83: 叶仁群 | AQ83: =IF($C83="应届",($S83*0.1)/6,IF($C83="往届","","NULL")) -> 1.8 | AR83: 辜英琼 | AS83: =IF($C83="应届",($S83*0.1)/6,IF($C83="往届","","NULL")) -> 1.8 | AT83: 11 | AU83: 张玉婷 | AV83: =IF($C83="应届",($S83*0.15)/6,IF($C83="往届","","NULL")) -> 2.7 | AW83: 胡付松 | AX83: =IF($C83="应届",($S83*0.15)/6,IF($C83="往届","","NULL")) -> 2.7 | AY83: 程长寿 | AZ83: =IF($C83="应届",($S83*0.15)/6,IF($C83="往届","","NULL")) -> 2.7 | BA83: 郑永朝 | BB83: =IF($C83="应届",($S83*0.15)/6,IF($C83="往届","","NULL")) -> 2.7 | BC83: 叶仁群 | BD83: =IF($C83="应届",($S83*0.15)/6,IF($C83="往届","","NULL")) -> 2.7 | BE83: 杨建 | BF83: =IF($C83="应届",($S83*0.15)/6,IF($C83="往届","","NULL")) -> 2.7 | BG83: 11 | BH83: 张玉婷 | BI83: =IF($C83="应届",($S83*0.15)/6,IF($C83="往届","","NULL")) -> 2.7 | BJ83: 胡付松 | BK83: =IF($C83="应届",($S83*0.15)/6,IF($C83="往届","","NULL")) -> 2.7 | BL83: 程长寿 | BM83: =IF($C83="应届",($S83*0.15)/6,IF($C83="往届","","NULL")) -> 2.7 | BN83: 郑永朝 | BO83: =IF($C83="应届",($S83*0.15)/6,IF($C83="往届","","NULL")) -> 2.7 | BP83: 叶仁群 | BQ83: =IF($C83="应届",($S83*0.15)/6,IF($C83="往届","","NULL")) -> 2.7 | BR83: 田友米 | BS83: =IF($C83="应届",($S83*0.15)/6,IF($C83="往届","","NULL")) -> 2.7 | BT83: 11 | BU83: 张玉婷 | BV83: =IF($C83="应届",($S83*0.25)/6,IF($C83="往届",($S83*0.5)/6,"NULL")) -> 4.5 | BW83: 胡付松 | BX83: =IF($C83="应届",($S83*0.25)/6,IF($C83="往届",($S83*0.5)/6,"NULL")) -> 4.5 | BY83: 程长寿 | BZ83: =IF($C83="应届",($S83*0.25)/6,IF($C83="往届",($S83*0.5)/6,"NULL")) -> 4.5 | CA83: 王友春 | CB83: =IF($C83="应届",($S83*0.25)/6,IF($C83="往届",($S83*0.5)/6,"NULL")) -> 4.5 | CC83: 叶仁群 | CD83: =IF($C83="应届",($S83*0.25)/6,IF($C83="往届",($S83*0.5)/6,"NULL")) -> 4.5 | CE83: 田友米 | CF83: =IF($C83="应届",($S83*0.25)/6,IF($C83="往届",($S83*0.5)/6,"NULL")) -> 4.5 | CG83: 11 | CH83: 张玉婷 | CI83: =IF($C83="应届",($S83*0.25)/6,IF($C83="往届",($S83*0.5)/6,"NULL")) -> 4.5 | CJ83: 胡付松 | CK83: =IF($C83="应届",($S83*0.25)/6,IF($C83="往届",($S83*0.5)/6,"NULL")) -> 4.5 | CL83: 程长寿 | CM83: =IF($C83="应届",($S83*0.25)/6,IF($C83="往届",($S83*0.5)/6,"NULL")) -> 4.5 | CN83: 王友春 | CO83: =IF($C83="应届",($S83*0.25)/6,IF($C83="往届",($S83*0.5)/6,"NULL")) -> 4.5 | CP83: 叶仁群 | CQ83: =IF($C83="应届",($S83*0.25)/6,IF($C83="往届",($S83*0.5)/6,"NULL")) -> 4.5 | CR83: 田友米 | CS83: =IF($C83="应届",($S83*0.25)/6,IF($C83="往届",($S83*0.5)/6,"NULL")) -> 4.5
A84: 何小林 | B84: 513422200302250013 | C84: 应届 | D84: 理科 | F84: 0 | G84: 0 | H84: 112 | I84: 85 | J84: 114 | K84: 73.5 | L84: 66 | M84: 75.5 | N84: 526 | O84: =IF(D84="理科",IF(N84>=分数线!$C$2,"本科",""),IF(D84="文科",IF(N84>=分数线!$C$3,"本科",""))) -> 本科 | P84: =IF(F84>0,IF(O84="本科",(2-F84)*36,-(F84)*36),IF(O84="本科",2*36,0)) -> 72 | Q84: =IF(D84="理科",IF(N84>=分数线!$C$6,"重本",""),IF(D84="文科",IF(N84>=分数线!$C$7,"重本",""))) -> 重本 | R84: =IF(G84>0,IF(Q84="重本",G84*72,-(G84)*72),IF(Q84="重本",2*72,0)) -> 144 | S84: =P84+R84 -> 216 | U84: #N/A | V84: =IF($C84="应届",($S84*0.1)/6,IF($C84="往届","","NULL")) -> 3.6 | W84: #N/A | X84: =IF($C84="应届",($S84*0.1)/6,IF($C84="往届","","NULL")) -> 3.6 | Y84: #N/A | Z84: =IF($C84="应届",($S84*0.1)/6,IF($C84="往届","","NULL")) -> 3.6 | AA84: 郑永朝 | AB84: =IF($C84="应届",($S84*0.1)/6,IF($C84="往届","","NULL")) -> 3.6 | AC84: 叶仁群 | AD84: =IF($C84="应届",($S84*0.1)/6,IF($C84="往届","","NULL")) -> 3.6 | AE84: 辜英琼 | AF84: =IF($C84="应届",($S84*0.1)/6,IF($C84="往届","","NULL")) -> 3.6 | AG84: 11 | AH84: 张玉婷 | AI84: =IF($C84="应届",($S84*0.1)/6,IF($C84="往届","","NULL")) -> 3.6 | AJ84: 胡付松 | AK84: =IF($C84="应届",($S84*0.1)/6,IF($C84="往届","","NULL")) -> 3.6 | AL84: 程长寿 | AM84: =IF($C84="应届",($S84*0.1)/6,IF($C84="往届","","NULL")) -> 3.6 | AN84: 郑永朝 | AO84: =IF($C84="应届",($S84*0.1)/6,IF($C84="往届","","NULL")) -> 3.6 | AP84: 叶仁群 | AQ84: =IF($C84="应届",($S84*0.1)/6,IF($C84="往届","","NULL")) -> 3.6 | AR84: 辜英琼 | AS84: =IF($C84="应届",($S84*0.1)/6,IF($C84="往届","","NULL")) -> 3.6 | AT84: 11 | AU84: 张玉婷 | AV84: =IF($C84="应届",($S84*0.15)/6,IF($C84="往届","","NULL")) -> 5.4 | AW84: 胡付松 | AX84: =IF($C84="应届",($S84*0.15)/6,IF($C84="往届","","NULL")) -> 5.4 | AY84: 程长寿 | AZ84: =IF($C84="应届",($S84*0.15)/6,IF($C84="往届","","NULL")) -> 5.4 | BA84: 郑永朝 | BB84: =IF($C84="应届",($S84*0.15)/6,IF($C84="往届","","NULL")) -> 5.4 | BC84: 叶仁群 | BD84: =IF($C84="应届",($S84*0.15)/6,IF($C84="往届","","NULL")) -> 5.4 | BE84: 杨建 | BF84: =IF($C84="应届",($S84*0.15)/6,IF($C84="往届","","NULL")) -> 5.4 | BG84: 11 | BH84: 张玉婷 | BI84: =IF($C84="应届",($S84*0.15)/6,IF($C84="往届","","NULL")) -> 5.4 | BJ84: 胡付松 | BK84: =IF($C84="应届",($S84*0.15)/6,IF($C84="往届","","NULL")) -> 5.4 | BL84: 程长寿 | BM84: =IF($C84="应届",($S84*0.15)/6,IF($C84="往届","","NULL")) -> 5.4 | BN84: 郑永朝 | BO84: =IF($C84="应届",($S84*0.15)/6,IF($C84="往届","","NULL")) -> 5.4 | BP84: 叶仁群 | BQ84: =IF($C84="应届",($S84*0.15)/6,IF($C84="往届","","NULL")) -> 5.4 | BR84: 田友米 | BS84: =IF($C84="应届",($S84*0.15)/6,IF($C84="往届","","NULL")) -> 5.4 | BT84: 11 | BU84: 张玉婷 | BV84: =IF($C84="应届",($S84*0.25)/6,IF($C84="往届",($S84*0.5)/6,"NULL")) -> 9 | BW84: 胡付松 | BX84: =IF($C84="应届",($S84*0.25)/6,IF($C84="往届",($S84*0.5)/6,"NULL")) -> 9 | BY84: 程长寿 | BZ84: =IF($C84="应届",($S84*0.25)/6,IF($C84="往届",($S84*0.5)/6,"NULL")) -> 9 | CA84: 王友春 | CB84: =IF($C84="应届",($S84*0.25)/6,IF($C84="往届",($S84*0.5)/6,"NULL")) -> 9 | CC84: 叶仁群 | CD84: =IF($C84="应届",($S84*0.25)/6,IF($C84="往届",($S84*0.5)/6,"NULL")) -> 9 | CE84: 田友米 | CF84: =IF($C84="应届",($S84*0.25)/6,IF($C84="往届",($S84*0.5)/6,"NULL")) -> 9 | CG84: 11 | CH84: 张玉婷 | CI84: =IF($C84="应届",($S84*0.25)/6,IF($C84="往届",($S84*0.5)/6,"NULL")) -> 9 | CJ84: 胡付松 | CK84: =IF($C84="应届",($S84*0.25)/6,IF($C84="往届",($S84*0.5)/6,"NULL")) -> 9 | CL84: 程长寿 | CM84: =IF($C84="应届",($S84*0.25)/6,IF($C84="往届",($S84*0.5)/6,"NULL")) -> 9 | CN84: 王友春 | CO84: =IF($C84="应届",($S84*0.25)/6,IF($C84="往届",($S84*0.5)/6,"NULL")) -> 9 | CP84: 叶仁群 | CQ84: =IF($C84="应届",($S84*0.25)/6,IF($C84="往届",($S84*0.5)/6,"NULL")) -> 9 | CR84: 田友米 | CS84: =IF($C84="应届",($S84*0.25)/6,IF($C84="往届",($S84*0.5)/6,"NULL")) -> 9
A85: 朱东菊 | B85: 513422200510032942 | C85: 应届 | D85: 理科 | F85: 0.8 | G85: 0 | H85: 105 | I85: 112 | J85: 103 | K85: 60 | L85: 73 | M85: 73 | N85: 526 | O85: =IF(D85="理科",IF(N85>=分数线!$C$2,"本科",""),IF(D85="文科",IF(N85>=分数线!$C$3,"本科",""))) -> 本科 | P85: =IF(F85>0,IF(O85="本科",(2-F85)*36,-(F85)*36),IF(O85="本科",2*36,0)) -> 43.2 | Q85: =IF(D85="理科",IF(N85>=分数线!$C$6,"重本",""),IF(D85="文科",IF(N85>=分数线!$C$7,"重本",""))) -> 重本 | R85: =IF(G85>0,IF(Q85="重本",G85*72,-(G85)*72),IF(Q85="重本",2*72,0)) -> 144 | S85: =P85+R85 -> 187.2 | T85: 12 | U85: 何苗 | V85: =IF($C85="应届",($S85*0.1)/6,IF($C85="往届","","NULL")) -> 3.12 | W85: 黄金华 | X85: =IF($C85="应届",($S85*0.1)/6,IF($C85="往届","","NULL")) -> 3.12 | Y85: 向翠琳 | Z85: =IF($C85="应届",($S85*0.1)/6,IF($C85="往届","","NULL")) -> 3.12 | AA85: 兰阿布 | AB85: =IF($C85="应届",($S85*0.1)/6,IF($C85="往届","","NULL")) -> 3.12 | AC85: 郑富全 | AD85: =IF($C85="应届",($S85*0.1)/6,IF($C85="往届","","NULL")) -> 3.12 | AE85: 卢祥 | AF85: =IF($C85="应届",($S85*0.1)/6,IF($C85="往届","","NULL")) -> 3.12 | AG85: 12 | AH85: 何苗 | AI85: =IF($C85="应届",($S85*0.1)/6,IF($C85="往届","","NULL")) -> 3.12 | AJ85: 黄金华 | AK85: =IF($C85="应届",($S85*0.1)/6,IF($C85="往届","","NULL")) -> 3.12 | AL85: 向翠琳 | AM85: =IF($C85="应届",($S85*0.1)/6,IF($C85="往届","","NULL")) -> 3.12 | AN85: 兰阿布 | AO85: =IF($C85="应届",($S85*0.1)/6,IF($C85="往届","","NULL")) -> 3.12 | AP85: 郑富全 | AQ85: =IF($C85="应届",($S85*0.1)/6,IF($C85="往届","","NULL")) -> 3.12 | AR85: 卢祥 | AS85: =IF($C85="应届",($S85*0.1)/6,IF($C85="往届","","NULL")) -> 3.12 | AT85: 12 | AU85: 朱霞 | AV85: =IF($C85="应届",($S85*0.15)/6,IF($C85="往届","","NULL")) -> 4.68 | AW85: 黄金华 | AX85: =IF($C85="应届",($S85*0.15)/6,IF($C85="往届","","NULL")) -> 4.68 | AY85: 程长寿 | AZ85: =IF($C85="应届",($S85*0.15)/6,IF($C85="往届","","NULL")) -> 4.68 | BA85: 兰阿布 | BB85: =IF($C85="应届",($S85*0.15)/6,IF($C85="往届","","NULL")) -> 4.68 | BC85: 郑富全 | BD85: =IF($C85="应届",($S85*0.15)/6,IF($C85="往届","","NULL")) -> 4.68 | BE85: 卢祥 | BF85: =IF($C85="应届",($S85*0.15)/6,IF($C85="往届","","NULL")) -> 4.68 | BG85: 12 | BH85: 朱霞 | BI85: =IF($C85="应届",($S85*0.15)/6,IF($C85="往届","","NULL")) -> 4.68 | BJ85: 黄金华 | BK85: =IF($C85="应届",($S85*0.15)/6,IF($C85="往届","","NULL")) -> 4.68 | BL85: 程长寿 | BM85: =IF($C85="应届",($S85*0.15)/6,IF($C85="往届","","NULL")) -> 4.68 | BN85: 兰阿布 | BO85: =IF($C85="应届",($S85*0.15)/6,IF($C85="往届","","NULL")) -> 4.68 | BP85: 郑富全 | BQ85: =IF($C85="应届",($S85*0.15)/6,IF($C85="往届","","NULL")) -> 4.68 | BR85: 卢祥 | BS85: =IF($C85="应届",($S85*0.15)/6,IF($C85="往届","","NULL")) -> 4.68 | BT85: 12 | BU85: 朱霞 | BV85: =IF($C85="应届",($S85*0.25)/6,IF($C85="往届",($S85*0.5)/6,"NULL")) -> 7.8 | BW85: 黄金华 | BX85: =IF($C85="应届",($S85*0.25)/6,IF($C85="往届",($S85*0.5)/6,"NULL")) -> 7.8 | BY85: 程长寿 | BZ85: =IF($C85="应届",($S85*0.25)/6,IF($C85="往届",($S85*0.5)/6,"NULL")) -> 7.8 | CA85: 兰阿布 | CB85: =IF($C85="应届",($S85*0.25)/6,IF($C85="往届",($S85*0.5)/6,"NULL")) -> 7.8 | CC85: 郑富全 | CD85: =IF($C85="应届",($S85*0.25)/6,IF($C85="往届",($S85*0.5)/6,"NULL")) -> 7.8 | CE85: 卢祥 | CF85: =IF($C85="应届",($S85*0.25)/6,IF($C85="往届",($S85*0.5)/6,"NULL")) -> 7.8 | CG85: 12 | CH85: 朱霞 | CI85: =IF($C85="应届",($S85*0.25)/6,IF($C85="往届",($S85*0.5)/6,"NULL")) -> 7.8 | CJ85: 黄金华 | CK85: =IF($C85="应届",($S85*0.25)/6,IF($C85="往届",($S85*0.5)/6,"NULL")) -> 7.8 | CL85: 程长寿 | CM85: =IF($C85="应届",($S85*0.25)/6,IF($C85="往届",($S85*0.5)/6,"NULL")) -> 7.8 | CN85: 兰阿布 | CO85: =IF($C85="应届",($S85*0.25)/6,IF($C85="往届",($S85*0.5)/6,"NULL")) -> 7.8 | CP85: 郑富全 | CQ85: =IF($C85="应届",($S85*0.25)/6,IF($C85="往届",($S85*0.5)/6,"NULL")) -> 7.8 | CR85: 卢祥 | CS85: =IF($C85="应届",($S85*0.25)/6,IF($C85="往届",($S85*0.5)/6,"NULL")) -> 7.8
A86: 吕绍龙 | B86: 513422200510132118 | C86: 应届 | D86: 理科 | F86: 1 | G86: 0 | H86: 110 | I86: 86 | J86: 128 | K86: 60.5 | L86: 66 | M86: 72 | N86: 523 | O86: =IF(D86="理科",IF(N86>=分数线!$C$2,"本科",""),IF(D86="文科",IF(N86>=分数线!$C$3,"本科",""))) -> 本科 | P86: =IF(F86>0,IF(O86="本科",(2-F86)*36,-(F86)*36),IF(O86="本科",2*36,0)) -> 36 | Q86: =IF(D86="理科",IF(N86>=分数线!$C$6,"重本",""),IF(D86="文科",IF(N86>=分数线!$C$7,"重本",""))) -> 重本 | R86: =IF(G86>0,IF(Q86="重本",G86*72,-(G86)*72),IF(Q86="重本",2*72,0)) -> 144 | S86: =P86+R86 -> 180 | T86: 10 | U86: 向美娟 | V86: =IF($C86="应届",($S86*0.1)/6,IF($C86="往届","","NULL")) -> 3 | W86: 徐万雄 | X86: =IF($C86="应届",($S86*0.1)/6,IF($C86="往届","","NULL")) -> 3 | Y86: 聂艳梅 | Z86: =IF($C86="应届",($S86*0.1)/6,IF($C86="往届","","NULL")) -> 3 | AA86: 郑永朝 | AB86: =IF($C86="应届",($S86*0.1)/6,IF($C86="往届","","NULL")) -> 3 | AC86: 陈文惠 | AD86: =IF($C86="应届",($S86*0.1)/6,IF($C86="往届","","NULL")) -> 3 | AE86: 田友米 | AF86: =IF($C86="应届",($S86*0.1)/6,IF($C86="往届","","NULL")) -> 3 | AG86: 10 | AH86: 向美娟 | AI86: =IF($C86="应届",($S86*0.1)/6,IF($C86="往届","","NULL")) -> 3 | AJ86: 徐万雄 | AK86: =IF($C86="应届",($S86*0.1)/6,IF($C86="往届","","NULL")) -> 3 | AL86: 聂艳梅 | AM86: =IF($C86="应届",($S86*0.1)/6,IF($C86="往届","","NULL")) -> 3 | AN86: 郑永朝 | AO86: =IF($C86="应届",($S86*0.1)/6,IF($C86="往届","","NULL")) -> 3 | AP86: 陈文惠 | AQ86: =IF($C86="应届",($S86*0.1)/6,IF($C86="往届","","NULL")) -> 3 | AR86: 田友米 | AS86: =IF($C86="应届",($S86*0.1)/6,IF($C86="往届","","NULL")) -> 3 | AT86: 10 | AU86: 向美娟 | AV86: =IF($C86="应届",($S86*0.15)/6,IF($C86="往届","","NULL")) -> 4.5 | AW86: 徐万雄 | AX86: =IF($C86="应届",($S86*0.15)/6,IF($C86="往届","","NULL")) -> 4.5 | AY86: 赵顺诚 | AZ86: =IF($C86="应届",($S86*0.15)/6,IF($C86="往届","","NULL")) -> 4.5 | BA86: 王玉强 | BB86: =IF($C86="应届",($S86*0.15)/6,IF($C86="往届","","NULL")) -> 4.5 | BC86: 陈文惠 | BD86: =IF($C86="应届",($S86*0.15)/6,IF($C86="往届","","NULL")) -> 4.5 | BE86: 田友米 | BF86: =IF($C86="应届",($S86*0.15)/6,IF($C86="往届","","NULL")) -> 4.5 | BG86: 10 | BH86: 向美娟 | BI86: =IF($C86="应届",($S86*0.15)/6,IF($C86="往届","","NULL")) -> 4.5 | BJ86: 徐万雄 | BK86: =IF($C86="应届",($S86*0.15)/6,IF($C86="往届","","NULL")) -> 4.5 | BL86: 赵顺诚 | BM86: =IF($C86="应届",($S86*0.15)/6,IF($C86="往届","","NULL")) -> 4.5 | BN86: 郑永朝 | BO86: =IF($C86="应届",($S86*0.15)/6,IF($C86="往届","","NULL")) -> 4.5 | BP86: 陈文惠 | BQ86: =IF($C86="应届",($S86*0.15)/6,IF($C86="往届","","NULL")) -> 4.5 | BR86: 田友米 | BS86: =IF($C86="应届",($S86*0.15)/6,IF($C86="往届","","NULL")) -> 4.5 | BT86: 10 | BU86: 向美娟 | BV86: =IF($C86="应届",($S86*0.25)/6,IF($C86="往届",($S86*0.5)/6,"NULL")) -> 7.5 | BW86: 潘勇 | BX86: =IF($C86="应届",($S86*0.25)/6,IF($C86="往届",($S86*0.5)/6,"NULL")) -> 7.5 | BY86: 赵顺诚 | BZ86: =IF($C86="应届",($S86*0.25)/6,IF($C86="往届",($S86*0.5)/6,"NULL")) -> 7.5 | CA86: 王友春 | CB86: =IF($C86="应届",($S86*0.25)/6,IF($C86="往届",($S86*0.5)/6,"NULL")) -> 7.5 | CC86: 陈文惠 | CD86: =IF($C86="应届",($S86*0.25)/6,IF($C86="往届",($S86*0.5)/6,"NULL")) -> 7.5 | CE86: 田友米 | CF86: =IF($C86="应届",($S86*0.25)/6,IF($C86="往届",($S86*0.5)/6,"NULL")) -> 7.5 | CG86: 10 | CH86: 向美娟 | CI86: =IF($C86="应届",($S86*0.25)/6,IF($C86="往届",($S86*0.5)/6,"NULL")) -> 7.5 | CJ86: 潘勇 | CK86: =IF($C86="应届",($S86*0.25)/6,IF($C86="往届",($S86*0.5)/6,"NULL")) -> 7.5 | CL86: 赵顺诚 | CM86: =IF($C86="应届",($S86*0.25)/6,IF($C86="往届",($S86*0.5)/6,"NULL")) -> 7.5 | CN86: 王友春 | CO86: =IF($C86="应届",($S86*0.25)/6,IF($C86="往届",($S86*0.5)/6,"NULL")) -> 7.5 | CP86: 陈文惠 | CQ86: =IF($C86="应届",($S86*0.25)/6,IF($C86="往届",($S86*0.5)/6,"NULL")) -> 7.5 | CR86: 田友米 | CS86: =IF($C86="应届",($S86*0.25)/6,IF($C86="往届",($S86*0.5)/6,"NULL")) -> 7.5
A87: 鲁丁次尔 | B87: 513422200510260013 | C87: 应届 | D87: 理科 | F87: 1 | G87: 1 | H87: 108 | I87: 92 | J87: 99 | K87: 80.5 | L87: 65 | M87: 75 | N87: 520 | O87: =IF(D87="理科",IF(N87>=分数线!$C$2,"本科",""),IF(D87="文科",IF(N87>=分数线!$C$3,"本科",""))) -> 本科 | P87: =IF(F87>0,IF(O87="本科",(2-F87)*36,-(F87)*36),IF(O87="本科",2*36,0)) -> 36 | Q87: =IF(D87="理科",IF(N87>=分数线!$C$6,"重本",""),IF(D87="文科",IF(N87>=分数线!$C$7,"重本",""))) -> 重本 | R87: =IF(G87>0,IF(Q87="重本",G87*72,-(G87)*72),IF(Q87="重本",2*72,0)) -> 72 | S87: =P87+R87 -> 108 | T87: 10 | U87: 向美娟 | V87: =IF($C87="应届",($S87*0.1)/6,IF($C87="往届","","NULL")) -> 1.8 | W87: 徐万雄 | X87: =IF($C87="应届",($S87*0.1)/6,IF($C87="往届","","NULL")) -> 1.8 | Y87: 聂艳梅 | Z87: =IF($C87="应届",($S87*0.1)/6,IF($C87="往届","","NULL")) -> 1.8 | AA87: 郑永朝 | AB87: =IF($C87="应届",($S87*0.1)/6,IF($C87="往届","","NULL")) -> 1.8 | AC87: 陈文惠 | AD87: =IF($C87="应届",($S87*0.1)/6,IF($C87="往届","","NULL")) -> 1.8 | AE87: 田友米 | AF87: =IF($C87="应届",($S87*0.1)/6,IF($C87="往届","","NULL")) -> 1.8 | AG87: 10 | AH87: 向美娟 | AI87: =IF($C87="应届",($S87*0.1)/6,IF($C87="往届","","NULL")) -> 1.8 | AJ87: 徐万雄 | AK87: =IF($C87="应届",($S87*0.1)/6,IF($C87="往届","","NULL")) -> 1.8 | AL87: 聂艳梅 | AM87: =IF($C87="应届",($S87*0.1)/6,IF($C87="往届","","NULL")) -> 1.8 | AN87: 郑永朝 | AO87: =IF($C87="应届",($S87*0.1)/6,IF($C87="往届","","NULL")) -> 1.8 | AP87: 陈文惠 | AQ87: =IF($C87="应届",($S87*0.1)/6,IF($C87="往届","","NULL")) -> 1.8 | AR87: 田友米 | AS87: =IF($C87="应届",($S87*0.1)/6,IF($C87="往届","","NULL")) -> 1.8 | AT87: 10 | AU87: 向美娟 | AV87: =IF($C87="应届",($S87*0.15)/6,IF($C87="往届","","NULL")) -> 2.7 | AW87: 徐万雄 | AX87: =IF($C87="应届",($S87*0.15)/6,IF($C87="往届","","NULL")) -> 2.7 | AY87: 赵顺诚 | AZ87: =IF($C87="应届",($S87*0.15)/6,IF($C87="往届","","NULL")) -> 2.7 | BA87: 王玉强 | BB87: =IF($C87="应届",($S87*0.15)/6,IF($C87="往届","","NULL")) -> 2.7 | BC87: 陈文惠 | BD87: =IF($C87="应届",($S87*0.15)/6,IF($C87="往届","","NULL")) -> 2.7 | BE87: 田友米 | BF87: =IF($C87="应届",($S87*0.15)/6,IF($C87="往届","","NULL")) -> 2.7 | BG87: 10 | BH87: 向美娟 | BI87: =IF($C87="应届",($S87*0.15)/6,IF($C87="往届","","NULL")) -> 2.7 | BJ87: 徐万雄 | BK87: =IF($C87="应届",($S87*0.15)/6,IF($C87="往届","","NULL")) -> 2.7 | BL87: 赵顺诚 | BM87: =IF($C87="应届",($S87*0.15)/6,IF($C87="往届","","NULL")) -> 2.7 | BN87: 郑永朝 | BO87: =IF($C87="应届",($S87*0.15)/6,IF($C87="往届","","NULL")) -> 2.7 | BP87: 陈文惠 | BQ87: =IF($C87="应届",($S87*0.15)/6,IF($C87="往届","","NULL")) -> 2.7 | BR87: 田友米 | BS87: =IF($C87="应届",($S87*0.15)/6,IF($C87="往届","","NULL")) -> 2.7 | BT87: 10 | BU87: 向美娟 | BV87: =IF($C87="应届",($S87*0.25)/6,IF($C87="往届",($S87*0.5)/6,"NULL")) -> 4.5 | BW87: 潘勇 | BX87: =IF($C87="应届",($S87*0.25)/6,IF($C87="往届",($S87*0.5)/6,"NULL")) -> 4.5 | BY87: 赵顺诚 | BZ87: =IF($C87="应届",($S87*0.25)/6,IF($C87="往届",($S87*0.5)/6,"NULL")) -> 4.5 | CA87: 王友春 | CB87: =IF($C87="应届",($S87*0.25)/6,IF($C87="往届",($S87*0.5)/6,"NULL")) -> 4.5 | CC87: 陈文惠 | CD87: =IF($C87="应届",($S87*0.25)/6,IF($C87="往届",($S87*0.5)/6,"NULL")) -> 4.5 | CE87: 田友米 | CF87: =IF($C87="应届",($S87*0.25)/6,IF($C87="往届",($S87*0.5)/6,"NULL")) -> 4.5 | CG87: 10 | CH87: 向美娟 | CI87: =IF($C87="应届",($S87*0.25)/6,IF($C87="往届",($S87*0.5)/6,"NULL")) -> 4.5 | CJ87: 潘勇 | CK87: =IF($C87="应届",($S87*0.25)/6,IF($C87="往届",($S87*0.5)/6,"NULL")) -> 4.5 | CL87: 赵顺诚 | CM87: =IF($C87="应届",($S87*0.25)/6,IF($C87="往届",($S87*0.5)/6,"NULL")) -> 4.5 | CN87: 王友春 | CO87: =IF($C87="应届",($S87*0.25)/6,IF($C87="往届",($S87*0.5)/6,"NULL")) -> 4.5 | CP87: 陈文惠 | CQ87: =IF($C87="应届",($S87*0.25)/6,IF($C87="往届",($S87*0.5)/6,"NULL")) -> 4.5 | CR87: 田友米 | CS87: =IF($C87="应届",($S87*0.25)/6,IF($C87="往届",($S87*0.5)/6,"NULL")) -> 4.5
A88: 吕小勇 | B88: 513422200306152111 | C88: 应届 | D88: 理科 | F88: 1 | G88: 1 | H88: 110 | I88: 84 | J88: 111 | K88: 69 | L88: 63 | M88: 82 | N88: 519 | O88: =IF(D88="理科",IF(N88>=分数线!$C$2,"本科",""),IF(D88="文科",IF(N88>=分数线!$C$3,"本科",""))) -> 本科 | P88: =IF(F88>0,IF(O88="本科",(2-F88)*36,-(F88)*36),IF(O88="本科",2*36,0)) -> 36 | Q88: =IF(D88="理科",IF(N88>=分数线!$C$6,"重本",""),IF(D88="文科",IF(N88>=分数线!$C$7,"重本",""))) | R88: =IF(G88>0,IF(Q88="重本",G88*72,-(G88)*72),IF(Q88="重本",2*72,0)) -> -72 | S88: =P88+R88 -> -36 | T88: 10 | U88: 向美娟 | V88: =IF($C88="应届",($S88*0.1)/6,IF($C88="往届","","NULL")) -> -0.6 | W88: 徐万雄 | X88: =IF($C88="应届",($S88*0.1)/6,IF($C88="往届","","NULL")) -> -0.6 | Y88: 聂艳梅 | Z88: =IF($C88="应届",($S88*0.1)/6,IF($C88="往届","","NULL")) -> -0.6 | AA88: 郑永朝 | AB88: =IF($C88="应届",($S88*0.1)/6,IF($C88="往届","","NULL")) -> -0.6 | AC88: 陈文惠 | AD88: =IF($C88="应届",($S88*0.1)/6,IF($C88="往届","","NULL")) -> -0.6 | AE88: 田友米 | AF88: =IF($C88="应届",($S88*0.1)/6,IF($C88="往届","","NULL")) -> -0.6 | AG88: 10 | AH88: 向美娟 | AI88: =IF($C88="应届",($S88*0.1)/6,IF($C88="往届","","NULL")) -> -0.6 | AJ88: 徐万雄 | AK88: =IF($C88="应届",($S88*0.1)/6,IF($C88="往届","","NULL")) -> -0.6 | AL88: 聂艳梅 | AM88: =IF($C88="应届",($S88*0.1)/6,IF($C88="往届","","NULL")) -> -0.6 | AN88: 郑永朝 | AO88: =IF($C88="应届",($S88*0.1)/6,IF($C88="往届","","NULL")) -> -0.6 | AP88: 陈文惠 | AQ88: =IF($C88="应届",($S88*0.1)/6,IF($C88="往届","","NULL")) -> -0.6 | AR88: 田友米 | AS88: =IF($C88="应届",($S88*0.1)/6,IF($C88="往届","","NULL")) -> -0.6 | AT88: 10 | AU88: 向美娟 | AV88: =IF($C88="应届",($S88*0.15)/6,IF($C88="往届","","NULL")) -> -0.9 | AW88: 徐万雄 | AX88: =IF($C88="应届",($S88*0.15)/6,IF($C88="往届","","NULL")) -> -0.9 | AY88: 赵顺诚 | AZ88: =IF($C88="应届",($S88*0.15)/6,IF($C88="往届","","NULL")) -> -0.9 | BA88: 王玉强 | BB88: =IF($C88="应届",($S88*0.15)/6,IF($C88="往届","","NULL")) -> -0.9 | BC88: 陈文惠 | BD88: =IF($C88="应届",($S88*0.15)/6,IF($C88="往届","","NULL")) -> -0.9 | BE88: 田友米 | BF88: =IF($C88="应届",($S88*0.15)/6,IF($C88="往届","","NULL")) -> -0.9 | BG88: 10 | BH88: 向美娟 | BI88: =IF($C88="应届",($S88*0.15)/6,IF($C88="往届","","NULL")) -> -0.9 | BJ88: 徐万雄 | BK88: =IF($C88="应届",($S88*0.15)/6,IF($C88="往届","","NULL")) -> -0.9 | BL88: 赵顺诚 | BM88: =IF($C88="应届",($S88*0.15)/6,IF($C88="往届","","NULL")) -> -0.9 | BN88: 郑永朝 | BO88: =IF($C88="应届",($S88*0.15)/6,IF($C88="往届","","NULL")) -> -0.9 | BP88: 陈文惠 | BQ88: =IF($C88="应届",($S88*0.15)/6,IF($C88="往届","","NULL")) -> -0.9 | BR88: 田友米 | BS88: =IF($C88="应届",($S88*0.15)/6,IF($C88="往届","","NULL")) -> -0.9 | BT88: 10 | BU88: 向美娟 | BV88: =IF($C88="应届",($S88*0.25)/6,IF($C88="往届",($S88*0.5)/6,"NULL")) -> -1.5 | BW88: 潘勇 | BX88: =IF($C88="应届",($S88*0.25)/6,IF($C88="往届",($S88*0.5)/6,"NULL")) -> -1.5 | BY88: 赵顺诚 | BZ88: =IF($C88="应届",($S88*0.25)/6,IF($C88="往届",($S88*0.5)/6,"NULL")) -> -1.5 | CA88: 王友春 | CB88: =IF($C88="应届",($S88*0.25)/6,IF($C88="往届",($S88*0.5)/6,"NULL")) -> -1.5 | CC88: 陈文惠 | CD88: =IF($C88="应届",($S88*0.25)/6,IF($C88="往届",($S88*0.5)/6,"NULL")) -> -1.5 | CE88: 田友米 | CF88: =IF($C88="应届",($S88*0.25)/6,IF($C88="往届",($S88*0.5)/6,"NULL")) -> -1.5 | CG88: 10 | CH88: 向美娟 | CI88: =IF($C88="应届",($S88*0.25)/6,IF($C88="往届",($S88*0.5)/6,"NULL")) -> -1.5 | CJ88: 潘勇 | CK88: =IF($C88="应届",($S88*0.25)/6,IF($C88="往届",($S88*0.5)/6,"NULL")) -> -1.5 | CL88: 赵顺诚 | CM88: =IF($C88="应届",($S88*0.25)/6,IF($C88="往届",($S88*0.5)/6,"NULL")) -> -1.5 | CN88: 王友春 | CO88: =IF($C88="应届",($S88*0.25)/6,IF($C88="往届",($S88*0.5)/6,"NULL")) -> -1.5 | CP88: 陈文惠 | CQ88: =IF($C88="应届",($S88*0.25)/6,IF($C88="往届",($S88*0.5)/6,"NULL")) -> -1.5 | CR88: 田友米 | CS88: =IF($C88="应届",($S88*0.25)/6,IF($C88="往届",($S88*0.5)/6,"NULL")) -> -1.5
