Workbook

Sheet 请假统计
A1: 2023-2024学年上期请假统计（2023.8.31-2024.1.26）
A2: 姓名 | B2: 请假时间 | C2: 请假类别 | D2: 请假天数 | E2: 审批人 | F2: 备注
A3: 车梦德 | B3: 2023.12.22-12.23 | C3: 事假 | D3: 2 | E3: 李树海
A4: 陈国萍 | B4: 2023.8.31-9.4 | C4: 病假 | D4: 5 | E4: 欧禹良
A5: 陈国萍 | B5: 2023.9.5-9.9 | C5: 住院病假 | D5: 5 | E5: 欧禹良
A6: 陈国萍 | B6: 2023.10.16-10.18 | C6: 事假 | D6: 3 | E6: 李树海
A7: 陈国萍 | B7: 2023.11.22 | C7: 住院病假 | D7: 1 | E7: 欧禹良
A8: 陈国萍 | B8: 2024.1.21-1.26 | C8: 事假 | D8: 6 | E8: 欧禹良
A9: 陈文惠 | B9: 2023.12.25-12.26 | C9: 病假 | D9: 2 | E9: 欧禹良
A10: 崔萌 | B10: 2023.12.1-12.2 | C10: 事假 | D10: 2 | F10: 未写假条
A11: 崔萌 | B11: 20231.12.23 | C11: 事假 | D11: 1 | E11: 李树海
A12: 旦珠拉初 | B12: 2023.11.9-11.13 | C12: 事假 | D12: 5 | E12: 欧禹良
A13: 旦珠拉初 | B13: 2023.11.22-11.23 | C13: 事假 | D13: 2 | E13: 李树海
A14: 旦珠拉初 | B14: 2024.1.8-1.12 | C14: 婚假 | D14: 5 | E14: 欧禹良
A15: 邓琪 | B15: 2023.12.6-12.7 | C15: 病假 | D15: 2 | E15: 李树海
A16: 邓倩 | B16: 2023.9.20-9.21 | C16: 事假 | D16: 2 | E16: 李树海
A17: 邓倩 | B17: 2023.10.13 | C17: 事假 | D17: 1 | E17: 李树海
A18: 邓倩 | B18: 2023.12.13下午-12.14 | C18: 事假 | D18: 1.5 | E18: 李树海
A19: 邓彤 | B19: 2023.11.16-11.17上午 | C19: 事假 | D19: 1.5 | E19: 李树海
A20: 邓彤 | B20: 2023.12.21 | C20: 事假 | D20: 1 | E20: 李树海
A21: 杜基次尔 | B21: 2023.11.3-11.4 | C21: 事假 | D21: 2 | E21: 李树海
A22: 杜基次尔 | B22: 2022.12.2-12.4 | C22: 婚假 | D22: 3 | E22: 李树海
A23: 杜基次尔 | B23: 2022.12.7下午-12.9 | C23: 婚假 | D23: 2.5 | E23: 李树海
A24: 杜基次尔 | B24: 2024.1.7下午-1.8上午 | C24: 事假 | D24: 1 | E24: 欧禹良 | F24: 未交相关材料
A25: 方帮林 | B25: 2024.1.10-1.12 | C25: 病假 | D25: 3 | E25: 李树海
A26: 高贵勇 | B26: 2023.12.21晚上-12.23 | C26: 事假 | D26: 2.5 | E26: 李树海
A27: 格绒燚西 | B27: 2023.11.22-12.2 | C27: 丧假 | D27: 7
A28: 胡东缘 | B28: 2023.12.27-12.29 | C28: 病假 | D28: 3 | E28: 李树海
A29: 胡付松 | B29: 2023.11.30 | C29: 事假 | D29: 1 | E29: 李树海
A30: 胡付松 | B30: 2023.12.25-12.26 | C30: 事假 | D30: 2 | E30: 欧禹良
A31: 胡慧芳 | B31: 2023.9.22-9.23 | C31: 事假 | D31: 2 | E31: 李树海
A32: 胡慧芳 | B32: 2023.12.25-12.26 | C32: 事假 | D32: 2 | E32: 李树海
A33: 胡慧芳 | B33: 2024.1.7下午 | C33: 事假 | D33: 0.5 | E33: 李树海
A34: 胡建英 | B34: 2024.1.6-1.8 | C34: 病假 | D34: 3 | E34: 李树海
A35: 胡建英 | B35: 2024.1.23-1.24 | C35: 病假 | D35: 2 | E35: 李树海
A36: 胡伟杰 | B36: 2023.12.28 | C36: 病假 | D36: 1 | E36: 李树海
A37: 胡伟杰 | B37: 2024.1.16-1.20 | C37: 婚假 | D37: 5 | E37: 欧禹良
A38: 纪春权 | B38: 2023.9.11下午-9.16 | C38: 事假 | D38: 5.5 | E38: 欧禹良
A39: 纪春权 | B39: 2024.1.2-1.4 | C39: 事假 | D39: 3 | E39: 欧禹良
... A51: 李荣鑫 | B51: 2023.12.18-12.23上午 | C51: 住院病假 | D51: 5.5 | E51: 欧禹良
A52: 李树海 | B52: 2023.12.14-12.16 | C52: 病假 | D52: 3 | F52: 未提供病假材料
A53: 李希 | B53: 2023.12.28-12.30 | C53: 事假 | D53: 3 | E53: 李树海
A54: 李希 | B54: 2024.1.25-1.26 | C54: 婚假 | D54: 2 | E54: 李树海
A55: 李永会 | B55: 2024.1.19 | C55: 事假 | D55: 1 | E55: 李树海
A56: 立日木里 | B56: 2024.1.10 | C56: 事假 | D56: 1 | E56: 欧禹良
A57: 廖云虹 | B57: 2023.12.18-12.19 | C57: 事假 | D57: 2 | E57: 李树海
A58: 廖云虹 | B58: 2024.1.16-1.20 | C58: 婚假 | D58: 5 | E58: 欧禹良
A59: 刘厚江 | B59: 2023.10.30-11.2 | C59: 事假 | D59: 4 | E59: 欧禹良
A60: 卢祥 | B60: 2023.11.15下午-2023.11.18 | C60: 事假 | D60: 3.5 | E60: 欧禹良
A61: 卢银楷 | B61: 2023.10.27-10.28 | C61: 事假 | D61: 2 | E61: 李树海
A62: 卢银楷 | B62: 2023.11.24-11.25 | C62: 事假 | D62: 2 | E62: 李树海
A63: 卢银楷 | B63: 2024.1.2-1.3 | C63: 事假 | D63: 2 | F63: 未写假条
A64: 鲁绒旦友 | B64: 2023.10.23 | C64: 事假 | D64: 1 | E64: 李树海
A65: 吕开绒 | B65: 2023.12.6-12.12 | C65: 住院病假 | D65: 7 | E65: 欧禹良
A66: 马俊 | B66: 2023.9.27-9.29 | C66: 事假 | D66: 3 | E66: 李树海
A67: 马俊 | B67: 2023.11.20-11.22 | C67: 事假 | D67: 3 | E67: 李树海
A68: 马俊 | B68: 2023.10.16 | C68: 事假 | D68: 1 | E68: 李树海
A69: 马俊 | B69: 2023.12.8-12.11 | C69: 事假 | D69: 4 | E69: 欧禹良
A70: 马俊 | B70: 2024.1.10-1.26 | C70: 护理假 | D70: 17
A71: 马磊 | B71: 2023.11.16-11.17上午 | C71: 事假 | D71: 1.5 | E71: 李树海
A72: 马磊 | B72: 2023.12.21 | C72: 事假 | D72: 1 | E72: 李树海
A73: 马巫各 | B73: 2023.12.25下午-12.27 | C73: 事假 | D73: 2.5 | E73: 李树海
A74: 潘勇 | B74: 2023.12.11上午 | C74: 事假 | D74: 0.5 | E74: 李树海
A75: 潘勇 | B75: 2023.12.28-12.29 | C75: 事假 | D75: 2 | E75: 李树海
A76: 彭桦 | B76: 2023.9.11下午-9.15 | C76: 住院病假 | D76: 4.5 | E76: 欧禹良
A77: 彭桦 | B77: 2023.9.16-9.27 | C77: 计划生育假 | D77: 12 | E77: 欧禹良
A78: 群群 | B78: 2024.1.7下午 | C78: 事假 | D78: 0.5 | E78: 李树海
A79: 仁青拉初食堂 | B79: 2023.8.31-9.7 | C79: 病假 | D79: 8 | E79: 欧禹良
A80: 仁青拉初政治 | B80: 2024.1.15 | C80: 事假 | D80: 1 | E80: 李树海
A81: 申海冰 | B81: 2023.11.6-11.7 | C81: 事假 | D81: 2 | E81: 李树海
A82: 石敏 | B82: 2023.12.12下午-12.14 | C82: 住院病假 | D82: 2.5 | E82: 李树海
... A89: 叶屏 | B89: 2023.9.9上午 | C89: 事假 | D89: 0.5 | E89: 李树海
A90: 叶屏 | B90: 2023.12.30-12.25 | C90: 住院病假 | D90: 10 | E90: 欧禹良 | F90: 实际5天，学校领导关心考虑，记为10天
A91: 叶屏 | B91: 2023.12.4-1.26 | C91: 病假 | D91: 43 | E91: 欧禹良 | F91: 共计请假53天，除掉10天后，剩余43天；
A92: 叶仁群 | B92: 2023.11.6-11.9 | C92: 事假 | D92: 4 | E92: 欧禹良
A93: 叶仁群 | B93: 2024.1.15-1.19 | C93: 住院病假 | D93: 5 | E93: 欧禹良
A94: 尤顺芝 | B94: 2024.1.18-1.21 | C94: 事假 | D94: 4 | E94: 李树海
A95: 岳子琦 | B95: 2023.12.14-12.15 | C95: 事假 | D95: 2 | E95: 李树海
A96: 扎西旦珠 | B96: 2023.11.25-11.26 | C96: 事假 | D96: 2 | E96: 欧禹良
A97: 扎西旦珠 | B97: 2024.1.2-1.5 | C97: 事假 | D97: 4 | E97: 欧禹良
A98: 张福琴 | B98: 2023.11.28-11.30 | C98: 事假 | D98: 3 | E98: 李树海
A99: 张福琴 | B99: 2024.1.13 | C99: 病假 | D99: 1 | E99: 李树海 | F99: 产检
A100: 张斯杰 | B100: 2023.12.21晚上-12.23 | C100: 事假 | D100: 2.5 | E100: 李树海
A101: 赵顺诚 | B101: 2023.11.30-12.2 | C101: 事假 | D101: 3 | E101: 李树海
A102: 赵云川 | B102: 2023.11.9-11.10 | C102: 事假 | D102: 2 | E102: 李树海
A103: 赵云川 | B103: 2023.12.14-12.15 | C103: 事假 | D103: 2 | E103: 李树海
A104: 周峰 | B104: 2023.9.16-9.18 | C104: 事假 | D104: 3 | E104: 欧禹良
A105: 周峰 | B105: 2023.11.2-11.4 | C105: 事假 | D105: 3 | E105: 李树海
A106: 朱恩凡 | B106: 2024.1.22-1.26 | C106: 婚假 | D106: 5 | E106: 欧禹良

Sheet 请假汇总
A1: 木里中学2023--2024学年度（上）高中部病事假统计公示
A2: 姓名 | B2: 住院病假 | C2: 护理假 | D2: 计划生育假 | E2: 丧假 | F2: 婚假 | G2: 病假 | H2: 事假 | I2: 备注
A3: 车梦德 | H3: =SUMIFS(请假统计!D:D,请假统计!A:A,A3,请假统计!C:C,"事假") -> 2
A4: 陈国萍 | B4: =SUMIFS(请假统计!D:D,请假统计!A:A,A4,请假统计!C:C,"住院病假") -> 6 | G4: =SUMIFS(请假统计!D:D,请假统计!A:A,A4,请假统计!C:C,"病假") -> 5 | H4: 9
A5: 陈文惠 | G5: =SUMIFS(请假统计!D:D,请假统计!A:A,A5,请假统计!C:C,"病假") -> 2
A6: 崔萌 | H6: =SUMIFS(请假统计!D:D,请假统计!A:A,A6,请假统计!C:C,"事假") -> 3
A7: 旦珠拉初 | F7: =SUMIFS(请假统计!D:D,请假统计!A:A,A7,请假统计!C:C,"婚假") -> 5 | H7: =SUMIFS(请假统计!D:D,请假统计!A:A,A7,请假统计!C:C,"事假") -> 7
A8: 邓琪 | G8: =SUMIFS(请假统计!D:D,请假统计!A:A,A8,请假统计!C:C,"病假") -> 2
A9: 邓倩 | H9: =SUMIFS(请假统计!D:D,请假统计!A:A,A9,请假统计!C:C,"事假") -> 4.5
A10: 邓彤 | H10: =SUMIFS(请假统计!D:D,请假统计!A:A,A10,请假统计!C:C,"事假") -> 2.5
A11: 杜基次尔 | F11: =SUMIFS(请假统计!D:D,请假统计!A:A,A11,请假统计!C:C,"婚假") -> 5.5 | H11: =SUMIFS(请假统计!D:D,请假统计!A:A,A11,请假统计!C:C,"事假") -> 3
A12: 方帮林 | G12: =SUMIFS(请假统计!D:D,请假统计!A:A,A12,请假统计!C:C,"病假") -> 3
A13: 高贵勇 | H13: =SUMIFS(请假统计!D:D,请假统计!A:A,A13,请假统计!C:C,"事假") -> 2.5
A14: 格绒燚西 | E14: =SUMIFS(请假统计!D:D,请假统计!A:A,A14,请假统计!C:C,"丧假") -> 7
A15: 胡东缘 | G15: =SUMIFS(请假统计!D:D,请假统计!A:A,A15,请假统计!C:C,"病假") -> 3
A16: 胡付松 | H16: =SUMIFS(请假统计!D:D,请假统计!A:A,A16,请假统计!C:C,"事假") -> 3
A17: 胡慧芳 | H17: =SUMIFS(请假统计!D:D,请假统计!A:A,A17,请假统计!C:C,"事假") -> 4.5
A18: 胡建英 | G18: =SUMIFS(请假统计!D:D,请假统计!A:A,A18,请假统计!C:C,"病假") -> 5
A19: 胡伟杰 | F19: =SUMIFS(请假统计!D:D,请假统计!A:A,A19,请假统计!C:C,"婚假") -> 5 | G19: =SUMIFS(请假统计!D:D,请假统计!A:A,A19,请假统计!C:C,"病假") -> 1
A20: 纪春权 | H20: =SUMIFS(请假统计!D:D,请假统计!A:A,A20,请假统计!C:C,"事假") -> 8.5
A21: 甲阿祝玛 | H21: =SUMIFS(请假统计!D:D,请假统计!A:A,A21,请假统计!C:C,"事假") -> 3
A22: 降初里 | F22: =SUMIFS(请假统计!D:D,请假统计!A:A,A22,请假统计!C:C,"婚假") -> 4
A23: 解超燕 | G23: =SUMIFS(请假统计!D:D,请假统计!A:A,A23,请假统计!C:C,"病假") -> 2
A24: 金贵 | H24: =SUMIFS(请假统计!D:D,请假统计!A:A,A24,请假统计!C:C,"事假") -> 1
A25: 喇菊 | F25: 2 | H25: =SUMIFS(请假统计!D:D,请假统计!A:A,A25,请假统计!C:C,"事假") -> 3
A26: 兰阿布 | H26: =SUMIFS(请假统计!D:D,请假统计!A:A,A26,请假统计!C:C,"事假") -> 9
A27: 李荣鑫 | B27: =SUMIFS(请假统计!D:D,请假统计!A:A,A27,请假统计!C:C,"住院病假") -> 5.5 | F27: =SUMIFS(请假统计!D:D,请假统计!A:A,A27,请假统计!C:C,"婚假") -> 4
A28: 李树海 | G28: =SUMIFS(请假统计!D:D,请假统计!A:A,A28,请假统计!C:C,"病假") -> 3
A29: 李希 | F29: =SUMIFS(请假统计!D:D,请假统计!A:A,A29,请假统计!C:C,"婚假") -> 2 | H29: =SUMIFS(请假统计!D:D,请假统计!A:A,A29,请假统计!C:C,"事假") -> 3
A30: 李永会 | H30: =SUMIFS(请假统计!D:D,请假统计!A:A,A30,请假统计!C:C,"事假") -> 1
A31: 立日木里 | H31: =SUMIFS(请假统计!D:D,请假统计!A:A,A31,请假统计!C:C,"事假") -> 1
A32: 廖云虹 | F32: =SUMIFS(请假统计!D:D,请假统计!A:A,A32,请假统计!C:C,"婚假") -> 5 | H32: =SUMIFS(请假统计!D:D,请假统计!A:A,A32,请假统计!C:C,"事假") -> 2
A33: 刘厚江 | H33: =SUMIFS(请假统计!D:D,请假统计!A:A,A33,请假统计!C:C,"事假") -> 4
A34: 卢祥 | H34: =SUMIFS(请假统计!D:D,请假统计!A:A,A34,请假统计!C:C,"事假") -> 3.5
A35: 卢银楷 | H35: =SUMIFS(请假统计!D:D,请假统计!A:A,A35,请假统计!C:C,"事假") -> 6
A36: 鲁绒旦友 | H36: =SUMIFS(请假统计!D:D,请假统计!A:A,A36,请假统计!C:C,"事假") -> 1
A37: 吕开绒 | B37: =SUMIFS(请假统计!D:D,请假统计!A:A,A37,请假统计!C:C,"住院病假") -> 7
A38: 马俊 | C38: =SUMIFS(请假统计!D:D,请假统计!A:A,A38,请假统计!C:C,"护理假") -> 17 | H38: =SUMIFS(请假统计!D:D,请假统计!A:A,A38,请假统计!C:C,"事假") -> 11
A39: 马磊 | H39: =SUMIFS(请假统计!D:D,请假统计!A:A,A39,请假统计!C:C,"事假") -> 2.5
A40: 马巫各 | H40: =SUMIFS(请假统计!D:D,请假统计!A:A,A40,请假统计!C:C,"事假") -> 2.5
A41: 潘勇 | H41: =SUMIFS(请假统计!D:D,请假统计!A:A,A41,请假统计!C:C,"事假") -> 2.5
A42: 彭桦 | B42: 4.5 | D42: 12
A43: 群群 | H43: =SUMIFS(请假统计!D:D,请假统计!A:A,A43,请假统计!C:C,"事假") -> 0.5
A44: 仁青拉初食堂 | G44: =SUMIFS(请假统计!D:D,请假统计!A:A,A44,请假统计!C:C,"病假") -> 8
A45: 仁青拉初政治 | H45: =SUMIFS(请假统计!D:D,请假统计!A:A,A45,请假统计!C:C,"事假") -> 1
A46: 申海冰 | H46: =SUMIFS(请假统计!D:D,请假统计!A:A,A46,请假统计!C:C,"事假") -> 2
A47: 石敏 | B47: =SUMIFS(请假统计!D:D,请假统计!A:A,A47,请假统计!C:C,"住院病假") -> 2.5
A48: 王德兵 | H48: =SUMIFS(请假统计!D:D,请假统计!A:A,A48,请假统计!C:C,"事假") -> 4
A49: 吴文艺 | B49: =SUMIFS(请假统计!D:D,请假统计!A:A,A49,请假统计!C:C,"住院病假") -> 12
A50: 肖秀秀 | H50: =SUMIFS(请假统计!D:D,请假统计!A:A,A50,请假统计!C:C,"事假") -> 1
A51: 徐万雄 | H51: =SUMIFS(请假统计!D:D,请假统计!A:A,A51,请假统计!C:C,"事假") -> 2
A52: 姚方淑 | H52: =SUMIFS(请假统计!D:D,请假统计!A:A,A52,请假统计!C:C,"事假") -> 4.5
A53: 叶屏 | B53: =SUMIFS(请假统计!D:D,请假统计!A:A,A53,请假统计!C:C,"住院病假") -> 10 | H53: =SUMIFS(请假统计!D:D,请假统计!A:A,A53,请假统计!C:C,"事假") -> 0.5
A54: 叶仁群 | B54: =SUMIFS(请假统计!D:D,请假统计!A:A,A54,请假统计!C:C,"住院病假") -> 5 | H54: =SUMIFS(请假统计!D:D,请假统计!A:A,A54,请假统计!C:C,"事假") -> 4
A55: 尤顺芝 | H55: =SUMIFS(请假统计!D:D,请假统计!A:A,A55,请假统计!C:C,"事假") -> 4
A56: 岳子琦 | H56: =SUMIFS(请假统计!D:D,请假统计!A:A,A56,请假统计!C:C,"事假") -> 2
A57: 扎西旦珠 | H57: =SUMIFS(请假统计!D:D,请假统计!A:A,A57,请假统计!C:C,"事假") -> 6
A58: 张福琴 | F58: 1 | H58: =SUMIFS(请假统计!D:D,请假统计!A:A,A58,请假统计!C:C,"事假") -> 3
A59: 张斯杰 | H59: =SUMIFS(请假统计!D:D,请假统计!A:A,A59,请假统计!C:C,"事假") -> 2.5
A60: 赵顺诚 | H60: =SUMIFS(请假统计!D:D,请假统计!A:A,A60,请假统计!C:C,"事假") -> 3
A61: 赵云川 | H61: =SUMIFS(请假统计!D:D,请假统计!A:A,A61,请假统计!C:C,"事假") -> 4
A62: 周峰 | H62: =SUMIFS(请假统计!D:D,请假统计!A:A,A62,请假统计!C:C,"事假") -> 6
A63: 朱恩凡 | F63: =SUMIFS(请假统计!D:D,请假统计!A:A,A63,请假统计!C:C,"婚假") -> 5

Sheet 扣钱统计
A1: 木里中学2023--2024学年度（上）高中部病事假统计公示（扣钱统计）
A2: 姓名 | B2: 住院病假 | C2: 护理假 | D2: 计划生育假 | E2: 丧假 | F2: 婚假 | G2: 病假 | H2: 事假 | I2: 考勤扣钱 | J2: 法定假日未休完补贴
A3: 车梦德 | H3: =SUMIFS(请假统计!D:D,请假统计!A:A,A3,请假统计!C:C,"事假") -> 2 | I3: 200
A4: 陈国萍 | B4: =SUMIFS(请假统计!D:D,请假统计!A:A,A4,请假统计!C:C,"住院病假") -> 6 | G4: =SUMIFS(请假统计!D:D,请假统计!A:A,A4,请假统计!C:C,"病假") -> 5 | H4: 3+6 | I4: 1500
A5: 陈文惠 | G5: =SUMIFS(请假统计!D:D,请假统计!A:A,A5,请假统计!C:C,"病假") -> 2 | I5: 100
A6: 崔萌 | H6: 2+1 | I6: 300
A7: 旦珠拉初 | F7: =SUMIFS(请假统计!D:D,请假统计!A:A,A7,请假统计!C:C,"婚假") -> 5 | H7: 5+2 | I7: 950 | J7: 200
A8: 邓琪 | G8: =SUMIFS(请假统计!D:D,请假统计!A:A,A8,请假统计!C:C,"病假") -> 2 | I8: 100
A9: 邓倩 | H9: 2+1+1.5 | I9: 450
A10: 邓彤 | H10: 1+1.5 | I10: 250
A11: 杜基次尔 | F11: =SUMIFS(请假统计!D:D,请假统计!A:A,A11,请假统计!C:C,"婚假") -> 5.5 | H11: 2+1 | I11: 300 | J11: 150
A12: 方帮林 | G12: =SUMIFS(请假统计!D:D,请假统计!A:A,A12,请假统计!C:C,"病假") -> 3 | I12: 150
A13: 高贵勇 | H13: =SUMIFS(请假统计!D:D,请假统计!A:A,A13,请假统计!C:C,"事假") -> 2.5 | I13: 250
A14: 格绒燚西 | E14: =SUMIFS(请假统计!D:D,请假统计!A:A,A14,请假统计!C:C,"丧假") -> 7 | I14: 0
A15: 胡东缘 | G15: =SUMIFS(请假统计!D:D,请假统计!A:A,A15,请假统计!C:C,"病假") -> 3 | I15: 150
A16: 胡付松 | H16: 1+2 | I16: 300
A17: 胡慧芳 | H17: 2+2+0.5 | I17: 450
A18: 胡建英 | G18: 3+2 | I18: 250
A19: 胡伟杰 | F19: =SUMIFS(请假统计!D:D,请假统计!A:A,A19,请假统计!C:C,"婚假") -> 5 | G19: =SUMIFS(请假统计!D:D,请假统计!A:A,A19,请假统计!C:C,"病假") -> 1 | I19: 50 | J19: 200
A20: 纪春权 | H20: 5.5+3 | I20: 1125
A21: 甲阿祝玛 | H21: =SUMIFS(请假统计!D:D,请假统计!A:A,A21,请假统计!C:C,"事假") -> 3 | I21: 300
A22: 降初里 | F22: =SUMIFS(请假统计!D:D,请假统计!A:A,A22,请假统计!C:C,"婚假") -> 4 | J22: 300
A23: 解超燕 | G23: =SUMIFS(请假统计!D:D,请假统计!A:A,A23,请假统计!C:C,"病假") -> 2 | I23: 100
A24: 金贵 | H24: =SUMIFS(请假统计!D:D,请假统计!A:A,A24,请假统计!C:C,"事假") -> 1 | I24: 100
A25: 喇菊 | F25: 2 | H25: =SUMIFS(请假统计!D:D,请假统计!A:A,A25,请假统计!C:C,"事假") -> 3 | I25: 300 | J25: 500
A26: 兰阿布 | H26: 2+0.5+2.5+4 | I26: 1100
A27: 李荣鑫 | B27: =SUMIFS(请假统计!D:D,请假统计!A:A,A27,请假统计!C:C,"住院病假") -> 5.5 | F27: =SUMIFS(请假统计!D:D,请假统计!A:A,A27,请假统计!C:C,"婚假") -> 4 | J27: 300
A28: 李树海 | G28: =SUMIFS(请假统计!D:D,请假统计!A:A,A28,请假统计!C:C,"病假") -> 3 | I28: 150
A29: 李希 | F29: =SUMIFS(请假统计!D:D,请假统计!A:A,A29,请假统计!C:C,"婚假") -> 2 | H29: =SUMIFS(请假统计!D:D,请假统计!A:A,A29,请假统计!C:C,"事假") -> 3 | I29: 300 | J29: 500
A30: 李永会 | H30: =SUMIFS(请假统计!D:D,请假统计!A:A,A30,请假统计!C:C,"事假") -> 1 | I30: 100
A31: 立日木里 | H31: =SUMIFS(请假统计!D:D,请假统计!A:A,A31,请假统计!C:C,"事假") -> 1 | I31: 100
A32: 廖云虹 | F32: =SUMIFS(请假统计!D:D,请假统计!A:A,A32,请假统计!C:C,"婚假") -> 5 | H32: =SUMIFS(请假统计!D:D,请假统计!A:A,A32,请假统计!C:C,"事假") -> 2 | I32: 200 | J32: 200
A33: 刘厚江 | H33: =SUMIFS(请假统计!D:D,请假统计!A:A,A33,请假统计!C:C,"事假") -> 4 | I33: 600
A34: 卢祥 | H34: =SUMIFS(请假统计!D:D,请假统计!A:A,A34,请假统计!C:C,"事假") -> 3.5 | I34: 525
A35: 卢银楷 | H35: 2+2+2 | I35: 600
A36: 鲁绒旦友 | H36: =SUMIFS(请假统计!D:D,请假统计!A:A,A36,请假统计!C:C,"事假") -> 1 | I36: 100
A37: 吕开绒 | B37: =SUMIFS(请假统计!D:D,请假统计!A:A,A37,请假统计!C:C,"住院病假") -> 7
A38: 马俊 | C38: =SUMIFS(请假统计!D:D,请假统计!A:A,A38,请假统计!C:C,"护理假") -> 17 | H38: 3+3+1+4 | I38: 1300
A39: 马磊 | H39: 1.5+1 | I39: 250
A40: 马巫各 | H40: =SUMIFS(请假统计!D:D,请假统计!A:A,A40,请假统计!C:C,"事假") -> 2.5 | I40: 250
A41: 潘勇 | H41: 0.5+2 | I41: 250
A42: 彭桦 | B42: 4.5 | D42: 12 | I42: 0
A43: 群群 | H43: =SUMIFS(请假统计!D:D,请假统计!A:A,A43,请假统计!C:C,"事假") -> 0.5 | I43: 50
A44: 仁青拉初食堂 | G44: =SUMIFS(请假统计!D:D,请假统计!A:A,A44,请假统计!C:C,"病假") -> 8 | I44: 800
A45: 仁青拉初政治 | H45: =SUMIFS(请假统计!D:D,请假统计!A:A,A45,请假统计!C:C,"事假") -> 1 | I45: 100
A46: 申海冰 | H46: =SUMIFS(请假统计!D:D,请假统计!A:A,A46,请假统计!C:C,"事假") -> 2 | I46: 200
A47: 石敏 | B47: =SUMIFS(请假统计!D:D,请假统计!A:A,A47,请假统计!C:C,"住院病假") -> 2.5 | I47: 0
A48: 王德兵 | H48: =SUMIFS(请假统计!D:D,请假统计!A:A,A48,请假统计!C:C,"事假") -> 4 | I48: 600
A49: 吴文艺 | B49: =SUMIFS(请假统计!D:D,请假统计!A:A,A49,请假统计!C:C,"住院病假") -> 12 | I49: 0
A50: 肖秀秀 | H50: =SUMIFS(请假统计!D:D,请假统计!A:A,A50,请假统计!C:C,"事假") -> 1 | I50: 100
A51: 徐万雄 | H51: =SUMIFS(请假统计!D:D,请假统计!A:A,A51,请假统计!C:C,"事假") -> 2 | I51: 200
A52: 姚方淑 | H52: 1.5+3 | I52: 450
A53: 叶屏 | B53: =SUMIFS(请假统计!D:D,请假统计!A:A,A53,请假统计!C:C,"住院病假") -> 10 | G53: 43 | H53: =SUMIFS(请假统计!D:D,请假统计!A:A,A53,请假统计!C:C,"事假") -> 0.5 | I53: 4350
A54: 叶仁群 | B54: =SUMIFS(请假统计!D:D,请假统计!A:A,A54,请假统计!C:C,"住院病假") -> 5 | H54: =SUMIFS(请假统计!D:D,请假统计!A:A,A54,请假统计!C:C,"事假") -> 4 | I54: 600
A55: 尤顺芝 | H55: =SUMIFS(请假统计!D:D,请假统计!A:A,A55,请假统计!C:C,"事假") -> 4 | I55: 600
A56: 岳子琦 | H56: =SUMIFS(请假统计!D:D,请假统计!A:A,A56,请假统计!C:C,"事假") -> 2 | I56: 200
A57: 扎西旦珠 | H57: 2+4 | I57: 800
A58: 张福琴 | G58: 1 | H58: =SUMIFS(请假统计!D:D,请假统计!A:A,A58,请假统计!C:C,"事假") -> 3 | I58: 350
A59: 张斯杰 | H59: =SUMIFS(请假统计!D:D,请假统计!A:A,A59,请假统计!C:C,"事假") -> 2.5 | I59: 250
A60: 赵顺诚 | H60: =SUMIFS(请假统计!D:D,请假统计!A:A,A60,请假统计!C:C,"事假") -> 3 | I60: 300
A61: 赵云川 | H61: 2+2 | I61: 400
A62: 周峰 | H62: 3+3 | I62: 600
A63: 朱恩凡 | F63: =SUMIFS(请假统计!D:D,请假统计!A:A,A63,请假统计!C:C,"婚假") -> 5 | J63: 200
A64: 次儿祝玛 | B64: 2023-2024下期婚假补1天 | J64: 100
A65: 潘勇 | B65: 2023-2024下期护理假补8天 | J65: 800

Sheet 扣款规定
