Workbook

Sheet 公示表终
A1: 木里中学初中部2023-2024学年教学质量公示表
A2: 类别 姓名 | B2: 毕业班质量奖 | F2: 学科教学质量奖 | H2: 学科进步奖
B3: 全州1000名优生奖（元） | C3: 基础奖 （初三 班主任、年级主任）（元） | D3: 基础奖 （元） | E3: 贡献奖 （元） | F3: 基础奖 （元） | G3: 贡献奖 （元） | H3: 基础奖 （元） | I3: 贡献奖 （元） | J3: 合计 （元） | K3: 实发 （元） | L3: 备注
A4: 周小军 | B4: 4932.3687 | C4: 1000 | D4: 1665.1147 | E4: 13525.228 | F4: 1854.5455 | G4: 5056.1834 | H4: 1745.4545 | I4: 5408.9005 | J4: =SUM(B4:I4) -> 35187.795 | K4: =ROUND(J4,0) -> 35188
A5: 胡逵 | B5: 1992.8783 | C5: 0 | D5: 3534.0931 | E5: 9251.6874 | F5: 1745.4545 | G5: 2054.7512 | H5: 2443.6364 | I5: 2519.4273 | J5: =SUM(B5:I5) -> 23541.928 | K5: =ROUND(J5,0) -> 23542
A6: 王朝珍 | B6: 3251.5382 | C6: 1000 | D6: 3534.0931 | E6: 12274.718 | F6: 1745.4545 | G6: 4965.6486 | H6: 2443.6364 | I6: 6613.4967 | J6: =SUM(B6:I6) -> 35828.586 | K6: =ROUND(J6,0) -> 35829
A7: 聂登孝 | B7: 5616.8606 | C7: 0 | D7: 2259.5091 | E7: 13472.975 | F7: 872.72727 | G7: 3253.356 | H7: 1221.8182 | I7: 4408.9978 | J7: =SUM(B7:I7) -> 31106.244 | K7: =ROUND(J7,0) -> 31106
A8: 陈云 | B8: 5231.01 | C8: 1000 | D8: 2828.879 | E8: 13305.708 | F8: 1221.8182 | G8: 4006.7648 | H8: 2094.5455 | I8: 6802.4538 | J8: =SUM(B8:I8) -> 36491.179 | K8: =ROUND(J8,0) -> 36491
A9: 唐涛 | B9: 1872.2869 | C9: 0 | D9: 1917.6871 | E9: 7209.256 | F9: 1221.8182 | G9: 2739.6682 | H9: 0 | I9: 1763.5991 | J9: =SUM(B9:I9) -> 16724.316 | K9: =ROUND(J9,0) -> 16724
A10: 玛里 | B10: 1670.9657 | C10: 0 | D10: 3052.1218 | E10: 7128.9267 | F10: 2571.6364 | G10: 5154.941 | H10: 4189.0909 | I10: 5390.528 | J10: =SUM(B10:I10) -> 29158.211 | K10: =ROUND(J10,0) -> 29158
A11: 卓玛 | B11: 3118.0902 | C11: 0 | D11: 3179.9677 | E11: 9663.0458 | F11: 2094.5455 | G11: 3424.5853 | H11: 4189.0909 | I11: 5143.8308 | J11: =SUM(B11:I11) -> 30813.156 | K11: =ROUND(J11,0) -> 30813
A12: 群群 | B12: 3433.6543 | C12: 0 | D12: 1391.6448 | E12: 12865.394 | F12: 1890.9091 | G12: 4566.1137 | H12: 0 | I12: 2939.3319 | J12: =SUM(B12:I12) -> 27087.047 | K12: =ROUND(J12,0) -> 27087
A13: 梁明霞 | B13: 1892.419 | C13: 0 | D13: 1644.4699 | E13: 10063.351 | F13: 2178.9091 | G13: 3450.4413 | H13: 0 | I13: 1889.5705 | J13: =SUM(B13:I13) -> 21119.161 | K13: =ROUND(J13,0) -> 21119
A14: 马志泽 | B14: 392.57628 | C14: 0 | D14: 2950.9918 | E14: 5263.5542 | F14: 786.90909 | G14: 2011.419 | H14: 0 | I14: 1347.6497 | J14: =SUM(B14:I14) -> 12753.1 | K14: =ROUND(J14,0) -> 12753
A15: 罗长秀 | B15: 1396.9784 | C15: 0 | D15: 3304.947 | E15: 4763.1648 | F15: 349.09091 | G15: 611.47606 | H15: 0 | I15: 631.32503 | J15: =SUM(B15:I15) -> 11056.982 | K15: =ROUND(J15,0) -> 11057
... A21: 张明书 | B21: 4443.7944 | C21: 2000 | D21: 1969.3066 | E21: 12933.668 | F21: 872.72727 | G21: 3424.5853 | H21: 1221.8182 | I21: 5038.8546 | J21: =SUM(B21:I21) -> 31904.754 | K21: =ROUND(J21,0) -> 31905
A22: 杨启芬 | B22: 4585.0397 | C22: 0 | D22: 3254.3819 | E22: 15203.85 | F22: 1745.4545 | G22: 5308.1072 | H22: 2443.6364 | I22: 6613.4967 | J22: =SUM(B22:I22) -> 39153.967 | K22: 11746 | L22: 辞职发30％
A23: 罗阿只 | B23: 1564.5633 | C23: 0 | D23: 1917.6871 | E23: 4996.2643 | F23: 1221.8182 | G23: 3082.1267 | H23: 0 | I23: 1511.6564 | J23: =SUM(B23:I23) -> 14294.116 | K23: =ROUND(J23,0) -> 14294
A24: 李万芬 | B24: 1368.9929 | C24: 0 | D24: 2543.4349 | E24: 6728.3037 | F24: 2036.3636 | G24: 2111.8276 | H24: 3490.9091 | I24: 2624.4035 | J24: =SUM(B24:I24) -> 20904.235 | K24: =ROUND(J24,0) -> 20904
A25: 李永鑫 | B25: 1477.6431 | C25: 0 | D25: 885.48378 | E25: 5082.8467 | F25: 570.18182 | G25: 542.226 | H25: 0 | I25: 892.29717 | J25: =SUM(B25:I25) -> 9450.6786 | K25: =ROUND(J25,0) -> 9451
A26: 金尔启 | B26: 325.95069 | C26: 0 | D26: 2133.1817 | E26: 3269.5524 | F26: 305.45455 | G26: 292.23128 | H26: 0 | I26: 325.64938 | J26: =SUM(B26:I26) -> 6652.02 | K26: =ROUND(J26,0) -> 6652
A27: 德西措姆 | B27: 756.2056 | C27: 0 | D27: 1222.6708 | E27: 2488.9459 | F27: 610.90909 | G27: 1712.5611 | H27: 0 | I27: 640.27369 | J27: =SUM(B27:I27) -> 7431.5662 | K27: =ROUND(J27,0) -> 7432
A28: 杨仁清祝玛 | B28: 1434.183 | C28: 0 | D28: 4118.7978 | E28: 2646.4272 | F28: 2036.3636 | G28: 3652.891 | H28: 0 | I28: 839.80911 | J28: =SUM(B28:I28) -> 14728.472 | K28: =ROUND(J28,0) -> 14728
A29: 农树苏朗央青 | B29: 0 | C29: 1000 | D29: 2445.3416 | E29: 5266.7619 | F29: 2909.0909 | G29: 2054.7512 | H29: 3490.9091 | I29: 2204.4989 | J29: =SUM(B29:I29) -> 19371.354 | K29: =ROUND(J29,0) -> 19371
A30: 罗建华 | B30: 0 | C30: 1000 | D30: 3534.0931 | E30: 9051.3028 | F30: 1745.4545 | G30: 2739.6682 | H30: 2443.6364 | I30: 3779.141 | J30: =SUM(B30:I30) -> 24293.296 | K30: =ROUND(J30,0) -> 24293
A31: 南卡拉姆 | B31: 0 | C31: 1000 | D31: 3052.1218 | E31: 10958.363 | F31: 1745.4545 | G31: 4451.9608 | H31: 2443.6364 | I31: 5038.8546 | J31: =SUM(B31:I31) -> 28690.391 | K31: =ROUND(J31,0) -> 28690
A32: 张尚玲 | B32: 0 | C32: 1000 | D32: 2566.1063 | E32: 69.511069 | F32: 0 | G32: 0 | H32: 0 | I32: 0 | J32: =SUM(B32:I32) -> 3635.6173 | K32: =ROUND(J32,0) -> 3636
A33: 鲁绒偏初 | B33: 0 | C33: 1000 | D33: 1930.5811 | E33: 8101.9693 | F33: 1454.5455 | G33: 2910.8975 | H33: 1745.4545 | I33: 3149.2841 | J33: =SUM(B33:I33) -> 20292.732 | K33: =ROUND(J33,0) -> 20293
A34: 拥珍卓玛 | B34: 0 | C34: 0 | D34: 2349.8299 | E34: 2721.7289 | F34: 2121.2121 | G34: 4180.2589 | H34: 1745.4545 | I34: 1889.5705 | J34: =SUM(B34:I34) -> 15008.055 | K34: =ROUND(J34,0) -> 15008
... A41: 朱拉姆 | B41: 0 | C41: 0 | D41: 2570.988 | E41: 2082.2199 | F41: 1745.4545 | G41: 0 | H41: 2443.6364 | I41: 0 | J41: =SUM(B41:I41) -> 8842.2988 | K41: =ROUND(J41,0) -> 8842
A42: 董冬初 | B42: 0 | C42: 0 | D42: 1049.9478 | E42: 313.60768 | F42: 203.63636 | G42: 0 | H42: 0 | I42: 0 | J42: =SUM(B42:I42) -> 1567.1918 | K42: 2000 | L42: 补齐2000
A43: 次尔祝玛（小） | B43: 0 | C43: 0 | D43: 809.04036 | E43: 1951.4878 | F43: 203.63636 | G43: 0 | H43: 0 | I43: 0 | J43: =SUM(B43:I43) -> 2964.1645 | K43: =ROUND(J43,0) -> 2964
A44: 拉木央青 | B44: 0 | C44: 0 | D44: 2647.6017 | E44: 7375.5492 | F44: 1745.4545 | G44: 2568.4389 | H44: 2443.6364 | I44: 3464.2126 | J44: =SUM(B44:I44) -> 20244.893 | K44: =ROUND(J44,0) -> 20245
A45: 袁诗燕 | B45: 0 | C45: 0 | D45: 252.99536 | E45: 1029.1591 | F45: 162.90909 | G45: 0 | H45: 0 | I45: 0 | J45: =SUM(B45:I45) -> 1445.0636 | K45: =ROUND(J45,0) -> 1445 | L45: 已退休
A46: 赵正云 | B46: 0 | C46: 0 | D46: 1752.3405 | E46: 2494.3308 | F46: 872.72727 | G46: 285.38211 | H46: 1745.4545 | I46: 944.78524 | J46: =SUM(B46:I46) -> 8095.0205 | K46: =ROUND(J46,0) -> 8095
A47: 蒋文秀 | B47: 0 | C47: 0 | D47: 1340.7392 | E47: 2987.9591 | F47: 1309.0909 | G47: 0 | H47: 0 | I47: 0 | J47: =SUM(B47:I47) -> 5637.7893 | K47: =ROUND(J47,0) -> 5638
A48: 曾泉 | B48: 0 | C48: 0 | D48: 50.565022 | E48: 388.30159 | F48: 0 | G48: 0 | H48: 0 | I48: 0 | J48: =SUM(B48:I48) -> 438.86661 | K48: 2000 | L48: 补齐2000
A49: 苏朗初姆 | B49: 0 | C49: 0 | D49: 1113.3669 | E49: 0 | F49: 0 | G49: 0 | H49: 0 | I49: 0 | J49: =SUM(B49:I49) -> 1113.3669 | K49: 2000 | L49: 补齐2000
A50: 丹杰尼玛 | B50: 0 | C50: 0 | D50: 75.847534 | E50: 43.635169 | F50: 0 | G50: 0 | H50: 0 | I50: 0 | J50: =SUM(B50:I50) -> 119.4827 | K50: 2000 | L50: 补齐2000
A51: 阿尔木牛 | B51: 0 | C51: 0 | D51: 556.21525 | E51: 0 | F51: 3424 | G51: 4152.1504 | H51: 0 | I51: 124.89048 | J51: =SUM(B51:I51) -> 8257.2561 | K51: =ROUND(J51,0) -> 8257
A52: 李向 | B52: 0 | C52: 0 | D52: 531.52862 | E52: 571.83762 | F52: 373.33333 | G52: 0 | H52: 0 | I52: 0 | J52: =SUM(B52:I52) -> 1476.6996 | K52: =ROUND(J52,0) -> 1477 | L52: 援藏
A53: 冯代康 | B53: 0 | C53: 0 | D53: 911.19192 | E53: 1186.902 | F53: 814.54545 | G53: 0 | H53: 0 | I53: 0 | J53: =SUM(B53:I53) -> 2912.6394 | K53: =ROUND(J53,0) -> 2913
A54: 李卫咪 | B54: 0 | C54: 0 | D54: 1761.9476 | E54: 2518.6153 | F54: 1745.4545 | G54: 0 | H54: 2443.6364 | I54: 0 | J54: =SUM(B54:I54) -> 8469.6539 | K54: =ROUND(J54,0) -> 8470
A55: 韩小红 | B55: 0 | C55: 0 | D55: 3148.4935 | E55: 6418.1245 | F55: 1425.4545 | G55: 1746.5385 | H55: 2443.6364 | I55: 2645.3987 | J55: =SUM(B55:I55) -> 17827.646 | K55: =ROUND(J55,0) -> 17828
A56: 王德琼 | B56: 0 | C56: 0 | D56: 3148.4935 | E56: 4493.6857 | F56: 1425.4545 | G56: 2671.1765 | H56: 2443.6364 | I56: 3401.2269 | J56: =SUM(B56:I56) -> 17583.673 | K56: =ROUND(J56,0) -> 17584
A57: 仁青 | B57: 0 | C57: 0 | D57: 815.11386 | E57: 563.8468 | F57: 116.36364 | G57: 398.26373 | H57: 0 | I57: 168.27348 | J57: =SUM(B57:I57) -> 2061.8615 | K57: =ROUND(J57,0) -> 2062
A58: 沈建朋 | B58: 0 | C58: 0 | D58: 1917.6871 | E58: 3316.4325 | F58: 1221.8182 | G58: 2328.718 | H58: 0 | I58: 1259.7137 | J58: =SUM(B58:I58) -> 10044.369 | K58: =ROUND(J58,0) -> 10044
A59: 尹宗林 | B59: 0 | C59: 0 | D59: 511.38322 | E59: 426.26001 | F59: 1256.7273 | G59: 2440.7274 | H59: 4049.4545 | I59: 1839.0627 | J59: =SUM(B59:I59) -> 10523.615 | K59: =ROUND(J59,0) -> 10524
A60: 毛毅 | B60: 0 | C60: 0 | D60: 511.38322 | E60: 183.98872 | F60: 907.63636 | G60: 750.54622 | H60: 0 | I60: 0 | J60: =SUM(B60:I60) -> 2353.5545 | K60: =ROUND(J60,0) -> 2354 | L60: 代课
A61: 降初次尔 | B61: 0 | C61: 0 | D61: 0 | E61: 112.06452 | F61: 203.63636 | G61: 0 | H61: 0 | I61: 0 | J61: =SUM(B61:I61) -> 315.70088 | K61: =ROUND(J61,0) -> 316 | L61: 代课
A62: 白京全 | F62: 373.33333 | G62: 447.16414 | H62: 0 | I62: 124.89048 | J62: =SUM(B62:I62) -> 945.38795 | K62: =ROUND(J62,0) -> 945 | L62: 不补齐
A63: 蔡琳 | F63: 1600 | G63: 1788.6565 | H63: 0 | I63: 370.04585 | J63: =SUM(B63:I63) -> 3758.7024 | K63: =ROUND(J63,0) -> 3759
A64: 达娃央初 | F64: 814.54545 | G64: 0 | H64: 0 | I64: 138.7672 | J64: =SUM(B64:I64) -> 953.31265 | K64: 2000 | L64: 补齐2000
A65: 郭红 | F65: 1600 | G65: 1937.7113 | H65: 0 | I65: 416.30159 | J65: =SUM(B65:I65) -> 3954.0128 | K65: =ROUND(J65,0) -> 3954
A66: 何清燕 | F66: 373.33333 | G66: 1937.7113 | H66: 0 | I66: 740.09171 | J66: =SUM(B66:I66) -> 3051.1363 | K66: =ROUND(J66,0) -> 3051
A67: 何永珍 | F67: 733.33333 | G67: 1117.9103 | H67: 0 | I67: 370.04585 | J67: =SUM(B67:I67) -> 2221.2895 | K67: =ROUND(J67,0) -> 2221
A68: 胡崇涛 | F68: 597.33333 | G68: 894.32827 | H68: 0 | I68: 194.27407 | J68: =SUM(B68:I68) -> 1685.9357 | K68: 2000 | L68: 补齐2000
A69: 胡建军 | F69: 746.66667 | G69: 1639.6018 | H69: 0 | I69: 370.04585 | J69: =SUM(B69:I69) -> 2756.3144 | K69: =ROUND(J69,0) -> 2756
A70: 朗基拉姆 | F70: 814.54545 | G70: 1490.5471 | H70: 0 | I70: 601.32451 | J70: =SUM(B70:I70) -> 2906.4171 | K70: =ROUND(J70,0) -> 2906
A71: 李顺秀 | F71: 1600 | G71: 1639.6018 | H71: 0 | I71: 185.02293 | J71: =SUM(B71:I71) -> 3424.6248 | K71: =ROUND(J71,0) -> 3425
A72: 林波 | F72: 746.66667 | G72: 2384.8754 | H72: 0 | I72: 777.0963 | J72: =SUM(B72:I72) -> 3908.6384 | K72: =ROUND(J72,0) -> 3909
A73: 马艳 | F73: 384 | G73: 496.84904 | H73: 2304 | I73: 215.86008 | J73: =SUM(B73:I73) -> 3400.7091 | K73: =ROUND(J73,0) -> 3401
A74: 偏初 | F74: 298.66667 | G74: 1073.1939 | H74: 0 | I74: 471.80846 | J74: =SUM(B74:I74) -> 1843.6691 | K74: 2000 | L74: 补齐2000
A75: 沈祝英 | F75: 960 | G75: 1266.5002 | H75: 0 | I75: 261.65783 | J75: =SUM(B75:I75) -> 2488.158 | K75: =ROUND(J75,0) -> 2488
A76: 王丽婵 | F76: 814.54545 | G76: 1937.7113 | H76: 0 | I76: 740.09171 | J76: =SUM(B76:I76) -> 3492.3484 | K76: =ROUND(J76,0) -> 3492
A77: 王小凤 | F77: 1600 | G77: 0 | H77: 0 | I77: 0 | J77: =SUM(B77:I77) -> 1600 | K77: 2000 | L77: 补齐2000
A78: 王英 | F78: 1018.6667 | G78: 2455.9586 | H78: 0 | I78: 123.34862 | J78: =SUM(B78:I78) -> 3597.9738 | K78: =ROUND(J78,0) -> 3598
A79: 吴令榕 | F79: 885.33333 | G79: 2086.766 | H79: 0 | I79: 716.96384 | J79: =SUM(B79:I79) -> 3689.0631 | K79: =ROUND(J79,0) -> 3689
A80: 伍小明 | F80: 746.66667 | G80: 0 | H80: 0 | I80: 0 | J80: =SUM(B80:I80) -> 746.66667 | K80: 2000 | L80: 补齐2000
A81: 央娜 | F81: 407.27273 | G81: 1788.6565 | H81: 0 | I81: 601.32451 | J81: =SUM(B81:I81) -> 2797.2538 | K81: =ROUND(J81,0) -> 2797
A82: 杨尔史 | F82: 746.66667 | G82: 0 | H82: 0 | I82: 0 | J82: =SUM(B82:I82) -> 746.66667 | K82: 2000 | L82: 补齐2000
A83: 英支里 | F83: 363.63636 | G83: 1198.2661 | H83: 0 | I83: 71.953361 | J83: =SUM(B83:I83) -> 1633.8558 | K83: 2000 | L83: 补齐2000
A84: 余龙芯 | F84: 610.90909 | G84: 0 | H84: 0 | I84: 92.511464 | J84: =SUM(B84:I84) -> 703.42055 | K84: 2000 | L84: 补齐2000
A85: 扎西卓玛 | F85: 1600 | G85: 1490.5471 | H85: 0 | I85: 92.511464 | J85: =SUM(B85:I85) -> 3183.0586 | K85: =ROUND(J85,0) -> 3183
A86: 竹浩 | F86: 512 | G86: 546.53394 | H86: 3072 | I86: 400.88301 | J86: =SUM(B86:I86) -> 4531.417 | K86: =ROUND(J86,0) -> 4531
A87: 祝玛拉初 | F87: 128 | G87: 298.10942 | H87: 0 | I87: 131.05791 | J87: =SUM(B87:I87) -> 557.16733 | K87: =ROUND(J87,0) -> 557 | L87: 已退休
A88: 祝玛央宗（英语） | F88: 814.54545 | G88: 1639.6018 | H88: 0 | I88: 462.55732 | J88: =SUM(B88:I88) -> 2916.7046 | K88: =ROUND(J88,0) -> 2917
A89: 卓玛青藏 | F89: 224 | G89: 0 | H89: 0 | I89: 0 | J89: =SUM(B89:I89) -> 224 | K89: 1000 | L89: 补齐1000
A90: 祝玛央宗（语文） | F90: 1333.3333 | G90: 0 | H90: 0 | I90: 0 | J90: =SUM(B90:I90) -> 1333.3333 | K90: 2000 | L90: 补齐2000
A91: 朱雁鸿 | F91: 814.54545 | G91: 1709.9937 | H91: 0 | I91: 0 | J91: =SUM(B91:I91) -> 2524.5391 | K91: =ROUND(J91,0) -> 2525
A92: 张雪姣 | F92: 1333.3333 | G92: 2687.1329 | H92: 0 | I92: 0 | J92: =SUM(B92:I92) -> 4020.4662 | K92: =ROUND(J92,0) -> 4020
A93: 袁登林 | F93: 1568 | G93: 2137.4921 | H93: 0 | I93: 0 | J93: =SUM(B93:I93) -> 3705.4921 | K93: =ROUND(J93,0) -> 3705
A94: 杨自兴 | F94: 560 | G94: 692.14029 | H94: 0 | I94: 0 | J94: =SUM(B94:I94) -> 1252.1403 | K94: 2000 | L94: 补齐2000
A95: 杨杜基 | F95: 448 | G95: 0 | H95: 0 | I95: 0 | J95: =SUM(B95:I95) -> 448 | K95: 2000 | L95: 补齐2000
A96: 央青祝玛 | F96: 2240 | G96: 1628.5654 | H96: 0 | I96: 0 | J96: =SUM(B96:I96) -> 3868.5654 | K96: =ROUND(J96,0) -> 3869
A97: 央青拉姆 | F97: 336 | G97: 468.21255 | H97: 0 | I97: 0 | J97: =SUM(B97:I97) -> 804.21255 | K97: =ROUND(J97,0) -> 804 | L97: 已退休
A98: 肖中林 | F98: 746.66667 | G98: 732.85442 | H98: 0 | I98: 0 | J98: =SUM(B98:I98) -> 1479.5211 | K98: 2000 | L98: 补齐2000
A99: 吴华霖 | F99: 896 | G99: 0 | H99: 0 | I99: 0 | J99: =SUM(B99:I99) -> 896 | K99: 2000
A100: 王静 | F100: 1333.3333 | G100: 2564.9905 | H100: 0 | I100: 0 | J100: =SUM(B100:I100) -> 3898.3238 | K100: =ROUND(J100,0) -> 3898
A101: 王建英 | F101: 784 | G101: 1506.423 | H101: 0 | I101: 0 | J101: =SUM(B101:I101) -> 2290.423 | K101: =ROUND(J101,0) -> 2290
A102: 田芳芳 | F102: 2240 | G102: 3094.2742 | H102: 0 | I102: 0 | J102: =SUM(B102:I102) -> 5334.2742 | K102: =ROUND(J102,0) -> 5334
A103: 沙林 | F103: 1333.3333 | G103: 3297.8449 | H103: 0 | I103: 0 | J103: =SUM(B103:I103) -> 4631.1782 | K103: =ROUND(J103,0) -> 4631
A104: 米尔倮 | F104: 896 | G104: 2320.7057 | H104: 0 | I104: 0 | J104: =SUM(B104:I104) -> 3216.7057 | K104: =ROUND(J104,0) -> 3217
A105: 马秀英 | F105: 203.63636 | G105: 0 | H105: 0 | I105: 0 | J105: =SUM(B105:I105) -> 203.63636 | K105: =ROUND(J105,0) -> 204 | L105: 不补齐
A106: 罗建英 | F106: 896 | G106: 2564.9905 | H106: 0 | I106: 0 | J106: =SUM(B106:I106) -> 3460.9905 | K106: =ROUND(J106,0) -> 3461
A107: 鲁爱花 | F107: 814.54545 | G107: 2564.9905 | H107: 0 | I107: 0 | J107: =SUM(B107:I107) -> 3379.5359 | K107: =ROUND(J107,0) -> 3380
A108: 李亚 | F108: 1333.3333 | G108: 0 | H108: 0 | I108: 0 | J108: =SUM(B108:I108) -> 1333.3333 | K108: =ROUND(J108,0) -> 1333 | L108: 援藏
A109: 李栋才 | F109: 333.33333 | G109: 0 | H109: 0 | I109: 0 | J109: =SUM(B109:I109) -> 333.33333 | K109: =ROUND(J109,0) -> 333 | L109: 已退休
A110: 降初卓玛 | F110: 1120 | G110: 1506.423 | H110: 0 | I110: 0 | J110: =SUM(B110:I110) -> 2626.423 | K110: =ROUND(J110,0) -> 2626
A111: 次尔祝玛（大） | F111: 814.54545 | G111: 2442.8481 | H111: 0 | I111: 0 | J111: =SUM(B111:I111) -> 3257.3935 | K111: =ROUND(J111,0) -> 3257
...

Sheet 汇总表
A2: 木里中学初中部2023-2024学年教学质量汇总表
A3: 类别 姓名 | B3: 毕业班质量奖 | F3: 学科教学质量奖 | H3: 学科进步奖
B4: 全州1000名优生奖（元） | C4: 基础奖 （初三 班主任、年级主任）（元） | D4: 基础奖 （元） | E4: 贡献奖 （元） | F4: 基础奖 （元） | G4: 贡献奖 （元） | H4: 基础奖 （元） | I4: 贡献奖 （元） | J4: 合计 （元） | K4: 实发 （元） | L4: 备注
A5: 周小军 | B5: 4932.3687 | C5: 1000 | D5: 1665.1147 | E5: 13525.228 | F5: 1854.5455 | G5: 5056.1834 | H5: 1745.4545 | I5: 5408.9005 | J5: =SUM(B5:I5) -> 35187.795
A6: 胡逵 | B6: 1992.8783 | C6: 0 | D6: 3534.0931 | E6: 9251.6874 | F6: 1745.4545 | G6: 2054.7512 | H6: 2443.6364 | I6: 2519.4273 | J6: =SUM(B6:I6) -> 23541.928
A7: 王朝珍 | B7: 3251.5382 | C7: 1000 | D7: 3534.0931 | E7: 12274.718 | F7: 1745.4545 | G7: 4965.6486 | H7: 2443.6364 | I7: 6613.4967 | J7: =SUM(B7:I7) -> 35828.586
A8: 聂登孝 | B8: 5616.8606 | C8: 0 | D8: 2259.5091 | E8: 13472.975 | F8: 872.72727 | G8: 3253.356 | H8: 1221.8182 | I8: 4408.9978 | J8: =SUM(B8:I8) -> 31106.244
A9: 陈云 | B9: 5231.01 | C9: 1000 | D9: 2828.879 | E9: 13305.708 | F9: 1221.8182 | G9: 4006.7648 | H9: 2094.5455 | I9: 6802.4538 | J9: =SUM(B9:I9) -> 36491.179
A10: 唐涛 | B10: 1872.2869 | C10: 0 | D10: 1917.6871 | E10: 7209.256 | F10: 1221.8182 | G10: 2739.6682 | H10: 0 | I10: 1763.5991 | J10: =SUM(B10:I10) -> 16724.316
A11: 玛里 | B11: 1670.9657 | C11: 0 | D11: 3052.1218 | E11: 7128.9267 | F11: 2571.6364 | G11: 5154.941 | H11: 4189.0909 | I11: 5390.528 | J11: =SUM(B11:I11) -> 29158.211
A12: 卓玛 | B12: 3118.0902 | C12: 0 | D12: 3179.9677 | E12: 9663.0458 | F12: 2094.5455 | G12: 3424.5853 | H12: 4189.0909 | I12: 5143.8308 | J12: =SUM(B12:I12) -> 30813.156
A13: 群群 | B13: 3433.6543 | C13: 0 | D13: 1391.6448 | E13: 12865.394 | F13: 1890.9091 | G13: 4566.1137 | H13: 0 | I13: 2939.3319 | J13: =SUM(B13:I13) -> 27087.047
A14: 梁明霞 | B14: 1892.419 | C14: 0 | D14: 1644.4699 | E14: 10063.351 | F14: 2178.9091 | G14: 3450.4413 | H14: 0 | I14: 1889.5705 | J14: =SUM(B14:I14) -> 21119.161
A15: 马志泽 | B15: 392.57628 | C15: 0 | D15: 2950.9918 | E15: 5263.5542 | F15: 786.90909 | G15: 2011.419 | H15: 0 | I15: 1347.6497 | J15: =SUM(B15:I15) -> 12753.1
A16: 罗长秀 | B16: 1396.9784 | C16: 0 | D16: 3304.947 | E16: 4763.1648 | F16: 349.09091 | G16: 611.47606 | H16: 0 | I16: 631.32503 | J16: =SUM(B16:I16) -> 11056.982
... A63: 降初次尔 | B63: 0 | C63: 0 | D63: 0 | E63: 112.06452 | F63: 203.63636 | G63: 0 | H63: 0 | I63: 0 | J63: =SUM(B63:I63) -> 315.70088
A64: 白京全 | F64: 373.33333 | G64: 447.16414 | H64: 0 | I64: 124.89048 | J64: =SUM(B64:I64) -> 945.38795
A65: 蔡琳 | F65: 1600 | G65: 1788.6565 | H65: 0 | I65: 370.04585 | J65: =SUM(B65:I65) -> 3758.7024
A66: 达娃央初 | F66: 814.54545 | G66: 0 | H66: 0 | I66: 138.7672 | J66: =SUM(B66:I66) -> 953.31265
A67: 郭红 | F67: 1600 | G67: 1937.7113 | H67: 0 | I67: 416.30159 | J67: =SUM(B67:I67) -> 3954.0128
A68: 何清燕 | F68: 373.33333 | G68: 1937.7113 | H68: 0 | I68: 740.09171 | J68: =SUM(B68:I68) -> 3051.1363
A69: 何永珍 | F69: 733.33333 | G69: 1117.9103 | H69: 0 | I69: 370.04585 | J69: =SUM(B69:I69) -> 2221.2895
A70: 胡崇涛 | F70: 597.33333 | G70: 894.32827 | H70: 0 | I70: 194.27407 | J70: =SUM(B70:I70) -> 1685.9357
A71: 胡建军 | F71: 746.66667 | G71: 1639.6018 | H71: 0 | I71: 370.04585 | J71: =SUM(B71:I71) -> 2756.3144
A72: 朗基拉姆 | F72: 814.54545 | G72: 1490.5471 | H72: 0 | I72: 601.32451 | J72: =SUM(B72:I72) -> 2906.4171
A73: 李顺秀 | F73: 1600 | G73: 1639.6018 | H73: 0 | I73: 185.02293 | J73: =SUM(B73:I73) -> 3424.6248
A74: 林波 | F74: 746.66667 | G74: 2384.8754 | H74: 0 | I74: 777.0963 | J74: =SUM(B74:I74) -> 3908.6384
A75: 马艳 | F75: 384 | G75: 496.84904 | H75: 2304 | I75: 215.86008 | J75: =SUM(B75:I75) -> 3400.7091
... A116: 边玛拉初 | F116: 814.54545 | G116: 1465.7088 | H116: 0 | I116: 0 | J116: =SUM(B116:I116) -> 2280.2543
B117: =SUM(B5:B116) -> 58000 | C117: =SUM(C5:C116) -> 13000 | D117: =SUM(D5:D116) -> 112760 | E117: =SUM(E5:E116) -> 293440 | F117: =SUM(F5:F116) -> 120816 | G117: =SUM(G5:G116) -> 181224 | H117: =SUM(H5:H116) -> 76800 | I117: =SUM(I5:I116) -> 115200 | J117: =SUM(B117:I117) -> 971240

Sheet 中考质量奖
A1: 姓名 | B1: 全州前1000名优生奖 | C1: 班主任、年级主任 | D1: 中考目标基础奖 | E1: 中考贡献奖 | F1: 合计
A2: 周小军 | B2: 4932.3687 | C2: 1000 | D2: 1665.1147 | E2: 13525.228 | F2: 21122.711
A3: 胡逵 | B3: 1992.8783 | C3: 0 | D3: 3534.0931 | E3: 9251.6874 | F3: 14778.659
A4: 王朝珍 | B4: 3251.5382 | C4: 1000 | D4: 3534.0931 | E4: 12274.718 | F4: 20060.35
A5: 聂登孝 | B5: 5616.8606 | C5: 0 | D5: 2259.5091 | E5: 13472.975 | F5: 21349.345
A6: 陈云 | B6: 5085.5054 | C6: 1000 | D6: 2828.879 | E6: 13305.708 | F6: 22220.093
A7: 唐涛 | B7: 1872.2869 | C7: 0 | D7: 1917.6871 | E7: 7209.256 | F7: 10999.23
A8: 玛里 | B8: 1670.9657 | C8: 0 | D8: 3052.1218 | E8: 7128.9267 | F8: 11852.014
A9: 卓玛 | B9: 3032.8661 | C9: 0 | D9: 3179.9677 | E9: 9663.0458 | F9: 15875.88
A10: 群群 | B10: 3336.6513 | C10: 0 | D10: 1391.6448 | E10: 12865.394 | F10: 17593.69
A11: 梁明霞 | B11: 1892.419 | C11: 0 | D11: 1644.4699 | E11: 10063.351 | F11: 13600.24
A12: 马志泽 | B12: 392.57628 | C12: 0 | D12: 2950.9918 | E12: 5263.5542 | F12: 8607.1223
A13: 罗长秀 | B13: 1384.9223 | C13: 0 | D13: 3304.947 | E13: 4763.1648 | F13: 9453.0341
... A60: 降初次尔 | B60: 0 | C60: 0 | D60: 0 | E60: 112.06452 | F60: 112.06452

Sheet 九年级
A1: 类别 姓名 | B1: 毕业班质量奖 | G1: 学科教学质量奖 | I1: 学科进步奖 | K1: 合计 | L1: 备注
B2: 毕业班全州前1000名奖 | C2: 基础奖（初三班主任） | D2: 基础奖（初三年级主任） | E2: 基础奖 | F2: 贡献奖 | G2: 基础奖 | H2: 贡献奖 | I2: 基础奖 | J2: 贡献奖
A3: 罗艳 | G3: =[1]学科教学质量奖!C22+[1]学科教学质量奖!C27 -> 2909.0909 | H3: 3595.8145 | I3: =[2]学科进步奖!$C$23+[2]学科进步奖!$C$26 -> 10000 | J3: 2204.4989 | K3: =SUM(G3:J3) -> 18709.404
A4: 农树苏朗央青 | G4: =[1]学科教学质量奖!C23+[1]学科教学质量奖!C25 -> 2909.0909 | H4: 2054.7512 | I4: =[2]学科进步奖!$C$23+[2]学科进步奖!$C$26 -> 10000 | J4: 2204.4989 | K4: =SUM(G4:J4) -> 17168.341
A5: 央初 | G5: =[1]学科教学质量奖!C28+[1]学科教学质量奖!C31 -> 2909.0909 | H5: 0 | I5: =[2]学科进步奖!$C$23+[2]学科进步奖!$C$26 -> 10000 | J5: 314.92841 | K5: =SUM(G5:J5) -> 13224.019
A6: 拥珍卓玛 | G6: 1454.5455 | H6: 2225.9804 | I6: 1745.4545 | J6: 1889.5705 | K6: =SUM(G6:J6) -> 7315.5509
A7: 万年银 | G7: 2909.0909 | H7: 6849.1705 | I7: =[2]学科进步奖!$C$23+[2]学科进步奖!$C$26 -> 10000 | J7: 8188.1388 | K7: =SUM(G7:J7) -> 27946.4
A8: 鲁绒偏初 | G8: 1454.5455 | H8: 2910.8975 | I8: 1745.4545 | J8: 3149.2841 | K8: =SUM(G8:J8) -> 9260.1816
A9: 周小军 | G9: 1454.5455 | H9: 3938.2731 | I9: 1745.4545 | J9: 5038.8546 | K9: =SUM(G9:J9) -> 12177.128
A10: 朱亚莉 | G10: =[1]学科教学质量奖!F22+[1]学科教学质量奖!F28 -> 1745.4545 | H10: 0 | I10: =[2]学科进步奖!$F$23+[2]学科进步奖!$F$29 -> 7000 | J10: 944.78524 | K10: =SUM(G10:J10) -> 9690.2398
A11: 戴玉环 | G11: =[1]学科教学质量奖!F23+[1]学科教学质量奖!F29 -> 1745.4545 | H11: 0 | I11: =[2]学科进步奖!$F$23+[2]学科进步奖!$F$29 -> 7000 | J11: 0 | K11: =SUM(G11:J11) -> 8745.4545
A12: 罗建华 | G12: 1745.4545 | H12: 2739.6682 | I12: =[2]学科进步奖!$F$23+[2]学科进步奖!$F$29 -> 7000 | J12: 3779.141 | K12: =SUM(G12:J12) -> 15264.264
A13: 王朝珍 | G13: 1745.4545 | H13: 4965.6486 | I13: =[2]学科进步奖!$F$23+[2]学科进步奖!$F$29 -> 7000 | J13: 6613.4967 | K13: =SUM(G13:J13) -> 20324.6
A14: 胡逵 | G14: 1745.4545 | H14: 2054.7512 | I14: =[2]学科进步奖!$F$23+[2]学科进步奖!$F$29 -> 7000 | J14: 2519.4273 | K14: =SUM(G14:J14) -> 13319.633
A15: 张明书 | G15: 872.72727 | H15: 3424.5853 | I15: 1221.8182 | J15: 5038.8546 | K15: =SUM(G15:J15) -> 10557.985
A16: 杨启芬 | G16: =[1]学科教学质量奖!I22+[1]学科教学质量奖!I35 -> 1745.4545 | H16: 5308.1072 | I16: =[2]学科进步奖!$I$23+[2]学科进步奖!$I$36 -> 17900 | J16: 6613.4967 | K16: =SUM(G16:J16) -> 31567.058
A17: 李卫咪 | G17: 1745.4545 | H17: 0 | I17: =[2]学科进步奖!$I$23+[2]学科进步奖!$I$36 -> 17900 | J17: 0 | K17: =SUM(G17:J17) -> 19645.455
A18: 朱拉姆 | G18: 1745.4545 | H18: 0 | I18: =[2]学科进步奖!$I$23+[2]学科进步奖!$I$36 -> 17900 | J18: 0 | K18: =SUM(G18:J18) -> 19645.455
A19: 南卡拉姆 | G19: 1745.4545 | H19: 4451.9608 | I19: =[2]学科进步奖!$I$23+[2]学科进步奖!$I$36 -> 17900 | J19: 5038.8546 | K19: =SUM(G19:J19) -> 29136.27
A20: 拉木央青 | G20: 1745.4545 | H20: 2568.4389 | I20: =[2]学科进步奖!$I$23+[2]学科进步奖!$I$36 -> 17900 | J20: 3464.2126 | K20: =SUM(G20:J20) -> 25678.106
A21: 聂登孝 | G21: 872.72727 | H21: 3253.356 | I21: 1221.8182 | J21: 4408.9978 | K21: =SUM(G21:J21) -> 9756.8993
A22: 李万芬 | G22: =[1]学科教学质量奖!U22+[1]学科教学质量奖!U24+[1]学科教学质量奖!U25+[1]学科教学质量奖!U29+[1]学科教学质量奖!U32 -> 2036.3636 | H22: 2111.8276 | I22: =[2]学科进步奖!$R$23+[2]学科进步奖!$R$25+[2]学科进步奖!$R$26+[2]学科进步奖!$R$30+[2]学科进步奖!$R$33 -> 8000 | J22: 2624.4035 | K22: =SUM(G22:J22) -> 14772.595
A23: 玛里 | G23: =[1]学科教学质量奖!U23+[1]学科教学质量奖!U26+[1]学科教学质量奖!U27+[1]学科教学质量奖!U28+[1]学科教学质量奖!U30+[1]学科教学质量奖!U31 -> 2443.6364 | H23: 4509.0373 | I23: =[2]学科进步奖!$R$24+[2]学科进步奖!$R$27+[2]学科进步奖!$R$28+[2]学科进步奖!$R$29+[2]学科进步奖!$R$31+[2]学科进步奖!$R$32 -> 12000 | J23: 5143.8308 | K23: =SUM(G23:J23) -> 24096.504
A24: 周照明 | G24: =[1]学科教学质量奖!O27+[1]学科教学质量奖!O29 -> 814.54545 | H24: 0 | I24: 0 | J24: 0 | K24: =SUM(G24:J24) -> 814.54545
A25: 罗阿只 | G25: =[1]学科教学质量奖!O28+[1]学科教学质量奖!O32+[1]学科教学质量奖!O39 -> 1221.8182 | H25: 3082.1267 | I25: 0 | J25: 1511.6564 | K25: =SUM(G25:J25) -> 5815.6013
A26: 唐涛 | G26: =[1]学科教学质量奖!O22+[1]学科教学质量奖!O36+[1]学科教学质量奖!O37 -> 1221.8182 | H26: 2739.6682 | I26: 0 | J26: 1763.5991 | K26: =SUM(G26:J26) -> 5725.0855
A27: 沈建朋 | G27: 1221.8182 | H27: 2328.718 | I27: 0 | J27: 1259.7137 | K27: =SUM(G27:J27) -> 4810.2498
A28: 卓玛 | G28: =[1]学科教学质量奖!R22+[1]学科教学质量奖!R23+[1]学科教学质量奖!R24+[1]学科教学质量奖!R30+[1]学科教学质量奖!R33+[1]学科教学质量奖!R37+[1]学科教学质量奖!R38 -> 2094.5455 | H28: 3424.5853 | I28: =[2]学科进步奖!$O$23+[2]学科进步奖!$O$24+[2]学科进步奖!$O$25+[2]学科进步奖!$O$31+[2]学科进步奖!$O$34+[2]学科进步奖!$O$38+[2]学科进步奖!$O$39 -> 34240 | J28: 5143.8308 | K28: =SUM(G28:J28) -> 44902.961
A29: 赵正云 | G29: =[1]学科教学质量奖!R25+[1]学科教学质量奖!R27+[1]学科教学质量奖!R29+[1]学科教学质量奖!R31+[1]学科教学质量奖!R35 -> 872.72727 | H29: 285.38211 | I29: =[2]学科进步奖!$O$26+[2]学科进步奖!$O$28+[2]学科进步奖!$O$30+[2]学科进步奖!$O$32+[2]学科进步奖!$O$36 -> 18080 | J29: 944.78524 | K29: =SUM(G29:J29) -> 20182.895
A30: 尹宗林 | G30: =[1]学科教学质量奖!R26+[1]学科教学质量奖!R28+[1]学科教学质量奖!R32+[1]学科教学质量奖!R34+[1]学科教学质量奖!R36 -> 872.72727 | H30: 1198.6048 | I30: =[2]学科进步奖!$O$26+[2]学科进步奖!$O$28+[2]学科进步奖!$O$30+[2]学科进步奖!$O$32+[2]学科进步奖!$O$36 -> 18080 | J30: 944.78524 | K30: =SUM(G30:J30) -> 21096.117
A31: 群群 | G31: =[1]学科教学质量奖!X24+[1]学科教学质量奖!X26+[1]学科教学质量奖!X28+[1]学科教学质量奖!X30+[1]学科教学质量奖!X31+[1]学科教学质量奖!X32+[1]学科教学质量奖!X33 -> 1890.9091 | H31: 4566.1137 | I31: 0 | J31: 2939.3319 | K31: =SUM(G31:J31) -> 9396.3546
A32: 蒋文秀 | G32: =[1]学科教学质量奖!X22+[1]学科教学质量奖!X23+[1]学科教学质量奖!X25+[1]学科教学质量奖!X27+[1]学科教学质量奖!X29 -> 1309.0909 | H32: 0 | I32: 0 | J32: 0 | K32: =SUM(G32:J32) -> 1309.0909
A33: 袁诗燕 | G33: =[1]学科教学质量奖!AA24+[1]学科教学质量奖!AA27 -> 162.90909 | H33: 0 | I33: 0 | J33: 0 | K33: =SUM(G33:J33) -> 162.90909
A34: 梁明霞 | G34: =[1]学科教学质量奖!AA22+[1]学科教学质量奖!AA23+[1]学科教学质量奖!AA25+[1]学科教学质量奖!AA30+[1]学科教学质量奖!AA31+[1]学科教学质量奖!AA32+[1]学科教学质量奖!AA33 -> 1058.9091 | H34: 1455.4487 | I34: 0 | J34: 1889.5705 | K34: =SUM(G34:J34) -> 4403.9283
A35: 李永鑫 | G35: =[1]学科教学质量奖!AA26+[1]学科教学质量奖!AA28+[1]学科教学质量奖!AA29+[1]学科教学质量奖!AA34 -> 570.18182 | H35: 542.226 | I35: 0 | J35: 892.29717 | K35: =SUM(G35:J35) -> 2004.705
A36: 夏朝晖 | G36: =[1]学科教学质量奖!L22+[1]学科教学质量奖!L26 -> 407.27273 | H36: 0 | I36: =[2]学科进步奖!$L$23+[2]学科进步奖!$L$27 -> 4000 | J36: 0 | K36: =SUM(G36:J36) -> 4407.2727
A37: 韩小红 | G37: =[1]学科教学质量奖!L23+[1]学科教学质量奖!L24+[1]学科教学质量奖!L28+[1]学科教学质量奖!L32 -> 1425.4545 | H37: 1746.5385 | I37: =[2]学科进步奖!$L$24+[2]学科进步奖!$L$25+[2]学科进步奖!$L$29+[2]学科进步奖!$L$33 -> 6000 | J37: 2645.3987 | K37: =SUM(G37:J37) -> 11817.392
A38: 陈云 | G38: =[1]学科教学质量奖!L25+[1]学科教学质量奖!L34+[1]学科教学质量奖!L35 -> 1221.8182 | H38: 4006.7648 | I38: =[2]学科进步奖!$L$26+[2]学科进步奖!$L$35+[2]学科进步奖!$L$36 -> 13200 | J38: 6802.4538 | K38: =SUM(G38:J38) -> 25231.037
A39: 王德琼 | G39: =[1]学科教学质量奖!L27+[1]学科教学质量奖!L29+[1]学科教学质量奖!L31+[1]学科教学质量奖!L33 -> 1425.4545 | H39: 2671.1765 | I39: =[2]学科进步奖!$L$28+[2]学科进步奖!$L$30+[2]学科进步奖!$L$32+[2]学科进步奖!$L$34 -> 30000 | J39: 3401.2269 | K39: =SUM(G39:J39) -> 37497.858
A40: 仁青 | G40: =[1]学科教学质量奖!AJ24+[1]学科教学质量奖!AJ26 -> 116.36364 | H40: 0 | I40: 0 | J40: 0 | K40: =SUM(G40:J40) -> 116.36364
A41: 罗长秀 | G41: =[1]学科教学质量奖!AJ22+[1]学科教学质量奖!AJ23+[1]学科教学质量奖!AJ25+[1]学科教学质量奖!AJ27+[1]学科教学质量奖!AJ29+[1]学科教学质量奖!AJ31 -> 349.09091 | H41: 611.47606 | I41: 0 | J41: 631.32503 | K41: =SUM(G41:J41) -> 1591.892
A42: 德西措姆 | G42: =[1]学科教学质量奖!AJ28+[1]学科教学质量奖!AJ30+[1]学科教学质量奖!AJ32 -> 174.54545 | H42: 599.21461 | I42: 0 | J42: 640.27369 | K42: =SUM(G42:J42) -> 1414.0338
A43: 毛毅 | G43: =[1]学科教学质量奖!AG22+[1]学科教学质量奖!AG28 -> 203.63636 | H43: 0 | I43: 0 | J43: 0 | K43: =SUM(G43:J43) -> 203.63636
A44: 金尔启 | G44: =[1]学科教学质量奖!AG23+[1]学科教学质量奖!AG26+[1]学科教学质量奖!AG32 -> 305.45455 | H44: 292.23128 | I44: 0 | J44: 325.64938 | K44: =SUM(G44:J44) -> 923.3352
A45: 马志泽 | G45: =[1]学科教学质量奖!AG24+[1]学科教学质量奖!AG25+[1]学科教学质量奖!AG27+[1]学科教学质量奖!AG29+[1]学科教学质量奖!AG30+[1]学科教学质量奖!AG31 -> 610.90909 | H45: 1521.3689 | I45: 0 | J45: 1347.6497 | K45: =SUM(G45:J45) -> 3479.9277
A46: 何小付 | G46: =[1]学科教学质量奖!AD22+[1]学科教学质量奖!AD23+[1]学科教学质量奖!AD24+[1]学科教学质量奖!AD27+[1]学科教学质量奖!AD30+[1]学科教学质量奖!AD32 -> 2240 | H46: 3881.1966 | I46: 0 | J46: 577.36876 | K46: =SUM(G46:J46) -> 6698.5654
A47: 降初次尔 | G47: =[1]学科教学质量奖!AD25 -> 203.63636 | H47: 0 | I47: 0 | J47: 0 | K47: =SUM(G47:J47) -> 203.63636
A48: 杨仁清祝玛 | G48: =[1]学科教学质量奖!AD33+[1]学科教学质量奖!AD31+[1]学科教学质量奖!AD29+[1]学科教学质量奖!AD28+[1]学科教学质量奖!AD26 -> 2036.3636 | H48: 3652.891 | I48: 0 | J48: 839.80911 | K48: =SUM(G48:J48) -> 6529.0637
G49: =SUM(G3:G48) -> 63712 | H49: =SUM(H3:H48) -> 95568 | I49: =SUM(I3:I48) -> 315780 | J49: =SUM(J3:J48) -> 103680 | K49: =SUM(G49:J49) -> 578740

Sheet 八年级
B1: 教学质量奖 | D1: 教学进步奖
A2: 姓名 | B2: 基础奖 | C2: 贡献奖 | D2: 基础奖-进步 | E2: 贡献奖-进步 | F2: 合并
A3: 阿尔木牛 | B3: 224 | C3: 447.16414 | D3: 0 | E3: 124.89048 | F3: 796.05461
A4: 白京全 | B4: 373.33333 | C4: 447.16414 | D4: 0 | E4: 124.89048 | F4: 945.38795
A5: 蔡琳 | B5: 1600 | C5: 1788.6565 | D5: 0 | E5: 370.04585 | F5: 3758.7024
A6: 次尔祝玛（小） | B6: 203.63636 | C6: 0 | D6: 0 | E6: 0 | F6: 203.63636
A7: 达娃央初 | B7: 814.54545 | C7: 0 | D7: 0 | E7: 138.7672 | F7: 953.31265
A8: 郭红 | B8: 1600 | C8: 1937.7113 | D8: 0 | E8: 416.30159 | F8: 3954.0128
A9: 何清燕 | B9: 373.33333 | C9: 1937.7113 | D9: 0 | E9: 740.09171 | F9: 3051.1363
A10: 何永珍 | B10: 400 | C10: 1117.9103 | D10: 0 | E10: 370.04585 | F10: 1887.9562
A11: 胡崇涛 | B11: 597.33333 | C11: 894.32827 | D11: 0 | E11: 194.27407 | F11: 1685.9357
A12: 胡建军 | B12: 746.66667 | C12: 1639.6018 | D12: 0 | E12: 370.04585 | F12: 2756.3144
A13: 朗基拉姆 | B13: 814.54545 | C13: 1490.5471 | D13: 0 | E13: 601.32451 | F13: 2906.4171
A14: 李顺秀 | B14: 1600 | C14: 1639.6018 | D14: 0 | E14: 185.02293 | F14: 3424.6248
... A41: 卓玛青藏 | B41: 224 | C41: 0 | D41: 0 | E41: 0 | F41: 224
B42: =SUM(B3:B41) -> 23616 | C42: =SUM(C3:C41) -> 35424

Sheet 七年级
A1: 姓名 | B1: 基础奖 | C1: 贡献奖 | D1: 合计
A2: 祝玛央宗（语文） | B2: 1333.3333 | C2: 0 | D2: 1333.3333
A3: 朱雁鸿 | B3: 814.54545 | C3: 1709.9937 | D3: 2524.5391
A4: 张雪姣 | B4: 1333.3333 | C4: 2687.1329 | D4: 4020.4662
A5: 袁登林 | B5: 1568 | C5: 2137.4921 | D5: 3705.4921
A6: 喻安富 | B6: 448 | C6: 1709.9937 | D6: 2157.9937
A7: 拥珍卓玛 | B7: 666.66667 | C7: 1954.2785 | D7: 2620.9451
A8: 英支里 | B8: 363.63636 | C8: 1016.0881 | D8: 1379.7245
A9: 杨自兴 | B9: 560 | C9: 692.14029 | D9: 1252.1403
A10: 杨杜基 | B10: 448 | C10: 0 | D10: 448
A11: 央青祝玛 | B11: 2240 | C11: 1628.5654 | D11: 3868.5654
A12: 央青拉姆 | B12: 336 | C12: 468.21255 | D12: 804.21255
A13: 肖中林 | B13: 746.66667 | C13: 732.85442 | D13: 1479.5211
... A38: 阿尔木牛 | B38: 3200 | C38: 3704.9863 | D38: 6904.9863
B39: 33488 | C39: 50232 | D39: 83720

Sheet Sheet5
A1: 周小军 | B1: 4932.3687 | C1: 1000 | D1: 1665.1147 | E1: 13525.228 | F1: 21122.711 | J1: 木里中学初中部2022年教学质量公示表
A2: 胡逵 | B2: 1992.8783 | C2: 0 | D2: 3534.0931 | E2: 9251.6874 | F2: 14778.659 | J2: 类别 姓名 | K2: 毕业班质量奖 | O2: 学科教学质量奖 | Q2: 学科进步奖
A3: 王朝珍 | B3: 3251.5382 | C3: 1000 | D3: 3534.0931 | E3: 12274.718 | F3: 20060.35 | K3: 毕业班 720分以上奖励（元） | L3: 基础奖 （初三 班主任、年级主任）（元） | M3: 基础奖 （元） | N3: 贡献奖 （元） | O3: 基础奖 （元） | P3: 贡献奖 （元） | Q3: 基础奖 （元） | R3: 贡献奖 （元） | S3: 合计 （元） | T3: 实发 （元） | U3: 备注
A4: 聂登孝 | B4: 5616.8606 | C4: 0 | D4: 2259.5091 | E4: 13472.975 | F4: 21349.345 | J4: 周小军 | K4: 4932.3687 | L4: 1000 | M4: 1665.1147 | N4: 13525.228 | O4: {=SUMIF($A$60:$A$181,J4:$J$115,$B$60:$B$181)} -> 1854.5455 | P4: {=SUMIF($A$60:$A$181,$J$4:$J$115,$C$60:$C$181)} -> 5056.1834 | Q4: {=SUMIF($A$60:$A$181,$J$4:$J$115,$D$60:$D$181)} -> 1745.4545 | R4: {=SUMIF($A$60:$A$181,$J$4:$J$115,$E$60:$E$181)} -> 5408.9005 | S4: =SUM(K4:R4) -> 35187.795
A5: 陈云 | B5: 5085.5054 | C5: 1000 | D5: 2828.879 | E5: 13305.708 | F5: 22220.093 | J5: 胡逵 | K5: 1992.8783 | L5: 0 | M5: 3534.0931 | N5: 9251.6874 | O5: 1745.4545 | P5: 2054.7512 | Q5: 2443.6364 | R5: 2519.4273 | S5: =SUM(K5:R5) -> 23541.928
A6: 唐涛 | B6: 1872.2869 | C6: 0 | D6: 1917.6871 | E6: 7209.256 | F6: 10999.23 | J6: 王朝珍 | K6: 3251.5382 | L6: 1000 | M6: 3534.0931 | N6: 12274.718 | O6: 1745.4545 | P6: 4965.6486 | Q6: 2443.6364 | R6: 6613.4967 | S6: =SUM(K6:R6) -> 35828.586
A7: 玛里 | B7: 1670.9657 | C7: 0 | D7: 3052.1218 | E7: 7128.9267 | F7: 11852.014 | J7: 聂登孝 | K7: 5616.8606 | L7: 0 | M7: 2259.5091 | N7: 13472.975 | O7: 872.72727 | P7: 3253.356 | Q7: 1221.8182 | R7: 4408.9978 | S7: =SUM(K7:R7) -> 31106.244
A8: 卓玛 | B8: 3032.8661 | C8: 0 | D8: 3179.9677 | E8: 9663.0458 | F8: 15875.88 | J8: 陈云 | K8: 5085.5054 | L8: 1000 | M8: 2828.879 | N8: 13305.708 | O8: 1221.8182 | P8: 4006.7648 | Q8: 2094.5455 | R8: 6802.4538 | S8: =SUM(K8:R8) -> 36345.675
A9: 群群 | B9: 3336.6513 | C9: 0 | D9: 1391.6448 | E9: 12865.394 | F9: 17593.69 | J9: 唐涛 | K9: 1872.2869 | L9: 0 | M9: 1917.6871 | N9: 7209.256 | O9: 1221.8182 | P9: 2739.6682 | Q9: 0 | R9: 1763.5991 | S9: =SUM(K9:R9) -> 16724.316
A10: 梁明霞 | B10: 1892.419 | C10: 0 | D10: 1644.4699 | E10: 10063.351 | F10: 13600.24 | J10: 玛里 | K10: 1670.9657 | L10: 0 | M10: 3052.1218 | N10: 7128.9267 | O10: 2571.6364 | P10: 5154.941 | Q10: 4189.0909 | R10: 5390.528 | S10: =SUM(K10:R10) -> 29158.211
A11: 马志泽 | B11: 392.57628 | C11: 0 | D11: 2950.9918 | E11: 5263.5542 | F11: 8607.1223 | J11: 卓玛 | K11: 3032.8661 | L11: 0 | M11: 3179.9677 | N11: 9663.0458 | O11: 2094.5455 | P11: 3424.5853 | Q11: 4189.0909 | R11: 5143.8308 | S11: =SUM(K11:R11) -> 30727.932
A12: 罗长秀 | B12: 1384.9223 | C12: 0 | D12: 3304.947 | E12: 4763.1648 | F12: 9453.0341 | J12: 群群 | K12: 3336.6513 | L12: 0 | M12: 1391.6448 | N12: 12865.394 | O12: 1890.9091 | P12: 4566.1137 | Q12: 0 | R12: 2939.3319 | S12: =SUM(K12:R12) -> 26990.044
A13: 何小付 | B13: 1721.296 | C13: 1000 | D13: 4006.921 | E13: 3174.9797 | F13: 9903.1967 | J13: 梁明霞 | K13: 1892.419 | L13: 0 | M13: 1644.4699 | N13: 10063.351 | O13: 2178.9091 | P13: 3450.4413 | Q13: 0 | R13: 1889.5705 | S13: =SUM(K13:R13) -> 21119.161
A14: 周照明 | B14: 707.80666 | C14: 0 | D14: 1278.458 | E14: 2231.3949 | F14: 4217.6596 | J14: 马志泽 | K14: 392.57628 | L14: 0 | M14: 2950.9918 | N14: 5263.5542 | O14: 786.90909 | P14: 2011.419 | Q14: 0 | R14: 1347.6497 | S14: =SUM(K14:R14) -> 12753.1
A15: 夏朝晖 | B15: 353.90333 | C15: 0 | D15: 1246.6903 | E15: 1117.6784 | F15: 2718.2721 | J15: 罗长秀 | K15: 1384.9223 | L15: 0 | M15: 3304.947 | N15: 4763.1648 | O15: 349.09091 | P15: 611.47606 | Q15: 0 | R15: 631.32503 | S15: =SUM(K15:R15) -> 11044.926
A16: 徐银峰 | B16: 353.90333 | C16: 0 | D16: 0 | E16: 235.26643 | F16: 589.16975 | J16: 何小付 | K16: 1721.296 | L16: 1000 | M16: 4006.921 | N16: 3174.9797 | O16: 2240 | P16: 3881.1966 | Q16: 0 | R16: 577.36876 | S16: =SUM(K16:R16) -> 16601.762
... A59: 降初次尔 | B59: 0 | C59: 0 | D59: 0 | E59: 112.06452 | F59: 112.06452 | J59: 沈建朋 | K59: 0 | L59: 0 | M59: 1917.6871 | N59: 3316.4325 | O59: 1221.8182 | P59: 2328.718 | Q59: 0 | R59: 1259.7137 | S59: =SUM(K59:R59) -> 10044.369
A60: 罗艳 | B60: 2909.0909 | C60: 3595.8145 | D60: 3490.9091 | E60: 2204.4989 | J60: 尹宗林 | K60: 0 | L60: 0 | M60: 511.38322 | N60: 426.26001 | O60: 1256.7273 | P60: 2440.7274 | Q60: 4049.4545 | R60: 1839.0627 | S60: =SUM(K60:R60) -> 10523.615
A61: 农树苏朗央青 | B61: 2909.0909 | C61: 2054.7512 | D61: 3490.9091 | E61: 2204.4989 | J61: 毛毅 | K61: 0 | L61: 0 | M61: 511.38322 | N61: 183.98872 | O61: 907.63636 | P61: 750.54622 | Q61: 0 | R61: 0 | S61: =SUM(K61:R61) -> 2353.5545
A62: 央初 | B62: 2909.0909 | C62: 0 | D62: 3490.9091 | E62: 314.92841 | J62: 降初次尔 | K62: 0 | L62: 0 | M62: 0 | N62: 112.06452 | O62: 203.63636 | P62: 0 | Q62: 0 | R62: 0 | S62: =SUM(K62:R62) -> 315.70088
A63: 拥珍卓玛 | B63: 1454.5455 | C63: 2225.9804 | D63: 1745.4545 | E63: 1889.5705 | J63: 白京全 | O63: 373.33333 | P63: 447.16414 | Q63: 0 | R63: 124.89048 | S63: =SUM(K63:R63) -> 945.38795
A64: 万年银 | B64: 2909.0909 | C64: 6849.1705 | D64: 3490.9091 | E64: 8188.1388 | J64: 蔡琳 | O64: 1600 | P64: 1788.6565 | Q64: 0 | R64: 370.04585 | S64: =SUM(K64:R64) -> 3758.7024
A65: 鲁绒偏初 | B65: 1454.5455 | C65: 2910.8975 | D65: 1745.4545 | E65: 3149.2841 | J65: 达娃央初 | O65: 814.54545 | P65: 0 | Q65: 0 | R65: 138.7672 | S65: =SUM(K65:R65) -> 953.31265
A66: 周小军 | B66: 1454.5455 | C66: 3938.2731 | D66: 1745.4545 | E66: 5038.8546 | J66: 郭红 | O66: 1600 | P66: 1937.7113 | Q66: 0 | R66: 416.30159 | S66: =SUM(K66:R66) -> 3954.0128
A67: 朱亚莉 | B67: 1745.4545 | C67: 0 | D67: 2443.6364 | E67: 944.78524 | J67: 何清燕 | O67: 373.33333 | P67: 1937.7113 | Q67: 0 | R67: 740.09171 | S67: =SUM(K67:R67) -> 3051.1363
A68: 戴玉环 | B68: 1745.4545 | C68: 0 | D68: 2443.6364 | E68: 0 | J68: 何永珍 | O68: 733.33333 | P68: 1117.9103 | Q68: 0 | R68: 370.04585 | S68: =SUM(K68:R68) -> 2221.2895
A69: 罗建华 | B69: 1745.4545 | C69: 2739.6682 | D69: 2443.6364 | E69: 3779.141 | J69: 胡崇涛 | O69: 597.33333 | P69: 894.32827 | Q69: 0 | R69: 194.27407 | S69: =SUM(K69:R69) -> 1685.9357
A70: 王朝珍 | B70: 1745.4545 | C70: 4965.6486 | D70: 2443.6364 | E70: 6613.4967 | J70: 胡建军 | O70: 746.66667 | P70: 1639.6018 | Q70: 0 | R70: 370.04585 | S70: =SUM(K70:R70) -> 2756.3144
A71: 胡逵 | B71: 1745.4545 | C71: 2054.7512 | D71: 2443.6364 | E71: 2519.4273 | J71: 朗基拉姆 | O71: 814.54545 | P71: 1490.5471 | Q71: 0 | R71: 601.32451 | S71: =SUM(K71:R71) -> 2906.4171
A72: 张明书 | B72: 872.72727 | C72: 3424.5853 | D72: 1221.8182 | E72: 5038.8546 | J72: 李顺秀 | O72: 1600 | P72: 1639.6018 | Q72: 0 | R72: 185.02293 | S72: =SUM(K72:R72) -> 3424.6248
A73: 杨启芬 | B73: 1745.4545 | C73: 5308.1072 | D73: 2443.6364 | E73: 6613.4967 | J73: 林波 | O73: 746.66667 | P73: 2384.8754 | Q73: 0 | R73: 777.0963 | S73: =SUM(K73:R73) -> 3908.6384
A74: 李卫咪 | B74: 1745.4545 | C74: 0 | D74: 2443.6364 | E74: 0 | J74: 马艳 | O74: 384 | P74: 496.84904 | Q74: 2304 | R74: 215.86008 | S74: =SUM(K74:R74) -> 3400.7091
... A115: 胡建军 | B115: 746.66667 | C115: 1639.6018 | D115: 0 | E115: 370.04585 | J115: 边玛拉初 | O115: 814.54545 | P115: 1465.7088 | Q115: 0 | R115: 0 | S115: =SUM(K115:R115) -> 2280.2543
A116: 朗基拉姆 | B116: 814.54545 | C116: 1490.5471 | D116: 0 | E116: 601.32451 | K116: =SUM(K4:K115) -> 58000 | L116: =SUM(L4:L115) -> 13000 | M116: =SUM(M4:M115) -> 112760 | N116: =SUM(N4:N115) -> 293440 | O116: =SUM(O4:O115) -> 120816 | P116: =SUM(P4:P115) -> 181224 | Q116: =SUM(Q4:Q115) -> 76800 | R116: =SUM(R4:R115) -> 115200 | S116: =SUM(S4:S115) -> 971240
A117: 李顺秀 | B117: 1600 | C117: 1639.6018 | D117: 0 | E117: 185.02293
A118: 李向 | B118: 373.33333 | C118: 0 | D118: 0 | E118: 0
A119: 林波 | B119: 746.66667 | C119: 2384.8754 | D119: 0 | E119: 777.0963
A120: 马艳 | B120: 384 | C120: 496.84904 | D120: 2304 | E120: 215.86008
A121: 玛里 | B121: 128 | C121: 645.90375 | D121: 0 | E121: 246.69724
A122: 偏初 | B122: 298.66667 | C122: 1073.1939 | D122: 0 | E122: 471.80846
A123: 仁青 | B123: 0 | C123: 398.26373 | D123: 0 | E123: 168.27348
A124: 任怡贞 | B124: 224 | C124: 0 | D124: 0 | E124: 0
A125: 沈祝英 | B125: 960 | C125: 1266.5002 | D125: 0 | E125: 261.65783
A126: 王丽婵 | B126: 814.54545 | C126: 1937.7113 | D126: 0 | E126: 740.09171
A127: 王小凤 | B127: 1600 | C127: 0 | D127: 0 | E127: 0
A128: 王英 | B128: 85.333333 | C128: 298.10942 | D128: 0 | E128: 123.34862
... A144: 卓玛青藏 | B144: 224 | C144: 0 | D144: 0 | E144: 0
A145: 祝玛央宗（语文） | B145: 1333.3333 | C145: 0
A146: 朱雁鸿 | B146: 814.54545 | C146: 1709.9937
A147: 张雪姣 | B147: 1333.3333 | C147: 2687.1329
A148: 袁登林 | B148: 1568 | C148: 2137.4921
A149: 喻安富 | B149: 448 | C149: 1709.9937
A150: 拥珍卓玛 | B150: 666.66667 | C150: 1954.2785
A151: 英支里 | B151: 363.63636 | C151: 1016.0881
A152: 杨自兴 | B152: 560 | C152: 692.14029
A153: 杨杜基 | B153: 448 | C153: 0
A154: 央青祝玛 | B154: 2240 | C154: 1628.5654
A155: 央青拉姆 | B155: 336 | C155: 468.21255
A156: 肖中林 | B156: 746.66667 | C156: 732.85442
... A181: 阿尔木牛 | B181: 3200 | C181: 3704.9863

Sheet Sheet6
B1: 学科质量奖
A2: 年级 | B2: 基础 | C2: 贡献
A3: 初三 | B3: 63712 | C3: 95568
A4: 初二 | B4: 23616 | C4: 35424
A5: 初一 | B5: 33488 | C5: 50232
B6: =SUM(B3:B5) -> 120816 | C6: =SUM(C3:C5) -> 181224 | D6: =SUM(B6:C6) -> 302040
