Workbook
Name 班主任: #REF!,#REF!,#REF!,#REF!,#REF!,#REF!
Name 单双上线: #REF!
Name 高2016级质量奖: #REF!
Name 高2017级质量奖: #REF!
Name 高2018级质量奖: #REF!
Name 过程评价奖: '2.gk_过程评价'!$A$1:$C$53
Name 基本奖: '1.gk_工作量'!$B$4:$M$63
Name 文化贡献奖: #REF!
Name 学生教师总表: #REF!
Name 总分上线: #REF!

Sheet 汇总
A1: 校长审签：
A2: 分导审签：
A3: 经办人：
A4: 木里中学（高中部）2023-2024学年度教学质量奖公示
A5: 序号 | B5: 姓名 | C5: 各年级学科质量奖和学科质量进步奖 | G5: 高考质量奖 | N5: 合计/元 | O5: 实发/元 | P5: 备注
C6: 高一 | D6: 高二 | E6: 高三 | F6: 小计1/元 | G6: 工作量 (30%) | H6: 文化质量奖(70%) | J6: 艺体质量奖(70%) | K6: 超额目标奖 | L6: 年级管理奖 | M6: 小计2/元
H7: 过程评价奖 | I7: 上线质量奖(总分上线)
A8: 1 | B8: 曹霞 | C8: =IF(SUMIF(高一质量奖!A:A,B8,高一质量奖!B:B)>0,SUMIF(高一质量奖!A:A,B8,高一质量奖!B:B),"") | D8: =IF(SUMIF(高二质量奖!A:A,B8,高二质量奖!B:B)>0,SUMIF(高二质量奖!A:A,B8,高二质量奖!B:B),"") | E8: =IF(SUMIF(高三质量奖!A:A,B8,高三质量奖!D:D)>0,SUMIF(高三质量奖!A:A,B8,高三质量奖!D:D),"") | F8: =SUM(C8:E8) -> 0 | G8: =IF(SUMIFS('1.gk_工作量'!$M$4:$M$63,'1.gk_工作量'!$B$4:$B$63,B8)>0,SUMIFS('1.gk_工作量'!$M$4:$M$63,'1.gk_工作量'!$B$4:$B$63,B8),"") -> 4878.9464 | H8: =IF(SUMIFS('2.gk_过程评价'!$C:$C,'2.gk_过程评价'!$A:$A,B8)>0,SUMIFS('2.gk_过程评价'!$C:$C,'2.gk_过程评价'!$A:$A,B8),"") -> 4291.4676 | I8: =IF(SUMIF('3.gk_上线质量'!B:B,B8,'3.gk_上线质量'!D:D)<>0,SUMIF('3.gk_上线质量'!B:B,B8,'3.gk_上线质量'!D:D),"") -> 4019.7733 | J8: =IF(SUMIFS('4.gk_艺体质量'!$E$4:$E$53,'4.gk_艺体质量'!$A$4:$A$53,B8)>0,SUMIFS('4.gk_艺体质量'!$E$4:$E$53,'4.gk_艺体质量'!$A$4:$A$53,B8),"") -> 822.62625 | K8: =IF(SUMIF('5.gk_超额目标'!B:B,B8,'5.gk_超额目标'!D:D)>0,SUMIF('5.gk_超额目标'!B:B,B8,'5.gk_超额目标'!D:D),"") -> 187.63421 | L8: =IF(SUMIF('6.gk_年级管理'!A:A,B8,'6.gk_年级管理'!D:D)>0,SUMIF('6.gk_年级管理'!A:A,B8,'6.gk_年级管理'!D:D),"") | M8: =SUM(G8:L8) -> 14200.448 | N8: =F8+M8 -> 14200.448 | O8: =IF(P8="辞职发0.3",N8*0.3,N8) -> 14200.448 | P8: 攀枝花支教
A9: 2 | B9: 曹云萍 | C9: =IF(SUMIF(高一质量奖!A:A,B9,高一质量奖!B:B)>0,SUMIF(高一质量奖!A:A,B9,高一质量奖!B:B),"") | D9: =IF(SUMIF(高二质量奖!A:A,B9,高二质量奖!B:B)>0,SUMIF(高二质量奖!A:A,B9,高二质量奖!B:B),"") -> 11205.589 | E9: =IF(SUMIF(高三质量奖!A:A,B9,高三质量奖!D:D)>0,SUMIF(高三质量奖!A:A,B9,高三质量奖!D:D),"") | F9: =SUM(C9:E9) -> 11205.589 | G9: =IF(SUMIFS('1.gk_工作量'!$M$4:$M$63,'1.gk_工作量'!$B$4:$B$63,B9)>0,SUMIFS('1.gk_工作量'!$M$4:$M$63,'1.gk_工作量'!$B$4:$B$63,B9),"") | H9: =IF(SUMIFS('2.gk_过程评价'!$C:$C,'2.gk_过程评价'!$A:$A,B9)>0,SUMIFS('2.gk_过程评价'!$C:$C,'2.gk_过程评价'!$A:$A,B9),"") | I9: =IF(SUMIF('3.gk_上线质量'!B:B,B9,'3.gk_上线质量'!D:D)<>0,SUMIF('3.gk_上线质量'!B:B,B9,'3.gk_上线质量'!D:D),"") | J9: =IF(SUMIFS('4.gk_艺体质量'!$E$4:$E$53,'4.gk_艺体质量'!$A$4:$A$53,B9)>0,SUMIFS('4.gk_艺体质量'!$E$4:$E$53,'4.gk_艺体质量'!$A$4:$A$53,B9),"") | K9: =IF(SUMIF('5.gk_超额目标'!B:B,B9,'5.gk_超额目标'!D:D)>0,SUMIF('5.gk_超额目标'!B:B,B9,'5.gk_超额目标'!D:D),"") | L9: =IF(SUMIF('6.gk_年级管理'!A:A,B9,'6.gk_年级管理'!D:D)>0,SUMIF('6.gk_年级管理'!A:A,B9,'6.gk_年级管理'!D:D),"") | M9: =SUM(G9:L9) -> 0 | N9: =F9+M9 -> 11205.589 | O9: =IF(P9="辞职发0.3",N9*0.3,N9) -> 11205.589
A10: 3 | B10: 车梦德 | C10: =IF(SUMIF(高一质量奖!A:A,B10,高一质量奖!B:B)>0,SUMIF(高一质量奖!A:A,B10,高一质量奖!B:B),"") | D10: =IF(SUMIF(高二质量奖!A:A,B10,高二质量奖!B:B)>0,SUMIF(高二质量奖!A:A,B10,高二质量奖!B:B),"") | E10: =IF(SUMIF(高三质量奖!A:A,B10,高三质量奖!D:D)>0,SUMIF(高三质量奖!A:A,B10,高三质量奖!D:D),"") -> 16019.83 | F10: =SUM(C10:E10) -> 16019.83 | G10: =IF(SUMIFS('1.gk_工作量'!$M$4:$M$63,'1.gk_工作量'!$B$4:$B$63,B10)>0,SUMIFS('1.gk_工作量'!$M$4:$M$63,'1.gk_工作量'!$B$4:$B$63,B10),"") -> 16242.373 | H10: =IF(SUMIFS('2.gk_过程评价'!$C:$C,'2.gk_过程评价'!$A:$A,B10)>0,SUMIFS('2.gk_过程评价'!$C:$C,'2.gk_过程评价'!$A:$A,B10),"") -> 15122.069 | I10: =IF(SUMIF('3.gk_上线质量'!B:B,B10,'3.gk_上线质量'!D:D)<>0,SUMIF('3.gk_上线质量'!B:B,B10,'3.gk_上线质量'!D:D),"") -> 34925.013 | J10: =IF(SUMIFS('4.gk_艺体质量'!$E$4:$E$53,'4.gk_艺体质量'!$A$4:$A$53,B10)>0,SUMIFS('4.gk_艺体质量'!$E$4:$E$53,'4.gk_艺体质量'!$A$4:$A$53,B10),"") -> 2280.9182 | K10: =IF(SUMIF('5.gk_超额目标'!B:B,B10,'5.gk_超额目标'!D:D)>0,SUMIF('5.gk_超额目标'!B:B,B10,'5.gk_超额目标'!D:D),"") -> 1630.2231 | L10: =IF(SUMIF('6.gk_年级管理'!A:A,B10,'6.gk_年级管理'!D:D)>0,SUMIF('6.gk_年级管理'!A:A,B10,'6.gk_年级管理'!D:D),"") | M10: =SUM(G10:L10) -> 70200.596 | N10: =F10+M10 -> 86220.425 | O10: =IF(P10="辞职发0.3",N10*0.3,N10) -> 86220.425
A11: 4 | B11: 陈光汇 | C11: =IF(SUMIF(高一质量奖!A:A,B11,高一质量奖!B:B)>0,SUMIF(高一质量奖!A:A,B11,高一质量奖!B:B),"") | D11: =IF(SUMIF(高二质量奖!A:A,B11,高二质量奖!B:B)>0,SUMIF(高二质量奖!A:A,B11,高二质量奖!B:B),"") -> 15318.282 | E11: =IF(SUMIF(高三质量奖!A:A,B11,高三质量奖!D:D)>0,SUMIF(高三质量奖!A:A,B11,高三质量奖!D:D),"") | F11: =SUM(C11:E11) -> 15318.282 | G11: =IF(SUMIFS('1.gk_工作量'!$M$4:$M$63,'1.gk_工作量'!$B$4:$B$63,B11)>0,SUMIFS('1.gk_工作量'!$M$4:$M$63,'1.gk_工作量'!$B$4:$B$63,B11),"") | H11: =IF(SUMIFS('2.gk_过程评价'!$C:$C,'2.gk_过程评价'!$A:$A,B11)>0,SUMIFS('2.gk_过程评价'!$C:$C,'2.gk_过程评价'!$A:$A,B11),"") | I11: =IF(SUMIF('3.gk_上线质量'!B:B,B11,'3.gk_上线质量'!D:D)<>0,SUMIF('3.gk_上线质量'!B:B,B11,'3.gk_上线质量'!D:D),"") | J11: =IF(SUMIFS('4.gk_艺体质量'!$E$4:$E$53,'4.gk_艺体质量'!$A$4:$A$53,B11)>0,SUMIFS('4.gk_艺体质量'!$E$4:$E$53,'4.gk_艺体质量'!$A$4:$A$53,B11),"") | K11: =IF(SUMIF('5.gk_超额目标'!B:B,B11,'5.gk_超额目标'!D:D)>0,SUMIF('5.gk_超额目标'!B:B,B11,'5.gk_超额目标'!D:D),"") | L11: =IF(SUMIF('6.gk_年级管理'!A:A,B11,'6.gk_年级管理'!D:D)>0,SUMIF('6.gk_年级管理'!A:A,B11,'6.gk_年级管理'!D:D),"") | M11: =SUM(G11:L11) -> 0 | N11: =F11+M11 -> 15318.282 | O11: =IF(P11="辞职发0.3",N11*0.3,N11) -> 15318.282
A12: 5 | B12: 陈国萍 | C12: =IF(SUMIF(高一质量奖!A:A,B12,高一质量奖!B:B)>0,SUMIF(高一质量奖!A:A,B12,高一质量奖!B:B),"") | D12: =IF(SUMIF(高二质量奖!A:A,B12,高二质量奖!B:B)>0,SUMIF(高二质量奖!A:A,B12,高二质量奖!B:B),"") -> 1478.0015 | E12: =IF(SUMIF(高三质量奖!A:A,B12,高三质量奖!D:D)>0,SUMIF(高三质量奖!A:A,B12,高三质量奖!D:D),"") | F12: =SUM(C12:E12) -> 1478.0015 | G12: =IF(SUMIFS('1.gk_工作量'!$M$4:$M$63,'1.gk_工作量'!$B$4:$B$63,B12)>0,SUMIFS('1.gk_工作量'!$M$4:$M$63,'1.gk_工作量'!$B$4:$B$63,B12),"") | H12: =IF(SUMIFS('2.gk_过程评价'!$C:$C,'2.gk_过程评价'!$A:$A,B12)>0,SUMIFS('2.gk_过程评价'!$C:$C,'2.gk_过程评价'!$A:$A,B12),"") | I12: =IF(SUMIF('3.gk_上线质量'!B:B,B12,'3.gk_上线质量'!D:D)<>0,SUMIF('3.gk_上线质量'!B:B,B12,'3.gk_上线质量'!D:D),"") | J12: =IF(SUMIFS('4.gk_艺体质量'!$E$4:$E$53,'4.gk_艺体质量'!$A$4:$A$53,B12)>0,SUMIFS('4.gk_艺体质量'!$E$4:$E$53,'4.gk_艺体质量'!$A$4:$A$53,B12),"") | K12: =IF(SUMIF('5.gk_超额目标'!B:B,B12,'5.gk_超额目标'!D:D)>0,SUMIF('5.gk_超额目标'!B:B,B12,'5.gk_超额目标'!D:D),"") | L12: =IF(SUMIF('6.gk_年级管理'!A:A,B12,'6.gk_年级管理'!D:D)>0,SUMIF('6.gk_年级管理'!A:A,B12,'6.gk_年级管理'!D:D),"") | M12: =SUM(G12:L12) -> 0 | N12: =F12+M12 -> 1478.0015 | O12: =IF(P12="辞职发0.3",N12*0.3,N12) -> 1478.0015
A13: 6 | B13: 陈虎林 | C13: =IF(SUMIF(高一质量奖!A:A,B13,高一质量奖!B:B)>0,SUMIF(高一质量奖!A:A,B13,高一质量奖!B:B),"") | D13: =IF(SUMIF(高二质量奖!A:A,B13,高二质量奖!B:B)>0,SUMIF(高二质量奖!A:A,B13,高二质量奖!B:B),"") | E13: =IF(SUMIF(高三质量奖!A:A,B13,高三质量奖!D:D)>0,SUMIF(高三质量奖!A:A,B13,高三质量奖!D:D),"") -> 2189.9278 | F13: =SUM(C13:E13) -> 2189.9278 | G13: =IF(SUMIFS('1.gk_工作量'!$M$4:$M$63,'1.gk_工作量'!$B$4:$B$63,B13)>0,SUMIFS('1.gk_工作量'!$M$4:$M$63,'1.gk_工作量'!$B$4:$B$63,B13),"") -> 10462.161 | H13: =IF(SUMIFS('2.gk_过程评价'!$C:$C,'2.gk_过程评价'!$A:$A,B13)>0,SUMIFS('2.gk_过程评价'!$C:$C,'2.gk_过程评价'!$A:$A,B13),"") -> 8608.9463 | I13: =IF(SUMIF('3.gk_上线质量'!B:B,B13,'3.gk_上线质量'!D:D)<>0,SUMIF('3.gk_上线质量'!B:B,B13,'3.gk_上线质量'!D:D),"") -> 271.511 | J13: =IF(SUMIFS('4.gk_艺体质量'!$E$4:$E$53,'4.gk_艺体质量'!$A$4:$A$53,B13)>0,SUMIFS('4.gk_艺体质量'!$E$4:$E$53,'4.gk_艺体质量'!$A$4:$A$53,B13),"") -> 7740.1651 | K13: =IF(SUMIF('5.gk_超额目标'!B:B,B13,'5.gk_超额目标'!D:D)>0,SUMIF('5.gk_超额目标'!B:B,B13,'5.gk_超额目标'!D:D),"") -> 12.673539 | L13: =IF(SUMIF('6.gk_年级管理'!A:A,B13,'6.gk_年级管理'!D:D)>0,SUMIF('6.gk_年级管理'!A:A,B13,'6.gk_年级管理'!D:D),"") | M13: =SUM(G13:L13) -> 27095.457 | N13: =F13+M13 -> 29285.385 | O13: =IF(P13="辞职发0.3",N13*0.3,N13) -> 29285.385
A14: 7 | B14: 陈强 | C14: =IF(SUMIF(高一质量奖!A:A,B14,高一质量奖!B:B)>0,SUMIF(高一质量奖!A:A,B14,高一质量奖!B:B),"") | D14: =IF(SUMIF(高二质量奖!A:A,B14,高二质量奖!B:B)>0,SUMIF(高二质量奖!A:A,B14,高二质量奖!B:B),"") | E14: =IF(SUMIF(高三质量奖!A:A,B14,高三质量奖!D:D)>0,SUMIF(高三质量奖!A:A,B14,高三质量奖!D:D),"") | F14: =SUM(C14:E14) -> 0 | G14: =IF(SUMIFS('1.gk_工作量'!$M$4:$M$63,'1.gk_工作量'!$B$4:$B$63,B14)>0,SUMIFS('1.gk_工作量'!$M$4:$M$63,'1.gk_工作量'!$B$4:$B$63,B14),"") -> 10870.143 | H14: =IF(SUMIFS('2.gk_过程评价'!$C:$C,'2.gk_过程评价'!$A:$A,B14)>0,SUMIFS('2.gk_过程评价'!$C:$C,'2.gk_过程评价'!$A:$A,B14),"") -> 8664.354 | I14: =IF(SUMIF('3.gk_上线质量'!B:B,B14,'3.gk_上线质量'!D:D)<>0,SUMIF('3.gk_上线质量'!B:B,B14,'3.gk_上线质量'!D:D),"") -> 3838.1783 | J14: =IF(SUMIFS('4.gk_艺体质量'!$E$4:$E$53,'4.gk_艺体质量'!$A$4:$A$53,B14)>0,SUMIFS('4.gk_艺体质量'!$E$4:$E$53,'4.gk_艺体质量'!$A$4:$A$53,B14),"") -> 5633.7434 | K14: =IF(SUMIF('5.gk_超额目标'!B:B,B14,'5.gk_超额目标'!D:D)>0,SUMIF('5.gk_超额目标'!B:B,B14,'5.gk_超额目标'!D:D),"") -> 179.15775 | L14: =IF(SUMIF('6.gk_年级管理'!A:A,B14,'6.gk_年级管理'!D:D)>0,SUMIF('6.gk_年级管理'!A:A,B14,'6.gk_年级管理'!D:D),"") | M14: =SUM(G14:L14) -> 29185.577 | N14: =F14+M14 -> 29185.577 | O14: =IF(P14="辞职发0.3",N14*0.3,N14) -> 8755.673 | P14: 辞职发0.3
A15: 8 | B15: 次儿祝玛 | C15: =IF(SUMIF(高一质量奖!A:A,B15,高一质量奖!B:B)>0,SUMIF(高一质量奖!A:A,B15,高一质量奖!B:B),"") | D15: =IF(SUMIF(高二质量奖!A:A,B15,高二质量奖!B:B)>0,SUMIF(高二质量奖!A:A,B15,高二质量奖!B:B),"") | E15: =IF(SUMIF(高三质量奖!A:A,B15,高三质量奖!D:D)>0,SUMIF(高三质量奖!A:A,B15,高三质量奖!D:D),"") -> 10735.663 | F15: =SUM(C15:E15) -> 10735.663 | G15: =IF(SUMIFS('1.gk_工作量'!$M$4:$M$63,'1.gk_工作量'!$B$4:$B$63,B15)>0,SUMIFS('1.gk_工作量'!$M$4:$M$63,'1.gk_工作量'!$B$4:$B$63,B15),"") -> 17101.224 | H15: =IF(SUMIFS('2.gk_过程评价'!$C:$C,'2.gk_过程评价'!$A:$A,B15)>0,SUMIFS('2.gk_过程评价'!$C:$C,'2.gk_过程评价'!$A:$A,B15),"") -> 13191.03 | I15: =IF(SUMIF('3.gk_上线质量'!B:B,B15,'3.gk_上线质量'!D:D)<>0,SUMIF('3.gk_上线质量'!B:B,B15,'3.gk_上线质量'!D:D),"") -> 24582.324 | J15: =IF(SUMIFS('4.gk_艺体质量'!$E$4:$E$53,'4.gk_艺体质量'!$A$4:$A$53,B15)>0,SUMIFS('4.gk_艺体质量'!$E$4:$E$53,'4.gk_艺体质量'!$A$4:$A$53,B15),"") -> 2318.3103 | K15: =IF(SUMIF('5.gk_超额目标'!B:B,B15,'5.gk_超额目标'!D:D)>0,SUMIF('5.gk_超额目标'!B:B,B15,'5.gk_超额目标'!D:D),"") -> 1147.449 | L15: =IF(SUMIF('6.gk_年级管理'!A:A,B15,'6.gk_年级管理'!D:D)>0,SUMIF('6.gk_年级管理'!A:A,B15,'6.gk_年级管理'!D:D),"") -> 1004.3077 | M15: =SUM(G15:L15) -> 59344.645 | N15: =F15+M15 -> 70080.308 | O15: =IF(P15="辞职发0.3",N15*0.3,N15) -> 70080.308
A16: 9 | B16: 次珍扎保 | C16: =IF(SUMIF(高一质量奖!A:A,B16,高一质量奖!B:B)>0,SUMIF(高一质量奖!A:A,B16,高一质量奖!B:B),"") | D16: =IF(SUMIF(高二质量奖!A:A,B16,高二质量奖!B:B)>0,SUMIF(高二质量奖!A:A,B16,高二质量奖!B:B),"") | E16: =IF(SUMIF(高三质量奖!A:A,B16,高三质量奖!D:D)>0,SUMIF(高三质量奖!A:A,B16,高三质量奖!D:D),"") | F16: =SUM(C16:E16) -> 0 | G16: =IF(SUMIFS('1.gk_工作量'!$M$4:$M$63,'1.gk_工作量'!$B$4:$B$63,B16)>0,SUMIFS('1.gk_工作量'!$M$4:$M$63,'1.gk_工作量'!$B$4:$B$63,B16),"") -> 3716.4232 | H16: =IF(SUMIFS('2.gk_过程评价'!$C:$C,'2.gk_过程评价'!$A:$A,B16)>0,SUMIFS('2.gk_过程评价'!$C:$C,'2.gk_过程评价'!$A:$A,B16),"") -> 6433.1362 | I16: =IF(SUMIF('3.gk_上线质量'!B:B,B16,'3.gk_上线质量'!D:D)<>0,SUMIF('3.gk_上线质量'!B:B,B16,'3.gk_上线质量'!D:D),"") -> 1775.3999 | J16: =IF(SUMIFS('4.gk_艺体质量'!$E$4:$E$53,'4.gk_艺体质量'!$A$4:$A$53,B16)>0,SUMIFS('4.gk_艺体质量'!$E$4:$E$53,'4.gk_艺体质量'!$A$4:$A$53,B16),"") -> 934.80255 | K16: =IF(SUMIF('5.gk_超额目标'!B:B,B16,'5.gk_超额目标'!D:D)>0,SUMIF('5.gk_超额目标'!B:B,B16,'5.gk_超额目标'!D:D),"") -> 82.871777 | L16: =IF(SUMIF('6.gk_年级管理'!A:A,B16,'6.gk_年级管理'!D:D)>0,SUMIF('6.gk_年级管理'!A:A,B16,'6.gk_年级管理'!D:D),"") | M16: =SUM(G16:L16) -> 12942.634 | N16: =F16+M16 -> 12942.634 | O16: =IF(P16="辞职发0.3",N16*0.3,N16) -> 3882.7901 | P16: 辞职发0.3
A17: 10 | B17: 邓琪 | C17: =IF(SUMIF(高一质量奖!A:A,B17,高一质量奖!B:B)>0,SUMIF(高一质量奖!A:A,B17,高一质量奖!B:B),"") | D17: =IF(SUMIF(高二质量奖!A:A,B17,高二质量奖!B:B)>0,SUMIF(高二质量奖!A:A,B17,高二质量奖!B:B),"") | E17: =IF(SUMIF(高三质量奖!A:A,B17,高三质量奖!D:D)>0,SUMIF(高三质量奖!A:A,B17,高三质量奖!D:D),"") -> 2874.285 | F17: =SUM(C17:E17) -> 2874.285 | G17: =IF(SUMIFS('1.gk_工作量'!$M$4:$M$63,'1.gk_工作量'!$B$4:$B$63,B17)>0,SUMIFS('1.gk_工作量'!$M$4:$M$63,'1.gk_工作量'!$B$4:$B$63,B17),"") -> 14378.894 | H17: =IF(SUMIFS('2.gk_过程评价'!$C:$C,'2.gk_过程评价'!$A:$A,B17)>0,SUMIFS('2.gk_过程评价'!$C:$C,'2.gk_过程评价'!$A:$A,B17),"") -> 13062.15 | I17: =IF(SUMIF('3.gk_上线质量'!B:B,B17,'3.gk_上线质量'!D:D)<>0,SUMIF('3.gk_上线质量'!B:B,B17,'3.gk_上线质量'!D:D),"") -> 20151.758 | J17: =IF(SUMIFS('4.gk_艺体质量'!$E$4:$E$53,'4.gk_艺体质量'!$A$4:$A$53,B17)>0,SUMIFS('4.gk_艺体质量'!$E$4:$E$53,'4.gk_艺体质量'!$A$4:$A$53,B17),"") -> 12588.674 | K17: =IF(SUMIF('5.gk_超额目标'!B:B,B17,'5.gk_超额目标'!D:D)>0,SUMIF('5.gk_超额目标'!B:B,B17,'5.gk_超额目标'!D:D),"") -> 940.63993 | L17: =IF(SUMIF('6.gk_年级管理'!A:A,B17,'6.gk_年级管理'!D:D)>0,SUMIF('6.gk_年级管理'!A:A,B17,'6.gk_年级管理'!D:D),"") -> 1004.3077 | M17: =SUM(G17:L17) -> 62126.424 | N17: =F17+M17 -> 65000.709 | O17: =IF(P17="辞职发0.3",N17*0.3,N17) -> 65000.709
A18: 11 | B18: 邓倩 | C18: =IF(SUMIF(高一质量奖!A:A,B18,高一质量奖!B:B)>0,SUMIF(高一质量奖!A:A,B18,高一质量奖!B:B),"") | D18: =IF(SUMIF(高二质量奖!A:A,B18,高二质量奖!B:B)>0,SUMIF(高二质量奖!A:A,B18,高二质量奖!B:B),"") -> 6215.5997 | E18: =IF(SUMIF(高三质量奖!A:A,B18,高三质量奖!D:D)>0,SUMIF(高三质量奖!A:A,B18,高三质量奖!D:D),"") | F18: =SUM(C18:E18) -> 6215.5997 | G18: =IF(SUMIFS('1.gk_工作量'!$M$4:$M$63,'1.gk_工作量'!$B$4:$B$63,B18)>0,SUMIFS('1.gk_工作量'!$M$4:$M$63,'1.gk_工作量'!$B$4:$B$63,B18),"") | H18: =IF(SUMIFS('2.gk_过程评价'!$C:$C,'2.gk_过程评价'!$A:$A,B18)>0,SUMIFS('2.gk_过程评价'!$C:$C,'2.gk_过程评价'!$A:$A,B18),"") | I18: =IF(SUMIF('3.gk_上线质量'!B:B,B18,'3.gk_上线质量'!D:D)<>0,SUMIF('3.gk_上线质量'!B:B,B18,'3.gk_上线质量'!D:D),"") | J18: =IF(SUMIFS('4.gk_艺体质量'!$E$4:$E$53,'4.gk_艺体质量'!$A$4:$A$53,B18)>0,SUMIFS('4.gk_艺体质量'!$E$4:$E$53,'4.gk_艺体质量'!$A$4:$A$53,B18),"") | K18: =IF(SUMIF('5.gk_超额目标'!B:B,B18,'5.gk_超额目标'!D:D)>0,SUMIF('5.gk_超额目标'!B:B,B18,'5.gk_超额目标'!D:D),"") | L18: =IF(SUMIF('6.gk_年级管理'!A:A,B18,'6.gk_年级管理'!D:D)>0,SUMIF('6.gk_年级管理'!A:A,B18,'6.gk_年级管理'!D:D),"") | M18: =SUM(G18:L18) -> 0 | N18: =F18+M18 -> 6215.5997 | O18: =IF(P18="辞职发0.3",N18*0.3,N18) -> 6215.5997
A19: 12 | B19: 邓彤 | C19: =IF(SUMIF(高一质量奖!A:A,B19,高一质量奖!B:B)>0,SUMIF(高一质量奖!A:A,B19,高一质量奖!B:B),"") | D19: =IF(SUMIF(高二质量奖!A:A,B19,高二质量奖!B:B)>0,SUMIF(高二质量奖!A:A,B19,高二质量奖!B:B),"") | E19: =IF(SUMIF(高三质量奖!A:A,B19,高三质量奖!D:D)>0,SUMIF(高三质量奖!A:A,B19,高三质量奖!D:D),"") | F19: =SUM(C19:E19) -> 0 | G19: =IF(SUMIFS('1.gk_工作量'!$M$4:$M$63,'1.gk_工作量'!$B$4:$B$63,B19)>0,SUMIFS('1.gk_工作量'!$M$4:$M$63,'1.gk_工作量'!$B$4:$B$63,B19),"") -> 10781.302 | H19: =IF(SUMIFS('2.gk_过程评价'!$C:$C,'2.gk_过程评价'!$A:$A,B19)>0,SUMIFS('2.gk_过程评价'!$C:$C,'2.gk_过程评价'!$A:$A,B19),"") | I19: =IF(SUMIF('3.gk_上线质量'!B:B,B19,'3.gk_上线质量'!D:D)<>0,SUMIF('3.gk_上线质量'!B:B,B19,'3.gk_上线质量'!D:D),"") | J19: =IF(SUMIFS('4.gk_艺体质量'!$E$4:$E$53,'4.gk_艺体质量'!$A$4:$A$53,B19)>0,SUMIFS('4.gk_艺体质量'!$E$4:$E$53,'4.gk_艺体质量'!$A$4:$A$53,B19),"") | K19: =IF(SUMIF('5.gk_超额目标'!B:B,B19,'5.gk_超额目标'!D:D)>0,SUMIF('5.gk_超额目标'!B:B,B19,'5.gk_超额目标'!D:D),"") | L19: =IF(SUMIF('6.gk_年级管理'!A:A,B19,'6.gk_年级管理'!D:D)>0,SUMIF('6.gk_年级管理'!A:A,B19,'6.gk_年级管理'!D:D),"") | M19: =SUM(G19:L19) -> 10781.302 | N19: =F19+M19 -> 10781.302 | O19: =IF(P19="辞职发0.3",N19*0.3,N19) -> 10781.302
A20: 13 | B20: 东梅 | C20: =IF(SUMIF(高一质量奖!A:A,B20,高一质量奖!B:B)>0,SUMIF(高一质量奖!A:A,B20,高一质量奖!B:B),"") | D20: =IF(SUMIF(高二质量奖!A:A,B20,高二质量奖!B:B)>0,SUMIF(高二质量奖!A:A,B20,高二质量奖!B:B),"") | E20: =IF(SUMIF(高三质量奖!A:A,B20,高三质量奖!D:D)>0,SUMIF(高三质量奖!A:A,B20,高三质量奖!D:D),"") | F20: =SUM(C20:E20) -> 0 | G20: =IF(SUMIFS('1.gk_工作量'!$M$4:$M$63,'1.gk_工作量'!$B$4:$B$63,B20)>0,SUMIFS('1.gk_工作量'!$M$4:$M$63,'1.gk_工作量'!$B$4:$B$63,B20),"") -> 14033.337 | H20: =IF(SUMIFS('2.gk_过程评价'!$C:$C,'2.gk_过程评价'!$A:$A,B20)>0,SUMIFS('2.gk_过程评价'!$C:$C,'2.gk_过程评价'!$A:$A,B20),"") -> 13011.999 | I20: =IF(SUMIF('3.gk_上线质量'!B:B,B20,'3.gk_上线质量'!D:D)<>0,SUMIF('3.gk_上线质量'!B:B,B20,'3.gk_上线质量'!D:D),"") -> 15048.292 | J20: =IF(SUMIFS('4.gk_艺体质量'!$E$4:$E$53,'4.gk_艺体质量'!$A$4:$A$53,B20)>0,SUMIFS('4.gk_艺体质量'!$E$4:$E$53,'4.gk_艺体质量'!$A$4:$A$53,B20),"") -> 2692.2314 | K20: =IF(SUMIF('5.gk_超额目标'!B:B,B20,'5.gk_超额目标'!D:D)>0,SUMIF('5.gk_超额目标'!B:B,B20,'5.gk_超额目标'!D:D),"") -> 702.42129 | L20: =IF(SUMIF('6.gk_年级管理'!A:A,B20,'6.gk_年级管理'!D:D)>0,SUMIF('6.gk_年级管理'!A:A,B20,'6.gk_年级管理'!D:D),"") -> 1305.6 | M20: =SUM(G20:L20) -> 46793.88 | N20: =F20+M20 -> 46793.88 | O20: =IF(P20="辞职发0.3",N20*0.3,N20) -> 46793.88
A21: 14 | B21: 杜东洋 | C21: =IF(SUMIF(高一质量奖!A:A,B21,高一质量奖!B:B)>0,SUMIF(高一质量奖!A:A,B21,高一质量奖!B:B),"") | D21: =IF(SUMIF(高二质量奖!A:A,B21,高二质量奖!B:B)>0,SUMIF(高二质量奖!A:A,B21,高二质量奖!B:B),"") | E21: =IF(SUMIF(高三质量奖!A:A,B21,高三质量奖!D:D)>0,SUMIF(高三质量奖!A:A,B21,高三质量奖!D:D),"") -> 11679.582 | F21: =SUM(C21:E21) -> 11679.582 | G21: =IF(SUMIFS('1.gk_工作量'!$M$4:$M$63,'1.gk_工作量'!$B$4:$B$63,B21)>0,SUMIFS('1.gk_工作量'!$M$4:$M$63,'1.gk_工作量'!$B$4:$B$63,B21),"") -> 13008.142 | H21: =IF(SUMIFS('2.gk_过程评价'!$C:$C,'2.gk_过程评价'!$A:$A,B21)>0,SUMIFS('2.gk_过程评价'!$C:$C,'2.gk_过程评价'!$A:$A,B21),"") -> 8813.8925 | I21: =IF(SUMIF('3.gk_上线质量'!B:B,B21,'3.gk_上线质量'!D:D)<>0,SUMIF('3.gk_上线质量'!B:B,B21,'3.gk_上线质量'!D:D),"") -> 18760.705 | J21: =IF(SUMIFS('4.gk_艺体质量'!$E$4:$E$53,'4.gk_艺体质量'!$A$4:$A$53,B21)>0,SUMIFS('4.gk_艺体质量'!$E$4:$E$53,'4.gk_艺体质量'!$A$4:$A$53,B21),"") -> 486.09733 | K21: =IF(SUMIF('5.gk_超额目标'!B:B,B21,'5.gk_超额目标'!D:D)>0,SUMIF('5.gk_超额目标'!B:B,B21,'5.gk_超额目标'!D:D),"") -> 875.70862 | L21: =IF(SUMIF('6.gk_年级管理'!A:A,B21,'6.gk_年级管理'!D:D)>0,SUMIF('6.gk_年级管理'!A:A,B21,'6.gk_年级管理'!D:D),"") -> 1305.6 | M21: =SUM(G21:L21) -> 43250.145 | N21: =F21+M21 -> 54929.728 | O21: =IF(P21="辞职发0.3",N21*0.3,N21) -> 54929.728 | P21: 棠湖中学支教
A22: 15 | B22: 杜基次尔 | C22: =IF(SUMIF(高一质量奖!A:A,B22,高一质量奖!B:B)>0,SUMIF(高一质量奖!A:A,B22,高一质量奖!B:B),"") -> 3255.5973 | D22: =IF(SUMIF(高二质量奖!A:A,B22,高二质量奖!B:B)>0,SUMIF(高二质量奖!A:A,B22,高二质量奖!B:B),"") | E22: =IF(SUMIF(高三质量奖!A:A,B22,高三质量奖!D:D)>0,SUMIF(高三质量奖!A:A,B22,高三质量奖!D:D),"") | F22: =SUM(C22:E22) -> 3255.5973 | G22: =IF(SUMIFS('1.gk_工作量'!$M$4:$M$63,'1.gk_工作量'!$B$4:$B$63,B22)>0,SUMIFS('1.gk_工作量'!$M$4:$M$63,'1.gk_工作量'!$B$4:$B$63,B22),"") | H22: =IF(SUMIFS('2.gk_过程评价'!$C:$C,'2.gk_过程评价'!$A:$A,B22)>0,SUMIFS('2.gk_过程评价'!$C:$C,'2.gk_过程评价'!$A:$A,B22),"") | I22: =IF(SUMIF('3.gk_上线质量'!B:B,B22,'3.gk_上线质量'!D:D)<>0,SUMIF('3.gk_上线质量'!B:B,B22,'3.gk_上线质量'!D:D),"") | J22: =IF(SUMIFS('4.gk_艺体质量'!$E$4:$E$53,'4.gk_艺体质量'!$A$4:$A$53,B22)>0,SUMIFS('4.gk_艺体质量'!$E$4:$E$53,'4.gk_艺体质量'!$A$4:$A$53,B22),"") | K22: =IF(SUMIF('5.gk_超额目标'!B:B,B22,'5.gk_超额目标'!D:D)>0,SUMIF('5.gk_超额目标'!B:B,B22,'5.gk_超额目标'!D:D),"") | L22: =IF(SUMIF('6.gk_年级管理'!A:A,B22,'6.gk_年级管理'!D:D)>0,SUMIF('6.gk_年级管理'!A:A,B22,'6.gk_年级管理'!D:D),"") | M22: =SUM(G22:L22) -> 0 | N22: =F22+M22 -> 3255.5973 | O22: =IF(P22="辞职发0.3",N22*0.3,N22) -> 3255.5973
A23: 16 | B23: 方帮林 | C23: =IF(SUMIF(高一质量奖!A:A,B23,高一质量奖!B:B)>0,SUMIF(高一质量奖!A:A,B23,高一质量奖!B:B),"") | D23: =IF(SUMIF(高二质量奖!A:A,B23,高二质量奖!B:B)>0,SUMIF(高二质量奖!A:A,B23,高二质量奖!B:B),"") | E23: =IF(SUMIF(高三质量奖!A:A,B23,高三质量奖!D:D)>0,SUMIF(高三质量奖!A:A,B23,高三质量奖!D:D),"") | F23: =SUM(C23:E23) -> 0 | G23: =IF(SUMIFS('1.gk_工作量'!$M$4:$M$63,'1.gk_工作量'!$B$4:$B$63,B23)>0,SUMIFS('1.gk_工作量'!$M$4:$M$63,'1.gk_工作量'!$B$4:$B$63,B23),"") -> 4339.7644 | H23: =IF(SUMIFS('2.gk_过程评价'!$C:$C,'2.gk_过程评价'!$A:$A,B23)>0,SUMIFS('2.gk_过程评价'!$C:$C,'2.gk_过程评价'!$A:$A,B23),"") -> 8499.6303 | I23: =IF(SUMIF('3.gk_上线质量'!B:B,B23,'3.gk_上线质量'!D:D)<>0,SUMIF('3.gk_上线质量'!B:B,B23,'3.gk_上线质量'!D:D),"") -> 3743.3257 | J23: =IF(SUMIFS('4.gk_艺体质量'!$E$4:$E$53,'4.gk_艺体质量'!$A$4:$A$53,B23)>0,SUMIFS('4.gk_艺体质量'!$E$4:$E$53,'4.gk_艺体质量'!$A$4:$A$53,B23),"") -> 1046.9789 | K23: =IF(SUMIF('5.gk_超额目标'!B:B,B23,'5.gk_超额目标'!D:D)>0,SUMIF('5.gk_超额目标'!B:B,B23,'5.gk_超额目标'!D:D),"") -> 174.73025 | L23: =IF(SUMIF('6.gk_年级管理'!A:A,B23,'6.gk_年级管理'!D:D)>0,SUMIF('6.gk_年级管理'!A:A,B23,'6.gk_年级管理'!D:D),"") | M23: =SUM(G23:L23) -> 17804.429 | N23: =F23+M23 -> 17804.429 | O23: =IF(P23="辞职发0.3",N23*0.3,N23) -> 17804.429
A24: 17 | B24: 高贵勇 | C24: =IF(SUMIF(高一质量奖!A:A,B24,高一质量奖!B:B)>0,SUMIF(高一质量奖!A:A,B24,高一质量奖!B:B),"") | D24: =IF(SUMIF(高二质量奖!A:A,B24,高二质量奖!B:B)>0,SUMIF(高二质量奖!A:A,B24,高二质量奖!B:B),"") | E24: =IF(SUMIF(高三质量奖!A:A,B24,高三质量奖!D:D)>0,SUMIF(高三质量奖!A:A,B24,高三质量奖!D:D),"") -> 1342.1887 | F24: =SUM(C24:E24) -> 1342.1887 | G24: =IF(SUMIFS('1.gk_工作量'!$M$4:$M$63,'1.gk_工作量'!$B$4:$B$63,B24)>0,SUMIFS('1.gk_工作量'!$M$4:$M$63,'1.gk_工作量'!$B$4:$B$63,B24),"") -> 14066.947 | H24: =IF(SUMIFS('2.gk_过程评价'!$C:$C,'2.gk_过程评价'!$A:$A,B24)>0,SUMIFS('2.gk_过程评价'!$C:$C,'2.gk_过程评价'!$A:$A,B24),"") -> 12795.958 | I24: =IF(SUMIF('3.gk_上线质量'!B:B,B24,'3.gk_上线质量'!D:D)<>0,SUMIF('3.gk_上线质量'!B:B,B24,'3.gk_上线质量'!D:D),"") -> 27052.369 | J24: =IF(SUMIFS('4.gk_艺体质量'!$E$4:$E$53,'4.gk_艺体质量'!$A$4:$A$53,B24)>0,SUMIFS('4.gk_艺体质量'!$E$4:$E$53,'4.gk_艺体质量'!$A$4:$A$53,B24),"") -> 373.92102 | K24: =IF(SUMIF('5.gk_超额目标'!B:B,B24,'5.gk_超额目标'!D:D)>0,SUMIF('5.gk_超额目标'!B:B,B24,'5.gk_超额目标'!D:D),"") -> 1262.7453 | L24: =IF(SUMIF('6.gk_年级管理'!A:A,B24,'6.gk_年级管理'!D:D)>0,SUMIF('6.gk_年级管理'!A:A,B24,'6.gk_年级管理'!D:D),"") -> 1305.6 | M24: =SUM(G24:L24) -> 56857.541 | N24: =F24+M24 -> 58199.729 | O24: =IF(P24="辞职发0.3",N24*0.3,N24) -> 58199.729
A25: 18 | B25: 高琴 | C25: =IF(SUMIF(高一质量奖!A:A,B25,高一质量奖!B:B)>0,SUMIF(高一质量奖!A:A,B25,高一质量奖!B:B),"") | D25: =IF(SUMIF(高二质量奖!A:A,B25,高二质量奖!B:B)>0,SUMIF(高二质量奖!A:A,B25,高二质量奖!B:B),"") | E25: =IF(SUMIF(高三质量奖!A:A,B25,高三质量奖!D:D)>0,SUMIF(高三质量奖!A:A,B25,高三质量奖!D:D),"") -> 7395.6575 | F25: =SUM(C25:E25) -> 7395.6575 | G25: =IF(SUMIFS('1.gk_工作量'!$M$4:$M$63,'1.gk_工作量'!$B$4:$B$63,B25)>0,SUMIFS('1.gk_工作量'!$M$4:$M$63,'1.gk_工作量'!$B$4:$B$63,B25),"") -> 13623.571 | H25: =IF(SUMIFS('2.gk_过程评价'!$C:$C,'2.gk_过程评价'!$A:$A,B25)>0,SUMIFS('2.gk_过程评价'!$C:$C,'2.gk_过程评价'!$A:$A,B25),"") -> 12511.14 | I25: =IF(SUMIF('3.gk_上线质量'!B:B,B25,'3.gk_上线质量'!D:D)<>0,SUMIF('3.gk_上线质量'!B:B,B25,'3.gk_上线质量'!D:D),"") -> 17471.909 | J25: =IF(SUMIFS('4.gk_艺体质量'!$E$4:$E$53,'4.gk_艺体质量'!$A$4:$A$53,B25)>0,SUMIFS('4.gk_艺体质量'!$E$4:$E$53,'4.gk_艺体质量'!$A$4:$A$53,B25),"") -> 1196.5473 | K25: =IF(SUMIF('5.gk_超额目标'!B:B,B25,'5.gk_超额目标'!D:D)>0,SUMIF('5.gk_超额目标'!B:B,B25,'5.gk_超额目标'!D:D),"") -> 815.55046 | L25: =IF(SUMIF('6.gk_年级管理'!A:A,B25,'6.gk_年级管理'!D:D)>0,SUMIF('6.gk_年级管理'!A:A,B25,'6.gk_年级管理'!D:D),"") -> 1004.3077 | M25: =SUM(G25:L25) -> 46623.026 | N25: =F25+M25 -> 54018.683 | O25: =IF(P25="辞职发0.3",N25*0.3,N25) -> 54018.683
A26: 19 | B26: 格绒燚西 | C26: =IF(SUMIF(高一质量奖!A:A,B26,高一质量奖!B:B)>0,SUMIF(高一质量奖!A:A,B26,高一质量奖!B:B),"") | D26: =IF(SUMIF(高二质量奖!A:A,B26,高二质量奖!B:B)>0,SUMIF(高二质量奖!A:A,B26,高二质量奖!B:B),"") -> 14966.706 | E26: =IF(SUMIF(高三质量奖!A:A,B26,高三质量奖!D:D)>0,SUMIF(高三质量奖!A:A,B26,高三质量奖!D:D),"") | F26: =SUM(C26:E26) -> 14966.706 | G26: =IF(SUMIFS('1.gk_工作量'!$M$4:$M$63,'1.gk_工作量'!$B$4:$B$63,B26)>0,SUMIFS('1.gk_工作量'!$M$4:$M$63,'1.gk_工作量'!$B$4:$B$63,B26),"") | H26: =IF(SUMIFS('2.gk_过程评价'!$C:$C,'2.gk_过程评价'!$A:$A,B26)>0,SUMIFS('2.gk_过程评价'!$C:$C,'2.gk_过程评价'!$A:$A,B26),"") | I26: =IF(SUMIF('3.gk_上线质量'!B:B,B26,'3.gk_上线质量'!D:D)<>0,SUMIF('3.gk_上线质量'!B:B,B26,'3.gk_上线质量'!D:D),"") | J26: =IF(SUMIFS('4.gk_艺体质量'!$E$4:$E$53,'4.gk_艺体质量'!$A$4:$A$53,B26)>0,SUMIFS('4.gk_艺体质量'!$E$4:$E$53,'4.gk_艺体质量'!$A$4:$A$53,B26),"") | K26: =IF(SUMIF('5.gk_超额目标'!B:B,B26,'5.gk_超额目标'!D:D)>0,SUMIF('5.gk_超额目标'!B:B,B26,'5.gk_超额目标'!D:D),"") | L26: =IF(SUMIF('6.gk_年级管理'!A:A,B26,'6.gk_年级管理'!D:D)>0,SUMIF('6.gk_年级管理'!A:A,B26,'6.gk_年级管理'!D:D),"") | M26: =SUM(G26:L26) -> 0 | N26: =F26+M26 -> 14966.706 | O26: =IF(P26="辞职发0.3",N26*0.3,N26) -> 14966.706
A27: 20 | B27: 龚霞 | C27: =IF(SUMIF(高一质量奖!A:A,B27,高一质量奖!B:B)>0,SUMIF(高一质量奖!A:A,B27,高一质量奖!B:B),"") | D27: =IF(SUMIF(高二质量奖!A:A,B27,高二质量奖!B:B)>0,SUMIF(高二质量奖!A:A,B27,高二质量奖!B:B),"") | E27: =IF(SUMIF(高三质量奖!A:A,B27,高三质量奖!D:D)>0,SUMIF(高三质量奖!A:A,B27,高三质量奖!D:D),"") -> 22497.751 | F27: =SUM(C27:E27) -> 22497.751 | G27: =IF(SUMIFS('1.gk_工作量'!$M$4:$M$63,'1.gk_工作量'!$B$4:$B$63,B27)>0,SUMIFS('1.gk_工作量'!$M$4:$M$63,'1.gk_工作量'!$B$4:$B$63,B27),"") -> 18496.666 | H27: =IF(SUMIFS('2.gk_过程评价'!$C:$C,'2.gk_过程评价'!$A:$A,B27)>0,SUMIFS('2.gk_过程评价'!$C:$C,'2.gk_过程评价'!$A:$A,B27),"") -> 13072.382 | I27: =IF(SUMIF('3.gk_上线质量'!B:B,B27,'3.gk_上线质量'!D:D)<>0,SUMIF('3.gk_上线质量'!B:B,B27,'3.gk_上线质量'!D:D),"") -> 35571.468 | J27: =IF(SUMIFS('4.gk_艺体质量'!$E$4:$E$53,'4.gk_艺体质量'!$A$4:$A$53,B27)>0,SUMIFS('4.gk_艺体质量'!$E$4:$E$53,'4.gk_艺体质量'!$A$4:$A$53,B27),"") -> 1944.3893 | K27: =IF(SUMIF('5.gk_超额目标'!B:B,B27,'5.gk_超额目标'!D:D)>0,SUMIF('5.gk_超额目标'!B:B,B27,'5.gk_超额目标'!D:D),"") -> 1660.3982 | L27: =IF(SUMIF('6.gk_年级管理'!A:A,B27,'6.gk_年级管理'!D:D)>0,SUMIF('6.gk_年级管理'!A:A,B27,'6.gk_年级管理'!D:D),"") -> 1004.3077 | M27: =SUM(G27:L27) -> 71749.611 | N27: =F27+M27 -> 94247.362 | O27: =IF(P27="辞职发0.3",N27*0.3,N27) -> 94247.362
A28: 21 | B28: 郭禧唐 | C28: =IF(SUMIF(高一质量奖!A:A,B28,高一质量奖!B:B)>0,SUMIF(高一质量奖!A:A,B28,高一质量奖!B:B),"") | D28: =IF(SUMIF(高二质量奖!A:A,B28,高二质量奖!B:B)>0,SUMIF(高二质量奖!A:A,B28,高二质量奖!B:B),"") | E28: =IF(SUMIF(高三质量奖!A:A,B28,高三质量奖!D:D)>0,SUMIF(高三质量奖!A:A,B28,高三质量奖!D:D),"") | F28: =SUM(C28:E28) -> 0 | G28: =IF(SUMIFS('1.gk_工作量'!$M$4:$M$63,'1.gk_工作量'!$B$4:$B$63,B28)>0,SUMIFS('1.gk_工作量'!$M$4:$M$63,'1.gk_工作量'!$B$4:$B$63,B28),"") -> 2651.2131 | H28: =IF(SUMIFS('2.gk_过程评价'!$C:$C,'2.gk_过程评价'!$A:$A,B28)>0,SUMIFS('2.gk_过程评价'!$C:$C,'2.gk_过程评价'!$A:$A,B28),"") | I28: =IF(SUMIF('3.gk_上线质量'!B:B,B28,'3.gk_上线质量'!D:D)<>0,SUMIF('3.gk_上线质量'!B:B,B28,'3.gk_上线质量'!D:D),"") | J28: =IF(SUMIFS('4.gk_艺体质量'!$E$4:$E$53,'4.gk_艺体质量'!$A$4:$A$53,B28)>0,SUMIFS('4.gk_艺体质量'!$E$4:$E$53,'4.gk_艺体质量'!$A$4:$A$53,B28),"") | K28: =IF(SUMIF('5.gk_超额目标'!B:B,B28,'5.gk_超额目标'!D:D)>0,SUMIF('5.gk_超额目标'!B:B,B28,'5.gk_超额目标'!D:D),"") | L28: =IF(SUMIF('6.gk_年级管理'!A:A,B28,'6.gk_年级管理'!D:D)>0,SUMIF('6.gk_年级管理'!A:A,B28,'6.gk_年级管理'!D:D),"") | M28: =SUM(G28:L28) -> 2651.2131 | N28: =F28+M28 -> 2651.2131 | O28: =IF(P28="辞职发0.3",N28*0.3,N28) -> 795.36394 | P28: 辞职发0.3
A29: 22 | B29: 何传英 | C29: =IF(SUMIF(高一质量奖!A:A,B29,高一质量奖!B:B)>0,SUMIF(高一质量奖!A:A,B29,高一质量奖!B:B),"") | D29: =IF(SUMIF(高二质量奖!A:A,B29,高二质量奖!B:B)>0,SUMIF(高二质量奖!A:A,B29,高二质量奖!B:B),"") -> 4521.6079 | E29: =IF(SUMIF(高三质量奖!A:A,B29,高三质量奖!D:D)>0,SUMIF(高三质量奖!A:A,B29,高三质量奖!D:D),"") | F29: =SUM(C29:E29) -> 4521.6079 | G29: =IF(SUMIFS('1.gk_工作量'!$M$4:$M$63,'1.gk_工作量'!$B$4:$B$63,B29)>0,SUMIFS('1.gk_工作量'!$M$4:$M$63,'1.gk_工作量'!$B$4:$B$63,B29),"") | H29: =IF(SUMIFS('2.gk_过程评价'!$C:$C,'2.gk_过程评价'!$A:$A,B29)>0,SUMIFS('2.gk_过程评价'!$C:$C,'2.gk_过程评价'!$A:$A,B29),"") | I29: =IF(SUMIF('3.gk_上线质量'!B:B,B29,'3.gk_上线质量'!D:D)<>0,SUMIF('3.gk_上线质量'!B:B,B29,'3.gk_上线质量'!D:D),"") | J29: =IF(SUMIFS('4.gk_艺体质量'!$E$4:$E$53,'4.gk_艺体质量'!$A$4:$A$53,B29)>0,SUMIFS('4.gk_艺体质量'!$E$4:$E$53,'4.gk_艺体质量'!$A$4:$A$53,B29),"") | K29: =IF(SUMIF('5.gk_超额目标'!B:B,B29,'5.gk_超额目标'!D:D)>0,SUMIF('5.gk_超额目标'!B:B,B29,'5.gk_超额目标'!D:D),"") | L29: =IF(SUMIF('6.gk_年级管理'!A:A,B29,'6.gk_年级管理'!D:D)>0,SUMIF('6.gk_年级管理'!A:A,B29,'6.gk_年级管理'!D:D),"") | M29: =SUM(G29:L29) -> 0 | N29: =F29+M29 -> 4521.6079 | O29: =IF(P29="辞职发0.3",N29*0.3,N29) -> 4521.6079 | P29: 攀枝花支教
A30: 23 | B30: 何东霖 | C30: =IF(SUMIF(高一质量奖!A:A,B30,高一质量奖!B:B)>0,SUMIF(高一质量奖!A:A,B30,高一质量奖!B:B),"") -> 4692.3262 | D30: =IF(SUMIF(高二质量奖!A:A,B30,高二质量奖!B:B)>0,SUMIF(高二质量奖!A:A,B30,高二质量奖!B:B),"") | E30: =IF(SUMIF(高三质量奖!A:A,B30,高三质量奖!D:D)>0,SUMIF(高三质量奖!A:A,B30,高三质量奖!D:D),"") | F30: =SUM(C30:E30) -> 4692.3262 | G30: =IF(SUMIFS('1.gk_工作量'!$M$4:$M$63,'1.gk_工作量'!$B$4:$B$63,B30)>0,SUMIFS('1.gk_工作量'!$M$4:$M$63,'1.gk_工作量'!$B$4:$B$63,B30),"") | H30: =IF(SUMIFS('2.gk_过程评价'!$C:$C,'2.gk_过程评价'!$A:$A,B30)>0,SUMIFS('2.gk_过程评价'!$C:$C,'2.gk_过程评价'!$A:$A,B30),"") | I30: =IF(SUMIF('3.gk_上线质量'!B:B,B30,'3.gk_上线质量'!D:D)<>0,SUMIF('3.gk_上线质量'!B:B,B30,'3.gk_上线质量'!D:D),"") | J30: =IF(SUMIFS('4.gk_艺体质量'!$E$4:$E$53,'4.gk_艺体质量'!$A$4:$A$53,B30)>0,SUMIFS('4.gk_艺体质量'!$E$4:$E$53,'4.gk_艺体质量'!$A$4:$A$53,B30),"") | K30: =IF(SUMIF('5.gk_超额目标'!B:B,B30,'5.gk_超额目标'!D:D)>0,SUMIF('5.gk_超额目标'!B:B,B30,'5.gk_超额目标'!D:D),"") | L30: =IF(SUMIF('6.gk_年级管理'!A:A,B30,'6.gk_年级管理'!D:D)>0,SUMIF('6.gk_年级管理'!A:A,B30,'6.gk_年级管理'!D:D),"") | M30: =SUM(G30:L30) -> 0 | N30: =F30+M30 -> 4692.3262 | O30: =IF(P30="辞职发0.3",N30*0.3,N30) -> 4692.3262 | P30: 攀枝花支教
A31: 24 | B31: 胡东缘 | C31: =IF(SUMIF(高一质量奖!A:A,B31,高一质量奖!B:B)>0,SUMIF(高一质量奖!A:A,B31,高一质量奖!B:B),"") | D31: =IF(SUMIF(高二质量奖!A:A,B31,高二质量奖!B:B)>0,SUMIF(高二质量奖!A:A,B31,高二质量奖!B:B),"") -> 6809.2619 | E31: =IF(SUMIF(高三质量奖!A:A,B31,高三质量奖!D:D)>0,SUMIF(高三质量奖!A:A,B31,高三质量奖!D:D),"") | F31: =SUM(C31:E31) -> 6809.2619 | G31: =IF(SUMIFS('1.gk_工作量'!$M$4:$M$63,'1.gk_工作量'!$B$4:$B$63,B31)>0,SUMIFS('1.gk_工作量'!$M$4:$M$63,'1.gk_工作量'!$B$4:$B$63,B31),"") | H31: =IF(SUMIFS('2.gk_过程评价'!$C:$C,'2.gk_过程评价'!$A:$A,B31)>0,SUMIFS('2.gk_过程评价'!$C:$C,'2.gk_过程评价'!$A:$A,B31),"") | I31: =IF(SUMIF('3.gk_上线质量'!B:B,B31,'3.gk_上线质量'!D:D)<>0,SUMIF('3.gk_上线质量'!B:B,B31,'3.gk_上线质量'!D:D),"") | J31: =IF(SUMIFS('4.gk_艺体质量'!$E$4:$E$53,'4.gk_艺体质量'!$A$4:$A$53,B31)>0,SUMIFS('4.gk_艺体质量'!$E$4:$E$53,'4.gk_艺体质量'!$A$4:$A$53,B31),"") | K31: =IF(SUMIF('5.gk_超额目标'!B:B,B31,'5.gk_超额目标'!D:D)>0,SUMIF('5.gk_超额目标'!B:B,B31,'5.gk_超额目标'!D:D),"") | L31: =IF(SUMIF('6.gk_年级管理'!A:A,B31,'6.gk_年级管理'!D:D)>0,SUMIF('6.gk_年级管理'!A:A,B31,'6.gk_年级管理'!D:D),"") | M31: =SUM(G31:L31) -> 0 | N31: =F31+M31 -> 6809.2619 | O31: =IF(P31="辞职发0.3",N31*0.3,N31) -> 6809.2619
A32: 25 | B32: 胡付松 | C32: =IF(SUMIF(高一质量奖!A:A,B32,高一质量奖!B:B)>0,SUMIF(高一质量奖!A:A,B32,高一质量奖!B:B),"") -> 1479.9935 | D32: =IF(SUMIF(高二质量奖!A:A,B32,高二质量奖!B:B)>0,SUMIF(高二质量奖!A:A,B32,高二质量奖!B:B),"") | E32: =IF(SUMIF(高三质量奖!A:A,B32,高三质量奖!D:D)>0,SUMIF(高三质量奖!A:A,B32,高三质量奖!D:D),"") | F32: =SUM(C32:E32) -> 1479.9935 | G32: =IF(SUMIFS('1.gk_工作量'!$M$4:$M$63,'1.gk_工作量'!$B$4:$B$63,B32)>0,SUMIFS('1.gk_工作量'!$M$4:$M$63,'1.gk_工作量'!$B$4:$B$63,B32),"") | H32: =IF(SUMIFS('2.gk_过程评价'!$C:$C,'2.gk_过程评价'!$A:$A,B32)>0,SUMIFS('2.gk_过程评价'!$C:$C,'2.gk_过程评价'!$A:$A,B32),"") | I32: =IF(SUMIF('3.gk_上线质量'!B:B,B32,'3.gk_上线质量'!D:D)<>0,SUMIF('3.gk_上线质量'!B:B,B32,'3.gk_上线质量'!D:D),"") | J32: =IF(SUMIFS('4.gk_艺体质量'!$E$4:$E$53,'4.gk_艺体质量'!$A$4:$A$53,B32)>0,SUMIFS('4.gk_艺体质量'!$E$4:$E$53,'4.gk_艺体质量'!$A$4:$A$53,B32),"") | K32: =IF(SUMIF('5.gk_超额目标'!B:B,B32,'5.gk_超额目标'!D:D)>0,SUMIF('5.gk_超额目标'!B:B,B32,'5.gk_超额目标'!D:D),"") | L32: =IF(SUMIF('6.gk_年级管理'!A:A,B32,'6.gk_年级管理'!D:D)>0,SUMIF('6.gk_年级管理'!A:A,B32,'6.gk_年级管理'!D:D),"") | M32: =SUM(G32:L32) -> 0 | N32: =F32+M32 -> 1479.9935 | O32: =IF(P32="辞职发0.3",N32*0.3,N32) -> 1479.9935
A33: 26 | B33: 胡慧芳 | C33: =IF(SUMIF(高一质量奖!A:A,B33,高一质量奖!B:B)>0,SUMIF(高一质量奖!A:A,B33,高一质量奖!B:B),"") -> 1467.6465 | D33: =IF(SUMIF(高二质量奖!A:A,B33,高二质量奖!B:B)>0,SUMIF(高二质量奖!A:A,B33,高二质量奖!B:B),"") | E33: =IF(SUMIF(高三质量奖!A:A,B33,高三质量奖!D:D)>0,SUMIF(高三质量奖!A:A,B33,高三质量奖!D:D),"") | F33: =SUM(C33:E33) -> 1467.6465 | G33: =IF(SUMIFS('1.gk_工作量'!$M$4:$M$63,'1.gk_工作量'!$B$4:$B$63,B33)>0,SUMIFS('1.gk_工作量'!$M$4:$M$63,'1.gk_工作量'!$B$4:$B$63,B33),"") | H33: =IF(SUMIFS('2.gk_过程评价'!$C:$C,'2.gk_过程评价'!$A:$A,B33)>0,SUMIFS('2.gk_过程评价'!$C:$C,'2.gk_过程评价'!$A:$A,B33),"") | I33: =IF(SUMIF('3.gk_上线质量'!B:B,B33,'3.gk_上线质量'!D:D)<>0,SUMIF('3.gk_上线质量'!B:B,B33,'3.gk_上线质量'!D:D),"") | J33: =IF(SUMIFS('4.gk_艺体质量'!$E$4:$E$53,'4.gk_艺体质量'!$A$4:$A$53,B33)>0,SUMIFS('4.gk_艺体质量'!$E$4:$E$53,'4.gk_艺体质量'!$A$4:$A$53,B33),"") | K33: =IF(SUMIF('5.gk_超额目标'!B:B,B33,'5.gk_超额目标'!D:D)>0,SUMIF('5.gk_超额目标'!B:B,B33,'5.gk_超额目标'!D:D),"") | L33: =IF(SUMIF('6.gk_年级管理'!A:A,B33,'6.gk_年级管理'!D:D)>0,SUMIF('6.gk_年级管理'!A:A,B33,'6.gk_年级管理'!D:D),"") | M33: =SUM(G33:L33) -> 0 | N33: =F33+M33 -> 1467.6465 | O33: =IF(P33="辞职发0.3",N33*0.3,N33) -> 1467.6465
A34: 27 | B34: 胡伟杰 | C34: =IF(SUMIF(高一质量奖!A:A,B34,高一质量奖!B:B)>0,SUMIF(高一质量奖!A:A,B34,高一质量奖!B:B),"") | D34: =IF(SUMIF(高二质量奖!A:A,B34,高二质量奖!B:B)>0,SUMIF(高二质量奖!A:A,B34,高二质量奖!B:B),"") | E34: =IF(SUMIF(高三质量奖!A:A,B34,高三质量奖!D:D)>0,SUMIF(高三质量奖!A:A,B34,高三质量奖!D:D),"") -> 1358.4906 | F34: =SUM(C34:E34) -> 1358.4906 | G34: =IF(SUMIFS('1.gk_工作量'!$M$4:$M$63,'1.gk_工作量'!$B$4:$B$63,B34)>0,SUMIFS('1.gk_工作量'!$M$4:$M$63,'1.gk_工作量'!$B$4:$B$63,B34),"") -> 19769.656 | H34: =IF(SUMIFS('2.gk_过程评价'!$C:$C,'2.gk_过程评价'!$A:$A,B34)>0,SUMIFS('2.gk_过程评价'!$C:$C,'2.gk_过程评价'!$A:$A,B34),"") -> 13121.279 | I34: =IF(SUMIF('3.gk_上线质量'!B:B,B34,'3.gk_上线质量'!D:D)<>0,SUMIF('3.gk_上线质量'!B:B,B34,'3.gk_上线质量'!D:D),"") -> 21909.528 | J34: =IF(SUMIFS('4.gk_艺体质量'!$E$4:$E$53,'4.gk_艺体质量'!$A$4:$A$53,B34)>0,SUMIFS('4.gk_艺体质量'!$E$4:$E$53,'4.gk_艺体质量'!$A$4:$A$53,B34),"") -> 5234.8943 | K34: =IF(SUMIF('5.gk_超额目标'!B:B,B34,'5.gk_超额目标'!D:D)>0,SUMIF('5.gk_超额目标'!B:B,B34,'5.gk_超额目标'!D:D),"") -> 1022.6888 | L34: =IF(SUMIF('6.gk_年级管理'!A:A,B34,'6.gk_年级管理'!D:D)>0,SUMIF('6.gk_年级管理'!A:A,B34,'6.gk_年级管理'!D:D),"") -> 1004.3077 | M34: =SUM(G34:L34) -> 62062.354 | N34: =F34+M34 -> 63420.845 | O34: =IF(P34="辞职发0.3",N34*0.3,N34) -> 63420.845
A35: 28 | B35: 黄健均 | C35: =IF(SUMIF(高一质量奖!A:A,B35,高一质量奖!B:B)>0,SUMIF(高一质量奖!A:A,B35,高一质量奖!B:B),"") | D35: =IF(SUMIF(高二质量奖!A:A,B35,高二质量奖!B:B)>0,SUMIF(高二质量奖!A:A,B35,高二质量奖!B:B),"") | E35: =IF(SUMIF(高三质量奖!A:A,B35,高三质量奖!D:D)>0,SUMIF(高三质量奖!A:A,B35,高三质量奖!D:D),"") | F35: =SUM(C35:E35) -> 0 | G35: =IF(SUMIFS('1.gk_工作量'!$M$4:$M$63,'1.gk_工作量'!$B$4:$B$63,B35)>0,SUMIFS('1.gk_工作量'!$M$4:$M$63,'1.gk_工作量'!$B$4:$B$63,B35),"") -> 7106.6797 | H35: =IF(SUMIFS('2.gk_过程评价'!$C:$C,'2.gk_过程评价'!$A:$A,B35)>0,SUMIFS('2.gk_过程评价'!$C:$C,'2.gk_过程评价'!$A:$A,B35),"") -> 14866.826 | I35: =IF(SUMIF('3.gk_上线质量'!B:B,B35,'3.gk_上线质量'!D:D)<>0,SUMIF('3.gk_上线质量'!B:B,B35,'3.gk_上线质量'!D:D),"") -> 11309.432 | J35: =IF(SUMIFS('4.gk_艺体质量'!$E$4:$E$53,'4.gk_艺体质量'!$A$4:$A$53,B35)>0,SUMIFS('4.gk_艺体质量'!$E$4:$E$53,'4.gk_艺体质量'!$A$4:$A$53,B35),"") -> 2318.3103 | K35: =IF(SUMIF('5.gk_超额目标'!B:B,B35,'5.gk_超额目标'!D:D)>0,SUMIF('5.gk_超额目标'!B:B,B35,'5.gk_超额目标'!D:D),"") -> 527.89953 | L35: =IF(SUMIF('6.gk_年级管理'!A:A,B35,'6.gk_年级管理'!D:D)>0,SUMIF('6.gk_年级管理'!A:A,B35,'6.gk_年级管理'!D:D),"") | M35: =SUM(G35:L35) -> 36129.148 | N35: =F35+M35 -> 36129.148 | O35: =IF(P35="辞职发0.3",N35*0.3,N35) -> 36129.148
A36: 29 | B36: 纪春权 | C36: =IF(SUMIF(高一质量奖!A:A,B36,高一质量奖!B:B)>0,SUMIF(高一质量奖!A:A,B36,高一质量奖!B:B),"") | D36: =IF(SUMIF(高二质量奖!A:A,B36,高二质量奖!B:B)>0,SUMIF(高二质量奖!A:A,B36,高二质量奖!B:B),"") -> 3881.2819 | E36: =IF(SUMIF(高三质量奖!A:A,B36,高三质量奖!D:D)>0,SUMIF(高三质量奖!A:A,B36,高三质量奖!D:D),"") | F36: =SUM(C36:E36) -> 3881.2819 | G36: =IF(SUMIFS('1.gk_工作量'!$M$4:$M$63,'1.gk_工作量'!$B$4:$B$63,B36)>0,SUMIFS('1.gk_工作量'!$M$4:$M$63,'1.gk_工作量'!$B$4:$B$63,B36),"") | H36: =IF(SUMIFS('2.gk_过程评价'!$C:$C,'2.gk_过程评价'!$A:$A,B36)>0,SUMIFS('2.gk_过程评价'!$C:$C,'2.gk_过程评价'!$A:$A,B36),"") | I36: =IF(SUMIF('3.gk_上线质量'!B:B,B36,'3.gk_上线质量'!D:D)<>0,SUMIF('3.gk_上线质量'!B:B,B36,'3.gk_上线质量'!D:D),"") | J36: =IF(SUMIFS('4.gk_艺体质量'!$E$4:$E$53,'4.gk_艺体质量'!$A$4:$A$53,B36)>0,SUMIFS('4.gk_艺体质量'!$E$4:$E$53,'4.gk_艺体质量'!$A$4:$A$53,B36),"") | K36: =IF(SUMIF('5.gk_超额目标'!B:B,B36,'5.gk_超额目标'!D:D)>0,SUMIF('5.gk_超额目标'!B:B,B36,'5.gk_超额目标'!D:D),"") | L36: =IF(SUMIF('6.gk_年级管理'!A:A,B36,'6.gk_年级管理'!D:D)>0,SUMIF('6.gk_年级管理'!A:A,B36,'6.gk_年级管理'!D:D),"") | M36: =SUM(G36:L36) -> 0 | N36: =F36+M36 -> 3881.2819 | O36: =IF(P36="辞职发0.3",N36*0.3,N36) -> 3881.2819
A37: 30 | B37: 甲阿祝玛 | C37: =IF(SUMIF(高一质量奖!A:A,B37,高一质量奖!B:B)>0,SUMIF(高一质量奖!A:A,B37,高一质量奖!B:B),"") | D37: =IF(SUMIF(高二质量奖!A:A,B37,高二质量奖!B:B)>0,SUMIF(高二质量奖!A:A,B37,高二质量奖!B:B),"") -> 6262.3651 | E37: =IF(SUMIF(高三质量奖!A:A,B37,高三质量奖!D:D)>0,SUMIF(高三质量奖!A:A,B37,高三质量奖!D:D),"") -> 6345.8428 | F37: =SUM(C37:E37) -> 12608.208 | G37: =IF(SUMIFS('1.gk_工作量'!$M$4:$M$63,'1.gk_工作量'!$B$4:$B$63,B37)>0,SUMIFS('1.gk_工作量'!$M$4:$M$63,'1.gk_工作量'!$B$4:$B$63,B37),"") -> 9244.4019 | H37: =IF(SUMIFS('2.gk_过程评价'!$C:$C,'2.gk_过程评价'!$A:$A,B37)>0,SUMIFS('2.gk_过程评价'!$C:$C,'2.gk_过程评价'!$A:$A,B37),"") -> 13147.73 | I37: =IF(SUMIF('3.gk_上线质量'!B:B,B37,'3.gk_上线质量'!D:D)<>0,SUMIF('3.gk_上线质量'!B:B,B37,'3.gk_上线质量'!D:D),"") -> 4418.2245 | J37: =IF(SUMIFS('4.gk_艺体质量'!$E$4:$E$53,'4.gk_艺体质量'!$A$4:$A$53,B37)>0,SUMIFS('4.gk_艺体质量'!$E$4:$E$53,'4.gk_艺体质量'!$A$4:$A$53,B37),"") -> 5496.639 | K37: =IF(SUMIF('5.gk_超额目标'!B:B,B37,'5.gk_超额目标'!D:D)>0,SUMIF('5.gk_超额目标'!B:B,B37,'5.gk_超额目标'!D:D),"") -> 206.23304 | L37: =IF(SUMIF('6.gk_年级管理'!A:A,B37,'6.gk_年级管理'!D:D)>0,SUMIF('6.gk_年级管理'!A:A,B37,'6.gk_年级管理'!D:D),"") | M37: =SUM(G37:L37) -> 32513.228 | N37: =F37+M37 -> 45121.436 | O37: =IF(P37="辞职发0.3",N37*0.3,N37) -> 45121.436
A38: 31 | B38: 降初里 | C38: =IF(SUMIF(高一质量奖!A:A,B38,高一质量奖!B:B)>0,SUMIF(高一质量奖!A:A,B38,高一质量奖!B:B),"") | D38: =IF(SUMIF(高二质量奖!A:A,B38,高二质量奖!B:B)>0,SUMIF(高二质量奖!A:A,B38,高二质量奖!B:B),"") -> 10446.104 | E38: =IF(SUMIF(高三质量奖!A:A,B38,高三质量奖!D:D)>0,SUMIF(高三质量奖!A:A,B38,高三质量奖!D:D),"") | F38: =SUM(C38:E38) -> 10446.104 | G38: =IF(SUMIFS('1.gk_工作量'!$M$4:$M$63,'1.gk_工作量'!$B$4:$B$63,B38)>0,SUMIFS('1.gk_工作量'!$M$4:$M$63,'1.gk_工作量'!$B$4:$B$63,B38),"") | H38: =IF(SUMIFS('2.gk_过程评价'!$C:$C,'2.gk_过程评价'!$A:$A,B38)>0,SUMIFS('2.gk_过程评价'!$C:$C,'2.gk_过程评价'!$A:$A,B38),"") | I38: =IF(SUMIF('3.gk_上线质量'!B:B,B38,'3.gk_上线质量'!D:D)<>0,SUMIF('3.gk_上线质量'!B:B,B38,'3.gk_上线质量'!D:D),"") | J38: =IF(SUMIFS('4.gk_艺体质量'!$E$4:$E$53,'4.gk_艺体质量'!$A$4:$A$53,B38)>0,SUMIFS('4.gk_艺体质量'!$E$4:$E$53,'4.gk_艺体质量'!$A$4:$A$53,B38),"") | K38: =IF(SUMIF('5.gk_超额目标'!B:B,B38,'5.gk_超额目标'!D:D)>0,SUMIF('5.gk_超额目标'!B:B,B38,'5.gk_超额目标'!D:D),"") | L38: =IF(SUMIF('6.gk_年级管理'!A:A,B38,'6.gk_年级管理'!D:D)>0,SUMIF('6.gk_年级管理'!A:A,B38,'6.gk_年级管理'!D:D),"") | M38: =SUM(G38:L38) -> 0 | N38: =F38+M38 -> 10446.104 | O38: =IF(P38="辞职发0.3",N38*0.3,N38) -> 10446.104
A39: 32 | B39: 解超燕 | C39: =IF(SUMIF(高一质量奖!A:A,B39,高一质量奖!B:B)>0,SUMIF(高一质量奖!A:A,B39,高一质量奖!B:B),"") | D39: =IF(SUMIF(高二质量奖!A:A,B39,高二质量奖!B:B)>0,SUMIF(高二质量奖!A:A,B39,高二质量奖!B:B),"") -> 1885.63 | E39: =IF(SUMIF(高三质量奖!A:A,B39,高三质量奖!D:D)>0,SUMIF(高三质量奖!A:A,B39,高三质量奖!D:D),"") | F39: =SUM(C39:E39) -> 1885.63 | G39: =IF(SUMIFS('1.gk_工作量'!$M$4:$M$63,'1.gk_工作量'!$B$4:$B$63,B39)>0,SUMIFS('1.gk_工作量'!$M$4:$M$63,'1.gk_工作量'!$B$4:$B$63,B39),"") | H39: =IF(SUMIFS('2.gk_过程评价'!$C:$C,'2.gk_过程评价'!$A:$A,B39)>0,SUMIFS('2.gk_过程评价'!$C:$C,'2.gk_过程评价'!$A:$A,B39),"") | I39: =IF(SUMIF('3.gk_上线质量'!B:B,B39,'3.gk_上线质量'!D:D)<>0,SUMIF('3.gk_上线质量'!B:B,B39,'3.gk_上线质量'!D:D),"") | J39: =IF(SUMIFS('4.gk_艺体质量'!$E$4:$E$53,'4.gk_艺体质量'!$A$4:$A$53,B39)>0,SUMIFS('4.gk_艺体质量'!$E$4:$E$53,'4.gk_艺体质量'!$A$4:$A$53,B39),"") | K39: =IF(SUMIF('5.gk_超额目标'!B:B,B39,'5.gk_超额目标'!D:D)>0,SUMIF('5.gk_超额目标'!B:B,B39,'5.gk_超额目标'!D:D),"") | L39: =IF(SUMIF('6.gk_年级管理'!A:A,B39,'6.gk_年级管理'!D:D)>0,SUMIF('6.gk_年级管理'!A:A,B39,'6.gk_年级管理'!D:D),"") | M39: =SUM(G39:L39) -> 0 | N39: =F39+M39 -> 1885.63 | O39: =IF(P39="辞职发0.3",N39*0.3,N39) -> 1885.63
A40: 33 | B40: 金贵 | C40: =IF(SUMIF(高一质量奖!A:A,B40,高一质量奖!B:B)>0,SUMIF(高一质量奖!A:A,B40,高一质量奖!B:B),"") | D40: =IF(SUMIF(高二质量奖!A:A,B40,高二质量奖!B:B)>0,SUMIF(高二质量奖!A:A,B40,高二质量奖!B:B),"") -> 5486.2476 | E40: =IF(SUMIF(高三质量奖!A:A,B40,高三质量奖!D:D)>0,SUMIF(高三质量奖!A:A,B40,高三质量奖!D:D),"") -> 4688.8453 | F40: =SUM(C40:E40) -> 10175.093 | G40: =IF(SUMIFS('1.gk_工作量'!$M$4:$M$63,'1.gk_工作量'!$B$4:$B$63,B40)>0,SUMIFS('1.gk_工作量'!$M$4:$M$63,'1.gk_工作量'!$B$4:$B$63,B40),"") -> 5937.1349 | H40: =IF(SUMIFS('2.gk_过程评价'!$C:$C,'2.gk_过程评价'!$A:$A,B40)>0,SUMIFS('2.gk_过程评价'!$C:$C,'2.gk_过程评价'!$A:$A,B40),"") -> 4249.3412 | I40: =IF(SUMIF('3.gk_上线质量'!B:B,B40,'3.gk_上线质量'!D:D)<>0,SUMIF('3.gk_上线质量'!B:B,B40,'3.gk_上线质量'!D:D),"") -> 1322.2938 | J40: =IF(SUMIFS('4.gk_艺体质量'!$E$4:$E$53,'4.gk_艺体质量'!$A$4:$A$53,B40)>0,SUMIFS('4.gk_艺体质量'!$E$4:$E$53,'4.gk_艺体质量'!$A$4:$A$53,B40),"") -> 6917.5389 | K40: =IF(SUMIF('5.gk_超额目标'!B:B,B40,'5.gk_超额目标'!D:D)>0,SUMIF('5.gk_超额目标'!B:B,B40,'5.gk_超额目标'!D:D),"") -> 61.721781 | L40: =IF(SUMIF('6.gk_年级管理'!A:A,B40,'6.gk_年级管理'!D:D)>0,SUMIF('6.gk_年级管理'!A:A,B40,'6.gk_年级管理'!D:D),"") | M40: =SUM(G40:L40) -> 18488.031 | N40: =F40+M40 -> 28663.124 | O40: =IF(P40="辞职发0.3",N40*0.3,N40) -> 28663.124
A41: 34 | B41: 康小平 | C41: =IF(SUMIF(高一质量奖!A:A,B41,高一质量奖!B:B)>0,SUMIF(高一质量奖!A:A,B41,高一质量奖!B:B),"") | D41: =IF(SUMIF(高二质量奖!A:A,B41,高二质量奖!B:B)>0,SUMIF(高二质量奖!A:A,B41,高二质量奖!B:B),"") -> 1811.624 | E41: =IF(SUMIF(高三质量奖!A:A,B41,高三质量奖!D:D)>0,SUMIF(高三质量奖!A:A,B41,高三质量奖!D:D),"") | F41: =SUM(C41:E41) -> 1811.624 | G41: =IF(SUMIFS('1.gk_工作量'!$M$4:$M$63,'1.gk_工作量'!$B$4:$B$63,B41)>0,SUMIFS('1.gk_工作量'!$M$4:$M$63,'1.gk_工作量'!$B$4:$B$63,B41),"") | H41: =IF(SUMIFS('2.gk_过程评价'!$C:$C,'2.gk_过程评价'!$A:$A,B41)>0,SUMIFS('2.gk_过程评价'!$C:$C,'2.gk_过程评价'!$A:$A,B41),"") | I41: =IF(SUMIF('3.gk_上线质量'!B:B,B41,'3.gk_上线质量'!D:D)<>0,SUMIF('3.gk_上线质量'!B:B,B41,'3.gk_上线质量'!D:D),"") | J41: =IF(SUMIFS('4.gk_艺体质量'!$E$4:$E$53,'4.gk_艺体质量'!$A$4:$A$53,B41)>0,SUMIFS('4.gk_艺体质量'!$E$4:$E$53,'4.gk_艺体质量'!$A$4:$A$53,B41),"") | K41: =IF(SUMIF('5.gk_超额目标'!B:B,B41,'5.gk_超额目标'!D:D)>0,SUMIF('5.gk_超额目标'!B:B,B41,'5.gk_超额目标'!D:D),"") | L41: =IF(SUMIF('6.gk_年级管理'!A:A,B41,'6.gk_年级管理'!D:D)>0,SUMIF('6.gk_年级管理'!A:A,B41,'6.gk_年级管理'!D:D),"") | M41: =SUM(G41:L41) -> 0 | N41: =F41+M41 -> 1811.624 | O41: =IF(P41="辞职发0.3",N41*0.3,N41) -> 1811.624
A42: 35 | B42: 拉初 | C42: =IF(SUMIF(高一质量奖!A:A,B42,高一质量奖!B:B)>0,SUMIF(高一质量奖!A:A,B42,高一质量奖!B:B),"") | D42: =IF(SUMIF(高二质量奖!A:A,B42,高二质量奖!B:B)>0,SUMIF(高二质量奖!A:A,B42,高二质量奖!B:B),"") -> 4240.97 | E42: =IF(SUMIF(高三质量奖!A:A,B42,高三质量奖!D:D)>0,SUMIF(高三质量奖!A:A,B42,高三质量奖!D:D),"") | F42: =SUM(C42:E42) -> 4240.97 | G42: =IF(SUMIFS('1.gk_工作量'!$M$4:$M$63,'1.gk_工作量'!$B$4:$B$63,B42)>0,SUMIFS('1.gk_工作量'!$M$4:$M$63,'1.gk_工作量'!$B$4:$B$63,B42),"") | H42: =IF(SUMIFS('2.gk_过程评价'!$C:$C,'2.gk_过程评价'!$A:$A,B42)>0,SUMIFS('2.gk_过程评价'!$C:$C,'2.gk_过程评价'!$A:$A,B42),"") | I42: =IF(SUMIF('3.gk_上线质量'!B:B,B42,'3.gk_上线质量'!D:D)<>0,SUMIF('3.gk_上线质量'!B:B,B42,'3.gk_上线质量'!D:D),"") | J42: =IF(SUMIFS('4.gk_艺体质量'!$E$4:$E$53,'4.gk_艺体质量'!$A$4:$A$53,B42)>0,SUMIFS('4.gk_艺体质量'!$E$4:$E$53,'4.gk_艺体质量'!$A$4:$A$53,B42),"") | K42: =IF(SUMIF('5.gk_超额目标'!B:B,B42,'5.gk_超额目标'!D:D)>0,SUMIF('5.gk_超额目标'!B:B,B42,'5.gk_超额目标'!D:D),"") | L42: =IF(SUMIF('6.gk_年级管理'!A:A,B42,'6.gk_年级管理'!D:D)>0,SUMIF('6.gk_年级管理'!A:A,B42,'6.gk_年级管理'!D:D),"") | M42: =SUM(G42:L42) -> 0 | N42: =F42+M42 -> 4240.97 | O42: =IF(P42="辞职发0.3",N42*0.3,N42) -> 4240.97
... A46: 39 | B46: 冷开艳 | C46: =IF(SUMIF(高一质量奖!A:A,B46,高一质量奖!B:B)>0,SUMIF(高一质量奖!A:A,B46,高一质量奖!B:B),"") | D46: =IF(SUMIF(高二质量奖!A:A,B46,高二质量奖!B:B)>0,SUMIF(高二质量奖!A:A,B46,高二质量奖!B:B),"") | E46: =IF(SUMIF(高三质量奖!A:A,B46,高三质量奖!D:D)>0,SUMIF(高三质量奖!A:A,B46,高三质量奖!D:D),"") -> 2347.3691 | F46: =SUM(C46:E46) -> 2347.3691 | G46: =IF(SUMIFS('1.gk_工作量'!$M$4:$M$63,'1.gk_工作量'!$B$4:$B$63,B46)>0,SUMIFS('1.gk_工作量'!$M$4:$M$63,'1.gk_工作量'!$B$4:$B$63,B46),"") -> 14510.709 | H46: =IF(SUMIFS('2.gk_过程评价'!$C:$C,'2.gk_过程评价'!$A:$A,B46)>0,SUMIFS('2.gk_过程评价'!$C:$C,'2.gk_过程评价'!$A:$A,B46),"") -> 12897.831 | I46: =IF(SUMIF('3.gk_上线质量'!B:B,B46,'3.gk_上线质量'!D:D)<>0,SUMIF('3.gk_上线质量'!B:B,B46,'3.gk_上线质量'!D:D),"") -> 17656.443 | J46: =IF(SUMIFS('4.gk_艺体质量'!$E$4:$E$53,'4.gk_艺体质量'!$A$4:$A$53,B46)>0,SUMIFS('4.gk_艺体质量'!$E$4:$E$53,'4.gk_艺体质量'!$A$4:$A$53,B46),"") -> 822.62625 | K46: =IF(SUMIF('5.gk_超额目标'!B:B,B46,'5.gk_超额目标'!D:D)>0,SUMIF('5.gk_超额目标'!B:B,B46,'5.gk_超额目标'!D:D),"") -> 824.16408 | L46: =IF(SUMIF('6.gk_年级管理'!A:A,B46,'6.gk_年级管理'!D:D)>0,SUMIF('6.gk_年级管理'!A:A,B46,'6.gk_年级管理'!D:D),"") | M46: =SUM(G46:L46) -> 46711.773 | N46: =F46+M46 -> 49059.142 | O46: =IF(P46="辞职发0.3",N46*0.3,N46) -> 49059.142
A47: 40 | B47: 李华 | C47: =IF(SUMIF(高一质量奖!A:A,B47,高一质量奖!B:B)>0,SUMIF(高一质量奖!A:A,B47,高一质量奖!B:B),"") | D47: =IF(SUMIF(高二质量奖!A:A,B47,高二质量奖!B:B)>0,SUMIF(高二质量奖!A:A,B47,高二质量奖!B:B),"") | E47: =IF(SUMIF(高三质量奖!A:A,B47,高三质量奖!D:D)>0,SUMIF(高三质量奖!A:A,B47,高三质量奖!D:D),"") | F47: =SUM(C47:E47) -> 0 | G47: =IF(SUMIFS('1.gk_工作量'!$M$4:$M$63,'1.gk_工作量'!$B$4:$B$63,B47)>0,SUMIFS('1.gk_工作量'!$M$4:$M$63,'1.gk_工作量'!$B$4:$B$63,B47),"") -> 11115.047 | H47: =IF(SUMIFS('2.gk_过程评价'!$C:$C,'2.gk_过程评价'!$A:$A,B47)>0,SUMIFS('2.gk_过程评价'!$C:$C,'2.gk_过程评价'!$A:$A,B47),"") -> 4566.4154 | I47: =IF(SUMIF('3.gk_上线质量'!B:B,B47,'3.gk_上线质量'!D:D)<>0,SUMIF('3.gk_上线质量'!B:B,B47,'3.gk_上线质量'!D:D),"") -> 1999.3083 | J47: =IF(SUMIFS('4.gk_艺体质量'!$E$4:$E$53,'4.gk_艺体质量'!$A$4:$A$53,B47)>0,SUMIFS('4.gk_艺体质量'!$E$4:$E$53,'4.gk_艺体质量'!$A$4:$A$53,B47),"") -> 373.92102 | K47: =IF(SUMIF('5.gk_超额目标'!B:B,B47,'5.gk_超额目标'!D:D)>0,SUMIF('5.gk_超额目标'!B:B,B47,'5.gk_超额目标'!D:D),"") -> 93.323332 | L47: =IF(SUMIF('6.gk_年级管理'!A:A,B47,'6.gk_年级管理'!D:D)>0,SUMIF('6.gk_年级管理'!A:A,B47,'6.gk_年级管理'!D:D),"") | M47: =SUM(G47:L47) -> 18148.015 | N47: =F47+M47 -> 18148.015 | O47: =IF(P47="辞职发0.3",N47*0.3,N47) -> 18148.015 | P47: 巴中支教
A48: 41 | B48: 李荣鑫 | C48: =IF(SUMIF(高一质量奖!A:A,B48,高一质量奖!B:B)>0,SUMIF(高一质量奖!A:A,B48,高一质量奖!B:B),"") | D48: =IF(SUMIF(高二质量奖!A:A,B48,高二质量奖!B:B)>0,SUMIF(高二质量奖!A:A,B48,高二质量奖!B:B),"") -> 8789.3975 | E48: =IF(SUMIF(高三质量奖!A:A,B48,高三质量奖!D:D)>0,SUMIF(高三质量奖!A:A,B48,高三质量奖!D:D),"") | F48: =SUM(C48:E48) -> 8789.3975 | G48: =IF(SUMIFS('1.gk_工作量'!$M$4:$M$63,'1.gk_工作量'!$B$4:$B$63,B48)>0,SUMIFS('1.gk_工作量'!$M$4:$M$63,'1.gk_工作量'!$B$4:$B$63,B48),"") | H48: =IF(SUMIFS('2.gk_过程评价'!$C:$C,'2.gk_过程评价'!$A:$A,B48)>0,SUMIFS('2.gk_过程评价'!$C:$C,'2.gk_过程评价'!$A:$A,B48),"") | I48: =IF(SUMIF('3.gk_上线质量'!B:B,B48,'3.gk_上线质量'!D:D)<>0,SUMIF('3.gk_上线质量'!B:B,B48,'3.gk_上线质量'!D:D),"") | J48: =IF(SUMIFS('4.gk_艺体质量'!$E$4:$E$53,'4.gk_艺体质量'!$A$4:$A$53,B48)>0,SUMIFS('4.gk_艺体质量'!$E$4:$E$53,'4.gk_艺体质量'!$A$4:$A$53,B48),"") | K48: =IF(SUMIF('5.gk_超额目标'!B:B,B48,'5.gk_超额目标'!D:D)>0,SUMIF('5.gk_超额目标'!B:B,B48,'5.gk_超额目标'!D:D),"") | L48: =IF(SUMIF('6.gk_年级管理'!A:A,B48,'6.gk_年级管理'!D:D)>0,SUMIF('6.gk_年级管理'!A:A,B48,'6.gk_年级管理'!D:D),"") | M48: =SUM(G48:L48) -> 0 | N48: =F48+M48 -> 8789.3975 | O48: =IF(P48="辞职发0.3",N48*0.3,N48) -> 8789.3975
A49: 42 | B49: 李树海 | C49: =IF(SUMIF(高一质量奖!A:A,B49,高一质量奖!B:B)>0,SUMIF(高一质量奖!A:A,B49,高一质量奖!B:B),"") | D49: =IF(SUMIF(高二质量奖!A:A,B49,高二质量奖!B:B)>0,SUMIF(高二质量奖!A:A,B49,高二质量奖!B:B),"") | E49: =IF(SUMIF(高三质量奖!A:A,B49,高三质量奖!D:D)>0,SUMIF(高三质量奖!A:A,B49,高三质量奖!D:D),"") -> 2537.4247 | F49: =SUM(C49:E49) -> 2537.4247 | G49: =IF(SUMIFS('1.gk_工作量'!$M$4:$M$63,'1.gk_工作量'!$B$4:$B$63,B49)>0,SUMIFS('1.gk_工作量'!$M$4:$M$63,'1.gk_工作量'!$B$4:$B$63,B49),"") -> 10017.534 | H49: =IF(SUMIFS('2.gk_过程评价'!$C:$C,'2.gk_过程评价'!$A:$A,B49)>0,SUMIFS('2.gk_过程评价'!$C:$C,'2.gk_过程评价'!$A:$A,B49),"") -> 13164.044 | I49: =IF(SUMIF('3.gk_上线质量'!B:B,B49,'3.gk_上线质量'!D:D)<>0,SUMIF('3.gk_上线质量'!B:B,B49,'3.gk_上线质量'!D:D),"") -> 18744.838 | J49: =IF(SUMIFS('4.gk_艺体质量'!$E$4:$E$53,'4.gk_艺体质量'!$A$4:$A$53,B49)>0,SUMIFS('4.gk_艺体质量'!$E$4:$E$53,'4.gk_艺体质量'!$A$4:$A$53,B49),"") -> 2804.4077 | K49: =IF(SUMIF('5.gk_超额目标'!B:B,B49,'5.gk_超额目标'!D:D)>0,SUMIF('5.gk_超额目标'!B:B,B49,'5.gk_超额目标'!D:D),"") -> 874.96796 | L49: =IF(SUMIF('6.gk_年级管理'!A:A,B49,'6.gk_年级管理'!D:D)>0,SUMIF('6.gk_年级管理'!A:A,B49,'6.gk_年级管理'!D:D),"") -> 3655.68 | M49: =SUM(G49:L49) -> 49261.472 | N49: =F49+M49 -> 51798.896 | O49: =IF(P49="辞职发0.3",N49*0.3,N49) -> 51798.896
A50: 43 | B50: 李希 | C50: =IF(SUMIF(高一质量奖!A:A,B50,高一质量奖!B:B)>0,SUMIF(高一质量奖!A:A,B50,高一质量奖!B:B),"") -> 1347.2514 | D50: =IF(SUMIF(高二质量奖!A:A,B50,高二质量奖!B:B)>0,SUMIF(高二质量奖!A:A,B50,高二质量奖!B:B),"") | E50: =IF(SUMIF(高三质量奖!A:A,B50,高三质量奖!D:D)>0,SUMIF(高三质量奖!A:A,B50,高三质量奖!D:D),"") | F50: =SUM(C50:E50) -> 1347.2514 | G50: =IF(SUMIFS('1.gk_工作量'!$M$4:$M$63,'1.gk_工作量'!$B$4:$B$63,B50)>0,SUMIFS('1.gk_工作量'!$M$4:$M$63,'1.gk_工作量'!$B$4:$B$63,B50),"") | H50: =IF(SUMIFS('2.gk_过程评价'!$C:$C,'2.gk_过程评价'!$A:$A,B50)>0,SUMIFS('2.gk_过程评价'!$C:$C,'2.gk_过程评价'!$A:$A,B50),"") | I50: =IF(SUMIF('3.gk_上线质量'!B:B,B50,'3.gk_上线质量'!D:D)<>0,SUMIF('3.gk_上线质量'!B:B,B50,'3.gk_上线质量'!D:D),"") | J50: =IF(SUMIFS('4.gk_艺体质量'!$E$4:$E$53,'4.gk_艺体质量'!$A$4:$A$53,B50)>0,SUMIFS('4.gk_艺体质量'!$E$4:$E$53,'4.gk_艺体质量'!$A$4:$A$53,B50),"") | K50: =IF(SUMIF('5.gk_超额目标'!B:B,B50,'5.gk_超额目标'!D:D)>0,SUMIF('5.gk_超额目标'!B:B,B50,'5.gk_超额目标'!D:D),"") | L50: =IF(SUMIF('6.gk_年级管理'!A:A,B50,'6.gk_年级管理'!D:D)>0,SUMIF('6.gk_年级管理'!A:A,B50,'6.gk_年级管理'!D:D),"") | M50: =SUM(G50:L50) -> 0 | N50: =F50+M50 -> 1347.2514 | O50: =IF(P50="辞职发0.3",N50*0.3,N50) -> 1347.2514
A51: 44 | B51: 李永会 | C51: =IF(SUMIF(高一质量奖!A:A,B51,高一质量奖!B:B)>0,SUMIF(高一质量奖!A:A,B51,高一质量奖!B:B),"") | D51: =IF(SUMIF(高二质量奖!A:A,B51,高二质量奖!B:B)>0,SUMIF(高二质量奖!A:A,B51,高二质量奖!B:B),"") -> 1824.3809 | E51: =IF(SUMIF(高三质量奖!A:A,B51,高三质量奖!D:D)>0,SUMIF(高三质量奖!A:A,B51,高三质量奖!D:D),"") | F51: =SUM(C51:E51) -> 1824.3809 | G51: =IF(SUMIFS('1.gk_工作量'!$M$4:$M$63,'1.gk_工作量'!$B$4:$B$63,B51)>0,SUMIFS('1.gk_工作量'!$M$4:$M$63,'1.gk_工作量'!$B$4:$B$63,B51),"") | H51: =IF(SUMIFS('2.gk_过程评价'!$C:$C,'2.gk_过程评价'!$A:$A,B51)>0,SUMIFS('2.gk_过程评价'!$C:$C,'2.gk_过程评价'!$A:$A,B51),"") | I51: =IF(SUMIF('3.gk_上线质量'!B:B,B51,'3.gk_上线质量'!D:D)<>0,SUMIF('3.gk_上线质量'!B:B,B51,'3.gk_上线质量'!D:D),"") | J51: =IF(SUMIFS('4.gk_艺体质量'!$E$4:$E$53,'4.gk_艺体质量'!$A$4:$A$53,B51)>0,SUMIFS('4.gk_艺体质量'!$E$4:$E$53,'4.gk_艺体质量'!$A$4:$A$53,B51),"") | K51: =IF(SUMIF('5.gk_超额目标'!B:B,B51,'5.gk_超额目标'!D:D)>0,SUMIF('5.gk_超额目标'!B:B,B51,'5.gk_超额目标'!D:D),"") | L51: =IF(SUMIF('6.gk_年级管理'!A:A,B51,'6.gk_年级管理'!D:D)>0,SUMIF('6.gk_年级管理'!A:A,B51,'6.gk_年级管理'!D:D),"") | M51: =SUM(G51:L51) -> 0 | N51: =F51+M51 -> 1824.3809 | O51: =IF(P51="辞职发0.3",N51*0.3,N51) -> 1824.3809
A52: 45 | B52: 李正琪 | C52: =IF(SUMIF(高一质量奖!A:A,B52,高一质量奖!B:B)>0,SUMIF(高一质量奖!A:A,B52,高一质量奖!B:B),"") | D52: =IF(SUMIF(高二质量奖!A:A,B52,高二质量奖!B:B)>0,SUMIF(高二质量奖!A:A,B52,高二质量奖!B:B),"") -> 4386.9658 | E52: =IF(SUMIF(高三质量奖!A:A,B52,高三质量奖!D:D)>0,SUMIF(高三质量奖!A:A,B52,高三质量奖!D:D),"") | F52: =SUM(C52:E52) -> 4386.9658 | G52: =IF(SUMIFS('1.gk_工作量'!$M$4:$M$63,'1.gk_工作量'!$B$4:$B$63,B52)>0,SUMIFS('1.gk_工作量'!$M$4:$M$63,'1.gk_工作量'!$B$4:$B$63,B52),"") | H52: =IF(SUMIFS('2.gk_过程评价'!$C:$C,'2.gk_过程评价'!$A:$A,B52)>0,SUMIFS('2.gk_过程评价'!$C:$C,'2.gk_过程评价'!$A:$A,B52),"") | I52: =IF(SUMIF('3.gk_上线质量'!B:B,B52,'3.gk_上线质量'!D:D)<>0,SUMIF('3.gk_上线质量'!B:B,B52,'3.gk_上线质量'!D:D),"") | J52: =IF(SUMIFS('4.gk_艺体质量'!$E$4:$E$53,'4.gk_艺体质量'!$A$4:$A$53,B52)>0,SUMIFS('4.gk_艺体质量'!$E$4:$E$53,'4.gk_艺体质量'!$A$4:$A$53,B52),"") | K52: =IF(SUMIF('5.gk_超额目标'!B:B,B52,'5.gk_超额目标'!D:D)>0,SUMIF('5.gk_超额目标'!B:B,B52,'5.gk_超额目标'!D:D),"") | L52: =IF(SUMIF('6.gk_年级管理'!A:A,B52,'6.gk_年级管理'!D:D)>0,SUMIF('6.gk_年级管理'!A:A,B52,'6.gk_年级管理'!D:D),"") | M52: =SUM(G52:L52) -> 0 | N52: =F52+M52 -> 4386.9658 | O52: =IF(P52="辞职发0.3",N52*0.3,N52) -> 4386.9658
A53: 46 | B53: 李志友 | C53: =IF(SUMIF(高一质量奖!A:A,B53,高一质量奖!B:B)>0,SUMIF(高一质量奖!A:A,B53,高一质量奖!B:B),"") | D53: =IF(SUMIF(高二质量奖!A:A,B53,高二质量奖!B:B)>0,SUMIF(高二质量奖!A:A,B53,高二质量奖!B:B),"") | E53: =IF(SUMIF(高三质量奖!A:A,B53,高三质量奖!D:D)>0,SUMIF(高三质量奖!A:A,B53,高三质量奖!D:D),"") -> 4623.0926 | F53: =SUM(C53:E53) -> 4623.0926 | G53: =IF(SUMIFS('1.gk_工作量'!$M$4:$M$63,'1.gk_工作量'!$B$4:$B$63,B53)>0,SUMIFS('1.gk_工作量'!$M$4:$M$63,'1.gk_工作量'!$B$4:$B$63,B53),"") -> 13370.534 | H53: =IF(SUMIFS('2.gk_过程评价'!$C:$C,'2.gk_过程评价'!$A:$A,B53)>0,SUMIFS('2.gk_过程评价'!$C:$C,'2.gk_过程评价'!$A:$A,B53),"") -> 12819.568 | I53: =IF(SUMIF('3.gk_上线质量'!B:B,B53,'3.gk_上线质量'!D:D)<>0,SUMIF('3.gk_上线质量'!B:B,B53,'3.gk_上线质量'!D:D),"") -> 7388.978 | J53: =IF(SUMIFS('4.gk_艺体质量'!$E$4:$E$53,'4.gk_艺体质量'!$A$4:$A$53,B53)>0,SUMIFS('4.gk_艺体质量'!$E$4:$E$53,'4.gk_艺体质量'!$A$4:$A$53,B53),"") -> 8712.3598 | K53: =IF(SUMIF('5.gk_超额目标'!B:B,B53,'5.gk_超额目标'!D:D)>0,SUMIF('5.gk_超额目标'!B:B,B53,'5.gk_超额目标'!D:D),"") -> 344.90131 | L53: =IF(SUMIF('6.gk_年级管理'!A:A,B53,'6.gk_年级管理'!D:D)>0,SUMIF('6.gk_年级管理'!A:A,B53,'6.gk_年级管理'!D:D),"") | M53: =SUM(G53:L53) -> 42636.341 | N53: =F53+M53 -> 47259.434 | O53: =IF(P53="辞职发0.3",N53*0.3,N53) -> 47259.434
A54: 47 | B54: 吕开绒 | C54: =IF(SUMIF(高一质量奖!A:A,B54,高一质量奖!B:B)>0,SUMIF(高一质量奖!A:A,B54,高一质量奖!B:B),"") | D54: =IF(SUMIF(高二质量奖!A:A,B54,高二质量奖!B:B)>0,SUMIF(高二质量奖!A:A,B54,高二质量奖!B:B),"") -> 2909.3528 | E54: =IF(SUMIF(高三质量奖!A:A,B54,高三质量奖!D:D)>0,SUMIF(高三质量奖!A:A,B54,高三质量奖!D:D),"") | F54: =SUM(C54:E54) -> 2909.3528 | G54: =IF(SUMIFS('1.gk_工作量'!$M$4:$M$63,'1.gk_工作量'!$B$4:$B$63,B54)>0,SUMIFS('1.gk_工作量'!$M$4:$M$63,'1.gk_工作量'!$B$4:$B$63,B54),"") | H54: =IF(SUMIFS('2.gk_过程评价'!$C:$C,'2.gk_过程评价'!$A:$A,B54)>0,SUMIFS('2.gk_过程评价'!$C:$C,'2.gk_过程评价'!$A:$A,B54),"") | I54: =IF(SUMIF('3.gk_上线质量'!B:B,B54,'3.gk_上线质量'!D:D)<>0,SUMIF('3.gk_上线质量'!B:B,B54,'3.gk_上线质量'!D:D),"") | J54: =IF(SUMIFS('4.gk_艺体质量'!$E$4:$E$53,'4.gk_艺体质量'!$A$4:$A$53,B54)>0,SUMIFS('4.gk_艺体质量'!$E$4:$E$53,'4.gk_艺体质量'!$A$4:$A$53,B54),"") | K54: =IF(SUMIF('5.gk_超额目标'!B:B,B54,'5.gk_超额目标'!D:D)>0,SUMIF('5.gk_超额目标'!B:B,B54,'5.gk_超额目标'!D:D),"") | L54: =IF(SUMIF('6.gk_年级管理'!A:A,B54,'6.gk_年级管理'!D:D)>0,SUMIF('6.gk_年级管理'!A:A,B54,'6.gk_年级管理'!D:D),"") | M54: =SUM(G54:L54) -> 0 | N54: =F54+M54 -> 2909.3528 | O54: =IF(P54="辞职发0.3",N54*0.3,N54) -> 2909.3528
A55: 48 | B55: 立日木里 | C55: =IF(SUMIF(高一质量奖!A:A,B55,高一质量奖!B:B)>0,SUMIF(高一质量奖!A:A,B55,高一质量奖!B:B),"") | D55: =IF(SUMIF(高二质量奖!A:A,B55,高二质量奖!B:B)>0,SUMIF(高二质量奖!A:A,B55,高二质量奖!B:B),"") | E55: =IF(SUMIF(高三质量奖!A:A,B55,高三质量奖!D:D)>0,SUMIF(高三质量奖!A:A,B55,高三质量奖!D:D),"") | F55: =SUM(C55:E55) -> 0 | G55: =IF(SUMIFS('1.gk_工作量'!$M$4:$M$63,'1.gk_工作量'!$B$4:$B$63,B55)>0,SUMIFS('1.gk_工作量'!$M$4:$M$63,'1.gk_工作量'!$B$4:$B$63,B55),"") -> 1520.2329 | H55: =IF(SUMIFS('2.gk_过程评价'!$C:$C,'2.gk_过程评价'!$A:$A,B55)>0,SUMIFS('2.gk_过程评价'!$C:$C,'2.gk_过程评价'!$A:$A,B55),"") | I55: =IF(SUMIF('3.gk_上线质量'!B:B,B55,'3.gk_上线质量'!D:D)<>0,SUMIF('3.gk_上线质量'!B:B,B55,'3.gk_上线质量'!D:D),"") | J55: =IF(SUMIFS('4.gk_艺体质量'!$E$4:$E$53,'4.gk_艺体质量'!$A$4:$A$53,B55)>0,SUMIFS('4.gk_艺体质量'!$E$4:$E$53,'4.gk_艺体质量'!$A$4:$A$53,B55),"") | K55: =IF(SUMIF('5.gk_超额目标'!B:B,B55,'5.gk_超额目标'!D:D)>0,SUMIF('5.gk_超额目标'!B:B,B55,'5.gk_超额目标'!D:D),"") | L55: =IF(SUMIF('6.gk_年级管理'!A:A,B55,'6.gk_年级管理'!D:D)>0,SUMIF('6.gk_年级管理'!A:A,B55,'6.gk_年级管理'!D:D),"") | M55: =SUM(G55:L55) -> 1520.2329 | N55: =F55+M55 -> 1520.2329 | O55: =IF(P55="辞职发0.3",N55*0.3,N55) -> 456.06988 | P55: 辞职发0.3
A56: 49 | B56: 廖云虹 | C56: =IF(SUMIF(高一质量奖!A:A,B56,高一质量奖!B:B)>0,SUMIF(高一质量奖!A:A,B56,高一质量奖!B:B),"") | D56: =IF(SUMIF(高二质量奖!A:A,B56,高二质量奖!B:B)>0,SUMIF(高二质量奖!A:A,B56,高二质量奖!B:B),"") | E56: =IF(SUMIF(高三质量奖!A:A,B56,高三质量奖!D:D)>0,SUMIF(高三质量奖!A:A,B56,高三质量奖!D:D),"") -> 7127.3604 | F56: =SUM(C56:E56) -> 7127.3604 | G56: =IF(SUMIFS('1.gk_工作量'!$M$4:$M$63,'1.gk_工作量'!$B$4:$B$63,B56)>0,SUMIFS('1.gk_工作量'!$M$4:$M$63,'1.gk_工作量'!$B$4:$B$63,B56),"") -> 6926.6574 | H56: =IF(SUMIFS('2.gk_过程评价'!$C:$C,'2.gk_过程评价'!$A:$A,B56)>0,SUMIFS('2.gk_过程评价'!$C:$C,'2.gk_过程评价'!$A:$A,B56),"") -> 4301.9242 | I56: =IF(SUMIF('3.gk_上线质量'!B:B,B56,'3.gk_上线质量'!D:D)<>0,SUMIF('3.gk_上线质量'!B:B,B56,'3.gk_上线质量'!D:D),"") -> 7422.4761 | J56: =IF(SUMIFS('4.gk_艺体质量'!$E$4:$E$53,'4.gk_艺体质量'!$A$4:$A$53,B56)>0,SUMIFS('4.gk_艺体质量'!$E$4:$E$53,'4.gk_艺体质量'!$A$4:$A$53,B56),"") -> 2991.3682 | K56: =IF(SUMIF('5.gk_超额目标'!B:B,B56,'5.gk_超额目标'!D:D)>0,SUMIF('5.gk_超额目标'!B:B,B56,'5.gk_超额目标'!D:D),"") -> 346.46493 | L56: =IF(SUMIF('6.gk_年级管理'!A:A,B56,'6.gk_年级管理'!D:D)>0,SUMIF('6.gk_年级管理'!A:A,B56,'6.gk_年级管理'!D:D),"") -> 1305.6 | M56: =SUM(G56:L56) -> 23294.491 | N56: =F56+M56 -> 30421.851 | O56: =IF(P56="辞职发0.3",N56*0.3,N56) -> 30421.851
A57: 50 | B57: 刘红 | C57: =IF(SUMIF(高一质量奖!A:A,B57,高一质量奖!B:B)>0,SUMIF(高一质量奖!A:A,B57,高一质量奖!B:B),"") | D57: =IF(SUMIF(高二质量奖!A:A,B57,高二质量奖!B:B)>0,SUMIF(高二质量奖!A:A,B57,高二质量奖!B:B),"") | E57: =IF(SUMIF(高三质量奖!A:A,B57,高三质量奖!D:D)>0,SUMIF(高三质量奖!A:A,B57,高三质量奖!D:D),"") | F57: =SUM(C57:E57) -> 0 | G57: =IF(SUMIFS('1.gk_工作量'!$M$4:$M$63,'1.gk_工作量'!$B$4:$B$63,B57)>0,SUMIFS('1.gk_工作量'!$M$4:$M$63,'1.gk_工作量'!$B$4:$B$63,B57),"") -> 2319.8115 | H57: =IF(SUMIFS('2.gk_过程评价'!$C:$C,'2.gk_过程评价'!$A:$A,B57)>0,SUMIFS('2.gk_过程评价'!$C:$C,'2.gk_过程评价'!$A:$A,B57),"") -> 4183.6405 | I57: =IF(SUMIF('3.gk_上线质量'!B:B,B57,'3.gk_上线质量'!D:D)<>0,SUMIF('3.gk_上线质量'!B:B,B57,'3.gk_上线质量'!D:D),"") -> 1671.3794 | J57: =IF(SUMIFS('4.gk_艺体质量'!$E$4:$E$53,'4.gk_艺体质量'!$A$4:$A$53,B57)>0,SUMIFS('4.gk_艺体质量'!$E$4:$E$53,'4.gk_艺体质量'!$A$4:$A$53,B57),"") -> 1346.1157 | K57: =IF(SUMIF('5.gk_超额目标'!B:B,B57,'5.gk_超额目标'!D:D)>0,SUMIF('5.gk_超额目标'!B:B,B57,'5.gk_超额目标'!D:D),"") -> 78.016331 | L57: =IF(SUMIF('6.gk_年级管理'!A:A,B57,'6.gk_年级管理'!D:D)>0,SUMIF('6.gk_年级管理'!A:A,B57,'6.gk_年级管理'!D:D),"") | M57: =SUM(G57:L57) -> 9598.9635 | N57: =F57+M57 -> 9598.9635 | O57: =IF(P57="辞职发0.3",N57*0.3,N57) -> 2879.689 | P57: 辞职发0.3
A58: 51 | B58: 刘厚江 | C58: =IF(SUMIF(高一质量奖!A:A,B58,高一质量奖!B:B)>0,SUMIF(高一质量奖!A:A,B58,高一质量奖!B:B),"") | D58: =IF(SUMIF(高二质量奖!A:A,B58,高二质量奖!B:B)>0,SUMIF(高二质量奖!A:A,B58,高二质量奖!B:B),"") | E58: =IF(SUMIF(高三质量奖!A:A,B58,高三质量奖!D:D)>0,SUMIF(高三质量奖!A:A,B58,高三质量奖!D:D),"") -> 8167.7487 | F58: =SUM(C58:E58) -> 8167.7487 | G58: =IF(SUMIFS('1.gk_工作量'!$M$4:$M$63,'1.gk_工作量'!$B$4:$B$63,B58)>0,SUMIFS('1.gk_工作量'!$M$4:$M$63,'1.gk_工作量'!$B$4:$B$63,B58),"") -> 9116.9936 | H58: =IF(SUMIFS('2.gk_过程评价'!$C:$C,'2.gk_过程评价'!$A:$A,B58)>0,SUMIFS('2.gk_过程评价'!$C:$C,'2.gk_过程评价'!$A:$A,B58),"") -> 12665.085 | I58: =IF(SUMIF('3.gk_上线质量'!B:B,B58,'3.gk_上线质量'!D:D)<>0,SUMIF('3.gk_上线质量'!B:B,B58,'3.gk_上线质量'!D:D),"") -> 15329.441 | J58: =IF(SUMIFS('4.gk_艺体质量'!$E$4:$E$53,'4.gk_艺体质量'!$A$4:$A$53,B58)>0,SUMIFS('4.gk_艺体质量'!$E$4:$E$53,'4.gk_艺体质量'!$A$4:$A$53,B58),"") -> 747.84204 | K58: =IF(SUMIF('5.gk_超额目标'!B:B,B58,'5.gk_超额目标'!D:D)>0,SUMIF('5.gk_超额目标'!B:B,B58,'5.gk_超额目标'!D:D),"") -> 715.54472 | L58: =IF(SUMIF('6.gk_年级管理'!A:A,B58,'6.gk_年级管理'!D:D)>0,SUMIF('6.gk_年级管理'!A:A,B58,'6.gk_年级管理'!D:D),"") | M58: =SUM(G58:L58) -> 38574.906 | N58: =F58+M58 -> 46742.654 | O58: =IF(P58="辞职发0.3",N58*0.3,N58) -> 46742.654
A59: 52 | B59: 刘玲君 | C59: =IF(SUMIF(高一质量奖!A:A,B59,高一质量奖!B:B)>0,SUMIF(高一质量奖!A:A,B59,高一质量奖!B:B),"") | D59: =IF(SUMIF(高二质量奖!A:A,B59,高二质量奖!B:B)>0,SUMIF(高二质量奖!A:A,B59,高二质量奖!B:B),"") | E59: =IF(SUMIF(高三质量奖!A:A,B59,高三质量奖!D:D)>0,SUMIF(高三质量奖!A:A,B59,高三质量奖!D:D),"") -> 2419.3234 | F59: =SUM(C59:E59) -> 2419.3234 | G59: =IF(SUMIFS('1.gk_工作量'!$M$4:$M$63,'1.gk_工作量'!$B$4:$B$63,B59)>0,SUMIFS('1.gk_工作量'!$M$4:$M$63,'1.gk_工作量'!$B$4:$B$63,B59),"") -> 14033.337 | H59: =IF(SUMIFS('2.gk_过程评价'!$C:$C,'2.gk_过程评价'!$A:$A,B59)>0,SUMIFS('2.gk_过程评价'!$C:$C,'2.gk_过程评价'!$A:$A,B59),"") -> 12811.167 | I59: =IF(SUMIF('3.gk_上线质量'!B:B,B59,'3.gk_上线质量'!D:D)<>0,SUMIF('3.gk_上线质量'!B:B,B59,'3.gk_上线质量'!D:D),"") -> 11110.794 | J59: =IF(SUMIFS('4.gk_艺体质量'!$E$4:$E$53,'4.gk_艺体质量'!$A$4:$A$53,B59)>0,SUMIFS('4.gk_艺体质量'!$E$4:$E$53,'4.gk_艺体质量'!$A$4:$A$53,B59),"") -> 6618.4021 | K59: =IF(SUMIF('5.gk_超额目标'!B:B,B59,'5.gk_超额目标'!D:D)>0,SUMIF('5.gk_超额目标'!B:B,B59,'5.gk_超额目标'!D:D),"") -> 518.62755 | L59: =IF(SUMIF('6.gk_年级管理'!A:A,B59,'6.gk_年级管理'!D:D)>0,SUMIF('6.gk_年级管理'!A:A,B59,'6.gk_年级管理'!D:D),"") | M59: =SUM(G59:L59) -> 45092.328 | N59: =F59+M59 -> 47511.651 | O59: =IF(P59="辞职发0.3",N59*0.3,N59) -> 47511.651
A60: 53 | B60: 刘权芳 | C60: =IF(SUMIF(高一质量奖!A:A,B60,高一质量奖!B:B)>0,SUMIF(高一质量奖!A:A,B60,高一质量奖!B:B),"") -> 3255.8797 | D60: =IF(SUMIF(高二质量奖!A:A,B60,高二质量奖!B:B)>0,SUMIF(高二质量奖!A:A,B60,高二质量奖!B:B),"") | E60: =IF(SUMIF(高三质量奖!A:A,B60,高三质量奖!D:D)>0,SUMIF(高三质量奖!A:A,B60,高三质量奖!D:D),"") | F60: =SUM(C60:E60) -> 3255.8797 | G60: =IF(SUMIFS('1.gk_工作量'!$M$4:$M$63,'1.gk_工作量'!$B$4:$B$63,B60)>0,SUMIFS('1.gk_工作量'!$M$4:$M$63,'1.gk_工作量'!$B$4:$B$63,B60),"") | H60: =IF(SUMIFS('2.gk_过程评价'!$C:$C,'2.gk_过程评价'!$A:$A,B60)>0,SUMIFS('2.gk_过程评价'!$C:$C,'2.gk_过程评价'!$A:$A,B60),"") | I60: =IF(SUMIF('3.gk_上线质量'!B:B,B60,'3.gk_上线质量'!D:D)<>0,SUMIF('3.gk_上线质量'!B:B,B60,'3.gk_上线质量'!D:D),"") | J60: =IF(SUMIFS('4.gk_艺体质量'!$E$4:$E$53,'4.gk_艺体质量'!$A$4:$A$53,B60)>0,SUMIFS('4.gk_艺体质量'!$E$4:$E$53,'4.gk_艺体质量'!$A$4:$A$53,B60),"") | K60: =IF(SUMIF('5.gk_超额目标'!B:B,B60,'5.gk_超额目标'!D:D)>0,SUMIF('5.gk_超额目标'!B:B,B60,'5.gk_超额目标'!D:D),"") | L60: =IF(SUMIF('6.gk_年级管理'!A:A,B60,'6.gk_年级管理'!D:D)>0,SUMIF('6.gk_年级管理'!A:A,B60,'6.gk_年级管理'!D:D),"") | M60: =SUM(G60:L60) -> 0 | N60: =F60+M60 -> 3255.8797 | O60: =IF(P60="辞职发0.3",N60*0.3,N60) -> 3255.8797
A61: 54 | B61: 刘云菊 | C61: =IF(SUMIF(高一质量奖!A:A,B61,高一质量奖!B:B)>0,SUMIF(高一质量奖!A:A,B61,高一质量奖!B:B),"") -> 3247.346 | D61: =IF(SUMIF(高二质量奖!A:A,B61,高二质量奖!B:B)>0,SUMIF(高二质量奖!A:A,B61,高二质量奖!B:B),"") | E61: =IF(SUMIF(高三质量奖!A:A,B61,高三质量奖!D:D)>0,SUMIF(高三质量奖!A:A,B61,高三质量奖!D:D),"") | F61: =SUM(C61:E61) -> 3247.346 | G61: =IF(SUMIFS('1.gk_工作量'!$M$4:$M$63,'1.gk_工作量'!$B$4:$B$63,B61)>0,SUMIFS('1.gk_工作量'!$M$4:$M$63,'1.gk_工作量'!$B$4:$B$63,B61),"") | H61: =IF(SUMIFS('2.gk_过程评价'!$C:$C,'2.gk_过程评价'!$A:$A,B61)>0,SUMIFS('2.gk_过程评价'!$C:$C,'2.gk_过程评价'!$A:$A,B61),"") | I61: =IF(SUMIF('3.gk_上线质量'!B:B,B61,'3.gk_上线质量'!D:D)<>0,SUMIF('3.gk_上线质量'!B:B,B61,'3.gk_上线质量'!D:D),"") | J61: =IF(SUMIFS('4.gk_艺体质量'!$E$4:$E$53,'4.gk_艺体质量'!$A$4:$A$53,B61)>0,SUMIFS('4.gk_艺体质量'!$E$4:$E$53,'4.gk_艺体质量'!$A$4:$A$53,B61),"") | K61: =IF(SUMIF('5.gk_超额目标'!B:B,B61,'5.gk_超额目标'!D:D)>0,SUMIF('5.gk_超额目标'!B:B,B61,'5.gk_超额目标'!D:D),"") | L61: =IF(SUMIF('6.gk_年级管理'!A:A,B61,'6.gk_年级管理'!D:D)>0,SUMIF('6.gk_年级管理'!A:A,B61,'6.gk_年级管理'!D:D),"") | M61: =SUM(G61:L61) -> 0 | N61: =F61+M61 -> 3247.346 | O61: =IF(P61="辞职发0.3",N61*0.3,N61) -> 3247.346
A62: 55 | B62: 龙云凤 | C62: =IF(SUMIF(高一质量奖!A:A,B62,高一质量奖!B:B)>0,SUMIF(高一质量奖!A:A,B62,高一质量奖!B:B),"") -> 568.20086 | D62: =IF(SUMIF(高二质量奖!A:A,B62,高二质量奖!B:B)>0,SUMIF(高二质量奖!A:A,B62,高二质量奖!B:B),"") | E62: =IF(SUMIF(高三质量奖!A:A,B62,高三质量奖!D:D)>0,SUMIF(高三质量奖!A:A,B62,高三质量奖!D:D),"") | F62: =SUM(C62:E62) -> 568.20086 | G62: =IF(SUMIFS('1.gk_工作量'!$M$4:$M$63,'1.gk_工作量'!$B$4:$B$63,B62)>0,SUMIFS('1.gk_工作量'!$M$4:$M$63,'1.gk_工作量'!$B$4:$B$63,B62),"") | H62: =IF(SUMIFS('2.gk_过程评价'!$C:$C,'2.gk_过程评价'!$A:$A,B62)>0,SUMIFS('2.gk_过程评价'!$C:$C,'2.gk_过程评价'!$A:$A,B62),"") | I62: =IF(SUMIF('3.gk_上线质量'!B:B,B62,'3.gk_上线质量'!D:D)<>0,SUMIF('3.gk_上线质量'!B:B,B62,'3.gk_上线质量'!D:D),"") | J62: =IF(SUMIFS('4.gk_艺体质量'!$E$4:$E$53,'4.gk_艺体质量'!$A$4:$A$53,B62)>0,SUMIFS('4.gk_艺体质量'!$E$4:$E$53,'4.gk_艺体质量'!$A$4:$A$53,B62),"") | K62: =IF(SUMIF('5.gk_超额目标'!B:B,B62,'5.gk_超额目标'!D:D)>0,SUMIF('5.gk_超额目标'!B:B,B62,'5.gk_超额目标'!D:D),"") | L62: =IF(SUMIF('6.gk_年级管理'!A:A,B62,'6.gk_年级管理'!D:D)>0,SUMIF('6.gk_年级管理'!A:A,B62,'6.gk_年级管理'!D:D),"") | M62: =SUM(G62:L62) -> 0 | N62: =F62+M62 -> 568.20086 | O62: =IF(P62="辞职发0.3",N62*0.3,N62) -> 170.46026 | P62: 辞职发0.3
A63: 56 | B63: 龙志云 | C63: =IF(SUMIF(高一质量奖!A:A,B63,高一质量奖!B:B)>0,SUMIF(高一质量奖!A:A,B63,高一质量奖!B:B),"") | D63: =IF(SUMIF(高二质量奖!A:A,B63,高二质量奖!B:B)>0,SUMIF(高二质量奖!A:A,B63,高二质量奖!B:B),"") | E63: =IF(SUMIF(高三质量奖!A:A,B63,高三质量奖!D:D)>0,SUMIF(高三质量奖!A:A,B63,高三质量奖!D:D),"") | F63: =SUM(C63:E63) -> 0 | G63: =IF(SUMIFS('1.gk_工作量'!$M$4:$M$63,'1.gk_工作量'!$B$4:$B$63,B63)>0,SUMIFS('1.gk_工作量'!$M$4:$M$63,'1.gk_工作量'!$B$4:$B$63,B63),"") -> 6381.7611 | H63: =IF(SUMIFS('2.gk_过程评价'!$C:$C,'2.gk_过程评价'!$A:$A,B63)>0,SUMIFS('2.gk_过程评价'!$C:$C,'2.gk_过程评价'!$A:$A,B63),"") -> 10797.598 | I63: =IF(SUMIF('3.gk_上线质量'!B:B,B63,'3.gk_上线质量'!D:D)<>0,SUMIF('3.gk_上线质量'!B:B,B63,'3.gk_上线质量'!D:D),"") -> 15841.08 | J63: =IF(SUMIFS('4.gk_艺体质量'!$E$4:$E$53,'4.gk_艺体质量'!$A$4:$A$53,B63)>0,SUMIFS('4.gk_艺体质量'!$E$4:$E$53,'4.gk_艺体质量'!$A$4:$A$53,B63),"") -> 2617.4472 | K63: =IF(SUMIF('5.gk_超额目标'!B:B,B63,'5.gk_超额目标'!D:D)>0,SUMIF('5.gk_超额目标'!B:B,B63,'5.gk_超额目标'!D:D),"") -> 739.42693 | L63: =IF(SUMIF('6.gk_年级管理'!A:A,B63,'6.gk_年级管理'!D:D)>0,SUMIF('6.gk_年级管理'!A:A,B63,'6.gk_年级管理'!D:D),"") -> 3655.68 | M63: =SUM(G63:L63) -> 40032.994 | N63: =F63+M63 -> 40032.994 | O63: =IF(P63="辞职发0.3",N63*0.3,N63) -> 40032.994
A64: 57 | B64: 卢祥 | C64: =IF(SUMIF(高一质量奖!A:A,B64,高一质量奖!B:B)>0,SUMIF(高一质量奖!A:A,B64,高一质量奖!B:B),"") -> 2475.7138 | D64: =IF(SUMIF(高二质量奖!A:A,B64,高二质量奖!B:B)>0,SUMIF(高二质量奖!A:A,B64,高二质量奖!B:B),"") | E64: =IF(SUMIF(高三质量奖!A:A,B64,高三质量奖!D:D)>0,SUMIF(高三质量奖!A:A,B64,高三质量奖!D:D),"") | F64: =SUM(C64:E64) -> 2475.7138 | G64: =IF(SUMIFS('1.gk_工作量'!$M$4:$M$63,'1.gk_工作量'!$B$4:$B$63,B64)>0,SUMIFS('1.gk_工作量'!$M$4:$M$63,'1.gk_工作量'!$B$4:$B$63,B64),"") | H64: =IF(SUMIFS('2.gk_过程评价'!$C:$C,'2.gk_过程评价'!$A:$A,B64)>0,SUMIFS('2.gk_过程评价'!$C:$C,'2.gk_过程评价'!$A:$A,B64),"") | I64: =IF(SUMIF('3.gk_上线质量'!B:B,B64,'3.gk_上线质量'!D:D)<>0,SUMIF('3.gk_上线质量'!B:B,B64,'3.gk_上线质量'!D:D),"") | J64: =IF(SUMIFS('4.gk_艺体质量'!$E$4:$E$53,'4.gk_艺体质量'!$A$4:$A$53,B64)>0,SUMIFS('4.gk_艺体质量'!$E$4:$E$53,'4.gk_艺体质量'!$A$4:$A$53,B64),"") | K64: =IF(SUMIF('5.gk_超额目标'!B:B,B64,'5.gk_超额目标'!D:D)>0,SUMIF('5.gk_超额目标'!B:B,B64,'5.gk_超额目标'!D:D),"") | L64: =IF(SUMIF('6.gk_年级管理'!A:A,B64,'6.gk_年级管理'!D:D)>0,SUMIF('6.gk_年级管理'!A:A,B64,'6.gk_年级管理'!D:D),"") | M64: =SUM(G64:L64) -> 0 | N64: =F64+M64 -> 2475.7138 | O64: =IF(P64="辞职发0.3",N64*0.3,N64) -> 2475.7138
A65: 58 | B65: 卢银楷 | C65: =IF(SUMIF(高一质量奖!A:A,B65,高一质量奖!B:B)>0,SUMIF(高一质量奖!A:A,B65,高一质量奖!B:B),"") -> 1029.4255 | D65: =IF(SUMIF(高二质量奖!A:A,B65,高二质量奖!B:B)>0,SUMIF(高二质量奖!A:A,B65,高二质量奖!B:B),"") | E65: =IF(SUMIF(高三质量奖!A:A,B65,高三质量奖!D:D)>0,SUMIF(高三质量奖!A:A,B65,高三质量奖!D:D),"") | F65: =SUM(C65:E65) -> 1029.4255 | G65: =IF(SUMIFS('1.gk_工作量'!$M$4:$M$63,'1.gk_工作量'!$B$4:$B$63,B65)>0,SUMIFS('1.gk_工作量'!$M$4:$M$63,'1.gk_工作量'!$B$4:$B$63,B65),"") | H65: =IF(SUMIFS('2.gk_过程评价'!$C:$C,'2.gk_过程评价'!$A:$A,B65)>0,SUMIFS('2.gk_过程评价'!$C:$C,'2.gk_过程评价'!$A:$A,B65),"") | I65: =IF(SUMIF('3.gk_上线质量'!B:B,B65,'3.gk_上线质量'!D:D)<>0,SUMIF('3.gk_上线质量'!B:B,B65,'3.gk_上线质量'!D:D),"") | J65: =IF(SUMIFS('4.gk_艺体质量'!$E$4:$E$53,'4.gk_艺体质量'!$A$4:$A$53,B65)>0,SUMIFS('4.gk_艺体质量'!$E$4:$E$53,'4.gk_艺体质量'!$A$4:$A$53,B65),"") | K65: =IF(SUMIF('5.gk_超额目标'!B:B,B65,'5.gk_超额目标'!D:D)>0,SUMIF('5.gk_超额目标'!B:B,B65,'5.gk_超额目标'!D:D),"") | L65: =IF(SUMIF('6.gk_年级管理'!A:A,B65,'6.gk_年级管理'!D:D)>0,SUMIF('6.gk_年级管理'!A:A,B65,'6.gk_年级管理'!D:D),"") | M65: =SUM(G65:L65) -> 0 | N65: =F65+M65 -> 1029.4255 | O65: =IF(P65="辞职发0.3",N65*0.3,N65) -> 1029.4255
A66: 59 | B66: 鲁兰 | C66: =IF(SUMIF(高一质量奖!A:A,B66,高一质量奖!B:B)>0,SUMIF(高一质量奖!A:A,B66,高一质量奖!B:B),"") -> 1677.3539 | D66: =IF(SUMIF(高二质量奖!A:A,B66,高二质量奖!B:B)>0,SUMIF(高二质量奖!A:A,B66,高二质量奖!B:B),"") | E66: =IF(SUMIF(高三质量奖!A:A,B66,高三质量奖!D:D)>0,SUMIF(高三质量奖!A:A,B66,高三质量奖!D:D),"") | F66: =SUM(C66:E66) -> 1677.3539 | G66: =IF(SUMIFS('1.gk_工作量'!$M$4:$M$63,'1.gk_工作量'!$B$4:$B$63,B66)>0,SUMIFS('1.gk_工作量'!$M$4:$M$63,'1.gk_工作量'!$B$4:$B$63,B66),"") | H66: =IF(SUMIFS('2.gk_过程评价'!$C:$C,'2.gk_过程评价'!$A:$A,B66)>0,SUMIFS('2.gk_过程评价'!$C:$C,'2.gk_过程评价'!$A:$A,B66),"") | I66: =IF(SUMIF('3.gk_上线质量'!B:B,B66,'3.gk_上线质量'!D:D)<>0,SUMIF('3.gk_上线质量'!B:B,B66,'3.gk_上线质量'!D:D),"") | J66: =IF(SUMIFS('4.gk_艺体质量'!$E$4:$E$53,'4.gk_艺体质量'!$A$4:$A$53,B66)>0,SUMIFS('4.gk_艺体质量'!$E$4:$E$53,'4.gk_艺体质量'!$A$4:$A$53,B66),"") | K66: =IF(SUMIF('5.gk_超额目标'!B:B,B66,'5.gk_超额目标'!D:D)>0,SUMIF('5.gk_超额目标'!B:B,B66,'5.gk_超额目标'!D:D),"") | L66: =IF(SUMIF('6.gk_年级管理'!A:A,B66,'6.gk_年级管理'!D:D)>0,SUMIF('6.gk_年级管理'!A:A,B66,'6.gk_年级管理'!D:D),"") | M66: =SUM(G66:L66) -> 0 | N66: =F66+M66 -> 1677.3539 | O66: =IF(P66="辞职发0.3",N66*0.3,N66) -> 1677.3539
A67: 60 | B67: 罗智文 | C67: =IF(SUMIF(高一质量奖!A:A,B67,高一质量奖!B:B)>0,SUMIF(高一质量奖!A:A,B67,高一质量奖!B:B),"") -> 1190.0562 | D67: =IF(SUMIF(高二质量奖!A:A,B67,高二质量奖!B:B)>0,SUMIF(高二质量奖!A:A,B67,高二质量奖!B:B),"") | E67: =IF(SUMIF(高三质量奖!A:A,B67,高三质量奖!D:D)>0,SUMIF(高三质量奖!A:A,B67,高三质量奖!D:D),"") | F67: =SUM(C67:E67) -> 1190.0562 | G67: =IF(SUMIFS('1.gk_工作量'!$M$4:$M$63,'1.gk_工作量'!$B$4:$B$63,B67)>0,SUMIFS('1.gk_工作量'!$M$4:$M$63,'1.gk_工作量'!$B$4:$B$63,B67),"") | H67: =IF(SUMIFS('2.gk_过程评价'!$C:$C,'2.gk_过程评价'!$A:$A,B67)>0,SUMIFS('2.gk_过程评价'!$C:$C,'2.gk_过程评价'!$A:$A,B67),"") | I67: =IF(SUMIF('3.gk_上线质量'!B:B,B67,'3.gk_上线质量'!D:D)<>0,SUMIF('3.gk_上线质量'!B:B,B67,'3.gk_上线质量'!D:D),"") | J67: =IF(SUMIFS('4.gk_艺体质量'!$E$4:$E$53,'4.gk_艺体质量'!$A$4:$A$53,B67)>0,SUMIFS('4.gk_艺体质量'!$E$4:$E$53,'4.gk_艺体质量'!$A$4:$A$53,B67),"") | K67: =IF(SUMIF('5.gk_超额目标'!B:B,B67,'5.gk_超额目标'!D:D)>0,SUMIF('5.gk_超额目标'!B:B,B67,'5.gk_超额目标'!D:D),"") | L67: =IF(SUMIF('6.gk_年级管理'!A:A,B67,'6.gk_年级管理'!D:D)>0,SUMIF('6.gk_年级管理'!A:A,B67,'6.gk_年级管理'!D:D),"") | M67: =SUM(G67:L67) -> 0 | N67: =F67+M67 -> 1190.0562 | O67: =IF(P67="辞职发0.3",N67*0.3,N67) -> 1190.0562
A68: 61 | B68: 骆泽群 | C68: =IF(SUMIF(高一质量奖!A:A,B68,高一质量奖!B:B)>0,SUMIF(高一质量奖!A:A,B68,高一质量奖!B:B),"") | D68: =IF(SUMIF(高二质量奖!A:A,B68,高二质量奖!B:B)>0,SUMIF(高二质量奖!A:A,B68,高二质量奖!B:B),"") | E68: =IF(SUMIF(高三质量奖!A:A,B68,高三质量奖!D:D)>0,SUMIF(高三质量奖!A:A,B68,高三质量奖!D:D),"") -> 4773.73 | F68: =SUM(C68:E68) -> 4773.73 | G68: =IF(SUMIFS('1.gk_工作量'!$M$4:$M$63,'1.gk_工作量'!$B$4:$B$63,B68)>0,SUMIFS('1.gk_工作量'!$M$4:$M$63,'1.gk_工作量'!$B$4:$B$63,B68),"") -> 16421.477 | H68: =IF(SUMIFS('2.gk_过程评价'!$C:$C,'2.gk_过程评价'!$A:$A,B68)>0,SUMIFS('2.gk_过程评价'!$C:$C,'2.gk_过程评价'!$A:$A,B68),"") -> 12842.019 | I68: =IF(SUMIF('3.gk_上线质量'!B:B,B68,'3.gk_上线质量'!D:D)<>0,SUMIF('3.gk_上线质量'!B:B,B68,'3.gk_上线质量'!D:D),"") -> 10927.436 | J68: =IF(SUMIFS('4.gk_艺体质量'!$E$4:$E$53,'4.gk_艺体质量'!$A$4:$A$53,B68)>0,SUMIFS('4.gk_艺体质量'!$E$4:$E$53,'4.gk_艺体质量'!$A$4:$A$53,B68),"") -> 10743.997 | K68: =IF(SUMIF('5.gk_超额目标'!B:B,B68,'5.gk_超额目标'!D:D)>0,SUMIF('5.gk_超额目标'!B:B,B68,'5.gk_超额目标'!D:D),"") -> 510.06879 | L68: =IF(SUMIF('6.gk_年级管理'!A:A,B68,'6.gk_年级管理'!D:D)>0,SUMIF('6.gk_年级管理'!A:A,B68,'6.gk_年级管理'!D:D),"") -> 1004.3077 | M68: =SUM(G68:L68) -> 52449.306 | N68: =F68+M68 -> 57223.036 | O68: =IF(P68="辞职发0.3",N68*0.3,N68) -> 57223.036
A69: 62 | B69: 马红琦 | C69: =IF(SUMIF(高一质量奖!A:A,B69,高一质量奖!B:B)>0,SUMIF(高一质量奖!A:A,B69,高一质量奖!B:B),"") | D69: =IF(SUMIF(高二质量奖!A:A,B69,高二质量奖!B:B)>0,SUMIF(高二质量奖!A:A,B69,高二质量奖!B:B),"") -> 8154.2431 | E69: =IF(SUMIF(高三质量奖!A:A,B69,高三质量奖!D:D)>0,SUMIF(高三质量奖!A:A,B69,高三质量奖!D:D),"") | F69: =SUM(C69:E69) -> 8154.2431 | G69: =IF(SUMIFS('1.gk_工作量'!$M$4:$M$63,'1.gk_工作量'!$B$4:$B$63,B69)>0,SUMIFS('1.gk_工作量'!$M$4:$M$63,'1.gk_工作量'!$B$4:$B$63,B69),"") | H69: =IF(SUMIFS('2.gk_过程评价'!$C:$C,'2.gk_过程评价'!$A:$A,B69)>0,SUMIFS('2.gk_过程评价'!$C:$C,'2.gk_过程评价'!$A:$A,B69),"") | I69: =IF(SUMIF('3.gk_上线质量'!B:B,B69,'3.gk_上线质量'!D:D)<>0,SUMIF('3.gk_上线质量'!B:B,B69,'3.gk_上线质量'!D:D),"") | J69: =IF(SUMIFS('4.gk_艺体质量'!$E$4:$E$53,'4.gk_艺体质量'!$A$4:$A$53,B69)>0,SUMIFS('4.gk_艺体质量'!$E$4:$E$53,'4.gk_艺体质量'!$A$4:$A$53,B69),"") | K69: =IF(SUMIF('5.gk_超额目标'!B:B,B69,'5.gk_超额目标'!D:D)>0,SUMIF('5.gk_超额目标'!B:B,B69,'5.gk_超额目标'!D:D),"") | L69: =IF(SUMIF('6.gk_年级管理'!A:A,B69,'6.gk_年级管理'!D:D)>0,SUMIF('6.gk_年级管理'!A:A,B69,'6.gk_年级管理'!D:D),"") | M69: =SUM(G69:L69) -> 0 | N69: =F69+M69 -> 8154.2431 | O69: =IF(P69="辞职发0.3",N69*0.3,N69) -> 8154.2431
A70: 63 | B70: 马俊 | C70: =IF(SUMIF(高一质量奖!A:A,B70,高一质量奖!B:B)>0,SUMIF(高一质量奖!A:A,B70,高一质量奖!B:B),"") | D70: =IF(SUMIF(高二质量奖!A:A,B70,高二质量奖!B:B)>0,SUMIF(高二质量奖!A:A,B70,高二质量奖!B:B),"") -> 19173.295 | E70: =IF(SUMIF(高三质量奖!A:A,B70,高三质量奖!D:D)>0,SUMIF(高三质量奖!A:A,B70,高三质量奖!D:D),"") | F70: =SUM(C70:E70) -> 19173.295 | G70: =IF(SUMIFS('1.gk_工作量'!$M$4:$M$63,'1.gk_工作量'!$B$4:$B$63,B70)>0,SUMIFS('1.gk_工作量'!$M$4:$M$63,'1.gk_工作量'!$B$4:$B$63,B70),"") | H70: =IF(SUMIFS('2.gk_过程评价'!$C:$C,'2.gk_过程评价'!$A:$A,B70)>0,SUMIFS('2.gk_过程评价'!$C:$C,'2.gk_过程评价'!$A:$A,B70),"") | I70: =IF(SUMIF('3.gk_上线质量'!B:B,B70,'3.gk_上线质量'!D:D)<>0,SUMIF('3.gk_上线质量'!B:B,B70,'3.gk_上线质量'!D:D),"") | J70: =IF(SUMIFS('4.gk_艺体质量'!$E$4:$E$53,'4.gk_艺体质量'!$A$4:$A$53,B70)>0,SUMIFS('4.gk_艺体质量'!$E$4:$E$53,'4.gk_艺体质量'!$A$4:$A$53,B70),"") | K70: =IF(SUMIF('5.gk_超额目标'!B:B,B70,'5.gk_超额目标'!D:D)>0,SUMIF('5.gk_超额目标'!B:B,B70,'5.gk_超额目标'!D:D),"") | L70: =IF(SUMIF('6.gk_年级管理'!A:A,B70,'6.gk_年级管理'!D:D)>0,SUMIF('6.gk_年级管理'!A:A,B70,'6.gk_年级管理'!D:D),"") | M70: =SUM(G70:L70) -> 0 | N70: =F70+M70 -> 19173.295 | O70: =IF(P70="辞职发0.3",N70*0.3,N70) -> 19173.295
A71: 64 | B71: 马磊 | C71: =IF(SUMIF(高一质量奖!A:A,B71,高一质量奖!B:B)>0,SUMIF(高一质量奖!A:A,B71,高一质量奖!B:B),"") | D71: =IF(SUMIF(高二质量奖!A:A,B71,高二质量奖!B:B)>0,SUMIF(高二质量奖!A:A,B71,高二质量奖!B:B),"") | E71: =IF(SUMIF(高三质量奖!A:A,B71,高三质量奖!D:D)>0,SUMIF(高三质量奖!A:A,B71,高三质量奖!D:D),"") -> 13908.506 | F71: =SUM(C71:E71) -> 13908.506 | G71: =IF(SUMIFS('1.gk_工作量'!$M$4:$M$63,'1.gk_工作量'!$B$4:$B$63,B71)>0,SUMIFS('1.gk_工作量'!$M$4:$M$63,'1.gk_工作量'!$B$4:$B$63,B71),"") -> 17101.224 | H71: =IF(SUMIFS('2.gk_过程评价'!$C:$C,'2.gk_过程评价'!$A:$A,B71)>0,SUMIFS('2.gk_过程评价'!$C:$C,'2.gk_过程评价'!$A:$A,B71),"") -> 12948.479 | I71: =IF(SUMIF('3.gk_上线质量'!B:B,B71,'3.gk_上线质量'!D:D)<>0,SUMIF('3.gk_上线质量'!B:B,B71,'3.gk_上线质量'!D:D),"") -> 16442.283 | J71: =IF(SUMIFS('4.gk_艺体质量'!$E$4:$E$53,'4.gk_艺体质量'!$A$4:$A$53,B71)>0,SUMIFS('4.gk_艺体质量'!$E$4:$E$53,'4.gk_艺体质量'!$A$4:$A$53,B71),"") -> 1894.5332 | K71: =IF(SUMIF('5.gk_超额目标'!B:B,B71,'5.gk_超额目标'!D:D)>0,SUMIF('5.gk_超额目标'!B:B,B71,'5.gk_超额目标'!D:D),"") -> 767.48977 | L71: =IF(SUMIF('6.gk_年级管理'!A:A,B71,'6.gk_年级管理'!D:D)>0,SUMIF('6.gk_年级管理'!A:A,B71,'6.gk_年级管理'!D:D),"") -> 1004.3077 | M71: =SUM(G71:L71) -> 50158.316 | N71: =F71+M71 -> 64066.822 | O71: =IF(P71="辞职发0.3",N71*0.3,N71) -> 64066.822
A72: 65 | B72: 马巫各 | C72: =IF(SUMIF(高一质量奖!A:A,B72,高一质量奖!B:B)>0,SUMIF(高一质量奖!A:A,B72,高一质量奖!B:B),"") | D72: =IF(SUMIF(高二质量奖!A:A,B72,高二质量奖!B:B)>0,SUMIF(高二质量奖!A:A,B72,高二质量奖!B:B),"") -> 5367.9548 | E72: =IF(SUMIF(高三质量奖!A:A,B72,高三质量奖!D:D)>0,SUMIF(高三质量奖!A:A,B72,高三质量奖!D:D),"") | F72: =SUM(C72:E72) -> 5367.9548 | G72: =IF(SUMIFS('1.gk_工作量'!$M$4:$M$63,'1.gk_工作量'!$B$4:$B$63,B72)>0,SUMIFS('1.gk_工作量'!$M$4:$M$63,'1.gk_工作量'!$B$4:$B$63,B72),"") | H72: =IF(SUMIFS('2.gk_过程评价'!$C:$C,'2.gk_过程评价'!$A:$A,B72)>0,SUMIFS('2.gk_过程评价'!$C:$C,'2.gk_过程评价'!$A:$A,B72),"") | I72: =IF(SUMIF('3.gk_上线质量'!B:B,B72,'3.gk_上线质量'!D:D)<>0,SUMIF('3.gk_上线质量'!B:B,B72,'3.gk_上线质量'!D:D),"") | J72: =IF(SUMIFS('4.gk_艺体质量'!$E$4:$E$53,'4.gk_艺体质量'!$A$4:$A$53,B72)>0,SUMIFS('4.gk_艺体质量'!$E$4:$E$53,'4.gk_艺体质量'!$A$4:$A$53,B72),"") | K72: =IF(SUMIF('5.gk_超额目标'!B:B,B72,'5.gk_超额目标'!D:D)>0,SUMIF('5.gk_超额目标'!B:B,B72,'5.gk_超额目标'!D:D),"") | L72: =IF(SUMIF('6.gk_年级管理'!A:A,B72,'6.gk_年级管理'!D:D)>0,SUMIF('6.gk_年级管理'!A:A,B72,'6.gk_年级管理'!D:D),"") | M72: =SUM(G72:L72) -> 0 | N72: =F72+M72 -> 5367.9548 | O72: =IF(P72="辞职发0.3",N72*0.3,N72) -> 5367.9548
A73: 66 | B73: 梅桂斌 | C73: =IF(SUMIF(高一质量奖!A:A,B73,高一质量奖!B:B)>0,SUMIF(高一质量奖!A:A,B73,高一质量奖!B:B),"") | D73: =IF(SUMIF(高二质量奖!A:A,B73,高二质量奖!B:B)>0,SUMIF(高二质量奖!A:A,B73,高二质量奖!B:B),"") | E73: =IF(SUMIF(高三质量奖!A:A,B73,高三质量奖!D:D)>0,SUMIF(高三质量奖!A:A,B73,高三质量奖!D:D),"") | F73: =SUM(C73:E73) -> 0 | G73: =IF(SUMIFS('1.gk_工作量'!$M$4:$M$63,'1.gk_工作量'!$B$4:$B$63,B73)>0,SUMIFS('1.gk_工作量'!$M$4:$M$63,'1.gk_工作量'!$B$4:$B$63,B73),"") -> 3093.082 | H73: =IF(SUMIFS('2.gk_过程评价'!$C:$C,'2.gk_过程评价'!$A:$A,B73)>0,SUMIFS('2.gk_过程评价'!$C:$C,'2.gk_过程评价'!$A:$A,B73),"") -> 4252.6814 | I73: =IF(SUMIF('3.gk_上线质量'!B:B,B73,'3.gk_上线质量'!D:D)<>0,SUMIF('3.gk_上线质量'!B:B,B73,'3.gk_上线质量'!D:D),"") -> 426.66015 | J73: =IF(SUMIFS('4.gk_艺体质量'!$E$4:$E$53,'4.gk_艺体质量'!$A$4:$A$53,B73)>0,SUMIFS('4.gk_艺体质量'!$E$4:$E$53,'4.gk_艺体质量'!$A$4:$A$53,B73),"") -> 1420.8999 | K73: =IF(SUMIF('5.gk_超额目标'!B:B,B73,'5.gk_超额目标'!D:D)>0,SUMIF('5.gk_超额目标'!B:B,B73,'5.gk_超额目标'!D:D),"") -> 19.915561 | L73: =IF(SUMIF('6.gk_年级管理'!A:A,B73,'6.gk_年级管理'!D:D)>0,SUMIF('6.gk_年级管理'!A:A,B73,'6.gk_年级管理'!D:D),"") | M73: =SUM(G73:L73) -> 9213.239 | N73: =F73+M73 -> 9213.239 | O73: =IF(P73="辞职发0.3",N73*0.3,N73) -> 9213.239 | P73: 攀枝花支教
A74: 67 | B74: 米晓妹 | C74: =IF(SUMIF(高一质量奖!A:A,B74,高一质量奖!B:B)>0,SUMIF(高一质量奖!A:A,B74,高一质量奖!B:B),"") | D74: =IF(SUMIF(高二质量奖!A:A,B74,高二质量奖!B:B)>0,SUMIF(高二质量奖!A:A,B74,高二质量奖!B:B),"") -> 6378.1093 | E74: =IF(SUMIF(高三质量奖!A:A,B74,高三质量奖!D:D)>0,SUMIF(高三质量奖!A:A,B74,高三质量奖!D:D),"") | F74: =SUM(C74:E74) -> 6378.1093 | G74: =IF(SUMIFS('1.gk_工作量'!$M$4:$M$63,'1.gk_工作量'!$B$4:$B$63,B74)>0,SUMIFS('1.gk_工作量'!$M$4:$M$63,'1.gk_工作量'!$B$4:$B$63,B74),"") | H74: =IF(SUMIFS('2.gk_过程评价'!$C:$C,'2.gk_过程评价'!$A:$A,B74)>0,SUMIFS('2.gk_过程评价'!$C:$C,'2.gk_过程评价'!$A:$A,B74),"") | I74: =IF(SUMIF('3.gk_上线质量'!B:B,B74,'3.gk_上线质量'!D:D)<>0,SUMIF('3.gk_上线质量'!B:B,B74,'3.gk_上线质量'!D:D),"") -> 105.78351 | J74: =IF(SUMIFS('4.gk_艺体质量'!$E$4:$E$53,'4.gk_艺体质量'!$A$4:$A$53,B74)>0,SUMIFS('4.gk_艺体质量'!$E$4:$E$53,'4.gk_艺体质量'!$A$4:$A$53,B74),"") | K74: =IF(SUMIF('5.gk_超额目标'!B:B,B74,'5.gk_超额目标'!D:D)>0,SUMIF('5.gk_超额目标'!B:B,B74,'5.gk_超额目标'!D:D),"") -> 4.9377424 | L74: =IF(SUMIF('6.gk_年级管理'!A:A,B74,'6.gk_年级管理'!D:D)>0,SUMIF('6.gk_年级管理'!A:A,B74,'6.gk_年级管理'!D:D),"") | M74: =SUM(G74:L74) -> 110.72125 | N74: =F74+M74 -> 6488.8305 | O74: =IF(P74="辞职发0.3",N74*0.3,N74) -> 6488.8305
A75: 68 | B75: 尼玛布池 | C75: =IF(SUMIF(高一质量奖!A:A,B75,高一质量奖!B:B)>0,SUMIF(高一质量奖!A:A,B75,高一质量奖!B:B),"") | D75: =IF(SUMIF(高二质量奖!A:A,B75,高二质量奖!B:B)>0,SUMIF(高二质量奖!A:A,B75,高二质量奖!B:B),"") -> 5283.4675 | E75: =IF(SUMIF(高三质量奖!A:A,B75,高三质量奖!D:D)>0,SUMIF(高三质量奖!A:A,B75,高三质量奖!D:D),"") | F75: =SUM(C75:E75) -> 5283.4675 | G75: =IF(SUMIFS('1.gk_工作量'!$M$4:$M$63,'1.gk_工作量'!$B$4:$B$63,B75)>0,SUMIFS('1.gk_工作量'!$M$4:$M$63,'1.gk_工作量'!$B$4:$B$63,B75),"") | H75: =IF(SUMIFS('2.gk_过程评价'!$C:$C,'2.gk_过程评价'!$A:$A,B75)>0,SUMIFS('2.gk_过程评价'!$C:$C,'2.gk_过程评价'!$A:$A,B75),"") | I75: =IF(SUMIF('3.gk_上线质量'!B:B,B75,'3.gk_上线质量'!D:D)<>0,SUMIF('3.gk_上线质量'!B:B,B75,'3.gk_上线质量'!D:D),"") | J75: =IF(SUMIFS('4.gk_艺体质量'!$E$4:$E$53,'4.gk_艺体质量'!$A$4:$A$53,B75)>0,SUMIFS('4.gk_艺体质量'!$E$4:$E$53,'4.gk_艺体质量'!$A$4:$A$53,B75),"") | K75: =IF(SUMIF('5.gk_超额目标'!B:B,B75,'5.gk_超额目标'!D:D)>0,SUMIF('5.gk_超额目标'!B:B,B75,'5.gk_超额目标'!D:D),"") | L75: =IF(SUMIF('6.gk_年级管理'!A:A,B75,'6.gk_年级管理'!D:D)>0,SUMIF('6.gk_年级管理'!A:A,B75,'6.gk_年级管理'!D:D),"") | M75: =SUM(G75:L75) -> 0 | N75: =F75+M75 -> 5283.4675 | O75: =IF(P75="辞职发0.3",N75*0.3,N75) -> 5283.4675
A76: 69 | B76: 念六平 | C76: =IF(SUMIF(高一质量奖!A:A,B76,高一质量奖!B:B)>0,SUMIF(高一质量奖!A:A,B76,高一质量奖!B:B),"") -> 2606.4877 | D76: =IF(SUMIF(高二质量奖!A:A,B76,高二质量奖!B:B)>0,SUMIF(高二质量奖!A:A,B76,高二质量奖!B:B),"") | E76: =IF(SUMIF(高三质量奖!A:A,B76,高三质量奖!D:D)>0,SUMIF(高三质量奖!A:A,B76,高三质量奖!D:D),"") | F76: =SUM(C76:E76) -> 2606.4877 | G76: =IF(SUMIFS('1.gk_工作量'!$M$4:$M$63,'1.gk_工作量'!$B$4:$B$63,B76)>0,SUMIFS('1.gk_工作量'!$M$4:$M$63,'1.gk_工作量'!$B$4:$B$63,B76),"") | H76: =IF(SUMIFS('2.gk_过程评价'!$C:$C,'2.gk_过程评价'!$A:$A,B76)>0,SUMIFS('2.gk_过程评价'!$C:$C,'2.gk_过程评价'!$A:$A,B76),"") | I76: =IF(SUMIF('3.gk_上线质量'!B:B,B76,'3.gk_上线质量'!D:D)<>0,SUMIF('3.gk_上线质量'!B:B,B76,'3.gk_上线质量'!D:D),"") | J76: =IF(SUMIFS('4.gk_艺体质量'!$E$4:$E$53,'4.gk_艺体质量'!$A$4:$A$53,B76)>0,SUMIFS('4.gk_艺体质量'!$E$4:$E$53,'4.gk_艺体质量'!$A$4:$A$53,B76),"") | K76: =IF(SUMIF('5.gk_超额目标'!B:B,B76,'5.gk_超额目标'!D:D)>0,SUMIF('5.gk_超额目标'!B:B,B76,'5.gk_超额目标'!D:D),"") | L76: =IF(SUMIF('6.gk_年级管理'!A:A,B76,'6.gk_年级管理'!D:D)>0,SUMIF('6.gk_年级管理'!A:A,B76,'6.gk_年级管理'!D:D),"") | M76: =SUM(G76:L76) -> 0 | N76: =F76+M76 -> 2606.4877 | O76: =IF(P76="辞职发0.3",N76*0.3,N76) -> 2606.4877
A77: 70 | B77: 潘勇 | C77: =IF(SUMIF(高一质量奖!A:A,B77,高一质量奖!B:B)>0,SUMIF(高一质量奖!A:A,B77,高一质量奖!B:B),"") | D77: =IF(SUMIF(高二质量奖!A:A,B77,高二质量奖!B:B)>0,SUMIF(高二质量奖!A:A,B77,高二质量奖!B:B),"") -> 8674.7919 | E77: =IF(SUMIF(高三质量奖!A:A,B77,高三质量奖!D:D)>0,SUMIF(高三质量奖!A:A,B77,高三质量奖!D:D),"") -> 8666.021 | F77: =SUM(C77:E77) -> 17340.813 | G77: =IF(SUMIFS('1.gk_工作量'!$M$4:$M$63,'1.gk_工作量'!$B$4:$B$63,B77)>0,SUMIFS('1.gk_工作量'!$M$4:$M$63,'1.gk_工作量'!$B$4:$B$63,B77),"") | H77: =IF(SUMIFS('2.gk_过程评价'!$C:$C,'2.gk_过程评价'!$A:$A,B77)>0,SUMIFS('2.gk_过程评价'!$C:$C,'2.gk_过程评价'!$A:$A,B77),"") -> 4092.8037 | I77: =IF(SUMIF('3.gk_上线质量'!B:B,B77,'3.gk_上线质量'!D:D)<>0,SUMIF('3.gk_上线质量'!B:B,B77,'3.gk_上线质量'!D:D),"") -> 12517.715 | J77: =IF(SUMIFS('4.gk_艺体质量'!$E$4:$E$53,'4.gk_艺体质量'!$A$4:$A$53,B77)>0,SUMIFS('4.gk_艺体质量'!$E$4:$E$53,'4.gk_艺体质量'!$A$4:$A$53,B77),"") | K77: =IF(SUMIF('5.gk_超额目标'!B:B,B77,'5.gk_超额目标'!D:D)>0,SUMIF('5.gk_超额目标'!B:B,B77,'5.gk_超额目标'!D:D),"") -> 584.29952 | L77: =IF(SUMIF('6.gk_年级管理'!A:A,B77,'6.gk_年级管理'!D:D)>0,SUMIF('6.gk_年级管理'!A:A,B77,'6.gk_年级管理'!D:D),"") | M77: =SUM(G77:L77) -> 17194.818 | N77: =F77+M77 -> 34535.631 | O77: =IF(P77="辞职发0.3",N77*0.3,N77) -> 34535.631
A78: 71 | B78: 彭丹 | C78: =IF(SUMIF(高一质量奖!A:A,B78,高一质量奖!B:B)>0,SUMIF(高一质量奖!A:A,B78,高一质量奖!B:B),"") | D78: =IF(SUMIF(高二质量奖!A:A,B78,高二质量奖!B:B)>0,SUMIF(高二质量奖!A:A,B78,高二质量奖!B:B),"") -> 1952.6848 | E78: =IF(SUMIF(高三质量奖!A:A,B78,高三质量奖!D:D)>0,SUMIF(高三质量奖!A:A,B78,高三质量奖!D:D),"") | F78: =SUM(C78:E78) -> 1952.6848 | G78: =IF(SUMIFS('1.gk_工作量'!$M$4:$M$63,'1.gk_工作量'!$B$4:$B$63,B78)>0,SUMIFS('1.gk_工作量'!$M$4:$M$63,'1.gk_工作量'!$B$4:$B$63,B78),"") | H78: =IF(SUMIFS('2.gk_过程评价'!$C:$C,'2.gk_过程评价'!$A:$A,B78)>0,SUMIFS('2.gk_过程评价'!$C:$C,'2.gk_过程评价'!$A:$A,B78),"") | I78: =IF(SUMIF('3.gk_上线质量'!B:B,B78,'3.gk_上线质量'!D:D)<>0,SUMIF('3.gk_上线质量'!B:B,B78,'3.gk_上线质量'!D:D),"") | J78: =IF(SUMIFS('4.gk_艺体质量'!$E$4:$E$53,'4.gk_艺体质量'!$A$4:$A$53,B78)>0,SUMIFS('4.gk_艺体质量'!$E$4:$E$53,'4.gk_艺体质量'!$A$4:$A$53,B78),"") | K78: =IF(SUMIF('5.gk_超额目标'!B:B,B78,'5.gk_超额目标'!D:D)>0,SUMIF('5.gk_超额目标'!B:B,B78,'5.gk_超额目标'!D:D),"") | L78: =IF(SUMIF('6.gk_年级管理'!A:A,B78,'6.gk_年级管理'!D:D)>0,SUMIF('6.gk_年级管理'!A:A,B78,'6.gk_年级管理'!D:D),"") | M78: =SUM(G78:L78) -> 0 | N78: =F78+M78 -> 1952.6848 | O78: =IF(P78="辞职发0.3",N78*0.3,N78) -> 1952.6848
A79: 72 | B79: 彭桦 | C79: =IF(SUMIF(高一质量奖!A:A,B79,高一质量奖!B:B)>0,SUMIF(高一质量奖!A:A,B79,高一质量奖!B:B),"") | D79: =IF(SUMIF(高二质量奖!A:A,B79,高二质量奖!B:B)>0,SUMIF(高二质量奖!A:A,B79,高二质量奖!B:B),"") -> 3000.5179 | E79: =IF(SUMIF(高三质量奖!A:A,B79,高三质量奖!D:D)>0,SUMIF(高三质量奖!A:A,B79,高三质量奖!D:D),"") | F79: =SUM(C79:E79) -> 3000.5179 | G79: =IF(SUMIFS('1.gk_工作量'!$M$4:$M$63,'1.gk_工作量'!$B$4:$B$63,B79)>0,SUMIFS('1.gk_工作量'!$M$4:$M$63,'1.gk_工作量'!$B$4:$B$63,B79),"") | H79: =IF(SUMIFS('2.gk_过程评价'!$C:$C,'2.gk_过程评价'!$A:$A,B79)>0,SUMIFS('2.gk_过程评价'!$C:$C,'2.gk_过程评价'!$A:$A,B79),"") | I79: =IF(SUMIF('3.gk_上线质量'!B:B,B79,'3.gk_上线质量'!D:D)<>0,SUMIF('3.gk_上线质量'!B:B,B79,'3.gk_上线质量'!D:D),"") | J79: =IF(SUMIFS('4.gk_艺体质量'!$E$4:$E$53,'4.gk_艺体质量'!$A$4:$A$53,B79)>0,SUMIFS('4.gk_艺体质量'!$E$4:$E$53,'4.gk_艺体质量'!$A$4:$A$53,B79),"") | K79: =IF(SUMIF('5.gk_超额目标'!B:B,B79,'5.gk_超额目标'!D:D)>0,SUMIF('5.gk_超额目标'!B:B,B79,'5.gk_超额目标'!D:D),"") | L79: =IF(SUMIF('6.gk_年级管理'!A:A,B79,'6.gk_年级管理'!D:D)>0,SUMIF('6.gk_年级管理'!A:A,B79,'6.gk_年级管理'!D:D),"") | M79: =SUM(G79:L79) -> 0 | N79: =F79+M79 -> 3000.5179 | O79: =IF(P79="辞职发0.3",N79*0.3,N79) -> 3000.5179
A80: 73 | B80: 浦恩玲 | C80: =IF(SUMIF(高一质量奖!A:A,B80,高一质量奖!B:B)>0,SUMIF(高一质量奖!A:A,B80,高一质量奖!B:B),"") | D80: =IF(SUMIF(高二质量奖!A:A,B80,高二质量奖!B:B)>0,SUMIF(高二质量奖!A:A,B80,高二质量奖!B:B),"") -> 2053.9996 | E80: =IF(SUMIF(高三质量奖!A:A,B80,高三质量奖!D:D)>0,SUMIF(高三质量奖!A:A,B80,高三质量奖!D:D),"") | F80: =SUM(C80:E80) -> 2053.9996 | G80: =IF(SUMIFS('1.gk_工作量'!$M$4:$M$63,'1.gk_工作量'!$B$4:$B$63,B80)>0,SUMIFS('1.gk_工作量'!$M$4:$M$63,'1.gk_工作量'!$B$4:$B$63,B80),"") | H80: =IF(SUMIFS('2.gk_过程评价'!$C:$C,'2.gk_过程评价'!$A:$A,B80)>0,SUMIFS('2.gk_过程评价'!$C:$C,'2.gk_过程评价'!$A:$A,B80),"") | I80: =IF(SUMIF('3.gk_上线质量'!B:B,B80,'3.gk_上线质量'!D:D)<>0,SUMIF('3.gk_上线质量'!B:B,B80,'3.gk_上线质量'!D:D),"") | J80: =IF(SUMIFS('4.gk_艺体质量'!$E$4:$E$53,'4.gk_艺体质量'!$A$4:$A$53,B80)>0,SUMIFS('4.gk_艺体质量'!$E$4:$E$53,'4.gk_艺体质量'!$A$4:$A$53,B80),"") | K80: =IF(SUMIF('5.gk_超额目标'!B:B,B80,'5.gk_超额目标'!D:D)>0,SUMIF('5.gk_超额目标'!B:B,B80,'5.gk_超额目标'!D:D),"") | L80: =IF(SUMIF('6.gk_年级管理'!A:A,B80,'6.gk_年级管理'!D:D)>0,SUMIF('6.gk_年级管理'!A:A,B80,'6.gk_年级管理'!D:D),"") | M80: =SUM(G80:L80) -> 0 | N80: =F80+M80 -> 2053.9996 | O80: =IF(P80="辞职发0.3",N80*0.3,N80) -> 2053.9996
A81: 74 | B81: 邱君益 | C81: =IF(SUMIF(高一质量奖!A:A,B81,高一质量奖!B:B)>0,SUMIF(高一质量奖!A:A,B81,高一质量奖!B:B),"") | D81: =IF(SUMIF(高二质量奖!A:A,B81,高二质量奖!B:B)>0,SUMIF(高二质量奖!A:A,B81,高二质量奖!B:B),"") -> 5093.5912 | E81: =IF(SUMIF(高三质量奖!A:A,B81,高三质量奖!D:D)>0,SUMIF(高三质量奖!A:A,B81,高三质量奖!D:D),"") | F81: =SUM(C81:E81) -> 5093.5912 | G81: =IF(SUMIFS('1.gk_工作量'!$M$4:$M$63,'1.gk_工作量'!$B$4:$B$63,B81)>0,SUMIFS('1.gk_工作量'!$M$4:$M$63,'1.gk_工作量'!$B$4:$B$63,B81),"") -> 2968.5675 | H81: =IF(SUMIFS('2.gk_过程评价'!$C:$C,'2.gk_过程评价'!$A:$A,B81)>0,SUMIFS('2.gk_过程评价'!$C:$C,'2.gk_过程评价'!$A:$A,B81),"") -> 4187.0671 | I81: =IF(SUMIF('3.gk_上线质量'!B:B,B81,'3.gk_上线质量'!D:D)<>0,SUMIF('3.gk_上线质量'!B:B,B81,'3.gk_上线质量'!D:D),"") -> -8.8152923 | J81: =IF(SUMIFS('4.gk_艺体质量'!$E$4:$E$53,'4.gk_艺体质量'!$A$4:$A$53,B81)>0,SUMIFS('4.gk_艺体质量'!$E$4:$E$53,'4.gk_艺体质量'!$A$4:$A$53,B81),"") -> 2991.3682 | K81: =IF(SUMIF('5.gk_超额目标'!B:B,B81,'5.gk_超额目标'!D:D)>0,SUMIF('5.gk_超额目标'!B:B,B81,'5.gk_超额目标'!D:D),"") | L81: =IF(SUMIF('6.gk_年级管理'!A:A,B81,'6.gk_年级管理'!D:D)>0,SUMIF('6.gk_年级管理'!A:A,B81,'6.gk_年级管理'!D:D),"") -> 1305.6 | M81: =SUM(G81:L81) -> 11443.787 | N81: =F81+M81 -> 16537.379 | O81: =IF(P81="辞职发0.3",N81*0.3,N81) -> 16537.379 | P81: 棠湖中学支教
A82: 75 | B82: 邱宗兰 | C82: =IF(SUMIF(高一质量奖!A:A,B82,高一质量奖!B:B)>0,SUMIF(高一质量奖!A:A,B82,高一质量奖!B:B),"") | D82: =IF(SUMIF(高二质量奖!A:A,B82,高二质量奖!B:B)>0,SUMIF(高二质量奖!A:A,B82,高二质量奖!B:B),"") | E82: =IF(SUMIF(高三质量奖!A:A,B82,高三质量奖!D:D)>0,SUMIF(高三质量奖!A:A,B82,高三质量奖!D:D),"") -> 2294.1155 | F82: =SUM(C82:E82) -> 2294.1155 | G82: =IF(SUMIFS('1.gk_工作量'!$M$4:$M$63,'1.gk_工作量'!$B$4:$B$63,B82)>0,SUMIFS('1.gk_工作量'!$M$4:$M$63,'1.gk_工作量'!$B$4:$B$63,B82),"") -> 6787.5388 | H82: =IF(SUMIFS('2.gk_过程评价'!$C:$C,'2.gk_过程评价'!$A:$A,B82)>0,SUMIFS('2.gk_过程评价'!$C:$C,'2.gk_过程评价'!$A:$A,B82),"") -> 8433.44 | I82: =IF(SUMIF('3.gk_上线质量'!B:B,B82,'3.gk_上线质量'!D:D)<>0,SUMIF('3.gk_上线质量'!B:B,B82,'3.gk_上线质量'!D:D),"") -> 2979.5688 | J82: =IF(SUMIFS('4.gk_艺体质量'!$E$4:$E$53,'4.gk_艺体质量'!$A$4:$A$53,B82)>0,SUMIFS('4.gk_艺体质量'!$E$4:$E$53,'4.gk_艺体质量'!$A$4:$A$53,B82),"") -> 860.01835 | K82: =IF(SUMIF('5.gk_超额目标'!B:B,B82,'5.gk_超额目标'!D:D)>0,SUMIF('5.gk_超额目标'!B:B,B82,'5.gk_超额目标'!D:D),"") -> 139.07975 | L82: =IF(SUMIF('6.gk_年级管理'!A:A,B82,'6.gk_年级管理'!D:D)>0,SUMIF('6.gk_年级管理'!A:A,B82,'6.gk_年级管理'!D:D),"") | M82: =SUM(G82:L82) -> 19199.646 | N82: =F82+M82 -> 21493.761 | O82: =IF(P82="辞职发0.3",N82*0.3,N82) -> 21493.761
A83: 76 | B83: 群群 | C83: =IF(SUMIF(高一质量奖!A:A,B83,高一质量奖!B:B)>0,SUMIF(高一质量奖!A:A,B83,高一质量奖!B:B),"") -> 5071.5714 | D83: =IF(SUMIF(高二质量奖!A:A,B83,高二质量奖!B:B)>0,SUMIF(高二质量奖!A:A,B83,高二质量奖!B:B),"") | E83: =IF(SUMIF(高三质量奖!A:A,B83,高三质量奖!D:D)>0,SUMIF(高三质量奖!A:A,B83,高三质量奖!D:D),"") | F83: =SUM(C83:E83) -> 5071.5714 | G83: =IF(SUMIFS('1.gk_工作量'!$M$4:$M$63,'1.gk_工作量'!$B$4:$B$63,B83)>0,SUMIFS('1.gk_工作量'!$M$4:$M$63,'1.gk_工作量'!$B$4:$B$63,B83),"") | H83: =IF(SUMIFS('2.gk_过程评价'!$C:$C,'2.gk_过程评价'!$A:$A,B83)>0,SUMIFS('2.gk_过程评价'!$C:$C,'2.gk_过程评价'!$A:$A,B83),"") | I83: =IF(SUMIF('3.gk_上线质量'!B:B,B83,'3.gk_上线质量'!D:D)<>0,SUMIF('3.gk_上线质量'!B:B,B83,'3.gk_上线质量'!D:D),"") | J83: =IF(SUMIFS('4.gk_艺体质量'!$E$4:$E$53,'4.gk_艺体质量'!$A$4:$A$53,B83)>0,SUMIFS('4.gk_艺体质量'!$E$4:$E$53,'4.gk_艺体质量'!$A$4:$A$53,B83),"") | K83: =IF(SUMIF('5.gk_超额目标'!B:B,B83,'5.gk_超额目标'!D:D)>0,SUMIF('5.gk_超额目标'!B:B,B83,'5.gk_超额目标'!D:D),"") | L83: =IF(SUMIF('6.gk_年级管理'!A:A,B83,'6.gk_年级管理'!D:D)>0,SUMIF('6.gk_年级管理'!A:A,B83,'6.gk_年级管理'!D:D),"") | M83: =SUM(G83:L83) -> 0 | N83: =F83+M83 -> 5071.5714 | O83: =IF(P83="辞职发0.3",N83*0.3,N83) -> 5071.5714
A84: 77 | B84: 仁青拉初 | C84: =IF(SUMIF(高一质量奖!A:A,B84,高一质量奖!B:B)>0,SUMIF(高一质量奖!A:A,B84,高一质量奖!B:B),"") -> 1045.0336 | D84: =IF(SUMIF(高二质量奖!A:A,B84,高二质量奖!B:B)>0,SUMIF(高二质量奖!A:A,B84,高二质量奖!B:B),"") | E84: =IF(SUMIF(高三质量奖!A:A,B84,高三质量奖!D:D)>0,SUMIF(高三质量奖!A:A,B84,高三质量奖!D:D),"") | F84: =SUM(C84:E84) -> 1045.0336 | G84: =IF(SUMIFS('1.gk_工作量'!$M$4:$M$63,'1.gk_工作量'!$B$4:$B$63,B84)>0,SUMIFS('1.gk_工作量'!$M$4:$M$63,'1.gk_工作量'!$B$4:$B$63,B84),"") | H84: =IF(SUMIFS('2.gk_过程评价'!$C:$C,'2.gk_过程评价'!$A:$A,B84)>0,SUMIFS('2.gk_过程评价'!$C:$C,'2.gk_过程评价'!$A:$A,B84),"") | I84: =IF(SUMIF('3.gk_上线质量'!B:B,B84,'3.gk_上线质量'!D:D)<>0,SUMIF('3.gk_上线质量'!B:B,B84,'3.gk_上线质量'!D:D),"") | J84: =IF(SUMIFS('4.gk_艺体质量'!$E$4:$E$53,'4.gk_艺体质量'!$A$4:$A$53,B84)>0,SUMIFS('4.gk_艺体质量'!$E$4:$E$53,'4.gk_艺体质量'!$A$4:$A$53,B84),"") | K84: =IF(SUMIF('5.gk_超额目标'!B:B,B84,'5.gk_超额目标'!D:D)>0,SUMIF('5.gk_超额目标'!B:B,B84,'5.gk_超额目标'!D:D),"") | L84: =IF(SUMIF('6.gk_年级管理'!A:A,B84,'6.gk_年级管理'!D:D)>0,SUMIF('6.gk_年级管理'!A:A,B84,'6.gk_年级管理'!D:D),"") | M84: =SUM(G84:L84) -> 0 | N84: =F84+M84 -> 1045.0336 | O84: =IF(P84="辞职发0.3",N84*0.3,N84) -> 1045.0336 | P84: 政治老师
A85: 78 | B85: 任吉洪 | C85: =IF(SUMIF(高一质量奖!A:A,B85,高一质量奖!B:B)>0,SUMIF(高一质量奖!A:A,B85,高一质量奖!B:B),"") | D85: =IF(SUMIF(高二质量奖!A:A,B85,高二质量奖!B:B)>0,SUMIF(高二质量奖!A:A,B85,高二质量奖!B:B),"") | E85: =IF(SUMIF(高三质量奖!A:A,B85,高三质量奖!D:D)>0,SUMIF(高三质量奖!A:A,B85,高三质量奖!D:D),"") -> 11056.623 | F85: =SUM(C85:E85) -> 11056.623 | G85: =IF(SUMIFS('1.gk_工作量'!$M$4:$M$63,'1.gk_工作量'!$B$4:$B$63,B85)>0,SUMIFS('1.gk_工作量'!$M$4:$M$63,'1.gk_工作量'!$B$4:$B$63,B85),"") -> 12647.203 | H85: =IF(SUMIFS('2.gk_过程评价'!$C:$C,'2.gk_过程评价'!$A:$A,B85)>0,SUMIFS('2.gk_过程评价'!$C:$C,'2.gk_过程评价'!$A:$A,B85),"") -> 12772.33 | I85: =IF(SUMIF('3.gk_上线质量'!B:B,B85,'3.gk_上线质量'!D:D)<>0,SUMIF('3.gk_上线质量'!B:B,B85,'3.gk_上线质量'!D:D),"") -> 34132.812 | J85: =IF(SUMIFS('4.gk_艺体质量'!$E$4:$E$53,'4.gk_艺体质量'!$A$4:$A$53,B85)>0,SUMIFS('4.gk_艺体质量'!$E$4:$E$53,'4.gk_艺体质量'!$A$4:$A$53,B85),"") | K85: =IF(SUMIF('5.gk_超额目标'!B:B,B85,'5.gk_超额目标'!D:D)>0,SUMIF('5.gk_超额目标'!B:B,B85,'5.gk_超额目标'!D:D),"") -> 1593.2449 | L85: =IF(SUMIF('6.gk_年级管理'!A:A,B85,'6.gk_年级管理'!D:D)>0,SUMIF('6.gk_年级管理'!A:A,B85,'6.gk_年级管理'!D:D),"") -> 2309.9077 | M85: =SUM(G85:L85) -> 63455.497 | N85: =F85+M85 -> 74512.12 | O85: =IF(P85="辞职发0.3",N85*0.3,N85) -> 74512.12
A86: 79 | B86: 沙华莺 | C86: =IF(SUMIF(高一质量奖!A:A,B86,高一质量奖!B:B)>0,SUMIF(高一质量奖!A:A,B86,高一质量奖!B:B),"") | D86: =IF(SUMIF(高二质量奖!A:A,B86,高二质量奖!B:B)>0,SUMIF(高二质量奖!A:A,B86,高二质量奖!B:B),"") | E86: =IF(SUMIF(高三质量奖!A:A,B86,高三质量奖!D:D)>0,SUMIF(高三质量奖!A:A,B86,高三质量奖!D:D),"") -> 1445.715 | F86: =SUM(C86:E86) -> 1445.715 | G86: =IF(SUMIFS('1.gk_工作量'!$M$4:$M$63,'1.gk_工作量'!$B$4:$B$63,B86)>0,SUMIFS('1.gk_工作量'!$M$4:$M$63,'1.gk_工作量'!$B$4:$B$63,B86),"") -> 13030.661 | H86: =IF(SUMIFS('2.gk_过程评价'!$C:$C,'2.gk_过程评价'!$A:$A,B86)>0,SUMIFS('2.gk_过程评价'!$C:$C,'2.gk_过程评价'!$A:$A,B86),"") -> 12871.097 | I86: =IF(SUMIF('3.gk_上线质量'!B:B,B86,'3.gk_上线质量'!D:D)<>0,SUMIF('3.gk_上线质量'!B:B,B86,'3.gk_上线质量'!D:D),"") -> 10786.392 | J86: =IF(SUMIFS('4.gk_艺体质量'!$E$4:$E$53,'4.gk_艺体质量'!$A$4:$A$53,B86)>0,SUMIFS('4.gk_艺体质量'!$E$4:$E$53,'4.gk_艺体质量'!$A$4:$A$53,B86),"") -> 8151.4783 | K86: =IF(SUMIF('5.gk_超额目标'!B:B,B86,'5.gk_超额目标'!D:D)>0,SUMIF('5.gk_超额目标'!B:B,B86,'5.gk_超额目标'!D:D),"") -> 503.48514 | L86: =IF(SUMIF('6.gk_年级管理'!A:A,B86,'6.gk_年级管理'!D:D)>0,SUMIF('6.gk_年级管理'!A:A,B86,'6.gk_年级管理'!D:D),"") | M86: =SUM(G86:L86) -> 45343.113 | N86: =F86+M86 -> 46788.828 | O86: =IF(P86="辞职发0.3",N86*0.3,N86) -> 46788.828
A87: 80 | B87: 沙正芳 | C87: =IF(SUMIF(高一质量奖!A:A,B87,高一质量奖!B:B)>0,SUMIF(高一质量奖!A:A,B87,高一质量奖!B:B),"") | D87: =IF(SUMIF(高二质量奖!A:A,B87,高二质量奖!B:B)>0,SUMIF(高二质量奖!A:A,B87,高二质量奖!B:B),"") | E87: =IF(SUMIF(高三质量奖!A:A,B87,高三质量奖!D:D)>0,SUMIF(高三质量奖!A:A,B87,高三质量奖!D:D),"") -> 12114.867 | F87: =SUM(C87:E87) -> 12114.867 | G87: =IF(SUMIFS('1.gk_工作量'!$M$4:$M$63,'1.gk_工作量'!$B$4:$B$63,B87)>0,SUMIFS('1.gk_工作量'!$M$4:$M$63,'1.gk_工作量'!$B$4:$B$63,B87),"") -> 11417.584 | H87: =IF(SUMIFS('2.gk_过程评价'!$C:$C,'2.gk_过程评价'!$A:$A,B87)>0,SUMIFS('2.gk_过程评价'!$C:$C,'2.gk_过程评价'!$A:$A,B87),"") -> 10581.448 | I87: =IF(SUMIF('3.gk_上线质量'!B:B,B87,'3.gk_上线质量'!D:D)<>0,SUMIF('3.gk_上线质量'!B:B,B87,'3.gk_上线质量'!D:D),"") -> 2408.3379 | J87: =IF(SUMIFS('4.gk_艺体质量'!$E$4:$E$53,'4.gk_艺体质量'!$A$4:$A$53,B87)>0,SUMIFS('4.gk_艺体质量'!$E$4:$E$53,'4.gk_艺体质量'!$A$4:$A$53,B87),"") -> 12189.825 | K87: =IF(SUMIF('5.gk_超额目标'!B:B,B87,'5.gk_超额目标'!D:D)>0,SUMIF('5.gk_超额目标'!B:B,B87,'5.gk_超额目标'!D:D),"") -> 112.41594 | L87: =IF(SUMIF('6.gk_年级管理'!A:A,B87,'6.gk_年级管理'!D:D)>0,SUMIF('6.gk_年级管理'!A:A,B87,'6.gk_年级管理'!D:D),"") | M87: =SUM(G87:L87) -> 36709.612 | N87: =F87+M87 -> 48824.479 | O87: =IF(P87="辞职发0.3",N87*0.3,N87) -> 48824.479
A88: 81 | B88: 申海冰 | C88: =IF(SUMIF(高一质量奖!A:A,B88,高一质量奖!B:B)>0,SUMIF(高一质量奖!A:A,B88,高一质量奖!B:B),"") | D88: =IF(SUMIF(高二质量奖!A:A,B88,高二质量奖!B:B)>0,SUMIF(高二质量奖!A:A,B88,高二质量奖!B:B),"") | E88: =IF(SUMIF(高三质量奖!A:A,B88,高三质量奖!D:D)>0,SUMIF(高三质量奖!A:A,B88,高三质量奖!D:D),"") | F88: =SUM(C88:E88) -> 0 | G88: =IF(SUMIFS('1.gk_工作量'!$M$4:$M$63,'1.gk_工作量'!$B$4:$B$63,B88)>0,SUMIFS('1.gk_工作量'!$M$4:$M$63,'1.gk_工作量'!$B$4:$B$63,B88),"") -> 11770.824 | H88: =IF(SUMIFS('2.gk_过程评价'!$C:$C,'2.gk_过程评价'!$A:$A,B88)>0,SUMIFS('2.gk_过程评价'!$C:$C,'2.gk_过程评价'!$A:$A,B88),"") | I88: =IF(SUMIF('3.gk_上线质量'!B:B,B88,'3.gk_上线质量'!D:D)<>0,SUMIF('3.gk_上线质量'!B:B,B88,'3.gk_上线质量'!D:D),"") | J88: =IF(SUMIFS('4.gk_艺体质量'!$E$4:$E$53,'4.gk_艺体质量'!$A$4:$A$53,B88)>0,SUMIFS('4.gk_艺体质量'!$E$4:$E$53,'4.gk_艺体质量'!$A$4:$A$53,B88),"") -> 39500 | K88: =IF(SUMIF('5.gk_超额目标'!B:B,B88,'5.gk_超额目标'!D:D)>0,SUMIF('5.gk_超额目标'!B:B,B88,'5.gk_超额目标'!D:D),"") | L88: =IF(SUMIF('6.gk_年级管理'!A:A,B88,'6.gk_年级管理'!D:D)>0,SUMIF('6.gk_年级管理'!A:A,B88,'6.gk_年级管理'!D:D),"") | M88: =SUM(G88:L88) -> 51270.824 | N88: =F88+M88 -> 51270.824 | O88: =IF(P88="辞职发0.3",N88*0.3,N88) -> 51270.824
A89: 82 | B89: 石敏 | C89: =IF(SUMIF(高一质量奖!A:A,B89,高一质量奖!B:B)>0,SUMIF(高一质量奖!A:A,B89,高一质量奖!B:B),"") | D89: =IF(SUMIF(高二质量奖!A:A,B89,高二质量奖!B:B)>0,SUMIF(高二质量奖!A:A,B89,高二质量奖!B:B),"") -> 1120.0435 | E89: =IF(SUMIF(高三质量奖!A:A,B89,高三质量奖!D:D)>0,SUMIF(高三质量奖!A:A,B89,高三质量奖!D:D),"") | F89: =SUM(C89:E89) -> 1120.0435 | G89: =IF(SUMIFS('1.gk_工作量'!$M$4:$M$63,'1.gk_工作量'!$B$4:$B$63,B89)>0,SUMIFS('1.gk_工作量'!$M$4:$M$63,'1.gk_工作量'!$B$4:$B$63,B89),"") | H89: =IF(SUMIFS('2.gk_过程评价'!$C:$C,'2.gk_过程评价'!$A:$A,B89)>0,SUMIFS('2.gk_过程评价'!$C:$C,'2.gk_过程评价'!$A:$A,B89),"") | I89: =IF(SUMIF('3.gk_上线质量'!B:B,B89,'3.gk_上线质量'!D:D)<>0,SUMIF('3.gk_上线质量'!B:B,B89,'3.gk_上线质量'!D:D),"") | J89: =IF(SUMIFS('4.gk_艺体质量'!$E$4:$E$53,'4.gk_艺体质量'!$A$4:$A$53,B89)>0,SUMIFS('4.gk_艺体质量'!$E$4:$E$53,'4.gk_艺体质量'!$A$4:$A$53,B89),"") | K89: =IF(SUMIF('5.gk_超额目标'!B:B,B89,'5.gk_超额目标'!D:D)>0,SUMIF('5.gk_超额目标'!B:B,B89,'5.gk_超额目标'!D:D),"") | L89: =IF(SUMIF('6.gk_年级管理'!A:A,B89,'6.gk_年级管理'!D:D)>0,SUMIF('6.gk_年级管理'!A:A,B89,'6.gk_年级管理'!D:D),"") | M89: =SUM(G89:L89) -> 0 | N89: =F89+M89 -> 1120.0435 | O89: =IF(P89="辞职发0.3",N89*0.3,N89) -> 1120.0435
A90: 83 | B90: 苏朗偏初 | C90: =IF(SUMIF(高一质量奖!A:A,B90,高一质量奖!B:B)>0,SUMIF(高一质量奖!A:A,B90,高一质量奖!B:B),"") | D90: =IF(SUMIF(高二质量奖!A:A,B90,高二质量奖!B:B)>0,SUMIF(高二质量奖!A:A,B90,高二质量奖!B:B),"") | E90: =IF(SUMIF(高三质量奖!A:A,B90,高三质量奖!D:D)>0,SUMIF(高三质量奖!A:A,B90,高三质量奖!D:D),"") -> 8525.2159 | F90: =SUM(C90:E90) -> 8525.2159 | G90: =IF(SUMIFS('1.gk_工作量'!$M$4:$M$63,'1.gk_工作量'!$B$4:$B$63,B90)>0,SUMIFS('1.gk_工作量'!$M$4:$M$63,'1.gk_工作量'!$B$4:$B$63,B90),"") -> 17601.224 | H90: =IF(SUMIFS('2.gk_过程评价'!$C:$C,'2.gk_过程评价'!$A:$A,B90)>0,SUMIFS('2.gk_过程评价'!$C:$C,'2.gk_过程评价'!$A:$A,B90),"") -> 13027.096 | I90: =IF(SUMIF('3.gk_上线质量'!B:B,B90,'3.gk_上线质量'!D:D)<>0,SUMIF('3.gk_上线质量'!B:B,B90,'3.gk_上线质量'!D:D),"") -> 10483.146 | J90: =IF(SUMIFS('4.gk_艺体质量'!$E$4:$E$53,'4.gk_艺体质量'!$A$4:$A$53,B90)>0,SUMIFS('4.gk_艺体质量'!$E$4:$E$53,'4.gk_艺体质量'!$A$4:$A$53,B90),"") -> 9846.5869 | K90: =IF(SUMIF('5.gk_超额目标'!B:B,B90,'5.gk_超额目标'!D:D)>0,SUMIF('5.gk_超额目标'!B:B,B90,'5.gk_超额目标'!D:D),"") -> 489.33028 | L90: =IF(SUMIF('6.gk_年级管理'!A:A,B90,'6.gk_年级管理'!D:D)>0,SUMIF('6.gk_年级管理'!A:A,B90,'6.gk_年级管理'!D:D),"") -> 3746.0677 | M90: =SUM(G90:L90) -> 55193.45 | N90: =F90+M90 -> 63718.666 | O90: =IF(P90="辞职发0.3",N90*0.3,N90) -> 63718.666
A91: 84 | B91: 田友米 | C91: =IF(SUMIF(高一质量奖!A:A,B91,高一质量奖!B:B)>0,SUMIF(高一质量奖!A:A,B91,高一质量奖!B:B),"") | D91: =IF(SUMIF(高二质量奖!A:A,B91,高二质量奖!B:B)>0,SUMIF(高二质量奖!A:A,B91,高二质量奖!B:B),"") | E91: =IF(SUMIF(高三质量奖!A:A,B91,高三质量奖!D:D)>0,SUMIF(高三质量奖!A:A,B91,高三质量奖!D:D),"") -> 13560.333 | F91: =SUM(C91:E91) -> 13560.333 | G91: =IF(SUMIFS('1.gk_工作量'!$M$4:$M$63,'1.gk_工作量'!$B$4:$B$63,B91)>0,SUMIFS('1.gk_工作量'!$M$4:$M$63,'1.gk_工作量'!$B$4:$B$63,B91),"") -> 15270.938 | H91: =IF(SUMIFS('2.gk_过程评价'!$C:$C,'2.gk_过程评价'!$A:$A,B91)>0,SUMIFS('2.gk_过程评价'!$C:$C,'2.gk_过程评价'!$A:$A,B91),"") -> 12579.228 | I91: =IF(SUMIF('3.gk_上线质量'!B:B,B91,'3.gk_上线质量'!D:D)<>0,SUMIF('3.gk_上线质量'!B:B,B91,'3.gk_上线质量'!D:D),"") -> 39716.418 | J91: =IF(SUMIFS('4.gk_艺体质量'!$E$4:$E$53,'4.gk_艺体质量'!$A$4:$A$53,B91)>0,SUMIFS('4.gk_艺体质量'!$E$4:$E$53,'4.gk_艺体质量'!$A$4:$A$53,B91),"") -> 598.27363 | K91: =IF(SUMIF('5.gk_超额目标'!B:B,B91,'5.gk_超额目标'!D:D)>0,SUMIF('5.gk_超额目标'!B:B,B91,'5.gk_超额目标'!D:D),"") -> 1853.8754 | L91: =IF(SUMIF('6.gk_年级管理'!A:A,B91,'6.gk_年级管理'!D:D)>0,SUMIF('6.gk_年级管理'!A:A,B91,'6.gk_年级管理'!D:D),"") -> 2309.9077 | M91: =SUM(G91:L91) -> 72328.641 | N91: =F91+M91 -> 85888.974 | O91: =IF(P91="辞职发0.3",N91*0.3,N91) -> 85888.974
A92: 85 | B92: 王德兵 | C92: =IF(SUMIF(高一质量奖!A:A,B92,高一质量奖!B:B)>0,SUMIF(高一质量奖!A:A,B92,高一质量奖!B:B),"") -> 1569.9252 | D92: =IF(SUMIF(高二质量奖!A:A,B92,高二质量奖!B:B)>0,SUMIF(高二质量奖!A:A,B92,高二质量奖!B:B),"") | E92: =IF(SUMIF(高三质量奖!A:A,B92,高三质量奖!D:D)>0,SUMIF(高三质量奖!A:A,B92,高三质量奖!D:D),"") | F92: =SUM(C92:E92) -> 1569.9252 | G92: =IF(SUMIFS('1.gk_工作量'!$M$4:$M$63,'1.gk_工作量'!$B$4:$B$63,B92)>0,SUMIFS('1.gk_工作量'!$M$4:$M$63,'1.gk_工作量'!$B$4:$B$63,B92),"") | H92: =IF(SUMIFS('2.gk_过程评价'!$C:$C,'2.gk_过程评价'!$A:$A,B92)>0,SUMIFS('2.gk_过程评价'!$C:$C,'2.gk_过程评价'!$A:$A,B92),"") | I92: =IF(SUMIF('3.gk_上线质量'!B:B,B92,'3.gk_上线质量'!D:D)<>0,SUMIF('3.gk_上线质量'!B:B,B92,'3.gk_上线质量'!D:D),"") | J92: =IF(SUMIFS('4.gk_艺体质量'!$E$4:$E$53,'4.gk_艺体质量'!$A$4:$A$53,B92)>0,SUMIFS('4.gk_艺体质量'!$E$4:$E$53,'4.gk_艺体质量'!$A$4:$A$53,B92),"") | K92: =IF(SUMIF('5.gk_超额目标'!B:B,B92,'5.gk_超额目标'!D:D)>0,SUMIF('5.gk_超额目标'!B:B,B92,'5.gk_超额目标'!D:D),"") | L92: =IF(SUMIF('6.gk_年级管理'!A:A,B92,'6.gk_年级管理'!D:D)>0,SUMIF('6.gk_年级管理'!A:A,B92,'6.gk_年级管理'!D:D),"") | M92: =SUM(G92:L92) -> 0 | N92: =F92+M92 -> 1569.9252 | O92: =IF(P92="辞职发0.3",N92*0.3,N92) -> 1569.9252
A93: 86 | B93: 王富国 | C93: =IF(SUMIF(高一质量奖!A:A,B93,高一质量奖!B:B)>0,SUMIF(高一质量奖!A:A,B93,高一质量奖!B:B),"") | D93: =IF(SUMIF(高二质量奖!A:A,B93,高二质量奖!B:B)>0,SUMIF(高二质量奖!A:A,B93,高二质量奖!B:B),"") | E93: =IF(SUMIF(高三质量奖!A:A,B93,高三质量奖!D:D)>0,SUMIF(高三质量奖!A:A,B93,高三质量奖!D:D),"") | F93: =SUM(C93:E93) -> 0 | G93: =IF(SUMIFS('1.gk_工作量'!$M$4:$M$63,'1.gk_工作量'!$B$4:$B$63,B93)>0,SUMIFS('1.gk_工作量'!$M$4:$M$63,'1.gk_工作量'!$B$4:$B$63,B93),"") -> 441.86886 | H93: =IF(SUMIFS('2.gk_过程评价'!$C:$C,'2.gk_过程评价'!$A:$A,B93)>0,SUMIFS('2.gk_过程评价'!$C:$C,'2.gk_过程评价'!$A:$A,B93),"") | I93: =IF(SUMIF('3.gk_上线质量'!B:B,B93,'3.gk_上线质量'!D:D)<>0,SUMIF('3.gk_上线质量'!B:B,B93,'3.gk_上线质量'!D:D),"") | J93: =IF(SUMIFS('4.gk_艺体质量'!$E$4:$E$53,'4.gk_艺体质量'!$A$4:$A$53,B93)>0,SUMIFS('4.gk_艺体质量'!$E$4:$E$53,'4.gk_艺体质量'!$A$4:$A$53,B93),"") | K93: =IF(SUMIF('5.gk_超额目标'!B:B,B93,'5.gk_超额目标'!D:D)>0,SUMIF('5.gk_超额目标'!B:B,B93,'5.gk_超额目标'!D:D),"") | L93: =IF(SUMIF('6.gk_年级管理'!A:A,B93,'6.gk_年级管理'!D:D)>0,SUMIF('6.gk_年级管理'!A:A,B93,'6.gk_年级管理'!D:D),"") | M93: =SUM(G93:L93) -> 441.86886 | N93: =F93+M93 -> 441.86886 | O93: 2000 | P93: 补足2000
A94: 87 | B94: 王丽 | C94: =IF(SUMIF(高一质量奖!A:A,B94,高一质量奖!B:B)>0,SUMIF(高一质量奖!A:A,B94,高一质量奖!B:B),"") -> 1561.1779 | D94: =IF(SUMIF(高二质量奖!A:A,B94,高二质量奖!B:B)>0,SUMIF(高二质量奖!A:A,B94,高二质量奖!B:B),"") | E94: =IF(SUMIF(高三质量奖!A:A,B94,高三质量奖!D:D)>0,SUMIF(高三质量奖!A:A,B94,高三质量奖!D:D),"") | F94: =SUM(C94:E94) -> 1561.1779 | G94: =IF(SUMIFS('1.gk_工作量'!$M$4:$M$63,'1.gk_工作量'!$B$4:$B$63,B94)>0,SUMIFS('1.gk_工作量'!$M$4:$M$63,'1.gk_工作量'!$B$4:$B$63,B94),"") | H94: =IF(SUMIFS('2.gk_过程评价'!$C:$C,'2.gk_过程评价'!$A:$A,B94)>0,SUMIFS('2.gk_过程评价'!$C:$C,'2.gk_过程评价'!$A:$A,B94),"") | I94: =IF(SUMIF('3.gk_上线质量'!B:B,B94,'3.gk_上线质量'!D:D)<>0,SUMIF('3.gk_上线质量'!B:B,B94,'3.gk_上线质量'!D:D),"") | J94: =IF(SUMIFS('4.gk_艺体质量'!$E$4:$E$53,'4.gk_艺体质量'!$A$4:$A$53,B94)>0,SUMIFS('4.gk_艺体质量'!$E$4:$E$53,'4.gk_艺体质量'!$A$4:$A$53,B94),"") | K94: =IF(SUMIF('5.gk_超额目标'!B:B,B94,'5.gk_超额目标'!D:D)>0,SUMIF('5.gk_超额目标'!B:B,B94,'5.gk_超额目标'!D:D),"") | L94: =IF(SUMIF('6.gk_年级管理'!A:A,B94,'6.gk_年级管理'!D:D)>0,SUMIF('6.gk_年级管理'!A:A,B94,'6.gk_年级管理'!D:D),"") | M94: =SUM(G94:L94) -> 0 | N94: =F94+M94 -> 1561.1779 | O94: =IF(P94="辞职发0.3",N94*0.3,N94) -> 1561.1779
A95: 88 | B95: 吴文艺 | C95: =IF(SUMIF(高一质量奖!A:A,B95,高一质量奖!B:B)>0,SUMIF(高一质量奖!A:A,B95,高一质量奖!B:B),"") | D95: =IF(SUMIF(高二质量奖!A:A,B95,高二质量奖!B:B)>0,SUMIF(高二质量奖!A:A,B95,高二质量奖!B:B),"") -> 2661.5014 | E95: =IF(SUMIF(高三质量奖!A:A,B95,高三质量奖!D:D)>0,SUMIF(高三质量奖!A:A,B95,高三质量奖!D:D),"") | F95: =SUM(C95:E95) -> 2661.5014 | G95: =IF(SUMIFS('1.gk_工作量'!$M$4:$M$63,'1.gk_工作量'!$B$4:$B$63,B95)>0,SUMIFS('1.gk_工作量'!$M$4:$M$63,'1.gk_工作量'!$B$4:$B$63,B95),"") | H95: =IF(SUMIFS('2.gk_过程评价'!$C:$C,'2.gk_过程评价'!$A:$A,B95)>0,SUMIFS('2.gk_过程评价'!$C:$C,'2.gk_过程评价'!$A:$A,B95),"") | I95: =IF(SUMIF('3.gk_上线质量'!B:B,B95,'3.gk_上线质量'!D:D)<>0,SUMIF('3.gk_上线质量'!B:B,B95,'3.gk_上线质量'!D:D),"") | J95: =IF(SUMIFS('4.gk_艺体质量'!$E$4:$E$53,'4.gk_艺体质量'!$A$4:$A$53,B95)>0,SUMIFS('4.gk_艺体质量'!$E$4:$E$53,'4.gk_艺体质量'!$A$4:$A$53,B95),"") | K95: =IF(SUMIF('5.gk_超额目标'!B:B,B95,'5.gk_超额目标'!D:D)>0,SUMIF('5.gk_超额目标'!B:B,B95,'5.gk_超额目标'!D:D),"") | L95: =IF(SUMIF('6.gk_年级管理'!A:A,B95,'6.gk_年级管理'!D:D)>0,SUMIF('6.gk_年级管理'!A:A,B95,'6.gk_年级管理'!D:D),"") | M95: =SUM(G95:L95) -> 0 | N95: =F95+M95 -> 2661.5014 | O95: =IF(P95="辞职发0.3",N95*0.3,N95) -> 2661.5014
A96: 89 | B96: 夏宇 | C96: =IF(SUMIF(高一质量奖!A:A,B96,高一质量奖!B:B)>0,SUMIF(高一质量奖!A:A,B96,高一质量奖!B:B),"") | D96: =IF(SUMIF(高二质量奖!A:A,B96,高二质量奖!B:B)>0,SUMIF(高二质量奖!A:A,B96,高二质量奖!B:B),"") | E96: =IF(SUMIF(高三质量奖!A:A,B96,高三质量奖!D:D)>0,SUMIF(高三质量奖!A:A,B96,高三质量奖!D:D),"") | F96: =SUM(C96:E96) -> 0 | G96: =IF(SUMIFS('1.gk_工作量'!$M$4:$M$63,'1.gk_工作量'!$B$4:$B$63,B96)>0,SUMIFS('1.gk_工作量'!$M$4:$M$63,'1.gk_工作量'!$B$4:$B$63,B96),"") -> 552.33607 | H96: =IF(SUMIFS('2.gk_过程评价'!$C:$C,'2.gk_过程评价'!$A:$A,B96)>0,SUMIFS('2.gk_过程评价'!$C:$C,'2.gk_过程评价'!$A:$A,B96),"") -> 2090.8889 | I96: =IF(SUMIF('3.gk_上线质量'!B:B,B96,'3.gk_上线质量'!D:D)<>0,SUMIF('3.gk_上线质量'!B:B,B96,'3.gk_上线质量'!D:D),"") | J96: =IF(SUMIFS('4.gk_艺体质量'!$E$4:$E$53,'4.gk_艺体质量'!$A$4:$A$53,B96)>0,SUMIFS('4.gk_艺体质量'!$E$4:$E$53,'4.gk_艺体质量'!$A$4:$A$53,B96),"") | K96: =IF(SUMIF('5.gk_超额目标'!B:B,B96,'5.gk_超额目标'!D:D)>0,SUMIF('5.gk_超额目标'!B:B,B96,'5.gk_超额目标'!D:D),"") | L96: =IF(SUMIF('6.gk_年级管理'!A:A,B96,'6.gk_年级管理'!D:D)>0,SUMIF('6.gk_年级管理'!A:A,B96,'6.gk_年级管理'!D:D),"") | M96: =SUM(G96:L96) -> 2643.2249 | N96: =F96+M96 -> 2643.2249 | O96: =IF(P96="辞职发0.3",N96*0.3,N96) -> 2643.2249 | P96: 巴中支教
A97: 90 | B97: 向超 | C97: =IF(SUMIF(高一质量奖!A:A,B97,高一质量奖!B:B)>0,SUMIF(高一质量奖!A:A,B97,高一质量奖!B:B),"") -> 4632.8217 | D97: =IF(SUMIF(高二质量奖!A:A,B97,高二质量奖!B:B)>0,SUMIF(高二质量奖!A:A,B97,高二质量奖!B:B),"") | E97: =IF(SUMIF(高三质量奖!A:A,B97,高三质量奖!D:D)>0,SUMIF(高三质量奖!A:A,B97,高三质量奖!D:D),"") | F97: =SUM(C97:E97) -> 4632.8217 | G97: =IF(SUMIFS('1.gk_工作量'!$M$4:$M$63,'1.gk_工作量'!$B$4:$B$63,B97)>0,SUMIFS('1.gk_工作量'!$M$4:$M$63,'1.gk_工作量'!$B$4:$B$63,B97),"") | H97: =IF(SUMIFS('2.gk_过程评价'!$C:$C,'2.gk_过程评价'!$A:$A,B97)>0,SUMIFS('2.gk_过程评价'!$C:$C,'2.gk_过程评价'!$A:$A,B97),"") | I97: =IF(SUMIF('3.gk_上线质量'!B:B,B97,'3.gk_上线质量'!D:D)<>0,SUMIF('3.gk_上线质量'!B:B,B97,'3.gk_上线质量'!D:D),"") | J97: =IF(SUMIFS('4.gk_艺体质量'!$E$4:$E$53,'4.gk_艺体质量'!$A$4:$A$53,B97)>0,SUMIFS('4.gk_艺体质量'!$E$4:$E$53,'4.gk_艺体质量'!$A$4:$A$53,B97),"") | K97: =IF(SUMIF('5.gk_超额目标'!B:B,B97,'5.gk_超额目标'!D:D)>0,SUMIF('5.gk_超额目标'!B:B,B97,'5.gk_超额目标'!D:D),"") | L97: =IF(SUMIF('6.gk_年级管理'!A:A,B97,'6.gk_年级管理'!D:D)>0,SUMIF('6.gk_年级管理'!A:A,B97,'6.gk_年级管理'!D:D),"") | M97: =SUM(G97:L97) -> 0 | N97: =F97+M97 -> 4632.8217 | O97: =IF(P97="辞职发0.3",N97*0.3,N97) -> 4632.8217
A98: 91 | B98: 向美娟 | C98: =IF(SUMIF(高一质量奖!A:A,B98,高一质量奖!B:B)>0,SUMIF(高一质量奖!A:A,B98,高一质量奖!B:B),"") -> 3410.3156 | D98: =IF(SUMIF(高二质量奖!A:A,B98,高二质量奖!B:B)>0,SUMIF(高二质量奖!A:A,B98,高二质量奖!B:B),"") | E98: =IF(SUMIF(高三质量奖!A:A,B98,高三质量奖!D:D)>0,SUMIF(高三质量奖!A:A,B98,高三质量奖!D:D),"") | F98: =SUM(C98:E98) -> 3410.3156 | G98: =IF(SUMIFS('1.gk_工作量'!$M$4:$M$63,'1.gk_工作量'!$B$4:$B$63,B98)>0,SUMIFS('1.gk_工作量'!$M$4:$M$63,'1.gk_工作量'!$B$4:$B$63,B98),"") | H98: =IF(SUMIFS('2.gk_过程评价'!$C:$C,'2.gk_过程评价'!$A:$A,B98)>0,SUMIFS('2.gk_过程评价'!$C:$C,'2.gk_过程评价'!$A:$A,B98),"") | I98: =IF(SUMIF('3.gk_上线质量'!B:B,B98,'3.gk_上线质量'!D:D)<>0,SUMIF('3.gk_上线质量'!B:B,B98,'3.gk_上线质量'!D:D),"") | J98: =IF(SUMIFS('4.gk_艺体质量'!$E$4:$E$53,'4.gk_艺体质量'!$A$4:$A$53,B98)>0,SUMIFS('4.gk_艺体质量'!$E$4:$E$53,'4.gk_艺体质量'!$A$4:$A$53,B98),"") | K98: =IF(SUMIF('5.gk_超额目标'!B:B,B98,'5.gk_超额目标'!D:D)>0,SUMIF('5.gk_超额目标'!B:B,B98,'5.gk_超额目标'!D:D),"") | L98: =IF(SUMIF('6.gk_年级管理'!A:A,B98,'6.gk_年级管理'!D:D)>0,SUMIF('6.gk_年级管理'!A:A,B98,'6.gk_年级管理'!D:D),"") | M98: =SUM(G98:L98) -> 0 | N98: =F98+M98 -> 3410.3156 | O98: =IF(P98="辞职发0.3",N98*0.3,N98) -> 3410.3156
A99: 92 | B99: 向雅欣 | C99: =IF(SUMIF(高一质量奖!A:A,B99,高一质量奖!B:B)>0,SUMIF(高一质量奖!A:A,B99,高一质量奖!B:B),"") | D99: =IF(SUMIF(高二质量奖!A:A,B99,高二质量奖!B:B)>0,SUMIF(高二质量奖!A:A,B99,高二质量奖!B:B),"") | E99: =IF(SUMIF(高三质量奖!A:A,B99,高三质量奖!D:D)>0,SUMIF(高三质量奖!A:A,B99,高三质量奖!D:D),"") -> 19085.133 | F99: =SUM(C99:E99) -> 19085.133 | G99: =IF(SUMIFS('1.gk_工作量'!$M$4:$M$63,'1.gk_工作量'!$B$4:$B$63,B99)>0,SUMIFS('1.gk_工作量'!$M$4:$M$63,'1.gk_工作量'!$B$4:$B$63,B99),"") -> 17697.534 | H99: =IF(SUMIFS('2.gk_过程评价'!$C:$C,'2.gk_过程评价'!$A:$A,B99)>0,SUMIFS('2.gk_过程评价'!$C:$C,'2.gk_过程评价'!$A:$A,B99),"") -> 12935.968 | I99: =IF(SUMIF('3.gk_上线质量'!B:B,B99,'3.gk_上线质量'!D:D)<>0,SUMIF('3.gk_上线质量'!B:B,B99,'3.gk_上线质量'!D:D),"") -> 26629.235 | J99: =IF(SUMIFS('4.gk_艺体质量'!$E$4:$E$53,'4.gk_艺体质量'!$A$4:$A$53,B99)>0,SUMIFS('4.gk_艺体质量'!$E$4:$E$53,'4.gk_艺体质量'!$A$4:$A$53,B99),"") -> 10768.925 | K99: =IF(SUMIF('5.gk_超额目标'!B:B,B99,'5.gk_超额目标'!D:D)>0,SUMIF('5.gk_超额目标'!B:B,B99,'5.gk_超额目标'!D:D),"") -> 1242.9944 | L99: =IF(SUMIF('6.gk_年级管理'!A:A,B99,'6.gk_年级管理'!D:D)>0,SUMIF('6.gk_年级管理'!A:A,B99,'6.gk_年级管理'!D:D),"") -> 1004.3077 | M99: =SUM(G99:L99) -> 70278.965 | N99: =F99+M99 -> 89364.098 | O99: =IF(P99="辞职发0.3",N99*0.3,N99) -> 89364.098
A100: 93 | B100: 肖锐 | C100: =IF(SUMIF(高一质量奖!A:A,B100,高一质量奖!B:B)>0,SUMIF(高一质量奖!A:A,B100,高一质量奖!B:B),"") | D100: =IF(SUMIF(高二质量奖!A:A,B100,高二质量奖!B:B)>0,SUMIF(高二质量奖!A:A,B100,高二质量奖!B:B),"") -> 18092.033 | E100: =IF(SUMIF(高三质量奖!A:A,B100,高三质量奖!D:D)>0,SUMIF(高三质量奖!A:A,B100,高三质量奖!D:D),"") | F100: =SUM(C100:E100) -> 18092.033 | G100: =IF(SUMIFS('1.gk_工作量'!$M$4:$M$63,'1.gk_工作量'!$B$4:$B$63,B100)>0,SUMIFS('1.gk_工作量'!$M$4:$M$63,'1.gk_工作量'!$B$4:$B$63,B100),"") | H100: =IF(SUMIFS('2.gk_过程评价'!$C:$C,'2.gk_过程评价'!$A:$A,B100)>0,SUMIFS('2.gk_过程评价'!$C:$C,'2.gk_过程评价'!$A:$A,B100),"") | I100: =IF(SUMIF('3.gk_上线质量'!B:B,B100,'3.gk_上线质量'!D:D)<>0,SUMIF('3.gk_上线质量'!B:B,B100,'3.gk_上线质量'!D:D),"") | J100: =IF(SUMIFS('4.gk_艺体质量'!$E$4:$E$53,'4.gk_艺体质量'!$A$4:$A$53,B100)>0,SUMIFS('4.gk_艺体质量'!$E$4:$E$53,'4.gk_艺体质量'!$A$4:$A$53,B100),"") | K100: =IF(SUMIF('5.gk_超额目标'!B:B,B100,'5.gk_超额目标'!D:D)>0,SUMIF('5.gk_超额目标'!B:B,B100,'5.gk_超额目标'!D:D),"") | L100: =IF(SUMIF('6.gk_年级管理'!A:A,B100,'6.gk_年级管理'!D:D)>0,SUMIF('6.gk_年级管理'!A:A,B100,'6.gk_年级管理'!D:D),"") | M100: =SUM(G100:L100) -> 0 | N100: =F100+M100 -> 18092.033 | O100: =IF(P100="辞职发0.3",N100*0.3,N100) -> 18092.033
A101: 94 | B101: 肖秀秀 | C101: =IF(SUMIF(高一质量奖!A:A,B101,高一质量奖!B:B)>0,SUMIF(高一质量奖!A:A,B101,高一质量奖!B:B),"") | D101: =IF(SUMIF(高二质量奖!A:A,B101,高二质量奖!B:B)>0,SUMIF(高二质量奖!A:A,B101,高二质量奖!B:B),"") | E101: =IF(SUMIF(高三质量奖!A:A,B101,高三质量奖!D:D)>0,SUMIF(高三质量奖!A:A,B101,高三质量奖!D:D),"") -> 2573.9266 | F101: =SUM(C101:E101) -> 2573.9266 | G101: =IF(SUMIFS('1.gk_工作量'!$M$4:$M$63,'1.gk_工作量'!$B$4:$B$63,B101)>0,SUMIFS('1.gk_工作量'!$M$4:$M$63,'1.gk_工作量'!$B$4:$B$63,B101),"") -> 14033.337 | H101: =IF(SUMIFS('2.gk_过程评价'!$C:$C,'2.gk_过程评价'!$A:$A,B101)>0,SUMIFS('2.gk_过程评价'!$C:$C,'2.gk_过程评价'!$A:$A,B101),"") -> 13053.089 | I101: =IF(SUMIF('3.gk_上线质量'!B:B,B101,'3.gk_上线质量'!D:D)<>0,SUMIF('3.gk_上线质量'!B:B,B101,'3.gk_上线质量'!D:D),"") -> 30147.712 | J101: =IF(SUMIFS('4.gk_艺体质量'!$E$4:$E$53,'4.gk_艺体质量'!$A$4:$A$53,B101)>0,SUMIFS('4.gk_艺体质量'!$E$4:$E$53,'4.gk_艺体质量'!$A$4:$A$53,B101),"") -> 2318.3103 | K101: =IF(SUMIF('5.gk_超额目标'!B:B,B101,'5.gk_超额目标'!D:D)>0,SUMIF('5.gk_超额目标'!B:B,B101,'5.gk_超额目标'!D:D),"") -> 1407.2292 | L101: =IF(SUMIF('6.gk_年级管理'!A:A,B101,'6.gk_年级管理'!D:D)>0,SUMIF('6.gk_年级管理'!A:A,B101,'6.gk_年级管理'!D:D),"") | M101: =SUM(G101:L101) -> 60959.678 | N101: =F101+M101 -> 63533.604 | O101: =IF(P101="辞职发0.3",N101*0.3,N101) -> 63533.604
A102: 95 | B102: 徐万雄 | C102: =IF(SUMIF(高一质量奖!A:A,B102,高一质量奖!B:B)>0,SUMIF(高一质量奖!A:A,B102,高一质量奖!B:B),"") | D102: =IF(SUMIF(高二质量奖!A:A,B102,高二质量奖!B:B)>0,SUMIF(高二质量奖!A:A,B102,高二质量奖!B:B),"") -> 8042.9423 | E102: =IF(SUMIF(高三质量奖!A:A,B102,高三质量奖!D:D)>0,SUMIF(高三质量奖!A:A,B102,高三质量奖!D:D),"") | F102: =SUM(C102:E102) -> 8042.9423 | G102: =IF(SUMIFS('1.gk_工作量'!$M$4:$M$63,'1.gk_工作量'!$B$4:$B$63,B102)>0,SUMIFS('1.gk_工作量'!$M$4:$M$63,'1.gk_工作量'!$B$4:$B$63,B102),"") | H102: =IF(SUMIFS('2.gk_过程评价'!$C:$C,'2.gk_过程评价'!$A:$A,B102)>0,SUMIFS('2.gk_过程评价'!$C:$C,'2.gk_过程评价'!$A:$A,B102),"") | I102: =IF(SUMIF('3.gk_上线质量'!B:B,B102,'3.gk_上线质量'!D:D)<>0,SUMIF('3.gk_上线质量'!B:B,B102,'3.gk_上线质量'!D:D),"") | J102: =IF(SUMIFS('4.gk_艺体质量'!$E$4:$E$53,'4.gk_艺体质量'!$A$4:$A$53,B102)>0,SUMIFS('4.gk_艺体质量'!$E$4:$E$53,'4.gk_艺体质量'!$A$4:$A$53,B102),"") | K102: =IF(SUMIF('5.gk_超额目标'!B:B,B102,'5.gk_超额目标'!D:D)>0,SUMIF('5.gk_超额目标'!B:B,B102,'5.gk_超额目标'!D:D),"") | L102: =IF(SUMIF('6.gk_年级管理'!A:A,B102,'6.gk_年级管理'!D:D)>0,SUMIF('6.gk_年级管理'!A:A,B102,'6.gk_年级管理'!D:D),"") | M102: =SUM(G102:L102) -> 0 | N102: =F102+M102 -> 8042.9423 | O102: =IF(P102="辞职发0.3",N102*0.3,N102) -> 8042.9423
A103: 96 | B103: 徐志兵 | C103: =IF(SUMIF(高一质量奖!A:A,B103,高一质量奖!B:B)>0,SUMIF(高一质量奖!A:A,B103,高一质量奖!B:B),"") | D103: =IF(SUMIF(高二质量奖!A:A,B103,高二质量奖!B:B)>0,SUMIF(高二质量奖!A:A,B103,高二质量奖!B:B),"") -> 10302.484 | E103: =IF(SUMIF(高三质量奖!A:A,B103,高三质量奖!D:D)>0,SUMIF(高三质量奖!A:A,B103,高三质量奖!D:D),"") | F103: =SUM(C103:E103) -> 10302.484 | G103: =IF(SUMIFS('1.gk_工作量'!$M$4:$M$63,'1.gk_工作量'!$B$4:$B$63,B103)>0,SUMIFS('1.gk_工作量'!$M$4:$M$63,'1.gk_工作量'!$B$4:$B$63,B103),"") -> 2209.3443 | H103: =IF(SUMIFS('2.gk_过程评价'!$C:$C,'2.gk_过程评价'!$A:$A,B103)>0,SUMIFS('2.gk_过程评价'!$C:$C,'2.gk_过程评价'!$A:$A,B103),"") -> 4400.9578 | I103: =IF(SUMIF('3.gk_上线质量'!B:B,B103,'3.gk_上线质量'!D:D)<>0,SUMIF('3.gk_上线质量'!B:B,B103,'3.gk_上线质量'!D:D),"") -> 162.20138 | J103: =IF(SUMIFS('4.gk_艺体质量'!$E$4:$E$53,'4.gk_艺体质量'!$A$4:$A$53,B103)>0,SUMIFS('4.gk_艺体质量'!$E$4:$E$53,'4.gk_艺体质量'!$A$4:$A$53,B103),"") -> 598.27363 | K103: =IF(SUMIF('5.gk_超额目标'!B:B,B103,'5.gk_超额目标'!D:D)>0,SUMIF('5.gk_超额目标'!B:B,B103,'5.gk_超额目标'!D:D),"") -> 7.5712051 | L103: =IF(SUMIF('6.gk_年级管理'!A:A,B103,'6.gk_年级管理'!D:D)>0,SUMIF('6.gk_年级管理'!A:A,B103,'6.gk_年级管理'!D:D),"") | M103: =SUM(G103:L103) -> 7378.3483 | N103: =F103+M103 -> 17680.832 | O103: =IF(P103="辞职发0.3",N103*0.3,N103) -> 17680.832
...

Sheet 高一质量奖
A1: 姓名 | B1: 质量奖
A2: 张玉婷 | B2: 3396.0427
A3: 刘权芳 | B3: 3255.8797
A4: 朱霞 | B4: 3242.3022
A5: 向美娟 | B5: 3410.3156
A6: 叶屏 | B6: 1749.4696
A7: 张镇棚 | B7: 3406.3921
A8: 刘云菊 | B8: 3247.346
A9: 何东霖 | B9: 4692.3262
A10: 余玉红 | B10: 1711.4263
A11: 许帅 | B11: 1723.7754
A12: 李希 | B12: 1347.2514
A13: 王丽 | B13: 1561.1779
... A31: 尤顺芝 | B31: 1901.499
A32: 合计 | B32: =SUM(B2:B31) -> 69120.154

Sheet 高二质量奖
A1: 姓名 | B1: 合计
A2: 赵云川 | B2: 6388.3969
A3: 钟海昌 | B3: 10924.689
A4: 央宗娜姆 | B4: 6452.9615
A5: 喇燕 | B5: 11827.981
A6: 曹云萍 | B6: 11205.589
A7: 徐万雄 | B7: 8042.9423
A8: 马俊 | B8: 19173.295
A9: 潘勇 | B9: 8674.7919
A10: 吕开绒 | B10: 2909.3528
A11: 周菊明 | B11: 9511.4153
A12: 肖锐 | B12: 18092.033
A13: 易涛 | B13: 15514.427
... A49: 石敏 | B49: 1120.0435
B50: =SUM(B2:B49) -> 342080

Sheet 高三质量奖
A1: 教师 | B1: 质量奖 | C1: 进步奖 | D1: 合计
A2: 车梦德 | B2: 6443.2915 | C2: 9576.5384 | D2: =SUM(B2:C2) -> 16019.83
A3: 陈虎林 | B3: 2189.9278 | D3: =SUM(B3:C3) -> 2189.9278
A4: 次儿祝玛 | B4: 6353.7591 | C4: 4381.9038 | D4: =SUM(B4:C4) -> 10735.663
A5: 邓琪 | B5: 2874.285 | D5: =SUM(B5:C5) -> 2874.285
A6: 杜东洋 | B6: 6587.7951 | C6: 5091.7871 | D6: =SUM(B6:C6) -> 11679.582
A7: 高贵勇 | B7: 1342.1887 | D7: =SUM(B7:C7) -> 1342.1887
A8: 高琴 | B8: 1452.1248 | C8: 5943.5327 | D8: =SUM(B8:C8) -> 7395.6575
A9: 龚霞 | B9: 8013.1278 | C9: 14484.623 | D9: =SUM(B9:C9) -> 22497.751
A10: 胡伟杰 | B10: 1358.4906 | D10: =SUM(B10:C10) -> 1358.4906
A11: 甲阿祝玛 | B11: 6345.8428 | D11: =SUM(B11:C11) -> 6345.8428
A12: 金贵 | B12: 4688.8453 | D12: =SUM(B12:C12) -> 4688.8453
A13: 兰举银 | B13: 1619.3208 | D13: =SUM(B13:C13) -> 1619.3208
A14: 冷开艳 | B14: 2347.3691 | D14: =SUM(B14:C14) -> 2347.3691
A15: 李树海 | B15: 2537.4247 | D15: =SUM(B15:C15) -> 2537.4247
A16: 廖云虹 | B16: 2379.562 | D16: =SUM(B16:C16) -> 2379.562
A17: 刘厚江 | B17: 2395.4164 | C17: 5772.3323 | D17: =SUM(B17:C17) -> 8167.7487
A18: 刘玲君 | B18: 2419.3234 | D18: =SUM(B18:C18) -> 2419.3234
A19: 骆泽群 | B19: 4773.73 | D19: =SUM(B19:C19) -> 4773.73
A20: 马磊 | B20: 4067.715 | C20: 9840.7912 | D20: =SUM(B20:C20) -> 13908.506
A21: 潘勇 | B21: 3884.8341 | C21: 4781.1869 | D21: =SUM(B21:C21) -> 8666.021
A22: 任吉洪 | B22: 4831.8614 | C22: 6224.7613 | D22: =SUM(B22:C22) -> 11056.623
A23: 沙华莺 | B23: 1445.715 | D23: =SUM(B23:C23) -> 1445.715
A24: 沙正芳 | B24: 6523.3899 | C24: 5591.4771 | D24: =SUM(B24:C24) -> 12114.867
A25: 苏朗偏初 | B25: 3804.7397 | C25: 4720.4762 | D25: =SUM(B25:C25) -> 8525.2159
A26: 田友米 | B26: 4307.8752 | C26: 9252.4579 | D26: =SUM(B26:C26) -> 13560.333
A27: 向雅欣 | B27: 10276.61 | C27: 8808.5229 | D27: =SUM(B27:C27) -> 19085.133
A28: 肖秀秀 | B28: 2573.9266 | D28: =SUM(B28:C28) -> 2573.9266
A29: 杨志明 | B29: 2471.6916 | D29: =SUM(B29:C29) -> 2471.6916
A30: 叶仁芳 | B30: 7950.0145 | C30: 9708.3733 | D30: =SUM(B30:C30) -> 17658.388
A31: 尹应娇 | B31: 7855.8508 | C31: 9675.6632 | D31: =SUM(B31:C31) -> 17531.514
A32: 扎拉 | B32: 4311.2292 | C32: 9583.8548 | D32: =SUM(B32:C32) -> 13895.084
A33: 郑强秋 | B33: 4772.7222 | C33: 8748.7909 | D33: =SUM(B33:C33) -> 13521.513
A34: 李志友 | C34: 4623.0926 | D34: =SUM(B34:C34) -> 4623.0926
A35: 廖云虹 | C35: 4747.7985 | D35: =SUM(B35:C35) -> 4747.7985
A36: 邱宗兰 | C36: 2294.1155 | D36: =SUM(B36:C36) -> 2294.1155
A37: 杨志明 | C37: 4653.3114 | D37: =SUM(B37:C37) -> 4653.3114
A38: 张斯杰 | C38: 7844.0094 | D38: =SUM(B38:C38) -> 7844.0094
A39: 周菊明 | C39: 4930.5994 | D39: =SUM(B39:C39) -> 4930.5994
A40: 合计 | B40: =SUM(B2:B39) -> 135200 | C40: =SUM(C2:C39) -> 161280 | D40: =SUM(D2:D39) -> 296480

Sheet gk_质量奖分配
C1: 项目 | D1: 金额 | E1: 算法/说明
A2: 总额分配 | C2: 政府拨款 | D2: 3518000 | E2: 总额=学生奖金+学校奖金
C3: 学生奖金 | D3: 1018000
C4: 学校奖金 | D4: =D2-D3 -> 2500000
A6: 学校奖金分配 | C6: 学校提留 | D6: =D4*0.2 -> 500000 | E6: 学校提留=学校奖金*20%
C7: 年级管理奖 | D7: 43520 | E7: 按照政府目标，文化和艺体超额部分的8%作为年级管理奖.文化本科超额570000元，艺体本科超额110000元，合计超额680000元.年级管理奖（680000*80%*8%=43520元）
C8: 教师奖励 | D8: =D4-D6-D7 -> 1956480 | E8: 剩余的教师奖励=学校奖金-学校提留-年级管理奖
C9: 超额目标奖 | D9: 32000 | E9: 学校本科目标200人，奋斗目标220人。实际完成216人，超过学校基本目标16人，超过学校奋斗目标0人，超额目标奖2000*16人=32000元.此部分从学校提留的20%中支出.
A11: 教师奖金分配 | C11: 2.1工作量（30%） | D11: =$D$8*0.3 -> 586944 | E11: 工作量=教师奖励*30%
C12: 2.2业绩（70%） | D12: =$D$8*0.7 -> 1369536 | E12: 业绩=教师奖励*70%
A14: 2.2业绩 | C14: 2.2.1文化本科质量奖 | D14: =(2190000*0.8-43520*2190000/(2190000+310000))*0.7 -> 1199713.5 | E14: 文化总奖金：219万元 文化本科质量奖=文化总奖金-学校提留-年级管理奖占比奖金-工作量，即（2190000*0.8-43520*2190000/(2190000+310000)）*0.7 艺体总奖金：31万元. 艺体质量奖=艺体总奖金-学校提留-年级管理奖占比奖金-工作量，即(310000*0.8-43520*310000/(2190000+310000))*0.7
C15: 2.2.2艺体质量奖 | D15: =(310000*0.8-43520*310000/(2190000+310000))*0.7 -> 169822.46
A17: 2.2.1文化本科质量奖 | C17: 2.2.1.1过程评价奖 | D17: =$D$14*3/7 -> 514162.94 | E17: 过程评价奖=文化本科质量奖*3/7(文化奖金中工作量、过程评价、上线质量占比3:3:4)
C18: 2.2.1.2上线质量奖 | D18: =$D$14*4/7 -> 685550.59 | E18: 上线质量奖=文化本科质量奖*4/7(文化奖金中工作量、过程评价、上线质量占比3:3:4)
A20: 2.2.1.2文化上线质量奖 | C20: 2.2.1.2.1总分上线质量奖 | D20: =$D$18*1 -> 685550.59 | E20: 总分上线质量奖=文化上线质量奖*100%
C21: 2.2.1.2.2单双上线质量奖 | D21: =$D$18*0 -> 0 | E21: 总分上线质量奖=文化上线质量奖*0（2024年起凉山州不再公布单科分数线，本项资金调整到总分上线）

Sheet gk_分数线

Sheet 1.gk_工作量
A1: 序号 | B1: 姓名 | C1: 高一 | F1: 高二 | I1: 高三 | L1: 高三年级主任/班主任 | M1: 基本奖合计
C2: 上期/节 | D2: 下期/节 | E2: 小计/元 | F2: 上期/节 | G2: 下期/节 | H2: 小计/元 | I2: 上期/节 | J2: 下期/节 | K2: 小计/元
E3: =(gk_质量奖分配!$D$11-$L$64)*0.2/SUM($C$4:$D$63) -> 110.46721 | H3: =(gk_质量奖分配!$D$11-$L$64)*0.3/SUM($F$4:$G$63) -> 159.12381 | K3: =(gk_质量奖分配!$D$11-$L$64)*0.5/SUM($I$4:$J$63) -> 247.38062
A4: 1 | B4: 李志友 | C4: 12 | D4: 6 | E4: =$E$3*SUM(C4:D4) -> 1988.4099 | F4: 14 | G4: 14 | H4: =$H$3*SUM(F4:G4) -> 4455.4666 | I4: 14 | J4: 14 | K4: =$K$3*SUM(I4:J4) -> 6926.6574 | M4: =E4+H4+K4+L4 -> 13370.534
A5: 2 | B5: 刘玲君 | C5: 12 | D5: 12 | E5: =$E$3*SUM(C5:D5) -> 2651.2131 | F5: 14 | G5: 14 | H5: =$H$3*SUM(F5:G5) -> 4455.4666 | I5: 14 | J5: 14 | K5: =$K$3*SUM(I5:J5) -> 6926.6574 | M5: =E5+H5+K5+L5 -> 14033.337
A6: 3 | B6: 龚霞 | C6: 12 | D6: 12 | E6: =$E$3*SUM(C6:D6) -> 2651.2131 | F6: 14 | G6: 14 | H6: =$H$3*SUM(F6:G6) -> 4455.4666 | I6: 21 | J6: 21 | K6: =$K$3*SUM(I6:J6) -> 10389.986 | L6: 1000 | M6: =E6+H6+K6+L6 -> 18496.666
A7: 4 | B7: 叶仁芳 | C7: 12 | D7: 12 | E7: =$E$3*SUM(C7:D7) -> 2651.2131 | F7: 14 | G7: 14 | H7: =$H$3*SUM(F7:G7) -> 4455.4666 | I7: 14 | J7: 14 | K7: =$K$3*SUM(I7:J7) -> 6926.6574 | M7: =E7+H7+K7+L7 -> 14033.337
A8: 5 | B8: 甲阿祝玛 | C8: 6 | D8: 6 | E8: =$E$3*SUM(C8:D8) -> 1325.6066 | F8: 14 | G8: 14 | H8: =$H$3*SUM(F8:G8) -> 4455.4666 | I8: 7 | J8: 7 | K8: =$K$3*SUM(I8:J8) -> 3463.3287 | M8: =E8+H8+K8+L8 -> 9244.4019
A9: 6 | B9: 杨志明 | C9: 12 | D9: 12 | E9: =$E$3*SUM(C9:D9) -> 2651.2131 | F9: 14 | G9: 14 | H9: =$H$3*SUM(F9:G9) -> 4455.4666 | I9: 14 | J9: 14 | K9: =$K$3*SUM(I9:J9) -> 6926.6574 | M9: =E9+H9+K9+L9 -> 14033.337
A10: 7 | B10: 曹霞 | C10: 12 | D10: 12 | E10: =$E$3*SUM(C10:D10) -> 2651.2131 | F10: 14 | H10: =$H$3*SUM(F10:G10) -> 2227.7333 | K10: =$K$3*SUM(I10:J10) -> 0 | M10: =E10+H10+K10+L10 -> 4878.9464
A11: 8 | B11: 周菊明 | E11: =$E$3*SUM(C11:D11) -> 0 | H11: =$H$3*SUM(F11:G11) -> 0 | I11: 7 | J11: 7 | K11: =$K$3*SUM(I11:J11) -> 3463.3287 | M11: =E11+H11+K11+L11 -> 3463.3287
A12: 9 | B12: 次儿祝玛 | C12: 14 | D12: 14 | E12: =$E$3*SUM(C12:D12) -> 3093.082 | F12: 16 | G12: 16 | H12: =$H$3*SUM(F12:G12) -> 5091.9618 | I12: 16 | J12: 16 | K12: =$K$3*SUM(I12:J12) -> 7916.1799 | L12: 1000 | M12: =E12+H12+K12+L12 -> 17101.224
A13: 10 | B13: 扎拉 | C13: 14 | D13: 14 | E13: =$E$3*SUM(C13:D13) -> 3093.082 | F13: 16 | G13: 16 | H13: =$H$3*SUM(F13:G13) -> 5091.9618 | I13: 16 | J13: 16 | K13: =$K$3*SUM(I13:J13) -> 7916.1799 | L13: 1000 | M13: =E13+H13+K13+L13 -> 17101.224
A14: 11 | B14: 马磊 | C14: 14 | D14: 14 | E14: =$E$3*SUM(C14:D14) -> 3093.082 | F14: 16 | G14: 16 | H14: =$H$3*SUM(F14:G14) -> 5091.9618 | I14: 16 | J14: 16 | K14: =$K$3*SUM(I14:J14) -> 7916.1799 | L14: 1000 | M14: =E14+H14+K14+L14 -> 17101.224
A15: 12 | B15: 苏朗偏初 | C15: 14 | D15: 14 | E15: =$E$3*SUM(C15:D15) -> 3093.082 | F15: 16 | G15: 16 | H15: =$H$3*SUM(F15:G15) -> 5091.9618 | I15: 16 | J15: 16 | K15: =$K$3*SUM(I15:J15) -> 7916.1799 | L15: 1500 | M15: =E15+H15+K15+L15 -> 17601.224
A16: 13 | B16: 陈强 | C16: 14 | D16: 14 | E16: =$E$3*SUM(C16:D16) -> 3093.082 | F16: 16 | G16: 8 | H16: =$H$3*SUM(F16:G16) -> 3818.9713 | I16: 8 | J16: 8 | K16: =$K$3*SUM(I16:J16) -> 3958.09 | M16: =E16+H16+K16+L16 -> 10870.143
A17: 14 | B17: 梅桂斌 | C17: 14 | D17: 14 | E17: =$E$3*SUM(C17:D17) -> 3093.082 | H17: =$H$3*SUM(F17:G17) -> 0 | K17: =$K$3*SUM(I17:J17) -> 0 | M17: =E17+H17+K17+L17 -> 3093.082
A18: 15 | B18: 杜东洋 | E18: =$E$3*SUM(C18:D18) -> 0 | F18: 16 | G18: 16 | H18: =$H$3*SUM(F18:G18) -> 5091.9618 | I18: 16 | J18: 16 | K18: =$K$3*SUM(I18:J18) -> 7916.1799 | M18: =E18+H18+K18+L18 -> 13008.142
A19: 16 | B19: 陈虎林 | E19: =$E$3*SUM(C19:D19) -> 0 | F19: 8 | G19: 8 | H19: =$H$3*SUM(F19:G19) -> 2545.9809 | I19: 16 | J19: 16 | K19: =$K$3*SUM(I19:J19) -> 7916.1799 | M19: =E19+H19+K19+L19 -> 10462.161
A20: 17 | B20: 黄健均 | C20: 12 | D20: 12 | E20: =$E$3*SUM(C20:D20) -> 2651.2131 | F20: 14 | G20: 14 | H20: =$H$3*SUM(F20:G20) -> 4455.4666 | K20: =$K$3*SUM(I20:J20) -> 0 | M20: =E20+H20+K20+L20 -> 7106.6797
A21: 18 | B21: 肖秀秀 | C21: 12 | D21: 12 | E21: =$E$3*SUM(C21:D21) -> 2651.2131 | F21: 14 | G21: 14 | H21: =$H$3*SUM(F21:G21) -> 4455.4666 | I21: 14 | J21: 14 | K21: =$K$3*SUM(I21:J21) -> 6926.6574 | M21: =E21+H21+K21+L21 -> 14033.337
A22: 19 | B22: 廖云虹 | E22: =$E$3*SUM(C22:D22) -> 0 | H22: =$H$3*SUM(F22:G22) -> 0 | I22: 14 | J22: 14 | K22: =$K$3*SUM(I22:J22) -> 6926.6574 | M22: =E22+H22+K22+L22 -> 6926.6574
A23: 20 | B23: 车梦德 | C23: 12 | D23: 12 | E23: =$E$3*SUM(C23:D23) -> 2651.2131 | F23: 17 | G23: 14 | H23: =$H$3*SUM(F23:G23) -> 4932.838 | I23: 14 | J23: 21 | K23: =$K$3*SUM(I23:J23) -> 8658.3218 | M23: =E23+H23+K23+L23 -> 16242.373
A24: 21 | B24: 东梅 | C24: 12 | D24: 12 | E24: =$E$3*SUM(C24:D24) -> 2651.2131 | F24: 14 | G24: 14 | H24: =$H$3*SUM(F24:G24) -> 4455.4666 | I24: 14 | J24: 14 | K24: =$K$3*SUM(I24:J24) -> 6926.6574 | M24: =E24+H24+K24+L24 -> 14033.337
A25: 22 | B25: 冷开艳 | C25: 12 | D25: 12 | E25: =$E$3*SUM(C25:D25) -> 2651.2131 | F25: 17 | G25: 14 | H25: =$H$3*SUM(F25:G25) -> 4932.838 | I25: 14 | J25: 14 | K25: =$K$3*SUM(I25:J25) -> 6926.6574 | M25: =E25+H25+K25+L25 -> 14510.709
A26: 23 | B26: 尹应娇 | C26: 12 | D26: 12 | E26: =$E$3*SUM(C26:D26) -> 2651.2131 | F26: 14 | G26: 14 | H26: =$H$3*SUM(F26:G26) -> 4455.4666 | I26: 14 | J26: 14 | K26: =$K$3*SUM(I26:J26) -> 6926.6574 | L26: 1000 | M26: =E26+H26+K26+L26 -> 15033.337
A27: 24 | B27: 姚芳淑 | E27: =$E$3*SUM(C27:D27) -> 0 | H27: =$H$3*SUM(F27:G27) -> 0 | I27: 7 | K27: =$K$3*SUM(I27:J27) -> 1731.6644 | M27: =E27+H27+K27+L27 -> 1731.6644
A28: 25 | B28: 次珍扎保 | C28: 15 | D28: 10 | E28: =$E$3*SUM(C28:D28) -> 2761.6803 | F28: 6 | H28: =$H$3*SUM(F28:G28) -> 954.74284 | K28: =$K$3*SUM(I28:J28) -> 0 | M28: =E28+H28+K28+L28 -> 3716.4232
A29: 26 | B29: 胡伟杰 | C29: 14 | D29: 10 | E29: =$E$3*SUM(C29:D29) -> 2651.2131 | F29: 18 | G29: 18 | H29: =$H$3*SUM(F29:G29) -> 5728.457 | I29: 21 | J29: 21 | K29: =$K$3*SUM(I29:J29) -> 10389.986 | L29: 1000 | M29: =E29+H29+K29+L29 -> 19769.656
A30: 27 | B30: 高贵勇 | C30: 10 | D30: 6 | E30: =$E$3*SUM(C30:D30) -> 1767.4754 | F30: 6 | G30: 6 | H30: =$H$3*SUM(F30:G30) -> 1909.4857 | I30: 21 | J30: 21 | K30: =$K$3*SUM(I30:J30) -> 10389.986 | M30: =E30+H30+K30+L30 -> 14066.947
A31: 28 | B31: 兰举银 | C31: 12 | D31: 14 | E31: =$E$3*SUM(C31:D31) -> 2872.1476 | F31: 14.5 | G31: 13 | H31: =$H$3*SUM(F31:G31) -> 4375.9047 | I31: 14 | J31: 14 | K31: =$K$3*SUM(I31:J31) -> 6926.6574 | M31: =E31+H31+K31+L31 -> 14174.71
A32: 29 | B32: 夏宇 | D32: 5 | E32: =$E$3*SUM(C32:D32) -> 552.33607 | H32: =$H$3*SUM(F32:G32) -> 0 | K32: =$K$3*SUM(I32:J32) -> 0 | M32: =E32+H32+K32+L32 -> 552.33607
A33: 30 | B33: 方帮林 | C33: 15 | D33: 7 | E33: =$E$3*SUM(C33:D33) -> 2430.2787 | F33: 6 | G33: 6 | H33: =$H$3*SUM(F33:G33) -> 1909.4857 | K33: =$K$3*SUM(I33:J33) -> 0 | M33: =E33+H33+K33+L33 -> 4339.7644
A34: 31 | B34: 刘红 | C34: 11 | D34: 10 | E34: =$E$3*SUM(C34:D34) -> 2319.8115 | H34: =$H$3*SUM(F34:G34) -> 0 | K34: =$K$3*SUM(I34:J34) -> 0 | M34: =E34+H34+K34+L34 -> 2319.8115
A35: 32 | B35: 任吉洪 | C35: 9 | D35: 11 | E35: =$E$3*SUM(C35:D35) -> 2209.3443 | F35: 11 | G35: 11 | H35: =$H$3*SUM(F35:G35) -> 3500.7237 | I35: 12 | J35: 12 | K35: =$K$3*SUM(I35:J35) -> 5937.1349 | L35: 1000 | M35: =E35+H35+K35+L35 -> 12647.203
A36: 33 | B36: 刘厚江 | C36: 4 | D36: 7.5 | E36: =$E$3*SUM(C36:D36) -> 1270.373 | F36: 6 | G36: 6 | H36: =$H$3*SUM(F36:G36) -> 1909.4857 | I36: 12 | J36: 12 | K36: =$K$3*SUM(I36:J36) -> 5937.1349 | M36: =E36+H36+K36+L36 -> 9116.9936
A37: 34 | B37: 郑强秋 | C37: 10 | D37: 10 | E37: =$E$3*SUM(C37:D37) -> 2209.3443 | F37: 12 | G37: 12 | H37: =$H$3*SUM(F37:G37) -> 3818.9713 | I37: 18 | J37: 18 | K37: =$K$3*SUM(I37:J37) -> 8905.7024 | L37: 1000 | M37: =E37+H37+K37+L37 -> 15934.018
A38: 35 | B38: 邱宗兰 | E38: =$E$3*SUM(C38:D38) -> 0 | F38: 12 | G38: 12 | H38: =$H$3*SUM(F38:G38) -> 3818.9713 | I38: 6 | J38: 6 | K38: =$K$3*SUM(I38:J38) -> 2968.5675 | M38: =E38+H38+K38+L38 -> 6787.5388
A39: 36 | B39: 张斯杰 | E39: =$E$3*SUM(C39:D39) -> 0 | F39: 8 | G39: 8 | H39: =$H$3*SUM(F39:G39) -> 2545.9809 | I39: 10 | J39: 18 | K39: =$K$3*SUM(I39:J39) -> 6926.6574 | M39: =E39+H39+K39+L39 -> 9472.6383
A40: 37 | B40: 高琴 | D40: 17 | E40: =$E$3*SUM(C40:D40) -> 1877.9426 | F40: 12 | G40: 12 | H40: =$H$3*SUM(F40:G40) -> 3818.9713 | I40: 16 | J40: 12 | K40: =$K$3*SUM(I40:J40) -> 6926.6574 | L40: 1000 | M40: =E40+H40+K40+L40 -> 13623.571
A41: 38 | B41: 杨建 | C41: 3 | D41: 5 | E41: =$E$3*SUM(C41:D41) -> 883.73771 | H41: =$H$3*SUM(F41:G41) -> 0 | K41: =$K$3*SUM(I41:J41) -> 0 | M41: =E41+H41+K41+L41 -> 883.73771
A42: 39 | B42: 龙志云 | C42: 9 | D42: 10 | E42: =$E$3*SUM(C42:D42) -> 2098.8771 | F42: 8 | G42: 8 | H42: =$H$3*SUM(F42:G42) -> 2545.9809 | I42: 5 | K42: =$K$3*SUM(I42:J42) -> 1236.9031 | L42: 500 | M42: =E42+H42+K42+L42 -> 6381.7611
A43: 40 | B43: 田友米 | C43: 23 | D43: 7 | E43: =$E$3*SUM(C43:D43) -> 3314.0164 | F43: 8 | G43: 8 | H43: =$H$3*SUM(F43:G43) -> 2545.9809 | I43: 16 | J43: 18 | K43: =$K$3*SUM(I43:J43) -> 8410.9412 | L43: 1000 | M43: =E43+H43+K43+L43 -> 15270.938
A44: 41 | B44: 杨彦俊 | C44: 4 | D44: 3.4 | E44: =$E$3*SUM(C44:D44) -> 817.45738 | H44: =$H$3*SUM(F44:G44) -> 0 | K44: =$K$3*SUM(I44:J44) -> 0 | M44: =E44+H44+K44+L44 -> 817.45738
A45: 42 | B45: 李华 | C45: 7 | D45: 13 | E45: =$E$3*SUM(C45:D45) -> 2209.3443 | H45: =$H$3*SUM(F45:G45) -> 0 | I45: 18 | J45: 18 | K45: =$K$3*SUM(I45:J45) -> 8905.7024 | M45: =E45+H45+K45+L45 -> 11115.047
A46: 43 | B46: 向雅欣 | C46: 9 | D46: 14 | E46: =$E$3*SUM(C46:D46) -> 2540.7459 | F46: 15 | G46: 18 | H46: =$H$3*SUM(F46:G46) -> 5251.0856 | I46: 18 | J46: 18 | K46: =$K$3*SUM(I46:J46) -> 8905.7024 | L46: 1000 | M46: =E46+H46+K46+L46 -> 17697.534
A47: 44 | B47: 沙正芳 | C47: 10 | D47: 3.6 | E47: =$E$3*SUM(C47:D47) -> 1502.3541 | F47: 10 | G47: 15 | H47: =$H$3*SUM(F47:G47) -> 3978.0951 | I47: 12 | J47: 12 | K47: =$K$3*SUM(I47:J47) -> 5937.1349 | M47: =E47+H47+K47+L47 -> 11417.584
A48: 45 | B48: 邱君益 | E48: =$E$3*SUM(C48:D48) -> 0 | H48: =$H$3*SUM(F48:G48) -> 0 | I48: 6 | J48: 6 | K48: =$K$3*SUM(I48:J48) -> 2968.5675 | M48: =E48+H48+K48+L48 -> 2968.5675
A49: 46 | B49: 邓琪 | C49: 10 | D49: 13 | E49: =$E$3*SUM(C49:D49) -> 2540.7459 | F49: 15 | G49: 15.8 | H49: =$H$3*SUM(F49:G49) -> 4901.0132 | I49: 12 | J49: 12 | K49: =$K$3*SUM(I49:J49) -> 5937.1349 | L49: 1000 | M49: =E49+H49+K49+L49 -> 14378.894
A50: 47 | B50: 沙华莺 | C50: 10 | D50: 11 | E50: =$E$3*SUM(C50:D50) -> 2319.8115 | F50: 15 | G50: 15 | H50: =$H$3*SUM(F50:G50) -> 4773.7142 | I50: 12 | J50: 12 | K50: =$K$3*SUM(I50:J50) -> 5937.1349 | M50: =E50+H50+K50+L50 -> 13030.661
A51: 48 | B51: 徐志兵 | C51: 10 | D51: 10 | E51: =$E$3*SUM(C51:D51) -> 2209.3443 | H51: =$H$3*SUM(F51:G51) -> 0 | K51: =$K$3*SUM(I51:J51) -> 0 | M51: =E51+H51+K51+L51 -> 2209.3443
A52: 49 | B52: 李树海 | C52: 13 | D52: 14 | E52: =$E$3*SUM(C52:D52) -> 2982.6148 | F52: 12 | G52: 12 | H52: =$H$3*SUM(F52:G52) -> 3818.9713 | I52: 6 | J52: 7 | K52: =$K$3*SUM(I52:J52) -> 3215.9481 | M52: =E52+H52+K52+L52 -> 10017.534
A53: 50 | B53: 骆泽群 | C53: 16 | D53: 18 | E53: =$E$3*SUM(C53:D53) -> 3755.8853 | F53: 18 | G53: 18 | H53: =$H$3*SUM(F53:G53) -> 5728.457 | I53: 12 | J53: 12 | K53: =$K$3*SUM(I53:J53) -> 5937.1349 | L53: 1000 | M53: =E53+H53+K53+L53 -> 16421.477
A54: 51 | B54: 金贵 | E54: =$E$3*SUM(C54:D54) -> 0 | H54: =$H$3*SUM(F54:G54) -> 0 | I54: 12 | J54: 12 | K54: =$K$3*SUM(I54:J54) -> 5937.1349 | M54: =E54+H54+K54+L54 -> 5937.1349
A55: 52 | B55: 立日木里 | C55: 4 | D55: 4 | E55: =$E$3*SUM(C55:D55) -> 883.73771 | F55: 2 | G55: 2 | H55: =$H$3*SUM(F55:G55) -> 636.49522 | K55: =$K$3*SUM(I55:J55) -> 0 | M55: =E55+H55+K55+L55 -> 1520.2329
A56: 53 | B56: 周时德 | C56: 8 | D56: 8 | E56: =$E$3*SUM(C56:D56) -> 1767.4754 | F56: 4 | G56: 4 | H56: =$H$3*SUM(F56:G56) -> 1272.9904 | K56: =$K$3*SUM(I56:J56) -> 0 | M56: =E56+H56+K56+L56 -> 3040.4659
A57: 54 | B57: 赵刚 | C57: 10 | D57: 10 | E57: =$E$3*SUM(C57:D57) -> 2209.3443 | F57: 12 | G57: 12 | H57: =$H$3*SUM(F57:G57) -> 3818.9713 | K57: =$K$3*SUM(I57:J57) -> 0 | M57: =E57+H57+K57+L57 -> 6028.3156
A58: 55 | B58: 王富国 | C58: 2 | D58: 2 | E58: =$E$3*SUM(C58:D58) -> 441.86886 | H58: =$H$3*SUM(F58:G58) -> 0 | K58: =$K$3*SUM(I58:J58) -> 0 | M58: =E58+H58+K58+L58 -> 441.86886
A59: 56 | B59: 郭禧唐 | C59: 12 | D59: 12 | E59: =$E$3*SUM(C59:D59) -> 2651.2131 | H59: =$H$3*SUM(F59:G59) -> 0 | K59: =$K$3*SUM(I59:J59) -> 0 | M59: =E59+H59+K59+L59 -> 2651.2131
A60: 57 | B60: 朱梦清 | E60: =$E$3*SUM(C60:D60) -> 0 | F60: 6 | G60: 6 | H60: =$H$3*SUM(F60:G60) -> 1909.4857 | I60: 6 | J60: 6 | K60: =$K$3*SUM(I60:J60) -> 2968.5675 | M60: =E60+H60+K60+L60 -> 4878.0531
A61: 58 | B61: 申海冰 | C61: 12 | D61: 12 | E61: =$E$3*SUM(C61:D61) -> 2651.2131 | F61: 10 | G61: 10 | H61: =$H$3*SUM(F61:G61) -> 3182.4761 | I61: 12 | J61: 12 | K61: =$K$3*SUM(I61:J61) -> 5937.1349 | M61: =E61+H61+K61+L61 -> 11770.824
A62: 59 | B62: 邓彤 | C62: 12 | D62: 12 | E62: =$E$3*SUM(C62:D62) -> 2651.2131 | F62: 10 | G62: 10 | H62: =$H$3*SUM(F62:G62) -> 3182.4761 | I62: 10 | J62: 10 | K62: =$K$3*SUM(I62:J62) -> 4947.6125 | M62: =E62+H62+K62+L62 -> 10781.302
A63: 60 | B63: 扎西旦珠 | E63: =$E$3*SUM(C63:D63) -> 0 | F63: 4 | G63: 4 | H63: =$H$3*SUM(F63:G63) -> 1272.9904 | I63: 4 | J63: 4 | K63: =$K$3*SUM(I63:J63) -> 1979.045 | M63: =E63+H63+K63+L63 -> 3252.0354
A64: 合计 | E64: =SUM(E4:E63) -> 114388.8 | H64: =SUM(H4:H63) -> 171583.2 | K64: =SUM(K4:K63) -> 285972 | L64: =SUM(L4:L63) -> 15000 | M64: =SUM(M4:M63) -> 586944

Sheet 2.gk_过程评价
A1: 学科 | B1: 得分 | C1: 金额/元 | D1: 备注
A2: 龚霞 | B2: 604.32354 | C2: =B2*gk_质量奖分配!$D$17/SUM($B$2:$B$53) -> 13072.382
A3: 叶仁芳 | B3: 598.09643 | C3: =B3*gk_质量奖分配!$D$17/SUM($B$2:$B$53) -> 12937.681
A4: 李志友 | B4: 592.6362 | C4: =B4*gk_质量奖分配!$D$17/SUM($B$2:$B$53) -> 12819.568
A5: 杨志明 | B5: 606.26435 | C5: =B5*gk_质量奖分配!$D$17/SUM($B$2:$B$53) -> 13114.364
A6: 周菊明 | B6: 207.78499 | C6: =B6*gk_质量奖分配!$D$17/SUM($B$2:$B$53) -> 4494.6864
A7: 刘玲君 | B7: 592.24782 | C7: =B7*gk_质量奖分配!$D$17/SUM($B$2:$B$53) -> 12811.167
A8: 甲阿祝玛 | B8: 607.80679 | C8: =B8*gk_质量奖分配!$D$17/SUM($B$2:$B$53) -> 13147.73
A9: 扎拉 | B9: 590.69347 | C9: =B9*gk_质量奖分配!$D$17/SUM($B$2:$B$53) -> 12777.544
A10: 马磊 | B10: 598.59561 | C10: =B10*gk_质量奖分配!$D$17/SUM($B$2:$B$53) -> 12948.479
A11: 苏朗偏初 | B11: 602.23002 | C11: =B11*gk_质量奖分配!$D$17/SUM($B$2:$B$53) -> 13027.096
A12: 次儿祝玛 | B12: 609.80853 | C12: =B12*gk_质量奖分配!$D$17/SUM($B$2:$B$53) -> 13191.03
A13: 潘勇 | B13: 189.20635 | C13: =B13*gk_质量奖分配!$D$17/SUM($B$2:$B$53) -> 4092.8037
... A18: 东梅 | B18: 601.53208 | C18: =B18*gk_质量奖分配!$D$17/SUM($B$2:$B$53) -> 13011.999
A19: 车梦德 | B19: =593.767961853984+105.310606060606 -> 699.07857 | C19: =B19*gk_质量奖分配!$D$17/SUM($B$2:$B$53) -> 15122.069
A20: 廖云虹 | B20: 198.87379 | C20: =B20*gk_质量奖分配!$D$17/SUM($B$2:$B$53) -> 4301.9242
A21: 尹应娇 | B21: 607.6722 | C21: =B21*gk_质量奖分配!$D$17/SUM($B$2:$B$53) -> 13144.818
A22: 姚芳淑 | B22: 195.48363 | C22: =B22*gk_质量奖分配!$D$17/SUM($B$2:$B$53) -> 4228.5903
A23: 兰举银 | B23: 595.63798 | C23: =B23*gk_质量奖分配!$D$17/SUM($B$2:$B$53) -> 12884.501
A24: 高贵勇 | B24: 591.54473 | C24: =B24*gk_质量奖分配!$D$17/SUM($B$2:$B$53) -> 12795.958
A25: 胡伟杰 | B25: 606.58402 | C25: =B25*gk_质量奖分配!$D$17/SUM($B$2:$B$53) -> 13121.279
A26: 向雅欣 | B26: 598.01726 | C26: =B26*gk_质量奖分配!$D$17/SUM($B$2:$B$53) -> 12935.968
A27: 沙正芳 | B27: 489.17011 | C27: =B27*gk_质量奖分配!$D$17/SUM($B$2:$B$53) -> 10581.448
A28: 任吉洪 | B28: 590.45242 | C28: =B28*gk_质量奖分配!$D$17/SUM($B$2:$B$53) -> 12772.33
A29: 刘厚江 | B29: 585.49458 | C29: =B29*gk_质量奖分配!$D$17/SUM($B$2:$B$53) -> 12665.085
A30: 郑强秋 | B30: 616.78975 | C30: =B30*gk_质量奖分配!$D$17/SUM($B$2:$B$53) -> 13342.044
A31: 邱宗兰 | B31: 389.86976 | C31: =B31*gk_质量奖分配!$D$17/SUM($B$2:$B$53) -> 8433.44
... A33: 沙华莺 | B33: 595.01833 | C33: =B33*gk_质量奖分配!$D$17/SUM($B$2:$B$53) -> 12871.097
A34: 邱君益 | B34: =97.2140522875817+96.35 -> 193.56405 | C34: =B34*gk_质量奖分配!$D$17/SUM($B$2:$B$53) -> 4187.0671
A35: 田友米 | B35: 581.52551 | C35: =B35*gk_质量奖分配!$D$17/SUM($B$2:$B$53) -> 12579.228
A36: 高琴 | B36: 578.37786 | C36: =B36*gk_质量奖分配!$D$17/SUM($B$2:$B$53) -> 12511.14
A37: 张斯杰 | B37: 403.434 | C37: =B37*gk_质量奖分配!$D$17/SUM($B$2:$B$53) -> 8726.854
A38: 李树海 | B38: 608.561 | C38: =B38*gk_质量奖分配!$D$17/SUM($B$2:$B$53) -> 13164.044
A39: 骆泽群 | B39: 593.67407 | C39: =B39*gk_质量奖分配!$D$17/SUM($B$2:$B$53) -> 12842.019
A40: 金贵 | B40: 196.44292 | C40: =B40*gk_质量奖分配!$D$17/SUM($B$2:$B$53) -> 4249.3412
A41: 龙志云 | B41: 499.1625 | C41: =B41*gk_质量奖分配!$D$17/SUM($B$2:$B$53) -> 10797.598
A42: 陈强 | B42: 400.54469 | C42: =B42*gk_质量奖分配!$D$17/SUM($B$2:$B$53) -> 8664.354
A43: 黄健均 | B43: =396.215499963426+291.063438929718 -> 687.27894 | C43: =B43*gk_质量奖分配!$D$17/SUM($B$2:$B$53) -> 14866.826
A44: 方帮林 | B44: 392.92967 | C44: =B44*gk_质量奖分配!$D$17/SUM($B$2:$B$53) -> 8499.6303
A45: 次珍扎保 | B45: 297.39765 | C45: =B45*gk_质量奖分配!$D$17/SUM($B$2:$B$53) -> 6433.1362
A46: 曹霞 | B46: 198.39039 | C46: =B46*gk_质量奖分配!$D$17/SUM($B$2:$B$53) -> 4291.4676
A47: 梅桂斌 | B47: 196.59734 | C47: =B47*gk_质量奖分配!$D$17/SUM($B$2:$B$53) -> 4252.6814
A48: 李华 | B48: 211.10096 | C48: =B48*gk_质量奖分配!$D$17/SUM($B$2:$B$53) -> 4566.4154
A49: 刘红 | B49: 193.40565 | C49: =B49*gk_质量奖分配!$D$17/SUM($B$2:$B$53) -> 4183.6405
A50: 徐志兵 | B50: 203.45201 | C50: =B50*gk_质量奖分配!$D$17/SUM($B$2:$B$53) -> 4400.9578
A51: 杨建 | B51: 193.19815 | C51: =B51*gk_质量奖分配!$D$17/SUM($B$2:$B$53) -> 4179.1521
A52: 夏宇 | B52: 96.659765 | C52: =B52*gk_质量奖分配!$D$17/SUM($B$2:$B$53) -> 2090.8889
A53: 杨彦俊 | B53: 73.666667 | C53: =B53*gk_质量奖分配!$D$17/SUM($B$2:$B$53) -> 1593.5153
B54: =SUM(B2:B53) -> 23769.254 | C54: =SUM(C2:C53) -> 514162.94

Sheet 3.gk_上线质量
A1: 序号 | B1: 姓名 | C1: 得分 | D1: 金额
A2: 1 | B2: 车梦德 | C2: 594.28 | D2: =gk_质量奖分配!$D$18*C2/SUM($C$2:$C$53) -> 34925.013
A3: 2 | B3: 曹霞 | C3: 68.4 | D3: =gk_质量奖分配!$D$18*C3/SUM($C$2:$C$53) -> 4019.7733
A4: 3 | B4: 陈虎林 | C4: 4.62 | D4: =gk_质量奖分配!$D$18*C4/SUM($C$2:$C$53) -> 271.511
A5: 4 | B5: 陈强 | C5: 65.31 | D5: =gk_质量奖分配!$D$18*C5/SUM($C$2:$C$53) -> 3838.1783
A6: 5 | B6: 次儿祝玛 | C6: 418.29 | D6: =gk_质量奖分配!$D$18*C6/SUM($C$2:$C$53) -> 24582.324
A7: 6 | B7: 次珍扎保 | C7: 30.21 | D7: =gk_质量奖分配!$D$18*C7/SUM($C$2:$C$53) -> 1775.3999
A8: 7 | B8: 邓琪 | C8: 342.9 | D8: =gk_质量奖分配!$D$18*C8/SUM($C$2:$C$53) -> 20151.758
A9: 8 | B9: 东梅 | C9: 256.06 | D9: =gk_质量奖分配!$D$18*C9/SUM($C$2:$C$53) -> 15048.292
A10: 9 | B10: 杜东洋 | C10: 319.23 | D10: =gk_质量奖分配!$D$18*C10/SUM($C$2:$C$53) -> 18760.705
A11: 10 | B11: 方帮林 | C11: 63.696 | D11: =gk_质量奖分配!$D$18*C11/SUM($C$2:$C$53) -> 3743.3257
A12: 11 | B12: 高贵勇 | C12: 460.32 | D12: =gk_质量奖分配!$D$18*C12/SUM($C$2:$C$53) -> 27052.369
A13: 12 | B13: 高琴 | C13: 297.3 | D13: =gk_质量奖分配!$D$18*C13/SUM($C$2:$C$53) -> 17471.909
... A53: 52 | B53: 周菊明 | C53: 126.3 | D53: =gk_质量奖分配!$D$18*C53/SUM($C$2:$C$53) -> 7422.4761
B54: 合计 | C54: =SUM(C2:C53) -> 11665.25 | D54: =SUM(D2:D53) -> 685550.59

Sheet 4.gk_艺体质量
A1: 2024届艺体质量奖
B2: 文化教师考核 | D2: 专业教师考核 | E2: 合计
A3: 授课教师 | B3: 分数 | C3: 金额 | D3: 金额
A4: 曹霞 | B4: 13.2 | C4: =B4*gk_质量奖分配!$D$15/SUM($B$4:$B$50) -> 822.62625 | E4: =C4+D4 -> 822.62625
A5: 车梦德 | B5: 36.6 | C5: =B5*gk_质量奖分配!$D$15/SUM($B$4:$B$50) -> 2280.9182 | E5: =C5+D5 -> 2280.9182
A6: 陈虎林 | B6: 124.2 | C6: =B6*gk_质量奖分配!$D$15/SUM($B$4:$B$50) -> 7740.1651 | E6: =C6+D6 -> 7740.1651
A7: 陈强 | B7: 90.4 | C7: =B7*gk_质量奖分配!$D$15/SUM($B$4:$B$50) -> 5633.7434 | E7: =C7+D7 -> 5633.7434
A8: 次儿祝玛 | B8: 37.2 | C8: =B8*gk_质量奖分配!$D$15/SUM($B$4:$B$50) -> 2318.3103 | E8: =C8+D8 -> 2318.3103
A9: 次珍扎保 | B9: 15 | C9: =B9*gk_质量奖分配!$D$15/SUM($B$4:$B$50) -> 934.80255 | E9: =C9+D9 -> 934.80255
A10: 邓琪 | B10: 202 | C10: =B10*gk_质量奖分配!$D$15/SUM($B$4:$B$50) -> 12588.674 | E10: =C10+D10 -> 12588.674
A11: 东梅 | B11: 43.2 | C11: =B11*gk_质量奖分配!$D$15/SUM($B$4:$B$50) -> 2692.2314 | E11: =C11+D11 -> 2692.2314
A12: 杜东洋 | B12: 7.8 | C12: =B12*gk_质量奖分配!$D$15/SUM($B$4:$B$50) -> 486.09733 | E12: =C12+D12 -> 486.09733
A13: 方帮林 | B13: 16.8 | C13: =B13*gk_质量奖分配!$D$15/SUM($B$4:$B$50) -> 1046.9789 | E13: =C13+D13 -> 1046.9789
A14: 高贵勇 | B14: 6 | C14: =B14*gk_质量奖分配!$D$15/SUM($B$4:$B$50) -> 373.92102 | E14: =C14+D14 -> 373.92102
A15: 高琴 | B15: 19.2 | C15: =B15*gk_质量奖分配!$D$15/SUM($B$4:$B$50) -> 1196.5473 | E15: =C15+D15 -> 1196.5473
... A50: 郑强秋 | B50: 29.4 | C50: =B50*gk_质量奖分配!$D$15/SUM($B$4:$B$50) -> 1832.213 | E50: =C50+D50 -> 1832.213
A51: 申海冰 | D51: 39500 | E51: =C51+D51 -> 39500
A52: 周时德 | D52: 7100 | E52: =C52+D52 -> 7100
A53: 朱梦清 | D53: 5200 | E53: =C53+D53 -> 5200
A54: 汇总 | C54: =SUM(C4:C53) -> 169822.46 | D54: =SUM(D4:D53) -> 51800 | E54: =SUM(E4:E53) -> 221622.46

Sheet 5.gk_超额目标
A1: 序号 | B1: 姓名 | C1: 得分 | D1: 金额
A2: 1 | B2: 车梦德 | C2: 594.28 | D2: =C2*gk_质量奖分配!$D$9/SUM($C$2:$C$53) -> 1630.2231
A3: 2 | B3: 曹霞 | C3: 68.4 | D3: =C3*gk_质量奖分配!$D$9/SUM($C$2:$C$53) -> 187.63421
A4: 3 | B4: 陈虎林 | C4: 4.62 | D4: =C4*gk_质量奖分配!$D$9/SUM($C$2:$C$53) -> 12.673539
A5: 4 | B5: 陈强 | C5: 65.31 | D5: =C5*gk_质量奖分配!$D$9/SUM($C$2:$C$53) -> 179.15775
A6: 5 | B6: 次儿祝玛 | C6: 418.29 | D6: =C6*gk_质量奖分配!$D$9/SUM($C$2:$C$53) -> 1147.449
A7: 6 | B7: 次珍扎保 | C7: 30.21 | D7: =C7*gk_质量奖分配!$D$9/SUM($C$2:$C$53) -> 82.871777
A8: 7 | B8: 邓琪 | C8: 342.9 | D8: =C8*gk_质量奖分配!$D$9/SUM($C$2:$C$53) -> 940.63993
A9: 8 | B9: 东梅 | C9: 256.06 | D9: =C9*gk_质量奖分配!$D$9/SUM($C$2:$C$53) -> 702.42129
A10: 9 | B10: 杜东洋 | C10: 319.23 | D10: =C10*gk_质量奖分配!$D$9/SUM($C$2:$C$53) -> 875.70862
A11: 10 | B11: 方帮林 | C11: 63.696 | D11: =C11*gk_质量奖分配!$D$9/SUM($C$2:$C$53) -> 174.73025
A12: 11 | B12: 高贵勇 | C12: 460.32 | D12: =C12*gk_质量奖分配!$D$9/SUM($C$2:$C$53) -> 1262.7453
A13: 12 | B13: 高琴 | C13: 297.3 | D13: =C13*gk_质量奖分配!$D$9/SUM($C$2:$C$53) -> 815.55046
... A53: 53 | B53: 周菊明 | C53: 126.3 | D53: =C53*gk_质量奖分配!$D$9/SUM($C$2:$C$53) -> 346.46493
A54: 总计 | C54: =SUM(C2:C53) -> 11665.25 | D54: =SUM(D2:D53) -> 32000

Sheet 6.gk_年级管理
A1: 姓名 | B1: 年级管理 | C1: 班级管理 | D1: 奖金
A2: 黄河 | B2: 2741.76 | D2: =B2+C2 -> 2741.76
A3: 欧禹良 | B3: 2741.76 | D3: =B3+C3 -> 2741.76
A4: 李树海 | B4: 3655.68 | D4: =B4+C4 -> 3655.68
A5: 龙志云 | B5: 3655.68 | D5: =B5+C5 -> 3655.68
A6: 扎拉 | B6: 5788.16 | D6: =B6+C6 -> 5788.16
A7: 苏朗偏初 | B7: 2741.76 | C7: 1004.3077 | D7: =B7+C7 -> 3746.0677
A8: 东梅 | B8: 1305.6 | D8: =B8+C8 -> 1305.6
A9: 高贵勇 | B9: 1305.6 | D9: =B9+C9 -> 1305.6
A10: 田友米 | B10: 1305.6 | C10: 1004.3077 | D10: =B10+C10 -> 2309.9077
A11: 廖云虹 | B11: 1305.6 | D11: =B11+C11 -> 1305.6
A12: 邱君益 | B12: 1305.6 | D12: =B12+C12 -> 1305.6
A13: 杜东洋 | B13: 1305.6 | D13: =B13+C13 -> 1305.6
A14: 任吉洪 | B14: 1305.6 | C14: 1004.3077 | D14: =B14+C14 -> 2309.9077
A15: 高琴 | C15: 1004.3077 | D15: =B15+C15 -> 1004.3077
A16: 郑强秋 | C16: 1004.3077 | D16: =B16+C16 -> 1004.3077
A17: 胡伟杰 | C17: 1004.3077 | D17: =B17+C17 -> 1004.3077
A18: 马磊 | C18: 1004.3077 | D18: =B18+C18 -> 1004.3077
A19: 龚霞 | C19: 1004.3077 | D19: =B19+C19 -> 1004.3077
A20: 次儿祝玛 | C20: 1004.3077 | D20: =B20+C20 -> 1004.3077
A21: 尹应娇 | C21: 1004.3077 | D21: =B21+C21 -> 1004.3077
A22: 骆泽群 | C22: 1004.3077 | D22: =B22+C22 -> 1004.3077
A23: 向雅欣 | C23: 1004.3077 | D23: =B23+C23 -> 1004.3077
A24: 邓琪 | C24: 1004.3077 | D24: =B24+C24 -> 1004.3077
A25: 合计 | B25: =SUM(B2:B24) -> 30464 | C25: =SUM(C2:C24) -> 13056 | D25: =SUM(D2:D24) -> 43520

Sheet Sheet1
A1: 黄河
A2: 欧禹良
A3: 李树海
A4: 龙志云
A5: 扎拉
A6: 苏朗偏初
A7: 东梅
A8: 高贵勇
A9: 田友米
A10: 廖云虹
A11: 邱君益
A12: 杜东洋
... A23: 邓琪
