Workbook

Sheet 成绩
A1: 身份证号码 | B1: 学籍号 | C1: 班级 | D1: 科类(理科/文科) | E1: 姓名 | F1: 总分 | G1: 高考 | S1: 高三上 | AE1: 高二下 | AQ1: 高二上 | BC1: 高一下 | BO1: 高一上 | CA1: 中考
G2: 语文 | I2: 数学 | K2: 英语 | M2: 物理/政治 | O2: 化学/历史 | Q2: 生物/地理 | S2: 语文 | U2: 数学 | W2: 英语 | Y2: 物理/政治 | AA2: 化学/历史 | AC2: 生物/地理 | AE2: 语文 | AG2: 数学 | AI2: 英语 | AK2: 物理/政治 | AM2: 化学/历史 | AO2: 生物/地理 | AQ2: 语文 | AS2: 数学 | AU2: 英语 | AW2: 物理/政治 | AY2: 化学/历史 | BA2: 生物/地理 | BC2: 语文 | BE2: 数学 | BG2: 英语 | BI2: 物理/政治 | BK2: 化学/历史 | BM2: 生物/地理 | BO2: 语文 | BQ2: 数学 | BS2: 英语 | BU2: 物理/政治 | BW2: 化学/历史 | BY2: 生物/地理 | CA2: 语文 | CB2: 数学 | CC2: 英语 | CD2: 物理/政治 | CE2: 化学/历史 | CF2: 生物/地理
G3: 成绩 | H3: 教师 | I3: 成绩 | J3: 教师 | K3: 成绩 | L3: 教师 | M3: 成绩 | N3: 教师 | O3: 成绩 | P3: 教师 | Q3: 成绩 | R3: 教师 | S3: 成绩 | T3: 教师 | U3: 成绩 | V3: 教师 | W3: 成绩 | X3: 教师 | Y3: 成绩 | Z3: 教师 | AA3: 成绩 | AB3: 教师 | AC3: 成绩 | AD3: 教师 | AE3: 成绩 | AF3: 教师 | AG3: 成绩 | AH3: 教师 | AI3: 成绩 | AJ3: 教师 | AK3: 成绩 | AL3: 教师 | AM3: 成绩 | AN3: 教师 | AO3: 成绩 | AP3: 教师 | AQ3: 成绩 | AR3: 教师 | AS3: 成绩 | AT3: 教师 | AU3: 成绩 | AV3: 教师 | AW3: 成绩 | AX3: 教师 | AY3: 成绩 | AZ3: 教师 | BA3: 成绩 | BB3: 教师 | BC3: 成绩 | BD3: 教师 | BE3: 成绩 | BF3: 教师 | BG3: 成绩 | BH3: 教师 | BI3: 成绩 | BJ3: 教师 | BK3: 成绩 | BL3: 教师 | BM3: 成绩 | BN3: 教师 | BO3: 成绩 | BP3: 教师 | BQ3: 成绩 | BR3: 教师 | BS3: 成绩 | BT3: 教师 | BU3: 成绩 | BV3: 教师 | BW3: 成绩 | BX3: 教师 | BY3: 成绩 | BZ3: 教师 | CA3: 成绩 | CB3: 成绩 | CC3: 成绩 | CD3: 成绩 | CE3: 成绩 | CF3: 成绩
A4: 513422200405131121 | B4: G513422200405131121 | C4: 01 | D4: 理科 | E4: 毛建英 | F4: 642 | G4: 120 | H4: 龚霞 | I4: 133 | J4: 扎拉 | K4: 140 | L4: 肖秀秀 | M4: 83.5 | N4: 兰举银 | O4: 90.5 | P4: 任吉洪 | Q4: 75 | R4: 田友米 | S4: =VLOOKUP(B4,[1]高三上!$B:$R,6,0) -> 111 | T4: =VLOOKUP(B4,[1]高三上!$B:$R,7,0) -> 龚霞 | U4: =VLOOKUP(B4,[1]高三上!$B:$R,8,0) -> 138 | V4: =VLOOKUP(B4,[1]高三上!$B:$R,9,0) -> 扎拉 | W4: =VLOOKUP(B4,[1]高三上!$B:$R,10,0) -> 135 | X4: =VLOOKUP(B4,[1]高三上!$B:$R,11,0) -> 肖秀秀 | Y4: =VLOOKUP(B4,[1]高三上!$B:$R,12,0) -> 81 | Z4: =VLOOKUP(B4,[1]高三上!$B:$R,13,0) -> 兰举银 | AA4: =VLOOKUP(B4,[1]高三上!$B:$R,14,0) -> 66 | AB4: =VLOOKUP(B4,[1]高三上!$B:$R,15,0) -> 任吉洪 | AC4: =VLOOKUP(B4,[1]高三上!$B:$R,16,0) -> 86 | AD4: =VLOOKUP(B4,[1]高三上!$B:$R,17,0) -> 田友米 | AE4: =VLOOKUP($B4,[1]高二下!$B:$R,6,0) -> 105.0 | AF4: =VLOOKUP($B4,[1]高二下!$B:$R,7,0) -> 龚霞 | AG4: =VLOOKUP($B4,[1]高二下!$B:$R,8,0) -> 142.0 | AH4: =VLOOKUP($B4,[1]高二下!$B:$R,9,0) -> 扎拉 | AI4: =VLOOKUP($B4,[1]高二下!$B:$R,10,0) -> 94.0 | AJ4: =VLOOKUP($B4,[1]高二下!$B:$R,11,0) -> 肖秀秀 | AK4: =VLOOKUP($B4,[1]高二下!$B:$R,12,0) -> 87.0 | AL4: =VLOOKUP($B4,[1]高二下!$B:$R,13,0) -> 兰举银 | AM4: =VLOOKUP($B4,[1]高二下!$B:$R,14,0) -> 91.0 | AN4: =VLOOKUP($B4,[1]高二下!$B:$R,15,0) -> 任吉洪 | AO4: =VLOOKUP($B4,[1]高二下!$B:$R,16,0) -> 137.0 | AP4: =VLOOKUP($B4,[1]高二下!$B:$R,17,0) -> 田友米 | AQ4: =VLOOKUP($B4,[2]高二上!$B:$R,6,0) -> #N/A | AR4: =VLOOKUP($B4,[2]高二上!$B:$R,7,0) -> #N/A | AS4: =VLOOKUP($B4,[2]高二上!$B:$R,8,0) -> #N/A | AT4: =VLOOKUP($B4,[2]高二上!$B:$R,9,0) -> #N/A | AU4: =VLOOKUP($B4,[2]高二上!$B:$R,10,0) -> #N/A | AV4: =VLOOKUP($B4,[2]高二上!$B:$R,11,0) -> #N/A | AW4: =VLOOKUP($B4,[2]高二上!$B:$R,12,0) -> #N/A | AX4: =VLOOKUP($B4,[2]高二上!$B:$R,13,0) -> #N/A | AY4: =VLOOKUP($B4,[2]高二上!$B:$R,14,0) -> #N/A | AZ4: =VLOOKUP($B4,[2]高二上!$B:$R,15,0) -> #N/A | BA4: =VLOOKUP($B4,[2]高二上!$B:$R,16,0) -> #N/A | BB4: =VLOOKUP($B4,[2]高二上!$B:$R,17,0) -> #N/A | BC4: =VLOOKUP($B4,[1]高一下!$B:$R,6,0) -> 115 | BD4: =VLOOKUP($B4,[1]高一下!$B:$R,7,0) -> 龚霞 | BE4: =VLOOKUP($B4,[1]高一下!$B:$R,8,0) -> 135 | BF4: =VLOOKUP($B4,[1]高一下!$B:$R,9,0) -> 扎拉 | BG4: =VLOOKUP($B4,[1]高一下!$B:$R,10,0) -> 130 | BH4: =VLOOKUP($B4,[1]高一下!$B:$R,11,0) -> 肖秀秀 | BI4: =VLOOKUP($B4,[1]高一下!$B:$R,12,0) -> 93 | BJ4: =VLOOKUP($B4,[1]高一下!$B:$R,13,0) -> 兰举银 | BK4: =VLOOKUP($B4,[1]高一下!$B:$R,14,0) -> 90 | BL4: =VLOOKUP($B4,[1]高一下!$B:$R,15,0) -> 任吉洪 | BM4: =VLOOKUP($B4,[1]高一下!$B:$R,16,0) -> 88 | BN4: =VLOOKUP($B4,[1]高一下!$B:$R,17,0) -> 田友米 | BO4: =VLOOKUP($B4,[1]高一上!$B:$W,5,0) -> 101.5 | BP4: =VLOOKUP($B4,[1]高一上!$B:$W,6,0) -> 龚霞 | BQ4: =VLOOKUP($B4,[1]高一上!$B:$W,7,0) -> 123 | BR4: =VLOOKUP($B4,[1]高一上!$B:$W,8,0) -> 扎拉 | BS4: =VLOOKUP($B4,[1]高一上!$B:$W,9,0) -> 137 | BT4: =VLOOKUP($B4,[1]高一上!$B:$W,10,0) -> 肖秀秀 | BU4: =VLOOKUP($B4,[1]高一上!$B:$W,11,0) -> 80 | BV4: =VLOOKUP($B4,[1]高一上!$B:$W,12,0) -> 兰举银 | BW4: =VLOOKUP($B4,[1]高一上!$B:$W,13,0) -> 96.5 | BX4: =VLOOKUP($B4,[1]高一上!$B:$W,14,0) -> 任吉洪 | BY4: =VLOOKUP($B4,[1]高一上!$B:$W,15,0) -> 93 | BZ4: =VLOOKUP($B4,[1]高一上!$B:$W,16,0) -> 田友米 | CA4: =VLOOKUP($B4,[1]中考!$B:$N,5,0) -> 119 | CB4: =VLOOKUP($B4,[1]中考!$B:$N,6,0) -> 149 | CC4: =VLOOKUP($B4,[1]中考!$B:$N,7,0) -> 148 | CD4: =VLOOKUP($B4,[1]中考!$B:$N,8,0) -> 61 | CE4: =VLOOKUP($B4,[1]中考!$B:$N,9,0) -> 47 | CF4: =VLOOKUP($B4,[1]中考!$B:$N,10,0) -> 49
A5: 510922200409165251 | B5: G510922200409165251 | C5: 01 | D5: 理科 | E5: 孔令发 | F5: 625 | G5: 110 | H5: 龚霞 | I5: 120 | J5: 扎拉 | K5: 122 | L5: 肖秀秀 | M5: 96 | N5: 兰举银 | O5: 96 | P5: 任吉洪 | Q5: 80.5 | R5: 田友米 | S5: =VLOOKUP(B5,[1]高三上!$B:$R,6,0) -> 105.5 | T5: =VLOOKUP(B5,[1]高三上!$B:$R,7,0) -> 龚霞 | U5: =VLOOKUP(B5,[1]高三上!$B:$R,8,0) -> 122 | V5: =VLOOKUP(B5,[1]高三上!$B:$R,9,0) -> 扎拉 | W5: =VLOOKUP(B5,[1]高三上!$B:$R,10,0) -> 117.5 | X5: =VLOOKUP(B5,[1]高三上!$B:$R,11,0) -> 肖秀秀 | Y5: =VLOOKUP(B5,[1]高三上!$B:$R,12,0) -> 63 | Z5: =VLOOKUP(B5,[1]高三上!$B:$R,13,0) -> 兰举银 | AA5: =VLOOKUP(B5,[1]高三上!$B:$R,14,0) -> 84 | AB5: =VLOOKUP(B5,[1]高三上!$B:$R,15,0) -> 任吉洪 | AC5: =VLOOKUP(B5,[1]高三上!$B:$R,16,0) -> 74.5 | AD5: =VLOOKUP(B5,[1]高三上!$B:$R,17,0) -> 田友米 | AE5: =VLOOKUP($B5,[1]高二下!$B:$R,6,0) -> 107.0 | AF5: =VLOOKUP($B5,[1]高二下!$B:$R,7,0) -> 龚霞 | AG5: =VLOOKUP($B5,[1]高二下!$B:$R,8,0) -> 122.0 | AH5: =VLOOKUP($B5,[1]高二下!$B:$R,9,0) -> 扎拉 | AI5: =VLOOKUP($B5,[1]高二下!$B:$R,10,0) -> 74.0 | AJ5: =VLOOKUP($B5,[1]高二下!$B:$R,11,0) -> 肖秀秀 | AK5: =VLOOKUP($B5,[1]高二下!$B:$R,12,0) -> 84.0 | AL5: =VLOOKUP($B5,[1]高二下!$B:$R,13,0) -> 兰举银 | AM5: =VLOOKUP($B5,[1]高二下!$B:$R,14,0) -> 93.0 | AN5: =VLOOKUP($B5,[1]高二下!$B:$R,15,0) -> 任吉洪 | AO5: =VLOOKUP($B5,[1]高二下!$B:$R,16,0) -> 122.0 | AP5: =VLOOKUP($B5,[1]高二下!$B:$R,17,0) -> 田友米 | AQ5: =VLOOKUP($B5,[2]高二上!$B:$R,6,0) -> #N/A | AR5: =VLOOKUP($B5,[2]高二上!$B:$R,7,0) -> #N/A | AS5: =VLOOKUP($B5,[2]高二上!$B:$R,8,0) -> #N/A | AT5: =VLOOKUP($B5,[2]高二上!$B:$R,9,0) -> #N/A | AU5: =VLOOKUP($B5,[2]高二上!$B:$R,10,0) -> #N/A | AV5: =VLOOKUP($B5,[2]高二上!$B:$R,11,0) -> #N/A | AW5: =VLOOKUP($B5,[2]高二上!$B:$R,12,0) -> #N/A | AX5: =VLOOKUP($B5,[2]高二上!$B:$R,13,0) -> #N/A | AY5: =VLOOKUP($B5,[2]高二上!$B:$R,14,0) -> #N/A | AZ5: =VLOOKUP($B5,[2]高二上!$B:$R,15,0) -> #N/A | BA5: =VLOOKUP($B5,[2]高二上!$B:$R,16,0) -> #N/A | BB5: =VLOOKUP($B5,[2]高二上!$B:$R,17,0) -> #N/A | BC5: =VLOOKUP($B5,[1]高一下!$B:$R,6,0) -> 107 | BD5: =VLOOKUP($B5,[1]高一下!$B:$R,7,0) -> 龚霞 | BE5: =VLOOKUP($B5,[1]高一下!$B:$R,8,0) -> 139 | BF5: =VLOOKUP($B5,[1]高一下!$B:$R,9,0) -> 扎拉 | BG5: =VLOOKUP($B5,[1]高一下!$B:$R,10,0) -> 100.5 | BH5: =VLOOKUP($B5,[1]高一下!$B:$R,11,0) -> 肖秀秀 | BI5: =VLOOKUP($B5,[1]高一下!$B:$R,12,0) -> 79 | BJ5: =VLOOKUP($B5,[1]高一下!$B:$R,13,0) -> 兰举银 | BK5: =VLOOKUP($B5,[1]高一下!$B:$R,14,0) -> 91 | BL5: =VLOOKUP($B5,[1]高一下!$B:$R,15,0) -> 任吉洪 | BM5: =VLOOKUP($B5,[1]高一下!$B:$R,16,0) -> 87 | BN5: =VLOOKUP($B5,[1]高一下!$B:$R,17,0) -> 田友米 | BO5: =VLOOKUP($B5,[1]高一上!$B:$W,5,0) -> 101 | BP5: =VLOOKUP($B5,[1]高一上!$B:$W,6,0) -> 龚霞 | BQ5: =VLOOKUP($B5,[1]高一上!$B:$W,7,0) -> 125 | BR5: =VLOOKUP($B5,[1]高一上!$B:$W,8,0) -> 扎拉 | BS5: =VLOOKUP($B5,[1]高一上!$B:$W,9,0) -> 105 | BT5: =VLOOKUP($B5,[1]高一上!$B:$W,10,0) -> 肖秀秀 | BU5: =VLOOKUP($B5,[1]高一上!$B:$W,11,0) -> 76.5 | BV5: =VLOOKUP($B5,[1]高一上!$B:$W,12,0) -> 兰举银 | BW5: =VLOOKUP($B5,[1]高一上!$B:$W,13,0) -> 88.5 | BX5: =VLOOKUP($B5,[1]高一上!$B:$W,14,0) -> 任吉洪 | BY5: =VLOOKUP($B5,[1]高一上!$B:$W,15,0) -> 84 | BZ5: =VLOOKUP($B5,[1]高一上!$B:$W,16,0) -> 田友米 | CA5: =VLOOKUP($B5,[1]中考!$B:$N,5,0) -> 110 | CB5: =VLOOKUP($B5,[1]中考!$B:$N,6,0) -> 133 | CC5: =VLOOKUP($B5,[1]中考!$B:$N,7,0) -> 143 | CD5: =VLOOKUP($B5,[1]中考!$B:$N,8,0) -> 66 | CE5: =VLOOKUP($B5,[1]中考!$B:$N,9,0) -> 48 | CF5: =VLOOKUP($B5,[1]中考!$B:$N,10,0) -> 45
A6: 513422200603240310 | B6: G513422200603240310 | C6: 01 | D6: 理科 | E6: 张爱民 | F6: 625 | G6: 112 | H6: 龚霞 | I6: 128 | J6: 扎拉 | K6: 116 | L6: 肖秀秀 | M6: 98.5 | N6: 兰举银 | O6: 89 | P6: 任吉洪 | Q6: 81 | R6: 田友米 | S6: =VLOOKUP(B6,[1]高三上!$B:$R,6,0) -> 102.5 | T6: =VLOOKUP(B6,[1]高三上!$B:$R,7,0) -> 龚霞 | U6: =VLOOKUP(B6,[1]高三上!$B:$R,8,0) -> 121 | V6: =VLOOKUP(B6,[1]高三上!$B:$R,9,0) -> 扎拉 | W6: =VLOOKUP(B6,[1]高三上!$B:$R,10,0) -> 96.5 | X6: =VLOOKUP(B6,[1]高三上!$B:$R,11,0) -> 肖秀秀 | Y6: =VLOOKUP(B6,[1]高三上!$B:$R,12,0) -> 84 | Z6: =VLOOKUP(B6,[1]高三上!$B:$R,13,0) -> 兰举银 | AA6: =VLOOKUP(B6,[1]高三上!$B:$R,14,0) -> 71 | AB6: =VLOOKUP(B6,[1]高三上!$B:$R,15,0) -> 任吉洪 | AC6: =VLOOKUP(B6,[1]高三上!$B:$R,16,0) -> 72 | AD6: =VLOOKUP(B6,[1]高三上!$B:$R,17,0) -> 田友米 | AE6: =VLOOKUP($B6,[1]高二下!$B:$R,6,0) -> 104.0 | AF6: =VLOOKUP($B6,[1]高二下!$B:$R,7,0) -> 龚霞 | AG6: =VLOOKUP($B6,[1]高二下!$B:$R,8,0) -> 112.5 | AH6: =VLOOKUP($B6,[1]高二下!$B:$R,9,0) -> 扎拉 | AI6: =VLOOKUP($B6,[1]高二下!$B:$R,10,0) -> 69.0 | AJ6: =VLOOKUP($B6,[1]高二下!$B:$R,11,0) -> 肖秀秀 | AK6: =VLOOKUP($B6,[1]高二下!$B:$R,12,0) -> 79.0 | AL6: =VLOOKUP($B6,[1]高二下!$B:$R,13,0) -> 兰举银 | AM6: =VLOOKUP($B6,[1]高二下!$B:$R,14,0) -> 92.0 | AN6: =VLOOKUP($B6,[1]高二下!$B:$R,15,0) -> 任吉洪 | AO6: =VLOOKUP($B6,[1]高二下!$B:$R,16,0) -> 123.0 | AP6: =VLOOKUP($B6,[1]高二下!$B:$R,17,0) -> 田友米 | AQ6: =VLOOKUP($B6,[2]高二上!$B:$R,6,0) -> #N/A | AR6: =VLOOKUP($B6,[2]高二上!$B:$R,7,0) -> #N/A | AS6: =VLOOKUP($B6,[2]高二上!$B:$R,8,0) -> #N/A | AT6: =VLOOKUP($B6,[2]高二上!$B:$R,9,0) -> #N/A | AU6: =VLOOKUP($B6,[2]高二上!$B:$R,10,0) -> #N/A | AV6: =VLOOKUP($B6,[2]高二上!$B:$R,11,0) -> #N/A | AW6: =VLOOKUP($B6,[2]高二上!$B:$R,12,0) -> #N/A | AX6: =VLOOKUP($B6,[2]高二上!$B:$R,13,0) -> #N/A | AY6: =VLOOKUP($B6,[2]高二上!$B:$R,14,0) -> #N/A | AZ6: =VLOOKUP($B6,[2]高二上!$B:$R,15,0) -> #N/A | BA6: =VLOOKUP($B6,[2]高二上!$B:$R,16,0) -> #N/A | BB6: =VLOOKUP($B6,[2]高二上!$B:$R,17,0) -> #N/A | BC6: =VLOOKUP($B6,[1]高一下!$B:$R,6,0) -> 96 | BD6: =VLOOKUP($B6,[1]高一下!$B:$R,7,0) -> 龚霞 | BE6: =VLOOKUP($B6,[1]高一下!$B:$R,8,0) -> 113 | BF6: =VLOOKUP($B6,[1]高一下!$B:$R,9,0) -> 扎拉 | BG6: =VLOOKUP($B6,[1]高一下!$B:$R,10,0) -> 78 | BH6: =VLOOKUP($B6,[1]高一下!$B:$R,11,0) -> 肖秀秀 | BI6: =VLOOKUP($B6,[1]高一下!$B:$R,12,0) -> 69 | BJ6: =VLOOKUP($B6,[1]高一下!$B:$R,13,0) -> 兰举银 | BK6: =VLOOKUP($B6,[1]高一下!$B:$R,14,0) -> 82 | BL6: =VLOOKUP($B6,[1]高一下!$B:$R,15,0) -> 任吉洪 | BM6: =VLOOKUP($B6,[1]高一下!$B:$R,16,0) -> 81 | BN6: =VLOOKUP($B6,[1]高一下!$B:$R,17,0) -> 田友米 | BO6: =VLOOKUP($B6,[1]高一上!$B:$W,5,0) -> 92 | BP6: =VLOOKUP($B6,[1]高一上!$B:$W,6,0) -> 龚霞 | BQ6: =VLOOKUP($B6,[1]高一上!$B:$W,7,0) -> 97 | BR6: =VLOOKUP($B6,[1]高一上!$B:$W,8,0) -> 扎拉 | BS6: =VLOOKUP($B6,[1]高一上!$B:$W,9,0) -> 89.5 | BT6: =VLOOKUP($B6,[1]高一上!$B:$W,10,0) -> 肖秀秀 | BU6: =VLOOKUP($B6,[1]高一上!$B:$W,11,0) -> 77.5 | BV6: =VLOOKUP($B6,[1]高一上!$B:$W,12,0) -> 兰举银 | BW6: =VLOOKUP($B6,[1]高一上!$B:$W,13,0) -> 84.5 | BX6: =VLOOKUP($B6,[1]高一上!$B:$W,14,0) -> 任吉洪 | BY6: =VLOOKUP($B6,[1]高一上!$B:$W,15,0) -> 84 | BZ6: =VLOOKUP($B6,[1]高一上!$B:$W,16,0) -> 田友米 | CA6: =VLOOKUP($B6,[1]中考!$B:$N,5,0) -> 102 | CB6: =VLOOKUP($B6,[1]中考!$B:$N,6,0) -> 118 | CC6: =VLOOKUP($B6,[1]中考!$B:$N,7,0) -> 119 | CD6: =VLOOKUP($B6,[1]中考!$B:$N,8,0) -> 55 | CE6: =VLOOKUP($B6,[1]中考!$B:$N,9,0) -> 44 | CF6: =VLOOKUP($B6,[1]中考!$B:$N,10,0) -> 45
A7: 513422200410210713 | B7: G513422200410210713 | C7: 01 | D7: 理科 | E7: 王平 | F7: 615 | G7: 117 | H7: 龚霞 | I7: 116 | J7: 扎拉 | K7: 113 | L7: 肖秀秀 | M7: 98 | N7: 兰举银 | O7: 85.5 | P7: 任吉洪 | Q7: 85.5 | R7: 田友米 | S7: =VLOOKUP(B7,[1]高三上!$B:$R,6,0) -> 106.5 | T7: =VLOOKUP(B7,[1]高三上!$B:$R,7,0) -> 龚霞 | U7: =VLOOKUP(B7,[1]高三上!$B:$R,8,0) -> 104 | V7: =VLOOKUP(B7,[1]高三上!$B:$R,9,0) -> 扎拉 | W7: =VLOOKUP(B7,[1]高三上!$B:$R,10,0) -> 107.5 | X7: =VLOOKUP(B7,[1]高三上!$B:$R,11,0) -> 肖秀秀 | Y7: =VLOOKUP(B7,[1]高三上!$B:$R,12,0) -> 81 | Z7: =VLOOKUP(B7,[1]高三上!$B:$R,13,0) -> 兰举银 | AA7: =VLOOKUP(B7,[1]高三上!$B:$R,14,0) -> 78 | AB7: =VLOOKUP(B7,[1]高三上!$B:$R,15,0) -> 任吉洪 | AC7: =VLOOKUP(B7,[1]高三上!$B:$R,16,0) -> 67 | AD7: =VLOOKUP(B7,[1]高三上!$B:$R,17,0) -> 田友米 | AE7: =VLOOKUP($B7,[1]高二下!$B:$R,6,0) -> 100.0 | AF7: =VLOOKUP($B7,[1]高二下!$B:$R,7,0) -> 龚霞 | AG7: =VLOOKUP($B7,[1]高二下!$B:$R,8,0) -> 106.0 | AH7: =VLOOKUP($B7,[1]高二下!$B:$R,9,0) -> 扎拉 | AI7: =VLOOKUP($B7,[1]高二下!$B:$R,10,0) -> 92.0 | AJ7: =VLOOKUP($B7,[1]高二下!$B:$R,11,0) -> 肖秀秀 | AK7: =VLOOKUP($B7,[1]高二下!$B:$R,12,0) -> 89.0 | AL7: =VLOOKUP($B7,[1]高二下!$B:$R,13,0) -> 兰举银 | AM7: =VLOOKUP($B7,[1]高二下!$B:$R,14,0) -> 89.0 | AN7: =VLOOKUP($B7,[1]高二下!$B:$R,15,0) -> 任吉洪 | AO7: =VLOOKUP($B7,[1]高二下!$B:$R,16,0) -> 129.0 | AP7: =VLOOKUP($B7,[1]高二下!$B:$R,17,0) -> 田友米 | AQ7: =VLOOKUP($B7,[2]高二上!$B:$R,6,0) -> #N/A | AR7: =VLOOKUP($B7,[2]高二上!$B:$R,7,0) -> #N/A | AS7: =VLOOKUP($B7,[2]高二上!$B:$R,8,0) -> #N/A | AT7: =VLOOKUP($B7,[2]高二上!$B:$R,9,0) -> #N/A | AU7: =VLOOKUP($B7,[2]高二上!$B:$R,10,0) -> #N/A | AV7: =VLOOKUP($B7,[2]高二上!$B:$R,11,0) -> #N/A | AW7: =VLOOKUP($B7,[2]高二上!$B:$R,12,0) -> #N/A | AX7: =VLOOKUP($B7,[2]高二上!$B:$R,13,0) -> #N/A | AY7: =VLOOKUP($B7,[2]高二上!$B:$R,14,0) -> #N/A | AZ7: =VLOOKUP($B7,[2]高二上!$B:$R,15,0) -> #N/A | BA7: =VLOOKUP($B7,[2]高二上!$B:$R,16,0) -> #N/A | BB7: =VLOOKUP($B7,[2]高二上!$B:$R,17,0) -> #N/A | BC7: =VLOOKUP($B7,[1]高一下!$B:$R,6,0) -> 106 | BD7: =VLOOKUP($B7,[1]高一下!$B:$R,7,0) -> 龚霞 | BE7: =VLOOKUP($B7,[1]高一下!$B:$R,8,0) -> 135 | BF7: =VLOOKUP($B7,[1]高一下!$B:$R,9,0) -> 扎拉 | BG7: =VLOOKUP($B7,[1]高一下!$B:$R,10,0) -> 93.5 | BH7: =VLOOKUP($B7,[1]高一下!$B:$R,11,0) -> 肖秀秀 | BI7: =VLOOKUP($B7,[1]高一下!$B:$R,12,0) -> 91 | BJ7: =VLOOKUP($B7,[1]高一下!$B:$R,13,0) -> 兰举银 | BK7: =VLOOKUP($B7,[1]高一下!$B:$R,14,0) -> 97 | BL7: =VLOOKUP($B7,[1]高一下!$B:$R,15,0) -> 任吉洪 | BM7: =VLOOKUP($B7,[1]高一下!$B:$R,16,0) -> 75 | BN7: =VLOOKUP($B7,[1]高一下!$B:$R,17,0) -> 田友米 | BO7: =VLOOKUP($B7,[1]高一上!$B:$W,5,0) -> 97 | BP7: =VLOOKUP($B7,[1]高一上!$B:$W,6,0) -> 龚霞 | BQ7: =VLOOKUP($B7,[1]高一上!$B:$W,7,0) -> 114 | BR7: =VLOOKUP($B7,[1]高一上!$B:$W,8,0) -> 扎拉 | BS7: =VLOOKUP($B7,[1]高一上!$B:$W,9,0) -> 97 | BT7: =VLOOKUP($B7,[1]高一上!$B:$W,10,0) -> 肖秀秀 | BU7: =VLOOKUP($B7,[1]高一上!$B:$W,11,0) -> 91 | BV7: =VLOOKUP($B7,[1]高一上!$B:$W,12,0) -> 兰举银 | BW7: =VLOOKUP($B7,[1]高一上!$B:$W,13,0) -> 93 | BX7: =VLOOKUP($B7,[1]高一上!$B:$W,14,0) -> 任吉洪 | BY7: =VLOOKUP($B7,[1]高一上!$B:$W,15,0) -> 90 | BZ7: =VLOOKUP($B7,[1]高一上!$B:$W,16,0) -> 田友米 | CA7: =VLOOKUP($B7,[1]中考!$B:$N,5,0) -> 110 | CB7: =VLOOKUP($B7,[1]中考!$B:$N,6,0) -> 123 | CC7: =VLOOKUP($B7,[1]中考!$B:$N,7,0) -> 120 | CD7: =VLOOKUP($B7,[1]中考!$B:$N,8,0) -> 69 | CE7: =VLOOKUP($B7,[1]中考!$B:$N,9,0) -> 44 | CF7: =VLOOKUP($B7,[1]中考!$B:$N,10,0) -> 46
A8: 513422200704034823 | B8: G513422200704034823 | C8: 01 | D8: 理科 | E8: 次伦 | F8: 611 | G8: 119 | H8: 龚霞 | I8: 113 | J8: 扎拉 | K8: 133 | L8: 肖秀秀 | M8: 91.5 | N8: 兰举银 | O8: 74 | P8: 任吉洪 | Q8: 80.5 | R8: 田友米 | S8: =VLOOKUP(B8,[1]高三上!$B:$R,6,0) -> 108.5 | T8: =VLOOKUP(B8,[1]高三上!$B:$R,7,0) -> 龚霞 | U8: =VLOOKUP(B8,[1]高三上!$B:$R,8,0) -> 100.5 | V8: =VLOOKUP(B8,[1]高三上!$B:$R,9,0) -> 扎拉 | W8: =VLOOKUP(B8,[1]高三上!$B:$R,10,0) -> 124 | X8: =VLOOKUP(B8,[1]高三上!$B:$R,11,0) -> 肖秀秀 | Y8: =VLOOKUP(B8,[1]高三上!$B:$R,12,0) -> 59 | Z8: =VLOOKUP(B8,[1]高三上!$B:$R,13,0) -> 兰举银 | AA8: =VLOOKUP(B8,[1]高三上!$B:$R,14,0) -> 63 | AB8: =VLOOKUP(B8,[1]高三上!$B:$R,15,0) -> 任吉洪 | AC8: =VLOOKUP(B8,[1]高三上!$B:$R,16,0) -> 71 | AD8: =VLOOKUP(B8,[1]高三上!$B:$R,17,0) -> 田友米 | AE8: =VLOOKUP($B8,[1]高二下!$B:$R,6,0) -> 101.0 | AF8: =VLOOKUP($B8,[1]高二下!$B:$R,7,0) -> 龚霞 | AG8: =VLOOKUP($B8,[1]高二下!$B:$R,8,0) -> 131.5 | AH8: =VLOOKUP($B8,[1]高二下!$B:$R,9,0) -> 扎拉 | AI8: =VLOOKUP($B8,[1]高二下!$B:$R,10,0) -> 41.0 | AJ8: =VLOOKUP($B8,[1]高二下!$B:$R,11,0) -> 肖秀秀 | AK8: =VLOOKUP($B8,[1]高二下!$B:$R,12,0) -> 66.0 | AL8: =VLOOKUP($B8,[1]高二下!$B:$R,13,0) -> 兰举银 | AM8: =VLOOKUP($B8,[1]高二下!$B:$R,14,0) -> 86.0 | AN8: =VLOOKUP($B8,[1]高二下!$B:$R,15,0) -> 任吉洪 | AO8: =VLOOKUP($B8,[1]高二下!$B:$R,16,0) -> 134.0 | AP8: =VLOOKUP($B8,[1]高二下!$B:$R,17,0) -> 田友米 | AQ8: =VLOOKUP($B8,[2]高二上!$B:$R,6,0) -> #N/A | AR8: =VLOOKUP($B8,[2]高二上!$B:$R,7,0) -> #N/A | AS8: =VLOOKUP($B8,[2]高二上!$B:$R,8,0) -> #N/A | AT8: =VLOOKUP($B8,[2]高二上!$B:$R,9,0) -> #N/A | AU8: =VLOOKUP($B8,[2]高二上!$B:$R,10,0) -> #N/A | AV8: =VLOOKUP($B8,[2]高二上!$B:$R,11,0) -> #N/A | AW8: =VLOOKUP($B8,[2]高二上!$B:$R,12,0) -> #N/A | AX8: =VLOOKUP($B8,[2]高二上!$B:$R,13,0) -> #N/A | AY8: =VLOOKUP($B8,[2]高二上!$B:$R,14,0) -> #N/A | AZ8: =VLOOKUP($B8,[2]高二上!$B:$R,15,0) -> #N/A | BA8: =VLOOKUP($B8,[2]高二上!$B:$R,16,0) -> #N/A | BB8: =VLOOKUP($B8,[2]高二上!$B:$R,17,0) -> #N/A | BC8: =VLOOKUP($B8,[1]高一下!$B:$R,6,0) -> 108 | BD8: =VLOOKUP($B8,[1]高一下!$B:$R,7,0) -> 龚霞 | BE8: =VLOOKUP($B8,[1]高一下!$B:$R,8,0) -> 117 | BF8: =VLOOKUP($B8,[1]高一下!$B:$R,9,0) -> 扎拉 | BG8: =VLOOKUP($B8,[1]高一下!$B:$R,10,0) -> 118.5 | BH8: =VLOOKUP($B8,[1]高一下!$B:$R,11,0) -> 肖秀秀 | BI8: =VLOOKUP($B8,[1]高一下!$B:$R,12,0) -> 57 | BJ8: =VLOOKUP($B8,[1]高一下!$B:$R,13,0) -> 兰举银 | BK8: =VLOOKUP($B8,[1]高一下!$B:$R,14,0) -> 73 | BL8: =VLOOKUP($B8,[1]高一下!$B:$R,15,0) -> 任吉洪 | BM8: =VLOOKUP($B8,[1]高一下!$B:$R,16,0) -> 64 | BN8: =VLOOKUP($B8,[1]高一下!$B:$R,17,0) -> 田友米 | BO8: =VLOOKUP($B8,[1]高一上!$B:$W,5,0) -> 92.5 | BP8: =VLOOKUP($B8,[1]高一上!$B:$W,6,0) -> 龚霞 | BQ8: =VLOOKUP($B8,[1]高一上!$B:$W,7,0) -> 97 | BR8: =VLOOKUP($B8,[1]高一上!$B:$W,8,0) -> 扎拉 | BS8: =VLOOKUP($B8,[1]高一上!$B:$W,9,0) -> 116 | BT8: =VLOOKUP($B8,[1]高一上!$B:$W,10,0) -> 肖秀秀 | BU8: =VLOOKUP($B8,[1]高一上!$B:$W,11,0) -> 68.5 | BV8: =VLOOKUP($B8,[1]高一上!$B:$W,12,0) -> 兰举银 | BW8: =VLOOKUP($B8,[1]高一上!$B:$W,13,0) -> 66 | BX8: =VLOOKUP($B8,[1]高一上!$B:$W,14,0) -> 任吉洪 | BY8: =VLOOKUP($B8,[1]高一上!$B:$W,15,0) -> 77.5 | BZ8: =VLOOKUP($B8,[1]高一上!$B:$W,16,0) -> 田友米 | CA8: =VLOOKUP($B8,[1]中考!$B:$N,5,0) -> 119 | CB8: =VLOOKUP($B8,[1]中考!$B:$N,6,0) -> 107 | CC8: =VLOOKUP($B8,[1]中考!$B:$N,7,0) -> 140 | CD8: =VLOOKUP($B8,[1]中考!$B:$N,8,0) -> 49 | CE8: =VLOOKUP($B8,[1]中考!$B:$N,9,0) -> 31 | CF8: =VLOOKUP($B8,[1]中考!$B:$N,10,0) -> 45
A9: 513422200510240012 | B9: G513422200510240012 | C9: 01 | D9: 理科 | E9: 巴桑泽仁 | F9: 572 | G9: 108 | H9: 龚霞 | I9: 112 | J9: 扎拉 | K9: 119 | L9: 肖秀秀 | M9: 73.5 | N9: 兰举银 | O9: 84 | P9: 任吉洪 | Q9: 75 | R9: 田友米 | S9: =VLOOKUP(B9,[1]高三上!$B:$R,6,0) -> 97.5 | T9: =VLOOKUP(B9,[1]高三上!$B:$R,7,0) -> 龚霞 | U9: =VLOOKUP(B9,[1]高三上!$B:$R,8,0) -> 118 | V9: =VLOOKUP(B9,[1]高三上!$B:$R,9,0) -> 扎拉 | W9: =VLOOKUP(B9,[1]高三上!$B:$R,10,0) -> 112 | X9: =VLOOKUP(B9,[1]高三上!$B:$R,11,0) -> 肖秀秀 | Y9: =VLOOKUP(B9,[1]高三上!$B:$R,12,0) -> 61 | Z9: =VLOOKUP(B9,[1]高三上!$B:$R,13,0) -> 兰举银 | AA9: =VLOOKUP(B9,[1]高三上!$B:$R,14,0) -> 59 | AB9: =VLOOKUP(B9,[1]高三上!$B:$R,15,0) -> 任吉洪 | AC9: =VLOOKUP(B9,[1]高三上!$B:$R,16,0) -> 63 | AD9: =VLOOKUP(B9,[1]高三上!$B:$R,17,0) -> 田友米 | AE9: =VLOOKUP($B9,[1]高二下!$B:$R,6,0) -> 98.0 | AF9: =VLOOKUP($B9,[1]高二下!$B:$R,7,0) -> 龚霞 | AG9: =VLOOKUP($B9,[1]高二下!$B:$R,8,0) -> 116.0 | AH9: =VLOOKUP($B9,[1]高二下!$B:$R,9,0) -> 扎拉 | AI9: =VLOOKUP($B9,[1]高二下!$B:$R,10,0) -> 65.0 | AJ9: =VLOOKUP($B9,[1]高二下!$B:$R,11,0) -> 肖秀秀 | AK9: =VLOOKUP($B9,[1]高二下!$B:$R,12,0) -> 67.0 | AL9: =VLOOKUP($B9,[1]高二下!$B:$R,13,0) -> 兰举银 | AM9: =VLOOKUP($B9,[1]高二下!$B:$R,14,0) -> 85.0 | AN9: =VLOOKUP($B9,[1]高二下!$B:$R,15,0) -> 任吉洪 | AO9: =VLOOKUP($B9,[1]高二下!$B:$R,16,0) -> 120.0 | AP9: =VLOOKUP($B9,[1]高二下!$B:$R,17,0) -> 田友米 | AQ9: =VLOOKUP($B9,[2]高二上!$B:$R,6,0) -> #N/A | AR9: =VLOOKUP($B9,[2]高二上!$B:$R,7,0) -> #N/A | AS9: =VLOOKUP($B9,[2]高二上!$B:$R,8,0) -> #N/A | AT9: =VLOOKUP($B9,[2]高二上!$B:$R,9,0) -> #N/A | AU9: =VLOOKUP($B9,[2]高二上!$B:$R,10,0) -> #N/A | AV9: =VLOOKUP($B9,[2]高二上!$B:$R,11,0) -> #N/A | AW9: =VLOOKUP($B9,[2]高二上!$B:$R,12,0) -> #N/A | AX9: =VLOOKUP($B9,[2]高二上!$B:$R,13,0) -> #N/A | AY9: =VLOOKUP($B9,[2]高二上!$B:$R,14,0) -> #N/A | AZ9: =VLOOKUP($B9,[2]高二上!$B:$R,15,0) -> #N/A | BA9: =VLOOKUP($B9,[2]高二上!$B:$R,16,0) -> #N/A | BB9: =VLOOKUP($B9,[2]高二上!$B:$R,17,0) -> #N/A | BC9: =VLOOKUP($B9,[1]高一下!$B:$R,6,0) -> 107 | BD9: =VLOOKUP($B9,[1]高一下!$B:$R,7,0) -> 龚霞 | BE9: =VLOOKUP($B9,[1]高一下!$B:$R,8,0) -> 118 | BF9: =VLOOKUP($B9,[1]高一下!$B:$R,9,0) -> 扎拉 | BG9: =VLOOKUP($B9,[1]高一下!$B:$R,10,0) -> 101.5 | BH9: =VLOOKUP($B9,[1]高一下!$B:$R,11,0) -> 肖秀秀 | BI9: =VLOOKUP($B9,[1]高一下!$B:$R,12,0) -> 71 | BJ9: =VLOOKUP($B9,[1]高一下!$B:$R,13,0) -> 兰举银 | BK9: =VLOOKUP($B9,[1]高一下!$B:$R,14,0) -> 75 | BL9: =VLOOKUP($B9,[1]高一下!$B:$R,15,0) -> 任吉洪 | BM9: =VLOOKUP($B9,[1]高一下!$B:$R,16,0) -> 76 | BN9: =VLOOKUP($B9,[1]高一下!$B:$R,17,0) -> 田友米 | BO9: =VLOOKUP($B9,[1]高一上!$B:$W,5,0) -> 85 | BP9: =VLOOKUP($B9,[1]高一上!$B:$W,6,0) -> 龚霞 | BQ9: =VLOOKUP($B9,[1]高一上!$B:$W,7,0) -> 94 | BR9: =VLOOKUP($B9,[1]高一上!$B:$W,8,0) -> 扎拉 | BS9: =VLOOKUP($B9,[1]高一上!$B:$W,9,0) -> 91.5 | BT9: =VLOOKUP($B9,[1]高一上!$B:$W,10,0) -> 肖秀秀 | BU9: =VLOOKUP($B9,[1]高一上!$B:$W,11,0) -> 70 | BV9: =VLOOKUP($B9,[1]高一上!$B:$W,12,0) -> 兰举银 | BW9: =VLOOKUP($B9,[1]高一上!$B:$W,13,0) -> 70 | BX9: =VLOOKUP($B9,[1]高一上!$B:$W,14,0) -> 任吉洪 | BY9: =VLOOKUP($B9,[1]高一上!$B:$W,15,0) -> 89 | BZ9: =VLOOKUP($B9,[1]高一上!$B:$W,16,0) -> 田友米 | CA9: =VLOOKUP($B9,[1]中考!$B:$N,5,0) -> 107 | CB9: =VLOOKUP($B9,[1]中考!$B:$N,6,0) -> 111 | CC9: =VLOOKUP($B9,[1]中考!$B:$N,7,0) -> 138 | CD9: =VLOOKUP($B9,[1]中考!$B:$N,8,0) -> 65 | CE9: =VLOOKUP($B9,[1]中考!$B:$N,9,0) -> 47 | CF9: =VLOOKUP($B9,[1]中考!$B:$N,10,0) -> 46
A10: 51342220060312001X | B10: G51342220060312001X | C10: 01 | D10: 理科 | E10: 黄祥雲 | F10: 570 | G10: 102 | H10: 龚霞 | I10: 110 | J10: 扎拉 | K10: 123 | L10: 肖秀秀 | M10: 90 | N10: 兰举银 | O10: 72 | P10: 任吉洪 | Q10: 73 | R10: 田友米 | S10: =VLOOKUP(B10,[1]高三上!$B:$R,6,0) -> 100.5 | T10: =VLOOKUP(B10,[1]高三上!$B:$R,7,0) -> 龚霞 | U10: =VLOOKUP(B10,[1]高三上!$B:$R,8,0) -> 115 | V10: =VLOOKUP(B10,[1]高三上!$B:$R,9,0) -> 扎拉 | W10: =VLOOKUP(B10,[1]高三上!$B:$R,10,0) -> 116.5 | X10: =VLOOKUP(B10,[1]高三上!$B:$R,11,0) -> 肖秀秀 | Y10: =VLOOKUP(B10,[1]高三上!$B:$R,12,0) -> 63 | Z10: =VLOOKUP(B10,[1]高三上!$B:$R,13,0) -> 兰举银 | AA10: =VLOOKUP(B10,[1]高三上!$B:$R,14,0) -> 62 | AB10: =VLOOKUP(B10,[1]高三上!$B:$R,15,0) -> 任吉洪 | AC10: =VLOOKUP(B10,[1]高三上!$B:$R,16,0) -> 61 | AD10: =VLOOKUP(B10,[1]高三上!$B:$R,17,0) -> 田友米 | AE10: =VLOOKUP($B10,[1]高二下!$B:$R,6,0) -> 96.0 | AF10: =VLOOKUP($B10,[1]高二下!$B:$R,7,0) -> 龚霞 | AG10: =VLOOKUP($B10,[1]高二下!$B:$R,8,0) -> 118.5 | AH10: =VLOOKUP($B10,[1]高二下!$B:$R,9,0) -> 扎拉 | AI10: =VLOOKUP($B10,[1]高二下!$B:$R,10,0) -> 70.0 | AJ10: =VLOOKUP($B10,[1]高二下!$B:$R,11,0) -> 肖秀秀 | AK10: =VLOOKUP($B10,[1]高二下!$B:$R,12,0) -> 70.0 | AL10: =VLOOKUP($B10,[1]高二下!$B:$R,13,0) -> 兰举银 | AM10: =VLOOKUP($B10,[1]高二下!$B:$R,14,0) -> 86.0 | AN10: =VLOOKUP($B10,[1]高二下!$B:$R,15,0) -> 任吉洪 | AO10: =VLOOKUP($B10,[1]高二下!$B:$R,16,0) -> 127.0 | AP10: =VLOOKUP($B10,[1]高二下!$B:$R,17,0) -> 田友米 | AQ10: =VLOOKUP($B10,[2]高二上!$B:$R,6,0) -> #N/A | AR10: =VLOOKUP($B10,[2]高二上!$B:$R,7,0) -> #N/A | AS10: =VLOOKUP($B10,[2]高二上!$B:$R,8,0) -> #N/A | AT10: =VLOOKUP($B10,[2]高二上!$B:$R,9,0) -> #N/A | AU10: =VLOOKUP($B10,[2]高二上!$B:$R,10,0) -> #N/A | AV10: =VLOOKUP($B10,[2]高二上!$B:$R,11,0) -> #N/A | AW10: =VLOOKUP($B10,[2]高二上!$B:$R,12,0) -> #N/A | AX10: =VLOOKUP($B10,[2]高二上!$B:$R,13,0) -> #N/A | AY10: =VLOOKUP($B10,[2]高二上!$B:$R,14,0) -> #N/A | AZ10: =VLOOKUP($B10,[2]高二上!$B:$R,15,0) -> #N/A | BA10: =VLOOKUP($B10,[2]高二上!$B:$R,16,0) -> #N/A | BB10: =VLOOKUP($B10,[2]高二上!$B:$R,17,0) -> #N/A | BC10: =VLOOKUP($B10,[1]高一下!$B:$R,6,0) -> 95 | BD10: =VLOOKUP($B10,[1]高一下!$B:$R,7,0) -> 龚霞 | BE10: =VLOOKUP($B10,[1]高一下!$B:$R,8,0) -> 116 | BF10: =VLOOKUP($B10,[1]高一下!$B:$R,9,0) -> 扎拉 | BG10: =VLOOKUP($B10,[1]高一下!$B:$R,10,0) -> 102 | BH10: =VLOOKUP($B10,[1]高一下!$B:$R,11,0) -> 肖秀秀 | BI10: =VLOOKUP($B10,[1]高一下!$B:$R,12,0) -> 76 | BJ10: =VLOOKUP($B10,[1]高一下!$B:$R,13,0) -> 兰举银 | BK10: =VLOOKUP($B10,[1]高一下!$B:$R,14,0) -> 81 | BL10: =VLOOKUP($B10,[1]高一下!$B:$R,15,0) -> 任吉洪 | BM10: =VLOOKUP($B10,[1]高一下!$B:$R,16,0) -> 73 | BN10: =VLOOKUP($B10,[1]高一下!$B:$R,17,0) -> 田友米 | BO10: =VLOOKUP($B10,[1]高一上!$B:$W,5,0) -> 86 | BP10: =VLOOKUP($B10,[1]高一上!$B:$W,6,0) -> 龚霞 | BQ10: =VLOOKUP($B10,[1]高一上!$B:$W,7,0) -> 102.5 | BR10: =VLOOKUP($B10,[1]高一上!$B:$W,8,0) -> 扎拉 | BS10: =VLOOKUP($B10,[1]高一上!$B:$W,9,0) -> 86 | BT10: =VLOOKUP($B10,[1]高一上!$B:$W,10,0) -> 肖秀秀 | BU10: =VLOOKUP($B10,[1]高一上!$B:$W,11,0) -> 61 | BV10: =VLOOKUP($B10,[1]高一上!$B:$W,12,0) -> 兰举银 | BW10: =VLOOKUP($B10,[1]高一上!$B:$W,13,0) -> 77 | BX10: =VLOOKUP($B10,[1]高一上!$B:$W,14,0) -> 任吉洪 | BY10: =VLOOKUP($B10,[1]高一上!$B:$W,15,0) -> 75.5 | BZ10: =VLOOKUP($B10,[1]高一上!$B:$W,16,0) -> 田友米 | CA10: =VLOOKUP($B10,[1]中考!$B:$N,5,0) -> 102 | CB10: =VLOOKUP($B10,[1]中考!$B:$N,6,0) -> 115 | CC10: =VLOOKUP($B10,[1]中考!$B:$N,7,0) -> 129 | CD10: =VLOOKUP($B10,[1]中考!$B:$N,8,0) -> 53 | CE10: =VLOOKUP($B10,[1]中考!$B:$N,9,0) -> 37 | CF10: =VLOOKUP($B10,[1]中考!$B:$N,10,0) -> 38
A11: 513422200601201326 | B11: G513422200601201326 | C11: 01 | D11: 理科 | E11: 王群方 | F11: 569 | G11: 118 | H11: 龚霞 | I11: 91 | J11: 扎拉 | K11: 124 | L11: 肖秀秀 | M11: 81.5 | N11: 兰举银 | O11: 86.5 | P11: 任吉洪 | Q11: 68 | R11: 田友米 | S11: =VLOOKUP(B11,[1]高三上!$B:$R,6,0) -> 110.5 | T11: =VLOOKUP(B11,[1]高三上!$B:$R,7,0) -> 龚霞 | U11: =VLOOKUP(B11,[1]高三上!$B:$R,8,0) -> 108 | V11: =VLOOKUP(B11,[1]高三上!$B:$R,9,0) -> 扎拉 | W11: =VLOOKUP(B11,[1]高三上!$B:$R,10,0) -> 116 | X11: =VLOOKUP(B11,[1]高三上!$B:$R,11,0) -> 肖秀秀 | Y11: =VLOOKUP(B11,[1]高三上!$B:$R,12,0) -> 59 | Z11: =VLOOKUP(B11,[1]高三上!$B:$R,13,0) -> 兰举银 | AA11: =VLOOKUP(B11,[1]高三上!$B:$R,14,0) -> 73 | AB11: =VLOOKUP(B11,[1]高三上!$B:$R,15,0) -> 任吉洪 | AC11: =VLOOKUP(B11,[1]高三上!$B:$R,16,0) -> 79 | AD11: =VLOOKUP(B11,[1]高三上!$B:$R,17,0) -> 田友米 | AE11: =VLOOKUP($B11,[1]高二下!$B:$R,6,0) -> 103.0 | AF11: =VLOOKUP($B11,[1]高二下!$B:$R,7,0) -> 龚霞 | AG11: =VLOOKUP($B11,[1]高二下!$B:$R,8,0) -> 116.0 | AH11: =VLOOKUP($B11,[1]高二下!$B:$R,9,0) -> 扎拉 | AI11: =VLOOKUP($B11,[1]高二下!$B:$R,10,0) -> 52.0 | AJ11: =VLOOKUP($B11,[1]高二下!$B:$R,11,0) -> 肖秀秀 | AK11: =VLOOKUP($B11,[1]高二下!$B:$R,12,0) -> 64.0 | AL11: =VLOOKUP($B11,[1]高二下!$B:$R,13,0) -> 兰举银 | AM11: =VLOOKUP($B11,[1]高二下!$B:$R,14,0) -> 91.0 | AN11: =VLOOKUP($B11,[1]高二下!$B:$R,15,0) -> 任吉洪 | AO11: =VLOOKUP($B11,[1]高二下!$B:$R,16,0) -> 118.0 | AP11: =VLOOKUP($B11,[1]高二下!$B:$R,17,0) -> 田友米 | AQ11: =VLOOKUP($B11,[2]高二上!$B:$R,6,0) -> #N/A | AR11: =VLOOKUP($B11,[2]高二上!$B:$R,7,0) -> #N/A | AS11: =VLOOKUP($B11,[2]高二上!$B:$R,8,0) -> #N/A | AT11: =VLOOKUP($B11,[2]高二上!$B:$R,9,0) -> #N/A | AU11: =VLOOKUP($B11,[2]高二上!$B:$R,10,0) -> #N/A | AV11: =VLOOKUP($B11,[2]高二上!$B:$R,11,0) -> #N/A | AW11: =VLOOKUP($B11,[2]高二上!$B:$R,12,0) -> #N/A | AX11: =VLOOKUP($B11,[2]高二上!$B:$R,13,0) -> #N/A | AY11: =VLOOKUP($B11,[2]高二上!$B:$R,14,0) -> #N/A | AZ11: =VLOOKUP($B11,[2]高二上!$B:$R,15,0) -> #N/A | BA11: =VLOOKUP($B11,[2]高二上!$B:$R,16,0) -> #N/A | BB11: =VLOOKUP($B11,[2]高二上!$B:$R,17,0) -> #N/A | BC11: =VLOOKUP($B11,[1]高一下!$B:$R,6,0) -> 100 | BD11: =VLOOKUP($B11,[1]高一下!$B:$R,7,0) -> 龚霞 | BE11: =VLOOKUP($B11,[1]高一下!$B:$R,8,0) -> 113 | BF11: =VLOOKUP($B11,[1]高一下!$B:$R,9,0) -> 扎拉 | BG11: =VLOOKUP($B11,[1]高一下!$B:$R,10,0) -> 120 | BH11: =VLOOKUP($B11,[1]高一下!$B:$R,11,0) -> 肖秀秀 | BI11: =VLOOKUP($B11,[1]高一下!$B:$R,12,0) -> 70 | BJ11: =VLOOKUP($B11,[1]高一下!$B:$R,13,0) -> 兰举银 | BK11: =VLOOKUP($B11,[1]高一下!$B:$R,14,0) -> 73 | BL11: =VLOOKUP($B11,[1]高一下!$B:$R,15,0) -> 任吉洪 | BM11: =VLOOKUP($B11,[1]高一下!$B:$R,16,0) -> 74 | BN11: =VLOOKUP($B11,[1]高一下!$B:$R,17,0) -> 田友米 | BO11: =VLOOKUP($B11,[1]高一上!$B:$W,5,0) -> 96.5 | BP11: =VLOOKUP($B11,[1]高一上!$B:$W,6,0) -> 龚霞 | BQ11: =VLOOKUP($B11,[1]高一上!$B:$W,7,0) -> 102 | BR11: =VLOOKUP($B11,[1]高一上!$B:$W,8,0) -> 扎拉 | BS11: =VLOOKUP($B11,[1]高一上!$B:$W,9,0) -> 117 | BT11: =VLOOKUP($B11,[1]高一上!$B:$W,10,0) -> 肖秀秀 | BU11: =VLOOKUP($B11,[1]高一上!$B:$W,11,0) -> 68 | BV11: =VLOOKUP($B11,[1]高一上!$B:$W,12,0) -> 兰举银 | BW11: =VLOOKUP($B11,[1]高一上!$B:$W,13,0) -> 67.5 | BX11: =VLOOKUP($B11,[1]高一上!$B:$W,14,0) -> 任吉洪 | BY11: =VLOOKUP($B11,[1]高一上!$B:$W,15,0) -> 90.5 | BZ11: =VLOOKUP($B11,[1]高一上!$B:$W,16,0) -> 田友米 | CA11: =VLOOKUP($B11,[1]中考!$B:$N,5,0) -> 112 | CB11: =VLOOKUP($B11,[1]中考!$B:$N,6,0) -> 130 | CC11: =VLOOKUP($B11,[1]中考!$B:$N,7,0) -> 139 | CD11: =VLOOKUP($B11,[1]中考!$B:$N,8,0) -> 49 | CE11: =VLOOKUP($B11,[1]中考!$B:$N,9,0) -> 41 | CF11: =VLOOKUP($B11,[1]中考!$B:$N,10,0) -> 46
A12: 513422200412142929 | B12: G513422200412142929 | C12: 01 | D12: 理科 | E12: 严冬梅 | F12: 564 | G12: 116 | H12: 龚霞 | I12: 107 | J12: 扎拉 | K12: 126 | L12: 肖秀秀 | M12: 43.5 | N12: 兰举银 | O12: 90 | P12: 任吉洪 | Q12: 81 | R12: 田友米 | S12: =VLOOKUP(B12,[1]高三上!$B:$R,6,0) -> 98 | T12: =VLOOKUP(B12,[1]高三上!$B:$R,7,0) -> 龚霞 | U12: =VLOOKUP(B12,[1]高三上!$B:$R,8,0) -> 92 | V12: =VLOOKUP(B12,[1]高三上!$B:$R,9,0) -> 扎拉 | W12: =VLOOKUP(B12,[1]高三上!$B:$R,10,0) -> 112.5 | X12: =VLOOKUP(B12,[1]高三上!$B:$R,11,0) -> 肖秀秀 | Y12: =VLOOKUP(B12,[1]高三上!$B:$R,12,0) -> 35 | Z12: =VLOOKUP(B12,[1]高三上!$B:$R,13,0) -> 兰举银 | AA12: =VLOOKUP(B12,[1]高三上!$B:$R,14,0) -> 65 | AB12: =VLOOKUP(B12,[1]高三上!$B:$R,15,0) -> 任吉洪 | AC12: =VLOOKUP(B12,[1]高三上!$B:$R,16,0) -> 77 | AD12: =VLOOKUP(B12,[1]高三上!$B:$R,17,0) -> 田友米 | AE12: =VLOOKUP($B12,[1]高二下!$B:$R,6,0) -> 108.0 | AF12: =VLOOKUP($B12,[1]高二下!$B:$R,7,0) -> 龚霞 | AG12: =VLOOKUP($B12,[1]高二下!$B:$R,8,0) -> 121.5 | AH12: =VLOOKUP($B12,[1]高二下!$B:$R,9,0) -> 扎拉 | AI12: =VLOOKUP($B12,[1]高二下!$B:$R,10,0) -> 35.0 | AJ12: =VLOOKUP($B12,[1]高二下!$B:$R,11,0) -> 肖秀秀 | AK12: =VLOOKUP($B12,[1]高二下!$B:$R,12,0) -> 60.0 | AL12: =VLOOKUP($B12,[1]高二下!$B:$R,13,0) -> 兰举银 | AM12: =VLOOKUP($B12,[1]高二下!$B:$R,14,0) -> 85.0 | AN12: =VLOOKUP($B12,[1]高二下!$B:$R,15,0) -> 任吉洪 | AO12: =VLOOKUP($B12,[1]高二下!$B:$R,16,0) -> 103.0 | AP12: =VLOOKUP($B12,[1]高二下!$B:$R,17,0) -> 田友米 | AQ12: =VLOOKUP($B12,[2]高二上!$B:$R,6,0) -> #N/A | AR12: =VLOOKUP($B12,[2]高二上!$B:$R,7,0) -> #N/A | AS12: =VLOOKUP($B12,[2]高二上!$B:$R,8,0) -> #N/A | AT12: =VLOOKUP($B12,[2]高二上!$B:$R,9,0) -> #N/A | AU12: =VLOOKUP($B12,[2]高二上!$B:$R,10,0) -> #N/A | AV12: =VLOOKUP($B12,[2]高二上!$B:$R,11,0) -> #N/A | AW12: =VLOOKUP($B12,[2]高二上!$B:$R,12,0) -> #N/A | AX12: =VLOOKUP($B12,[2]高二上!$B:$R,13,0) -> #N/A | AY12: =VLOOKUP($B12,[2]高二上!$B:$R,14,0) -> #N/A | AZ12: =VLOOKUP($B12,[2]高二上!$B:$R,15,0) -> #N/A | BA12: =VLOOKUP($B12,[2]高二上!$B:$R,16,0) -> #N/A | BB12: =VLOOKUP($B12,[2]高二上!$B:$R,17,0) -> #N/A | BC12: =VLOOKUP($B12,[1]高一下!$B:$R,6,0) -> 97 | BD12: =VLOOKUP($B12,[1]高一下!$B:$R,7,0) -> 龚霞 | BE12: =VLOOKUP($B12,[1]高一下!$B:$R,8,0) -> 109 | BF12: =VLOOKUP($B12,[1]高一下!$B:$R,9,0) -> 扎拉 | BG12: =VLOOKUP($B12,[1]高一下!$B:$R,10,0) -> 96.5 | BH12: =VLOOKUP($B12,[1]高一下!$B:$R,11,0) -> 肖秀秀 | BI12: =VLOOKUP($B12,[1]高一下!$B:$R,12,0) -> 59 | BJ12: =VLOOKUP($B12,[1]高一下!$B:$R,13,0) -> 兰举银 | BK12: =VLOOKUP($B12,[1]高一下!$B:$R,14,0) -> 80 | BL12: =VLOOKUP($B12,[1]高一下!$B:$R,15,0) -> 任吉洪 | BM12: =VLOOKUP($B12,[1]高一下!$B:$R,16,0) -> 76 | BN12: =VLOOKUP($B12,[1]高一下!$B:$R,17,0) -> 田友米 | BO12: =VLOOKUP($B12,[1]高一上!$B:$W,5,0) -> 103.5 | BP12: =VLOOKUP($B12,[1]高一上!$B:$W,6,0) -> 龚霞 | BQ12: =VLOOKUP($B12,[1]高一上!$B:$W,7,0) -> 81 | BR12: =VLOOKUP($B12,[1]高一上!$B:$W,8,0) -> 扎拉 | BS12: =VLOOKUP($B12,[1]高一上!$B:$W,9,0) -> 98 | BT12: =VLOOKUP($B12,[1]高一上!$B:$W,10,0) -> 肖秀秀 | BU12: =VLOOKUP($B12,[1]高一上!$B:$W,11,0) -> 61 | BV12: =VLOOKUP($B12,[1]高一上!$B:$W,12,0) -> 兰举银 | BW12: =VLOOKUP($B12,[1]高一上!$B:$W,13,0) -> 68 | BX12: =VLOOKUP($B12,[1]高一上!$B:$W,14,0) -> 任吉洪 | BY12: =VLOOKUP($B12,[1]高一上!$B:$W,15,0) -> 83 | BZ12: =VLOOKUP($B12,[1]高一上!$B:$W,16,0) -> 田友米 | CA12: =VLOOKUP($B12,[1]中考!$B:$N,5,0) -> 113 | CB12: =VLOOKUP($B12,[1]中考!$B:$N,6,0) -> 120 | CC12: =VLOOKUP($B12,[1]中考!$B:$N,7,0) -> 128 | CD12: =VLOOKUP($B12,[1]中考!$B:$N,8,0) -> 44 | CE12: =VLOOKUP($B12,[1]中考!$B:$N,9,0) -> 33 | CF12: =VLOOKUP($B12,[1]中考!$B:$N,10,0) -> 42
A13: 513422200603051165 | B13: G513422200603051165 | C13: 01 | D13: 理科 | E13: 马江莉 | F13: 561 | G13: 114 | H13: 龚霞 | I13: 115 | J13: 扎拉 | K13: 113 | L13: 肖秀秀 | M13: 69.5 | N13: 兰举银 | O13: 70 | P13: 任吉洪 | Q13: 79.5 | R13: 田友米 | S13: =VLOOKUP(B13,[1]高三上!$B:$R,6,0) -> 111 | T13: =VLOOKUP(B13,[1]高三上!$B:$R,7,0) -> 龚霞 | U13: =VLOOKUP(B13,[1]高三上!$B:$R,8,0) -> 122 | V13: =VLOOKUP(B13,[1]高三上!$B:$R,9,0) -> 扎拉 | W13: =VLOOKUP(B13,[1]高三上!$B:$R,10,0) -> 110.5 | X13: =VLOOKUP(B13,[1]高三上!$B:$R,11,0) -> 肖秀秀 | Y13: =VLOOKUP(B13,[1]高三上!$B:$R,12,0) -> 71 | Z13: =VLOOKUP(B13,[1]高三上!$B:$R,13,0) -> 兰举银 | AA13: =VLOOKUP(B13,[1]高三上!$B:$R,14,0) -> 74 | AB13: =VLOOKUP(B13,[1]高三上!$B:$R,15,0) -> 任吉洪 | AC13: =VLOOKUP(B13,[1]高三上!$B:$R,16,0) -> 75 | AD13: =VLOOKUP(B13,[1]高三上!$B:$R,17,0) -> 田友米 | AE13: =VLOOKUP($B13,[1]高二下!$B:$R,6,0) -> 99.0 | AF13: =VLOOKUP($B13,[1]高二下!$B:$R,7,0) -> 龚霞 | AG13: =VLOOKUP($B13,[1]高二下!$B:$R,8,0) -> 118.5 | AH13: =VLOOKUP($B13,[1]高二下!$B:$R,9,0) -> 扎拉 | AI13: =VLOOKUP($B13,[1]高二下!$B:$R,10,0) -> 64.0 | AJ13: =VLOOKUP($B13,[1]高二下!$B:$R,11,0) -> 肖秀秀 | AK13: =VLOOKUP($B13,[1]高二下!$B:$R,12,0) -> 77.0 | AL13: =VLOOKUP($B13,[1]高二下!$B:$R,13,0) -> 兰举银 | AM13: =VLOOKUP($B13,[1]高二下!$B:$R,14,0) -> 86.0 | AN13: =VLOOKUP($B13,[1]高二下!$B:$R,15,0) -> 任吉洪 | AO13: =VLOOKUP($B13,[1]高二下!$B:$R,16,0) -> 126.0 | AP13: =VLOOKUP($B13,[1]高二下!$B:$R,17,0) -> 田友米 | AQ13: =VLOOKUP($B13,[2]高二上!$B:$R,6,0) -> #N/A | AR13: =VLOOKUP($B13,[2]高二上!$B:$R,7,0) -> #N/A | AS13: =VLOOKUP($B13,[2]高二上!$B:$R,8,0) -> #N/A | AT13: =VLOOKUP($B13,[2]高二上!$B:$R,9,0) -> #N/A | AU13: =VLOOKUP($B13,[2]高二上!$B:$R,10,0) -> #N/A | AV13: =VLOOKUP($B13,[2]高二上!$B:$R,11,0) -> #N/A | AW13: =VLOOKUP($B13,[2]高二上!$B:$R,12,0) -> #N/A | AX13: =VLOOKUP($B13,[2]高二上!$B:$R,13,0) -> #N/A | AY13: =VLOOKUP($B13,[2]高二上!$B:$R,14,0) -> #N/A | AZ13: =VLOOKUP($B13,[2]高二上!$B:$R,15,0) -> #N/A | BA13: =VLOOKUP($B13,[2]高二上!$B:$R,16,0) -> #N/A | BB13: =VLOOKUP($B13,[2]高二上!$B:$R,17,0) -> #N/A | BC13: =VLOOKUP($B13,[1]高一下!$B:$R,6,0) -> 104 | BD13: =VLOOKUP($B13,[1]高一下!$B:$R,7,0) -> 龚霞 | BE13: =VLOOKUP($B13,[1]高一下!$B:$R,8,0) -> 125 | BF13: =VLOOKUP($B13,[1]高一下!$B:$R,9,0) -> 扎拉 | BG13: =VLOOKUP($B13,[1]高一下!$B:$R,10,0) -> 86.5 | BH13: =VLOOKUP($B13,[1]高一下!$B:$R,11,0) -> 肖秀秀 | BI13: =VLOOKUP($B13,[1]高一下!$B:$R,12,0) -> 66 | BJ13: =VLOOKUP($B13,[1]高一下!$B:$R,13,0) -> 兰举银 | BK13: =VLOOKUP($B13,[1]高一下!$B:$R,14,0) -> 88 | BL13: =VLOOKUP($B13,[1]高一下!$B:$R,15,0) -> 任吉洪 | BM13: =VLOOKUP($B13,[1]高一下!$B:$R,16,0) -> 74 | BN13: =VLOOKUP($B13,[1]高一下!$B:$R,17,0) -> 田友米 | BO13: =VLOOKUP($B13,[1]高一上!$B:$W,5,0) -> 104 | BP13: =VLOOKUP($B13,[1]高一上!$B:$W,6,0) -> 龚霞 | BQ13: =VLOOKUP($B13,[1]高一上!$B:$W,7,0) -> 125.5 | BR13: =VLOOKUP($B13,[1]高一上!$B:$W,8,0) -> 扎拉 | BS13: =VLOOKUP($B13,[1]高一上!$B:$W,9,0) -> 96.5 | BT13: =VLOOKUP($B13,[1]高一上!$B:$W,10,0) -> 肖秀秀 | BU13: =VLOOKUP($B13,[1]高一上!$B:$W,11,0) -> 75 | BV13: =VLOOKUP($B13,[1]高一上!$B:$W,12,0) -> 兰举银 | BW13: =VLOOKUP($B13,[1]高一上!$B:$W,13,0) -> 83.5 | BX13: =VLOOKUP($B13,[1]高一上!$B:$W,14,0) -> 任吉洪 | BY13: =VLOOKUP($B13,[1]高一上!$B:$W,15,0) -> 86.5 | BZ13: =VLOOKUP($B13,[1]高一上!$B:$W,16,0) -> 田友米 | CA13: =VLOOKUP($B13,[1]中考!$B:$N,5,0) -> 107 | CB13: =VLOOKUP($B13,[1]中考!$B:$N,6,0) -> 132 | CC13: =VLOOKUP($B13,[1]中考!$B:$N,7,0) -> 133 | CD13: =VLOOKUP($B13,[1]中考!$B:$N,8,0) -> 64 | CE13: =VLOOKUP($B13,[1]中考!$B:$N,9,0) -> 39 | CF13: =VLOOKUP($B13,[1]中考!$B:$N,10,0) -> 47
A14: 513422200610205839 | B14: G513422200610205839 | C14: 01 | D14: 理科 | E14: 王耀 | F14: 559 | G14: 105 | H14: 龚霞 | I14: 115 | J14: 扎拉 | K14: 126 | L14: 肖秀秀 | M14: 65.5 | N14: 兰举银 | O14: 71 | P14: 任吉洪 | Q14: 76.5 | R14: 田友米 | S14: =VLOOKUP(B14,[1]高三上!$B:$R,6,0) -> 95 | T14: =VLOOKUP(B14,[1]高三上!$B:$R,7,0) -> 龚霞 | U14: =VLOOKUP(B14,[1]高三上!$B:$R,8,0) -> 101 | V14: =VLOOKUP(B14,[1]高三上!$B:$R,9,0) -> 扎拉 | W14: =VLOOKUP(B14,[1]高三上!$B:$R,10,0) -> 120 | X14: =VLOOKUP(B14,[1]高三上!$B:$R,11,0) -> 肖秀秀 | Y14: =VLOOKUP(B14,[1]高三上!$B:$R,12,0) -> 56 | Z14: =VLOOKUP(B14,[1]高三上!$B:$R,13,0) -> 兰举银 | AA14: =VLOOKUP(B14,[1]高三上!$B:$R,14,0) -> 46 | AB14: =VLOOKUP(B14,[1]高三上!$B:$R,15,0) -> 任吉洪 | AC14: =VLOOKUP(B14,[1]高三上!$B:$R,16,0) -> 74 | AD14: =VLOOKUP(B14,[1]高三上!$B:$R,17,0) -> 田友米 | AE14: =VLOOKUP($B14,[1]高二下!$B:$R,6,0) -> 91.0 | AF14: =VLOOKUP($B14,[1]高二下!$B:$R,7,0) -> 龚霞 | AG14: =VLOOKUP($B14,[1]高二下!$B:$R,8,0) -> 122.5 | AH14: =VLOOKUP($B14,[1]高二下!$B:$R,9,0) -> 扎拉 | AI14: =VLOOKUP($B14,[1]高二下!$B:$R,10,0) -> 64.0 | AJ14: =VLOOKUP($B14,[1]高二下!$B:$R,11,0) -> 肖秀秀 | AK14: =VLOOKUP($B14,[1]高二下!$B:$R,12,0) -> 60.0 | AL14: =VLOOKUP($B14,[1]高二下!$B:$R,13,0) -> 兰举银 | AM14: =VLOOKUP($B14,[1]高二下!$B:$R,14,0) -> 85.0 | AN14: =VLOOKUP($B14,[1]高二下!$B:$R,15,0) -> 任吉洪 | AO14: =VLOOKUP($B14,[1]高二下!$B:$R,16,0) -> 116.0 | AP14: =VLOOKUP($B14,[1]高二下!$B:$R,17,0) -> 田友米 | AQ14: =VLOOKUP($B14,[2]高二上!$B:$R,6,0) -> #N/A | AR14: =VLOOKUP($B14,[2]高二上!$B:$R,7,0) -> #N/A | AS14: =VLOOKUP($B14,[2]高二上!$B:$R,8,0) -> #N/A | AT14: =VLOOKUP($B14,[2]高二上!$B:$R,9,0) -> #N/A | AU14: =VLOOKUP($B14,[2]高二上!$B:$R,10,0) -> #N/A | AV14: =VLOOKUP($B14,[2]高二上!$B:$R,11,0) -> #N/A | AW14: =VLOOKUP($B14,[2]高二上!$B:$R,12,0) -> #N/A | AX14: =VLOOKUP($B14,[2]高二上!$B:$R,13,0) -> #N/A | AY14: =VLOOKUP($B14,[2]高二上!$B:$R,14,0) -> #N/A | AZ14: =VLOOKUP($B14,[2]高二上!$B:$R,15,0) -> #N/A | BA14: =VLOOKUP($B14,[2]高二上!$B:$R,16,0) -> #N/A | BB14: =VLOOKUP($B14,[2]高二上!$B:$R,17,0) -> #N/A | BC14: =VLOOKUP($B14,[1]高一下!$B:$R,6,0) -> 103 | BD14: =VLOOKUP($B14,[1]高一下!$B:$R,7,0) -> 龚霞 | BE14: =VLOOKUP($B14,[1]高一下!$B:$R,8,0) -> 129 | BF14: =VLOOKUP($B14,[1]高一下!$B:$R,9,0) -> 扎拉 | BG14: =VLOOKUP($B14,[1]高一下!$B:$R,10,0) -> 106 | BH14: =VLOOKUP($B14,[1]高一下!$B:$R,11,0) -> 肖秀秀 | BI14: =VLOOKUP($B14,[1]高一下!$B:$R,12,0) -> 66 | BJ14: =VLOOKUP($B14,[1]高一下!$B:$R,13,0) -> 兰举银 | BK14: =VLOOKUP($B14,[1]高一下!$B:$R,14,0) -> 77 | BL14: =VLOOKUP($B14,[1]高一下!$B:$R,15,0) -> 任吉洪 | BM14: =VLOOKUP($B14,[1]高一下!$B:$R,16,0) -> 55 | BN14: =VLOOKUP($B14,[1]高一下!$B:$R,17,0) -> 田友米 | BO14: =VLOOKUP($B14,[1]高一上!$B:$W,5,0) -> 89 | BP14: =VLOOKUP($B14,[1]高一上!$B:$W,6,0) -> 龚霞 | BQ14: =VLOOKUP($B14,[1]高一上!$B:$W,7,0) -> 82 | BR14: =VLOOKUP($B14,[1]高一上!$B:$W,8,0) -> 扎拉 | BS14: =VLOOKUP($B14,[1]高一上!$B:$W,9,0) -> 101 | BT14: =VLOOKUP($B14,[1]高一上!$B:$W,10,0) -> 肖秀秀 | BU14: =VLOOKUP($B14,[1]高一上!$B:$W,11,0) -> 76 | BV14: =VLOOKUP($B14,[1]高一上!$B:$W,12,0) -> 兰举银 | BW14: =VLOOKUP($B14,[1]高一上!$B:$W,13,0) -> 69 | BX14: =VLOOKUP($B14,[1]高一上!$B:$W,14,0) -> 任吉洪 | BY14: =VLOOKUP($B14,[1]高一上!$B:$W,15,0) -> 79.5 | BZ14: =VLOOKUP($B14,[1]高一上!$B:$W,16,0) -> 田友米 | CA14: =VLOOKUP($B14,[1]中考!$B:$N,5,0) -> 115 | CB14: =VLOOKUP($B14,[1]中考!$B:$N,6,0) -> 135 | CC14: =VLOOKUP($B14,[1]中考!$B:$N,7,0) -> 134 | CD14: =VLOOKUP($B14,[1]中考!$B:$N,8,0) -> 58 | CE14: =VLOOKUP($B14,[1]中考!$B:$N,9,0) -> 37 | CF14: =VLOOKUP($B14,[1]中考!$B:$N,10,0) -> 42
A15: 513422200512206619 | B15: G513422200512206619 | C15: 01 | D15: 理科 | E15: 党玉林 | F15: 553 | G15: 120 | H15: 龚霞 | I15: 94 | J15: 扎拉 | K15: 114 | L15: 肖秀秀 | M15: 67.5 | N15: 兰举银 | O15: 78 | P15: 任吉洪 | Q15: 79.5 | R15: 田友米 | S15: =VLOOKUP(B15,[1]高三上!$B:$R,6,0) -> 101.5 | T15: =VLOOKUP(B15,[1]高三上!$B:$R,7,0) -> 龚霞 | U15: =VLOOKUP(B15,[1]高三上!$B:$R,8,0) -> 88 | V15: =VLOOKUP(B15,[1]高三上!$B:$R,9,0) -> 扎拉 | W15: =VLOOKUP(B15,[1]高三上!$B:$R,10,0) -> 100 | X15: =VLOOKUP(B15,[1]高三上!$B:$R,11,0) -> 肖秀秀 | Y15: =VLOOKUP(B15,[1]高三上!$B:$R,12,0) -> 66 | Z15: =VLOOKUP(B15,[1]高三上!$B:$R,13,0) -> 兰举银 | AA15: =VLOOKUP(B15,[1]高三上!$B:$R,14,0) -> 65 | AB15: =VLOOKUP(B15,[1]高三上!$B:$R,15,0) -> 任吉洪 | AC15: =VLOOKUP(B15,[1]高三上!$B:$R,16,0) -> 61 | AD15: =VLOOKUP(B15,[1]高三上!$B:$R,17,0) -> 田友米 | AE15: =VLOOKUP($B15,[1]高二下!$B:$R,6,0) -> 93.0 | AF15: =VLOOKUP($B15,[1]高二下!$B:$R,7,0) -> 龚霞 | AG15: =VLOOKUP($B15,[1]高二下!$B:$R,8,0) -> 123.5 | AH15: =VLOOKUP($B15,[1]高二下!$B:$R,9,0) -> 扎拉 | AI15: =VLOOKUP($B15,[1]高二下!$B:$R,10,0) -> 66.0 | AJ15: =VLOOKUP($B15,[1]高二下!$B:$R,11,0) -> 肖秀秀 | AK15: =VLOOKUP($B15,[1]高二下!$B:$R,12,0) -> 66.0 | AL15: =VLOOKUP($B15,[1]高二下!$B:$R,13,0) -> 兰举银 | AM15: =VLOOKUP($B15,[1]高二下!$B:$R,14,0) -> 81.0 | AN15: =VLOOKUP($B15,[1]高二下!$B:$R,15,0) -> 任吉洪 | AO15: =VLOOKUP($B15,[1]高二下!$B:$R,16,0) -> 96.0 | AP15: =VLOOKUP($B15,[1]高二下!$B:$R,17,0) -> 田友米 | AQ15: =VLOOKUP($B15,[2]高二上!$B:$R,6,0) -> #N/A | AR15: =VLOOKUP($B15,[2]高二上!$B:$R,7,0) -> #N/A | AS15: =VLOOKUP($B15,[2]高二上!$B:$R,8,0) -> #N/A | AT15: =VLOOKUP($B15,[2]高二上!$B:$R,9,0) -> #N/A | AU15: =VLOOKUP($B15,[2]高二上!$B:$R,10,0) -> #N/A | AV15: =VLOOKUP($B15,[2]高二上!$B:$R,11,0) -> #N/A | AW15: =VLOOKUP($B15,[2]高二上!$B:$R,12,0) -> #N/A | AX15: =VLOOKUP($B15,[2]高二上!$B:$R,13,0) -> #N/A | AY15: =VLOOKUP($B15,[2]高二上!$B:$R,14,0) -> #N/A | AZ15: =VLOOKUP($B15,[2]高二上!$B:$R,15,0) -> #N/A | BA15: =VLOOKUP($B15,[2]高二上!$B:$R,16,0) -> #N/A | BB15: =VLOOKUP($B15,[2]高二上!$B:$R,17,0) -> #N/A | BC15: =VLOOKUP($B15,[1]高一下!$B:$R,6,0) -> 107 | BD15: =VLOOKUP($B15,[1]高一下!$B:$R,7,0) -> 龚霞 | BE15: =VLOOKUP($B15,[1]高一下!$B:$R,8,0) -> 118 | BF15: =VLOOKUP($B15,[1]高一下!$B:$R,9,0) -> 扎拉 | BG15: =VLOOKUP($B15,[1]高一下!$B:$R,10,0) -> 86 | BH15: =VLOOKUP($B15,[1]高一下!$B:$R,11,0) -> 肖秀秀 | BI15: =VLOOKUP($B15,[1]高一下!$B:$R,12,0) -> 71 | BJ15: =VLOOKUP($B15,[1]高一下!$B:$R,13,0) -> 兰举银 | BK15: =VLOOKUP($B15,[1]高一下!$B:$R,14,0) -> 78 | BL15: =VLOOKUP($B15,[1]高一下!$B:$R,15,0) -> 任吉洪 | BM15: =VLOOKUP($B15,[1]高一下!$B:$R,16,0) -> 71 | BN15: =VLOOKUP($B15,[1]高一下!$B:$R,17,0) -> 田友米 | BO15: =VLOOKUP($B15,[1]高一上!$B:$W,5,0) -> 102 | BP15: =VLOOKUP($B15,[1]高一上!$B:$W,6,0) -> 龚霞 | BQ15: =VLOOKUP($B15,[1]高一上!$B:$W,7,0) -> 84.5 | BR15: =VLOOKUP($B15,[1]高一上!$B:$W,8,0) -> 扎拉 | BS15: =VLOOKUP($B15,[1]高一上!$B:$W,9,0) -> 95.5 | BT15: =VLOOKUP($B15,[1]高一上!$B:$W,10,0) -> 肖秀秀 | BU15: =VLOOKUP($B15,[1]高一上!$B:$W,11,0) -> 58 | BV15: =VLOOKUP($B15,[1]高一上!$B:$W,12,0) -> 兰举银 | BW15: =VLOOKUP($B15,[1]高一上!$B:$W,13,0) -> 75.5 | BX15: =VLOOKUP($B15,[1]高一上!$B:$W,14,0) -> 任吉洪 | BY15: =VLOOKUP($B15,[1]高一上!$B:$W,15,0) -> 81 | BZ15: =VLOOKUP($B15,[1]高一上!$B:$W,16,0) -> 田友米 | CA15: =VLOOKUP($B15,[1]中考!$B:$N,5,0) -> 107 | CB15: =VLOOKUP($B15,[1]中考!$B:$N,6,0) -> 106 | CC15: =VLOOKUP($B15,[1]中考!$B:$N,7,0) -> 122 | CD15: =VLOOKUP($B15,[1]中考!$B:$N,8,0) -> 60 | CE15: =VLOOKUP($B15,[1]中考!$B:$N,9,0) -> 41 | CF15: =VLOOKUP($B15,[1]中考!$B:$N,10,0) -> 48
... A122: 513422200201184811 | B122: G513422200201184811 | C122: 04 | D122: 理科 | E122: 仁青偏初 | F122: 349 | G122: 100 | H122: 叶仁芳 | I122: 76 | J122: 苏朗偏初 | K122: 43 | L122: 东梅 | M122: 41 | N122: 兰举银 | O122: 39 | P122: 刘厚江 | Q122: 49.5 | R122: 高琴 | S122: =VLOOKUP(B122,[1]高三上!$B:$R,6,0) -> 94.5 | T122: =VLOOKUP(B122,[1]高三上!$B:$R,7,0) -> 叶仁芳 | U122: =VLOOKUP(B122,[1]高三上!$B:$R,8,0) -> 82 | V122: =VLOOKUP(B122,[1]高三上!$B:$R,9,0) -> 苏朗偏初 | W122: =VLOOKUP(B122,[1]高三上!$B:$R,10,0) -> 36 | X122: =VLOOKUP(B122,[1]高三上!$B:$R,11,0) -> 东梅 | Y122: =VLOOKUP(B122,[1]高三上!$B:$R,12,0) -> 41 | Z122: =VLOOKUP(B122,[1]高三上!$B:$R,13,0) -> 兰举银 | AA122: =VLOOKUP(B122,[1]高三上!$B:$R,14,0) -> 27 | AB122: =VLOOKUP(B122,[1]高三上!$B:$R,15,0) -> 刘厚江 | AC122: =VLOOKUP(B122,[1]高三上!$B:$R,16,0) -> 39 | AD122: =VLOOKUP(B122,[1]高三上!$B:$R,17,0) -> 高琴 | AE122: =VLOOKUP($B122,[1]高二下!$B:$R,6,0) -> 90.0 | AF122: =VLOOKUP($B122,[1]高二下!$B:$R,7,0) -> 叶仁芳 | AG122: =VLOOKUP($B122,[1]高二下!$B:$R,8,0) -> 40.0 | AH122: =VLOOKUP($B122,[1]高二下!$B:$R,9,0) -> 苏朗偏初 | AI122: =VLOOKUP($B122,[1]高二下!$B:$R,10,0) -> 22.0 | AJ122: =VLOOKUP($B122,[1]高二下!$B:$R,11,0) -> 东梅 | AK122: =VLOOKUP($B122,[1]高二下!$B:$R,12,0) -> 37.0 | AL122: =VLOOKUP($B122,[1]高二下!$B:$R,13,0) -> 兰举银 | AM122: =VLOOKUP($B122,[1]高二下!$B:$R,14,0) -> 44.0 | AN122: =VLOOKUP($B122,[1]高二下!$B:$R,15,0) -> 方帮林 | AO122: =VLOOKUP($B122,[1]高二下!$B:$R,16,0) -> 102.0 | AP122: =VLOOKUP($B122,[1]高二下!$B:$R,17,0) -> 高琴 | AQ122: =VLOOKUP($B122,[2]高二上!$B:$R,6,0) -> #N/A | AR122: =VLOOKUP($B122,[2]高二上!$B:$R,7,0) -> #N/A | AS122: =VLOOKUP($B122,[2]高二上!$B:$R,8,0) -> #N/A | AT122: =VLOOKUP($B122,[2]高二上!$B:$R,9,0) -> #N/A | AU122: =VLOOKUP($B122,[2]高二上!$B:$R,10,0) -> #N/A | AV122: =VLOOKUP($B122,[2]高二上!$B:$R,11,0) -> #N/A | AW122: =VLOOKUP($B122,[2]高二上!$B:$R,12,0) -> #N/A | AX122: =VLOOKUP($B122,[2]高二上!$B:$R,13,0) -> #N/A | AY122: =VLOOKUP($B122,[2]高二上!$B:$R,14,0) -> #N/A | AZ122: =VLOOKUP($B122,[2]高二上!$B:$R,15,0) -> #N/A | BA122: =VLOOKUP($B122,[2]高二上!$B:$R,16,0) -> #N/A | BB122: =VLOOKUP($B122,[2]高二上!$B:$R,17,0) -> #N/A | BC122: =VLOOKUP($B122,[1]高一下!$B:$R,6,0) -> 79 | BD122: =VLOOKUP($B122,[1]高一下!$B:$R,7,0) -> 叶仁芳 | BE122: =VLOOKUP($B122,[1]高一下!$B:$R,8,0) -> 87 | BF122: =VLOOKUP($B122,[1]高一下!$B:$R,9,0) -> 苏朗偏初 | BG122: =VLOOKUP($B122,[1]高一下!$B:$R,10,0) -> 34 | BH122: =VLOOKUP($B122,[1]高一下!$B:$R,11,0) -> 东梅 | BI122: =VLOOKUP($B122,[1]高一下!$B:$R,12,0) -> 38 | BJ122: =VLOOKUP($B122,[1]高一下!$B:$R,13,0) -> 兰举银 | BK122: =VLOOKUP($B122,[1]高一下!$B:$R,14,0) -> 41 | BL122: =VLOOKUP($B122,[1]高一下!$B:$R,15,0) -> 方帮林 | BM122: =VLOOKUP($B122,[1]高一下!$B:$R,16,0) -> 29 | BN122: =VLOOKUP($B122,[1]高一下!$B:$R,17,0) -> 高琴 | BO122: =VLOOKUP($B122,[1]高一上!$B:$W,5,0) -> 76 | BP122: =VLOOKUP($B122,[1]高一上!$B:$W,6,0) -> 叶仁芳 | BQ122: =VLOOKUP($B122,[1]高一上!$B:$W,7,0) -> 66 | BR122: =VLOOKUP($B122,[1]高一上!$B:$W,8,0) -> 苏朗偏初 | BS122: =VLOOKUP($B122,[1]高一上!$B:$W,9,0) -> 59.5 | BT122: =VLOOKUP($B122,[1]高一上!$B:$W,10,0) -> 东梅 | BU122: =VLOOKUP($B122,[1]高一上!$B:$W,11,0) -> 49.5 | BV122: =VLOOKUP($B122,[1]高一上!$B:$W,12,0) -> 兰举银 | BW122: =VLOOKUP($B122,[1]高一上!$B:$W,13,0) -> 46.5 | BX122: =VLOOKUP($B122,[1]高一上!$B:$W,14,0) -> 方帮林 | BY122: =VLOOKUP($B122,[1]高一上!$B:$W,15,0) -> 41 | BZ122: =VLOOKUP($B122,[1]高一上!$B:$W,16,0) -> 田友米 | CA122: =VLOOKUP($B122,[1]中考!$B:$N,5,0) -> 98 | CB122: =VLOOKUP($B122,[1]中考!$B:$N,6,0) -> 81 | CC122: =VLOOKUP($B122,[1]中考!$B:$N,7,0) -> 82 | CD122: =VLOOKUP($B122,[1]中考!$B:$N,8,0) -> 34 | CE122: =VLOOKUP($B122,[1]中考!$B:$N,9,0) -> 22 | CF122: =VLOOKUP($B122,[1]中考!$B:$N,10,0) -> 38
A123: 513422200606145423 | B123: G513422200606145423 | C123: 04 | D123: 理科 | E123: 小康珠 | F123: 319 | G123: 93 | H123: 叶仁芳 | I123: 50 | J123: 苏朗偏初 | K123: 42 | L123: 东梅 | M123: 40 | N123: 兰举银 | O123: 41 | P123: 刘厚江 | Q123: 53 | R123: 高琴 | S123: 0 | T123: =VLOOKUP(B123,[1]高三上!$B:$R,7,0) -> 叶仁芳 | U123: 0 | V123: =VLOOKUP(B123,[1]高三上!$B:$R,9,0) -> 苏朗偏初 | W123: 0 | X123: =VLOOKUP(B123,[1]高三上!$B:$R,11,0) -> 东梅 | Y123: 0 | Z123: =VLOOKUP(B123,[1]高三上!$B:$R,13,0) -> 兰举银 | AA123: 0 | AB123: =VLOOKUP(B123,[1]高三上!$B:$R,15,0) -> 刘厚江 | AC123: 0 | AD123: 高琴 | AE123: 0 | AF123: =VLOOKUP($B123,[1]高二下!$B:$R,7,0) -> 叶仁芳 | AG123: 0 | AH123: =VLOOKUP($B123,[1]高二下!$B:$R,9,0) -> 苏朗偏初 | AI123: 0 | AJ123: =VLOOKUP($B123,[1]高二下!$B:$R,11,0) -> 东梅 | AK123: 0 | AL123: =VLOOKUP($B123,[1]高二下!$B:$R,13,0) -> 兰举银 | AM123: 0 | AN123: =VLOOKUP($B123,[1]高二下!$B:$R,15,0) -> 方帮林 | AO123: 0 | AP123: =VLOOKUP($B123,[1]高二下!$B:$R,17,0) -> 高琴 | AQ123: =VLOOKUP($B123,[2]高二上!$B:$R,6,0) -> #N/A | AR123: =VLOOKUP($B123,[2]高二上!$B:$R,7,0) -> #N/A | AS123: =VLOOKUP($B123,[2]高二上!$B:$R,8,0) -> #N/A | AT123: =VLOOKUP($B123,[2]高二上!$B:$R,9,0) -> #N/A | AU123: =VLOOKUP($B123,[2]高二上!$B:$R,10,0) -> #N/A | AV123: =VLOOKUP($B123,[2]高二上!$B:$R,11,0) -> #N/A | AW123: =VLOOKUP($B123,[2]高二上!$B:$R,12,0) -> #N/A | AX123: =VLOOKUP($B123,[2]高二上!$B:$R,13,0) -> #N/A | AY123: =VLOOKUP($B123,[2]高二上!$B:$R,14,0) -> #N/A | AZ123: =VLOOKUP($B123,[2]高二上!$B:$R,15,0) -> #N/A | BA123: =VLOOKUP($B123,[2]高二上!$B:$R,16,0) -> #N/A | BB123: =VLOOKUP($B123,[2]高二上!$B:$R,17,0) -> #N/A | BC123: =VLOOKUP($B123,[1]高一下!$B:$R,6,0) -> 86 | BD123: =VLOOKUP($B123,[1]高一下!$B:$R,7,0) -> 叶仁芳 | BE123: =VLOOKUP($B123,[1]高一下!$B:$R,8,0) -> 46 | BF123: =VLOOKUP($B123,[1]高一下!$B:$R,9,0) -> 苏朗偏初 | BG123: =VLOOKUP($B123,[1]高一下!$B:$R,10,0) -> 49 | BH123: =VLOOKUP($B123,[1]高一下!$B:$R,11,0) -> 东梅 | BI123: =VLOOKUP($B123,[1]高一下!$B:$R,12,0) -> 31 | BJ123: =VLOOKUP($B123,[1]高一下!$B:$R,13,0) -> 兰举银 | BK123: =VLOOKUP($B123,[1]高一下!$B:$R,14,0) -> 40 | BL123: =VLOOKUP($B123,[1]高一下!$B:$R,15,0) -> 方帮林 | BM123: =VLOOKUP($B123,[1]高一下!$B:$R,16,0) -> 31 | BN123: =VLOOKUP($B123,[1]高一下!$B:$R,17,0) -> 高琴 | BO123: =VLOOKUP($B123,[1]高一上!$B:$W,5,0) -> 77 | BP123: =VLOOKUP($B123,[1]高一上!$B:$W,6,0) -> 叶仁芳 | BQ123: =VLOOKUP($B123,[1]高一上!$B:$W,7,0) -> 39 | BR123: =VLOOKUP($B123,[1]高一上!$B:$W,8,0) -> 苏朗偏初 | BS123: =VLOOKUP($B123,[1]高一上!$B:$W,9,0) -> 60 | BT123: =VLOOKUP($B123,[1]高一上!$B:$W,10,0) -> 东梅 | BU123: =VLOOKUP($B123,[1]高一上!$B:$W,11,0) -> 21.5 | BV123: =VLOOKUP($B123,[1]高一上!$B:$W,12,0) -> 兰举银 | BW123: =VLOOKUP($B123,[1]高一上!$B:$W,13,0) -> 43 | BX123: =VLOOKUP($B123,[1]高一上!$B:$W,14,0) -> 方帮林 | BY123: =VLOOKUP($B123,[1]高一上!$B:$W,15,0) -> 38 | BZ123: =VLOOKUP($B123,[1]高一上!$B:$W,16,0) -> 田友米 | CA123: =VLOOKUP($B123,[1]中考!$B:$N,5,0) -> 98 | CB123: =VLOOKUP($B123,[1]中考!$B:$N,6,0) -> 75 | CC123: =VLOOKUP($B123,[1]中考!$B:$N,7,0) -> 104 | CD123: =VLOOKUP($B123,[1]中考!$B:$N,8,0) -> 25 | CE123: =VLOOKUP($B123,[1]中考!$B:$N,9,0) -> 20 | CF123: =VLOOKUP($B123,[1]中考!$B:$N,10,0) -> 34
A124: 513422200309156011 | B124: G513422200309156011 | C124: 04 | D124: 理科 | E124: 杨路林 | F124: 271 | G124: 97 | H124: 叶仁芳 | I124: 32 | J124: 苏朗偏初 | K124: 36 | L124: 东梅 | M124: 31 | N124: 兰举银 | O124: 35.5 | P124: 刘厚江 | Q124: 39.5 | R124: 高琴 | S124: 0 | T124: 叶仁芳 | U124: 0 | V124: 苏朗偏初 | W124: 0 | X124: 东梅 | Y124: 0 | Z124: 兰举银 | AA124: 0 | AB124: 刘厚江 | AC124: 0 | AD124: 高琴 | AE124: 0 | AF124: =VLOOKUP($B124,[1]高二下!$B:$R,7,0) -> 叶仁芳 | AG124: 0 | AH124: =VLOOKUP($B124,[1]高二下!$B:$R,9,0) -> 苏朗偏初 | AI124: 0 | AJ124: =VLOOKUP($B124,[1]高二下!$B:$R,11,0) -> 东梅 | AK124: 0 | AL124: =VLOOKUP($B124,[1]高二下!$B:$R,13,0) -> 兰举银 | AM124: 0 | AN124: =VLOOKUP($B124,[1]高二下!$B:$R,15,0) -> 方帮林 | AO124: 0 | AP124: =VLOOKUP($B124,[1]高二下!$B:$R,17,0) -> 高琴 | AQ124: =VLOOKUP($B124,[2]高二上!$B:$R,6,0) -> #N/A | AR124: =VLOOKUP($B124,[2]高二上!$B:$R,7,0) -> #N/A | AS124: =VLOOKUP($B124,[2]高二上!$B:$R,8,0) -> #N/A | AT124: =VLOOKUP($B124,[2]高二上!$B:$R,9,0) -> #N/A | AU124: =VLOOKUP($B124,[2]高二上!$B:$R,10,0) -> #N/A | AV124: =VLOOKUP($B124,[2]高二上!$B:$R,11,0) -> #N/A | AW124: =VLOOKUP($B124,[2]高二上!$B:$R,12,0) -> #N/A | AX124: =VLOOKUP($B124,[2]高二上!$B:$R,13,0) -> #N/A | AY124: =VLOOKUP($B124,[2]高二上!$B:$R,14,0) -> #N/A | AZ124: =VLOOKUP($B124,[2]高二上!$B:$R,15,0) -> #N/A | BA124: =VLOOKUP($B124,[2]高二上!$B:$R,16,0) -> #N/A | BB124: =VLOOKUP($B124,[2]高二上!$B:$R,17,0) -> #N/A | BC124: =VLOOKUP($B124,[1]高一下!$B:$R,6,0) -> 81 | BD124: =VLOOKUP($B124,[1]高一下!$B:$R,7,0) -> 叶仁芳 | BE124: =VLOOKUP($B124,[1]高一下!$B:$R,8,0) -> 81 | BF124: =VLOOKUP($B124,[1]高一下!$B:$R,9,0) -> 苏朗偏初 | BG124: =VLOOKUP($B124,[1]高一下!$B:$R,10,0) -> 40.5 | BH124: =VLOOKUP($B124,[1]高一下!$B:$R,11,0) -> 东梅 | BI124: =VLOOKUP($B124,[1]高一下!$B:$R,12,0) -> 18 | BJ124: =VLOOKUP($B124,[1]高一下!$B:$R,13,0) -> 兰举银 | BK124: =VLOOKUP($B124,[1]高一下!$B:$R,14,0) -> 29 | BL124: =VLOOKUP($B124,[1]高一下!$B:$R,15,0) -> 方帮林 | BM124: =VLOOKUP($B124,[1]高一下!$B:$R,16,0) -> 26 | BN124: =VLOOKUP($B124,[1]高一下!$B:$R,17,0) -> 高琴 | BO124: =VLOOKUP($B124,[1]高一上!$B:$W,5,0) -> 88.5 | BP124: =VLOOKUP($B124,[1]高一上!$B:$W,6,0) -> 叶仁芳 | BQ124: =VLOOKUP($B124,[1]高一上!$B:$W,7,0) -> 46 | BR124: =VLOOKUP($B124,[1]高一上!$B:$W,8,0) -> 苏朗偏初 | BS124: =VLOOKUP($B124,[1]高一上!$B:$W,9,0) -> 36.5 | BT124: =VLOOKUP($B124,[1]高一上!$B:$W,10,0) -> 东梅 | BU124: =VLOOKUP($B124,[1]高一上!$B:$W,11,0) -> 34.5 | BV124: =VLOOKUP($B124,[1]高一上!$B:$W,12,0) -> 兰举银 | BW124: =VLOOKUP($B124,[1]高一上!$B:$W,13,0) -> 32.5 | BX124: =VLOOKUP($B124,[1]高一上!$B:$W,14,0) -> 方帮林 | BY124: =VLOOKUP($B124,[1]高一上!$B:$W,15,0) -> 26.5 | BZ124: =VLOOKUP($B124,[1]高一上!$B:$W,16,0) -> 田友米 | CA124: =VLOOKUP($B124,[1]中考!$B:$N,5,0) -> 102 | CB124: =VLOOKUP($B124,[1]中考!$B:$N,6,0) -> 89 | CC124: =VLOOKUP($B124,[1]中考!$B:$N,7,0) -> 61 | CD124: =VLOOKUP($B124,[1]中考!$B:$N,8,0) -> 33 | CE124: =VLOOKUP($B124,[1]中考!$B:$N,9,0) -> 24 | CF124: =VLOOKUP($B124,[1]中考!$B:$N,10,0) -> 35
A125: 51342220040719541X | B125: G51342220040719541X | C125: 04 | D125: 理科 | E125: 向欣伟 | F125: 253 | G125: 83 | H125: 叶仁芳 | I125: 38 | J125: 苏朗偏初 | K125: 45 | L125: 东梅 | M125: 26 | N125: 兰举银 | O125: 9 | P125: 刘厚江 | Q125: 52 | R125: 高琴 | S125: =VLOOKUP(B125,[1]高三上!$B:$R,6,0) -> 0 | T125: =VLOOKUP(B125,[1]高三上!$B:$R,7,0) -> 叶仁芳 | U125: =VLOOKUP(B125,[1]高三上!$B:$R,8,0) -> 0 | V125: =VLOOKUP(B125,[1]高三上!$B:$R,9,0) -> 苏朗偏初 | W125: =VLOOKUP(B125,[1]高三上!$B:$R,10,0) -> 0 | X125: =VLOOKUP(B125,[1]高三上!$B:$R,11,0) -> 东梅 | Y125: =VLOOKUP(B125,[1]高三上!$B:$R,12,0) -> 0 | Z125: =VLOOKUP(B125,[1]高三上!$B:$R,13,0) -> 兰举银 | AA125: =VLOOKUP(B125,[1]高三上!$B:$R,14,0) -> 0 | AB125: =VLOOKUP(B125,[1]高三上!$B:$R,15,0) -> 刘厚江 | AC125: =VLOOKUP(B125,[1]高三上!$B:$R,16,0) -> 0 | AD125: 张斯杰 | AE125: =VLOOKUP($B125,[1]高二下!$B:$R,6,0) -> 79.0 | AF125: =VLOOKUP($B125,[1]高二下!$B:$R,7,0) -> 叶仁芳 | AG125: =VLOOKUP($B125,[1]高二下!$B:$R,8,0) -> 42.0 | AH125: =VLOOKUP($B125,[1]高二下!$B:$R,9,0) -> 苏朗偏初 | AI125: =VLOOKUP($B125,[1]高二下!$B:$R,10,0) -> 25.0 | AJ125: =VLOOKUP($B125,[1]高二下!$B:$R,11,0) -> 东梅 | AK125: =VLOOKUP($B125,[1]高二下!$B:$R,12,0) -> 31.0 | AL125: =VLOOKUP($B125,[1]高二下!$B:$R,13,0) -> 兰举银 | AM125: =VLOOKUP($B125,[1]高二下!$B:$R,14,0) -> 33.0 | AN125: =VLOOKUP($B125,[1]高二下!$B:$R,15,0) -> 方帮林 | AO125: =VLOOKUP($B125,[1]高二下!$B:$R,16,0) -> 68.0 | AP125: =VLOOKUP($B125,[1]高二下!$B:$R,17,0) -> 高琴 | AQ125: =VLOOKUP($B125,[2]高二上!$B:$R,6,0) -> #N/A | AR125: =VLOOKUP($B125,[2]高二上!$B:$R,7,0) -> #N/A | AS125: =VLOOKUP($B125,[2]高二上!$B:$R,8,0) -> #N/A | AT125: =VLOOKUP($B125,[2]高二上!$B:$R,9,0) -> #N/A | AU125: =VLOOKUP($B125,[2]高二上!$B:$R,10,0) -> #N/A | AV125: =VLOOKUP($B125,[2]高二上!$B:$R,11,0) -> #N/A | AW125: =VLOOKUP($B125,[2]高二上!$B:$R,12,0) -> #N/A | AX125: =VLOOKUP($B125,[2]高二上!$B:$R,13,0) -> #N/A | AY125: =VLOOKUP($B125,[2]高二上!$B:$R,14,0) -> #N/A | AZ125: =VLOOKUP($B125,[2]高二上!$B:$R,15,0) -> #N/A | BA125: =VLOOKUP($B125,[2]高二上!$B:$R,16,0) -> #N/A | BB125: =VLOOKUP($B125,[2]高二上!$B:$R,17,0) -> #N/A | BC125: =VLOOKUP($B125,[1]高一下!$B:$R,6,0) -> #N/A | BD125: =VLOOKUP($B125,[1]高一下!$B:$R,7,0) -> #N/A | BE125: =VLOOKUP($B125,[1]高一下!$B:$R,8,0) -> #N/A | BF125: =VLOOKUP($B125,[1]高一下!$B:$R,9,0) -> #N/A | BG125: =VLOOKUP($B125,[1]高一下!$B:$R,10,0) -> #N/A | BH125: =VLOOKUP($B125,[1]高一下!$B:$R,11,0) -> #N/A | BI125: =VLOOKUP($B125,[1]高一下!$B:$R,12,0) -> #N/A | BJ125: =VLOOKUP($B125,[1]高一下!$B:$R,13,0) -> #N/A | BK125: =VLOOKUP($B125,[1]高一下!$B:$R,14,0) -> #N/A | BL125: =VLOOKUP($B125,[1]高一下!$B:$R,15,0) -> #N/A | BM125: =VLOOKUP($B125,[1]高一下!$B:$R,16,0) -> #N/A | BN125: =VLOOKUP($B125,[1]高一下!$B:$R,17,0) -> #N/A | BO125: =VLOOKUP($B125,[1]高一上!$B:$W,5,0) -> #N/A | BP125: =VLOOKUP($B125,[1]高一上!$B:$W,6,0) -> #N/A | BQ125: =VLOOKUP($B125,[1]高一上!$B:$W,7,0) -> #N/A | BR125: =VLOOKUP($B125,[1]高一上!$B:$W,8,0) -> #N/A | BS125: =VLOOKUP($B125,[1]高一上!$B:$W,9,0) -> #N/A | BT125: =VLOOKUP($B125,[1]高一上!$B:$W,10,0) -> #N/A | BU125: =VLOOKUP($B125,[1]高一上!$B:$W,11,0) -> #N/A | BV125: =VLOOKUP($B125,[1]高一上!$B:$W,12,0) -> #N/A | BW125: =VLOOKUP($B125,[1]高一上!$B:$W,13,0) -> #N/A | BX125: =VLOOKUP($B125,[1]高一上!$B:$W,14,0) -> #N/A | BY125: =VLOOKUP($B125,[1]高一上!$B:$W,15,0) -> #N/A | BZ125: =VLOOKUP($B125,[1]高一上!$B:$W,16,0) -> #N/A | CA125: =VLOOKUP($B125,[1]中考!$B:$N,5,0) -> #N/A | CB125: =VLOOKUP($B125,[1]中考!$B:$N,6,0) -> #N/A | CC125: =VLOOKUP($B125,[1]中考!$B:$N,7,0) -> #N/A | CD125: =VLOOKUP($B125,[1]中考!$B:$N,8,0) -> #N/A | CE125: =VLOOKUP($B125,[1]中考!$B:$N,9,0) -> #N/A | CF125: =VLOOKUP($B125,[1]中考!$B:$N,10,0) -> #N/A
A126: 513422200612083812 | B126: G513422200612083812 | C126: 05 | D126: 理科 | E126: 吴俊林 | F126: 545 | G126: 109 | H126: 李志友 | I126: 114 | J126: 次儿祝玛 | K126: 84 | L126: 肖秀秀 | M126: 89.5 | N126: 胡伟杰 | O126: 74 | P126: 郑强秋 | Q126: 74.5 | R126: 张斯杰 | S126: =VLOOKUP(B126,[1]高三上!$B:$R,6,0) -> 100 | T126: =VLOOKUP(B126,[1]高三上!$B:$R,7,0) -> 李志友 | U126: =VLOOKUP(B126,[1]高三上!$B:$R,8,0) -> 126 | V126: =VLOOKUP(B126,[1]高三上!$B:$R,9,0) -> 次儿祝玛 | W126: =VLOOKUP(B126,[1]高三上!$B:$R,10,0) -> 72 | X126: =VLOOKUP(B126,[1]高三上!$B:$R,11,0) -> 肖秀秀 | Y126: =VLOOKUP(B126,[1]高三上!$B:$R,12,0) -> 72 | Z126: =VLOOKUP(B126,[1]高三上!$B:$R,13,0) -> 胡伟杰 | AA126: =VLOOKUP(B126,[1]高三上!$B:$R,14,0) -> 56 | AB126: =VLOOKUP(B126,[1]高三上!$B:$R,15,0) -> 郑强秋 | AC126: =VLOOKUP(B126,[1]高三上!$B:$R,16,0) -> 60 | AD126: 张斯杰 | AE126: =VLOOKUP($B126,[1]高二下!$B:$R,6,0) -> 101.0 | AF126: =VLOOKUP($B126,[1]高二下!$B:$R,7,0) -> 李志友 | AG126: =VLOOKUP($B126,[1]高二下!$B:$R,8,0) -> 69.0 | AH126: =VLOOKUP($B126,[1]高二下!$B:$R,9,0) -> 次儿祝玛 | AI126: =VLOOKUP($B126,[1]高二下!$B:$R,10,0) -> 75.0 | AJ126: =VLOOKUP($B126,[1]高二下!$B:$R,11,0) -> 肖秀秀 | AK126: =VLOOKUP($B126,[1]高二下!$B:$R,12,0) -> 63.0 | AL126: =VLOOKUP($B126,[1]高二下!$B:$R,13,0) -> 胡伟杰 | AM126: =VLOOKUP($B126,[1]高二下!$B:$R,14,0) -> 84.0 | AN126: =VLOOKUP($B126,[1]高二下!$B:$R,15,0) -> 邱宗兰 | AO126: =VLOOKUP($B126,[1]高二下!$B:$R,16,0) -> 134.0 | AP126: =VLOOKUP($B126,[1]高二下!$B:$R,17,0) -> 龙志云 | AQ126: =VLOOKUP($B126,[2]高二上!$B:$R,6,0) -> #N/A | AR126: =VLOOKUP($B126,[2]高二上!$B:$R,7,0) -> #N/A | AS126: =VLOOKUP($B126,[2]高二上!$B:$R,8,0) -> #N/A | AT126: =VLOOKUP($B126,[2]高二上!$B:$R,9,0) -> #N/A | AU126: =VLOOKUP($B126,[2]高二上!$B:$R,10,0) -> #N/A | AV126: =VLOOKUP($B126,[2]高二上!$B:$R,11,0) -> #N/A | AW126: =VLOOKUP($B126,[2]高二上!$B:$R,12,0) -> #N/A | AX126: =VLOOKUP($B126,[2]高二上!$B:$R,13,0) -> #N/A | AY126: =VLOOKUP($B126,[2]高二上!$B:$R,14,0) -> #N/A | AZ126: =VLOOKUP($B126,[2]高二上!$B:$R,15,0) -> #N/A | BA126: =VLOOKUP($B126,[2]高二上!$B:$R,16,0) -> #N/A | BB126: =VLOOKUP($B126,[2]高二上!$B:$R,17,0) -> #N/A | BC126: =VLOOKUP($B126,[1]高一下!$B:$R,6,0) -> 92 | BD126: =VLOOKUP($B126,[1]高一下!$B:$R,7,0) -> 曹霞 | BE126: =VLOOKUP($B126,[1]高一下!$B:$R,8,0) -> 108 | BF126: =VLOOKUP($B126,[1]高一下!$B:$R,9,0) -> 次儿祝玛 | BG126: =VLOOKUP($B126,[1]高一下!$B:$R,10,0) -> 37.5 | BH126: =VLOOKUP($B126,[1]高一下!$B:$R,11,0) -> 肖秀秀 | BI126: =VLOOKUP($B126,[1]高一下!$B:$R,12,0) -> 78 | BJ126: =VLOOKUP($B126,[1]高一下!$B:$R,13,0) -> 胡伟杰 | BK126: =VLOOKUP($B126,[1]高一下!$B:$R,14,0) -> 70 | BL126: =VLOOKUP($B126,[1]高一下!$B:$R,15,0) -> 刘红 | BM126: =VLOOKUP($B126,[1]高一下!$B:$R,16,0) -> 67 | BN126: =VLOOKUP($B126,[1]高一下!$B:$R,17,0) -> 龙志云 | BO126: =VLOOKUP($B126,[1]高一上!$B:$W,5,0) -> 89.5 | BP126: =VLOOKUP($B126,[1]高一上!$B:$W,6,0) -> 曹霞 | BQ126: =VLOOKUP($B126,[1]高一上!$B:$W,7,0) -> 112 | BR126: =VLOOKUP($B126,[1]高一上!$B:$W,8,0) -> 次儿祝玛 | BS126: =VLOOKUP($B126,[1]高一上!$B:$W,9,0) -> 58 | BT126: =VLOOKUP($B126,[1]高一上!$B:$W,10,0) -> 肖秀秀 | BU126: =VLOOKUP($B126,[1]高一上!$B:$W,11,0) -> 87 | BV126: =VLOOKUP($B126,[1]高一上!$B:$W,12,0) -> 胡伟杰 | BW126: =VLOOKUP($B126,[1]高一上!$B:$W,13,0) -> 59 | BX126: =VLOOKUP($B126,[1]高一上!$B:$W,14,0) -> 刘红 | BY126: =VLOOKUP($B126,[1]高一上!$B:$W,15,0) -> 72.5 | BZ126: =VLOOKUP($B126,[1]高一上!$B:$W,16,0) -> 龙志云 | CA126: =VLOOKUP($B126,[1]中考!$B:$N,5,0) -> 106 | CB126: =VLOOKUP($B126,[1]中考!$B:$N,6,0) -> 119 | CC126: =VLOOKUP($B126,[1]中考!$B:$N,7,0) -> 74 | CD126: =VLOOKUP($B126,[1]中考!$B:$N,8,0) -> 53 | CE126: =VLOOKUP($B126,[1]中考!$B:$N,9,0) -> 37 | CF126: =VLOOKUP($B126,[1]中考!$B:$N,10,0) -> 40
A127: 513422200510082114 | B127: G513422200510082114 | C127: 05 | D127: 理科 | E127: 罗发军 | F127: 530 | G127: 104 | H127: 李志友 | I127: 112 | J127: 次儿祝玛 | K127: 105 | L127: 肖秀秀 | M127: 73.5 | N127: 胡伟杰 | O127: 59 | P127: 郑强秋 | Q127: 76.5 | R127: 张斯杰 | S127: =VLOOKUP(B127,[1]高三上!$B:$R,6,0) -> 98.5 | T127: =VLOOKUP(B127,[1]高三上!$B:$R,7,0) -> 李志友 | U127: =VLOOKUP(B127,[1]高三上!$B:$R,8,0) -> 121 | V127: =VLOOKUP(B127,[1]高三上!$B:$R,9,0) -> 次儿祝玛 | W127: =VLOOKUP(B127,[1]高三上!$B:$R,10,0) -> 109 | X127: =VLOOKUP(B127,[1]高三上!$B:$R,11,0) -> 肖秀秀 | Y127: =VLOOKUP(B127,[1]高三上!$B:$R,12,0) -> 65 | Z127: =VLOOKUP(B127,[1]高三上!$B:$R,13,0) -> 胡伟杰 | AA127: =VLOOKUP(B127,[1]高三上!$B:$R,14,0) -> 55 | AB127: =VLOOKUP(B127,[1]高三上!$B:$R,15,0) -> 郑强秋 | AC127: =VLOOKUP(B127,[1]高三上!$B:$R,16,0) -> 51 | AD127: 张斯杰 | AE127: =VLOOKUP($B127,[1]高二下!$B:$R,6,0) -> 90.0 | AF127: =VLOOKUP($B127,[1]高二下!$B:$R,7,0) -> 李志友 | AG127: =VLOOKUP($B127,[1]高二下!$B:$R,8,0) -> 98.5 | AH127: =VLOOKUP($B127,[1]高二下!$B:$R,9,0) -> 次儿祝玛 | AI127: =VLOOKUP($B127,[1]高二下!$B:$R,10,0) -> 43.0 | AJ127: =VLOOKUP($B127,[1]高二下!$B:$R,11,0) -> 肖秀秀 | AK127: =VLOOKUP($B127,[1]高二下!$B:$R,12,0) -> 45.0 | AL127: =VLOOKUP($B127,[1]高二下!$B:$R,13,0) -> 胡伟杰 | AM127: =VLOOKUP($B127,[1]高二下!$B:$R,14,0) -> 61.0 | AN127: =VLOOKUP($B127,[1]高二下!$B:$R,15,0) -> 邱宗兰 | AO127: =VLOOKUP($B127,[1]高二下!$B:$R,16,0) -> 112.0 | AP127: =VLOOKUP($B127,[1]高二下!$B:$R,17,0) -> 龙志云 | AQ127: =VLOOKUP($B127,[2]高二上!$B:$R,6,0) -> #N/A | AR127: =VLOOKUP($B127,[2]高二上!$B:$R,7,0) -> #N/A | AS127: =VLOOKUP($B127,[2]高二上!$B:$R,8,0) -> #N/A | AT127: =VLOOKUP($B127,[2]高二上!$B:$R,9,0) -> #N/A | AU127: =VLOOKUP($B127,[2]高二上!$B:$R,10,0) -> #N/A | AV127: =VLOOKUP($B127,[2]高二上!$B:$R,11,0) -> #N/A | AW127: =VLOOKUP($B127,[2]高二上!$B:$R,12,0) -> #N/A | AX127: =VLOOKUP($B127,[2]高二上!$B:$R,13,0) -> #N/A | AY127: =VLOOKUP($B127,[2]高二上!$B:$R,14,0) -> #N/A | AZ127: =VLOOKUP($B127,[2]高二上!$B:$R,15,0) -> #N/A | BA127: =VLOOKUP($B127,[2]高二上!$B:$R,16,0) -> #N/A | BB127: =VLOOKUP($B127,[2]高二上!$B:$R,17,0) -> #N/A | BC127: =VLOOKUP($B127,[1]高一下!$B:$R,6,0) -> 83 | BD127: =VLOOKUP($B127,[1]高一下!$B:$R,7,0) -> 曹霞 | BE127: =VLOOKUP($B127,[1]高一下!$B:$R,8,0) -> 129 | BF127: =VLOOKUP($B127,[1]高一下!$B:$R,9,0) -> 次儿祝玛 | BG127: =VLOOKUP($B127,[1]高一下!$B:$R,10,0) -> 83.5 | BH127: =VLOOKUP($B127,[1]高一下!$B:$R,11,0) -> 肖秀秀 | BI127: =VLOOKUP($B127,[1]高一下!$B:$R,12,0) -> 69 | BJ127: =VLOOKUP($B127,[1]高一下!$B:$R,13,0) -> 胡伟杰 | BK127: =VLOOKUP($B127,[1]高一下!$B:$R,14,0) -> 27 | BL127: =VLOOKUP($B127,[1]高一下!$B:$R,15,0) -> 刘红 | BM127: =VLOOKUP($B127,[1]高一下!$B:$R,16,0) -> 52 | BN127: =VLOOKUP($B127,[1]高一下!$B:$R,17,0) -> 龙志云 | BO127: =VLOOKUP($B127,[1]高一上!$B:$W,5,0) -> 87 | BP127: =VLOOKUP($B127,[1]高一上!$B:$W,6,0) -> 曹霞 | BQ127: =VLOOKUP($B127,[1]高一上!$B:$W,7,0) -> 115 | BR127: =VLOOKUP($B127,[1]高一上!$B:$W,8,0) -> 次儿祝玛 | BS127: =VLOOKUP($B127,[1]高一上!$B:$W,9,0) -> 68.5 | BT127: =VLOOKUP($B127,[1]高一上!$B:$W,10,0) -> 肖秀秀 | BU127: =VLOOKUP($B127,[1]高一上!$B:$W,11,0) -> 51.5 | BV127: =VLOOKUP($B127,[1]高一上!$B:$W,12,0) -> 胡伟杰 | BW127: =VLOOKUP($B127,[1]高一上!$B:$W,13,0) -> 56 | BX127: =VLOOKUP($B127,[1]高一上!$B:$W,14,0) -> 刘红 | BY127: =VLOOKUP($B127,[1]高一上!$B:$W,15,0) -> 42.5 | BZ127: =VLOOKUP($B127,[1]高一上!$B:$W,16,0) -> 龙志云 | CA127: =VLOOKUP($B127,[1]中考!$B:$N,5,0) -> 105 | CB127: =VLOOKUP($B127,[1]中考!$B:$N,6,0) -> 97 | CC127: =VLOOKUP($B127,[1]中考!$B:$N,7,0) -> 113 | CD127: =VLOOKUP($B127,[1]中考!$B:$N,8,0) -> 53 | CE127: =VLOOKUP($B127,[1]中考!$B:$N,9,0) -> 29 | CF127: =VLOOKUP($B127,[1]中考!$B:$N,10,0) -> 37
A128: 513422200509070917 | B128: G513422200509070917 | C128: 05 | D128: 理科 | E128: 沙金辉 | F128: 529 | G128: 104 | H128: 李志友 | I128: 111 | J128: 次儿祝玛 | K128: 106 | L128: 肖秀秀 | M128: 62.5 | N128: 胡伟杰 | O128: 75.5 | P128: 郑强秋 | Q128: 70 | R128: 张斯杰 | S128: =VLOOKUP(B128,[1]高三上!$B:$R,6,0) -> 101.5 | T128: =VLOOKUP(B128,[1]高三上!$B:$R,7,0) -> 李志友 | U128: =VLOOKUP(B128,[1]高三上!$B:$R,8,0) -> 102 | V128: =VLOOKUP(B128,[1]高三上!$B:$R,9,0) -> 次儿祝玛 | W128: =VLOOKUP(B128,[1]高三上!$B:$R,10,0) -> 77.5 | X128: =VLOOKUP(B128,[1]高三上!$B:$R,11,0) -> 肖秀秀 | Y128: =VLOOKUP(B128,[1]高三上!$B:$R,12,0) -> 37 | Z128: =VLOOKUP(B128,[1]高三上!$B:$R,13,0) -> 胡伟杰 | AA128: =VLOOKUP(B128,[1]高三上!$B:$R,14,0) -> 51 | AB128: =VLOOKUP(B128,[1]高三上!$B:$R,15,0) -> 郑强秋 | AC128: =VLOOKUP(B128,[1]高三上!$B:$R,16,0) -> 41 | AD128: 张斯杰 | AE128: =VLOOKUP($B128,[1]高二下!$B:$R,6,0) -> 82.0 | AF128: =VLOOKUP($B128,[1]高二下!$B:$R,7,0) -> 李志友 | AG128: =VLOOKUP($B128,[1]高二下!$B:$R,8,0) -> 109.0 | AH128: =VLOOKUP($B128,[1]高二下!$B:$R,9,0) -> 次儿祝玛 | AI128: =VLOOKUP($B128,[1]高二下!$B:$R,10,0) -> 28.0 | AJ128: =VLOOKUP($B128,[1]高二下!$B:$R,11,0) -> 肖秀秀 | AK128: =VLOOKUP($B128,[1]高二下!$B:$R,12,0) -> 38.0 | AL128: =VLOOKUP($B128,[1]高二下!$B:$R,13,0) -> 胡伟杰 | AM128: =VLOOKUP($B128,[1]高二下!$B:$R,14,0) -> 40.0 | AN128: =VLOOKUP($B128,[1]高二下!$B:$R,15,0) -> 邱宗兰 | AO128: =VLOOKUP($B128,[1]高二下!$B:$R,16,0) -> 106.0 | AP128: =VLOOKUP($B128,[1]高二下!$B:$R,17,0) -> 龙志云 | AQ128: =VLOOKUP($B128,[2]高二上!$B:$R,6,0) -> #N/A | AR128: =VLOOKUP($B128,[2]高二上!$B:$R,7,0) -> #N/A | AS128: =VLOOKUP($B128,[2]高二上!$B:$R,8,0) -> #N/A | AT128: =VLOOKUP($B128,[2]高二上!$B:$R,9,0) -> #N/A | AU128: =VLOOKUP($B128,[2]高二上!$B:$R,10,0) -> #N/A | AV128: =VLOOKUP($B128,[2]高二上!$B:$R,11,0) -> #N/A | AW128: =VLOOKUP($B128,[2]高二上!$B:$R,12,0) -> #N/A | AX128: =VLOOKUP($B128,[2]高二上!$B:$R,13,0) -> #N/A | AY128: =VLOOKUP($B128,[2]高二上!$B:$R,14,0) -> #N/A | AZ128: =VLOOKUP($B128,[2]高二上!$B:$R,15,0) -> #N/A | BA128: =VLOOKUP($B128,[2]高二上!$B:$R,16,0) -> #N/A | BB128: =VLOOKUP($B128,[2]高二上!$B:$R,17,0) -> #N/A | BC128: =VLOOKUP($B128,[1]高一下!$B:$R,6,0) -> 84 | BD128: =VLOOKUP($B128,[1]高一下!$B:$R,7,0) -> 曹霞 | BE128: =VLOOKUP($B128,[1]高一下!$B:$R,8,0) -> 112 | BF128: =VLOOKUP($B128,[1]高一下!$B:$R,9,0) -> 次儿祝玛 | BG128: =VLOOKUP($B128,[1]高一下!$B:$R,10,0) -> 67 | BH128: =VLOOKUP($B128,[1]高一下!$B:$R,11,0) -> 肖秀秀 | BI128: =VLOOKUP($B128,[1]高一下!$B:$R,12,0) -> 69 | BJ128: =VLOOKUP($B128,[1]高一下!$B:$R,13,0) -> 胡伟杰 | BK128: =VLOOKUP($B128,[1]高一下!$B:$R,14,0) -> 46 | BL128: =VLOOKUP($B128,[1]高一下!$B:$R,15,0) -> 刘红 | BM128: =VLOOKUP($B128,[1]高一下!$B:$R,16,0) -> 32 | BN128: =VLOOKUP($B128,[1]高一下!$B:$R,17,0) -> 龙志云 | BO128: =VLOOKUP($B128,[1]高一上!$B:$W,5,0) -> 74 | BP128: =VLOOKUP($B128,[1]高一上!$B:$W,6,0) -> 刘玲君 | BQ128: =VLOOKUP($B128,[1]高一上!$B:$W,7,0) -> 74 | BR128: =VLOOKUP($B128,[1]高一上!$B:$W,8,0) -> 陈强 | BS128: =VLOOKUP($B128,[1]高一上!$B:$W,9,0) -> 73.5 | BT128: =VLOOKUP($B128,[1]高一上!$B:$W,10,0) -> 尹英娇 | BU128: =VLOOKUP($B128,[1]高一上!$B:$W,11,0) -> 38 | BV128: =VLOOKUP($B128,[1]高一上!$B:$W,12,0) -> 0 | BW128: =VLOOKUP($B128,[1]高一上!$B:$W,13,0) -> 38 | BX128: =VLOOKUP($B128,[1]高一上!$B:$W,14,0) -> 0 | BY128: =VLOOKUP($B128,[1]高一上!$B:$W,15,0) -> 34.5 | BZ128: =VLOOKUP($B128,[1]高一上!$B:$W,16,0) -> 0 | CA128: =VLOOKUP($B128,[1]中考!$B:$N,5,0) -> 97 | CB128: =VLOOKUP($B128,[1]中考!$B:$N,6,0) -> 103 | CC128: =VLOOKUP($B128,[1]中考!$B:$N,7,0) -> 118 | CD128: =VLOOKUP($B128,[1]中考!$B:$N,8,0) -> 49 | CE128: =VLOOKUP($B128,[1]中考!$B:$N,9,0) -> 40 | CF128: =VLOOKUP($B128,[1]中考!$B:$N,10,0) -> 43
A129: 513422200612076815 | B129: G513422200612076815 | C129: 05 | D129: 理科 | E129: 邱长保 | F129: 514 | G129: 100 | H129: 李志友 | I129: 101 | J129: 次儿祝玛 | K129: 122 | L129: 肖秀秀 | M129: 63.5 | N129: 胡伟杰 | O129: 70 | P129: 郑强秋 | Q129: 57.5 | R129: 张斯杰 | S129: =VLOOKUP(B129,[1]高三上!$B:$R,6,0) -> 95 | T129: =VLOOKUP(B129,[1]高三上!$B:$R,7,0) -> 李志友 | U129: =VLOOKUP(B129,[1]高三上!$B:$R,8,0) -> 107 | V129: =VLOOKUP(B129,[1]高三上!$B:$R,9,0) -> 次儿祝玛 | W129: =VLOOKUP(B129,[1]高三上!$B:$R,10,0) -> 82 | X129: =VLOOKUP(B129,[1]高三上!$B:$R,11,0) -> 肖秀秀 | Y129: =VLOOKUP(B129,[1]高三上!$B:$R,12,0) -> 46 | Z129: =VLOOKUP(B129,[1]高三上!$B:$R,13,0) -> 胡伟杰 | AA129: =VLOOKUP(B129,[1]高三上!$B:$R,14,0) -> 44 | AB129: =VLOOKUP(B129,[1]高三上!$B:$R,15,0) -> 郑强秋 | AC129: =VLOOKUP(B129,[1]高三上!$B:$R,16,0) -> 40 | AD129: 张斯杰 | AE129: =VLOOKUP($B129,[1]高二下!$B:$R,6,0) -> 81.0 | AF129: =VLOOKUP($B129,[1]高二下!$B:$R,7,0) -> 李志友 | AG129: =VLOOKUP($B129,[1]高二下!$B:$R,8,0) -> 85.5 | AH129: =VLOOKUP($B129,[1]高二下!$B:$R,9,0) -> 次儿祝玛 | AI129: =VLOOKUP($B129,[1]高二下!$B:$R,10,0) -> 42.0 | AJ129: =VLOOKUP($B129,[1]高二下!$B:$R,11,0) -> 肖秀秀 | AK129: =VLOOKUP($B129,[1]高二下!$B:$R,12,0) -> 37.0 | AL129: =VLOOKUP($B129,[1]高二下!$B:$R,13,0) -> 胡伟杰 | AM129: =VLOOKUP($B129,[1]高二下!$B:$R,14,0) -> 40.0 | AN129: =VLOOKUP($B129,[1]高二下!$B:$R,15,0) -> 邱宗兰 | AO129: =VLOOKUP($B129,[1]高二下!$B:$R,16,0) -> 118.0 | AP129: =VLOOKUP($B129,[1]高二下!$B:$R,17,0) -> 龙志云 | AQ129: =VLOOKUP($B129,[2]高二上!$B:$R,6,0) -> #N/A | AR129: =VLOOKUP($B129,[2]高二上!$B:$R,7,0) -> #N/A | AS129: =VLOOKUP($B129,[2]高二上!$B:$R,8,0) -> #N/A | AT129: =VLOOKUP($B129,[2]高二上!$B:$R,9,0) -> #N/A | AU129: =VLOOKUP($B129,[2]高二上!$B:$R,10,0) -> #N/A | AV129: =VLOOKUP($B129,[2]高二上!$B:$R,11,0) -> #N/A | AW129: =VLOOKUP($B129,[2]高二上!$B:$R,12,0) -> #N/A | AX129: =VLOOKUP($B129,[2]高二上!$B:$R,13,0) -> #N/A | AY129: =VLOOKUP($B129,[2]高二上!$B:$R,14,0) -> #N/A | AZ129: =VLOOKUP($B129,[2]高二上!$B:$R,15,0) -> #N/A | BA129: =VLOOKUP($B129,[2]高二上!$B:$R,16,0) -> #N/A | BB129: =VLOOKUP($B129,[2]高二上!$B:$R,17,0) -> #N/A | BC129: =VLOOKUP($B129,[1]高一下!$B:$R,6,0) -> 86 | BD129: =VLOOKUP($B129,[1]高一下!$B:$R,7,0) -> 曹霞 | BE129: =VLOOKUP($B129,[1]高一下!$B:$R,8,0) -> 119 | BF129: =VLOOKUP($B129,[1]高一下!$B:$R,9,0) -> 次儿祝玛 | BG129: =VLOOKUP($B129,[1]高一下!$B:$R,10,0) -> 70 | BH129: =VLOOKUP($B129,[1]高一下!$B:$R,11,0) -> 肖秀秀 | BI129: =VLOOKUP($B129,[1]高一下!$B:$R,12,0) -> 62 | BJ129: =VLOOKUP($B129,[1]高一下!$B:$R,13,0) -> 胡伟杰 | BK129: =VLOOKUP($B129,[1]高一下!$B:$R,14,0) -> 49 | BL129: =VLOOKUP($B129,[1]高一下!$B:$R,15,0) -> 刘红 | BM129: =VLOOKUP($B129,[1]高一下!$B:$R,16,0) -> 42 | BN129: =VLOOKUP($B129,[1]高一下!$B:$R,17,0) -> 龙志云 | BO129: =VLOOKUP($B129,[1]高一上!$B:$W,5,0) -> 81.5 | BP129: =VLOOKUP($B129,[1]高一上!$B:$W,6,0) -> 曹霞 | BQ129: =VLOOKUP($B129,[1]高一上!$B:$W,7,0) -> 99 | BR129: =VLOOKUP($B129,[1]高一上!$B:$W,8,0) -> 次儿祝玛 | BS129: =VLOOKUP($B129,[1]高一上!$B:$W,9,0) -> 71.5 | BT129: =VLOOKUP($B129,[1]高一上!$B:$W,10,0) -> 肖秀秀 | BU129: =VLOOKUP($B129,[1]高一上!$B:$W,11,0) -> 51 | BV129: =VLOOKUP($B129,[1]高一上!$B:$W,12,0) -> 胡伟杰 | BW129: =VLOOKUP($B129,[1]高一上!$B:$W,13,0) -> 47 | BX129: =VLOOKUP($B129,[1]高一上!$B:$W,14,0) -> 刘红 | BY129: =VLOOKUP($B129,[1]高一上!$B:$W,15,0) -> 34 | BZ129: =VLOOKUP($B129,[1]高一上!$B:$W,16,0) -> 龙志云 | CA129: =VLOOKUP($B129,[1]中考!$B:$N,5,0) -> 105 | CB129: =VLOOKUP($B129,[1]中考!$B:$N,6,0) -> 107 | CC129: =VLOOKUP($B129,[1]中考!$B:$N,7,0) -> 111 | CD129: =VLOOKUP($B129,[1]中考!$B:$N,8,0) -> 35 | CE129: =VLOOKUP($B129,[1]中考!$B:$N,9,0) -> 30 | CF129: =VLOOKUP($B129,[1]中考!$B:$N,10,0) -> 35
A130: 513422200605244227 | B130: G513422200605244227 | C130: 05 | D130: 理科 | E130: 扎西祝玛 | F130: 509 | G130: 121 | H130: 李志友 | I130: 89 | J130: 次儿祝玛 | K130: 105 | L130: 肖秀秀 | M130: 50.5 | N130: 胡伟杰 | O130: 64.5 | P130: 郑强秋 | Q130: 79 | R130: 张斯杰 | S130: =VLOOKUP(B130,[1]高三上!$B:$R,6,0) -> 107.5 | T130: =VLOOKUP(B130,[1]高三上!$B:$R,7,0) -> 李志友 | U130: =VLOOKUP(B130,[1]高三上!$B:$R,8,0) -> 92 | V130: =VLOOKUP(B130,[1]高三上!$B:$R,9,0) -> 次儿祝玛 | W130: =VLOOKUP(B130,[1]高三上!$B:$R,10,0) -> 96.5 | X130: =VLOOKUP(B130,[1]高三上!$B:$R,11,0) -> 肖秀秀 | Y130: =VLOOKUP(B130,[1]高三上!$B:$R,12,0) -> 38 | Z130: =VLOOKUP(B130,[1]高三上!$B:$R,13,0) -> 胡伟杰 | AA130: =VLOOKUP(B130,[1]高三上!$B:$R,14,0) -> 58 | AB130: =VLOOKUP(B130,[1]高三上!$B:$R,15,0) -> 郑强秋 | AC130: =VLOOKUP($B130,[1]高三上!$B:$R,16,0) -> 45 | AD130: =VLOOKUP($B130,[1]高三上!$B:$R,17,0) -> 龙志云 | AE130: =VLOOKUP($B130,[1]高二下!$B:$R,6,0) -> 83.0 | AF130: =VLOOKUP($B130,[1]高二下!$B:$R,7,0) -> 李志友 | AG130: =VLOOKUP($B130,[1]高二下!$B:$R,8,0) -> 67.0 | AH130: =VLOOKUP($B130,[1]高二下!$B:$R,9,0) -> 次儿祝玛 | AI130: =VLOOKUP($B130,[1]高二下!$B:$R,10,0) -> 23.0 | AJ130: =VLOOKUP($B130,[1]高二下!$B:$R,11,0) -> 肖秀秀 | AK130: =VLOOKUP($B130,[1]高二下!$B:$R,12,0) -> 26.0 | AL130: =VLOOKUP($B130,[1]高二下!$B:$R,13,0) -> 胡伟杰 | AM130: =VLOOKUP($B130,[1]高二下!$B:$R,14,0) -> 45.0 | AN130: =VLOOKUP($B130,[1]高二下!$B:$R,15,0) -> 邱宗兰 | AO130: =VLOOKUP($B130,[1]高二下!$B:$R,16,0) -> 91.0 | AP130: =VLOOKUP($B130,[1]高二下!$B:$R,17,0) -> 龙志云 | AQ130: =VLOOKUP($B130,[2]高二上!$B:$R,6,0) -> #N/A | AR130: =VLOOKUP($B130,[2]高二上!$B:$R,7,0) -> #N/A | AS130: =VLOOKUP($B130,[2]高二上!$B:$R,8,0) -> #N/A | AT130: =VLOOKUP($B130,[2]高二上!$B:$R,9,0) -> #N/A | AU130: =VLOOKUP($B130,[2]高二上!$B:$R,10,0) -> #N/A | AV130: =VLOOKUP($B130,[2]高二上!$B:$R,11,0) -> #N/A | AW130: =VLOOKUP($B130,[2]高二上!$B:$R,12,0) -> #N/A | AX130: =VLOOKUP($B130,[2]高二上!$B:$R,13,0) -> #N/A | AY130: =VLOOKUP($B130,[2]高二上!$B:$R,14,0) -> #N/A | AZ130: =VLOOKUP($B130,[2]高二上!$B:$R,15,0) -> #N/A | BA130: =VLOOKUP($B130,[2]高二上!$B:$R,16,0) -> #N/A | BB130: =VLOOKUP($B130,[2]高二上!$B:$R,17,0) -> #N/A | BC130: =VLOOKUP($B130,[1]高一下!$B:$R,6,0) -> 93 | BD130: =VLOOKUP($B130,[1]高一下!$B:$R,7,0) -> 曹霞 | BE130: =VLOOKUP($B130,[1]高一下!$B:$R,8,0) -> 79 | BF130: =VLOOKUP($B130,[1]高一下!$B:$R,9,0) -> 次儿祝玛 | BG130: =VLOOKUP($B130,[1]高一下!$B:$R,10,0) -> 97 | BH130: =VLOOKUP($B130,[1]高一下!$B:$R,11,0) -> 肖秀秀 | BI130: =VLOOKUP($B130,[1]高一下!$B:$R,12,0) -> 44 | BJ130: =VLOOKUP($B130,[1]高一下!$B:$R,13,0) -> 胡伟杰 | BK130: =VLOOKUP($B130,[1]高一下!$B:$R,14,0) -> 52 | BL130: =VLOOKUP($B130,[1]高一下!$B:$R,15,0) -> 刘红 | BM130: =VLOOKUP($B130,[1]高一下!$B:$R,16,0) -> 56 | BN130: =VLOOKUP($B130,[1]高一下!$B:$R,17,0) -> 龙志云 | BO130: =VLOOKUP($B130,[1]高一上!$B:$W,5,0) -> 98.5 | BP130: =VLOOKUP($B130,[1]高一上!$B:$W,6,0) -> 曹霞 | BQ130: =VLOOKUP($B130,[1]高一上!$B:$W,7,0) -> 78 | BR130: =VLOOKUP($B130,[1]高一上!$B:$W,8,0) -> 次儿祝玛 | BS130: =VLOOKUP($B130,[1]高一上!$B:$W,9,0) -> 81.5 | BT130: =VLOOKUP($B130,[1]高一上!$B:$W,10,0) -> 肖秀秀 | BU130: =VLOOKUP($B130,[1]高一上!$B:$W,11,0) -> 39 | BV130: =VLOOKUP($B130,[1]高一上!$B:$W,12,0) -> 胡伟杰 | BW130: =VLOOKUP($B130,[1]高一上!$B:$W,13,0) -> 52 | BX130: =VLOOKUP($B130,[1]高一上!$B:$W,14,0) -> 刘红 | BY130: =VLOOKUP($B130,[1]高一上!$B:$W,15,0) -> 53.5 | BZ130: =VLOOKUP($B130,[1]高一上!$B:$W,16,0) -> 龙志云 | CA130: =VLOOKUP($B130,[1]中考!$B:$N,5,0) -> 116 | CB130: =VLOOKUP($B130,[1]中考!$B:$N,6,0) -> 86 | CC130: =VLOOKUP($B130,[1]中考!$B:$N,7,0) -> 117 | CD130: =VLOOKUP($B130,[1]中考!$B:$N,8,0) -> 40 | CE130: =VLOOKUP($B130,[1]中考!$B:$N,9,0) -> 34 | CF130: =VLOOKUP($B130,[1]中考!$B:$N,10,0) -> 37
A131: 513422200601020322 | B131: G513422200601020322 | C131: 05 | D131: 理科 | E131: 朱格桑 | F131: 488 | G131: 102 | H131: 李志友 | I131: 92 | J131: 次儿祝玛 | K131: 97 | L131: 肖秀秀 | M131: 60.5 | N131: 胡伟杰 | O131: 69 | P131: 郑强秋 | Q131: 67 | R131: 张斯杰 | S131: =VLOOKUP(B131,[1]高三上!$B:$R,6,0) -> 98 | T131: =VLOOKUP(B131,[1]高三上!$B:$R,7,0) -> 李志友 | U131: =VLOOKUP(B131,[1]高三上!$B:$R,8,0) -> 104 | V131: =VLOOKUP(B131,[1]高三上!$B:$R,9,0) -> 次儿祝玛 | W131: =VLOOKUP(B131,[1]高三上!$B:$R,10,0) -> 80.5 | X131: =VLOOKUP(B131,[1]高三上!$B:$R,11,0) -> 肖秀秀 | Y131: =VLOOKUP(B131,[1]高三上!$B:$R,12,0) -> 43 | Z131: =VLOOKUP(B131,[1]高三上!$B:$R,13,0) -> 胡伟杰 | AA131: =VLOOKUP(B131,[1]高三上!$B:$R,14,0) -> 62 | AB131: =VLOOKUP(B131,[1]高三上!$B:$R,15,0) -> 郑强秋 | AC131: =VLOOKUP(B131,[1]高三上!$B:$R,16,0) -> 33 | AD131: =VLOOKUP($B131,[1]高三上!$B:$R,17,0) -> 龙志云 | AE131: =VLOOKUP($B131,[1]高二下!$B:$R,6,0) -> 82.0 | AF131: =VLOOKUP($B131,[1]高二下!$B:$R,7,0) -> 李志友 | AG131: =VLOOKUP($B131,[1]高二下!$B:$R,8,0) -> 77.0 | AH131: =VLOOKUP($B131,[1]高二下!$B:$R,9,0) -> 次儿祝玛 | AI131: =VLOOKUP($B131,[1]高二下!$B:$R,10,0) -> 36.0 | AJ131: =VLOOKUP($B131,[1]高二下!$B:$R,11,0) -> 肖秀秀 | AK131: =VLOOKUP($B131,[1]高二下!$B:$R,12,0) -> 49.0 | AL131: =VLOOKUP($B131,[1]高二下!$B:$R,13,0) -> 胡伟杰 | AM131: =VLOOKUP($B131,[1]高二下!$B:$R,14,0) -> 68.0 | AN131: =VLOOKUP($B131,[1]高二下!$B:$R,15,0) -> 邱宗兰 | AO131: =VLOOKUP($B131,[1]高二下!$B:$R,16,0) -> 91.0 | AP131: =VLOOKUP($B131,[1]高二下!$B:$R,17,0) -> 龙志云 | AQ131: =VLOOKUP($B131,[2]高二上!$B:$R,6,0) -> #N/A | AR131: =VLOOKUP($B131,[2]高二上!$B:$R,7,0) -> #N/A | AS131: =VLOOKUP($B131,[2]高二上!$B:$R,8,0) -> #N/A | AT131: =VLOOKUP($B131,[2]高二上!$B:$R,9,0) -> #N/A | AU131: =VLOOKUP($B131,[2]高二上!$B:$R,10,0) -> #N/A | AV131: =VLOOKUP($B131,[2]高二上!$B:$R,11,0) -> #N/A | AW131: =VLOOKUP($B131,[2]高二上!$B:$R,12,0) -> #N/A | AX131: =VLOOKUP($B131,[2]高二上!$B:$R,13,0) -> #N/A | AY131: =VLOOKUP($B131,[2]高二上!$B:$R,14,0) -> #N/A | AZ131: =VLOOKUP($B131,[2]高二上!$B:$R,15,0) -> #N/A | BA131: =VLOOKUP($B131,[2]高二上!$B:$R,16,0) -> #N/A | BB131: =VLOOKUP($B131,[2]高二上!$B:$R,17,0) -> #N/A | BC131: =VLOOKUP($B131,[1]高一下!$B:$R,6,0) -> 91 | BD131: =VLOOKUP($B131,[1]高一下!$B:$R,7,0) -> 曹霞 | BE131: =VLOOKUP($B131,[1]高一下!$B:$R,8,0) -> 113 | BF131: =VLOOKUP($B131,[1]高一下!$B:$R,9,0) -> 次儿祝玛 | BG131: =VLOOKUP($B131,[1]高一下!$B:$R,10,0) -> 69.5 | BH131: =VLOOKUP($B131,[1]高一下!$B:$R,11,0) -> 肖秀秀 | BI131: =VLOOKUP($B131,[1]高一下!$B:$R,12,0) -> 60 | BJ131: =VLOOKUP($B131,[1]高一下!$B:$R,13,0) -> 胡伟杰 | BK131: =VLOOKUP($B131,[1]高一下!$B:$R,14,0) -> 62 | BL131: =VLOOKUP($B131,[1]高一下!$B:$R,15,0) -> 刘红 | BM131: =VLOOKUP($B131,[1]高一下!$B:$R,16,0) -> 60 | BN131: =VLOOKUP($B131,[1]高一下!$B:$R,17,0) -> 龙志云 | BO131: =VLOOKUP($B131,[1]高一上!$B:$W,5,0) -> 95 | BP131: =VLOOKUP($B131,[1]高一上!$B:$W,6,0) -> 曹霞 | BQ131: =VLOOKUP($B131,[1]高一上!$B:$W,7,0) -> 73 | BR131: =VLOOKUP($B131,[1]高一上!$B:$W,8,0) -> 次儿祝玛 | BS131: =VLOOKUP($B131,[1]高一上!$B:$W,9,0) -> 76.5 | BT131: =VLOOKUP($B131,[1]高一上!$B:$W,10,0) -> 肖秀秀 | BU131: =VLOOKUP($B131,[1]高一上!$B:$W,11,0) -> 55 | BV131: =VLOOKUP($B131,[1]高一上!$B:$W,12,0) -> 胡伟杰 | BW131: =VLOOKUP($B131,[1]高一上!$B:$W,13,0) -> 51 | BX131: =VLOOKUP($B131,[1]高一上!$B:$W,14,0) -> 刘红 | BY131: =VLOOKUP($B131,[1]高一上!$B:$W,15,0) -> 67.5 | BZ131: =VLOOKUP($B131,[1]高一上!$B:$W,16,0) -> 龙志云 | CA131: =VLOOKUP($B131,[1]中考!$B:$N,5,0) -> 110 | CB131: =VLOOKUP($B131,[1]中考!$B:$N,6,0) -> 81 | CC131: =VLOOKUP($B131,[1]中考!$B:$N,7,0) -> 106 | CD131: =VLOOKUP($B131,[1]中考!$B:$N,8,0) -> 41 | CE131: =VLOOKUP($B131,[1]中考!$B:$N,9,0) -> 30 | CF131: =VLOOKUP($B131,[1]中考!$B:$N,10,0) -> 42
A132: 513422200510017048 | B132: G513422200510017048 | C132: 05 | D132: 理科 | E132: 苏朗拥宗 | F132: 483 | G132: 100 | H132: 李志友 | I132: 98 | J132: 次儿祝玛 | K132: 115 | L132: 肖秀秀 | M132: 47 | N132: 胡伟杰 | O132: 58.5 | P132: 郑强秋 | Q132: 64.5 | R132: 张斯杰 | S132: =VLOOKUP(B132,[1]高三上!$B:$R,6,0) -> 99.5 | T132: =VLOOKUP(B132,[1]高三上!$B:$R,7,0) -> 李志友 | U132: =VLOOKUP(B132,[1]高三上!$B:$R,8,0) -> 102 | V132: =VLOOKUP(B132,[1]高三上!$B:$R,9,0) -> 次儿祝玛 | W132: =VLOOKUP(B132,[1]高三上!$B:$R,10,0) -> 98.5 | X132: =VLOOKUP(B132,[1]高三上!$B:$R,11,0) -> 肖秀秀 | Y132: =VLOOKUP(B132,[1]高三上!$B:$R,12,0) -> 42 | Z132: =VLOOKUP(B132,[1]高三上!$B:$R,13,0) -> 胡伟杰 | AA132: =VLOOKUP(B132,[1]高三上!$B:$R,14,0) -> 56 | AB132: =VLOOKUP(B132,[1]高三上!$B:$R,15,0) -> 郑强秋 | AC132: =VLOOKUP(B132,[1]高三上!$B:$R,16,0) -> 57 | AD132: =VLOOKUP($B132,[1]高三上!$B:$R,17,0) -> 龙志云 | AE132: =VLOOKUP($B132,[1]高二下!$B:$R,6,0) -> 86.0 | AF132: =VLOOKUP($B132,[1]高二下!$B:$R,7,0) -> 李志友 | AG132: =VLOOKUP($B132,[1]高二下!$B:$R,8,0) -> 106.5 | AH132: =VLOOKUP($B132,[1]高二下!$B:$R,9,0) -> 次儿祝玛 | AI132: =VLOOKUP($B132,[1]高二下!$B:$R,10,0) -> 25.0 | AJ132: =VLOOKUP($B132,[1]高二下!$B:$R,11,0) -> 肖秀秀 | AK132: =VLOOKUP($B132,[1]高二下!$B:$R,12,0) -> 49.0 | AL132: =VLOOKUP($B132,[1]高二下!$B:$R,13,0) -> 胡伟杰 | AM132: =VLOOKUP($B132,[1]高二下!$B:$R,14,0) -> 67.0 | AN132: =VLOOKUP($B132,[1]高二下!$B:$R,15,0) -> 邱宗兰 | AO132: =VLOOKUP($B132,[1]高二下!$B:$R,16,0) -> 101.0 | AP132: =VLOOKUP($B132,[1]高二下!$B:$R,17,0) -> 龙志云 | AQ132: =VLOOKUP($B132,[2]高二上!$B:$R,6,0) -> #N/A | AR132: =VLOOKUP($B132,[2]高二上!$B:$R,7,0) -> #N/A | AS132: =VLOOKUP($B132,[2]高二上!$B:$R,8,0) -> #N/A | AT132: =VLOOKUP($B132,[2]高二上!$B:$R,9,0) -> #N/A | AU132: =VLOOKUP($B132,[2]高二上!$B:$R,10,0) -> #N/A | AV132: =VLOOKUP($B132,[2]高二上!$B:$R,11,0) -> #N/A | AW132: =VLOOKUP($B132,[2]高二上!$B:$R,12,0) -> #N/A | AX132: =VLOOKUP($B132,[2]高二上!$B:$R,13,0) -> #N/A | AY132: =VLOOKUP($B132,[2]高二上!$B:$R,14,0) -> #N/A | AZ132: =VLOOKUP($B132,[2]高二上!$B:$R,15,0) -> #N/A | BA132: =VLOOKUP($B132,[2]高二上!$B:$R,16,0) -> #N/A | BB132: =VLOOKUP($B132,[2]高二上!$B:$R,17,0) -> #N/A | BC132: =VLOOKUP($B132,[1]高一下!$B:$R,6,0) -> 90 | BD132: =VLOOKUP($B132,[1]高一下!$B:$R,7,0) -> 曹霞 | BE132: =VLOOKUP($B132,[1]高一下!$B:$R,8,0) -> 93 | BF132: =VLOOKUP($B132,[1]高一下!$B:$R,9,0) -> 次儿祝玛 | BG132: =VLOOKUP($B132,[1]高一下!$B:$R,10,0) -> 76.5 | BH132: =VLOOKUP($B132,[1]高一下!$B:$R,11,0) -> 肖秀秀 | BI132: =VLOOKUP($B132,[1]高一下!$B:$R,12,0) -> 36 | BJ132: =VLOOKUP($B132,[1]高一下!$B:$R,13,0) -> 胡伟杰 | BK132: =VLOOKUP($B132,[1]高一下!$B:$R,14,0) -> 57 | BL132: =VLOOKUP($B132,[1]高一下!$B:$R,15,0) -> 刘红 | BM132: =VLOOKUP($B132,[1]高一下!$B:$R,16,0) -> 64 | BN132: =VLOOKUP($B132,[1]高一下!$B:$R,17,0) -> 龙志云 | BO132: =VLOOKUP($B132,[1]高一上!$B:$W,5,0) -> 74.5 | BP132: =VLOOKUP($B132,[1]高一上!$B:$W,6,0) -> 曹霞 | BQ132: =VLOOKUP($B132,[1]高一上!$B:$W,7,0) -> 87 | BR132: =VLOOKUP($B132,[1]高一上!$B:$W,8,0) -> 次儿祝玛 | BS132: =VLOOKUP($B132,[1]高一上!$B:$W,9,0) -> 77 | BT132: =VLOOKUP($B132,[1]高一上!$B:$W,10,0) -> 肖秀秀 | BU132: =VLOOKUP($B132,[1]高一上!$B:$W,11,0) -> 34.5 | BV132: =VLOOKUP($B132,[1]高一上!$B:$W,12,0) -> 胡伟杰 | BW132: =VLOOKUP($B132,[1]高一上!$B:$W,13,0) -> 48 | BX132: =VLOOKUP($B132,[1]高一上!$B:$W,14,0) -> 刘红 | BY132: =VLOOKUP($B132,[1]高一上!$B:$W,15,0) -> 47.5 | BZ132: =VLOOKUP($B132,[1]高一上!$B:$W,16,0) -> 龙志云 | CA132: =VLOOKUP($B132,[1]中考!$B:$N,5,0) -> 98 | CB132: =VLOOKUP($B132,[1]中考!$B:$N,6,0) -> 77 | CC132: =VLOOKUP($B132,[1]中考!$B:$N,7,0) -> 104 | CD132: =VLOOKUP($B132,[1]中考!$B:$N,8,0) -> 25 | CE132: =VLOOKUP($B132,[1]中考!$B:$N,9,0) -> 26 | CF132: =VLOOKUP($B132,[1]中考!$B:$N,10,0) -> 36
A133: 513422200607080027 | B133: G513422200607080027 | C133: 05 | D133: 理科 | E133: 罗丹 | F133: 483 | G133: 104 | H133: 李志友 | I133: 97 | J133: 次儿祝玛 | K133: 101 | L133: 肖秀秀 | M133: 56.5 | N133: 胡伟杰 | O133: 65 | P133: 郑强秋 | Q133: 59.5 | R133: 张斯杰 | S133: =VLOOKUP(B133,[1]高三上!$B:$R,6,0) -> 100.5 | T133: =VLOOKUP(B133,[1]高三上!$B:$R,7,0) -> 李志友 | U133: =VLOOKUP(B133,[1]高三上!$B:$R,8,0) -> 106 | V133: =VLOOKUP(B133,[1]高三上!$B:$R,9,0) -> 次儿祝玛 | W133: =VLOOKUP(B133,[1]高三上!$B:$R,10,0) -> 80.5 | X133: =VLOOKUP(B133,[1]高三上!$B:$R,11,0) -> 肖秀秀 | Y133: =VLOOKUP(B133,[1]高三上!$B:$R,12,0) -> 37 | Z133: =VLOOKUP(B133,[1]高三上!$B:$R,13,0) -> 胡伟杰 | AA133: =VLOOKUP(B133,[1]高三上!$B:$R,14,0) -> 50 | AB133: =VLOOKUP(B133,[1]高三上!$B:$R,15,0) -> 郑强秋 | AC133: =VLOOKUP(B133,[1]高三上!$B:$R,16,0) -> 39 | AD133: =VLOOKUP($B133,[1]高三上!$B:$R,17,0) -> 龙志云 | AE133: =VLOOKUP($B133,[1]高二下!$B:$R,6,0) -> 96.0 | AF133: =VLOOKUP($B133,[1]高二下!$B:$R,7,0) -> 李志友 | AG133: =VLOOKUP($B133,[1]高二下!$B:$R,8,0) -> 80.0 | AH133: =VLOOKUP($B133,[1]高二下!$B:$R,9,0) -> 次儿祝玛 | AI133: =VLOOKUP($B133,[1]高二下!$B:$R,10,0) -> 42.0 | AJ133: =VLOOKUP($B133,[1]高二下!$B:$R,11,0) -> 肖秀秀 | AK133: =VLOOKUP($B133,[1]高二下!$B:$R,12,0) -> 31.0 | AL133: =VLOOKUP($B133,[1]高二下!$B:$R,13,0) -> 胡伟杰 | AM133: =VLOOKUP($B133,[1]高二下!$B:$R,14,0) -> 45.0 | AN133: =VLOOKUP($B133,[1]高二下!$B:$R,15,0) -> 邱宗兰 | AO133: =VLOOKUP($B133,[1]高二下!$B:$R,16,0) -> 104.0 | AP133: =VLOOKUP($B133,[1]高二下!$B:$R,17,0) -> 龙志云 | AQ133: =VLOOKUP($B133,[2]高二上!$B:$R,6,0) -> #N/A | AR133: =VLOOKUP($B133,[2]高二上!$B:$R,7,0) -> #N/A | AS133: =VLOOKUP($B133,[2]高二上!$B:$R,8,0) -> #N/A | AT133: =VLOOKUP($B133,[2]高二上!$B:$R,9,0) -> #N/A | AU133: =VLOOKUP($B133,[2]高二上!$B:$R,10,0) -> #N/A | AV133: =VLOOKUP($B133,[2]高二上!$B:$R,11,0) -> #N/A | AW133: =VLOOKUP($B133,[2]高二上!$B:$R,12,0) -> #N/A | AX133: =VLOOKUP($B133,[2]高二上!$B:$R,13,0) -> #N/A | AY133: =VLOOKUP($B133,[2]高二上!$B:$R,14,0) -> #N/A | AZ133: =VLOOKUP($B133,[2]高二上!$B:$R,15,0) -> #N/A | BA133: =VLOOKUP($B133,[2]高二上!$B:$R,16,0) -> #N/A | BB133: =VLOOKUP($B133,[2]高二上!$B:$R,17,0) -> #N/A | BC133: =VLOOKUP($B133,[1]高一下!$B:$R,6,0) -> 93 | BD133: =VLOOKUP($B133,[1]高一下!$B:$R,7,0) -> 曹霞 | BE133: =VLOOKUP($B133,[1]高一下!$B:$R,8,0) -> 103 | BF133: =VLOOKUP($B133,[1]高一下!$B:$R,9,0) -> 次儿祝玛 | BG133: =VLOOKUP($B133,[1]高一下!$B:$R,10,0) -> 78.5 | BH133: =VLOOKUP($B133,[1]高一下!$B:$R,11,0) -> 肖秀秀 | BI133: =VLOOKUP($B133,[1]高一下!$B:$R,12,0) -> 43 | BJ133: =VLOOKUP($B133,[1]高一下!$B:$R,13,0) -> 胡伟杰 | BK133: =VLOOKUP($B133,[1]高一下!$B:$R,14,0) -> 59 | BL133: =VLOOKUP($B133,[1]高一下!$B:$R,15,0) -> 刘红 | BM133: =VLOOKUP($B133,[1]高一下!$B:$R,16,0) -> 37 | BN133: =VLOOKUP($B133,[1]高一下!$B:$R,17,0) -> 龙志云 | BO133: =VLOOKUP($B133,[1]高一上!$B:$W,5,0) -> 84.5 | BP133: =VLOOKUP($B133,[1]高一上!$B:$W,6,0) -> 曹霞 | BQ133: =VLOOKUP($B133,[1]高一上!$B:$W,7,0) -> 82 | BR133: =VLOOKUP($B133,[1]高一上!$B:$W,8,0) -> 次儿祝玛 | BS133: =VLOOKUP($B133,[1]高一上!$B:$W,9,0) -> 74 | BT133: =VLOOKUP($B133,[1]高一上!$B:$W,10,0) -> 肖秀秀 | BU133: =VLOOKUP($B133,[1]高一上!$B:$W,11,0) -> 52 | BV133: =VLOOKUP($B133,[1]高一上!$B:$W,12,0) -> 胡伟杰 | BW133: =VLOOKUP($B133,[1]高一上!$B:$W,13,0) -> 49 | BX133: =VLOOKUP($B133,[1]高一上!$B:$W,14,0) -> 刘红 | BY133: =VLOOKUP($B133,[1]高一上!$B:$W,15,0) -> 43 | BZ133: =VLOOKUP($B133,[1]高一上!$B:$W,16,0) -> 龙志云 | CA133: =VLOOKUP($B133,[1]中考!$B:$N,5,0) -> 110 | CB133: =VLOOKUP($B133,[1]中考!$B:$N,6,0) -> 98 | CC133: =VLOOKUP($B133,[1]中考!$B:$N,7,0) -> 108 | CD133: =VLOOKUP($B133,[1]中考!$B:$N,8,0) -> 42 | CE133: =VLOOKUP($B133,[1]中考!$B:$N,9,0) -> 30 | CF133: =VLOOKUP($B133,[1]中考!$B:$N,10,0) -> 39
A134: 513422200309084820 | B134: G513422200309084820 | C134: 05 | D134: 理科 | E134: 次尔央清 | F134: 480 | G134: 95 | H134: 李志友 | I134: 91 | J134: 次儿祝玛 | K134: 84 | L134: 肖秀秀 | M134: 68.5 | N134: 胡伟杰 | O134: 70 | P134: 郑强秋 | Q134: 71 | R134: 张斯杰 | S134: =VLOOKUP(B134,[1]高三上!$B:$R,6,0) -> 97 | T134: =VLOOKUP(B134,[1]高三上!$B:$R,7,0) -> 李志友 | U134: =VLOOKUP(B134,[1]高三上!$B:$R,8,0) -> 96 | V134: =VLOOKUP(B134,[1]高三上!$B:$R,9,0) -> 次儿祝玛 | W134: =VLOOKUP(B134,[1]高三上!$B:$R,10,0) -> 82.5 | X134: =VLOOKUP(B134,[1]高三上!$B:$R,11,0) -> 肖秀秀 | Y134: =VLOOKUP(B134,[1]高三上!$B:$R,12,0) -> 29 | Z134: =VLOOKUP(B134,[1]高三上!$B:$R,13,0) -> 胡伟杰 | AA134: =VLOOKUP(B134,[1]高三上!$B:$R,14,0) -> 55 | AB134: =VLOOKUP(B134,[1]高三上!$B:$R,15,0) -> 郑强秋 | AC134: =VLOOKUP(B134,[1]高三上!$B:$R,16,0) -> 38 | AD134: =VLOOKUP($B134,[1]高三上!$B:$R,17,0) -> 龙志云 | AE134: =VLOOKUP($B134,[1]高二下!$B:$R,6,0) -> 90.0 | AF134: =VLOOKUP($B134,[1]高二下!$B:$R,7,0) -> 李志友 | AG134: =VLOOKUP($B134,[1]高二下!$B:$R,8,0) -> 82.5 | AH134: =VLOOKUP($B134,[1]高二下!$B:$R,9,0) -> 次儿祝玛 | AI134: =VLOOKUP($B134,[1]高二下!$B:$R,10,0) -> 46.0 | AJ134: =VLOOKUP($B134,[1]高二下!$B:$R,11,0) -> 肖秀秀 | AK134: =VLOOKUP($B134,[1]高二下!$B:$R,12,0) -> 42.0 | AL134: =VLOOKUP($B134,[1]高二下!$B:$R,13,0) -> 胡伟杰 | AM134: =VLOOKUP($B134,[1]高二下!$B:$R,14,0) -> 53.0 | AN134: =VLOOKUP($B134,[1]高二下!$B:$R,15,0) -> 邱宗兰 | AO134: =VLOOKUP($B134,[1]高二下!$B:$R,16,0) -> 114.0 | AP134: =VLOOKUP($B134,[1]高二下!$B:$R,17,0) -> 龙志云 | AQ134: =VLOOKUP($B134,[2]高二上!$B:$R,6,0) -> #N/A | AR134: =VLOOKUP($B134,[2]高二上!$B:$R,7,0) -> #N/A | AS134: =VLOOKUP($B134,[2]高二上!$B:$R,8,0) -> #N/A | AT134: =VLOOKUP($B134,[2]高二上!$B:$R,9,0) -> #N/A | AU134: =VLOOKUP($B134,[2]高二上!$B:$R,10,0) -> #N/A | AV134: =VLOOKUP($B134,[2]高二上!$B:$R,11,0) -> #N/A | AW134: =VLOOKUP($B134,[2]高二上!$B:$R,12,0) -> #N/A | AX134: =VLOOKUP($B134,[2]高二上!$B:$R,13,0) -> #N/A | AY134: =VLOOKUP($B134,[2]高二上!$B:$R,14,0) -> #N/A | AZ134: =VLOOKUP($B134,[2]高二上!$B:$R,15,0) -> #N/A | BA134: =VLOOKUP($B134,[2]高二上!$B:$R,16,0) -> #N/A | BB134: =VLOOKUP($B134,[2]高二上!$B:$R,17,0) -> #N/A | BC134: =VLOOKUP($B134,[1]高一下!$B:$R,6,0) -> 91 | BD134: =VLOOKUP($B134,[1]高一下!$B:$R,7,0) -> 曹霞 | BE134: =VLOOKUP($B134,[1]高一下!$B:$R,8,0) -> 113 | BF134: =VLOOKUP($B134,[1]高一下!$B:$R,9,0) -> 次儿祝玛 | BG134: =VLOOKUP($B134,[1]高一下!$B:$R,10,0) -> 58 | BH134: =VLOOKUP($B134,[1]高一下!$B:$R,11,0) -> 肖秀秀 | BI134: =VLOOKUP($B134,[1]高一下!$B:$R,12,0) -> 44 | BJ134: =VLOOKUP($B134,[1]高一下!$B:$R,13,0) -> 胡伟杰 | BK134: =VLOOKUP($B134,[1]高一下!$B:$R,14,0) -> 49 | BL134: =VLOOKUP($B134,[1]高一下!$B:$R,15,0) -> 刘红 | BM134: =VLOOKUP($B134,[1]高一下!$B:$R,16,0) -> 45 | BN134: =VLOOKUP($B134,[1]高一下!$B:$R,17,0) -> 龙志云 | BO134: =VLOOKUP($B134,[1]高一上!$B:$W,5,0) -> 80 | BP134: =VLOOKUP($B134,[1]高一上!$B:$W,6,0) -> 曹霞 | BQ134: =VLOOKUP($B134,[1]高一上!$B:$W,7,0) -> 85 | BR134: =VLOOKUP($B134,[1]高一上!$B:$W,8,0) -> 次儿祝玛 | BS134: =VLOOKUP($B134,[1]高一上!$B:$W,9,0) -> 76.5 | BT134: =VLOOKUP($B134,[1]高一上!$B:$W,10,0) -> 肖秀秀 | BU134: =VLOOKUP($B134,[1]高一上!$B:$W,11,0) -> 42.5 | BV134: =VLOOKUP($B134,[1]高一上!$B:$W,12,0) -> 胡伟杰 | BW134: =VLOOKUP($B134,[1]高一上!$B:$W,13,0) -> 47 | BX134: =VLOOKUP($B134,[1]高一上!$B:$W,14,0) -> 刘红 | BY134: =VLOOKUP($B134,[1]高一上!$B:$W,15,0) -> 48 | BZ134: =VLOOKUP($B134,[1]高一上!$B:$W,16,0) -> 龙志云 | CA134: =VLOOKUP($B134,[1]中考!$B:$N,5,0) -> 94 | CB134: =VLOOKUP($B134,[1]中考!$B:$N,6,0) -> 110 | CC134: =VLOOKUP($B134,[1]中考!$B:$N,7,0) -> 101 | CD134: =VLOOKUP($B134,[1]中考!$B:$N,8,0) -> 42 | CE134: =VLOOKUP($B134,[1]中考!$B:$N,9,0) -> 35 | CF134: =VLOOKUP($B134,[1]中考!$B:$N,10,0) -> 35
A135: 513422200505236027 | B135: G513422200505236027 | C135: 05 | D135: 理科 | E135: 陈树莲 | F135: 479 | G135: 104 | H135: 李志友 | I135: 114 | J135: 次儿祝玛 | K135: 95 | L135: 肖秀秀 | M135: 48 | N135: 胡伟杰 | O135: 61 | P135: 郑强秋 | Q135: 57 | R135: 张斯杰 | S135: =VLOOKUP(B135,[1]高三上!$B:$R,6,0) -> 93.5 | T135: =VLOOKUP(B135,[1]高三上!$B:$R,7,0) -> 李志友 | U135: =VLOOKUP(B135,[1]高三上!$B:$R,8,0) -> 85 | V135: =VLOOKUP(B135,[1]高三上!$B:$R,9,0) -> 次儿祝玛 | W135: =VLOOKUP(B135,[1]高三上!$B:$R,10,0) -> 83 | X135: =VLOOKUP(B135,[1]高三上!$B:$R,11,0) -> 肖秀秀 | Y135: =VLOOKUP(B135,[1]高三上!$B:$R,12,0) -> 17 | Z135: =VLOOKUP(B135,[1]高三上!$B:$R,13,0) -> 胡伟杰 | AA135: =VLOOKUP(B135,[1]高三上!$B:$R,14,0) -> 56 | AB135: =VLOOKUP(B135,[1]高三上!$B:$R,15,0) -> 郑强秋 | AC135: =VLOOKUP(B135,[1]高三上!$B:$R,16,0) -> 41 | AD135: =VLOOKUP($B135,[1]高三上!$B:$R,17,0) -> 龙志云 | AE135: =VLOOKUP($B135,[1]高二下!$B:$R,6,0) -> 82.0 | AF135: =VLOOKUP($B135,[1]高二下!$B:$R,7,0) -> 李志友 | AG135: =VLOOKUP($B135,[1]高二下!$B:$R,8,0) -> 82.0 | AH135: =VLOOKUP($B135,[1]高二下!$B:$R,9,0) -> 次儿祝玛 | AI135: =VLOOKUP($B135,[1]高二下!$B:$R,10,0) -> 28.0 | AJ135: =VLOOKUP($B135,[1]高二下!$B:$R,11,0) -> 肖秀秀 | AK135: =VLOOKUP($B135,[1]高二下!$B:$R,12,0) -> 41.0 | AL135: =VLOOKUP($B135,[1]高二下!$B:$R,13,0) -> 胡伟杰 | AM135: =VLOOKUP($B135,[1]高二下!$B:$R,14,0) -> 43.0 | AN135: =VLOOKUP($B135,[1]高二下!$B:$R,15,0) -> 邱宗兰 | AO135: =VLOOKUP($B135,[1]高二下!$B:$R,16,0) -> 97.0 | AP135: =VLOOKUP($B135,[1]高二下!$B:$R,17,0) -> 龙志云 | AQ135: =VLOOKUP($B135,[2]高二上!$B:$R,6,0) -> #N/A | AR135: =VLOOKUP($B135,[2]高二上!$B:$R,7,0) -> #N/A | AS135: =VLOOKUP($B135,[2]高二上!$B:$R,8,0) -> #N/A | AT135: =VLOOKUP($B135,[2]高二上!$B:$R,9,0) -> #N/A | AU135: =VLOOKUP($B135,[2]高二上!$B:$R,10,0) -> #N/A | AV135: =VLOOKUP($B135,[2]高二上!$B:$R,11,0) -> #N/A | AW135: =VLOOKUP($B135,[2]高二上!$B:$R,12,0) -> #N/A | AX135: =VLOOKUP($B135,[2]高二上!$B:$R,13,0) -> #N/A | AY135: =VLOOKUP($B135,[2]高二上!$B:$R,14,0) -> #N/A | AZ135: =VLOOKUP($B135,[2]高二上!$B:$R,15,0) -> #N/A | BA135: =VLOOKUP($B135,[2]高二上!$B:$R,16,0) -> #N/A | BB135: =VLOOKUP($B135,[2]高二上!$B:$R,17,0) -> #N/A | BC135: =VLOOKUP($B135,[1]高一下!$B:$R,6,0) -> 93 | BD135: =VLOOKUP($B135,[1]高一下!$B:$R,7,0) -> 曹霞 | BE135: =VLOOKUP($B135,[1]高一下!$B:$R,8,0) -> 99 | BF135: =VLOOKUP($B135,[1]高一下!$B:$R,9,0) -> 次儿祝玛 | BG135: =VLOOKUP($B135,[1]高一下!$B:$R,10,0) -> 57 | BH135: =VLOOKUP($B135,[1]高一下!$B:$R,11,0) -> 肖秀秀 | BI135: =VLOOKUP($B135,[1]高一下!$B:$R,12,0) -> 38 | BJ135: =VLOOKUP($B135,[1]高一下!$B:$R,13,0) -> 胡伟杰 | BK135: =VLOOKUP($B135,[1]高一下!$B:$R,14,0) -> 43 | BL135: =VLOOKUP($B135,[1]高一下!$B:$R,15,0) -> 刘红 | BM135: =VLOOKUP($B135,[1]高一下!$B:$R,16,0) -> 42 | BN135: =VLOOKUP($B135,[1]高一下!$B:$R,17,0) -> 龙志云 | BO135: =VLOOKUP($B135,[1]高一上!$B:$W,5,0) -> 86 | BP135: =VLOOKUP($B135,[1]高一上!$B:$W,6,0) -> 曹霞 | BQ135: =VLOOKUP($B135,[1]高一上!$B:$W,7,0) -> 83 | BR135: =VLOOKUP($B135,[1]高一上!$B:$W,8,0) -> 次儿祝玛 | BS135: =VLOOKUP($B135,[1]高一上!$B:$W,9,0) -> 64 | BT135: =VLOOKUP($B135,[1]高一上!$B:$W,10,0) -> 肖秀秀 | BU135: =VLOOKUP($B135,[1]高一上!$B:$W,11,0) -> 36 | BV135: =VLOOKUP($B135,[1]高一上!$B:$W,12,0) -> 胡伟杰 | BW135: =VLOOKUP($B135,[1]高一上!$B:$W,13,0) -> 54.5 | BX135: =VLOOKUP($B135,[1]高一上!$B:$W,14,0) -> 刘红 | BY135: =VLOOKUP($B135,[1]高一上!$B:$W,15,0) -> 35.5 | BZ135: =VLOOKUP($B135,[1]高一上!$B:$W,16,0) -> 龙志云 | CA135: =VLOOKUP($B135,[1]中考!$B:$N,5,0) -> 104 | CB135: =VLOOKUP($B135,[1]中考!$B:$N,6,0) -> 89 | CC135: =VLOOKUP($B135,[1]中考!$B:$N,7,0) -> 95 | CD135: =VLOOKUP($B135,[1]中考!$B:$N,8,0) -> 38 | CE135: =VLOOKUP($B135,[1]中考!$B:$N,9,0) -> 28 | CF135: =VLOOKUP($B135,[1]中考!$B:$N,10,0) -> 34
A136: 513422200601032729 | B136: G513422200601032729 | C136: 05 | D136: 理科 | E136: 沈康秀 | F136: 476 | G136: 110 | H136: 李志友 | I136: 102 | J136: 次儿祝玛 | K136: 107 | L136: 肖秀秀 | M136: 30 | N136: 胡伟杰 | O136: 61.5 | P136: 郑强秋 | Q136: 65.5 | R136: 张斯杰 | S136: =VLOOKUP(B136,[1]高三上!$B:$R,6,0) -> 94.5 | T136: =VLOOKUP(B136,[1]高三上!$B:$R,7,0) -> 李志友 | U136: =VLOOKUP(B136,[1]高三上!$B:$R,8,0) -> 103 | V136: =VLOOKUP(B136,[1]高三上!$B:$R,9,0) -> 次儿祝玛 | W136: =VLOOKUP(B136,[1]高三上!$B:$R,10,0) -> 96.5 | X136: =VLOOKUP(B136,[1]高三上!$B:$R,11,0) -> 肖秀秀 | Y136: =VLOOKUP(B136,[1]高三上!$B:$R,12,0) -> 28 | Z136: =VLOOKUP(B136,[1]高三上!$B:$R,13,0) -> 胡伟杰 | AA136: =VLOOKUP(B136,[1]高三上!$B:$R,14,0) -> 38 | AB136: =VLOOKUP(B136,[1]高三上!$B:$R,15,0) -> 郑强秋 | AC136: =VLOOKUP(B136,[1]高三上!$B:$R,16,0) -> 25 | AD136: =VLOOKUP($B136,[1]高三上!$B:$R,17,0) -> 龙志云 | AE136: =VLOOKUP($B136,[1]高二下!$B:$R,6,0) -> 96.0 | AF136: =VLOOKUP($B136,[1]高二下!$B:$R,7,0) -> 李志友 | AG136: =VLOOKUP($B136,[1]高二下!$B:$R,8,0) -> 108.0 | AH136: =VLOOKUP($B136,[1]高二下!$B:$R,9,0) -> 次儿祝玛 | AI136: =VLOOKUP($B136,[1]高二下!$B:$R,10,0) -> 22.0 | AJ136: =VLOOKUP($B136,[1]高二下!$B:$R,11,0) -> 肖秀秀 | AK136: =VLOOKUP($B136,[1]高二下!$B:$R,12,0) -> 43.0 | AL136: =VLOOKUP($B136,[1]高二下!$B:$R,13,0) -> 胡伟杰 | AM136: =VLOOKUP($B136,[1]高二下!$B:$R,14,0) -> 63.0 | AN136: =VLOOKUP($B136,[1]高二下!$B:$R,15,0) -> 邱宗兰 | AO136: =VLOOKUP($B136,[1]高二下!$B:$R,16,0) -> 90.0 | AP136: =VLOOKUP($B136,[1]高二下!$B:$R,17,0) -> 龙志云 | AQ136: =VLOOKUP($B136,[2]高二上!$B:$R,6,0) -> #N/A | AR136: =VLOOKUP($B136,[2]高二上!$B:$R,7,0) -> #N/A | AS136: =VLOOKUP($B136,[2]高二上!$B:$R,8,0) -> #N/A | AT136: =VLOOKUP($B136,[2]高二上!$B:$R,9,0) -> #N/A | AU136: =VLOOKUP($B136,[2]高二上!$B:$R,10,0) -> #N/A | AV136: =VLOOKUP($B136,[2]高二上!$B:$R,11,0) -> #N/A | AW136: =VLOOKUP($B136,[2]高二上!$B:$R,12,0) -> #N/A | AX136: =VLOOKUP($B136,[2]高二上!$B:$R,13,0) -> #N/A | AY136: =VLOOKUP($B136,[2]高二上!$B:$R,14,0) -> #N/A | AZ136: =VLOOKUP($B136,[2]高二上!$B:$R,15,0) -> #N/A | BA136: =VLOOKUP($B136,[2]高二上!$B:$R,16,0) -> #N/A | BB136: =VLOOKUP($B136,[2]高二上!$B:$R,17,0) -> #N/A | BC136: =VLOOKUP($B136,[1]高一下!$B:$R,6,0) -> 83 | BD136: =VLOOKUP($B136,[1]高一下!$B:$R,7,0) -> 曹霞 | BE136: =VLOOKUP($B136,[1]高一下!$B:$R,8,0) -> 103 | BF136: =VLOOKUP($B136,[1]高一下!$B:$R,9,0) -> 次儿祝玛 | BG136: =VLOOKUP($B136,[1]高一下!$B:$R,10,0) -> 78 | BH136: =VLOOKUP($B136,[1]高一下!$B:$R,11,0) -> 肖秀秀 | BI136: =VLOOKUP($B136,[1]高一下!$B:$R,12,0) -> 50 | BJ136: =VLOOKUP($B136,[1]高一下!$B:$R,13,0) -> 胡伟杰 | BK136: =VLOOKUP($B136,[1]高一下!$B:$R,14,0) -> 49 | BL136: =VLOOKUP($B136,[1]高一下!$B:$R,15,0) -> 刘红 | BM136: =VLOOKUP($B136,[1]高一下!$B:$R,16,0) -> 52 | BN136: =VLOOKUP($B136,[1]高一下!$B:$R,17,0) -> 龙志云 | BO136: =VLOOKUP($B136,[1]高一上!$B:$W,5,0) -> 90.5 | BP136: =VLOOKUP($B136,[1]高一上!$B:$W,6,0) -> 曹霞 | BQ136: =VLOOKUP($B136,[1]高一上!$B:$W,7,0) -> 82 | BR136: =VLOOKUP($B136,[1]高一上!$B:$W,8,0) -> 次儿祝玛 | BS136: =VLOOKUP($B136,[1]高一上!$B:$W,9,0) -> 79 | BT136: =VLOOKUP($B136,[1]高一上!$B:$W,10,0) -> 肖秀秀 | BU136: =VLOOKUP($B136,[1]高一上!$B:$W,11,0) -> 51.5 | BV136: =VLOOKUP($B136,[1]高一上!$B:$W,12,0) -> 胡伟杰 | BW136: =VLOOKUP($B136,[1]高一上!$B:$W,13,0) -> 48 | BX136: =VLOOKUP($B136,[1]高一上!$B:$W,14,0) -> 刘红 | BY136: =VLOOKUP($B136,[1]高一上!$B:$W,15,0) -> 38.5 | BZ136: =VLOOKUP($B136,[1]高一上!$B:$W,16,0) -> 龙志云 | CA136: =VLOOKUP($B136,[1]中考!$B:$N,5,0) -> 103 | CB136: =VLOOKUP($B136,[1]中考!$B:$N,6,0) -> 106 | CC136: =VLOOKUP($B136,[1]中考!$B:$N,7,0) -> 107 | CD136: =VLOOKUP($B136,[1]中考!$B:$N,8,0) -> 35 | CE136: =VLOOKUP($B136,[1]中考!$B:$N,9,0) -> 29 | CF136: =VLOOKUP($B136,[1]中考!$B:$N,10,0) -> 34
A137: 51342220020307152X | B137: G51342220020307152X | C137: 05 | D137: 理科 | E137: 邱燕 | F137: 470 | G137: 107 | H137: 李志友 | I137: 92 | J137: 次儿祝玛 | K137: 99 | L137: 肖秀秀 | M137: 44.5 | N137: 胡伟杰 | O137: 58.5 | P137: 郑强秋 | Q137: 69 | R137: 张斯杰 | S137: =VLOOKUP(B137,[1]高三上!$B:$R,6,0) -> 97.5 | T137: =VLOOKUP(B137,[1]高三上!$B:$R,7,0) -> 李志友 | U137: =VLOOKUP(B137,[1]高三上!$B:$R,8,0) -> 95 | V137: =VLOOKUP(B137,[1]高三上!$B:$R,9,0) -> 次儿祝玛 | W137: =VLOOKUP(B137,[1]高三上!$B:$R,10,0) -> 76 | X137: =VLOOKUP(B137,[1]高三上!$B:$R,11,0) -> 肖秀秀 | Y137: =VLOOKUP(B137,[1]高三上!$B:$R,12,0) -> 19 | Z137: =VLOOKUP(B137,[1]高三上!$B:$R,13,0) -> 胡伟杰 | AA137: =VLOOKUP(B137,[1]高三上!$B:$R,14,0) -> 34 | AB137: =VLOOKUP(B137,[1]高三上!$B:$R,15,0) -> 郑强秋 | AC137: =VLOOKUP(B137,[1]高三上!$B:$R,16,0) -> 36 | AD137: =VLOOKUP($B137,[1]高三上!$B:$R,17,0) -> 龙志云 | AE137: =VLOOKUP($B137,[1]高二下!$B:$R,6,0) -> 85.0 | AF137: =VLOOKUP($B137,[1]高二下!$B:$R,7,0) -> 李志友 | AG137: =VLOOKUP($B137,[1]高二下!$B:$R,8,0) -> 104.0 | AH137: =VLOOKUP($B137,[1]高二下!$B:$R,9,0) -> 次儿祝玛 | AI137: =VLOOKUP($B137,[1]高二下!$B:$R,10,0) -> 32.0 | AJ137: =VLOOKUP($B137,[1]高二下!$B:$R,11,0) -> 肖秀秀 | AK137: =VLOOKUP($B137,[1]高二下!$B:$R,12,0) -> 36.0 | AL137: =VLOOKUP($B137,[1]高二下!$B:$R,13,0) -> 胡伟杰 | AM137: =VLOOKUP($B137,[1]高二下!$B:$R,14,0) -> 57.0 | AN137: =VLOOKUP($B137,[1]高二下!$B:$R,15,0) -> 邱宗兰 | AO137: =VLOOKUP($B137,[1]高二下!$B:$R,16,0) -> 81.0 | AP137: =VLOOKUP($B137,[1]高二下!$B:$R,17,0) -> 龙志云 | AQ137: =VLOOKUP($B137,[2]高二上!$B:$R,6,0) -> #N/A | AR137: =VLOOKUP($B137,[2]高二上!$B:$R,7,0) -> #N/A | AS137: =VLOOKUP($B137,[2]高二上!$B:$R,8,0) -> #N/A | AT137: =VLOOKUP($B137,[2]高二上!$B:$R,9,0) -> #N/A | AU137: =VLOOKUP($B137,[2]高二上!$B:$R,10,0) -> #N/A | AV137: =VLOOKUP($B137,[2]高二上!$B:$R,11,0) -> #N/A | AW137: =VLOOKUP($B137,[2]高二上!$B:$R,12,0) -> #N/A | AX137: =VLOOKUP($B137,[2]高二上!$B:$R,13,0) -> #N/A | AY137: =VLOOKUP($B137,[2]高二上!$B:$R,14,0) -> #N/A | AZ137: =VLOOKUP($B137,[2]高二上!$B:$R,15,0) -> #N/A | BA137: =VLOOKUP($B137,[2]高二上!$B:$R,16,0) -> #N/A | BB137: =VLOOKUP($B137,[2]高二上!$B:$R,17,0) -> #N/A | BC137: =VLOOKUP($B137,[1]高一下!$B:$R,6,0) -> 83 | BD137: =VLOOKUP($B137,[1]高一下!$B:$R,7,0) -> 曹霞 | BE137: =VLOOKUP($B137,[1]高一下!$B:$R,8,0) -> 82 | BF137: =VLOOKUP($B137,[1]高一下!$B:$R,9,0) -> 次儿祝玛 | BG137: =VLOOKUP($B137,[1]高一下!$B:$R,10,0) -> 82 | BH137: =VLOOKUP($B137,[1]高一下!$B:$R,11,0) -> 肖秀秀 | BI137: =VLOOKUP($B137,[1]高一下!$B:$R,12,0) -> 52 | BJ137: =VLOOKUP($B137,[1]高一下!$B:$R,13,0) -> 胡伟杰 | BK137: =VLOOKUP($B137,[1]高一下!$B:$R,14,0) -> 47 | BL137: =VLOOKUP($B137,[1]高一下!$B:$R,15,0) -> 刘红 | BM137: =VLOOKUP($B137,[1]高一下!$B:$R,16,0) -> 45 | BN137: =VLOOKUP($B137,[1]高一下!$B:$R,17,0) -> 龙志云 | BO137: =VLOOKUP($B137,[1]高一上!$B:$W,5,0) -> 80 | BP137: =VLOOKUP($B137,[1]高一上!$B:$W,6,0) -> 李志友 | BQ137: =VLOOKUP($B137,[1]高一上!$B:$W,7,0) -> 74.5 | BR137: =VLOOKUP($B137,[1]高一上!$B:$W,8,0) -> 梅桂斌 | BS137: =VLOOKUP($B137,[1]高一上!$B:$W,9,0) -> 71 | BT137: =VLOOKUP($B137,[1]高一上!$B:$W,10,0) -> 尹英娇 | BU137: =VLOOKUP($B137,[1]高一上!$B:$W,11,0) -> 22.5 | BV137: =VLOOKUP($B137,[1]高一上!$B:$W,12,0) -> 0 | BW137: =VLOOKUP($B137,[1]高一上!$B:$W,13,0) -> 29 | BX137: =VLOOKUP($B137,[1]高一上!$B:$W,14,0) -> 0 | BY137: =VLOOKUP($B137,[1]高一上!$B:$W,15,0) -> 46 | BZ137: =VLOOKUP($B137,[1]高一上!$B:$W,16,0) -> 0 | CA137: =VLOOKUP($B137,[1]中考!$B:$N,5,0) -> 96 | CB137: =VLOOKUP($B137,[1]中考!$B:$N,6,0) -> 79 | CC137: =VLOOKUP($B137,[1]中考!$B:$N,7,0) -> 112 | CD137: =VLOOKUP($B137,[1]中考!$B:$N,8,0) -> 33 | CE137: =VLOOKUP($B137,[1]中考!$B:$N,9,0) -> 22 | CF137: =VLOOKUP($B137,[1]中考!$B:$N,10,0) -> 32
A138: 513422200611120722 | B138: G513422200611120722 | C138: 05 | D138: 理科 | E138: 沈甲甲 | F138: 460 | G138: 108 | H138: 李志友 | I138: 98 | J138: 次儿祝玛 | K138: 97 | L138: 肖秀秀 | M138: 43 | N138: 胡伟杰 | O138: 50 | P138: 郑强秋 | Q138: 64 | R138: 张斯杰 | S138: =VLOOKUP(B138,[1]高三上!$B:$R,6,0) -> 106 | T138: =VLOOKUP(B138,[1]高三上!$B:$R,7,0) -> 李志友 | U138: =VLOOKUP(B138,[1]高三上!$B:$R,8,0) -> 100 | V138: =VLOOKUP(B138,[1]高三上!$B:$R,9,0) -> 次儿祝玛 | W138: =VLOOKUP(B138,[1]高三上!$B:$R,10,0) -> 105.5 | X138: =VLOOKUP(B138,[1]高三上!$B:$R,11,0) -> 肖秀秀 | Y138: =VLOOKUP(B138,[1]高三上!$B:$R,12,0) -> 19 | Z138: =VLOOKUP(B138,[1]高三上!$B:$R,13,0) -> 胡伟杰 | AA138: =VLOOKUP(B138,[1]高三上!$B:$R,14,0) -> 45 | AB138: =VLOOKUP(B138,[1]高三上!$B:$R,15,0) -> 郑强秋 | AC138: =VLOOKUP(B138,[1]高三上!$B:$R,16,0) -> 35.5 | AD138: =VLOOKUP($B138,[1]高三上!$B:$R,17,0) -> 龙志云 | AE138: =VLOOKUP($B138,[1]高二下!$B:$R,6,0) -> 98.0 | AF138: =VLOOKUP($B138,[1]高二下!$B:$R,7,0) -> 李志友 | AG138: =VLOOKUP($B138,[1]高二下!$B:$R,8,0) -> 99.0 | AH138: =VLOOKUP($B138,[1]高二下!$B:$R,9,0) -> 次儿祝玛 | AI138: =VLOOKUP($B138,[1]高二下!$B:$R,10,0) -> 30.0 | AJ138: =VLOOKUP($B138,[1]高二下!$B:$R,11,0) -> 肖秀秀 | AK138: =VLOOKUP($B138,[1]高二下!$B:$R,12,0) -> 26.0 | AL138: =VLOOKUP($B138,[1]高二下!$B:$R,13,0) -> 胡伟杰 | AM138: =VLOOKUP($B138,[1]高二下!$B:$R,14,0) -> 49.0 | AN138: =VLOOKUP($B138,[1]高二下!$B:$R,15,0) -> 邱宗兰 | AO138: =VLOOKUP($B138,[1]高二下!$B:$R,16,0) -> 110.0 | AP138: =VLOOKUP($B138,[1]高二下!$B:$R,17,0) -> 龙志云 | AQ138: =VLOOKUP($B138,[2]高二上!$B:$R,6,0) -> #N/A | AR138: =VLOOKUP($B138,[2]高二上!$B:$R,7,0) -> #N/A | AS138: =VLOOKUP($B138,[2]高二上!$B:$R,8,0) -> #N/A | AT138: =VLOOKUP($B138,[2]高二上!$B:$R,9,0) -> #N/A | AU138: =VLOOKUP($B138,[2]高二上!$B:$R,10,0) -> #N/A | AV138: =VLOOKUP($B138,[2]高二上!$B:$R,11,0) -> #N/A | AW138: =VLOOKUP($B138,[2]高二上!$B:$R,12,0) -> #N/A | AX138: =VLOOKUP($B138,[2]高二上!$B:$R,13,0) -> #N/A | AY138: =VLOOKUP($B138,[2]高二上!$B:$R,14,0) -> #N/A | AZ138: =VLOOKUP($B138,[2]高二上!$B:$R,15,0) -> #N/A | BA138: =VLOOKUP($B138,[2]高二上!$B:$R,16,0) -> #N/A | BB138: =VLOOKUP($B138,[2]高二上!$B:$R,17,0) -> #N/A | BC138: =VLOOKUP($B138,[1]高一下!$B:$R,6,0) -> 91 | BD138: =VLOOKUP($B138,[1]高一下!$B:$R,7,0) -> 曹霞 | BE138: =VLOOKUP($B138,[1]高一下!$B:$R,8,0) -> 98 | BF138: =VLOOKUP($B138,[1]高一下!$B:$R,9,0) -> 次儿祝玛 | BG138: =VLOOKUP($B138,[1]高一下!$B:$R,10,0) -> 80.5 | BH138: =VLOOKUP($B138,[1]高一下!$B:$R,11,0) -> 肖秀秀 | BI138: =VLOOKUP($B138,[1]高一下!$B:$R,12,0) -> 41 | BJ138: =VLOOKUP($B138,[1]高一下!$B:$R,13,0) -> 胡伟杰 | BK138: =VLOOKUP($B138,[1]高一下!$B:$R,14,0) -> 48 | BL138: =VLOOKUP($B138,[1]高一下!$B:$R,15,0) -> 刘红 | BM138: =VLOOKUP($B138,[1]高一下!$B:$R,16,0) -> 38 | BN138: =VLOOKUP($B138,[1]高一下!$B:$R,17,0) -> 龙志云 | BO138: =VLOOKUP($B138,[1]高一上!$B:$W,5,0) -> 92.5 | BP138: =VLOOKUP($B138,[1]高一上!$B:$W,6,0) -> 曹霞 | BQ138: =VLOOKUP($B138,[1]高一上!$B:$W,7,0) -> 81 | BR138: =VLOOKUP($B138,[1]高一上!$B:$W,8,0) -> 次儿祝玛 | BS138: =VLOOKUP($B138,[1]高一上!$B:$W,9,0) -> 90 | BT138: =VLOOKUP($B138,[1]高一上!$B:$W,10,0) -> 肖秀秀 | BU138: =VLOOKUP($B138,[1]高一上!$B:$W,11,0) -> 28.5 | BV138: =VLOOKUP($B138,[1]高一上!$B:$W,12,0) -> 胡伟杰 | BW138: =VLOOKUP($B138,[1]高一上!$B:$W,13,0) -> 37 | BX138: =VLOOKUP($B138,[1]高一上!$B:$W,14,0) -> 刘红 | BY138: =VLOOKUP($B138,[1]高一上!$B:$W,15,0) -> 38 | BZ138: =VLOOKUP($B138,[1]高一上!$B:$W,16,0) -> 龙志云 | CA138: =VLOOKUP($B138,[1]中考!$B:$N,5,0) -> 112 | CB138: =VLOOKUP($B138,[1]中考!$B:$N,6,0) -> 81 | CC138: =VLOOKUP($B138,[1]中考!$B:$N,7,0) -> 118 | CD138: =VLOOKUP($B138,[1]中考!$B:$N,8,0) -> 32 | CE138: =VLOOKUP($B138,[1]中考!$B:$N,9,0) -> 18 | CF138: =VLOOKUP($B138,[1]中考!$B:$N,10,0) -> 34
A139: 51342220050308252X | B139: G51342220050308252X | C139: 05 | D139: 理科 | E139: 邱顺珍 | F139: 458 | G139: 102 | H139: 李志友 | I139: 102 | J139: 次儿祝玛 | K139: 100 | L139: 肖秀秀 | M139: 35.5 | N139: 胡伟杰 | O139: 65.5 | P139: 郑强秋 | Q139: 53 | R139: 张斯杰 | S139: =VLOOKUP(B139,[1]高三上!$B:$R,6,0) -> 102.5 | T139: =VLOOKUP(B139,[1]高三上!$B:$R,7,0) -> 李志友 | U139: =VLOOKUP(B139,[1]高三上!$B:$R,8,0) -> 100 | V139: =VLOOKUP(B139,[1]高三上!$B:$R,9,0) -> 次儿祝玛 | W139: =VLOOKUP(B139,[1]高三上!$B:$R,10,0) -> 94 | X139: =VLOOKUP(B139,[1]高三上!$B:$R,11,0) -> 肖秀秀 | Y139: =VLOOKUP(B139,[1]高三上!$B:$R,12,0) -> 22 | Z139: =VLOOKUP(B139,[1]高三上!$B:$R,13,0) -> 胡伟杰 | AA139: =VLOOKUP(B139,[1]高三上!$B:$R,14,0) -> 44 | AB139: =VLOOKUP(B139,[1]高三上!$B:$R,15,0) -> 郑强秋 | AC139: =VLOOKUP(B139,[1]高三上!$B:$R,16,0) -> 42 | AD139: =VLOOKUP($B139,[1]高三上!$B:$R,17,0) -> 龙志云 | AE139: =VLOOKUP($B139,[1]高二下!$B:$R,6,0) -> 85.0 | AF139: =VLOOKUP($B139,[1]高二下!$B:$R,7,0) -> 李志友 | AG139: =VLOOKUP($B139,[1]高二下!$B:$R,8,0) -> 101.5 | AH139: =VLOOKUP($B139,[1]高二下!$B:$R,9,0) -> 次儿祝玛 | AI139: =VLOOKUP($B139,[1]高二下!$B:$R,10,0) -> 31.0 | AJ139: =VLOOKUP($B139,[1]高二下!$B:$R,11,0) -> 肖秀秀 | AK139: =VLOOKUP($B139,[1]高二下!$B:$R,12,0) -> 38.0 | AL139: =VLOOKUP($B139,[1]高二下!$B:$R,13,0) -> 胡伟杰 | AM139: =VLOOKUP($B139,[1]高二下!$B:$R,14,0) -> 39.0 | AN139: =VLOOKUP($B139,[1]高二下!$B:$R,15,0) -> 邱宗兰 | AO139: =VLOOKUP($B139,[1]高二下!$B:$R,16,0) -> 98.0 | AP139: =VLOOKUP($B139,[1]高二下!$B:$R,17,0) -> 龙志云 | AQ139: =VLOOKUP($B139,[2]高二上!$B:$R,6,0) -> #N/A | AR139: =VLOOKUP($B139,[2]高二上!$B:$R,7,0) -> #N/A | AS139: =VLOOKUP($B139,[2]高二上!$B:$R,8,0) -> #N/A | AT139: =VLOOKUP($B139,[2]高二上!$B:$R,9,0) -> #N/A | AU139: =VLOOKUP($B139,[2]高二上!$B:$R,10,0) -> #N/A | AV139: =VLOOKUP($B139,[2]高二上!$B:$R,11,0) -> #N/A | AW139: =VLOOKUP($B139,[2]高二上!$B:$R,12,0) -> #N/A | AX139: =VLOOKUP($B139,[2]高二上!$B:$R,13,0) -> #N/A | AY139: =VLOOKUP($B139,[2]高二上!$B:$R,14,0) -> #N/A | AZ139: =VLOOKUP($B139,[2]高二上!$B:$R,15,0) -> #N/A | BA139: =VLOOKUP($B139,[2]高二上!$B:$R,16,0) -> #N/A | BB139: =VLOOKUP($B139,[2]高二上!$B:$R,17,0) -> #N/A | BC139: =VLOOKUP($B139,[1]高一下!$B:$R,6,0) -> 0 | BD139: =VLOOKUP($B139,[1]高一下!$B:$R,7,0) -> 曹霞 | BE139: =VLOOKUP($B139,[1]高一下!$B:$R,8,0) -> 0 | BF139: =VLOOKUP($B139,[1]高一下!$B:$R,9,0) -> 苏朗偏初 | BG139: =VLOOKUP($B139,[1]高一下!$B:$R,10,0) -> 0 | BH139: =VLOOKUP($B139,[1]高一下!$B:$R,11,0) -> 黄建均 | BI139: =VLOOKUP($B139,[1]高一下!$B:$R,12,0) -> 0 | BJ139: =VLOOKUP($B139,[1]高一下!$B:$R,13,0) -> 胡伟杰 | BK139: =VLOOKUP($B139,[1]高一下!$B:$R,14,0) -> 0 | BL139: =VLOOKUP($B139,[1]高一下!$B:$R,15,0) -> 郑强秋 | BM139: =VLOOKUP($B139,[1]高一下!$B:$R,16,0) -> 0 | BN139: =VLOOKUP($B139,[1]高一下!$B:$R,17,0) -> 龙志云 | BO139: =VLOOKUP($B139,[1]高一上!$B:$W,5,0) -> 90.5 | BP139: =VLOOKUP($B139,[1]高一上!$B:$W,6,0) -> 曹霞 | BQ139: =VLOOKUP($B139,[1]高一上!$B:$W,7,0) -> 83 | BR139: =VLOOKUP($B139,[1]高一上!$B:$W,8,0) -> 苏朗偏初 | BS139: =VLOOKUP($B139,[1]高一上!$B:$W,9,0) -> 82 | BT139: =VLOOKUP($B139,[1]高一上!$B:$W,10,0) -> 黄建均 | BU139: =VLOOKUP($B139,[1]高一上!$B:$W,11,0) -> 37 | BV139: =VLOOKUP($B139,[1]高一上!$B:$W,12,0) -> 胡伟杰 | BW139: =VLOOKUP($B139,[1]高一上!$B:$W,13,0) -> 60 | BX139: =VLOOKUP($B139,[1]高一上!$B:$W,14,0) -> 郑强秋 | BY139: =VLOOKUP($B139,[1]高一上!$B:$W,15,0) -> 40 | BZ139: =VLOOKUP($B139,[1]高一上!$B:$W,16,0) -> 龙志云 | CA139: =VLOOKUP($B139,[1]中考!$B:$N,5,0) -> 104 | CB139: =VLOOKUP($B139,[1]中考!$B:$N,6,0) -> 99 | CC139: =VLOOKUP($B139,[1]中考!$B:$N,7,0) -> 117 | CD139: =VLOOKUP($B139,[1]中考!$B:$N,8,0) -> 47 | CE139: =VLOOKUP($B139,[1]中考!$B:$N,9,0) -> 26 | CF139: =VLOOKUP($B139,[1]中考!$B:$N,10,0) -> 32
A140: 513422200503106624 | B140: G513422200503106624 | C140: 05 | D140: 理科 | E140: 韩车其 | F140: 457 | G140: 105 | H140: 李志友 | I140: 80 | J140: 次儿祝玛 | K140: 99 | L140: 肖秀秀 | M140: 49.5 | N140: 胡伟杰 | O140: 62 | P140: 郑强秋 | Q140: 61 | R140: 张斯杰 | S140: =VLOOKUP(B140,[1]高三上!$B:$R,6,0) -> 96 | T140: =VLOOKUP(B140,[1]高三上!$B:$R,7,0) -> 李志友 | U140: =VLOOKUP(B140,[1]高三上!$B:$R,8,0) -> 71 | V140: =VLOOKUP(B140,[1]高三上!$B:$R,9,0) -> 次儿祝玛 | W140: =VLOOKUP(B140,[1]高三上!$B:$R,10,0) -> 80.5 | X140: =VLOOKUP(B140,[1]高三上!$B:$R,11,0) -> 肖秀秀 | Y140: =VLOOKUP(B140,[1]高三上!$B:$R,12,0) -> 24 | Z140: =VLOOKUP(B140,[1]高三上!$B:$R,13,0) -> 胡伟杰 | AA140: =VLOOKUP(B140,[1]高三上!$B:$R,14,0) -> 44 | AB140: =VLOOKUP(B140,[1]高三上!$B:$R,15,0) -> 郑强秋 | AC140: =VLOOKUP(B140,[1]高三上!$B:$R,16,0) -> 55 | AD140: =VLOOKUP($B140,[1]高三上!$B:$R,17,0) -> 龙志云 | AE140: =VLOOKUP($B140,[1]高二下!$B:$R,6,0) -> 78.0 | AF140: =VLOOKUP($B140,[1]高二下!$B:$R,7,0) -> 李志友 | AG140: =VLOOKUP($B140,[1]高二下!$B:$R,8,0) -> 88.5 | AH140: =VLOOKUP($B140,[1]高二下!$B:$R,9,0) -> 次儿祝玛 | AI140: =VLOOKUP($B140,[1]高二下!$B:$R,10,0) -> 19.0 | AJ140: =VLOOKUP($B140,[1]高二下!$B:$R,11,0) -> 肖秀秀 | AK140: =VLOOKUP($B140,[1]高二下!$B:$R,12,0) -> 25.0 | AL140: =VLOOKUP($B140,[1]高二下!$B:$R,13,0) -> 胡伟杰 | AM140: =VLOOKUP($B140,[1]高二下!$B:$R,14,0) -> 46.0 | AN140: =VLOOKUP($B140,[1]高二下!$B:$R,15,0) -> 邱宗兰 | AO140: =VLOOKUP($B140,[1]高二下!$B:$R,16,0) -> 88.0 | AP140: =VLOOKUP($B140,[1]高二下!$B:$R,17,0) -> 龙志云 | AQ140: =VLOOKUP($B140,[2]高二上!$B:$R,6,0) -> #N/A | AR140: =VLOOKUP($B140,[2]高二上!$B:$R,7,0) -> #N/A | AS140: =VLOOKUP($B140,[2]高二上!$B:$R,8,0) -> #N/A | AT140: =VLOOKUP($B140,[2]高二上!$B:$R,9,0) -> #N/A | AU140: =VLOOKUP($B140,[2]高二上!$B:$R,10,0) -> #N/A | AV140: =VLOOKUP($B140,[2]高二上!$B:$R,11,0) -> #N/A | AW140: =VLOOKUP($B140,[2]高二上!$B:$R,12,0) -> #N/A | AX140: =VLOOKUP($B140,[2]高二上!$B:$R,13,0) -> #N/A | AY140: =VLOOKUP($B140,[2]高二上!$B:$R,14,0) -> #N/A | AZ140: =VLOOKUP($B140,[2]高二上!$B:$R,15,0) -> #N/A | BA140: =VLOOKUP($B140,[2]高二上!$B:$R,16,0) -> #N/A | BB140: =VLOOKUP($B140,[2]高二上!$B:$R,17,0) -> #N/A | BC140: =VLOOKUP($B140,[1]高一下!$B:$R,6,0) -> 94 | BD140: =VLOOKUP($B140,[1]高一下!$B:$R,7,0) -> 曹霞 | BE140: =VLOOKUP($B140,[1]高一下!$B:$R,8,0) -> 80 | BF140: =VLOOKUP($B140,[1]高一下!$B:$R,9,0) -> 次儿祝玛 | BG140: =VLOOKUP($B140,[1]高一下!$B:$R,10,0) -> 70.5 | BH140: =VLOOKUP($B140,[1]高一下!$B:$R,11,0) -> 肖秀秀 | BI140: =VLOOKUP($B140,[1]高一下!$B:$R,12,0) -> 39 | BJ140: =VLOOKUP($B140,[1]高一下!$B:$R,13,0) -> 胡伟杰 | BK140: =VLOOKUP($B140,[1]高一下!$B:$R,14,0) -> 43 | BL140: =VLOOKUP($B140,[1]高一下!$B:$R,15,0) -> 刘红 | BM140: =VLOOKUP($B140,[1]高一下!$B:$R,16,0) -> 34 | BN140: =VLOOKUP($B140,[1]高一下!$B:$R,17,0) -> 龙志云 | BO140: =VLOOKUP($B140,[1]高一上!$B:$W,5,0) -> 91.5 | BP140: =VLOOKUP($B140,[1]高一上!$B:$W,6,0) -> 曹霞 | BQ140: =VLOOKUP($B140,[1]高一上!$B:$W,7,0) -> 67 | BR140: =VLOOKUP($B140,[1]高一上!$B:$W,8,0) -> 次儿祝玛 | BS140: =VLOOKUP($B140,[1]高一上!$B:$W,9,0) -> 72 | BT140: =VLOOKUP($B140,[1]高一上!$B:$W,10,0) -> 肖秀秀 | BU140: =VLOOKUP($B140,[1]高一上!$B:$W,11,0) -> 41 | BV140: =VLOOKUP($B140,[1]高一上!$B:$W,12,0) -> 胡伟杰 | BW140: =VLOOKUP($B140,[1]高一上!$B:$W,13,0) -> 35 | BX140: =VLOOKUP($B140,[1]高一上!$B:$W,14,0) -> 刘红 | BY140: =VLOOKUP($B140,[1]高一上!$B:$W,15,0) -> 44 | BZ140: =VLOOKUP($B140,[1]高一上!$B:$W,16,0) -> 龙志云 | CA140: =VLOOKUP($B140,[1]中考!$B:$N,5,0) -> 102 | CB140: =VLOOKUP($B140,[1]中考!$B:$N,6,0) -> 87 | CC140: =VLOOKUP($B140,[1]中考!$B:$N,7,0) -> 94 | CD140: =VLOOKUP($B140,[1]中考!$B:$N,8,0) -> 35 | CE140: =VLOOKUP($B140,[1]中考!$B:$N,9,0) -> 27 | CF140: =VLOOKUP($B140,[1]中考!$B:$N,10,0) -> 40
A141: 51342220040704251X | B141: G51342220040704251X | C141: 05 | D141: 理科 | E141: 伍正华 | F141: 455 | G141: 98 | H141: 李志友 | I141: 97 | J141: 次儿祝玛 | K141: 86 | L141: 肖秀秀 | M141: 56 | N141: 胡伟杰 | O141: 54.5 | P141: 郑强秋 | Q141: 63.5 | R141: 张斯杰 | S141: =VLOOKUP(B141,[1]高三上!$B:$R,6,0) -> 101 | T141: =VLOOKUP(B141,[1]高三上!$B:$R,7,0) -> 李志友 | U141: =VLOOKUP(B141,[1]高三上!$B:$R,8,0) -> 121 | V141: =VLOOKUP(B141,[1]高三上!$B:$R,9,0) -> 次儿祝玛 | W141: =VLOOKUP(B141,[1]高三上!$B:$R,10,0) -> 70 | X141: =VLOOKUP(B141,[1]高三上!$B:$R,11,0) -> 肖秀秀 | Y141: =VLOOKUP(B141,[1]高三上!$B:$R,12,0) -> 47 | Z141: =VLOOKUP(B141,[1]高三上!$B:$R,13,0) -> 胡伟杰 | AA141: =VLOOKUP(B141,[1]高三上!$B:$R,14,0) -> 51 | AB141: =VLOOKUP(B141,[1]高三上!$B:$R,15,0) -> 郑强秋 | AC141: =VLOOKUP(B141,[1]高三上!$B:$R,16,0) -> 42 | AD141: =VLOOKUP($B141,[1]高三上!$B:$R,17,0) -> 龙志云 | AE141: =VLOOKUP($B141,[1]高二下!$B:$R,6,0) -> 76.0 | AF141: =VLOOKUP($B141,[1]高二下!$B:$R,7,0) -> 李志友 | AG141: =VLOOKUP($B141,[1]高二下!$B:$R,8,0) -> 78.0 | AH141: =VLOOKUP($B141,[1]高二下!$B:$R,9,0) -> 次儿祝玛 | AI141: =VLOOKUP($B141,[1]高二下!$B:$R,10,0) -> 33.0 | AJ141: =VLOOKUP($B141,[1]高二下!$B:$R,11,0) -> 肖秀秀 | AK141: =VLOOKUP($B141,[1]高二下!$B:$R,12,0) -> 37.0 | AL141: =VLOOKUP($B141,[1]高二下!$B:$R,13,0) -> 胡伟杰 | AM141: =VLOOKUP($B141,[1]高二下!$B:$R,14,0) -> 52.0 | AN141: =VLOOKUP($B141,[1]高二下!$B:$R,15,0) -> 邱宗兰 | AO141: =VLOOKUP($B141,[1]高二下!$B:$R,16,0) -> 101.0 | AP141: =VLOOKUP($B141,[1]高二下!$B:$R,17,0) -> 龙志云 | AQ141: =VLOOKUP($B141,[2]高二上!$B:$R,6,0) -> #N/A | AR141: =VLOOKUP($B141,[2]高二上!$B:$R,7,0) -> #N/A | AS141: =VLOOKUP($B141,[2]高二上!$B:$R,8,0) -> #N/A | AT141: =VLOOKUP($B141,[2]高二上!$B:$R,9,0) -> #N/A | AU141: =VLOOKUP($B141,[2]高二上!$B:$R,10,0) -> #N/A | AV141: =VLOOKUP($B141,[2]高二上!$B:$R,11,0) -> #N/A | AW141: =VLOOKUP($B141,[2]高二上!$B:$R,12,0) -> #N/A | AX141: =VLOOKUP($B141,[2]高二上!$B:$R,13,0) -> #N/A | AY141: =VLOOKUP($B141,[2]高二上!$B:$R,14,0) -> #N/A | AZ141: =VLOOKUP($B141,[2]高二上!$B:$R,15,0) -> #N/A | BA141: =VLOOKUP($B141,[2]高二上!$B:$R,16,0) -> #N/A | BB141: =VLOOKUP($B141,[2]高二上!$B:$R,17,0) -> #N/A | BC141: =VLOOKUP($B141,[1]高一下!$B:$R,6,0) -> 101 | BD141: =VLOOKUP($B141,[1]高一下!$B:$R,7,0) -> 曹霞 | BE141: =VLOOKUP($B141,[1]高一下!$B:$R,8,0) -> 114 | BF141: =VLOOKUP($B141,[1]高一下!$B:$R,9,0) -> 次儿祝玛 | BG141: =VLOOKUP($B141,[1]高一下!$B:$R,10,0) -> 53 | BH141: =VLOOKUP($B141,[1]高一下!$B:$R,11,0) -> 肖秀秀 | BI141: =VLOOKUP($B141,[1]高一下!$B:$R,12,0) -> 60 | BJ141: =VLOOKUP($B141,[1]高一下!$B:$R,13,0) -> 胡伟杰 | BK141: =VLOOKUP($B141,[1]高一下!$B:$R,14,0) -> 50 | BL141: =VLOOKUP($B141,[1]高一下!$B:$R,15,0) -> 刘红 | BM141: =VLOOKUP($B141,[1]高一下!$B:$R,16,0) -> 52 | BN141: =VLOOKUP($B141,[1]高一下!$B:$R,17,0) -> 龙志云 | BO141: =VLOOKUP($B141,[1]高一上!$B:$W,5,0) -> 81 | BP141: =VLOOKUP($B141,[1]高一上!$B:$W,6,0) -> 曹霞 | BQ141: =VLOOKUP($B141,[1]高一上!$B:$W,7,0) -> 93 | BR141: =VLOOKUP($B141,[1]高一上!$B:$W,8,0) -> 次儿祝玛 | BS141: =VLOOKUP($B141,[1]高一上!$B:$W,9,0) -> 63.5 | BT141: =VLOOKUP($B141,[1]高一上!$B:$W,10,0) -> 肖秀秀 | BU141: =VLOOKUP($B141,[1]高一上!$B:$W,11,0) -> 47.5 | BV141: =VLOOKUP($B141,[1]高一上!$B:$W,12,0) -> 胡伟杰 | BW141: =VLOOKUP($B141,[1]高一上!$B:$W,13,0) -> 53.5 | BX141: =VLOOKUP($B141,[1]高一上!$B:$W,14,0) -> 刘红 | BY141: =VLOOKUP($B141,[1]高一上!$B:$W,15,0) -> 51.5 | BZ141: =VLOOKUP($B141,[1]高一上!$B:$W,16,0) -> 龙志云 | CA141: =VLOOKUP($B141,[1]中考!$B:$N,5,0) -> 110 | CB141: =VLOOKUP($B141,[1]中考!$B:$N,6,0) -> 105 | CC141: =VLOOKUP($B141,[1]中考!$B:$N,7,0) -> 94 | CD141: =VLOOKUP($B141,[1]中考!$B:$N,8,0) -> 39 | CE141: =VLOOKUP($B141,[1]中考!$B:$N,9,0) -> 26 | CF141: =VLOOKUP($B141,[1]中考!$B:$N,10,0) -> 37
A142: 513422200605076817 | B142: G513422200605076817 | C142: 05 | D142: 理科 | E142: 严小华 | F142: 454 | G142: 106 | H142: 李志友 | I142: 81 | J142: 次儿祝玛 | K142: 114 | L142: 肖秀秀 | M142: 49.5 | N142: 胡伟杰 | O142: 47 | P142: 郑强秋 | Q142: 56.5 | R142: 张斯杰 | S142: =VLOOKUP(B142,[1]高三上!$B:$R,6,0) -> 101.5 | T142: =VLOOKUP(B142,[1]高三上!$B:$R,7,0) -> 李志友 | U142: =VLOOKUP(B142,[1]高三上!$B:$R,8,0) -> 74.5 | V142: =VLOOKUP(B142,[1]高三上!$B:$R,9,0) -> 次儿祝玛 | W142: =VLOOKUP(B142,[1]高三上!$B:$R,10,0) -> 102.5 | X142: =VLOOKUP(B142,[1]高三上!$B:$R,11,0) -> 肖秀秀 | Y142: =VLOOKUP(B142,[1]高三上!$B:$R,12,0) -> 37 | Z142: =VLOOKUP(B142,[1]高三上!$B:$R,13,0) -> 胡伟杰 | AA142: =VLOOKUP(B142,[1]高三上!$B:$R,14,0) -> 46 | AB142: =VLOOKUP(B142,[1]高三上!$B:$R,15,0) -> 郑强秋 | AC142: =VLOOKUP(B142,[1]高三上!$B:$R,16,0) -> 42 | AD142: =VLOOKUP($B142,[1]高三上!$B:$R,17,0) -> 龙志云 | AE142: =VLOOKUP($B142,[1]高二下!$B:$R,6,0) -> 92.0 | AF142: =VLOOKUP($B142,[1]高二下!$B:$R,7,0) -> 李志友 | AG142: =VLOOKUP($B142,[1]高二下!$B:$R,8,0) -> 109.0 | AH142: =VLOOKUP($B142,[1]高二下!$B:$R,9,0) -> 次儿祝玛 | AI142: =VLOOKUP($B142,[1]高二下!$B:$R,10,0) -> 33.0 | AJ142: =VLOOKUP($B142,[1]高二下!$B:$R,11,0) -> 肖秀秀 | AK142: =VLOOKUP($B142,[1]高二下!$B:$R,12,0) -> 35.0 | AL142: =VLOOKUP($B142,[1]高二下!$B:$R,13,0) -> 胡伟杰 | AM142: =VLOOKUP($B142,[1]高二下!$B:$R,14,0) -> 54.0 | AN142: =VLOOKUP($B142,[1]高二下!$B:$R,15,0) -> 邱宗兰 | AO142: =VLOOKUP($B142,[1]高二下!$B:$R,16,0) -> 89.0 | AP142: =VLOOKUP($B142,[1]高二下!$B:$R,17,0) -> 龙志云 | AQ142: =VLOOKUP($B142,[2]高二上!$B:$R,6,0) -> #N/A | AR142: =VLOOKUP($B142,[2]高二上!$B:$R,7,0) -> #N/A | AS142: =VLOOKUP($B142,[2]高二上!$B:$R,8,0) -> #N/A | AT142: =VLOOKUP($B142,[2]高二上!$B:$R,9,0) -> #N/A | AU142: =VLOOKUP($B142,[2]高二上!$B:$R,10,0) -> #N/A | AV142: =VLOOKUP($B142,[2]高二上!$B:$R,11,0) -> #N/A | AW142: =VLOOKUP($B142,[2]高二上!$B:$R,12,0) -> #N/A | AX142: =VLOOKUP($B142,[2]高二上!$B:$R,13,0) -> #N/A | AY142: =VLOOKUP($B142,[2]高二上!$B:$R,14,0) -> #N/A | AZ142: =VLOOKUP($B142,[2]高二上!$B:$R,15,0) -> #N/A | BA142: =VLOOKUP($B142,[2]高二上!$B:$R,16,0) -> #N/A | BB142: =VLOOKUP($B142,[2]高二上!$B:$R,17,0) -> #N/A | BC142: =VLOOKUP($B142,[1]高一下!$B:$R,6,0) -> 89 | BD142: =VLOOKUP($B142,[1]高一下!$B:$R,7,0) -> 曹霞 | BE142: =VLOOKUP($B142,[1]高一下!$B:$R,8,0) -> 86 | BF142: =VLOOKUP($B142,[1]高一下!$B:$R,9,0) -> 次儿祝玛 | BG142: =VLOOKUP($B142,[1]高一下!$B:$R,10,0) -> 91.5 | BH142: =VLOOKUP($B142,[1]高一下!$B:$R,11,0) -> 肖秀秀 | BI142: =VLOOKUP($B142,[1]高一下!$B:$R,12,0) -> 29 | BJ142: =VLOOKUP($B142,[1]高一下!$B:$R,13,0) -> 胡伟杰 | BK142: =VLOOKUP($B142,[1]高一下!$B:$R,14,0) -> 39 | BL142: =VLOOKUP($B142,[1]高一下!$B:$R,15,0) -> 刘红 | BM142: =VLOOKUP($B142,[1]高一下!$B:$R,16,0) -> 36 | BN142: =VLOOKUP($B142,[1]高一下!$B:$R,17,0) -> 龙志云 | BO142: =VLOOKUP($B142,[1]高一上!$B:$W,5,0) -> 81 | BP142: =VLOOKUP($B142,[1]高一上!$B:$W,6,0) -> 刘玲君 | BQ142: =VLOOKUP($B142,[1]高一上!$B:$W,7,0) -> 59.5 | BR142: =VLOOKUP($B142,[1]高一上!$B:$W,8,0) -> 陈强 | BS142: =VLOOKUP($B142,[1]高一上!$B:$W,9,0) -> 90.5 | BT142: =VLOOKUP($B142,[1]高一上!$B:$W,10,0) -> 车梦德 | BU142: =VLOOKUP($B142,[1]高一上!$B:$W,11,0) -> 20 | BV142: =VLOOKUP($B142,[1]高一上!$B:$W,12,0) -> 0 | BW142: =VLOOKUP($B142,[1]高一上!$B:$W,13,0) -> 29 | BX142: =VLOOKUP($B142,[1]高一上!$B:$W,14,0) -> 0 | BY142: =VLOOKUP($B142,[1]高一上!$B:$W,15,0) -> 26 | BZ142: =VLOOKUP($B142,[1]高一上!$B:$W,16,0) -> 0 | CA142: =VLOOKUP($B142,[1]中考!$B:$N,5,0) -> 93 | CB142: =VLOOKUP($B142,[1]中考!$B:$N,6,0) -> 70 | CC142: =VLOOKUP($B142,[1]中考!$B:$N,7,0) -> 112 | CD142: =VLOOKUP($B142,[1]中考!$B:$N,8,0) -> 25 | CE142: =VLOOKUP($B142,[1]中考!$B:$N,9,0) -> 20 | CF142: =VLOOKUP($B142,[1]中考!$B:$N,10,0) -> 35
... A146: 513422200707012929 | B146: G513422200707012929 | C146: 05 | D146: 理科 | E146: 胡明亭 | F146: 439 | G146: 114 | H146: 李志友 | I146: 85 | J146: 次儿祝玛 | K146: 109 | L146: 肖秀秀 | M146: 39 | N146: 胡伟杰 | O146: 43.5 | P146: 郑强秋 | Q146: 48 | R146: 张斯杰 | S146: =VLOOKUP(B146,[1]高三上!$B:$R,6,0) -> 103 | T146: =VLOOKUP(B146,[1]高三上!$B:$R,7,0) -> 李志友 | U146: =VLOOKUP(B146,[1]高三上!$B:$R,8,0) -> 84 | V146: =VLOOKUP(B146,[1]高三上!$B:$R,9,0) -> 次儿祝玛 | W146: =VLOOKUP(B146,[1]高三上!$B:$R,10,0) -> 104 | X146: =VLOOKUP(B146,[1]高三上!$B:$R,11,0) -> 肖秀秀 | Y146: =VLOOKUP(B146,[1]高三上!$B:$R,12,0) -> 18 | Z146: =VLOOKUP(B146,[1]高三上!$B:$R,13,0) -> 胡伟杰 | AA146: =VLOOKUP(B146,[1]高三上!$B:$R,14,0) -> 53 | AB146: =VLOOKUP(B146,[1]高三上!$B:$R,15,0) -> 郑强秋 | AC146: =VLOOKUP(B146,[1]高三上!$B:$R,16,0) -> 34 | AD146: =VLOOKUP($B146,[1]高三上!$B:$R,17,0) -> 龙志云 | AE146: =VLOOKUP($B146,[1]高二下!$B:$R,6,0) -> 98.0 | AF146: =VLOOKUP($B146,[1]高二下!$B:$R,7,0) -> 李志友 | AG146: =VLOOKUP($B146,[1]高二下!$B:$R,8,0) -> 103.5 | AH146: =VLOOKUP($B146,[1]高二下!$B:$R,9,0) -> 次儿祝玛 | AI146: =VLOOKUP($B146,[1]高二下!$B:$R,10,0) -> 22.0 | AJ146: =VLOOKUP($B146,[1]高二下!$B:$R,11,0) -> 肖秀秀 | AK146: =VLOOKUP($B146,[1]高二下!$B:$R,12,0) -> 24.0 | AL146: =VLOOKUP($B146,[1]高二下!$B:$R,13,0) -> 胡伟杰 | AM146: =VLOOKUP($B146,[1]高二下!$B:$R,14,0) -> 42.0 | AN146: =VLOOKUP($B146,[1]高二下!$B:$R,15,0) -> 邱宗兰 | AO146: =VLOOKUP($B146,[1]高二下!$B:$R,16,0) -> 79.0 | AP146: =VLOOKUP($B146,[1]高二下!$B:$R,17,0) -> 龙志云 | AQ146: =VLOOKUP($B146,[2]高二上!$B:$R,6,0) -> #N/A | AR146: =VLOOKUP($B146,[2]高二上!$B:$R,7,0) -> #N/A | AS146: =VLOOKUP($B146,[2]高二上!$B:$R,8,0) -> #N/A | AT146: =VLOOKUP($B146,[2]高二上!$B:$R,9,0) -> #N/A | AU146: =VLOOKUP($B146,[2]高二上!$B:$R,10,0) -> #N/A | AV146: =VLOOKUP($B146,[2]高二上!$B:$R,11,0) -> #N/A | AW146: =VLOOKUP($B146,[2]高二上!$B:$R,12,0) -> #N/A | AX146: =VLOOKUP($B146,[2]高二上!$B:$R,13,0) -> #N/A | AY146: =VLOOKUP($B146,[2]高二上!$B:$R,14,0) -> #N/A | AZ146: =VLOOKUP($B146,[2]高二上!$B:$R,15,0) -> #N/A | BA146: =VLOOKUP($B146,[2]高二上!$B:$R,16,0) -> #N/A | BB146: =VLOOKUP($B146,[2]高二上!$B:$R,17,0) -> #N/A | BC146: =VLOOKUP($B146,[1]高一下!$B:$R,6,0) -> 101 | BD146: =VLOOKUP($B146,[1]高一下!$B:$R,7,0) -> 曹霞 | BE146: =VLOOKUP($B146,[1]高一下!$B:$R,8,0) -> 97 | BF146: =VLOOKUP($B146,[1]高一下!$B:$R,9,0) -> 次儿祝玛 | BG146: =VLOOKUP($B146,[1]高一下!$B:$R,10,0) -> 95.5 | BH146: =VLOOKUP($B146,[1]高一下!$B:$R,11,0) -> 肖秀秀 | BI146: =VLOOKUP($B146,[1]高一下!$B:$R,12,0) -> 30 | BJ146: =VLOOKUP($B146,[1]高一下!$B:$R,13,0) -> 胡伟杰 | BK146: =VLOOKUP($B146,[1]高一下!$B:$R,14,0) -> 30 | BL146: =VLOOKUP($B146,[1]高一下!$B:$R,15,0) -> 刘红 | BM146: =VLOOKUP($B146,[1]高一下!$B:$R,16,0) -> 31 | BN146: =VLOOKUP($B146,[1]高一下!$B:$R,17,0) -> 龙志云 | BO146: =VLOOKUP($B146,[1]高一上!$B:$W,5,0) -> 91.5 | BP146: =VLOOKUP($B146,[1]高一上!$B:$W,6,0) -> 曹霞 | BQ146: =VLOOKUP($B146,[1]高一上!$B:$W,7,0) -> 58 | BR146: =VLOOKUP($B146,[1]高一上!$B:$W,8,0) -> 次儿祝玛 | BS146: =VLOOKUP($B146,[1]高一上!$B:$W,9,0) -> 103 | BT146: =VLOOKUP($B146,[1]高一上!$B:$W,10,0) -> 肖秀秀 | BU146: =VLOOKUP($B146,[1]高一上!$B:$W,11,0) -> 31 | BV146: =VLOOKUP($B146,[1]高一上!$B:$W,12,0) -> 胡伟杰 | BW146: =VLOOKUP($B146,[1]高一上!$B:$W,13,0) -> 38.5 | BX146: =VLOOKUP($B146,[1]高一上!$B:$W,14,0) -> 刘红 | BY146: =VLOOKUP($B146,[1]高一上!$B:$W,15,0) -> 44.5 | BZ146: =VLOOKUP($B146,[1]高一上!$B:$W,16,0) -> 龙志云 | CA146: =VLOOKUP($B146,[1]中考!$B:$N,5,0) -> 100 | CB146: =VLOOKUP($B146,[1]中考!$B:$N,6,0) -> 78 | CC146: =VLOOKUP($B146,[1]中考!$B:$N,7,0) -> 143 | CD146: =VLOOKUP($B146,[1]中考!$B:$N,8,0) -> 28 | CE146: =VLOOKUP($B146,[1]中考!$B:$N,9,0) -> 32 | CF146: =VLOOKUP($B146,[1]中考!$B:$N,10,0) -> 28
A147: 513422200505293419 | B147: G513422200505293419 | C147: 05 | D147: 理科 | E147: 鲁茸温珠 | F147: 439 | G147: 102 | H147: 李志友 | I147: 74 | J147: 次儿祝玛 | K147: 95 | L147: 肖秀秀 | M147: 56 | N147: 胡伟杰 | O147: 45.5 | P147: 郑强秋 | Q147: 66 | R147: 张斯杰 | S147: 0 | T147: 李志友 | U147: 0 | V147: 次儿祝玛 | W147: 0 | X147: 肖秀秀 | Y147: 0 | Z147: 胡伟杰 | AA147: 0 | AB147: 郑强秋 | AC147: 0 | AD147: 龙志云 | AE147: =VLOOKUP($B147,[1]高二下!$B:$R,6,0) -> 77.0 | AF147: =VLOOKUP($B147,[1]高二下!$B:$R,7,0) -> 李志友 | AG147: =VLOOKUP($B147,[1]高二下!$B:$R,8,0) -> 96.5 | AH147: =VLOOKUP($B147,[1]高二下!$B:$R,9,0) -> 次儿祝玛 | AI147: =VLOOKUP($B147,[1]高二下!$B:$R,10,0) -> 35.0 | AJ147: =VLOOKUP($B147,[1]高二下!$B:$R,11,0) -> 肖秀秀 | AK147: =VLOOKUP($B147,[1]高二下!$B:$R,12,0) -> 30.0 | AL147: =VLOOKUP($B147,[1]高二下!$B:$R,13,0) -> 胡伟杰 | AM147: =VLOOKUP($B147,[1]高二下!$B:$R,14,0) -> 45.0 | AN147: =VLOOKUP($B147,[1]高二下!$B:$R,15,0) -> 邱宗兰 | AO147: =VLOOKUP($B147,[1]高二下!$B:$R,16,0) -> 98.0 | AP147: =VLOOKUP($B147,[1]高二下!$B:$R,17,0) -> 龙志云 | AQ147: =VLOOKUP($B147,[2]高二上!$B:$R,6,0) -> #N/A | AR147: =VLOOKUP($B147,[2]高二上!$B:$R,7,0) -> #N/A | AS147: =VLOOKUP($B147,[2]高二上!$B:$R,8,0) -> #N/A | AT147: =VLOOKUP($B147,[2]高二上!$B:$R,9,0) -> #N/A | AU147: =VLOOKUP($B147,[2]高二上!$B:$R,10,0) -> #N/A | AV147: =VLOOKUP($B147,[2]高二上!$B:$R,11,0) -> #N/A | AW147: =VLOOKUP($B147,[2]高二上!$B:$R,12,0) -> #N/A | AX147: =VLOOKUP($B147,[2]高二上!$B:$R,13,0) -> #N/A | AY147: =VLOOKUP($B147,[2]高二上!$B:$R,14,0) -> #N/A | AZ147: =VLOOKUP($B147,[2]高二上!$B:$R,15,0) -> #N/A | BA147: =VLOOKUP($B147,[2]高二上!$B:$R,16,0) -> #N/A | BB147: =VLOOKUP($B147,[2]高二上!$B:$R,17,0) -> #N/A | BC147: =VLOOKUP($B147,[1]高一下!$B:$R,6,0) -> 95 | BD147: =VLOOKUP($B147,[1]高一下!$B:$R,7,0) -> 曹霞 | BE147: =VLOOKUP($B147,[1]高一下!$B:$R,8,0) -> 89 | BF147: =VLOOKUP($B147,[1]高一下!$B:$R,9,0) -> 次儿祝玛 | BG147: =VLOOKUP($B147,[1]高一下!$B:$R,10,0) -> 64 | BH147: =VLOOKUP($B147,[1]高一下!$B:$R,11,0) -> 肖秀秀 | BI147: =VLOOKUP($B147,[1]高一下!$B:$R,12,0) -> 42 | BJ147: =VLOOKUP($B147,[1]高一下!$B:$R,13,0) -> 胡伟杰 | BK147: =VLOOKUP($B147,[1]高一下!$B:$R,14,0) -> 30 | BL147: =VLOOKUP($B147,[1]高一下!$B:$R,15,0) -> 刘红 | BM147: =VLOOKUP($B147,[1]高一下!$B:$R,16,0) -> 48 | BN147: =VLOOKUP($B147,[1]高一下!$B:$R,17,0) -> 龙志云 | BO147: =VLOOKUP($B147,[1]高一上!$B:$W,5,0) -> 71 | BP147: =VLOOKUP($B147,[1]高一上!$B:$W,6,0) -> 刘玲君 | BQ147: =VLOOKUP($B147,[1]高一上!$B:$W,7,0) -> 75 | BR147: =VLOOKUP($B147,[1]高一上!$B:$W,8,0) -> 陈强 | BS147: =VLOOKUP($B147,[1]高一上!$B:$W,9,0) -> 86.5 | BT147: =VLOOKUP($B147,[1]高一上!$B:$W,10,0) -> 尹英娇 | BU147: =VLOOKUP($B147,[1]高一上!$B:$W,11,0) -> 28 | BV147: =VLOOKUP($B147,[1]高一上!$B:$W,12,0) -> 0 | BW147: =VLOOKUP($B147,[1]高一上!$B:$W,13,0) -> 34 | BX147: =VLOOKUP($B147,[1]高一上!$B:$W,14,0) -> 0 | BY147: =VLOOKUP($B147,[1]高一上!$B:$W,15,0) -> 45 | BZ147: =VLOOKUP($B147,[1]高一上!$B:$W,16,0) -> 0 | CA147: =VLOOKUP($B147,[1]中考!$B:$N,5,0) -> 96 | CB147: =VLOOKUP($B147,[1]中考!$B:$N,6,0) -> 103 | CC147: =VLOOKUP($B147,[1]中考!$B:$N,7,0) -> 118 | CD147: =VLOOKUP($B147,[1]中考!$B:$N,8,0) -> 47 | CE147: =VLOOKUP($B147,[1]中考!$B:$N,9,0) -> 29 | CF147: =VLOOKUP($B147,[1]中考!$B:$N,10,0) -> 38
A148: 513422200609100917 | B148: G513422200609100917 | C148: 05 | D148: 理科 | E148: 马国发 | F148: 434 | G148: 109 | H148: 李志友 | I148: 75 | J148: 次儿祝玛 | K148: 98 | L148: 肖秀秀 | M148: 57.5 | N148: 胡伟杰 | O148: 40 | P148: 郑强秋 | Q148: 54 | R148: 张斯杰 | S148: =VLOOKUP(B148,[1]高三上!$B:$R,6,0) -> 99 | T148: 李志友 | U148: 85 | V148: 次儿祝玛 | W148: 32 | X148: 肖秀秀 | Y148: 63 | Z148: 胡伟杰 | AA148: 44.5 | AB148: 郑强秋 | AC148: 65.5 | AD148: =VLOOKUP($B148,[1]高三上!$B:$R,17,0) -> 龙志云 | AE148: =VLOOKUP($B148,[1]高二下!$B:$R,6,0) -> 92.0 | AF148: =VLOOKUP($B148,[1]高二下!$B:$R,7,0) -> 李志友 | AG148: =VLOOKUP($B148,[1]高二下!$B:$R,8,0) -> 92.0 | AH148: =VLOOKUP($B148,[1]高二下!$B:$R,9,0) -> 次儿祝玛 | AI148: =VLOOKUP($B148,[1]高二下!$B:$R,10,0) -> 21.0 | AJ148: =VLOOKUP($B148,[1]高二下!$B:$R,11,0) -> 肖秀秀 | AK148: =VLOOKUP($B148,[1]高二下!$B:$R,12,0) -> 32.0 | AL148: =VLOOKUP($B148,[1]高二下!$B:$R,13,0) -> 胡伟杰 | AM148: =VLOOKUP($B148,[1]高二下!$B:$R,14,0) -> 38.0 | AN148: =VLOOKUP($B148,[1]高二下!$B:$R,15,0) -> 邱宗兰 | AO148: =VLOOKUP($B148,[1]高二下!$B:$R,16,0) -> 82.0 | AP148: =VLOOKUP($B148,[1]高二下!$B:$R,17,0) -> 龙志云 | AQ148: =VLOOKUP($B148,[2]高二上!$B:$R,6,0) -> #N/A | AR148: =VLOOKUP($B148,[2]高二上!$B:$R,7,0) -> #N/A | AS148: =VLOOKUP($B148,[2]高二上!$B:$R,8,0) -> #N/A | AT148: =VLOOKUP($B148,[2]高二上!$B:$R,9,0) -> #N/A | AU148: =VLOOKUP($B148,[2]高二上!$B:$R,10,0) -> #N/A | AV148: =VLOOKUP($B148,[2]高二上!$B:$R,11,0) -> #N/A | AW148: =VLOOKUP($B148,[2]高二上!$B:$R,12,0) -> #N/A | AX148: =VLOOKUP($B148,[2]高二上!$B:$R,13,0) -> #N/A | AY148: =VLOOKUP($B148,[2]高二上!$B:$R,14,0) -> #N/A | AZ148: =VLOOKUP($B148,[2]高二上!$B:$R,15,0) -> #N/A | BA148: =VLOOKUP($B148,[2]高二上!$B:$R,16,0) -> #N/A | BB148: =VLOOKUP($B148,[2]高二上!$B:$R,17,0) -> #N/A | BC148: =VLOOKUP($B148,[1]高一下!$B:$R,6,0) -> 96 | BD148: =VLOOKUP($B148,[1]高一下!$B:$R,7,0) -> 曹霞 | BE148: =VLOOKUP($B148,[1]高一下!$B:$R,8,0) -> 85 | BF148: =VLOOKUP($B148,[1]高一下!$B:$R,9,0) -> 次儿祝玛 | BG148: =VLOOKUP($B148,[1]高一下!$B:$R,10,0) -> 44.5 | BH148: =VLOOKUP($B148,[1]高一下!$B:$R,11,0) -> 肖秀秀 | BI148: =VLOOKUP($B148,[1]高一下!$B:$R,12,0) -> 24 | BJ148: =VLOOKUP($B148,[1]高一下!$B:$R,13,0) -> 胡伟杰 | BK148: =VLOOKUP($B148,[1]高一下!$B:$R,14,0) -> 30 | BL148: =VLOOKUP($B148,[1]高一下!$B:$R,15,0) -> 刘红 | BM148: =VLOOKUP($B148,[1]高一下!$B:$R,16,0) -> 38 | BN148: =VLOOKUP($B148,[1]高一下!$B:$R,17,0) -> 龙志云 | BO148: =VLOOKUP($B148,[1]高一上!$B:$W,5,0) -> 81 | BP148: =VLOOKUP($B148,[1]高一上!$B:$W,6,0) -> 刘玲君 | BQ148: =VLOOKUP($B148,[1]高一上!$B:$W,7,0) -> 65 | BR148: =VLOOKUP($B148,[1]高一上!$B:$W,8,0) -> 陈强 | BS148: =VLOOKUP($B148,[1]高一上!$B:$W,9,0) -> 67.5 | BT148: =VLOOKUP($B148,[1]高一上!$B:$W,10,0) -> 车梦德 | BU148: =VLOOKUP($B148,[1]高一上!$B:$W,11,0) -> 22 | BV148: =VLOOKUP($B148,[1]高一上!$B:$W,12,0) -> 0 | BW148: =VLOOKUP($B148,[1]高一上!$B:$W,13,0) -> 39.5 | BX148: =VLOOKUP($B148,[1]高一上!$B:$W,14,0) -> 0 | BY148: =VLOOKUP($B148,[1]高一上!$B:$W,15,0) -> 41 | BZ148: =VLOOKUP($B148,[1]高一上!$B:$W,16,0) -> 0 | CA148: =VLOOKUP($B148,[1]中考!$B:$N,5,0) -> 112 | CB148: =VLOOKUP($B148,[1]中考!$B:$N,6,0) -> 72 | CC148: =VLOOKUP($B148,[1]中考!$B:$N,7,0) -> 103 | CD148: =VLOOKUP($B148,[1]中考!$B:$N,8,0) -> 37 | CE148: =VLOOKUP($B148,[1]中考!$B:$N,9,0) -> 30 | CF148: =VLOOKUP($B148,[1]中考!$B:$N,10,0) -> 44
A149: 513422200407157018 | B149: G513422200407157018 | C149: 05 | D149: 理科 | E149: 格绒其比 | F149: 433 | G149: 97 | H149: 李志友 | I149: 94 | J149: 次儿祝玛 | K149: 30 | L149: 肖秀秀 | M149: 63 | N149: 胡伟杰 | O149: 71 | P149: 郑强秋 | Q149: 78 | R149: 张斯杰 | S149: =VLOOKUP(B149,[1]高三上!$B:$R,6,0) -> 96.5 | T149: 李志友 | U149: 22 | V149: 次儿祝玛 | W149: 41 | X149: 肖秀秀 | Y149: 20.5 | Z149: 胡伟杰 | AA149: 25 | AB149: 郑强秋 | AC149: 47.5 | AD149: =VLOOKUP($B149,[1]高三上!$B:$R,17,0) -> 龙志云 | AE149: =VLOOKUP($B149,[1]高二下!$B:$R,6,0) -> 74.0 | AF149: =VLOOKUP($B149,[1]高二下!$B:$R,7,0) -> 李志友 | AG149: =VLOOKUP($B149,[1]高二下!$B:$R,8,0) -> 29.0 | AH149: =VLOOKUP($B149,[1]高二下!$B:$R,9,0) -> 次儿祝玛 | AI149: =VLOOKUP($B149,[1]高二下!$B:$R,10,0) -> 53.0 | AJ149: =VLOOKUP($B149,[1]高二下!$B:$R,11,0) -> 肖秀秀 | AK149: =VLOOKUP($B149,[1]高二下!$B:$R,12,0) -> 69.0 | AL149: =VLOOKUP($B149,[1]高二下!$B:$R,13,0) -> 胡伟杰 | AM149: =VLOOKUP($B149,[1]高二下!$B:$R,14,0) -> 67.0 | AN149: =VLOOKUP($B149,[1]高二下!$B:$R,15,0) -> 邱宗兰 | AO149: =VLOOKUP($B149,[1]高二下!$B:$R,16,0) -> 117.0 | AP149: =VLOOKUP($B149,[1]高二下!$B:$R,17,0) -> 龙志云 | AQ149: =VLOOKUP($B149,[2]高二上!$B:$R,6,0) -> #N/A | AR149: =VLOOKUP($B149,[2]高二上!$B:$R,7,0) -> #N/A | AS149: =VLOOKUP($B149,[2]高二上!$B:$R,8,0) -> #N/A | AT149: =VLOOKUP($B149,[2]高二上!$B:$R,9,0) -> #N/A | AU149: =VLOOKUP($B149,[2]高二上!$B:$R,10,0) -> #N/A | AV149: =VLOOKUP($B149,[2]高二上!$B:$R,11,0) -> #N/A | AW149: =VLOOKUP($B149,[2]高二上!$B:$R,12,0) -> #N/A | AX149: =VLOOKUP($B149,[2]高二上!$B:$R,13,0) -> #N/A | AY149: =VLOOKUP($B149,[2]高二上!$B:$R,14,0) -> #N/A | AZ149: =VLOOKUP($B149,[2]高二上!$B:$R,15,0) -> #N/A | BA149: =VLOOKUP($B149,[2]高二上!$B:$R,16,0) -> #N/A | BB149: =VLOOKUP($B149,[2]高二上!$B:$R,17,0) -> #N/A | BC149: =VLOOKUP($B149,[1]高一下!$B:$R,6,0) -> 80 | BD149: =VLOOKUP($B149,[1]高一下!$B:$R,7,0) -> 曹霞 | BE149: =VLOOKUP($B149,[1]高一下!$B:$R,8,0) -> 95 | BF149: =VLOOKUP($B149,[1]高一下!$B:$R,9,0) -> 次儿祝玛 | BG149: =VLOOKUP($B149,[1]高一下!$B:$R,10,0) -> 32 | BH149: =VLOOKUP($B149,[1]高一下!$B:$R,11,0) -> 肖秀秀 | BI149: =VLOOKUP($B149,[1]高一下!$B:$R,12,0) -> 57 | BJ149: =VLOOKUP($B149,[1]高一下!$B:$R,13,0) -> 胡伟杰 | BK149: =VLOOKUP($B149,[1]高一下!$B:$R,14,0) -> 63 | BL149: =VLOOKUP($B149,[1]高一下!$B:$R,15,0) -> 刘红 | BM149: =VLOOKUP($B149,[1]高一下!$B:$R,16,0) -> 43 | BN149: =VLOOKUP($B149,[1]高一下!$B:$R,17,0) -> 龙志云 | BO149: =VLOOKUP($B149,[1]高一上!$B:$W,5,0) -> 68.5 | BP149: =VLOOKUP($B149,[1]高一上!$B:$W,6,0) -> 曹霞 | BQ149: =VLOOKUP($B149,[1]高一上!$B:$W,7,0) -> 81 | BR149: =VLOOKUP($B149,[1]高一上!$B:$W,8,0) -> 次儿祝玛 | BS149: =VLOOKUP($B149,[1]高一上!$B:$W,9,0) -> 26 | BT149: =VLOOKUP($B149,[1]高一上!$B:$W,10,0) -> 肖秀秀 | BU149: =VLOOKUP($B149,[1]高一上!$B:$W,11,0) -> 57.5 | BV149: =VLOOKUP($B149,[1]高一上!$B:$W,12,0) -> 胡伟杰 | BW149: =VLOOKUP($B149,[1]高一上!$B:$W,13,0) -> 55 | BX149: =VLOOKUP($B149,[1]高一上!$B:$W,14,0) -> 刘红 | BY149: =VLOOKUP($B149,[1]高一上!$B:$W,15,0) -> 61 | BZ149: =VLOOKUP($B149,[1]高一上!$B:$W,16,0) -> 龙志云 | CA149: =VLOOKUP($B149,[1]中考!$B:$N,5,0) -> 97 | CB149: =VLOOKUP($B149,[1]中考!$B:$N,6,0) -> 117 | CC149: =VLOOKUP($B149,[1]中考!$B:$N,7,0) -> 35 | CD149: =VLOOKUP($B149,[1]中考!$B:$N,8,0) -> 52 | CE149: =VLOOKUP($B149,[1]中考!$B:$N,9,0) -> 33 | CF149: =VLOOKUP($B149,[1]中考!$B:$N,10,0) -> 34
A150: 513422200701130027 | B150: G513422200701130027 | C150: 05 | D150: 理科 | E150: 降初祝玛 | F150: 429 | G150: 95 | H150: 李志友 | I150: 72 | J150: 次儿祝玛 | K150: 82 | L150: 肖秀秀 | M150: 42.5 | N150: 胡伟杰 | O150: 66.5 | P150: 郑强秋 | Q150: 70.5 | R150: 张斯杰 | S150: =VLOOKUP(B150,[1]高三上!$B:$R,6,0) -> 88.5 | T150: 龚霞 | U150: 41 | V150: 扎拉 | W150: 53 | X150: 冷开艳 | Y150: 28.5 | Z150: 胡伟杰 | AA150: 15.5 | AB150: 邱宗兰 | AC150: 35 | AD150: =VLOOKUP($B150,[1]高三上!$B:$R,17,0) -> 龙志云 | AE150: =VLOOKUP($B150,[1]高二下!$B:$R,6,0) -> 85.0 | AF150: =VLOOKUP($B150,[1]高二下!$B:$R,7,0) -> 李志友 | AG150: =VLOOKUP($B150,[1]高二下!$B:$R,8,0) -> 74.5 | AH150: =VLOOKUP($B150,[1]高二下!$B:$R,9,0) -> 次儿祝玛 | AI150: =VLOOKUP($B150,[1]高二下!$B:$R,10,0) -> 17.0 | AJ150: =VLOOKUP($B150,[1]高二下!$B:$R,11,0) -> 肖秀秀 | AK150: =VLOOKUP($B150,[1]高二下!$B:$R,12,0) -> 28.0 | AL150: =VLOOKUP($B150,[1]高二下!$B:$R,13,0) -> 胡伟杰 | AM150: =VLOOKUP($B150,[1]高二下!$B:$R,14,0) -> 45.0 | AN150: =VLOOKUP($B150,[1]高二下!$B:$R,15,0) -> 邱宗兰 | AO150: =VLOOKUP($B150,[1]高二下!$B:$R,16,0) -> 103.0 | AP150: =VLOOKUP($B150,[1]高二下!$B:$R,17,0) -> 龙志云 | AQ150: =VLOOKUP($B150,[2]高二上!$B:$R,6,0) -> #N/A | AR150: =VLOOKUP($B150,[2]高二上!$B:$R,7,0) -> #N/A | AS150: =VLOOKUP($B150,[2]高二上!$B:$R,8,0) -> #N/A | AT150: =VLOOKUP($B150,[2]高二上!$B:$R,9,0) -> #N/A | AU150: =VLOOKUP($B150,[2]高二上!$B:$R,10,0) -> #N/A | AV150: =VLOOKUP($B150,[2]高二上!$B:$R,11,0) -> #N/A | AW150: =VLOOKUP($B150,[2]高二上!$B:$R,12,0) -> #N/A | AX150: =VLOOKUP($B150,[2]高二上!$B:$R,13,0) -> #N/A | AY150: =VLOOKUP($B150,[2]高二上!$B:$R,14,0) -> #N/A | AZ150: =VLOOKUP($B150,[2]高二上!$B:$R,15,0) -> #N/A | BA150: =VLOOKUP($B150,[2]高二上!$B:$R,16,0) -> #N/A | BB150: =VLOOKUP($B150,[2]高二上!$B:$R,17,0) -> #N/A | BC150: =VLOOKUP($B150,[1]高一下!$B:$R,6,0) -> 81 | BD150: =VLOOKUP($B150,[1]高一下!$B:$R,7,0) -> 曹霞 | BE150: =VLOOKUP($B150,[1]高一下!$B:$R,8,0) -> 92 | BF150: =VLOOKUP($B150,[1]高一下!$B:$R,9,0) -> 次儿祝玛 | BG150: =VLOOKUP($B150,[1]高一下!$B:$R,10,0) -> 55 | BH150: =VLOOKUP($B150,[1]高一下!$B:$R,11,0) -> 肖秀秀 | BI150: =VLOOKUP($B150,[1]高一下!$B:$R,12,0) -> 38 | BJ150: =VLOOKUP($B150,[1]高一下!$B:$R,13,0) -> 胡伟杰 | BK150: =VLOOKUP($B150,[1]高一下!$B:$R,14,0) -> 29 | BL150: =VLOOKUP($B150,[1]高一下!$B:$R,15,0) -> 刘红 | BM150: =VLOOKUP($B150,[1]高一下!$B:$R,16,0) -> 48 | BN150: =VLOOKUP($B150,[1]高一下!$B:$R,17,0) -> 龙志云 | BO150: =VLOOKUP($B150,[1]高一上!$B:$W,5,0) -> 81 | BP150: =VLOOKUP($B150,[1]高一上!$B:$W,6,0) -> 曹霞 | BQ150: =VLOOKUP($B150,[1]高一上!$B:$W,7,0) -> 63 | BR150: =VLOOKUP($B150,[1]高一上!$B:$W,8,0) -> 次儿祝玛 | BS150: =VLOOKUP($B150,[1]高一上!$B:$W,9,0) -> 68.5 | BT150: =VLOOKUP($B150,[1]高一上!$B:$W,10,0) -> 肖秀秀 | BU150: =VLOOKUP($B150,[1]高一上!$B:$W,11,0) -> 36 | BV150: =VLOOKUP($B150,[1]高一上!$B:$W,12,0) -> 胡伟杰 | BW150: =VLOOKUP($B150,[1]高一上!$B:$W,13,0) -> 42 | BX150: =VLOOKUP($B150,[1]高一上!$B:$W,14,0) -> 刘红 | BY150: =VLOOKUP($B150,[1]高一上!$B:$W,15,0) -> 33 | BZ150: =VLOOKUP($B150,[1]高一上!$B:$W,16,0) -> 龙志云 | CA150: =VLOOKUP($B150,[1]中考!$B:$N,5,0) -> 95 | CB150: =VLOOKUP($B150,[1]中考!$B:$N,6,0) -> 90 | CC150: =VLOOKUP($B150,[1]中考!$B:$N,7,0) -> 88 | CD150: =VLOOKUP($B150,[1]中考!$B:$N,8,0) -> 36 | CE150: =VLOOKUP($B150,[1]中考!$B:$N,9,0) -> 29 | CF150: =VLOOKUP($B150,[1]中考!$B:$N,10,0) -> 32
A151: 51342220040406502X | B151: G51342220040406502X | C151: 05 | D151: 理科 | E151: 仁青玛 | F151: 428 | G151: 95 | H151: 李志友 | I151: 98 | J151: 次儿祝玛 | K151: 88 | L151: 肖秀秀 | M151: 55 | N151: 胡伟杰 | O151: 48 | P151: 郑强秋 | Q151: 44 | R151: 张斯杰 | S151: =VLOOKUP(B151,[1]高三上!$B:$R,6,0) -> 91.5 | T151: 龚霞 | U151: 67 | V151: 扎拉 | W151: 50 | X151: 冷开艳 | Y151: 33 | Z151: 胡伟杰 | AA151: 39.5 | AB151: 邱宗兰 | AC151: 59.5 | AD151: =VLOOKUP($B151,[1]高三上!$B:$R,17,0) -> 龙志云 | AE151: =VLOOKUP($B151,[1]高二下!$B:$R,6,0) -> 82.0 | AF151: =VLOOKUP($B151,[1]高二下!$B:$R,7,0) -> 李志友 | AG151: =VLOOKUP($B151,[1]高二下!$B:$R,8,0) -> 77.5 | AH151: =VLOOKUP($B151,[1]高二下!$B:$R,9,0) -> 次儿祝玛 | AI151: =VLOOKUP($B151,[1]高二下!$B:$R,10,0) -> 31.0 | AJ151: =VLOOKUP($B151,[1]高二下!$B:$R,11,0) -> 肖秀秀 | AK151: =VLOOKUP($B151,[1]高二下!$B:$R,12,0) -> 37.0 | AL151: =VLOOKUP($B151,[1]高二下!$B:$R,13,0) -> 胡伟杰 | AM151: =VLOOKUP($B151,[1]高二下!$B:$R,14,0) -> 40.0 | AN151: =VLOOKUP($B151,[1]高二下!$B:$R,15,0) -> 邱宗兰 | AO151: =VLOOKUP($B151,[1]高二下!$B:$R,16,0) -> 99.0 | AP151: =VLOOKUP($B151,[1]高二下!$B:$R,17,0) -> 龙志云 | AQ151: =VLOOKUP($B151,[2]高二上!$B:$R,6,0) -> #N/A | AR151: =VLOOKUP($B151,[2]高二上!$B:$R,7,0) -> #N/A | AS151: =VLOOKUP($B151,[2]高二上!$B:$R,8,0) -> #N/A | AT151: =VLOOKUP($B151,[2]高二上!$B:$R,9,0) -> #N/A | AU151: =VLOOKUP($B151,[2]高二上!$B:$R,10,0) -> #N/A | AV151: =VLOOKUP($B151,[2]高二上!$B:$R,11,0) -> #N/A | AW151: =VLOOKUP($B151,[2]高二上!$B:$R,12,0) -> #N/A | AX151: =VLOOKUP($B151,[2]高二上!$B:$R,13,0) -> #N/A | AY151: =VLOOKUP($B151,[2]高二上!$B:$R,14,0) -> #N/A | AZ151: =VLOOKUP($B151,[2]高二上!$B:$R,15,0) -> #N/A | BA151: =VLOOKUP($B151,[2]高二上!$B:$R,16,0) -> #N/A | BB151: =VLOOKUP($B151,[2]高二上!$B:$R,17,0) -> #N/A | BC151: =VLOOKUP($B151,[1]高一下!$B:$R,6,0) -> 92 | BD151: =VLOOKUP($B151,[1]高一下!$B:$R,7,0) -> 曹霞 | BE151: =VLOOKUP($B151,[1]高一下!$B:$R,8,0) -> 109 | BF151: =VLOOKUP($B151,[1]高一下!$B:$R,9,0) -> 次儿祝玛 | BG151: =VLOOKUP($B151,[1]高一下!$B:$R,10,0) -> 62 | BH151: =VLOOKUP($B151,[1]高一下!$B:$R,11,0) -> 肖秀秀 | BI151: =VLOOKUP($B151,[1]高一下!$B:$R,12,0) -> 30 | BJ151: =VLOOKUP($B151,[1]高一下!$B:$R,13,0) -> 胡伟杰 | BK151: =VLOOKUP($B151,[1]高一下!$B:$R,14,0) -> 46 | BL151: =VLOOKUP($B151,[1]高一下!$B:$R,15,0) -> 刘红 | BM151: =VLOOKUP($B151,[1]高一下!$B:$R,16,0) -> 45 | BN151: =VLOOKUP($B151,[1]高一下!$B:$R,17,0) -> 龙志云 | BO151: =VLOOKUP($B151,[1]高一上!$B:$W,5,0) -> 77 | BP151: =VLOOKUP($B151,[1]高一上!$B:$W,6,0) -> 曹霞 | BQ151: =VLOOKUP($B151,[1]高一上!$B:$W,7,0) -> 90 | BR151: =VLOOKUP($B151,[1]高一上!$B:$W,8,0) -> 次儿祝玛 | BS151: =VLOOKUP($B151,[1]高一上!$B:$W,9,0) -> 57 | BT151: =VLOOKUP($B151,[1]高一上!$B:$W,10,0) -> 肖秀秀 | BU151: =VLOOKUP($B151,[1]高一上!$B:$W,11,0) -> 60.5 | BV151: =VLOOKUP($B151,[1]高一上!$B:$W,12,0) -> 胡伟杰 | BW151: =VLOOKUP($B151,[1]高一上!$B:$W,13,0) -> 53 | BX151: =VLOOKUP($B151,[1]高一上!$B:$W,14,0) -> 刘红 | BY151: =VLOOKUP($B151,[1]高一上!$B:$W,15,0) -> 37 | BZ151: =VLOOKUP($B151,[1]高一上!$B:$W,16,0) -> 龙志云 | CA151: =VLOOKUP($B151,[1]中考!$B:$N,5,0) -> 100 | CB151: =VLOOKUP($B151,[1]中考!$B:$N,6,0) -> 118 | CC151: =VLOOKUP($B151,[1]中考!$B:$N,7,0) -> 107 | CD151: =VLOOKUP($B151,[1]中考!$B:$N,8,0) -> 39 | CE151: =VLOOKUP($B151,[1]中考!$B:$N,9,0) -> 28 | CF151: =VLOOKUP($B151,[1]中考!$B:$N,10,0) -> 35
A152: 51342220070815251X | B152: G51342220070815251X | C152: 05 | D152: 理科 | E152: 周春行 | F152: 427 | G152: 103 | H152: 李志友 | I152: 78 | J152: 次儿祝玛 | K152: 90 | L152: 肖秀秀 | M152: 49.5 | N152: 胡伟杰 | O152: 52 | P152: 郑强秋 | Q152: 54.5 | R152: 张斯杰 | S152: =VLOOKUP(B152,[1]高三上!$B:$R,6,0) -> 102.5 | T152: =VLOOKUP(B152,[1]高三上!$B:$R,7,0) -> 李志友 | U152: =VLOOKUP(B152,[1]高三上!$B:$R,8,0) -> 81 | V152: =VLOOKUP(B152,[1]高三上!$B:$R,9,0) -> 次儿祝玛 | W152: =VLOOKUP(B152,[1]高三上!$B:$R,10,0) -> 77 | X152: =VLOOKUP(B152,[1]高三上!$B:$R,11,0) -> 肖秀秀 | Y152: =VLOOKUP(B152,[1]高三上!$B:$R,12,0) -> 21 | Z152: =VLOOKUP(B152,[1]高三上!$B:$R,13,0) -> 胡伟杰 | AA152: =VLOOKUP(B152,[1]高三上!$B:$R,14,0) -> 46 | AB152: =VLOOKUP(B152,[1]高三上!$B:$R,15,0) -> 郑强秋 | AC152: =VLOOKUP(B152,[1]高三上!$B:$R,16,0) -> 26 | AD152: =VLOOKUP($B152,[1]高三上!$B:$R,17,0) -> 龙志云 | AE152: =VLOOKUP($B152,[1]高二下!$B:$R,6,0) -> 77.0 | AF152: =VLOOKUP($B152,[1]高二下!$B:$R,7,0) -> 李志友 | AG152: =VLOOKUP($B152,[1]高二下!$B:$R,8,0) -> 89.0 | AH152: =VLOOKUP($B152,[1]高二下!$B:$R,9,0) -> 次儿祝玛 | AI152: =VLOOKUP($B152,[1]高二下!$B:$R,10,0) -> 34.0 | AJ152: =VLOOKUP($B152,[1]高二下!$B:$R,11,0) -> 肖秀秀 | AK152: =VLOOKUP($B152,[1]高二下!$B:$R,12,0) -> 28.0 | AL152: =VLOOKUP($B152,[1]高二下!$B:$R,13,0) -> 胡伟杰 | AM152: =VLOOKUP($B152,[1]高二下!$B:$R,14,0) -> 46.0 | AN152: =VLOOKUP($B152,[1]高二下!$B:$R,15,0) -> 邱宗兰 | AO152: =VLOOKUP($B152,[1]高二下!$B:$R,16,0) -> 68.0 | AP152: =VLOOKUP($B152,[1]高二下!$B:$R,17,0) -> 龙志云 | AQ152: =VLOOKUP($B152,[2]高二上!$B:$R,6,0) -> #N/A | AR152: =VLOOKUP($B152,[2]高二上!$B:$R,7,0) -> #N/A | AS152: =VLOOKUP($B152,[2]高二上!$B:$R,8,0) -> #N/A | AT152: =VLOOKUP($B152,[2]高二上!$B:$R,9,0) -> #N/A | AU152: =VLOOKUP($B152,[2]高二上!$B:$R,10,0) -> #N/A | AV152: =VLOOKUP($B152,[2]高二上!$B:$R,11,0) -> #N/A | AW152: =VLOOKUP($B152,[2]高二上!$B:$R,12,0) -> #N/A | AX152: =VLOOKUP($B152,[2]高二上!$B:$R,13,0) -> #N/A | AY152: =VLOOKUP($B152,[2]高二上!$B:$R,14,0) -> #N/A | AZ152: =VLOOKUP($B152,[2]高二上!$B:$R,15,0) -> #N/A | BA152: =VLOOKUP($B152,[2]高二上!$B:$R,16,0) -> #N/A | BB152: =VLOOKUP($B152,[2]高二上!$B:$R,17,0) -> #N/A | BC152: =VLOOKUP($B152,[1]高一下!$B:$R,6,0) -> 87 | BD152: =VLOOKUP($B152,[1]高一下!$B:$R,7,0) -> 曹霞 | BE152: =VLOOKUP($B152,[1]高一下!$B:$R,8,0) -> 85 | BF152: =VLOOKUP($B152,[1]高一下!$B:$R,9,0) -> 次儿祝玛 | BG152: =VLOOKUP($B152,[1]高一下!$B:$R,10,0) -> 65 | BH152: =VLOOKUP($B152,[1]高一下!$B:$R,11,0) -> 肖秀秀 | BI152: =VLOOKUP($B152,[1]高一下!$B:$R,12,0) -> 33 | BJ152: =VLOOKUP($B152,[1]高一下!$B:$R,13,0) -> 胡伟杰 | BK152: =VLOOKUP($B152,[1]高一下!$B:$R,14,0) -> 46 | BL152: =VLOOKUP($B152,[1]高一下!$B:$R,15,0) -> 刘红 | BM152: =VLOOKUP($B152,[1]高一下!$B:$R,16,0) -> 39 | BN152: =VLOOKUP($B152,[1]高一下!$B:$R,17,0) -> 龙志云 | BO152: =VLOOKUP($B152,[1]高一上!$B:$W,5,0) -> 80 | BP152: =VLOOKUP($B152,[1]高一上!$B:$W,6,0) -> 曹霞 | BQ152: =VLOOKUP($B152,[1]高一上!$B:$W,7,0) -> 68 | BR152: =VLOOKUP($B152,[1]高一上!$B:$W,8,0) -> 次儿祝玛 | BS152: =VLOOKUP($B152,[1]高一上!$B:$W,9,0) -> 69 | BT152: =VLOOKUP($B152,[1]高一上!$B:$W,10,0) -> 肖秀秀 | BU152: =VLOOKUP($B152,[1]高一上!$B:$W,11,0) -> 36 | BV152: =VLOOKUP($B152,[1]高一上!$B:$W,12,0) -> 胡伟杰 | BW152: =VLOOKUP($B152,[1]高一上!$B:$W,13,0) -> 46 | BX152: =VLOOKUP($B152,[1]高一上!$B:$W,14,0) -> 刘红 | BY152: =VLOOKUP($B152,[1]高一上!$B:$W,15,0) -> 41.5 | BZ152: =VLOOKUP($B152,[1]高一上!$B:$W,16,0) -> 龙志云 | CA152: =VLOOKUP($B152,[1]中考!$B:$N,5,0) -> 93 | CB152: =VLOOKUP($B152,[1]中考!$B:$N,6,0) -> 91 | CC152: =VLOOKUP($B152,[1]中考!$B:$N,7,0) -> 92 | CD152: =VLOOKUP($B152,[1]中考!$B:$N,8,0) -> 37 | CE152: =VLOOKUP($B152,[1]中考!$B:$N,9,0) -> 26 | CF152: =VLOOKUP($B152,[1]中考!$B:$N,10,0) -> 34
A153: 513422200710065829 | B153: G513422200710065829 | C153: 05 | D153: 理科 | E153: 骆微 | F153: 426 | G153: 100 | H153: 李志友 | I153: 71 | J153: 次儿祝玛 | K153: 77 | L153: 肖秀秀 | M153: 44.5 | N153: 胡伟杰 | O153: 59 | P153: 郑强秋 | Q153: 74 | R153: 张斯杰 | S153: =VLOOKUP(B153,[1]高三上!$B:$R,6,0) -> 96.5 | T153: =VLOOKUP(B153,[1]高三上!$B:$R,7,0) -> 李志友 | U153: =VLOOKUP(B153,[1]高三上!$B:$R,8,0) -> 93 | V153: =VLOOKUP(B153,[1]高三上!$B:$R,9,0) -> 次儿祝玛 | W153: =VLOOKUP(B153,[1]高三上!$B:$R,10,0) -> 60.5 | X153: =VLOOKUP(B153,[1]高三上!$B:$R,11,0) -> 肖秀秀 | Y153: =VLOOKUP(B153,[1]高三上!$B:$R,12,0) -> 48 | Z153: =VLOOKUP(B153,[1]高三上!$B:$R,13,0) -> 胡伟杰 | AA153: =VLOOKUP(B153,[1]高三上!$B:$R,14,0) -> 55 | AB153: =VLOOKUP(B153,[1]高三上!$B:$R,15,0) -> 郑强秋 | AC153: =VLOOKUP(B153,[1]高三上!$B:$R,16,0) -> 37 | AD153: =VLOOKUP($B153,[1]高三上!$B:$R,17,0) -> 龙志云 | AE153: =VLOOKUP($B153,[1]高二下!$B:$R,6,0) -> 91.0 | AF153: =VLOOKUP($B153,[1]高二下!$B:$R,7,0) -> 李志友 | AG153: =VLOOKUP($B153,[1]高二下!$B:$R,8,0) -> 69.5 | AH153: =VLOOKUP($B153,[1]高二下!$B:$R,9,0) -> 次儿祝玛 | AI153: =VLOOKUP($B153,[1]高二下!$B:$R,10,0) -> 32.0 | AJ153: =VLOOKUP($B153,[1]高二下!$B:$R,11,0) -> 肖秀秀 | AK153: =VLOOKUP($B153,[1]高二下!$B:$R,12,0) -> 48.0 | AL153: =VLOOKUP($B153,[1]高二下!$B:$R,13,0) -> 胡伟杰 | AM153: =VLOOKUP($B153,[1]高二下!$B:$R,14,0) -> 57.0 | AN153: =VLOOKUP($B153,[1]高二下!$B:$R,15,0) -> 邱宗兰 | AO153: =VLOOKUP($B153,[1]高二下!$B:$R,16,0) -> 61.0 | AP153: =VLOOKUP($B153,[1]高二下!$B:$R,17,0) -> 龙志云 | AQ153: =VLOOKUP($B153,[2]高二上!$B:$R,6,0) -> #N/A | AR153: =VLOOKUP($B153,[2]高二上!$B:$R,7,0) -> #N/A | AS153: =VLOOKUP($B153,[2]高二上!$B:$R,8,0) -> #N/A | AT153: =VLOOKUP($B153,[2]高二上!$B:$R,9,0) -> #N/A | AU153: =VLOOKUP($B153,[2]高二上!$B:$R,10,0) -> #N/A | AV153: =VLOOKUP($B153,[2]高二上!$B:$R,11,0) -> #N/A | AW153: =VLOOKUP($B153,[2]高二上!$B:$R,12,0) -> #N/A | AX153: =VLOOKUP($B153,[2]高二上!$B:$R,13,0) -> #N/A | AY153: =VLOOKUP($B153,[2]高二上!$B:$R,14,0) -> #N/A | AZ153: =VLOOKUP($B153,[2]高二上!$B:$R,15,0) -> #N/A | BA153: =VLOOKUP($B153,[2]高二上!$B:$R,16,0) -> #N/A | BB153: =VLOOKUP($B153,[2]高二上!$B:$R,17,0) -> #N/A | BC153: =VLOOKUP($B153,[1]高一下!$B:$R,6,0) -> 89 | BD153: =VLOOKUP($B153,[1]高一下!$B:$R,7,0) -> 曹霞 | BE153: =VLOOKUP($B153,[1]高一下!$B:$R,8,0) -> 82 | BF153: =VLOOKUP($B153,[1]高一下!$B:$R,9,0) -> 次儿祝玛 | BG153: =VLOOKUP($B153,[1]高一下!$B:$R,10,0) -> 72.5 | BH153: =VLOOKUP($B153,[1]高一下!$B:$R,11,0) -> 肖秀秀 | BI153: =VLOOKUP($B153,[1]高一下!$B:$R,12,0) -> 31 | BJ153: =VLOOKUP($B153,[1]高一下!$B:$R,13,0) -> 胡伟杰 | BK153: =VLOOKUP($B153,[1]高一下!$B:$R,14,0) -> 42 | BL153: =VLOOKUP($B153,[1]高一下!$B:$R,15,0) -> 刘红 | BM153: =VLOOKUP($B153,[1]高一下!$B:$R,16,0) -> 45 | BN153: =VLOOKUP($B153,[1]高一下!$B:$R,17,0) -> 龙志云 | BO153: =VLOOKUP($B153,[1]高一上!$B:$W,5,0) -> 81 | BP153: =VLOOKUP($B153,[1]高一上!$B:$W,6,0) -> 刘玲君 | BQ153: =VLOOKUP($B153,[1]高一上!$B:$W,7,0) -> 80 | BR153: =VLOOKUP($B153,[1]高一上!$B:$W,8,0) -> 陈强 | BS153: =VLOOKUP($B153,[1]高一上!$B:$W,9,0) -> 59 | BT153: =VLOOKUP($B153,[1]高一上!$B:$W,10,0) -> 车梦德 | BU153: =VLOOKUP($B153,[1]高一上!$B:$W,11,0) -> 36.5 | BV153: =VLOOKUP($B153,[1]高一上!$B:$W,12,0) -> 0 | BW153: =VLOOKUP($B153,[1]高一上!$B:$W,13,0) -> 34.5 | BX153: =VLOOKUP($B153,[1]高一上!$B:$W,14,0) -> 0 | BY153: =VLOOKUP($B153,[1]高一上!$B:$W,15,0) -> 46 | BZ153: =VLOOKUP($B153,[1]高一上!$B:$W,16,0) -> 0 | CA153: =VLOOKUP($B153,[1]中考!$B:$N,5,0) -> 100 | CB153: =VLOOKUP($B153,[1]中考!$B:$N,6,0) -> 77 | CC153: =VLOOKUP($B153,[1]中考!$B:$N,7,0) -> 97 | CD153: =VLOOKUP($B153,[1]中考!$B:$N,8,0) -> 40 | CE153: =VLOOKUP($B153,[1]中考!$B:$N,9,0) -> 23 | CF153: =VLOOKUP($B153,[1]中考!$B:$N,10,0) -> 33
A154: 513422200609272524 | B154: G513422200609272524 | C154: 05 | D154: 理科 | E154: 偏初祝玛 | F154: 422 | G154: 102 | H154: 李志友 | I154: 86 | J154: 次儿祝玛 | K154: 83 | L154: 肖秀秀 | M154: 53.5 | N154: 胡伟杰 | O154: 50 | P154: 郑强秋 | Q154: 47 | R154: 张斯杰 | S154: =VLOOKUP(B154,[1]高三上!$B:$R,6,0) -> 94.5 | T154: =VLOOKUP(B154,[1]高三上!$B:$R,7,0) -> 李志友 | U154: =VLOOKUP(B154,[1]高三上!$B:$R,8,0) -> 99 | V154: =VLOOKUP(B154,[1]高三上!$B:$R,9,0) -> 次儿祝玛 | W154: =VLOOKUP(B154,[1]高三上!$B:$R,10,0) -> 56 | X154: =VLOOKUP(B154,[1]高三上!$B:$R,11,0) -> 肖秀秀 | Y154: =VLOOKUP(B154,[1]高三上!$B:$R,12,0) -> 31.5 | Z154: =VLOOKUP(B154,[1]高三上!$B:$R,13,0) -> 胡伟杰 | AA154: =VLOOKUP(B154,[1]高三上!$B:$R,14,0) -> 38 | AB154: =VLOOKUP(B154,[1]高三上!$B:$R,15,0) -> 郑强秋 | AC154: =VLOOKUP(B154,[1]高三上!$B:$R,16,0) -> 31 | AD154: =VLOOKUP($B154,[1]高三上!$B:$R,17,0) -> 龙志云 | AE154: =VLOOKUP($B154,[1]高二下!$B:$R,6,0) -> 82.0 | AF154: =VLOOKUP($B154,[1]高二下!$B:$R,7,0) -> 李志友 | AG154: =VLOOKUP($B154,[1]高二下!$B:$R,8,0) -> 72.5 | AH154: =VLOOKUP($B154,[1]高二下!$B:$R,9,0) -> 次儿祝玛 | AI154: =VLOOKUP($B154,[1]高二下!$B:$R,10,0) -> 16.0 | AJ154: =VLOOKUP($B154,[1]高二下!$B:$R,11,0) -> 肖秀秀 | AK154: =VLOOKUP($B154,[1]高二下!$B:$R,12,0) -> 34.0 | AL154: =VLOOKUP($B154,[1]高二下!$B:$R,13,0) -> 胡伟杰 | AM154: =VLOOKUP($B154,[1]高二下!$B:$R,14,0) -> 50.0 | AN154: =VLOOKUP($B154,[1]高二下!$B:$R,15,0) -> 邱宗兰 | AO154: =VLOOKUP($B154,[1]高二下!$B:$R,16,0) -> 77.0 | AP154: =VLOOKUP($B154,[1]高二下!$B:$R,17,0) -> 龙志云 | AQ154: =VLOOKUP($B154,[2]高二上!$B:$R,6,0) -> #N/A | AR154: =VLOOKUP($B154,[2]高二上!$B:$R,7,0) -> #N/A | AS154: =VLOOKUP($B154,[2]高二上!$B:$R,8,0) -> #N/A | AT154: =VLOOKUP($B154,[2]高二上!$B:$R,9,0) -> #N/A | AU154: =VLOOKUP($B154,[2]高二上!$B:$R,10,0) -> #N/A | AV154: =VLOOKUP($B154,[2]高二上!$B:$R,11,0) -> #N/A | AW154: =VLOOKUP($B154,[2]高二上!$B:$R,12,0) -> #N/A | AX154: =VLOOKUP($B154,[2]高二上!$B:$R,13,0) -> #N/A | AY154: =VLOOKUP($B154,[2]高二上!$B:$R,14,0) -> #N/A | AZ154: =VLOOKUP($B154,[2]高二上!$B:$R,15,0) -> #N/A | BA154: =VLOOKUP($B154,[2]高二上!$B:$R,16,0) -> #N/A | BB154: =VLOOKUP($B154,[2]高二上!$B:$R,17,0) -> #N/A | BC154: =VLOOKUP($B154,[1]高一下!$B:$R,6,0) -> 97 | BD154: =VLOOKUP($B154,[1]高一下!$B:$R,7,0) -> 曹霞 | BE154: =VLOOKUP($B154,[1]高一下!$B:$R,8,0) -> 90 | BF154: =VLOOKUP($B154,[1]高一下!$B:$R,9,0) -> 次儿祝玛 | BG154: =VLOOKUP($B154,[1]高一下!$B:$R,10,0) -> 55 | BH154: =VLOOKUP($B154,[1]高一下!$B:$R,11,0) -> 肖秀秀 | BI154: =VLOOKUP($B154,[1]高一下!$B:$R,12,0) -> 44 | BJ154: =VLOOKUP($B154,[1]高一下!$B:$R,13,0) -> 胡伟杰 | BK154: =VLOOKUP($B154,[1]高一下!$B:$R,14,0) -> 52 | BL154: =VLOOKUP($B154,[1]高一下!$B:$R,15,0) -> 刘红 | BM154: =VLOOKUP($B154,[1]高一下!$B:$R,16,0) -> 32 | BN154: =VLOOKUP($B154,[1]高一下!$B:$R,17,0) -> 龙志云 | BO154: =VLOOKUP($B154,[1]高一上!$B:$W,5,0) -> 76 | BP154: =VLOOKUP($B154,[1]高一上!$B:$W,6,0) -> 曹霞 | BQ154: =VLOOKUP($B154,[1]高一上!$B:$W,7,0) -> 60.5 | BR154: =VLOOKUP($B154,[1]高一上!$B:$W,8,0) -> 次儿祝玛 | BS154: =VLOOKUP($B154,[1]高一上!$B:$W,9,0) -> 57 | BT154: =VLOOKUP($B154,[1]高一上!$B:$W,10,0) -> 肖秀秀 | BU154: =VLOOKUP($B154,[1]高一上!$B:$W,11,0) -> 32 | BV154: =VLOOKUP($B154,[1]高一上!$B:$W,12,0) -> 胡伟杰 | BW154: =VLOOKUP($B154,[1]高一上!$B:$W,13,0) -> 32 | BX154: =VLOOKUP($B154,[1]高一上!$B:$W,14,0) -> 刘红 | BY154: =VLOOKUP($B154,[1]高一上!$B:$W,15,0) -> 39 | BZ154: =VLOOKUP($B154,[1]高一上!$B:$W,16,0) -> 龙志云 | CA154: =VLOOKUP($B154,[1]中考!$B:$N,5,0) -> 97 | CB154: =VLOOKUP($B154,[1]中考!$B:$N,6,0) -> 89 | CC154: =VLOOKUP($B154,[1]中考!$B:$N,7,0) -> 78 | CD154: =VLOOKUP($B154,[1]中考!$B:$N,8,0) -> 34 | CE154: =VLOOKUP($B154,[1]中考!$B:$N,9,0) -> 26 | CF154: =VLOOKUP($B154,[1]中考!$B:$N,10,0) -> 31
A155: 513422200408024217 | B155: G513422200408024217 | C155: 05 | D155: 理科 | E155: 边玛次尔 | F155: 416 | G155: 89 | H155: 李志友 | I155: 81 | J155: 次儿祝玛 | K155: 74 | L155: 肖秀秀 | M155: 57 | N155: 胡伟杰 | O155: 56.5 | P155: 郑强秋 | Q155: 58 | R155: 张斯杰 | S155: =VLOOKUP(B155,[1]高三上!$B:$R,6,0) -> 97.5 | T155: =VLOOKUP(B155,[1]高三上!$B:$R,7,0) -> 李志友 | U155: =VLOOKUP(B155,[1]高三上!$B:$R,8,0) -> 94 | V155: =VLOOKUP(B155,[1]高三上!$B:$R,9,0) -> 次儿祝玛 | W155: =VLOOKUP(B155,[1]高三上!$B:$R,10,0) -> 65 | X155: =VLOOKUP(B155,[1]高三上!$B:$R,11,0) -> 肖秀秀 | Y155: =VLOOKUP(B155,[1]高三上!$B:$R,12,0) -> 29 | Z155: =VLOOKUP(B155,[1]高三上!$B:$R,13,0) -> 胡伟杰 | AA155: =VLOOKUP(B155,[1]高三上!$B:$R,14,0) -> 51 | AB155: =VLOOKUP(B155,[1]高三上!$B:$R,15,0) -> 郑强秋 | AC155: =VLOOKUP(B155,[1]高三上!$B:$R,16,0) -> 46 | AD155: =VLOOKUP($B155,[1]高三上!$B:$R,17,0) -> 龙志云 | AE155: =VLOOKUP($B155,[1]高二下!$B:$R,6,0) -> 84.0 | AF155: =VLOOKUP($B155,[1]高二下!$B:$R,7,0) -> 李志友 | AG155: =VLOOKUP($B155,[1]高二下!$B:$R,8,0) -> 54.0 | AH155: =VLOOKUP($B155,[1]高二下!$B:$R,9,0) -> 次儿祝玛 | AI155: =VLOOKUP($B155,[1]高二下!$B:$R,10,0) -> 27.0 | AJ155: =VLOOKUP($B155,[1]高二下!$B:$R,11,0) -> 肖秀秀 | AK155: =VLOOKUP($B155,[1]高二下!$B:$R,12,0) -> 43.0 | AL155: =VLOOKUP($B155,[1]高二下!$B:$R,13,0) -> 胡伟杰 | AM155: =VLOOKUP($B155,[1]高二下!$B:$R,14,0) -> 49.0 | AN155: =VLOOKUP($B155,[1]高二下!$B:$R,15,0) -> 邱宗兰 | AO155: =VLOOKUP($B155,[1]高二下!$B:$R,16,0) -> 89.0 | AP155: =VLOOKUP($B155,[1]高二下!$B:$R,17,0) -> 龙志云 | AQ155: =VLOOKUP($B155,[2]高二上!$B:$R,6,0) -> #N/A | AR155: =VLOOKUP($B155,[2]高二上!$B:$R,7,0) -> #N/A | AS155: =VLOOKUP($B155,[2]高二上!$B:$R,8,0) -> #N/A | AT155: =VLOOKUP($B155,[2]高二上!$B:$R,9,0) -> #N/A | AU155: =VLOOKUP($B155,[2]高二上!$B:$R,10,0) -> #N/A | AV155: =VLOOKUP($B155,[2]高二上!$B:$R,11,0) -> #N/A | AW155: =VLOOKUP($B155,[2]高二上!$B:$R,12,0) -> #N/A | AX155: =VLOOKUP($B155,[2]高二上!$B:$R,13,0) -> #N/A | AY155: =VLOOKUP($B155,[2]高二上!$B:$R,14,0) -> #N/A | AZ155: =VLOOKUP($B155,[2]高二上!$B:$R,15,0) -> #N/A | BA155: =VLOOKUP($B155,[2]高二上!$B:$R,16,0) -> #N/A | BB155: =VLOOKUP($B155,[2]高二上!$B:$R,17,0) -> #N/A | BC155: =VLOOKUP($B155,[1]高一下!$B:$R,6,0) -> 91 | BD155: =VLOOKUP($B155,[1]高一下!$B:$R,7,0) -> 曹霞 | BE155: =VLOOKUP($B155,[1]高一下!$B:$R,8,0) -> 80 | BF155: =VLOOKUP($B155,[1]高一下!$B:$R,9,0) -> 次儿祝玛 | BG155: =VLOOKUP($B155,[1]高一下!$B:$R,10,0) -> 41 | BH155: =VLOOKUP($B155,[1]高一下!$B:$R,11,0) -> 肖秀秀 | BI155: =VLOOKUP($B155,[1]高一下!$B:$R,12,0) -> 42 | BJ155: =VLOOKUP($B155,[1]高一下!$B:$R,13,0) -> 胡伟杰 | BK155: =VLOOKUP($B155,[1]高一下!$B:$R,14,0) -> 36 | BL155: =VLOOKUP($B155,[1]高一下!$B:$R,15,0) -> 刘红 | BM155: =VLOOKUP($B155,[1]高一下!$B:$R,16,0) -> 40 | BN155: =VLOOKUP($B155,[1]高一下!$B:$R,17,0) -> 龙志云 | BO155: =VLOOKUP($B155,[1]高一上!$B:$W,5,0) -> 85.5 | BP155: =VLOOKUP($B155,[1]高一上!$B:$W,6,0) -> 曹霞 | BQ155: =VLOOKUP($B155,[1]高一上!$B:$W,7,0) -> 57 | BR155: =VLOOKUP($B155,[1]高一上!$B:$W,8,0) -> 次儿祝玛 | BS155: =VLOOKUP($B155,[1]高一上!$B:$W,9,0) -> 50.5 | BT155: =VLOOKUP($B155,[1]高一上!$B:$W,10,0) -> 肖秀秀 | BU155: =VLOOKUP($B155,[1]高一上!$B:$W,11,0) -> 35 | BV155: =VLOOKUP($B155,[1]高一上!$B:$W,12,0) -> 胡伟杰 | BW155: =VLOOKUP($B155,[1]高一上!$B:$W,13,0) -> 38 | BX155: =VLOOKUP($B155,[1]高一上!$B:$W,14,0) -> 刘红 | BY155: =VLOOKUP($B155,[1]高一上!$B:$W,15,0) -> 47 | BZ155: =VLOOKUP($B155,[1]高一上!$B:$W,16,0) -> 龙志云 | CA155: =VLOOKUP($B155,[1]中考!$B:$N,5,0) -> 93 | CB155: =VLOOKUP($B155,[1]中考!$B:$N,6,0) -> 91 | CC155: =VLOOKUP($B155,[1]中考!$B:$N,7,0) -> 76 | CD155: =VLOOKUP($B155,[1]中考!$B:$N,8,0) -> 43 | CE155: =VLOOKUP($B155,[1]中考!$B:$N,9,0) -> 30 | CF155: =VLOOKUP($B155,[1]中考!$B:$N,10,0) -> 35
A156: 513422200312034226 | B156: G513422200312034226 | C156: 05 | D156: 理科 | E156: 扎西祝玛 | F156: 411 | G156: 100 | H156: 李志友 | I156: 78 | J156: 次儿祝玛 | K156: 82 | L156: 肖秀秀 | M156: 42.5 | N156: 胡伟杰 | O156: 48.5 | P156: 郑强秋 | Q156: 59.5 | R156: 张斯杰 | S156: =VLOOKUP(B156,[1]高三上!$B:$R,6,0) -> 90 | T156: =VLOOKUP(B156,[1]高三上!$B:$R,7,0) -> 李志友 | U156: =VLOOKUP(B156,[1]高三上!$B:$R,8,0) -> 90 | V156: =VLOOKUP(B156,[1]高三上!$B:$R,9,0) -> 次儿祝玛 | W156: =VLOOKUP(B156,[1]高三上!$B:$R,10,0) -> 69.5 | X156: =VLOOKUP(B156,[1]高三上!$B:$R,11,0) -> 肖秀秀 | Y156: =VLOOKUP(B156,[1]高三上!$B:$R,12,0) -> 20 | Z156: =VLOOKUP(B156,[1]高三上!$B:$R,13,0) -> 胡伟杰 | AA156: =VLOOKUP(B156,[1]高三上!$B:$R,14,0) -> 41 | AB156: =VLOOKUP(B156,[1]高三上!$B:$R,15,0) -> 郑强秋 | AC156: =VLOOKUP(B156,[1]高三上!$B:$R,16,0) -> 37 | AD156: =VLOOKUP($B156,[1]高三上!$B:$R,17,0) -> 龙志云 | AE156: =VLOOKUP($B156,[1]高二下!$B:$R,6,0) -> 101.0 | AF156: =VLOOKUP($B156,[1]高二下!$B:$R,7,0) -> 李志友 | AG156: =VLOOKUP($B156,[1]高二下!$B:$R,8,0) -> 97.5 | AH156: =VLOOKUP($B156,[1]高二下!$B:$R,9,0) -> 次儿祝玛 | AI156: =VLOOKUP($B156,[1]高二下!$B:$R,10,0) -> 31.0 | AJ156: =VLOOKUP($B156,[1]高二下!$B:$R,11,0) -> 肖秀秀 | AK156: =VLOOKUP($B156,[1]高二下!$B:$R,12,0) -> 38.0 | AL156: =VLOOKUP($B156,[1]高二下!$B:$R,13,0) -> 胡伟杰 | AM156: =VLOOKUP($B156,[1]高二下!$B:$R,14,0) -> 66.0 | AN156: =VLOOKUP($B156,[1]高二下!$B:$R,15,0) -> 邱宗兰 | AO156: =VLOOKUP($B156,[1]高二下!$B:$R,16,0) -> 99.0 | AP156: =VLOOKUP($B156,[1]高二下!$B:$R,17,0) -> 龙志云 | AQ156: =VLOOKUP($B156,[2]高二上!$B:$R,6,0) -> #N/A | AR156: =VLOOKUP($B156,[2]高二上!$B:$R,7,0) -> #N/A | AS156: =VLOOKUP($B156,[2]高二上!$B:$R,8,0) -> #N/A | AT156: =VLOOKUP($B156,[2]高二上!$B:$R,9,0) -> #N/A | AU156: =VLOOKUP($B156,[2]高二上!$B:$R,10,0) -> #N/A | AV156: =VLOOKUP($B156,[2]高二上!$B:$R,11,0) -> #N/A | AW156: =VLOOKUP($B156,[2]高二上!$B:$R,12,0) -> #N/A | AX156: =VLOOKUP($B156,[2]高二上!$B:$R,13,0) -> #N/A | AY156: =VLOOKUP($B156,[2]高二上!$B:$R,14,0) -> #N/A | AZ156: =VLOOKUP($B156,[2]高二上!$B:$R,15,0) -> #N/A | BA156: =VLOOKUP($B156,[2]高二上!$B:$R,16,0) -> #N/A | BB156: =VLOOKUP($B156,[2]高二上!$B:$R,17,0) -> #N/A | BC156: =VLOOKUP($B156,[1]高一下!$B:$R,6,0) -> 95 | BD156: =VLOOKUP($B156,[1]高一下!$B:$R,7,0) -> 曹霞 | BE156: =VLOOKUP($B156,[1]高一下!$B:$R,8,0) -> 92 | BF156: =VLOOKUP($B156,[1]高一下!$B:$R,9,0) -> 次儿祝玛 | BG156: =VLOOKUP($B156,[1]高一下!$B:$R,10,0) -> 58.5 | BH156: =VLOOKUP($B156,[1]高一下!$B:$R,11,0) -> 肖秀秀 | BI156: =VLOOKUP($B156,[1]高一下!$B:$R,12,0) -> 33 | BJ156: =VLOOKUP($B156,[1]高一下!$B:$R,13,0) -> 胡伟杰 | BK156: =VLOOKUP($B156,[1]高一下!$B:$R,14,0) -> 52 | BL156: =VLOOKUP($B156,[1]高一下!$B:$R,15,0) -> 刘红 | BM156: =VLOOKUP($B156,[1]高一下!$B:$R,16,0) -> 49 | BN156: =VLOOKUP($B156,[1]高一下!$B:$R,17,0) -> 龙志云 | BO156: =VLOOKUP($B156,[1]高一上!$B:$W,5,0) -> 80.5 | BP156: =VLOOKUP($B156,[1]高一上!$B:$W,6,0) -> 刘玲君 | BQ156: =VLOOKUP($B156,[1]高一上!$B:$W,7,0) -> 67 | BR156: =VLOOKUP($B156,[1]高一上!$B:$W,8,0) -> 陈强 | BS156: =VLOOKUP($B156,[1]高一上!$B:$W,9,0) -> 63 | BT156: =VLOOKUP($B156,[1]高一上!$B:$W,10,0) -> 尹英娇 | BU156: =VLOOKUP($B156,[1]高一上!$B:$W,11,0) -> 36 | BV156: =VLOOKUP($B156,[1]高一上!$B:$W,12,0) -> 0 | BW156: =VLOOKUP($B156,[1]高一上!$B:$W,13,0) -> 36 | BX156: =VLOOKUP($B156,[1]高一上!$B:$W,14,0) -> 0 | BY156: =VLOOKUP($B156,[1]高一上!$B:$W,15,0) -> 40.5 | BZ156: =VLOOKUP($B156,[1]高一上!$B:$W,16,0) -> 0 | CA156: =VLOOKUP($B156,[1]中考!$B:$N,5,0) -> 109 | CB156: =VLOOKUP($B156,[1]中考!$B:$N,6,0) -> 104 | CC156: =VLOOKUP($B156,[1]中考!$B:$N,7,0) -> 95 | CD156: =VLOOKUP($B156,[1]中考!$B:$N,8,0) -> 38 | CE156: =VLOOKUP($B156,[1]中考!$B:$N,9,0) -> 23 | CF156: =VLOOKUP($B156,[1]中考!$B:$N,10,0) -> 33
A157: 513422200508260911 | B157: G513422200508260911 | C157: 05 | D157: 理科 | E157: 杨兵 | F157: 411 | G157: 101 | H157: 李志友 | I157: 73 | J157: 次儿祝玛 | K157: 95 | L157: 肖秀秀 | M157: 46.5 | N157: 胡伟杰 | O157: 41 | P157: 郑强秋 | Q157: 54.5 | R157: 张斯杰 | S157: =VLOOKUP(B157,[1]高三上!$B:$R,6,0) -> 96 | T157: =VLOOKUP(B157,[1]高三上!$B:$R,7,0) -> 李志友 | U157: =VLOOKUP(B157,[1]高三上!$B:$R,8,0) -> 86 | V157: =VLOOKUP(B157,[1]高三上!$B:$R,9,0) -> 次儿祝玛 | W157: =VLOOKUP(B157,[1]高三上!$B:$R,10,0) -> 71 | X157: =VLOOKUP(B157,[1]高三上!$B:$R,11,0) -> 肖秀秀 | Y157: =VLOOKUP(B157,[1]高三上!$B:$R,12,0) -> 23 | Z157: =VLOOKUP(B157,[1]高三上!$B:$R,13,0) -> 胡伟杰 | AA157: =VLOOKUP(B157,[1]高三上!$B:$R,14,0) -> 26 | AB157: =VLOOKUP(B157,[1]高三上!$B:$R,15,0) -> 郑强秋 | AC157: =VLOOKUP(B157,[1]高三上!$B:$R,16,0) -> 36 | AD157: =VLOOKUP($B157,[1]高三上!$B:$R,17,0) -> 龙志云 | AE157: =VLOOKUP($B157,[1]高二下!$B:$R,6,0) -> 86.0 | AF157: =VLOOKUP($B157,[1]高二下!$B:$R,7,0) -> 李志友 | AG157: =VLOOKUP($B157,[1]高二下!$B:$R,8,0) -> 86.5 | AH157: =VLOOKUP($B157,[1]高二下!$B:$R,9,0) -> 次儿祝玛 | AI157: =VLOOKUP($B157,[1]高二下!$B:$R,10,0) -> 17.0 | AJ157: =VLOOKUP($B157,[1]高二下!$B:$R,11,0) -> 肖秀秀 | AK157: =VLOOKUP($B157,[1]高二下!$B:$R,12,0) -> 32.0 | AL157: =VLOOKUP($B157,[1]高二下!$B:$R,13,0) -> 胡伟杰 | AM157: =VLOOKUP($B157,[1]高二下!$B:$R,14,0) -> 41.0 | AN157: =VLOOKUP($B157,[1]高二下!$B:$R,15,0) -> 邱宗兰 | AO157: =VLOOKUP($B157,[1]高二下!$B:$R,16,0) -> 75.0 | AP157: =VLOOKUP($B157,[1]高二下!$B:$R,17,0) -> 龙志云 | AQ157: =VLOOKUP($B157,[2]高二上!$B:$R,6,0) -> #N/A | AR157: =VLOOKUP($B157,[2]高二上!$B:$R,7,0) -> #N/A | AS157: =VLOOKUP($B157,[2]高二上!$B:$R,8,0) -> #N/A | AT157: =VLOOKUP($B157,[2]高二上!$B:$R,9,0) -> #N/A | AU157: =VLOOKUP($B157,[2]高二上!$B:$R,10,0) -> #N/A | AV157: =VLOOKUP($B157,[2]高二上!$B:$R,11,0) -> #N/A | AW157: =VLOOKUP($B157,[2]高二上!$B:$R,12,0) -> #N/A | AX157: =VLOOKUP($B157,[2]高二上!$B:$R,13,0) -> #N/A | AY157: =VLOOKUP($B157,[2]高二上!$B:$R,14,0) -> #N/A | AZ157: =VLOOKUP($B157,[2]高二上!$B:$R,15,0) -> #N/A | BA157: =VLOOKUP($B157,[2]高二上!$B:$R,16,0) -> #N/A | BB157: =VLOOKUP($B157,[2]高二上!$B:$R,17,0) -> #N/A | BC157: =VLOOKUP($B157,[1]高一下!$B:$R,6,0) -> 77 | BD157: =VLOOKUP($B157,[1]高一下!$B:$R,7,0) -> 曹霞 | BE157: =VLOOKUP($B157,[1]高一下!$B:$R,8,0) -> 61 | BF157: =VLOOKUP($B157,[1]高一下!$B:$R,9,0) -> 次儿祝玛 | BG157: =VLOOKUP($B157,[1]高一下!$B:$R,10,0) -> 61 | BH157: =VLOOKUP($B157,[1]高一下!$B:$R,11,0) -> 肖秀秀 | BI157: =VLOOKUP($B157,[1]高一下!$B:$R,12,0) -> 40 | BJ157: =VLOOKUP($B157,[1]高一下!$B:$R,13,0) -> 胡伟杰 | BK157: =VLOOKUP($B157,[1]高一下!$B:$R,14,0) -> 27 | BL157: =VLOOKUP($B157,[1]高一下!$B:$R,15,0) -> 刘红 | BM157: =VLOOKUP($B157,[1]高一下!$B:$R,16,0) -> 31 | BN157: =VLOOKUP($B157,[1]高一下!$B:$R,17,0) -> 龙志云 | BO157: =VLOOKUP($B157,[1]高一上!$B:$W,5,0) -> 76 | BP157: =VLOOKUP($B157,[1]高一上!$B:$W,6,0) -> 曹霞 | BQ157: =VLOOKUP($B157,[1]高一上!$B:$W,7,0) -> 63 | BR157: =VLOOKUP($B157,[1]高一上!$B:$W,8,0) -> 次儿祝玛 | BS157: =VLOOKUP($B157,[1]高一上!$B:$W,9,0) -> 62 | BT157: =VLOOKUP($B157,[1]高一上!$B:$W,10,0) -> 肖秀秀 | BU157: =VLOOKUP($B157,[1]高一上!$B:$W,11,0) -> 26 | BV157: =VLOOKUP($B157,[1]高一上!$B:$W,12,0) -> 胡伟杰 | BW157: =VLOOKUP($B157,[1]高一上!$B:$W,13,0) -> 27.5 | BX157: =VLOOKUP($B157,[1]高一上!$B:$W,14,0) -> 刘红 | BY157: =VLOOKUP($B157,[1]高一上!$B:$W,15,0) -> 24.5 | BZ157: =VLOOKUP($B157,[1]高一上!$B:$W,16,0) -> 龙志云 | CA157: =VLOOKUP($B157,[1]中考!$B:$N,5,0) -> 106 | CB157: =VLOOKUP($B157,[1]中考!$B:$N,6,0) -> 87 | CC157: =VLOOKUP($B157,[1]中考!$B:$N,7,0) -> 90 | CD157: =VLOOKUP($B157,[1]中考!$B:$N,8,0) -> 37 | CE157: =VLOOKUP($B157,[1]中考!$B:$N,9,0) -> 24 | CF157: =VLOOKUP($B157,[1]中考!$B:$N,10,0) -> 31
A158: 513422200410256017 | B158: G513422200410256017 | C158: 05 | D158: 理科 | E158: 扎什次尔 | F158: 402 | G158: 101 | H158: 李志友 | I158: 61 | J158: 次儿祝玛 | K158: 88 | L158: 肖秀秀 | M158: 37.5 | N158: 胡伟杰 | O158: 50 | P158: 郑强秋 | Q158: 64.5 | R158: 张斯杰 | S158: =VLOOKUP(B158,[1]高三上!$B:$R,6,0) -> 102 | T158: =VLOOKUP(B158,[1]高三上!$B:$R,7,0) -> 李志友 | U158: =VLOOKUP(B158,[1]高三上!$B:$R,8,0) -> 58 | V158: =VLOOKUP(B158,[1]高三上!$B:$R,9,0) -> 次儿祝玛 | W158: =VLOOKUP(B158,[1]高三上!$B:$R,10,0) -> 46.5 | X158: =VLOOKUP(B158,[1]高三上!$B:$R,11,0) -> 肖秀秀 | Y158: =VLOOKUP(B158,[1]高三上!$B:$R,12,0) -> 29 | Z158: =VLOOKUP(B158,[1]高三上!$B:$R,13,0) -> 胡伟杰 | AA158: =VLOOKUP(B158,[1]高三上!$B:$R,14,0) -> 41 | AB158: =VLOOKUP(B158,[1]高三上!$B:$R,15,0) -> 郑强秋 | AC158: =VLOOKUP(B158,[1]高三上!$B:$R,16,0) -> 35 | AD158: =VLOOKUP($B158,[1]高三上!$B:$R,17,0) -> 龙志云 | AE158: =VLOOKUP($B158,[1]高二下!$B:$R,6,0) -> 88.0 | AF158: =VLOOKUP($B158,[1]高二下!$B:$R,7,0) -> 李志友 | AG158: =VLOOKUP($B158,[1]高二下!$B:$R,8,0) -> 76.0 | AH158: =VLOOKUP($B158,[1]高二下!$B:$R,9,0) -> 次儿祝玛 | AI158: =VLOOKUP($B158,[1]高二下!$B:$R,10,0) -> 24.0 | AJ158: =VLOOKUP($B158,[1]高二下!$B:$R,11,0) -> 肖秀秀 | AK158: =VLOOKUP($B158,[1]高二下!$B:$R,12,0) -> 16.0 | AL158: =VLOOKUP($B158,[1]高二下!$B:$R,13,0) -> 胡伟杰 | AM158: =VLOOKUP($B158,[1]高二下!$B:$R,14,0) -> 47.0 | AN158: =VLOOKUP($B158,[1]高二下!$B:$R,15,0) -> 邱宗兰 | AO158: =VLOOKUP($B158,[1]高二下!$B:$R,16,0) -> 61.0 | AP158: =VLOOKUP($B158,[1]高二下!$B:$R,17,0) -> 龙志云 | AQ158: =VLOOKUP($B158,[2]高二上!$B:$R,6,0) -> #N/A | AR158: =VLOOKUP($B158,[2]高二上!$B:$R,7,0) -> #N/A | AS158: =VLOOKUP($B158,[2]高二上!$B:$R,8,0) -> #N/A | AT158: =VLOOKUP($B158,[2]高二上!$B:$R,9,0) -> #N/A | AU158: =VLOOKUP($B158,[2]高二上!$B:$R,10,0) -> #N/A | AV158: =VLOOKUP($B158,[2]高二上!$B:$R,11,0) -> #N/A | AW158: =VLOOKUP($B158,[2]高二上!$B:$R,12,0) -> #N/A | AX158: =VLOOKUP($B158,[2]高二上!$B:$R,13,0) -> #N/A | AY158: =VLOOKUP($B158,[2]高二上!$B:$R,14,0) -> #N/A | AZ158: =VLOOKUP($B158,[2]高二上!$B:$R,15,0) -> #N/A | BA158: =VLOOKUP($B158,[2]高二上!$B:$R,16,0) -> #N/A | BB158: =VLOOKUP($B158,[2]高二上!$B:$R,17,0) -> #N/A | BC158: =VLOOKUP($B158,[1]高一下!$B:$R,6,0) -> 80 | BD158: =VLOOKUP($B158,[1]高一下!$B:$R,7,0) -> 曹霞 | BE158: =VLOOKUP($B158,[1]高一下!$B:$R,8,0) -> 84 | BF158: =VLOOKUP($B158,[1]高一下!$B:$R,9,0) -> 次儿祝玛 | BG158: =VLOOKUP($B158,[1]高一下!$B:$R,10,0) -> 66.5 | BH158: =VLOOKUP($B158,[1]高一下!$B:$R,11,0) -> 肖秀秀 | BI158: =VLOOKUP($B158,[1]高一下!$B:$R,12,0) -> 27 | BJ158: =VLOOKUP($B158,[1]高一下!$B:$R,13,0) -> 胡伟杰 | BK158: =VLOOKUP($B158,[1]高一下!$B:$R,14,0) -> 41 | BL158: =VLOOKUP($B158,[1]高一下!$B:$R,15,0) -> 刘红 | BM158: =VLOOKUP($B158,[1]高一下!$B:$R,16,0) -> 36 | BN158: =VLOOKUP($B158,[1]高一下!$B:$R,17,0) -> 龙志云 | BO158: =VLOOKUP($B158,[1]高一上!$B:$W,5,0) -> 95 | BP158: =VLOOKUP($B158,[1]高一上!$B:$W,6,0) -> 刘玲君 | BQ158: =VLOOKUP($B158,[1]高一上!$B:$W,7,0) -> 55.5 | BR158: =VLOOKUP($B158,[1]高一上!$B:$W,8,0) -> 陈强 | BS158: =VLOOKUP($B158,[1]高一上!$B:$W,9,0) -> 70.5 | BT158: =VLOOKUP($B158,[1]高一上!$B:$W,10,0) -> 尹英娇 | BU158: =VLOOKUP($B158,[1]高一上!$B:$W,11,0) -> 29 | BV158: =VLOOKUP($B158,[1]高一上!$B:$W,12,0) -> 0 | BW158: =VLOOKUP($B158,[1]高一上!$B:$W,13,0) -> 24 | BX158: =VLOOKUP($B158,[1]高一上!$B:$W,14,0) -> 0 | BY158: =VLOOKUP($B158,[1]高一上!$B:$W,15,0) -> 30.5 | BZ158: =VLOOKUP($B158,[1]高一上!$B:$W,16,0) -> 0 | CA158: =VLOOKUP($B158,[1]中考!$B:$N,5,0) -> 105 | CB158: =VLOOKUP($B158,[1]中考!$B:$N,6,0) -> 76 | CC158: =VLOOKUP($B158,[1]中考!$B:$N,7,0) -> 114 | CD158: =VLOOKUP($B158,[1]中考!$B:$N,8,0) -> 39 | CE158: =VLOOKUP($B158,[1]中考!$B:$N,9,0) -> 17 | CF158: =VLOOKUP($B158,[1]中考!$B:$N,10,0) -> 43
A159: 513422200507310016 | B159: G513422200507310016 | C159: 05 | D159: 理科 | E159: 贡孙彭措 | F159: 401 | G159: 111 | H159: 李志友 | I159: 85 | J159: 次儿祝玛 | K159: 32 | L159: 肖秀秀 | M159: 63 | N159: 胡伟杰 | O159: 44.5 | P159: 郑强秋 | Q159: 65.5 | R159: 张斯杰 | S159: 0 | T159: 李志友 | U159: 0 | V159: 次儿祝玛 | W159: 0 | X159: 肖秀秀 | Y159: 0 | Z159: 胡伟杰 | AA159: 0 | AB159: 郑强秋 | AC159: 0 | AD159: 龙志云 | AE159: =VLOOKUP($B159,[1]高二下!$B:$R,6,0) -> 89.0 | AF159: =VLOOKUP($B159,[1]高二下!$B:$R,7,0) -> 李志友 | AG159: =VLOOKUP($B159,[1]高二下!$B:$R,8,0) -> 39.0 | AH159: =VLOOKUP($B159,[1]高二下!$B:$R,9,0) -> 次儿祝玛 | AI159: =VLOOKUP($B159,[1]高二下!$B:$R,10,0) -> 41.0 | AJ159: =VLOOKUP($B159,[1]高二下!$B:$R,11,0) -> 肖秀秀 | AK159: =VLOOKUP($B159,[1]高二下!$B:$R,12,0) -> 31.0 | AL159: =VLOOKUP($B159,[1]高二下!$B:$R,13,0) -> 胡伟杰 | AM159: =VLOOKUP($B159,[1]高二下!$B:$R,14,0) -> 68.0 | AN159: =VLOOKUP($B159,[1]高二下!$B:$R,15,0) -> 邱宗兰 | AO159: =VLOOKUP($B159,[1]高二下!$B:$R,16,0) -> 70.0 | AP159: =VLOOKUP($B159,[1]高二下!$B:$R,17,0) -> 龙志云 | AQ159: =VLOOKUP($B159,[2]高二上!$B:$R,6,0) -> #N/A | AR159: =VLOOKUP($B159,[2]高二上!$B:$R,7,0) -> #N/A | AS159: =VLOOKUP($B159,[2]高二上!$B:$R,8,0) -> #N/A | AT159: =VLOOKUP($B159,[2]高二上!$B:$R,9,0) -> #N/A | AU159: =VLOOKUP($B159,[2]高二上!$B:$R,10,0) -> #N/A | AV159: =VLOOKUP($B159,[2]高二上!$B:$R,11,0) -> #N/A | AW159: =VLOOKUP($B159,[2]高二上!$B:$R,12,0) -> #N/A | AX159: =VLOOKUP($B159,[2]高二上!$B:$R,13,0) -> #N/A | AY159: =VLOOKUP($B159,[2]高二上!$B:$R,14,0) -> #N/A | AZ159: =VLOOKUP($B159,[2]高二上!$B:$R,15,0) -> #N/A | BA159: =VLOOKUP($B159,[2]高二上!$B:$R,16,0) -> #N/A | BB159: =VLOOKUP($B159,[2]高二上!$B:$R,17,0) -> #N/A | BC159: =VLOOKUP($B159,[1]高一下!$B:$R,6,0) -> 86 | BD159: =VLOOKUP($B159,[1]高一下!$B:$R,7,0) -> 曹霞 | BE159: =VLOOKUP($B159,[1]高一下!$B:$R,8,0) -> 101 | BF159: =VLOOKUP($B159,[1]高一下!$B:$R,9,0) -> 次儿祝玛 | BG159: =VLOOKUP($B159,[1]高一下!$B:$R,10,0) -> 24.5 | BH159: =VLOOKUP($B159,[1]高一下!$B:$R,11,0) -> 肖秀秀 | BI159: =VLOOKUP($B159,[1]高一下!$B:$R,12,0) -> 59 | BJ159: =VLOOKUP($B159,[1]高一下!$B:$R,13,0) -> 胡伟杰 | BK159: =VLOOKUP($B159,[1]高一下!$B:$R,14,0) -> 38 | BL159: =VLOOKUP($B159,[1]高一下!$B:$R,15,0) -> 刘红 | BM159: =VLOOKUP($B159,[1]高一下!$B:$R,16,0) -> 58 | BN159: =VLOOKUP($B159,[1]高一下!$B:$R,17,0) -> 龙志云 | BO159: =VLOOKUP($B159,[1]高一上!$B:$W,5,0) -> 71.5 | BP159: =VLOOKUP($B159,[1]高一上!$B:$W,6,0) -> 李志友 | BQ159: =VLOOKUP($B159,[1]高一上!$B:$W,7,0) -> 49 | BR159: =VLOOKUP($B159,[1]高一上!$B:$W,8,0) -> 梅桂斌 | BS159: =VLOOKUP($B159,[1]高一上!$B:$W,9,0) -> 26 | BT159: =VLOOKUP($B159,[1]高一上!$B:$W,10,0) -> 尹英娇 | BU159: =VLOOKUP($B159,[1]高一上!$B:$W,11,0) -> 62 | BV159: =VLOOKUP($B159,[1]高一上!$B:$W,12,0) -> 0 | BW159: =VLOOKUP($B159,[1]高一上!$B:$W,13,0) -> 37 | BX159: =VLOOKUP($B159,[1]高一上!$B:$W,14,0) -> 0 | BY159: =VLOOKUP($B159,[1]高一上!$B:$W,15,0) -> 66.5 | BZ159: =VLOOKUP($B159,[1]高一上!$B:$W,16,0) -> 0 | CA159: =VLOOKUP($B159,[1]中考!$B:$N,5,0) -> 0 | CB159: =VLOOKUP($B159,[1]中考!$B:$N,6,0) -> 0 | CC159: =VLOOKUP($B159,[1]中考!$B:$N,7,0) -> 0 | CD159: =VLOOKUP($B159,[1]中考!$B:$N,8,0) -> 0 | CE159: =VLOOKUP($B159,[1]中考!$B:$N,9,0) -> 0 | CF159: =VLOOKUP($B159,[1]中考!$B:$N,10,0) -> 0
A160: 513422200505063824 | B160: G513422200505063824 | C160: 05 | D160: 理科 | E160: 吴泌春 | F160: 398 | G160: 102 | H160: 李志友 | I160: 62 | J160: 次儿祝玛 | K160: 110 | L160: 肖秀秀 | M160: 40.5 | N160: 胡伟杰 | O160: 38.5 | P160: 郑强秋 | Q160: 44.5 | R160: 张斯杰 | S160: =VLOOKUP(B160,[1]高三上!$B:$R,6,0) -> 100 | T160: 李志友 | U160: =VLOOKUP(B160,[1]高三上!$B:$R,8,0) -> 77 | V160: =VLOOKUP(B160,[1]高三上!$B:$R,9,0) -> 次儿祝玛 | W160: =VLOOKUP(B160,[1]高三上!$B:$R,10,0) -> 92.5 | X160: =VLOOKUP(B160,[1]高三上!$B:$R,11,0) -> 肖秀秀 | Y160: =VLOOKUP(B160,[1]高三上!$B:$R,12,0) -> 14 | Z160: =VLOOKUP(B160,[1]高三上!$B:$R,13,0) -> 胡伟杰 | AA160: =VLOOKUP(B160,[1]高三上!$B:$R,14,0) -> 42 | AB160: =VLOOKUP(B160,[1]高三上!$B:$R,15,0) -> 郑强秋 | AC160: =VLOOKUP(B160,[1]高三上!$B:$R,16,0) -> 29 | AD160: =VLOOKUP($B160,[1]高三上!$B:$R,17,0) -> 龙志云 | AE160: =VLOOKUP($B160,[1]高二下!$B:$R,6,0) -> 80.0 | AF160: =VLOOKUP($B160,[1]高二下!$B:$R,7,0) -> 李志友 | AG160: =VLOOKUP($B160,[1]高二下!$B:$R,8,0) -> 93.0 | AH160: =VLOOKUP($B160,[1]高二下!$B:$R,9,0) -> 次儿祝玛 | AI160: =VLOOKUP($B160,[1]高二下!$B:$R,10,0) -> 23.0 | AJ160: =VLOOKUP($B160,[1]高二下!$B:$R,11,0) -> 肖秀秀 | AK160: =VLOOKUP($B160,[1]高二下!$B:$R,12,0) -> 28.0 | AL160: =VLOOKUP($B160,[1]高二下!$B:$R,13,0) -> 胡伟杰 | AM160: =VLOOKUP($B160,[1]高二下!$B:$R,14,0) -> 35.0 | AN160: =VLOOKUP($B160,[1]高二下!$B:$R,15,0) -> 邱宗兰 | AO160: =VLOOKUP($B160,[1]高二下!$B:$R,16,0) -> 98.0 | AP160: =VLOOKUP($B160,[1]高二下!$B:$R,17,0) -> 龙志云 | AQ160: =VLOOKUP($B160,[2]高二上!$B:$R,6,0) -> #N/A | AR160: =VLOOKUP($B160,[2]高二上!$B:$R,7,0) -> #N/A | AS160: =VLOOKUP($B160,[2]高二上!$B:$R,8,0) -> #N/A | AT160: =VLOOKUP($B160,[2]高二上!$B:$R,9,0) -> #N/A | AU160: =VLOOKUP($B160,[2]高二上!$B:$R,10,0) -> #N/A | AV160: =VLOOKUP($B160,[2]高二上!$B:$R,11,0) -> #N/A | AW160: =VLOOKUP($B160,[2]高二上!$B:$R,12,0) -> #N/A | AX160: =VLOOKUP($B160,[2]高二上!$B:$R,13,0) -> #N/A | AY160: =VLOOKUP($B160,[2]高二上!$B:$R,14,0) -> #N/A | AZ160: =VLOOKUP($B160,[2]高二上!$B:$R,15,0) -> #N/A | BA160: =VLOOKUP($B160,[2]高二上!$B:$R,16,0) -> #N/A | BB160: =VLOOKUP($B160,[2]高二上!$B:$R,17,0) -> #N/A | BC160: =VLOOKUP($B160,[1]高一下!$B:$R,6,0) -> 95 | BD160: =VLOOKUP($B160,[1]高一下!$B:$R,7,0) -> 曹霞 | BE160: =VLOOKUP($B160,[1]高一下!$B:$R,8,0) -> 88 | BF160: =VLOOKUP($B160,[1]高一下!$B:$R,9,0) -> 次儿祝玛 | BG160: =VLOOKUP($B160,[1]高一下!$B:$R,10,0) -> 96.5 | BH160: =VLOOKUP($B160,[1]高一下!$B:$R,11,0) -> 肖秀秀 | BI160: =VLOOKUP($B160,[1]高一下!$B:$R,12,0) -> 24 | BJ160: =VLOOKUP($B160,[1]高一下!$B:$R,13,0) -> 胡伟杰 | BK160: =VLOOKUP($B160,[1]高一下!$B:$R,14,0) -> 36 | BL160: =VLOOKUP($B160,[1]高一下!$B:$R,15,0) -> 刘红 | BM160: =VLOOKUP($B160,[1]高一下!$B:$R,16,0) -> 42 | BN160: =VLOOKUP($B160,[1]高一下!$B:$R,17,0) -> 龙志云 | BO160: =VLOOKUP($B160,[1]高一上!$B:$W,5,0) -> 85.5 | BP160: =VLOOKUP($B160,[1]高一上!$B:$W,6,0) -> 曹霞 | BQ160: =VLOOKUP($B160,[1]高一上!$B:$W,7,0) -> 63 | BR160: =VLOOKUP($B160,[1]高一上!$B:$W,8,0) -> 次儿祝玛 | BS160: =VLOOKUP($B160,[1]高一上!$B:$W,9,0) -> 72 | BT160: =VLOOKUP($B160,[1]高一上!$B:$W,10,0) -> 肖秀秀 | BU160: =VLOOKUP($B160,[1]高一上!$B:$W,11,0) -> 22 | BV160: =VLOOKUP($B160,[1]高一上!$B:$W,12,0) -> 胡伟杰 | BW160: =VLOOKUP($B160,[1]高一上!$B:$W,13,0) -> 42.5 | BX160: =VLOOKUP($B160,[1]高一上!$B:$W,14,0) -> 刘红 | BY160: =VLOOKUP($B160,[1]高一上!$B:$W,15,0) -> 32.5 | BZ160: =VLOOKUP($B160,[1]高一上!$B:$W,16,0) -> 龙志云 | CA160: =VLOOKUP($B160,[1]中考!$B:$N,5,0) -> 109 | CB160: =VLOOKUP($B160,[1]中考!$B:$N,6,0) -> 86 | CC160: =VLOOKUP($B160,[1]中考!$B:$N,7,0) -> 118 | CD160: =VLOOKUP($B160,[1]中考!$B:$N,8,0) -> 33 | CE160: =VLOOKUP($B160,[1]中考!$B:$N,9,0) -> 28 | CF160: =VLOOKUP($B160,[1]中考!$B:$N,10,0) -> 32
A161: 51342220050401502X | B161: G51342220050401502X | C161: 05 | D161: 理科 | E161: 仁青祝玛 | F161: 397 | G161: 92 | H161: 李志友 | I161: 84 | J161: 次儿祝玛 | K161: 81 | L161: 肖秀秀 | M161: 42.5 | N161: 胡伟杰 | O161: 43.5 | P161: 郑强秋 | Q161: 53.5 | R161: 张斯杰 | S161: =VLOOKUP(B161,[1]高三上!$B:$R,6,0) -> 95.5 | T161: 李志友 | U161: =VLOOKUP(B161,[1]高三上!$B:$R,8,0) -> 87 | V161: =VLOOKUP(B161,[1]高三上!$B:$R,9,0) -> 次儿祝玛 | W161: =VLOOKUP(B161,[1]高三上!$B:$R,10,0) -> 75 | X161: =VLOOKUP(B161,[1]高三上!$B:$R,11,0) -> 肖秀秀 | Y161: =VLOOKUP(B161,[1]高三上!$B:$R,12,0) -> 15 | Z161: =VLOOKUP(B161,[1]高三上!$B:$R,13,0) -> 胡伟杰 | AA161: =VLOOKUP(B161,[1]高三上!$B:$R,14,0) -> 40 | AB161: =VLOOKUP(B161,[1]高三上!$B:$R,15,0) -> 郑强秋 | AC161: =VLOOKUP(B161,[1]高三上!$B:$R,16,0) -> 34 | AD161: =VLOOKUP($B161,[1]高三上!$B:$R,17,0) -> 龙志云 | AE161: =VLOOKUP($B161,[1]高二下!$B:$R,6,0) -> 89.0 | AF161: =VLOOKUP($B161,[1]高二下!$B:$R,7,0) -> 李志友 | AG161: =VLOOKUP($B161,[1]高二下!$B:$R,8,0) -> 72.0 | AH161: =VLOOKUP($B161,[1]高二下!$B:$R,9,0) -> 次儿祝玛 | AI161: =VLOOKUP($B161,[1]高二下!$B:$R,10,0) -> 14.0 | AJ161: =VLOOKUP($B161,[1]高二下!$B:$R,11,0) -> 肖秀秀 | AK161: =VLOOKUP($B161,[1]高二下!$B:$R,12,0) -> 29.0 | AL161: =VLOOKUP($B161,[1]高二下!$B:$R,13,0) -> 胡伟杰 | AM161: =VLOOKUP($B161,[1]高二下!$B:$R,14,0) -> 36.0 | AN161: =VLOOKUP($B161,[1]高二下!$B:$R,15,0) -> 邱宗兰 | AO161: =VLOOKUP($B161,[1]高二下!$B:$R,16,0) -> 95.0 | AP161: =VLOOKUP($B161,[1]高二下!$B:$R,17,0) -> 龙志云 | AQ161: =VLOOKUP($B161,[2]高二上!$B:$R,6,0) -> #N/A | AR161: =VLOOKUP($B161,[2]高二上!$B:$R,7,0) -> #N/A | AS161: =VLOOKUP($B161,[2]高二上!$B:$R,8,0) -> #N/A | AT161: =VLOOKUP($B161,[2]高二上!$B:$R,9,0) -> #N/A | AU161: =VLOOKUP($B161,[2]高二上!$B:$R,10,0) -> #N/A | AV161: =VLOOKUP($B161,[2]高二上!$B:$R,11,0) -> #N/A | AW161: =VLOOKUP($B161,[2]高二上!$B:$R,12,0) -> #N/A | AX161: =VLOOKUP($B161,[2]高二上!$B:$R,13,0) -> #N/A | AY161: =VLOOKUP($B161,[2]高二上!$B:$R,14,0) -> #N/A | AZ161: =VLOOKUP($B161,[2]高二上!$B:$R,15,0) -> #N/A | BA161: =VLOOKUP($B161,[2]高二上!$B:$R,16,0) -> #N/A | BB161: =VLOOKUP($B161,[2]高二上!$B:$R,17,0) -> #N/A | BC161: =VLOOKUP($B161,[1]高一下!$B:$R,6,0) -> 82 | BD161: =VLOOKUP($B161,[1]高一下!$B:$R,7,0) -> 曹霞 | BE161: =VLOOKUP($B161,[1]高一下!$B:$R,8,0) -> 108 | BF161: =VLOOKUP($B161,[1]高一下!$B:$R,9,0) -> 次儿祝玛 | BG161: =VLOOKUP($B161,[1]高一下!$B:$R,10,0) -> 48.5 | BH161: =VLOOKUP($B161,[1]高一下!$B:$R,11,0) -> 肖秀秀 | BI161: =VLOOKUP($B161,[1]高一下!$B:$R,12,0) -> 28 | BJ161: =VLOOKUP($B161,[1]高一下!$B:$R,13,0) -> 胡伟杰 | BK161: =VLOOKUP($B161,[1]高一下!$B:$R,14,0) -> 36 | BL161: =VLOOKUP($B161,[1]高一下!$B:$R,15,0) -> 刘红 | BM161: =VLOOKUP($B161,[1]高一下!$B:$R,16,0) -> 27 | BN161: =VLOOKUP($B161,[1]高一下!$B:$R,17,0) -> 龙志云 | BO161: =VLOOKUP($B161,[1]高一上!$B:$W,5,0) -> 67.5 | BP161: =VLOOKUP($B161,[1]高一上!$B:$W,6,0) -> 曹霞 | BQ161: =VLOOKUP($B161,[1]高一上!$B:$W,7,0) -> 87 | BR161: =VLOOKUP($B161,[1]高一上!$B:$W,8,0) -> 次儿祝玛 | BS161: =VLOOKUP($B161,[1]高一上!$B:$W,9,0) -> 61.5 | BT161: =VLOOKUP($B161,[1]高一上!$B:$W,10,0) -> 肖秀秀 | BU161: =VLOOKUP($B161,[1]高一上!$B:$W,11,0) -> 46.5 | BV161: =VLOOKUP($B161,[1]高一上!$B:$W,12,0) -> 胡伟杰 | BW161: =VLOOKUP($B161,[1]高一上!$B:$W,13,0) -> 36 | BX161: =VLOOKUP($B161,[1]高一上!$B:$W,14,0) -> 刘红 | BY161: =VLOOKUP($B161,[1]高一上!$B:$W,15,0) -> 36.5 | BZ161: =VLOOKUP($B161,[1]高一上!$B:$W,16,0) -> 龙志云 | CA161: =VLOOKUP($B161,[1]中考!$B:$N,5,0) -> 101 | CB161: =VLOOKUP($B161,[1]中考!$B:$N,6,0) -> 106 | CC161: =VLOOKUP($B161,[1]中考!$B:$N,7,0) -> 84 | CD161: =VLOOKUP($B161,[1]中考!$B:$N,8,0) -> 39 | CE161: =VLOOKUP($B161,[1]中考!$B:$N,9,0) -> 23 | CF161: =VLOOKUP($B161,[1]中考!$B:$N,10,0) -> 28
A162: 513422200407182125 | B162: G513422200407182125 | C162: 05 | D162: 理科 | E162: 古小英 | F162: 394 | G162: 108 | H162: 李志友 | I162: 71 | J162: 次儿祝玛 | K162: 75 | L162: 肖秀秀 | M162: 30 | N162: 胡伟杰 | O162: 47 | P162: 郑强秋 | Q162: 63 | R162: 张斯杰 | S162: =VLOOKUP(B162,[1]高三上!$B:$R,6,0) -> 99 | T162: 李志友 | U162: =VLOOKUP(B162,[1]高三上!$B:$R,8,0) -> 79 | V162: =VLOOKUP(B162,[1]高三上!$B:$R,9,0) -> 次儿祝玛 | W162: =VLOOKUP(B162,[1]高三上!$B:$R,10,0) -> 55.5 | X162: =VLOOKUP(B162,[1]高三上!$B:$R,11,0) -> 肖秀秀 | Y162: =VLOOKUP(B162,[1]高三上!$B:$R,12,0) -> 24 | Z162: =VLOOKUP(B162,[1]高三上!$B:$R,13,0) -> 胡伟杰 | AA162: =VLOOKUP(B162,[1]高三上!$B:$R,14,0) -> 30 | AB162: =VLOOKUP(B162,[1]高三上!$B:$R,15,0) -> 郑强秋 | AC162: =VLOOKUP(B162,[1]高三上!$B:$R,16,0) -> 26 | AD162: =VLOOKUP($B162,[1]高三上!$B:$R,17,0) -> 龙志云 | AE162: =VLOOKUP($B162,[1]高二下!$B:$R,6,0) -> 87.0 | AF162: =VLOOKUP($B162,[1]高二下!$B:$R,7,0) -> 李志友 | AG162: =VLOOKUP($B162,[1]高二下!$B:$R,8,0) -> 62.0 | AH162: =VLOOKUP($B162,[1]高二下!$B:$R,9,0) -> 次儿祝玛 | AI162: =VLOOKUP($B162,[1]高二下!$B:$R,10,0) -> 21.0 | AJ162: =VLOOKUP($B162,[1]高二下!$B:$R,11,0) -> 肖秀秀 | AK162: =VLOOKUP($B162,[1]高二下!$B:$R,12,0) -> 13.0 | AL162: =VLOOKUP($B162,[1]高二下!$B:$R,13,0) -> 胡伟杰 | AM162: =VLOOKUP($B162,[1]高二下!$B:$R,14,0) -> 33.0 | AN162: =VLOOKUP($B162,[1]高二下!$B:$R,15,0) -> 邱宗兰 | AO162: =VLOOKUP($B162,[1]高二下!$B:$R,16,0) -> 88.0 | AP162: =VLOOKUP($B162,[1]高二下!$B:$R,17,0) -> 龙志云 | AQ162: =VLOOKUP($B162,[2]高二上!$B:$R,6,0) -> #N/A | AR162: =VLOOKUP($B162,[2]高二上!$B:$R,7,0) -> #N/A | AS162: =VLOOKUP($B162,[2]高二上!$B:$R,8,0) -> #N/A | AT162: =VLOOKUP($B162,[2]高二上!$B:$R,9,0) -> #N/A | AU162: =VLOOKUP($B162,[2]高二上!$B:$R,10,0) -> #N/A | AV162: =VLOOKUP($B162,[2]高二上!$B:$R,11,0) -> #N/A | AW162: =VLOOKUP($B162,[2]高二上!$B:$R,12,0) -> #N/A | AX162: =VLOOKUP($B162,[2]高二上!$B:$R,13,0) -> #N/A | AY162: =VLOOKUP($B162,[2]高二上!$B:$R,14,0) -> #N/A | AZ162: =VLOOKUP($B162,[2]高二上!$B:$R,15,0) -> #N/A | BA162: =VLOOKUP($B162,[2]高二上!$B:$R,16,0) -> #N/A | BB162: =VLOOKUP($B162,[2]高二上!$B:$R,17,0) -> #N/A | BC162: =VLOOKUP($B162,[1]高一下!$B:$R,6,0) -> 101 | BD162: =VLOOKUP($B162,[1]高一下!$B:$R,7,0) -> 曹霞 | BE162: =VLOOKUP($B162,[1]高一下!$B:$R,8,0) -> 87 | BF162: =VLOOKUP($B162,[1]高一下!$B:$R,9,0) -> 次儿祝玛 | BG162: =VLOOKUP($B162,[1]高一下!$B:$R,10,0) -> 48 | BH162: =VLOOKUP($B162,[1]高一下!$B:$R,11,0) -> 肖秀秀 | BI162: =VLOOKUP($B162,[1]高一下!$B:$R,12,0) -> 31 | BJ162: =VLOOKUP($B162,[1]高一下!$B:$R,13,0) -> 胡伟杰 | BK162: =VLOOKUP($B162,[1]高一下!$B:$R,14,0) -> 34 | BL162: =VLOOKUP($B162,[1]高一下!$B:$R,15,0) -> 刘红 | BM162: =VLOOKUP($B162,[1]高一下!$B:$R,16,0) -> 24 | BN162: =VLOOKUP($B162,[1]高一下!$B:$R,17,0) -> 龙志云 | BO162: =VLOOKUP($B162,[1]高一上!$B:$W,5,0) -> 82 | BP162: =VLOOKUP($B162,[1]高一上!$B:$W,6,0) -> 曹霞 | BQ162: =VLOOKUP($B162,[1]高一上!$B:$W,7,0) -> 74 | BR162: =VLOOKUP($B162,[1]高一上!$B:$W,8,0) -> 次儿祝玛 | BS162: =VLOOKUP($B162,[1]高一上!$B:$W,9,0) -> 75.5 | BT162: =VLOOKUP($B162,[1]高一上!$B:$W,10,0) -> 肖秀秀 | BU162: =VLOOKUP($B162,[1]高一上!$B:$W,11,0) -> 32 | BV162: =VLOOKUP($B162,[1]高一上!$B:$W,12,0) -> 胡伟杰 | BW162: =VLOOKUP($B162,[1]高一上!$B:$W,13,0) -> 44 | BX162: =VLOOKUP($B162,[1]高一上!$B:$W,14,0) -> 刘红 | BY162: =VLOOKUP($B162,[1]高一上!$B:$W,15,0) -> 34.5 | BZ162: =VLOOKUP($B162,[1]高一上!$B:$W,16,0) -> 龙志云 | CA162: =VLOOKUP($B162,[1]中考!$B:$N,5,0) -> 97 | CB162: =VLOOKUP($B162,[1]中考!$B:$N,6,0) -> 88 | CC162: =VLOOKUP($B162,[1]中考!$B:$N,7,0) -> 104 | CD162: =VLOOKUP($B162,[1]中考!$B:$N,8,0) -> 32 | CE162: =VLOOKUP($B162,[1]中考!$B:$N,9,0) -> 22 | CF162: =VLOOKUP($B162,[1]中考!$B:$N,10,0) -> 34
A163: 51342220020822381X | B163: G51342220020822381X | C163: 05 | D163: 理科 | E163: 马文兵 | F163: 382 | G163: 95 | H163: 李志友 | I163: 80 | J163: 次儿祝玛 | K163: 40 | L163: 肖秀秀 | M163: 48.5 | N163: 胡伟杰 | O163: 57 | P163: 郑强秋 | Q163: 61 | R163: 张斯杰 | S163: =VLOOKUP(B163,[1]高三上!$B:$R,6,0) -> 85.5 | T163: 李志友 | U163: =VLOOKUP(B163,[1]高三上!$B:$R,8,0) -> 81 | V163: =VLOOKUP(B163,[1]高三上!$B:$R,9,0) -> 次儿祝玛 | W163: =VLOOKUP(B163,[1]高三上!$B:$R,10,0) -> 41 | X163: =VLOOKUP(B163,[1]高三上!$B:$R,11,0) -> 肖秀秀 | Y163: =VLOOKUP(B163,[1]高三上!$B:$R,12,0) -> 27 | Z163: =VLOOKUP(B163,[1]高三上!$B:$R,13,0) -> 胡伟杰 | AA163: =VLOOKUP(B163,[1]高三上!$B:$R,14,0) -> 42 | AB163: =VLOOKUP(B163,[1]高三上!$B:$R,15,0) -> 郑强秋 | AC163: =VLOOKUP(B163,[1]高三上!$B:$R,16,0) -> 35 | AD163: =VLOOKUP($B163,[1]高三上!$B:$R,17,0) -> 龙志云 | AE163: =VLOOKUP($B163,[1]高二下!$B:$R,6,0) -> 87.0 | AF163: =VLOOKUP($B163,[1]高二下!$B:$R,7,0) -> 李志友 | AG163: =VLOOKUP($B163,[1]高二下!$B:$R,8,0) -> 51.5 | AH163: =VLOOKUP($B163,[1]高二下!$B:$R,9,0) -> 次儿祝玛 | AI163: =VLOOKUP($B163,[1]高二下!$B:$R,10,0) -> 27.0 | AJ163: =VLOOKUP($B163,[1]高二下!$B:$R,11,0) -> 肖秀秀 | AK163: =VLOOKUP($B163,[1]高二下!$B:$R,12,0) -> 27.0 | AL163: =VLOOKUP($B163,[1]高二下!$B:$R,13,0) -> 胡伟杰 | AM163: =VLOOKUP($B163,[1]高二下!$B:$R,14,0) -> 57.0 | AN163: =VLOOKUP($B163,[1]高二下!$B:$R,15,0) -> 邱宗兰 | AO163: =VLOOKUP($B163,[1]高二下!$B:$R,16,0) -> 100.0 | AP163: =VLOOKUP($B163,[1]高二下!$B:$R,17,0) -> 龙志云 | AQ163: =VLOOKUP($B163,[2]高二上!$B:$R,6,0) -> #N/A | AR163: =VLOOKUP($B163,[2]高二上!$B:$R,7,0) -> #N/A | AS163: =VLOOKUP($B163,[2]高二上!$B:$R,8,0) -> #N/A | AT163: =VLOOKUP($B163,[2]高二上!$B:$R,9,0) -> #N/A | AU163: =VLOOKUP($B163,[2]高二上!$B:$R,10,0) -> #N/A | AV163: =VLOOKUP($B163,[2]高二上!$B:$R,11,0) -> #N/A | AW163: =VLOOKUP($B163,[2]高二上!$B:$R,12,0) -> #N/A | AX163: =VLOOKUP($B163,[2]高二上!$B:$R,13,0) -> #N/A | AY163: =VLOOKUP($B163,[2]高二上!$B:$R,14,0) -> #N/A | AZ163: =VLOOKUP($B163,[2]高二上!$B:$R,15,0) -> #N/A | BA163: =VLOOKUP($B163,[2]高二上!$B:$R,16,0) -> #N/A | BB163: =VLOOKUP($B163,[2]高二上!$B:$R,17,0) -> #N/A | BC163: =VLOOKUP($B163,[1]高一下!$B:$R,6,0) -> 74 | BD163: =VLOOKUP($B163,[1]高一下!$B:$R,7,0) -> 曹霞 | BE163: =VLOOKUP($B163,[1]高一下!$B:$R,8,0) -> 93 | BF163: =VLOOKUP($B163,[1]高一下!$B:$R,9,0) -> 次儿祝玛 | BG163: =VLOOKUP($B163,[1]高一下!$B:$R,10,0) -> 31.5 | BH163: =VLOOKUP($B163,[1]高一下!$B:$R,11,0) -> 肖秀秀 | BI163: =VLOOKUP($B163,[1]高一下!$B:$R,12,0) -> 49 | BJ163: =VLOOKUP($B163,[1]高一下!$B:$R,13,0) -> 胡伟杰 | BK163: =VLOOKUP($B163,[1]高一下!$B:$R,14,0) -> 48 | BL163: =VLOOKUP($B163,[1]高一下!$B:$R,15,0) -> 刘红 | BM163: =VLOOKUP($B163,[1]高一下!$B:$R,16,0) -> 35 | BN163: =VLOOKUP($B163,[1]高一下!$B:$R,17,0) -> 龙志云 | BO163: =VLOOKUP($B163,[1]高一上!$B:$W,5,0) -> 81.5 | BP163: =VLOOKUP($B163,[1]高一上!$B:$W,6,0) -> 曹霞 | BQ163: =VLOOKUP($B163,[1]高一上!$B:$W,7,0) -> 71 | BR163: =VLOOKUP($B163,[1]高一上!$B:$W,8,0) -> 次儿祝玛 | BS163: =VLOOKUP($B163,[1]高一上!$B:$W,9,0) -> 40 | BT163: =VLOOKUP($B163,[1]高一上!$B:$W,10,0) -> 肖秀秀 | BU163: =VLOOKUP($B163,[1]高一上!$B:$W,11,0) -> 52 | BV163: =VLOOKUP($B163,[1]高一上!$B:$W,12,0) -> 胡伟杰 | BW163: =VLOOKUP($B163,[1]高一上!$B:$W,13,0) -> 43.5 | BX163: =VLOOKUP($B163,[1]高一上!$B:$W,14,0) -> 刘红 | BY163: =VLOOKUP($B163,[1]高一上!$B:$W,15,0) -> 58 | BZ163: =VLOOKUP($B163,[1]高一上!$B:$W,16,0) -> 龙志云 | CA163: =VLOOKUP($B163,[1]中考!$B:$N,5,0) -> 98 | CB163: =VLOOKUP($B163,[1]中考!$B:$N,6,0) -> 96 | CC163: =VLOOKUP($B163,[1]中考!$B:$N,7,0) -> 52 | CD163: =VLOOKUP($B163,[1]中考!$B:$N,8,0) -> 45 | CE163: =VLOOKUP($B163,[1]中考!$B:$N,9,0) -> 36 | CF163: =VLOOKUP($B163,[1]中考!$B:$N,10,0) -> 39
A164: 513422200305242713 | B164: G513422200305242713 | C164: 05 | D164: 理科 | E164: 沈建龙 | F164: 379 | G164: 104 | H164: 李志友 | I164: 59 | J164: 次儿祝玛 | K164: 79 | L164: 肖秀秀 | M164: 40 | N164: 胡伟杰 | O164: 39 | P164: 郑强秋 | Q164: 58 | R164: 张斯杰 | S164: =VLOOKUP(B164,[1]高三上!$B:$R,6,0) -> 88.5 | T164: 李志友 | U164: =VLOOKUP(B164,[1]高三上!$B:$R,8,0) -> 65 | V164: =VLOOKUP(B164,[1]高三上!$B:$R,9,0) -> 次儿祝玛 | W164: =VLOOKUP(B164,[1]高三上!$B:$R,10,0) -> 55.5 | X164: =VLOOKUP(B164,[1]高三上!$B:$R,11,0) -> 肖秀秀 | Y164: =VLOOKUP(B164,[1]高三上!$B:$R,12,0) -> 11 | Z164: =VLOOKUP(B164,[1]高三上!$B:$R,13,0) -> 胡伟杰 | AA164: =VLOOKUP(B164,[1]高三上!$B:$R,14,0) -> 18 | AB164: =VLOOKUP(B164,[1]高三上!$B:$R,15,0) -> 郑强秋 | AC164: =VLOOKUP(B164,[1]高三上!$B:$R,16,0) -> 41 | AD164: =VLOOKUP($B164,[1]高三上!$B:$R,17,0) -> 龙志云 | AE164: =VLOOKUP($B164,[1]高二下!$B:$R,6,0) -> 86.0 | AF164: =VLOOKUP($B164,[1]高二下!$B:$R,7,0) -> 李志友 | AG164: =VLOOKUP($B164,[1]高二下!$B:$R,8,0) -> 63.0 | AH164: =VLOOKUP($B164,[1]高二下!$B:$R,9,0) -> 次儿祝玛 | AI164: =VLOOKUP($B164,[1]高二下!$B:$R,10,0) -> 35.0 | AJ164: =VLOOKUP($B164,[1]高二下!$B:$R,11,0) -> 肖秀秀 | AK164: =VLOOKUP($B164,[1]高二下!$B:$R,12,0) -> 30.0 | AL164: =VLOOKUP($B164,[1]高二下!$B:$R,13,0) -> 胡伟杰 | AM164: =VLOOKUP($B164,[1]高二下!$B:$R,14,0) -> 54.0 | AN164: =VLOOKUP($B164,[1]高二下!$B:$R,15,0) -> 邱宗兰 | AO164: =VLOOKUP($B164,[1]高二下!$B:$R,16,0) -> 74.0 | AP164: =VLOOKUP($B164,[1]高二下!$B:$R,17,0) -> 龙志云 | AQ164: =VLOOKUP($B164,[2]高二上!$B:$R,6,0) -> #N/A | AR164: =VLOOKUP($B164,[2]高二上!$B:$R,7,0) -> #N/A | AS164: =VLOOKUP($B164,[2]高二上!$B:$R,8,0) -> #N/A | AT164: =VLOOKUP($B164,[2]高二上!$B:$R,9,0) -> #N/A | AU164: =VLOOKUP($B164,[2]高二上!$B:$R,10,0) -> #N/A | AV164: =VLOOKUP($B164,[2]高二上!$B:$R,11,0) -> #N/A | AW164: =VLOOKUP($B164,[2]高二上!$B:$R,12,0) -> #N/A | AX164: =VLOOKUP($B164,[2]高二上!$B:$R,13,0) -> #N/A | AY164: =VLOOKUP($B164,[2]高二上!$B:$R,14,0) -> #N/A | AZ164: =VLOOKUP($B164,[2]高二上!$B:$R,15,0) -> #N/A | BA164: =VLOOKUP($B164,[2]高二上!$B:$R,16,0) -> #N/A | BB164: =VLOOKUP($B164,[2]高二上!$B:$R,17,0) -> #N/A | BC164: =VLOOKUP($B164,[1]高一下!$B:$R,6,0) -> 98 | BD164: =VLOOKUP($B164,[1]高一下!$B:$R,7,0) -> 曹霞 | BE164: =VLOOKUP($B164,[1]高一下!$B:$R,8,0) -> 80 | BF164: =VLOOKUP($B164,[1]高一下!$B:$R,9,0) -> 次儿祝玛 | BG164: =VLOOKUP($B164,[1]高一下!$B:$R,10,0) -> 40.5 | BH164: =VLOOKUP($B164,[1]高一下!$B:$R,11,0) -> 肖秀秀 | BI164: =VLOOKUP($B164,[1]高一下!$B:$R,12,0) -> 42 | BJ164: =VLOOKUP($B164,[1]高一下!$B:$R,13,0) -> 胡伟杰 | BK164: =VLOOKUP($B164,[1]高一下!$B:$R,14,0) -> 30 | BL164: =VLOOKUP($B164,[1]高一下!$B:$R,15,0) -> 刘红 | BM164: =VLOOKUP($B164,[1]高一下!$B:$R,16,0) -> 47 | BN164: =VLOOKUP($B164,[1]高一下!$B:$R,17,0) -> 龙志云 | BO164: =VLOOKUP($B164,[1]高一上!$B:$W,5,0) -> 70 | BP164: =VLOOKUP($B164,[1]高一上!$B:$W,6,0) -> 曹霞 | BQ164: =VLOOKUP($B164,[1]高一上!$B:$W,7,0) -> 56 | BR164: =VLOOKUP($B164,[1]高一上!$B:$W,8,0) -> 次儿祝玛 | BS164: =VLOOKUP($B164,[1]高一上!$B:$W,9,0) -> 58 | BT164: =VLOOKUP($B164,[1]高一上!$B:$W,10,0) -> 肖秀秀 | BU164: =VLOOKUP($B164,[1]高一上!$B:$W,11,0) -> 34 | BV164: =VLOOKUP($B164,[1]高一上!$B:$W,12,0) -> 胡伟杰 | BW164: =VLOOKUP($B164,[1]高一上!$B:$W,13,0) -> 32 | BX164: =VLOOKUP($B164,[1]高一上!$B:$W,14,0) -> 刘红 | BY164: =VLOOKUP($B164,[1]高一上!$B:$W,15,0) -> 31.5 | BZ164: =VLOOKUP($B164,[1]高一上!$B:$W,16,0) -> 龙志云 | CA164: =VLOOKUP($B164,[1]中考!$B:$N,5,0) -> 111 | CB164: =VLOOKUP($B164,[1]中考!$B:$N,6,0) -> 75 | CC164: =VLOOKUP($B164,[1]中考!$B:$N,7,0) -> 99 | CD164: =VLOOKUP($B164,[1]中考!$B:$N,8,0) -> 31 | CE164: =VLOOKUP($B164,[1]中考!$B:$N,9,0) -> 25 | CF164: =VLOOKUP($B164,[1]中考!$B:$N,10,0) -> 38
A165: 513422200510170026 | B165: G513422200510170026 | C165: 05 | D165: 理科 | E165: 吴树霜 | F165: 373 | G165: 89 | H165: 李志友 | I165: 76 | J165: 次儿祝玛 | K165: 41 | L165: 肖秀秀 | M165: 63.5 | N165: 胡伟杰 | O165: 29 | P165: 郑强秋 | Q165: 74 | R165: 张斯杰 | S165: =VLOOKUP(B165,[1]高三上!$B:$R,6,0) -> 0 | T165: 李志友 | U165: =VLOOKUP(B165,[1]高三上!$B:$R,8,0) -> 0 | V165: =VLOOKUP(B165,[1]高三上!$B:$R,9,0) -> 次儿祝玛 | W165: =VLOOKUP(B165,[1]高三上!$B:$R,10,0) -> 0 | X165: =VLOOKUP(B165,[1]高三上!$B:$R,11,0) -> 肖秀秀 | Y165: =VLOOKUP(B165,[1]高三上!$B:$R,12,0) -> 0 | Z165: =VLOOKUP(B165,[1]高三上!$B:$R,13,0) -> 胡伟杰 | AA165: =VLOOKUP(B165,[1]高三上!$B:$R,14,0) -> 0 | AB165: =VLOOKUP(B165,[1]高三上!$B:$R,15,0) -> 郑强秋 | AC165: =VLOOKUP(B165,[1]高三上!$B:$R,16,0) -> 0 | AD165: =VLOOKUP($B165,[1]高三上!$B:$R,17,0) -> 龙志云 | AE165: =VLOOKUP($B165,[1]高二下!$B:$R,6,0) -> 73.0 | AF165: =VLOOKUP($B165,[1]高二下!$B:$R,7,0) -> 李志友 | AG165: =VLOOKUP($B165,[1]高二下!$B:$R,8,0) -> 62.5 | AH165: =VLOOKUP($B165,[1]高二下!$B:$R,9,0) -> 次儿祝玛 | AI165: =VLOOKUP($B165,[1]高二下!$B:$R,10,0) -> 47.0 | AJ165: =VLOOKUP($B165,[1]高二下!$B:$R,11,0) -> 肖秀秀 | AK165: =VLOOKUP($B165,[1]高二下!$B:$R,12,0) -> 16.0 | AL165: =VLOOKUP($B165,[1]高二下!$B:$R,13,0) -> 胡伟杰 | AM165: =VLOOKUP($B165,[1]高二下!$B:$R,14,0) -> 39.0 | AN165: =VLOOKUP($B165,[1]高二下!$B:$R,15,0) -> 邱宗兰 | AO165: =VLOOKUP($B165,[1]高二下!$B:$R,16,0) -> 107.0 | AP165: =VLOOKUP($B165,[1]高二下!$B:$R,17,0) -> 龙志云 | AQ165: =VLOOKUP($B165,[2]高二上!$B:$R,6,0) -> #N/A | AR165: =VLOOKUP($B165,[2]高二上!$B:$R,7,0) -> #N/A | AS165: =VLOOKUP($B165,[2]高二上!$B:$R,8,0) -> #N/A | AT165: =VLOOKUP($B165,[2]高二上!$B:$R,9,0) -> #N/A | AU165: =VLOOKUP($B165,[2]高二上!$B:$R,10,0) -> #N/A | AV165: =VLOOKUP($B165,[2]高二上!$B:$R,11,0) -> #N/A | AW165: =VLOOKUP($B165,[2]高二上!$B:$R,12,0) -> #N/A | AX165: =VLOOKUP($B165,[2]高二上!$B:$R,13,0) -> #N/A | AY165: =VLOOKUP($B165,[2]高二上!$B:$R,14,0) -> #N/A | AZ165: =VLOOKUP($B165,[2]高二上!$B:$R,15,0) -> #N/A | BA165: =VLOOKUP($B165,[2]高二上!$B:$R,16,0) -> #N/A | BB165: =VLOOKUP($B165,[2]高二上!$B:$R,17,0) -> #N/A | BC165: =VLOOKUP($B165,[1]高一下!$B:$R,6,0) -> 95 | BD165: =VLOOKUP($B165,[1]高一下!$B:$R,7,0) -> 曹霞 | BE165: =VLOOKUP($B165,[1]高一下!$B:$R,8,0) -> 112 | BF165: =VLOOKUP($B165,[1]高一下!$B:$R,9,0) -> 次儿祝玛 | BG165: =VLOOKUP($B165,[1]高一下!$B:$R,10,0) -> 37 | BH165: =VLOOKUP($B165,[1]高一下!$B:$R,11,0) -> 肖秀秀 | BI165: =VLOOKUP($B165,[1]高一下!$B:$R,12,0) -> 60 | BJ165: =VLOOKUP($B165,[1]高一下!$B:$R,13,0) -> 胡伟杰 | BK165: =VLOOKUP($B165,[1]高一下!$B:$R,14,0) -> 43 | BL165: =VLOOKUP($B165,[1]高一下!$B:$R,15,0) -> 刘红 | BM165: =VLOOKUP($B165,[1]高一下!$B:$R,16,0) -> 50 | BN165: =VLOOKUP($B165,[1]高一下!$B:$R,17,0) -> 龙志云 | BO165: =VLOOKUP($B165,[1]高一上!$B:$W,5,0) -> 81 | BP165: =VLOOKUP($B165,[1]高一上!$B:$W,6,0) -> 曹霞 | BQ165: =VLOOKUP($B165,[1]高一上!$B:$W,7,0) -> 69 | BR165: =VLOOKUP($B165,[1]高一上!$B:$W,8,0) -> 次儿祝玛 | BS165: =VLOOKUP($B165,[1]高一上!$B:$W,9,0) -> 50 | BT165: =VLOOKUP($B165,[1]高一上!$B:$W,10,0) -> 0 | BU165: =VLOOKUP($B165,[1]高一上!$B:$W,11,0) -> 54.5 | BV165: =VLOOKUP($B165,[1]高一上!$B:$W,12,0) -> 胡伟杰 | BW165: =VLOOKUP($B165,[1]高一上!$B:$W,13,0) -> 36.5 | BX165: =VLOOKUP($B165,[1]高一上!$B:$W,14,0) -> 刘红 | BY165: =VLOOKUP($B165,[1]高一上!$B:$W,15,0) -> 28 | BZ165: =VLOOKUP($B165,[1]高一上!$B:$W,16,0) -> 龙志云 | CA165: =VLOOKUP($B165,[1]中考!$B:$N,5,0) -> 0 | CB165: =VLOOKUP($B165,[1]中考!$B:$N,6,0) -> 0 | CC165: =VLOOKUP($B165,[1]中考!$B:$N,7,0) -> 0 | CD165: =VLOOKUP($B165,[1]中考!$B:$N,8,0) -> 0 | CE165: =VLOOKUP($B165,[1]中考!$B:$N,9,0) -> 0 | CF165: =VLOOKUP($B165,[1]中考!$B:$N,10,0) -> 0
A166: 513422200304184814 | B166: G513422200304184814 | C166: 05 | D166: 理科 | E166: 阿茸 | F166: 370 | G166: 90 | H166: 李志友 | I166: 98 | J166: 次儿祝玛 | K166: 44 | L166: 肖秀秀 | M166: 42 | N166: 胡伟杰 | O166: 45 | P166: 郑强秋 | Q166: 51 | R166: 张斯杰 | S166: =VLOOKUP(B166,[1]高三上!$B:$R,6,0) -> 83 | T166: 李志友 | U166: =VLOOKUP(B166,[1]高三上!$B:$R,8,0) -> 90 | V166: =VLOOKUP(B166,[1]高三上!$B:$R,9,0) -> 次儿祝玛 | W166: =VLOOKUP(B166,[1]高三上!$B:$R,10,0) -> 40.5 | X166: =VLOOKUP(B166,[1]高三上!$B:$R,11,0) -> 肖秀秀 | Y166: =VLOOKUP(B166,[1]高三上!$B:$R,12,0) -> 17 | Z166: =VLOOKUP(B166,[1]高三上!$B:$R,13,0) -> 胡伟杰 | AA166: =VLOOKUP(B166,[1]高三上!$B:$R,14,0) -> 40 | AB166: =VLOOKUP(B166,[1]高三上!$B:$R,15,0) -> 郑强秋 | AC166: =VLOOKUP(B166,[1]高三上!$B:$R,16,0) -> 31 | AD166: =VLOOKUP($B166,[1]高三上!$B:$R,17,0) -> 龙志云 | AE166: =VLOOKUP($B166,[1]高二下!$B:$R,6,0) -> #N/A | AF166: =VLOOKUP($B166,[1]高二下!$B:$R,7,0) -> 李志友 | AG166: =VLOOKUP($B166,[1]高二下!$B:$R,8,0) -> #N/A | AH166: =VLOOKUP($B166,[1]高二下!$B:$R,9,0) -> 次儿祝玛 | AI166: =VLOOKUP($B166,[1]高二下!$B:$R,10,0) -> #N/A | AJ166: =VLOOKUP($B166,[1]高二下!$B:$R,11,0) -> 肖秀秀 | AK166: =VLOOKUP($B166,[1]高二下!$B:$R,12,0) -> #N/A | AL166: =VLOOKUP($B166,[1]高二下!$B:$R,13,0) -> 胡伟杰 | AM166: =VLOOKUP($B166,[1]高二下!$B:$R,14,0) -> #N/A | AN166: =VLOOKUP($B166,[1]高二下!$B:$R,15,0) -> 邱宗兰 | AO166: =VLOOKUP($B166,[1]高二下!$B:$R,16,0) -> #N/A | AP166: =VLOOKUP($B166,[1]高二下!$B:$R,17,0) -> 龙志云 | AQ166: =VLOOKUP($B166,[2]高二上!$B:$R,6,0) -> #N/A | AR166: =VLOOKUP($B166,[2]高二上!$B:$R,7,0) -> #N/A | AS166: =VLOOKUP($B166,[2]高二上!$B:$R,8,0) -> #N/A | AT166: =VLOOKUP($B166,[2]高二上!$B:$R,9,0) -> #N/A | AU166: =VLOOKUP($B166,[2]高二上!$B:$R,10,0) -> #N/A | AV166: =VLOOKUP($B166,[2]高二上!$B:$R,11,0) -> #N/A | AW166: =VLOOKUP($B166,[2]高二上!$B:$R,12,0) -> #N/A | AX166: =VLOOKUP($B166,[2]高二上!$B:$R,13,0) -> #N/A | AY166: =VLOOKUP($B166,[2]高二上!$B:$R,14,0) -> #N/A | AZ166: =VLOOKUP($B166,[2]高二上!$B:$R,15,0) -> #N/A | BA166: =VLOOKUP($B166,[2]高二上!$B:$R,16,0) -> #N/A | BB166: =VLOOKUP($B166,[2]高二上!$B:$R,17,0) -> #N/A | BC166: =VLOOKUP($B166,[1]高一下!$B:$R,6,0) -> 82 | BD166: =VLOOKUP($B166,[1]高一下!$B:$R,7,0) -> 曹霞 | BE166: =VLOOKUP($B166,[1]高一下!$B:$R,8,0) -> 104 | BF166: =VLOOKUP($B166,[1]高一下!$B:$R,9,0) -> 次儿祝玛 | BG166: =VLOOKUP($B166,[1]高一下!$B:$R,10,0) -> 45.5 | BH166: =VLOOKUP($B166,[1]高一下!$B:$R,11,0) -> 肖秀秀 | BI166: =VLOOKUP($B166,[1]高一下!$B:$R,12,0) -> 39 | BJ166: =VLOOKUP($B166,[1]高一下!$B:$R,13,0) -> 胡伟杰 | BK166: =VLOOKUP($B166,[1]高一下!$B:$R,14,0) -> 45 | BL166: =VLOOKUP($B166,[1]高一下!$B:$R,15,0) -> 刘红 | BM166: =VLOOKUP($B166,[1]高一下!$B:$R,16,0) -> 45 | BN166: =VLOOKUP($B166,[1]高一下!$B:$R,17,0) -> 龙志云 | BO166: =VLOOKUP($B166,[1]高一上!$B:$W,5,0) -> 65.5 | BP166: =VLOOKUP($B166,[1]高一上!$B:$W,6,0) -> 刘玲君 | BQ166: =VLOOKUP($B166,[1]高一上!$B:$W,7,0) -> 89.5 | BR166: =VLOOKUP($B166,[1]高一上!$B:$W,8,0) -> 陈强 | BS166: =VLOOKUP($B166,[1]高一上!$B:$W,9,0) -> 43 | BT166: =VLOOKUP($B166,[1]高一上!$B:$W,10,0) -> 车梦德 | BU166: =VLOOKUP($B166,[1]高一上!$B:$W,11,0) -> 34.5 | BV166: =VLOOKUP($B166,[1]高一上!$B:$W,12,0) -> 0 | BW166: =VLOOKUP($B166,[1]高一上!$B:$W,13,0) -> 44 | BX166: =VLOOKUP($B166,[1]高一上!$B:$W,14,0) -> 0 | BY166: =VLOOKUP($B166,[1]高一上!$B:$W,15,0) -> 29.5 | BZ166: =VLOOKUP($B166,[1]高一上!$B:$W,16,0) -> 0 | CA166: =VLOOKUP($B166,[1]中考!$B:$N,5,0) -> 87 | CB166: =VLOOKUP($B166,[1]中考!$B:$N,6,0) -> 88 | CC166: =VLOOKUP($B166,[1]中考!$B:$N,7,0) -> 58 | CD166: =VLOOKUP($B166,[1]中考!$B:$N,8,0) -> 31 | CE166: =VLOOKUP($B166,[1]中考!$B:$N,9,0) -> 15 | CF166: =VLOOKUP($B166,[1]中考!$B:$N,10,0) -> 30
A167: 513422200503082714 | B167: G513422200503082714 | C167: 05 | D167: 理科 | E167: 周强恒 | F167: 364 | G167: 99 | H167: 李志友 | I167: 80 | J167: 次儿祝玛 | K167: 48 | L167: 肖秀秀 | M167: 38 | N167: 胡伟杰 | O167: 33 | P167: 郑强秋 | Q167: 66 | R167: 张斯杰 | S167: =VLOOKUP(B167,[1]高三上!$B:$R,6,0) -> 97.5 | T167: 李志友 | U167: =VLOOKUP(B167,[1]高三上!$B:$R,8,0) -> 67 | V167: =VLOOKUP(B167,[1]高三上!$B:$R,9,0) -> 次儿祝玛 | W167: =VLOOKUP(B167,[1]高三上!$B:$R,10,0) -> 40.5 | X167: =VLOOKUP(B167,[1]高三上!$B:$R,11,0) -> 肖秀秀 | Y167: =VLOOKUP(B167,[1]高三上!$B:$R,12,0) -> 42 | Z167: =VLOOKUP(B167,[1]高三上!$B:$R,13,0) -> 胡伟杰 | AA167: =VLOOKUP(B167,[1]高三上!$B:$R,14,0) -> 47 | AB167: =VLOOKUP(B167,[1]高三上!$B:$R,15,0) -> 郑强秋 | AC167: =VLOOKUP(B167,[1]高三上!$B:$R,16,0) -> 42 | AD167: =VLOOKUP($B167,[1]高三上!$B:$R,17,0) -> 龙志云 | AE167: =VLOOKUP($B167,[1]高二下!$B:$R,6,0) -> 82.0 | AF167: =VLOOKUP($B167,[1]高二下!$B:$R,7,0) -> 李志友 | AG167: =VLOOKUP($B167,[1]高二下!$B:$R,8,0) -> 34.5 | AH167: =VLOOKUP($B167,[1]高二下!$B:$R,9,0) -> 次儿祝玛 | AI167: =VLOOKUP($B167,[1]高二下!$B:$R,10,0) -> 37.0 | AJ167: =VLOOKUP($B167,[1]高二下!$B:$R,11,0) -> 肖秀秀 | AK167: =VLOOKUP($B167,[1]高二下!$B:$R,12,0) -> 21.0 | AL167: =VLOOKUP($B167,[1]高二下!$B:$R,13,0) -> 胡伟杰 | AM167: =VLOOKUP($B167,[1]高二下!$B:$R,14,0) -> 60.0 | AN167: =VLOOKUP($B167,[1]高二下!$B:$R,15,0) -> 邱宗兰 | AO167: =VLOOKUP($B167,[1]高二下!$B:$R,16,0) -> 94.0 | AP167: =VLOOKUP($B167,[1]高二下!$B:$R,17,0) -> 龙志云 | AQ167: =VLOOKUP($B167,[2]高二上!$B:$R,6,0) -> #N/A | AR167: =VLOOKUP($B167,[2]高二上!$B:$R,7,0) -> #N/A | AS167: =VLOOKUP($B167,[2]高二上!$B:$R,8,0) -> #N/A | AT167: =VLOOKUP($B167,[2]高二上!$B:$R,9,0) -> #N/A | AU167: =VLOOKUP($B167,[2]高二上!$B:$R,10,0) -> #N/A | AV167: =VLOOKUP($B167,[2]高二上!$B:$R,11,0) -> #N/A | AW167: =VLOOKUP($B167,[2]高二上!$B:$R,12,0) -> #N/A | AX167: =VLOOKUP($B167,[2]高二上!$B:$R,13,0) -> #N/A | AY167: =VLOOKUP($B167,[2]高二上!$B:$R,14,0) -> #N/A | AZ167: =VLOOKUP($B167,[2]高二上!$B:$R,15,0) -> #N/A | BA167: =VLOOKUP($B167,[2]高二上!$B:$R,16,0) -> #N/A | BB167: =VLOOKUP($B167,[2]高二上!$B:$R,17,0) -> #N/A | BC167: =VLOOKUP($B167,[1]高一下!$B:$R,6,0) -> 85 | BD167: =VLOOKUP($B167,[1]高一下!$B:$R,7,0) -> 曹霞 | BE167: =VLOOKUP($B167,[1]高一下!$B:$R,8,0) -> 93 | BF167: =VLOOKUP($B167,[1]高一下!$B:$R,9,0) -> 次儿祝玛 | BG167: =VLOOKUP($B167,[1]高一下!$B:$R,10,0) -> 31.5 | BH167: =VLOOKUP($B167,[1]高一下!$B:$R,11,0) -> 肖秀秀 | BI167: =VLOOKUP($B167,[1]高一下!$B:$R,12,0) -> 48 | BJ167: =VLOOKUP($B167,[1]高一下!$B:$R,13,0) -> 胡伟杰 | BK167: =VLOOKUP($B167,[1]高一下!$B:$R,14,0) -> 40 | BL167: =VLOOKUP($B167,[1]高一下!$B:$R,15,0) -> 刘红 | BM167: =VLOOKUP($B167,[1]高一下!$B:$R,16,0) -> 43 | BN167: =VLOOKUP($B167,[1]高一下!$B:$R,17,0) -> 龙志云 | BO167: =VLOOKUP($B167,[1]高一上!$B:$W,5,0) -> 80.5 | BP167: =VLOOKUP($B167,[1]高一上!$B:$W,6,0) -> 李志友 | BQ167: =VLOOKUP($B167,[1]高一上!$B:$W,7,0) -> 83 | BR167: =VLOOKUP($B167,[1]高一上!$B:$W,8,0) -> 梅桂斌 | BS167: =VLOOKUP($B167,[1]高一上!$B:$W,9,0) -> 59.5 | BT167: =VLOOKUP($B167,[1]高一上!$B:$W,10,0) -> 尹英娇 | BU167: =VLOOKUP($B167,[1]高一上!$B:$W,11,0) -> 29.5 | BV167: =VLOOKUP($B167,[1]高一上!$B:$W,12,0) -> 0 | BW167: =VLOOKUP($B167,[1]高一上!$B:$W,13,0) -> 31 | BX167: =VLOOKUP($B167,[1]高一上!$B:$W,14,0) -> 0 | BY167: =VLOOKUP($B167,[1]高一上!$B:$W,15,0) -> 39.5 | BZ167: =VLOOKUP($B167,[1]高一上!$B:$W,16,0) -> 0 | CA167: =VLOOKUP($B167,[1]中考!$B:$N,5,0) -> 98 | CB167: =VLOOKUP($B167,[1]中考!$B:$N,6,0) -> 95 | CC167: =VLOOKUP($B167,[1]中考!$B:$N,7,0) -> 45 | CD167: =VLOOKUP($B167,[1]中考!$B:$N,8,0) -> 41 | CE167: =VLOOKUP($B167,[1]中考!$B:$N,9,0) -> 25 | CF167: =VLOOKUP($B167,[1]中考!$B:$N,10,0) -> 35
A168: 513422200106245022 | B168: G513422200106245022 | C168: 05 | D168: 理科 | E168: 机玛 | F168: 361 | G168: 91 | H168: 李志友 | I168: 75 | J168: 次儿祝玛 | K168: 62 | L168: 肖秀秀 | M168: 46.5 | N168: 胡伟杰 | O168: 43 | P168: 郑强秋 | Q168: 43 | R168: 张斯杰 | S168: =VLOOKUP(B168,[1]高三上!$B:$R,6,0) -> 81 | T168: 李志友 | U168: =VLOOKUP(B168,[1]高三上!$B:$R,8,0) -> 66 | V168: =VLOOKUP(B168,[1]高三上!$B:$R,9,0) -> 次儿祝玛 | W168: =VLOOKUP(B168,[1]高三上!$B:$R,10,0) -> 81.5 | X168: =VLOOKUP(B168,[1]高三上!$B:$R,11,0) -> 肖秀秀 | Y168: =VLOOKUP(B168,[1]高三上!$B:$R,12,0) -> 23 | Z168: =VLOOKUP(B168,[1]高三上!$B:$R,13,0) -> 胡伟杰 | AA168: =VLOOKUP(B168,[1]高三上!$B:$R,14,0) -> 33 | AB168: =VLOOKUP(B168,[1]高三上!$B:$R,15,0) -> 郑强秋 | AC168: =VLOOKUP(B168,[1]高三上!$B:$R,16,0) -> 32 | AD168: =VLOOKUP($B168,[1]高三上!$B:$R,17,0) -> 龙志云 | AE168: =VLOOKUP($B168,[1]高二下!$B:$R,6,0) -> 67.0 | AF168: =VLOOKUP($B168,[1]高二下!$B:$R,7,0) -> 李志友 | AG168: =VLOOKUP($B168,[1]高二下!$B:$R,8,0) -> 89.5 | AH168: =VLOOKUP($B168,[1]高二下!$B:$R,9,0) -> 次儿祝玛 | AI168: =VLOOKUP($B168,[1]高二下!$B:$R,10,0) -> 10.0 | AJ168: =VLOOKUP($B168,[1]高二下!$B:$R,11,0) -> 肖秀秀 | AK168: =VLOOKUP($B168,[1]高二下!$B:$R,12,0) -> 28.0 | AL168: =VLOOKUP($B168,[1]高二下!$B:$R,13,0) -> 胡伟杰 | AM168: =VLOOKUP($B168,[1]高二下!$B:$R,14,0) -> 41.0 | AN168: =VLOOKUP($B168,[1]高二下!$B:$R,15,0) -> 邱宗兰 | AO168: =VLOOKUP($B168,[1]高二下!$B:$R,16,0) -> 82.0 | AP168: =VLOOKUP($B168,[1]高二下!$B:$R,17,0) -> 龙志云 | AQ168: =VLOOKUP($B168,[2]高二上!$B:$R,6,0) -> #N/A | AR168: =VLOOKUP($B168,[2]高二上!$B:$R,7,0) -> #N/A | AS168: =VLOOKUP($B168,[2]高二上!$B:$R,8,0) -> #N/A | AT168: =VLOOKUP($B168,[2]高二上!$B:$R,9,0) -> #N/A | AU168: =VLOOKUP($B168,[2]高二上!$B:$R,10,0) -> #N/A | AV168: =VLOOKUP($B168,[2]高二上!$B:$R,11,0) -> #N/A | AW168: =VLOOKUP($B168,[2]高二上!$B:$R,12,0) -> #N/A | AX168: =VLOOKUP($B168,[2]高二上!$B:$R,13,0) -> #N/A | AY168: =VLOOKUP($B168,[2]高二上!$B:$R,14,0) -> #N/A | AZ168: =VLOOKUP($B168,[2]高二上!$B:$R,15,0) -> #N/A | BA168: =VLOOKUP($B168,[2]高二上!$B:$R,16,0) -> #N/A | BB168: =VLOOKUP($B168,[2]高二上!$B:$R,17,0) -> #N/A | BC168: =VLOOKUP($B168,[1]高一下!$B:$R,6,0) -> 86 | BD168: =VLOOKUP($B168,[1]高一下!$B:$R,7,0) -> 曹霞 | BE168: =VLOOKUP($B168,[1]高一下!$B:$R,8,0) -> 102 | BF168: =VLOOKUP($B168,[1]高一下!$B:$R,9,0) -> 次儿祝玛 | BG168: =VLOOKUP($B168,[1]高一下!$B:$R,10,0) -> 47 | BH168: =VLOOKUP($B168,[1]高一下!$B:$R,11,0) -> 肖秀秀 | BI168: =VLOOKUP($B168,[1]高一下!$B:$R,12,0) -> 38 | BJ168: =VLOOKUP($B168,[1]高一下!$B:$R,13,0) -> 胡伟杰 | BK168: =VLOOKUP($B168,[1]高一下!$B:$R,14,0) -> 43 | BL168: =VLOOKUP($B168,[1]高一下!$B:$R,15,0) -> 刘红 | BM168: =VLOOKUP($B168,[1]高一下!$B:$R,16,0) -> 26 | BN168: =VLOOKUP($B168,[1]高一下!$B:$R,17,0) -> 龙志云 | BO168: =VLOOKUP($B168,[1]高一上!$B:$W,5,0) -> 87 | BP168: =VLOOKUP($B168,[1]高一上!$B:$W,6,0) -> 曹霞 | BQ168: =VLOOKUP($B168,[1]高一上!$B:$W,7,0) -> 54 | BR168: =VLOOKUP($B168,[1]高一上!$B:$W,8,0) -> 次儿祝玛 | BS168: =VLOOKUP($B168,[1]高一上!$B:$W,9,0) -> 73 | BT168: =VLOOKUP($B168,[1]高一上!$B:$W,10,0) -> 肖秀秀 | BU168: =VLOOKUP($B168,[1]高一上!$B:$W,11,0) -> 26.5 | BV168: =VLOOKUP($B168,[1]高一上!$B:$W,12,0) -> 胡伟杰 | BW168: =VLOOKUP($B168,[1]高一上!$B:$W,13,0) -> 37 | BX168: =VLOOKUP($B168,[1]高一上!$B:$W,14,0) -> 刘红 | BY168: =VLOOKUP($B168,[1]高一上!$B:$W,15,0) -> 36 | BZ168: =VLOOKUP($B168,[1]高一上!$B:$W,16,0) -> 龙志云 | CA168: =VLOOKUP($B168,[1]中考!$B:$N,5,0) -> 97 | CB168: =VLOOKUP($B168,[1]中考!$B:$N,6,0) -> 74 | CC168: =VLOOKUP($B168,[1]中考!$B:$N,7,0) -> 114 | CD168: =VLOOKUP($B168,[1]中考!$B:$N,8,0) -> 32 | CE168: =VLOOKUP($B168,[1]中考!$B:$N,9,0) -> 22 | CF168: =VLOOKUP($B168,[1]中考!$B:$N,10,0) -> 35
A169: 513422200208094229 | B169: G513422200208094229 | C169: 05 | D169: 理科 | E169: 降初玛 | F169: 354 | G169: 93 | H169: 李志友 | I169: 77 | J169: 次儿祝玛 | K169: 69 | L169: 肖秀秀 | M169: 34 | N169: 胡伟杰 | O169: 46.5 | P169: 郑强秋 | Q169: 34.5 | R169: 张斯杰 | S169: =VLOOKUP(B169,[1]高三上!$B:$R,6,0) -> 81 | T169: 李志友 | U169: =VLOOKUP(B169,[1]高三上!$B:$R,8,0) -> 70 | V169: =VLOOKUP(B169,[1]高三上!$B:$R,9,0) -> 次儿祝玛 | W169: =VLOOKUP(B169,[1]高三上!$B:$R,10,0) -> 54 | X169: =VLOOKUP(B169,[1]高三上!$B:$R,11,0) -> 肖秀秀 | Y169: =VLOOKUP(B169,[1]高三上!$B:$R,12,0) -> 34 | Z169: =VLOOKUP(B169,[1]高三上!$B:$R,13,0) -> 胡伟杰 | AA169: =VLOOKUP(B169,[1]高三上!$B:$R,14,0) -> 47 | AB169: =VLOOKUP(B169,[1]高三上!$B:$R,15,0) -> 郑强秋 | AC169: =VLOOKUP(B169,[1]高三上!$B:$R,16,0) -> 27 | AD169: =VLOOKUP($B169,[1]高三上!$B:$R,17,0) -> 龙志云 | AE169: =VLOOKUP($B169,[1]高二下!$B:$R,6,0) -> 85.0 | AF169: =VLOOKUP($B169,[1]高二下!$B:$R,7,0) -> 李志友 | AG169: =VLOOKUP($B169,[1]高二下!$B:$R,8,0) -> 69.5 | AH169: =VLOOKUP($B169,[1]高二下!$B:$R,9,0) -> 次儿祝玛 | AI169: =VLOOKUP($B169,[1]高二下!$B:$R,10,0) -> 20.0 | AJ169: =VLOOKUP($B169,[1]高二下!$B:$R,11,0) -> 肖秀秀 | AK169: =VLOOKUP($B169,[1]高二下!$B:$R,12,0) -> 16.0 | AL169: =VLOOKUP($B169,[1]高二下!$B:$R,13,0) -> 胡伟杰 | AM169: =VLOOKUP($B169,[1]高二下!$B:$R,14,0) -> 30.0 | AN169: =VLOOKUP($B169,[1]高二下!$B:$R,15,0) -> 邱宗兰 | AO169: =VLOOKUP($B169,[1]高二下!$B:$R,16,0) -> 73.0 | AP169: =VLOOKUP($B169,[1]高二下!$B:$R,17,0) -> 龙志云 | AQ169: =VLOOKUP($B169,[2]高二上!$B:$R,6,0) -> #N/A | AR169: =VLOOKUP($B169,[2]高二上!$B:$R,7,0) -> #N/A | AS169: =VLOOKUP($B169,[2]高二上!$B:$R,8,0) -> #N/A | AT169: =VLOOKUP($B169,[2]高二上!$B:$R,9,0) -> #N/A | AU169: =VLOOKUP($B169,[2]高二上!$B:$R,10,0) -> #N/A | AV169: =VLOOKUP($B169,[2]高二上!$B:$R,11,0) -> #N/A | AW169: =VLOOKUP($B169,[2]高二上!$B:$R,12,0) -> #N/A | AX169: =VLOOKUP($B169,[2]高二上!$B:$R,13,0) -> #N/A | AY169: =VLOOKUP($B169,[2]高二上!$B:$R,14,0) -> #N/A | AZ169: =VLOOKUP($B169,[2]高二上!$B:$R,15,0) -> #N/A | BA169: =VLOOKUP($B169,[2]高二上!$B:$R,16,0) -> #N/A | BB169: =VLOOKUP($B169,[2]高二上!$B:$R,17,0) -> #N/A | BC169: =VLOOKUP($B169,[1]高一下!$B:$R,6,0) -> 83 | BD169: =VLOOKUP($B169,[1]高一下!$B:$R,7,0) -> 曹霞 | BE169: =VLOOKUP($B169,[1]高一下!$B:$R,8,0) -> 74 | BF169: =VLOOKUP($B169,[1]高一下!$B:$R,9,0) -> 次儿祝玛 | BG169: =VLOOKUP($B169,[1]高一下!$B:$R,10,0) -> 46.5 | BH169: =VLOOKUP($B169,[1]高一下!$B:$R,11,0) -> 肖秀秀 | BI169: =VLOOKUP($B169,[1]高一下!$B:$R,12,0) -> 33 | BJ169: =VLOOKUP($B169,[1]高一下!$B:$R,13,0) -> 胡伟杰 | BK169: =VLOOKUP($B169,[1]高一下!$B:$R,14,0) -> 44 | BL169: =VLOOKUP($B169,[1]高一下!$B:$R,15,0) -> 刘红 | BM169: =VLOOKUP($B169,[1]高一下!$B:$R,16,0) -> 33 | BN169: =VLOOKUP($B169,[1]高一下!$B:$R,17,0) -> 龙志云 | BO169: =VLOOKUP($B169,[1]高一上!$B:$W,5,0) -> 75.5 | BP169: =VLOOKUP($B169,[1]高一上!$B:$W,6,0) -> 曹霞 | BQ169: =VLOOKUP($B169,[1]高一上!$B:$W,7,0) -> 60 | BR169: =VLOOKUP($B169,[1]高一上!$B:$W,8,0) -> 次儿祝玛 | BS169: =VLOOKUP($B169,[1]高一上!$B:$W,9,0) -> 45 | BT169: =VLOOKUP($B169,[1]高一上!$B:$W,10,0) -> 肖秀秀 | BU169: =VLOOKUP($B169,[1]高一上!$B:$W,11,0) -> 23 | BV169: =VLOOKUP($B169,[1]高一上!$B:$W,12,0) -> 胡伟杰 | BW169: =VLOOKUP($B169,[1]高一上!$B:$W,13,0) -> 38 | BX169: =VLOOKUP($B169,[1]高一上!$B:$W,14,0) -> 刘红 | BY169: =VLOOKUP($B169,[1]高一上!$B:$W,15,0) -> 37.5 | BZ169: =VLOOKUP($B169,[1]高一上!$B:$W,16,0) -> 龙志云 | CA169: =VLOOKUP($B169,[1]中考!$B:$N,5,0) -> 100 | CB169: =VLOOKUP($B169,[1]中考!$B:$N,6,0) -> 87 | CC169: =VLOOKUP($B169,[1]中考!$B:$N,7,0) -> 92 | CD169: =VLOOKUP($B169,[1]中考!$B:$N,8,0) -> 40 | CE169: =VLOOKUP($B169,[1]中考!$B:$N,9,0) -> 26 | CF169: =VLOOKUP($B169,[1]中考!$B:$N,10,0) -> 35
A170: 513422200503185422 | B170: G513422200503185422 | C170: 05 | D170: 理科 | E170: 汪婷 | F170: 353 | G170: 97 | H170: 李志友 | I170: 67 | J170: 次儿祝玛 | K170: 55 | L170: 肖秀秀 | M170: 54.5 | N170: 胡伟杰 | O170: 29.5 | P170: 郑强秋 | Q170: 49.5 | R170: 张斯杰 | S170: =VLOOKUP(B170,[1]高三上!$B:$R,6,0) -> 94 | T170: 李志友 | U170: =VLOOKUP(B170,[1]高三上!$B:$R,8,0) -> 55 | V170: =VLOOKUP(B170,[1]高三上!$B:$R,9,0) -> 次儿祝玛 | W170: =VLOOKUP(B170,[1]高三上!$B:$R,10,0) -> 48.5 | X170: =VLOOKUP(B170,[1]高三上!$B:$R,11,0) -> 肖秀秀 | Y170: =VLOOKUP(B170,[1]高三上!$B:$R,12,0) -> 25 | Z170: =VLOOKUP(B170,[1]高三上!$B:$R,13,0) -> 胡伟杰 | AA170: =VLOOKUP(B170,[1]高三上!$B:$R,14,0) -> 32 | AB170: =VLOOKUP(B170,[1]高三上!$B:$R,15,0) -> 郑强秋 | AC170: =VLOOKUP(B170,[1]高三上!$B:$R,16,0) -> 33 | AD170: =VLOOKUP($B170,[1]高三上!$B:$R,17,0) -> 龙志云 | AE170: =VLOOKUP($B170,[1]高二下!$B:$R,6,0) -> 81.0 | AF170: =VLOOKUP($B170,[1]高二下!$B:$R,7,0) -> 李志友 | AG170: =VLOOKUP($B170,[1]高二下!$B:$R,8,0) -> 58.0 | AH170: =VLOOKUP($B170,[1]高二下!$B:$R,9,0) -> 次儿祝玛 | AI170: =VLOOKUP($B170,[1]高二下!$B:$R,10,0) -> 17.0 | AJ170: =VLOOKUP($B170,[1]高二下!$B:$R,11,0) -> 肖秀秀 | AK170: =VLOOKUP($B170,[1]高二下!$B:$R,12,0) -> 33.0 | AL170: =VLOOKUP($B170,[1]高二下!$B:$R,13,0) -> 胡伟杰 | AM170: =VLOOKUP($B170,[1]高二下!$B:$R,14,0) -> 31.0 | AN170: =VLOOKUP($B170,[1]高二下!$B:$R,15,0) -> 邱宗兰 | AO170: =VLOOKUP($B170,[1]高二下!$B:$R,16,0) -> 35.0 | AP170: =VLOOKUP($B170,[1]高二下!$B:$R,17,0) -> 龙志云 | AQ170: =VLOOKUP($B170,[2]高二上!$B:$R,6,0) -> #N/A | AR170: =VLOOKUP($B170,[2]高二上!$B:$R,7,0) -> #N/A | AS170: =VLOOKUP($B170,[2]高二上!$B:$R,8,0) -> #N/A | AT170: =VLOOKUP($B170,[2]高二上!$B:$R,9,0) -> #N/A | AU170: =VLOOKUP($B170,[2]高二上!$B:$R,10,0) -> #N/A | AV170: =VLOOKUP($B170,[2]高二上!$B:$R,11,0) -> #N/A | AW170: =VLOOKUP($B170,[2]高二上!$B:$R,12,0) -> #N/A | AX170: =VLOOKUP($B170,[2]高二上!$B:$R,13,0) -> #N/A | AY170: =VLOOKUP($B170,[2]高二上!$B:$R,14,0) -> #N/A | AZ170: =VLOOKUP($B170,[2]高二上!$B:$R,15,0) -> #N/A | BA170: =VLOOKUP($B170,[2]高二上!$B:$R,16,0) -> #N/A | BB170: =VLOOKUP($B170,[2]高二上!$B:$R,17,0) -> #N/A | BC170: =VLOOKUP($B170,[1]高一下!$B:$R,6,0) -> #N/A | BD170: =VLOOKUP($B170,[1]高一下!$B:$R,7,0) -> #N/A | BE170: =VLOOKUP($B170,[1]高一下!$B:$R,8,0) -> #N/A | BF170: =VLOOKUP($B170,[1]高一下!$B:$R,9,0) -> #N/A | BG170: =VLOOKUP($B170,[1]高一下!$B:$R,10,0) -> #N/A | BH170: =VLOOKUP($B170,[1]高一下!$B:$R,11,0) -> #N/A | BI170: =VLOOKUP($B170,[1]高一下!$B:$R,12,0) -> #N/A | BJ170: =VLOOKUP($B170,[1]高一下!$B:$R,13,0) -> #N/A | BK170: =VLOOKUP($B170,[1]高一下!$B:$R,14,0) -> #N/A | BL170: =VLOOKUP($B170,[1]高一下!$B:$R,15,0) -> #N/A | BM170: =VLOOKUP($B170,[1]高一下!$B:$R,16,0) -> #N/A | BN170: =VLOOKUP($B170,[1]高一下!$B:$R,17,0) -> #N/A | BO170: =VLOOKUP($B170,[1]高一上!$B:$W,5,0) -> #N/A | BP170: =VLOOKUP($B170,[1]高一上!$B:$W,6,0) -> #N/A | BQ170: =VLOOKUP($B170,[1]高一上!$B:$W,7,0) -> #N/A | BR170: =VLOOKUP($B170,[1]高一上!$B:$W,8,0) -> #N/A | BS170: =VLOOKUP($B170,[1]高一上!$B:$W,9,0) -> #N/A | BT170: =VLOOKUP($B170,[1]高一上!$B:$W,10,0) -> #N/A | BU170: =VLOOKUP($B170,[1]高一上!$B:$W,11,0) -> #N/A | BV170: =VLOOKUP($B170,[1]高一上!$B:$W,12,0) -> #N/A | BW170: =VLOOKUP($B170,[1]高一上!$B:$W,13,0) -> #N/A | BX170: =VLOOKUP($B170,[1]高一上!$B:$W,14,0) -> #N/A | BY170: =VLOOKUP($B170,[1]高一上!$B:$W,15,0) -> #N/A | BZ170: =VLOOKUP($B170,[1]高一上!$B:$W,16,0) -> #N/A | CA170: =VLOOKUP($B170,[1]中考!$B:$N,5,0) -> #N/A | CB170: =VLOOKUP($B170,[1]中考!$B:$N,6,0) -> #N/A | CC170: =VLOOKUP($B170,[1]中考!$B:$N,7,0) -> #N/A | CD170: =VLOOKUP($B170,[1]中考!$B:$N,8,0) -> #N/A | CE170: =VLOOKUP($B170,[1]中考!$B:$N,9,0) -> #N/A | CF170: =VLOOKUP($B170,[1]中考!$B:$N,10,0) -> #N/A
