Workbook

Sheet 成绩
A1: 身份证号码 | B1: 学籍号 | C1: 班级 | D1: 科类(理科/文科) | E1: 姓名 | F1: 总分 | G1: 高考 | S1: 高三上 | AE1: 高二下 | AQ1: 高二上 | BC1: 高一下 | BO1: 高一上 | CA1: 中考
G2: 语文 | I2: 数学 | K2: 英语 | M2: 物理/政治 | O2: 化学/历史 | Q2: 生物/地理 | S2: 语文 | U2: 数学 | W2: 英语 | Y2: 物理/政治 | AA2: 化学/历史 | AC2: 生物/地理 | AE2: 语文 | AG2: 数学 | AI2: 英语 | AK2: 物理/政治 | AM2: 化学/历史 | AO2: 生物/地理 | AQ2: 语文 | AS2: 数学 | AU2: 英语 | AW2: 物理/政治 | AY2: 化学/历史 | BA2: 生物/地理 | BC2: 语文 | BE2: 数学 | BG2: 英语 | BI2: 物理/政治 | BK2: 化学/历史 | BM2: 生物/地理 | BO2: 语文 | BQ2: 数学 | BS2: 英语 | BU2: 物理/政治 | BW2: 化学/历史 | BY2: 生物/地理 | CA2: 语文 | CB2: 数学 | CC2: 英语 | CD2: 物理/政治 | CE2: 化学/历史 | CF2: 生物/地理
G3: 成绩 | H3: 教师 | I3: 成绩 | J3: 教师 | K3: 成绩 | L3: 教师 | M3: 成绩 | N3: 教师 | O3: 成绩 | P3: 教师 | Q3: 成绩 | R3: 教师 | S3: 成绩 | T3: 教师 | U3: 成绩 | V3: 教师 | W3: 成绩 | X3: 教师 | Y3: 成绩 | Z3: 教师 | AA3: 成绩 | AB3: 教师 | AC3: 成绩 | AD3: 教师 | AE3: 成绩 | AF3: 教师 | AG3: 成绩 | AH3: 教师 | AI3: 成绩 | AJ3: 教师 | AK3: 成绩 | AL3: 教师 | AM3: 成绩 | AN3: 教师 | AO3: 成绩 | AP3: 教师 | AQ3: 成绩 | AR3: 教师 | AS3: 成绩 | AT3: 教师 | AU3: 成绩 | AV3: 教师 | AW3: 成绩 | AX3: 教师 | AY3: 成绩 | AZ3: 教师 | BA3: 成绩 | BB3: 教师 | BC3: 成绩 | BD3: 教师 | BE3: 成绩 | BF3: 教师 | BG3: 成绩 | BH3: 教师 | BI3: 成绩 | BJ3: 教师 | BK3: 成绩 | BL3: 教师 | BM3: 成绩 | BN3: 教师 | BO3: 成绩 | BP3: 教师 | BQ3: 成绩 | BR3: 教师 | BS3: 成绩 | BT3: 教师 | BU3: 成绩 | BV3: 教师 | BW3: 成绩 | BX3: 教师 | BY3: 成绩 | BZ3: 教师 | CA3: 成绩 | CB3: 成绩 | CC3: 成绩 | CD3: 成绩 | CE3: 成绩 | CF3: 成绩
A4: 513422200405131121 | B4: G513422200405131121 | C4: 01 | D4: 理科 | E4: 毛建英 | F4: 642 | G4: 120 | H4: 龚霞 | I4: 133 | J4: 扎拉 | K4: 140 | L4: 肖秀秀 | M4: 83.5 | N4: 兰举银 | O4: 90.5 | P4: 任吉洪 | Q4: 75 | R4: 田友米 | S4: =VLOOKUP(B4,[1]高三上!$B:$R,6,0) -> 111 | T4: =VLOOKUP(B4,[1]高三上!$B:$R,7,0) -> 龚霞 | U4: =VLOOKUP(B4,[1]高三上!$B:$R,8,0) -> 138 | V4: =VLOOKUP(B4,[1]高三上!$B:$R,9,0) -> 扎拉 | W4: =VLOOKUP(B4,[1]高三上!$B:$R,10,0) -> 135 | X4: =VLOOKUP(B4,[1]高三上!$B:$R,11,0) -> 肖秀秀 | Y4: =VLOOKUP(B4,[1]高三上!$B:$R,12,0) -> 81 | Z4: =VLOOKUP(B4,[1]高三上!$B:$R,13,0) -> 兰举银 | AA4: =VLOOKUP(B4,[1]高三上!$B:$R,14,0) -> 66 | AB4: =VLOOKUP(B4,[1]高三上!$B:$R,15,0) -> 任吉洪 | AC4: =VLOOKUP(B4,[1]高三上!$B:$R,16,0) -> 86 | AD4: =VLOOKUP(B4,[1]高三上!$B:$R,17,0) -> 田友米 | AE4: =VLOOKUP($B4,[1]高二下!$B:$R,6,0) -> 105.0 | AF4: =VLOOKUP($B4,[1]高二下!$B:$R,7,0) -> 龚霞 | AG4: =VLOOKUP($B4,[1]高二下!$B:$R,8,0) -> 142.0 | AH4: =VLOOKUP($B4,[1]高二下!$B:$R,9,0) -> 扎拉 | AI4: =VLOOKUP($B4,[1]高二下!$B:$R,10,0) -> 94.0 | AJ4: =VLOOKUP($B4,[1]高二下!$B:$R,11,0) -> 肖秀秀 | AK4: =VLOOKUP($B4,[1]高二下!$B:$R,12,0) -> 87.0 | AL4: =VLOOKUP($B4,[1]高二下!$B:$R,13,0) -> 兰举银 | AM4: =VLOOKUP($B4,[1]高二下!$B:$R,14,0) -> 91.0 | AN4: =VLOOKUP($B4,[1]高二下!$B:$R,15,0) -> 任吉洪 | AO4: =VLOOKUP($B4,[1]高二下!$B:$R,16,0) -> 137.0 | AP4: =VLOOKUP($B4,[1]高二下!$B:$R,17,0) -> 田友米 | AQ4: =VLOOKUP($B4,[2]高二上!$B:$R,6,0) -> #N/A | AR4: =VLOOKUP($B4,[2]高二上!$B:$R,7,0) -> #N/A | AS4: =VLOOKUP($B4,[2]高二上!$B:$R,8,0) -> #N/A | AT4: =VLOOKUP($B4,[2]高二上!$B:$R,9,0) -> #N/A | AU4: =VLOOKUP($B4,[2]高二上!$B:$R,10,0) -> #N/A | AV4: =VLOOKUP($B4,[2]高二上!$B:$R,11,0) -> #N/A | AW4: =VLOOKUP($B4,[2]高二上!$B:$R,12,0) -> #N/A | AX4: =VLOOKUP($B4,[2]高二上!$B:$R,13,0) -> #N/A | AY4: =VLOOKUP($B4,[2]高二上!$B:$R,14,0) -> #N/A | AZ4: =VLOOKUP($B4,[2]高二上!$B:$R,15,0) -> #N/A | BA4: =VLOOKUP($B4,[2]高二上!$B:$R,16,0) -> #N/A | BB4: =VLOOKUP($B4,[2]高二上!$B:$R,17,0) -> #N/A | BC4: =VLOOKUP($B4,[1]高一下!$B:$R,6,0) -> 115 | BD4: =VLOOKUP($B4,[1]高一下!$B:$R,7,0) -> 龚霞 | BE4: =VLOOKUP($B4,[1]高一下!$B:$R,8,0) -> 135 | BF4: =VLOOKUP($B4,[1]高一下!$B:$R,9,0) -> 扎拉 | BG4: =VLOOKUP($B4,[1]高一下!$B:$R,10,0) -> 130 | BH4: =VLOOKUP($B4,[1]高一下!$B:$R,11,0) -> 肖秀秀 | BI4: =VLOOKUP($B4,[1]高一下!$B:$R,12,0) -> 93 | BJ4: =VLOOKUP($B4,[1]高一下!$B:$R,13,0) -> 兰举银 | BK4: =VLOOKUP($B4,[1]高一下!$B:$R,14,0) -> 90 | BL4: =VLOOKUP($B4,[1]高一下!$B:$R,15,0) -> 任吉洪 | BM4: =VLOOKUP($B4,[1]高一下!$B:$R,16,0) -> 88 | BN4: =VLOOKUP($B4,[1]高一下!$B:$R,17,0) -> 田友米 | BO4: =VLOOKUP($B4,[1]高一上!$B:$W,5,0) -> 101.5 | BP4: =VLOOKUP($B4,[1]高一上!$B:$W,6,0) -> 龚霞 | BQ4: =VLOOKUP($B4,[1]高一上!$B:$W,7,0) -> 123 | BR4: =VLOOKUP($B4,[1]高一上!$B:$W,8,0) -> 扎拉 | BS4: =VLOOKUP($B4,[1]高一上!$B:$W,9,0) -> 137 | BT4: =VLOOKUP($B4,[1]高一上!$B:$W,10,0) -> 肖秀秀 | BU4: =VLOOKUP($B4,[1]高一上!$B:$W,11,0) -> 80 | BV4: =VLOOKUP($B4,[1]高一上!$B:$W,12,0) -> 兰举银 | BW4: =VLOOKUP($B4,[1]高一上!$B:$W,13,0) -> 96.5 | BX4: =VLOOKUP($B4,[1]高一上!$B:$W,14,0) -> 任吉洪 | BY4: =VLOOKUP($B4,[1]高一上!$B:$W,15,0) -> 93 | BZ4: =VLOOKUP($B4,[1]高一上!$B:$W,16,0) -> 田友米 | CA4: =VLOOKUP($B4,[1]中考!$B:$N,5,0) -> 119 | CB4: =VLOOKUP($B4,[1]中考!$B:$N,6,0) -> 149 | CC4: =VLOOKUP($B4,[1]中考!$B:$N,7,0) -> 148 | CD4: =VLOOKUP($B4,[1]中考!$B:$N,8,0) -> 61 | CE4: =VLOOKUP($B4,[1]中考!$B:$N,9,0) -> 47 | CF4: =VLOOKUP($B4,[1]中考!$B:$N,10,0) -> 49
A5: 510922200409165251 | B5: G510922200409165251 | C5: 01 | D5: 理科 | E5: 孔令发 | F5: 625 | G5: 110 | H5: 龚霞 | I5: 120 | J5: 扎拉 | K5: 122 | L5: 肖秀秀 | M5: 96 | N5: 兰举银 | O5: 96 | P5: 任吉洪 | Q5: 80.5 | R5: 田友米 | S5: =VLOOKUP(B5,[1]高三上!$B:$R,6,0) -> 105.5 | T5: =VLOOKUP(B5,[1]高三上!$B:$R,7,0) -> 龚霞 | U5: =VLOOKUP(B5,[1]高三上!$B:$R,8,0) -> 122 | V5: =VLOOKUP(B5,[1]高三上!$B:$R,9,0) -> 扎拉 | W5: =VLOOKUP(B5,[1]高三上!$B:$R,10,0) -> 117.5 | X5: =VLOOKUP(B5,[1]高三上!$B:$R,11,0) -> 肖秀秀 | Y5: =VLOOKUP(B5,[1]高三上!$B:$R,12,0) -> 63 | Z5: =VLOOKUP(B5,[1]高三上!$B:$R,13,0) -> 兰举银 | AA5: =VLOOKUP(B5,[1]高三上!$B:$R,14,0) -> 84 | AB5: =VLOOKUP(B5,[1]高三上!$B:$R,15,0) -> 任吉洪 | AC5: =VLOOKUP(B5,[1]高三上!$B:$R,16,0) -> 74.5 | AD5: =VLOOKUP(B5,[1]高三上!$B:$R,17,0) -> 田友米 | AE5: =VLOOKUP($B5,[1]高二下!$B:$R,6,0) -> 107.0 | AF5: =VLOOKUP($B5,[1]高二下!$B:$R,7,0) -> 龚霞 | AG5: =VLOOKUP($B5,[1]高二下!$B:$R,8,0) -> 122.0 | AH5: =VLOOKUP($B5,[1]高二下!$B:$R,9,0) -> 扎拉 | AI5: =VLOOKUP($B5,[1]高二下!$B:$R,10,0) -> 74.0 | AJ5: =VLOOKUP($B5,[1]高二下!$B:$R,11,0) -> 肖秀秀 | AK5: =VLOOKUP($B5,[1]高二下!$B:$R,12,0) -> 84.0 | AL5: =VLOOKUP($B5,[1]高二下!$B:$R,13,0) -> 兰举银 | AM5: =VLOOKUP($B5,[1]高二下!$B:$R,14,0) -> 93.0 | AN5: =VLOOKUP($B5,[1]高二下!$B:$R,15,0) -> 任吉洪 | AO5: =VLOOKUP($B5,[1]高二下!$B:$R,16,0) -> 122.0 | AP5: =VLOOKUP($B5,[1]高二下!$B:$R,17,0) -> 田友米 | AQ5: =VLOOKUP($B5,[2]高二上!$B:$R,6,0) -> #N/A | AR5: =VLOOKUP($B5,[2]高二上!$B:$R,7,0) -> #N/A | AS5: =VLOOKUP($B5,[2]高二上!$B:$R,8,0) -> #N/A | AT5: =VLOOKUP($B5,[2]高二上!$B:$R,9,0) -> #N/A | AU5: =VLOOKUP($B5,[2]高二上!$B:$R,10,0) -> #N/A | AV5: =VLOOKUP($B5,[2]高二上!$B:$R,11,0) -> #N/A | AW5: =VLOOKUP($B5,[2]高二上!$B:$R,12,0) -> #N/A | AX5: =VLOOKUP($B5,[2]高二上!$B:$R,13,0) -> #N/A | AY5: =VLOOKUP($B5,[2]高二上!$B:$R,14,0) -> #N/A | AZ5: =VLOOKUP($B5,[2]高二上!$B:$R,15,0) -> #N/A | BA5: =VLOOKUP($B5,[2]高二上!$B:$R,16,0) -> #N/A | BB5: =VLOOKUP($B5,[2]高二上!$B:$R,17,0) -> #N/A | BC5: =VLOOKUP($B5,[1]高一下!$B:$R,6,0) -> 107 | BD5: =VLOOKUP($B5,[1]高一下!$B:$R,7,0) -> 龚霞 | BE5: =VLOOKUP($B5,[1]高一下!$B:$R,8,0) -> 139 | BF5: =VLOOKUP($B5,[1]高一下!$B:$R,9,0) -> 扎拉 | BG5: =VLOOKUP($B5,[1]高一下!$B:$R,10,0) -> 100.5 | BH5: =VLOOKUP($B5,[1]高一下!$B:$R,11,0) -> 肖秀秀 | BI5: =VLOOKUP($B5,[1]高一下!$B:$R,12,0) -> 79 | BJ5: =VLOOKUP($B5,[1]高一下!$B:$R,13,0) -> 兰举银 | BK5: =VLOOKUP($B5,[1]高一下!$B:$R,14,0) -> 91 | BL5: =VLOOKUP($B5,[1]高一下!$B:$R,15,0) -> 任吉洪 | BM5: =VLOOKUP($B5,[1]高一下!$B:$R,16,0) -> 87 | BN5: =VLOOKUP($B5,[1]高一下!$B:$R,17,0) -> 田友米 | BO5: =VLOOKUP($B5,[1]高一上!$B:$W,5,0) -> 101 | BP5: =VLOOKUP($B5,[1]高一上!$B:$W,6,0) -> 龚霞 | BQ5: =VLOOKUP($B5,[1]高一上!$B:$W,7,0) -> 125 | BR5: =VLOOKUP($B5,[1]高一上!$B:$W,8,0) -> 扎拉 | BS5: =VLOOKUP($B5,[1]高一上!$B:$W,9,0) -> 105 | BT5: =VLOOKUP($B5,[1]高一上!$B:$W,10,0) -> 肖秀秀 | BU5: =VLOOKUP($B5,[1]高一上!$B:$W,11,0) -> 76.5 | BV5: =VLOOKUP($B5,[1]高一上!$B:$W,12,0) -> 兰举银 | BW5: =VLOOKUP($B5,[1]高一上!$B:$W,13,0) -> 88.5 | BX5: =VLOOKUP($B5,[1]高一上!$B:$W,14,0) -> 任吉洪 | BY5: =VLOOKUP($B5,[1]高一上!$B:$W,15,0) -> 84 | BZ5: =VLOOKUP($B5,[1]高一上!$B:$W,16,0) -> 田友米 | CA5: =VLOOKUP($B5,[1]中考!$B:$N,5,0) -> 110 | CB5: =VLOOKUP($B5,[1]中考!$B:$N,6,0) -> 133 | CC5: =VLOOKUP($B5,[1]中考!$B:$N,7,0) -> 143 | CD5: =VLOOKUP($B5,[1]中考!$B:$N,8,0) -> 66 | CE5: =VLOOKUP($B5,[1]中考!$B:$N,9,0) -> 48 | CF5: =VLOOKUP($B5,[1]中考!$B:$N,10,0) -> 45
A6: 513422200603240310 | B6: G513422200603240310 | C6: 01 | D6: 理科 | E6: 张爱民 | F6: 625 | G6: 112 | H6: 龚霞 | I6: 128 | J6: 扎拉 | K6: 116 | L6: 肖秀秀 | M6: 98.5 | N6: 兰举银 | O6: 89 | P6: 任吉洪 | Q6: 81 | R6: 田友米 | S6: =VLOOKUP(B6,[1]高三上!$B:$R,6,0) -> 102.5 | T6: =VLOOKUP(B6,[1]高三上!$B:$R,7,0) -> 龚霞 | U6: =VLOOKUP(B6,[1]高三上!$B:$R,8,0) -> 121 | V6: =VLOOKUP(B6,[1]高三上!$B:$R,9,0) -> 扎拉 | W6: =VLOOKUP(B6,[1]高三上!$B:$R,10,0) -> 96.5 | X6: =VLOOKUP(B6,[1]高三上!$B:$R,11,0) -> 肖秀秀 | Y6: =VLOOKUP(B6,[1]高三上!$B:$R,12,0) -> 84 | Z6: =VLOOKUP(B6,[1]高三上!$B:$R,13,0) -> 兰举银 | AA6: =VLOOKUP(B6,[1]高三上!$B:$R,14,0) -> 71 | AB6: =VLOOKUP(B6,[1]高三上!$B:$R,15,0) -> 任吉洪 | AC6: =VLOOKUP(B6,[1]高三上!$B:$R,16,0) -> 72 | AD6: =VLOOKUP(B6,[1]高三上!$B:$R,17,0) -> 田友米 | AE6: =VLOOKUP($B6,[1]高二下!$B:$R,6,0) -> 104.0 | AF6: =VLOOKUP($B6,[1]高二下!$B:$R,7,0) -> 龚霞 | AG6: =VLOOKUP($B6,[1]高二下!$B:$R,8,0) -> 112.5 | AH6: =VLOOKUP($B6,[1]高二下!$B:$R,9,0) -> 扎拉 | AI6: =VLOOKUP($B6,[1]高二下!$B:$R,10,0) -> 69.0 | AJ6: =VLOOKUP($B6,[1]高二下!$B:$R,11,0) -> 肖秀秀 | AK6: =VLOOKUP($B6,[1]高二下!$B:$R,12,0) -> 79.0 | AL6: =VLOOKUP($B6,[1]高二下!$B:$R,13,0) -> 兰举银 | AM6: =VLOOKUP($B6,[1]高二下!$B:$R,14,0) -> 92.0 | AN6: =VLOOKUP($B6,[1]高二下!$B:$R,15,0) -> 任吉洪 | AO6: =VLOOKUP($B6,[1]高二下!$B:$R,16,0) -> 123.0 | AP6: =VLOOKUP($B6,[1]高二下!$B:$R,17,0) -> 田友米 | AQ6: =VLOOKUP($B6,[2]高二上!$B:$R,6,0) -> #N/A | AR6: =VLOOKUP($B6,[2]高二上!$B:$R,7,0) -> #N/A | AS6: =VLOOKUP($B6,[2]高二上!$B:$R,8,0) -> #N/A | AT6: =VLOOKUP($B6,[2]高二上!$B:$R,9,0) -> #N/A | AU6: =VLOOKUP($B6,[2]高二上!$B:$R,10,0) -> #N/A | AV6: =VLOOKUP($B6,[2]高二上!$B:$R,11,0) -> #N/A | AW6: =VLOOKUP($B6,[2]高二上!$B:$R,12,0) -> #N/A | AX6: =VLOOKUP($B6,[2]高二上!$B:$R,13,0) -> #N/A | AY6: =VLOOKUP($B6,[2]高二上!$B:$R,14,0) -> #N/A | AZ6: =VLOOKUP($B6,[2]高二上!$B:$R,15,0) -> #N/A | BA6: =VLOOKUP($B6,[2]高二上!$B:$R,16,0) -> #N/A | BB6: =VLOOKUP($B6,[2]高二上!$B:$R,17,0) -> #N/A | BC6: =VLOOKUP($B6,[1]高一下!$B:$R,6,0) -> 96 | BD6: =VLOOKUP($B6,[1]高一下!$B:$R,7,0) -> 龚霞 | BE6: =VLOOKUP($B6,[1]高一下!$B:$R,8,0) -> 113 | BF6: =VLOOKUP($B6,[1]高一下!$B:$R,9,0) -> 扎拉 | BG6: =VLOOKUP($B6,[1]高一下!$B:$R,10,0) -> 78 | BH6: =VLOOKUP($B6,[1]高一下!$B:$R,11,0) -> 肖秀秀 | BI6: =VLOOKUP($B6,[1]高一下!$B:$R,12,0) -> 69 | BJ6: =VLOOKUP($B6,[1]高一下!$B:$R,13,0) -> 兰举银 | BK6: =VLOOKUP($B6,[1]高一下!$B:$R,14,0) -> 82 | BL6: =VLOOKUP($B6,[1]高一下!$B:$R,15,0) -> 任吉洪 | BM6: =VLOOKUP($B6,[1]高一下!$B:$R,16,0) -> 81 | BN6: =VLOOKUP($B6,[1]高一下!$B:$R,17,0) -> 田友米 | BO6: =VLOOKUP($B6,[1]高一上!$B:$W,5,0) -> 92 | BP6: =VLOOKUP($B6,[1]高一上!$B:$W,6,0) -> 龚霞 | BQ6: =VLOOKUP($B6,[1]高一上!$B:$W,7,0) -> 97 | BR6: =VLOOKUP($B6,[1]高一上!$B:$W,8,0) -> 扎拉 | BS6: =VLOOKUP($B6,[1]高一上!$B:$W,9,0) -> 89.5 | BT6: =VLOOKUP($B6,[1]高一上!$B:$W,10,0) -> 肖秀秀 | BU6: =VLOOKUP($B6,[1]高一上!$B:$W,11,0) -> 77.5 | BV6: =VLOOKUP($B6,[1]高一上!$B:$W,12,0) -> 兰举银 | BW6: =VLOOKUP($B6,[1]高一上!$B:$W,13,0) -> 84.5 | BX6: =VLOOKUP($B6,[1]高一上!$B:$W,14,0) -> 任吉洪 | BY6: =VLOOKUP($B6,[1]高一上!$B:$W,15,0) -> 84 | BZ6: =VLOOKUP($B6,[1]高一上!$B:$W,16,0) -> 田友米 | CA6: =VLOOKUP($B6,[1]中考!$B:$N,5,0) -> 102 | CB6: =VLOOKUP($B6,[1]中考!$B:$N,6,0) -> 118 | CC6: =VLOOKUP($B6,[1]中考!$B:$N,7,0) -> 119 | CD6: =VLOOKUP($B6,[1]中考!$B:$N,8,0) -> 55 | CE6: =VLOOKUP($B6,[1]中考!$B:$N,9,0) -> 44 | CF6: =VLOOKUP($B6,[1]中考!$B:$N,10,0) -> 45
A7: 513422200410210713 | B7: G513422200410210713 | C7: 01 | D7: 理科 | E7: 王平 | F7: 615 | G7: 117 | H7: 龚霞 | I7: 116 | J7: 扎拉 | K7: 113 | L7: 肖秀秀 | M7: 98 | N7: 兰举银 | O7: 85.5 | P7: 任吉洪 | Q7: 85.5 | R7: 田友米 | S7: =VLOOKUP(B7,[1]高三上!$B:$R,6,0) -> 106.5 | T7: =VLOOKUP(B7,[1]高三上!$B:$R,7,0) -> 龚霞 | U7: =VLOOKUP(B7,[1]高三上!$B:$R,8,0) -> 104 | V7: =VLOOKUP(B7,[1]高三上!$B:$R,9,0) -> 扎拉 | W7: =VLOOKUP(B7,[1]高三上!$B:$R,10,0) -> 107.5 | X7: =VLOOKUP(B7,[1]高三上!$B:$R,11,0) -> 肖秀秀 | Y7: =VLOOKUP(B7,[1]高三上!$B:$R,12,0) -> 81 | Z7: =VLOOKUP(B7,[1]高三上!$B:$R,13,0) -> 兰举银 | AA7: =VLOOKUP(B7,[1]高三上!$B:$R,14,0) -> 78 | AB7: =VLOOKUP(B7,[1]高三上!$B:$R,15,0) -> 任吉洪 | AC7: =VLOOKUP(B7,[1]高三上!$B:$R,16,0) -> 67 | AD7: =VLOOKUP(B7,[1]高三上!$B:$R,17,0) -> 田友米 | AE7: =VLOOKUP($B7,[1]高二下!$B:$R,6,0) -> 100.0 | AF7: =VLOOKUP($B7,[1]高二下!$B:$R,7,0) -> 龚霞 | AG7: =VLOOKUP($B7,[1]高二下!$B:$R,8,0) -> 106.0 | AH7: =VLOOKUP($B7,[1]高二下!$B:$R,9,0) -> 扎拉 | AI7: =VLOOKUP($B7,[1]高二下!$B:$R,10,0) -> 92.0 | AJ7: =VLOOKUP($B7,[1]高二下!$B:$R,11,0) -> 肖秀秀 | AK7: =VLOOKUP($B7,[1]高二下!$B:$R,12,0) -> 89.0 | AL7: =VLOOKUP($B7,[1]高二下!$B:$R,13,0) -> 兰举银 | AM7: =VLOOKUP($B7,[1]高二下!$B:$R,14,0) -> 89.0 | AN7: =VLOOKUP($B7,[1]高二下!$B:$R,15,0) -> 任吉洪 | AO7: =VLOOKUP($B7,[1]高二下!$B:$R,16,0) -> 129.0 | AP7: =VLOOKUP($B7,[1]高二下!$B:$R,17,0) -> 田友米 | AQ7: =VLOOKUP($B7,[2]高二上!$B:$R,6,0) -> #N/A | AR7: =VLOOKUP($B7,[2]高二上!$B:$R,7,0) -> #N/A | AS7: =VLOOKUP($B7,[2]高二上!$B:$R,8,0) -> #N/A | AT7: =VLOOKUP($B7,[2]高二上!$B:$R,9,0) -> #N/A | AU7: =VLOOKUP($B7,[2]高二上!$B:$R,10,0) -> #N/A | AV7: =VLOOKUP($B7,[2]高二上!$B:$R,11,0) -> #N/A | AW7: =VLOOKUP($B7,[2]高二上!$B:$R,12,0) -> #N/A | AX7: =VLOOKUP($B7,[2]高二上!$B:$R,13,0) -> #N/A | AY7: =VLOOKUP($B7,[2]高二上!$B:$R,14,0) -> #N/A | AZ7: =VLOOKUP($B7,[2]高二上!$B:$R,15,0) -> #N/A | BA7: =VLOOKUP($B7,[2]高二上!$B:$R,16,0) -> #N/A | BB7: =VLOOKUP($B7,[2]高二上!$B:$R,17,0) -> #N/A | BC7: =VLOOKUP($B7,[1]高一下!$B:$R,6,0) -> 106 | BD7: =VLOOKUP($B7,[1]高一下!$B:$R,7,0) -> 龚霞 | BE7: =VLOOKUP($B7,[1]高一下!$B:$R,8,0) -> 135 | BF7: =VLOOKUP($B7,[1]高一下!$B:$R,9,0) -> 扎拉 | BG7: =VLOOKUP($B7,[1]高一下!$B:$R,10,0) -> 93.5 | BH7: =VLOOKUP($B7,[1]高一下!$B:$R,11,0) -> 肖秀秀 | BI7: =VLOOKUP($B7,[1]高一下!$B:$R,12,0) -> 91 | BJ7: =VLOOKUP($B7,[1]高一下!$B:$R,13,0) -> 兰举银 | BK7: =VLOOKUP($B7,[1]高一下!$B:$R,14,0) -> 97 | BL7: =VLOOKUP($B7,[1]高一下!$B:$R,15,0) -> 任吉洪 | BM7: =VLOOKUP($B7,[1]高一下!$B:$R,16,0) -> 75 | BN7: =VLOOKUP($B7,[1]高一下!$B:$R,17,0) -> 田友米 | BO7: =VLOOKUP($B7,[1]高一上!$B:$W,5,0) -> 97 | BP7: =VLOOKUP($B7,[1]高一上!$B:$W,6,0) -> 龚霞 | BQ7: =VLOOKUP($B7,[1]高一上!$B:$W,7,0) -> 114 | BR7: =VLOOKUP($B7,[1]高一上!$B:$W,8,0) -> 扎拉 | BS7: =VLOOKUP($B7,[1]高一上!$B:$W,9,0) -> 97 | BT7: =VLOOKUP($B7,[1]高一上!$B:$W,10,0) -> 肖秀秀 | BU7: =VLOOKUP($B7,[1]高一上!$B:$W,11,0) -> 91 | BV7: =VLOOKUP($B7,[1]高一上!$B:$W,12,0) -> 兰举银 | BW7: =VLOOKUP($B7,[1]高一上!$B:$W,13,0) -> 93 | BX7: =VLOOKUP($B7,[1]高一上!$B:$W,14,0) -> 任吉洪 | BY7: =VLOOKUP($B7,[1]高一上!$B:$W,15,0) -> 90 | BZ7: =VLOOKUP($B7,[1]高一上!$B:$W,16,0) -> 田友米 | CA7: =VLOOKUP($B7,[1]中考!$B:$N,5,0) -> 110 | CB7: =VLOOKUP($B7,[1]中考!$B:$N,6,0) -> 123 | CC7: =VLOOKUP($B7,[1]中考!$B:$N,7,0) -> 120 | CD7: =VLOOKUP($B7,[1]中考!$B:$N,8,0) -> 69 | CE7: =VLOOKUP($B7,[1]中考!$B:$N,9,0) -> 44 | CF7: =VLOOKUP($B7,[1]中考!$B:$N,10,0) -> 46
A8: 513422200704034823 | B8: G513422200704034823 | C8: 01 | D8: 理科 | E8: 次伦 | F8: 611 | G8: 119 | H8: 龚霞 | I8: 113 | J8: 扎拉 | K8: 133 | L8: 肖秀秀 | M8: 91.5 | N8: 兰举银 | O8: 74 | P8: 任吉洪 | Q8: 80.5 | R8: 田友米 | S8: =VLOOKUP(B8,[1]高三上!$B:$R,6,0) -> 108.5 | T8: =VLOOKUP(B8,[1]高三上!$B:$R,7,0) -> 龚霞 | U8: =VLOOKUP(B8,[1]高三上!$B:$R,8,0) -> 100.5 | V8: =VLOOKUP(B8,[1]高三上!$B:$R,9,0) -> 扎拉 | W8: =VLOOKUP(B8,[1]高三上!$B:$R,10,0) -> 124 | X8: =VLOOKUP(B8,[1]高三上!$B:$R,11,0) -> 肖秀秀 | Y8: =VLOOKUP(B8,[1]高三上!$B:$R,12,0) -> 59 | Z8: =VLOOKUP(B8,[1]高三上!$B:$R,13,0) -> 兰举银 | AA8: =VLOOKUP(B8,[1]高三上!$B:$R,14,0) -> 63 | AB8: =VLOOKUP(B8,[1]高三上!$B:$R,15,0) -> 任吉洪 | AC8: =VLOOKUP(B8,[1]高三上!$B:$R,16,0) -> 71 | AD8: =VLOOKUP(B8,[1]高三上!$B:$R,17,0) -> 田友米 | AE8: =VLOOKUP($B8,[1]高二下!$B:$R,6,0) -> 101.0 | AF8: =VLOOKUP($B8,[1]高二下!$B:$R,7,0) -> 龚霞 | AG8: =VLOOKUP($B8,[1]高二下!$B:$R,8,0) -> 131.5 | AH8: =VLOOKUP($B8,[1]高二下!$B:$R,9,0) -> 扎拉 | AI8: =VLOOKUP($B8,[1]高二下!$B:$R,10,0) -> 41.0 | AJ8: =VLOOKUP($B8,[1]高二下!$B:$R,11,0) -> 肖秀秀 | AK8: =VLOOKUP($B8,[1]高二下!$B:$R,12,0) -> 66.0 | AL8: =VLOOKUP($B8,[1]高二下!$B:$R,13,0) -> 兰举银 | AM8: =VLOOKUP($B8,[1]高二下!$B:$R,14,0) -> 86.0 | AN8: =VLOOKUP($B8,[1]高二下!$B:$R,15,0) -> 任吉洪 | AO8: =VLOOKUP($B8,[1]高二下!$B:$R,16,0) -> 134.0 | AP8: =VLOOKUP($B8,[1]高二下!$B:$R,17,0) -> 田友米 | AQ8: =VLOOKUP($B8,[2]高二上!$B:$R,6,0) -> #N/A | AR8: =VLOOKUP($B8,[2]高二上!$B:$R,7,0) -> #N/A | AS8: =VLOOKUP($B8,[2]高二上!$B:$R,8,0) -> #N/A | AT8: =VLOOKUP($B8,[2]高二上!$B:$R,9,0) -> #N/A | AU8: =VLOOKUP($B8,[2]高二上!$B:$R,10,0) -> #N/A | AV8: =VLOOKUP($B8,[2]高二上!$B:$R,11,0) -> #N/A | AW8: =VLOOKUP($B8,[2]高二上!$B:$R,12,0) -> #N/A | AX8: =VLOOKUP($B8,[2]高二上!$B:$R,13,0) -> #N/A | AY8: =VLOOKUP($B8,[2]高二上!$B:$R,14,0) -> #N/A | AZ8: =VLOOKUP($B8,[2]高二上!$B:$R,15,0) -> #N/A | BA8: =VLOOKUP($B8,[2]高二上!$B:$R,16,0) -> #N/A | BB8: =VLOOKUP($B8,[2]高二上!$B:$R,17,0) -> #N/A | BC8: =VLOOKUP($B8,[1]高一下!$B:$R,6,0) -> 108 | BD8: =VLOOKUP($B8,[1]高一下!$B:$R,7,0) -> 龚霞 | BE8: =VLOOKUP($B8,[1]高一下!$B:$R,8,0) -> 117 | BF8: =VLOOKUP($B8,[1]高一下!$B:$R,9,0) -> 扎拉 | BG8: =VLOOKUP($B8,[1]高一下!$B:$R,10,0) -> 118.5 | BH8: =VLOOKUP($B8,[1]高一下!$B:$R,11,0) -> 肖秀秀 | BI8: =VLOOKUP($B8,[1]高一下!$B:$R,12,0) -> 57 | BJ8: =VLOOKUP($B8,[1]高一下!$B:$R,13,0) -> 兰举银 | BK8: =VLOOKUP($B8,[1]高一下!$B:$R,14,0) -> 73 | BL8: =VLOOKUP($B8,[1]高一下!$B:$R,15,0) -> 任吉洪 | BM8: =VLOOKUP($B8,[1]高一下!$B:$R,16,0) -> 64 | BN8: =VLOOKUP($B8,[1]高一下!$B:$R,17,0) -> 田友米 | BO8: =VLOOKUP($B8,[1]高一上!$B:$W,5,0) -> 92.5 | BP8: =VLOOKUP($B8,[1]高一上!$B:$W,6,0) -> 龚霞 | BQ8: =VLOOKUP($B8,[1]高一上!$B:$W,7,0) -> 97 | BR8: =VLOOKUP($B8,[1]高一上!$B:$W,8,0) -> 扎拉 | BS8: =VLOOKUP($B8,[1]高一上!$B:$W,9,0) -> 116 | BT8: =VLOOKUP($B8,[1]高一上!$B:$W,10,0) -> 肖秀秀 | BU8: =VLOOKUP($B8,[1]高一上!$B:$W,11,0) -> 68.5 | BV8: =VLOOKUP($B8,[1]高一上!$B:$W,12,0) -> 兰举银 | BW8: =VLOOKUP($B8,[1]高一上!$B:$W,13,0) -> 66 | BX8: =VLOOKUP($B8,[1]高一上!$B:$W,14,0) -> 任吉洪 | BY8: =VLOOKUP($B8,[1]高一上!$B:$W,15,0) -> 77.5 | BZ8: =VLOOKUP($B8,[1]高一上!$B:$W,16,0) -> 田友米 | CA8: =VLOOKUP($B8,[1]中考!$B:$N,5,0) -> 119 | CB8: =VLOOKUP($B8,[1]中考!$B:$N,6,0) -> 107 | CC8: =VLOOKUP($B8,[1]中考!$B:$N,7,0) -> 140 | CD8: =VLOOKUP($B8,[1]中考!$B:$N,8,0) -> 49 | CE8: =VLOOKUP($B8,[1]中考!$B:$N,9,0) -> 31 | CF8: =VLOOKUP($B8,[1]中考!$B:$N,10,0) -> 45
A9: 513422200510240012 | B9: G513422200510240012 | C9: 01 | D9: 理科 | E9: 巴桑泽仁 | F9: 572 | G9: 108 | H9: 龚霞 | I9: 112 | J9: 扎拉 | K9: 119 | L9: 肖秀秀 | M9: 73.5 | N9: 兰举银 | O9: 84 | P9: 任吉洪 | Q9: 75 | R9: 田友米 | S9: =VLOOKUP(B9,[1]高三上!$B:$R,6,0) -> 97.5 | T9: =VLOOKUP(B9,[1]高三上!$B:$R,7,0) -> 龚霞 | U9: =VLOOKUP(B9,[1]高三上!$B:$R,8,0) -> 118 | V9: =VLOOKUP(B9,[1]高三上!$B:$R,9,0) -> 扎拉 | W9: =VLOOKUP(B9,[1]高三上!$B:$R,10,0) -> 112 | X9: =VLOOKUP(B9,[1]高三上!$B:$R,11,0) -> 肖秀秀 | Y9: =VLOOKUP(B9,[1]高三上!$B:$R,12,0) -> 61 | Z9: =VLOOKUP(B9,[1]高三上!$B:$R,13,0) -> 兰举银 | AA9: =VLOOKUP(B9,[1]高三上!$B:$R,14,0) -> 59 | AB9: =VLOOKUP(B9,[1]高三上!$B:$R,15,0) -> 任吉洪 | AC9: =VLOOKUP(B9,[1]高三上!$B:$R,16,0) -> 63 | AD9: =VLOOKUP(B9,[1]高三上!$B:$R,17,0) -> 田友米 | AE9: =VLOOKUP($B9,[1]高二下!$B:$R,6,0) -> 98.0 | AF9: =VLOOKUP($B9,[1]高二下!$B:$R,7,0) -> 龚霞 | AG9: =VLOOKUP($B9,[1]高二下!$B:$R,8,0) -> 116.0 | AH9: =VLOOKUP($B9,[1]高二下!$B:$R,9,0) -> 扎拉 | AI9: =VLOOKUP($B9,[1]高二下!$B:$R,10,0) -> 65.0 | AJ9: =VLOOKUP($B9,[1]高二下!$B:$R,11,0) -> 肖秀秀 | AK9: =VLOOKUP($B9,[1]高二下!$B:$R,12,0) -> 67.0 | AL9: =VLOOKUP($B9,[1]高二下!$B:$R,13,0) -> 兰举银 | AM9: =VLOOKUP($B9,[1]高二下!$B:$R,14,0) -> 85.0 | AN9: =VLOOKUP($B9,[1]高二下!$B:$R,15,0) -> 任吉洪 | AO9: =VLOOKUP($B9,[1]高二下!$B:$R,16,0) -> 120.0 | AP9: =VLOOKUP($B9,[1]高二下!$B:$R,17,0) -> 田友米 | AQ9: =VLOOKUP($B9,[2]高二上!$B:$R,6,0) -> #N/A | AR9: =VLOOKUP($B9,[2]高二上!$B:$R,7,0) -> #N/A | AS9: =VLOOKUP($B9,[2]高二上!$B:$R,8,0) -> #N/A | AT9: =VLOOKUP($B9,[2]高二上!$B:$R,9,0) -> #N/A | AU9: =VLOOKUP($B9,[2]高二上!$B:$R,10,0) -> #N/A | AV9: =VLOOKUP($B9,[2]高二上!$B:$R,11,0) -> #N/A | AW9: =VLOOKUP($B9,[2]高二上!$B:$R,12,0) -> #N/A | AX9: =VLOOKUP($B9,[2]高二上!$B:$R,13,0) -> #N/A | AY9: =VLOOKUP($B9,[2]高二上!$B:$R,14,0) -> #N/A | AZ9: =VLOOKUP($B9,[2]高二上!$B:$R,15,0) -> #N/A | BA9: =VLOOKUP($B9,[2]高二上!$B:$R,16,0) -> #N/A | BB9: =VLOOKUP($B9,[2]高二上!$B:$R,17,0) -> #N/A | BC9: =VLOOKUP($B9,[1]高一下!$B:$R,6,0) -> 107 | BD9: =VLOOKUP($B9,[1]高一下!$B:$R,7,0) -> 龚霞 | BE9: =VLOOKUP($B9,[1]高一下!$B:$R,8,0) -> 118 | BF9: =VLOOKUP($B9,[1]高一下!$B:$R,9,0) -> 扎拉 | BG9: =VLOOKUP($B9,[1]高一下!$B:$R,10,0) -> 101.5 | BH9: =VLOOKUP($B9,[1]高一下!$B:$R,11,0) -> 肖秀秀 | BI9: =VLOOKUP($B9,[1]高一下!$B:$R,12,0) -> 71 | BJ9: =VLOOKUP($B9,[1]高一下!$B:$R,13,0) -> 兰举银 | BK9: =VLOOKUP($B9,[1]高一下!$B:$R,14,0) -> 75 | BL9: =VLOOKUP($B9,[1]高一下!$B:$R,15,0) -> 任吉洪 | BM9: =VLOOKUP($B9,[1]高一下!$B:$R,16,0) -> 76 | BN9: =VLOOKUP($B9,[1]高一下!$B:$R,17,0) -> 田友米 | BO9: =VLOOKUP($B9,[1]高一上!$B:$W,5,0) -> 85 | BP9: =VLOOKUP($B9,[1]高一上!$B:$W,6,0) -> 龚霞 | BQ9: =VLOOKUP($B9,[1]高一上!$B:$W,7,0) -> 94 | BR9: =VLOOKUP($B9,[1]高一上!$B:$W,8,0) -> 扎拉 | BS9: =VLOOKUP($B9,[1]高一上!$B:$W,9,0) -> 91.5 | BT9: =VLOOKUP($B9,[1]高一上!$B:$W,10,0) -> 肖秀秀 | BU9: =VLOOKUP($B9,[1]高一上!$B:$W,11,0) -> 70 | BV9: =VLOOKUP($B9,[1]高一上!$B:$W,12,0) -> 兰举银 | BW9: =VLOOKUP($B9,[1]高一上!$B:$W,13,0) -> 70 | BX9: =VLOOKUP($B9,[1]高一上!$B:$W,14,0) -> 任吉洪 | BY9: =VLOOKUP($B9,[1]高一上!$B:$W,15,0) -> 89 | BZ9: =VLOOKUP($B9,[1]高一上!$B:$W,16,0) -> 田友米 | CA9: =VLOOKUP($B9,[1]中考!$B:$N,5,0) -> 107 | CB9: =VLOOKUP($B9,[1]中考!$B:$N,6,0) -> 111 | CC9: =VLOOKUP($B9,[1]中考!$B:$N,7,0) -> 138 | CD9: =VLOOKUP($B9,[1]中考!$B:$N,8,0) -> 65 | CE9: =VLOOKUP($B9,[1]中考!$B:$N,9,0) -> 47 | CF9: =VLOOKUP($B9,[1]中考!$B:$N,10,0) -> 46
A10: 51342220060312001X | B10: G51342220060312001X | C10: 01 | D10: 理科 | E10: 黄祥雲 | F10: 570 | G10: 102 | H10: 龚霞 | I10: 110 | J10: 扎拉 | K10: 123 | L10: 肖秀秀 | M10: 90 | N10: 兰举银 | O10: 72 | P10: 任吉洪 | Q10: 73 | R10: 田友米 | S10: =VLOOKUP(B10,[1]高三上!$B:$R,6,0) -> 100.5 | T10: =VLOOKUP(B10,[1]高三上!$B:$R,7,0) -> 龚霞 | U10: =VLOOKUP(B10,[1]高三上!$B:$R,8,0) -> 115 | V10: =VLOOKUP(B10,[1]高三上!$B:$R,9,0) -> 扎拉 | W10: =VLOOKUP(B10,[1]高三上!$B:$R,10,0) -> 116.5 | X10: =VLOOKUP(B10,[1]高三上!$B:$R,11,0) -> 肖秀秀 | Y10: =VLOOKUP(B10,[1]高三上!$B:$R,12,0) -> 63 | Z10: =VLOOKUP(B10,[1]高三上!$B:$R,13,0) -> 兰举银 | AA10: =VLOOKUP(B10,[1]高三上!$B:$R,14,0) -> 62 | AB10: =VLOOKUP(B10,[1]高三上!$B:$R,15,0) -> 任吉洪 | AC10: =VLOOKUP(B10,[1]高三上!$B:$R,16,0) -> 61 | AD10: =VLOOKUP(B10,[1]高三上!$B:$R,17,0) -> 田友米 | AE10: =VLOOKUP($B10,[1]高二下!$B:$R,6,0) -> 96.0 | AF10: =VLOOKUP($B10,[1]高二下!$B:$R,7,0) -> 龚霞 | AG10: =VLOOKUP($B10,[1]高二下!$B:$R,8,0) -> 118.5 | AH10: =VLOOKUP($B10,[1]高二下!$B:$R,9,0) -> 扎拉 | AI10: =VLOOKUP($B10,[1]高二下!$B:$R,10,0) -> 70.0 | AJ10: =VLOOKUP($B10,[1]高二下!$B:$R,11,0) -> 肖秀秀 | AK10: =VLOOKUP($B10,[1]高二下!$B:$R,12,0) -> 70.0 | AL10: =VLOOKUP($B10,[1]高二下!$B:$R,13,0) -> 兰举银 | AM10: =VLOOKUP($B10,[1]高二下!$B:$R,14,0) -> 86.0 | AN10: =VLOOKUP($B10,[1]高二下!$B:$R,15,0) -> 任吉洪 | AO10: =VLOOKUP($B10,[1]高二下!$B:$R,16,0) -> 127.0 | AP10: =VLOOKUP($B10,[1]高二下!$B:$R,17,0) -> 田友米 | AQ10: =VLOOKUP($B10,[2]高二上!$B:$R,6,0) -> #N/A | AR10: =VLOOKUP($B10,[2]高二上!$B:$R,7,0) -> #N/A | AS10: =VLOOKUP($B10,[2]高二上!$B:$R,8,0) -> #N/A | AT10: =VLOOKUP($B10,[2]高二上!$B:$R,9,0) -> #N/A | AU10: =VLOOKUP($B10,[2]高二上!$B:$R,10,0) -> #N/A | AV10: =VLOOKUP($B10,[2]高二上!$B:$R,11,0) -> #N/A | AW10: =VLOOKUP($B10,[2]高二上!$B:$R,12,0) -> #N/A | AX10: =VLOOKUP($B10,[2]高二上!$B:$R,13,0) -> #N/A | AY10: =VLOOKUP($B10,[2]高二上!$B:$R,14,0) -> #N/A | AZ10: =VLOOKUP($B10,[2]高二上!$B:$R,15,0) -> #N/A | BA10: =VLOOKUP($B10,[2]高二上!$B:$R,16,0) -> #N/A | BB10: =VLOOKUP($B10,[2]高二上!$B:$R,17,0) -> #N/A | BC10: =VLOOKUP($B10,[1]高一下!$B:$R,6,0) -> 95 | BD10: =VLOOKUP($B10,[1]高一下!$B:$R,7,0) -> 龚霞 | BE10: =VLOOKUP($B10,[1]高一下!$B:$R,8,0) -> 116 | BF10: =VLOOKUP($B10,[1]高一下!$B:$R,9,0) -> 扎拉 | BG10: =VLOOKUP($B10,[1]高一下!$B:$R,10,0) -> 102 | BH10: =VLOOKUP($B10,[1]高一下!$B:$R,11,0) -> 肖秀秀 | BI10: =VLOOKUP($B10,[1]高一下!$B:$R,12,0) -> 76 | BJ10: =VLOOKUP($B10,[1]高一下!$B:$R,13,0) -> 兰举银 | BK10: =VLOOKUP($B10,[1]高一下!$B:$R,14,0) -> 81 | BL10: =VLOOKUP($B10,[1]高一下!$B:$R,15,0) -> 任吉洪 | BM10: =VLOOKUP($B10,[1]高一下!$B:$R,16,0) -> 73 | BN10: =VLOOKUP($B10,[1]高一下!$B:$R,17,0) -> 田友米 | BO10: =VLOOKUP($B10,[1]高一上!$B:$W,5,0) -> 86 | BP10: =VLOOKUP($B10,[1]高一上!$B:$W,6,0) -> 龚霞 | BQ10: =VLOOKUP($B10,[1]高一上!$B:$W,7,0) -> 102.5 | BR10: =VLOOKUP($B10,[1]高一上!$B:$W,8,0) -> 扎拉 | BS10: =VLOOKUP($B10,[1]高一上!$B:$W,9,0) -> 86 | BT10: =VLOOKUP($B10,[1]高一上!$B:$W,10,0) -> 肖秀秀 | BU10: =VLOOKUP($B10,[1]高一上!$B:$W,11,0) -> 61 | BV10: =VLOOKUP($B10,[1]高一上!$B:$W,12,0) -> 兰举银 | BW10: =VLOOKUP($B10,[1]高一上!$B:$W,13,0) -> 77 | BX10: =VLOOKUP($B10,[1]高一上!$B:$W,14,0) -> 任吉洪 | BY10: =VLOOKUP($B10,[1]高一上!$B:$W,15,0) -> 75.5 | BZ10: =VLOOKUP($B10,[1]高一上!$B:$W,16,0) -> 田友米 | CA10: =VLOOKUP($B10,[1]中考!$B:$N,5,0) -> 102 | CB10: =VLOOKUP($B10,[1]中考!$B:$N,6,0) -> 115 | CC10: =VLOOKUP($B10,[1]中考!$B:$N,7,0) -> 129 | CD10: =VLOOKUP($B10,[1]中考!$B:$N,8,0) -> 53 | CE10: =VLOOKUP($B10,[1]中考!$B:$N,9,0) -> 37 | CF10: =VLOOKUP($B10,[1]中考!$B:$N,10,0) -> 38
A11: 513422200601201326 | B11: G513422200601201326 | C11: 01 | D11: 理科 | E11: 王群方 | F11: 569 | G11: 118 | H11: 龚霞 | I11: 91 | J11: 扎拉 | K11: 124 | L11: 肖秀秀 | M11: 81.5 | N11: 兰举银 | O11: 86.5 | P11: 任吉洪 | Q11: 68 | R11: 田友米 | S11: =VLOOKUP(B11,[1]高三上!$B:$R,6,0) -> 110.5 | T11: =VLOOKUP(B11,[1]高三上!$B:$R,7,0) -> 龚霞 | U11: =VLOOKUP(B11,[1]高三上!$B:$R,8,0) -> 108 | V11: =VLOOKUP(B11,[1]高三上!$B:$R,9,0) -> 扎拉 | W11: =VLOOKUP(B11,[1]高三上!$B:$R,10,0) -> 116 | X11: =VLOOKUP(B11,[1]高三上!$B:$R,11,0) -> 肖秀秀 | Y11: =VLOOKUP(B11,[1]高三上!$B:$R,12,0) -> 59 | Z11: =VLOOKUP(B11,[1]高三上!$B:$R,13,0) -> 兰举银 | AA11: =VLOOKUP(B11,[1]高三上!$B:$R,14,0) -> 73 | AB11: =VLOOKUP(B11,[1]高三上!$B:$R,15,0) -> 任吉洪 | AC11: =VLOOKUP(B11,[1]高三上!$B:$R,16,0) -> 79 | AD11: =VLOOKUP(B11,[1]高三上!$B:$R,17,0) -> 田友米 | AE11: =VLOOKUP($B11,[1]高二下!$B:$R,6,0) -> 103.0 | AF11: =VLOOKUP($B11,[1]高二下!$B:$R,7,0) -> 龚霞 | AG11: =VLOOKUP($B11,[1]高二下!$B:$R,8,0) -> 116.0 | AH11: =VLOOKUP($B11,[1]高二下!$B:$R,9,0) -> 扎拉 | AI11: =VLOOKUP($B11,[1]高二下!$B:$R,10,0) -> 52.0 | AJ11: =VLOOKUP($B11,[1]高二下!$B:$R,11,0) -> 肖秀秀 | AK11: =VLOOKUP($B11,[1]高二下!$B:$R,12,0) -> 64.0 | AL11: =VLOOKUP($B11,[1]高二下!$B:$R,13,0) -> 兰举银 | AM11: =VLOOKUP($B11,[1]高二下!$B:$R,14,0) -> 91.0 | AN11: =VLOOKUP($B11,[1]高二下!$B:$R,15,0) -> 任吉洪 | AO11: =VLOOKUP($B11,[1]高二下!$B:$R,16,0) -> 118.0 | AP11: =VLOOKUP($B11,[1]高二下!$B:$R,17,0) -> 田友米 | AQ11: =VLOOKUP($B11,[2]高二上!$B:$R,6,0) -> #N/A | AR11: =VLOOKUP($B11,[2]高二上!$B:$R,7,0) -> #N/A | AS11: =VLOOKUP($B11,[2]高二上!$B:$R,8,0) -> #N/A | AT11: =VLOOKUP($B11,[2]高二上!$B:$R,9,0) -> #N/A | AU11: =VLOOKUP($B11,[2]高二上!$B:$R,10,0) -> #N/A | AV11: =VLOOKUP($B11,[2]高二上!$B:$R,11,0) -> #N/A | AW11: =VLOOKUP($B11,[2]高二上!$B:$R,12,0) -> #N/A | AX11: =VLOOKUP($B11,[2]高二上!$B:$R,13,0) -> #N/A | AY11: =VLOOKUP($B11,[2]高二上!$B:$R,14,0) -> #N/A | AZ11: =VLOOKUP($B11,[2]高二上!$B:$R,15,0) -> #N/A | BA11: =VLOOKUP($B11,[2]高二上!$B:$R,16,0) -> #N/A | BB11: =VLOOKUP($B11,[2]高二上!$B:$R,17,0) -> #N/A | BC11: =VLOOKUP($B11,[1]高一下!$B:$R,6,0) -> 100 | BD11: =VLOOKUP($B11,[1]高一下!$B:$R,7,0) -> 龚霞 | BE11: =VLOOKUP($B11,[1]高一下!$B:$R,8,0) -> 113 | BF11: =VLOOKUP($B11,[1]高一下!$B:$R,9,0) -> 扎拉 | BG11: =VLOOKUP($B11,[1]高一下!$B:$R,10,0) -> 120 | BH11: =VLOOKUP($B11,[1]高一下!$B:$R,11,0) -> 肖秀秀 | BI11: =VLOOKUP($B11,[1]高一下!$B:$R,12,0) -> 70 | BJ11: =VLOOKUP($B11,[1]高一下!$B:$R,13,0) -> 兰举银 | BK11: =VLOOKUP($B11,[1]高一下!$B:$R,14,0) -> 73 | BL11: =VLOOKUP($B11,[1]高一下!$B:$R,15,0) -> 任吉洪 | BM11: =VLOOKUP($B11,[1]高一下!$B:$R,16,0) -> 74 | BN11: =VLOOKUP($B11,[1]高一下!$B:$R,17,0) -> 田友米 | BO11: =VLOOKUP($B11,[1]高一上!$B:$W,5,0) -> 96.5 | BP11: =VLOOKUP($B11,[1]高一上!$B:$W,6,0) -> 龚霞 | BQ11: =VLOOKUP($B11,[1]高一上!$B:$W,7,0) -> 102 | BR11: =VLOOKUP($B11,[1]高一上!$B:$W,8,0) -> 扎拉 | BS11: =VLOOKUP($B11,[1]高一上!$B:$W,9,0) -> 117 | BT11: =VLOOKUP($B11,[1]高一上!$B:$W,10,0) -> 肖秀秀 | BU11: =VLOOKUP($B11,[1]高一上!$B:$W,11,0) -> 68 | BV11: =VLOOKUP($B11,[1]高一上!$B:$W,12,0) -> 兰举银 | BW11: =VLOOKUP($B11,[1]高一上!$B:$W,13,0) -> 67.5 | BX11: =VLOOKUP($B11,[1]高一上!$B:$W,14,0) -> 任吉洪 | BY11: =VLOOKUP($B11,[1]高一上!$B:$W,15,0) -> 90.5 | BZ11: =VLOOKUP($B11,[1]高一上!$B:$W,16,0) -> 田友米 | CA11: =VLOOKUP($B11,[1]中考!$B:$N,5,0) -> 112 | CB11: =VLOOKUP($B11,[1]中考!$B:$N,6,0) -> 130 | CC11: =VLOOKUP($B11,[1]中考!$B:$N,7,0) -> 139 | CD11: =VLOOKUP($B11,[1]中考!$B:$N,8,0) -> 49 | CE11: =VLOOKUP($B11,[1]中考!$B:$N,9,0) -> 41 | CF11: =VLOOKUP($B11,[1]中考!$B:$N,10,0) -> 46
A12: 513422200412142929 | B12: G513422200412142929 | C12: 01 | D12: 理科 | E12: 严冬梅 | F12: 564 | G12: 116 | H12: 龚霞 | I12: 107 | J12: 扎拉 | K12: 126 | L12: 肖秀秀 | M12: 43.5 | N12: 兰举银 | O12: 90 | P12: 任吉洪 | Q12: 81 | R12: 田友米 | S12: =VLOOKUP(B12,[1]高三上!$B:$R,6,0) -> 98 | T12: =VLOOKUP(B12,[1]高三上!$B:$R,7,0) -> 龚霞 | U12: =VLOOKUP(B12,[1]高三上!$B:$R,8,0) -> 92 | V12: =VLOOKUP(B12,[1]高三上!$B:$R,9,0) -> 扎拉 | W12: =VLOOKUP(B12,[1]高三上!$B:$R,10,0) -> 112.5 | X12: =VLOOKUP(B12,[1]高三上!$B:$R,11,0) -> 肖秀秀 | Y12: =VLOOKUP(B12,[1]高三上!$B:$R,12,0) -> 35 | Z12: =VLOOKUP(B12,[1]高三上!$B:$R,13,0) -> 兰举银 | AA12: =VLOOKUP(B12,[1]高三上!$B:$R,14,0) -> 65 | AB12: =VLOOKUP(B12,[1]高三上!$B:$R,15,0) -> 任吉洪 | AC12: =VLOOKUP(B12,[1]高三上!$B:$R,16,0) -> 77 | AD12: =VLOOKUP(B12,[1]高三上!$B:$R,17,0) -> 田友米 | AE12: =VLOOKUP($B12,[1]高二下!$B:$R,6,0) -> 108.0 | AF12: =VLOOKUP($B12,[1]高二下!$B:$R,7,0) -> 龚霞 | AG12: =VLOOKUP($B12,[1]高二下!$B:$R,8,0) -> 121.5 | AH12: =VLOOKUP($B12,[1]高二下!$B:$R,9,0) -> 扎拉 | AI12: =VLOOKUP($B12,[1]高二下!$B:$R,10,0) -> 35.0 | AJ12: =VLOOKUP($B12,[1]高二下!$B:$R,11,0) -> 肖秀秀 | AK12: =VLOOKUP($B12,[1]高二下!$B:$R,12,0) -> 60.0 | AL12: =VLOOKUP($B12,[1]高二下!$B:$R,13,0) -> 兰举银 | AM12: =VLOOKUP($B12,[1]高二下!$B:$R,14,0) -> 85.0 | AN12: =VLOOKUP($B12,[1]高二下!$B:$R,15,0) -> 任吉洪 | AO12: =VLOOKUP($B12,[1]高二下!$B:$R,16,0) -> 103.0 | AP12: =VLOOKUP($B12,[1]高二下!$B:$R,17,0) -> 田友米 | AQ12: =VLOOKUP($B12,[2]高二上!$B:$R,6,0) -> #N/A | AR12: =VLOOKUP($B12,[2]高二上!$B:$R,7,0) -> #N/A | AS12: =VLOOKUP($B12,[2]高二上!$B:$R,8,0) -> #N/A | AT12: =VLOOKUP($B12,[2]高二上!$B:$R,9,0) -> #N/A | AU12: =VLOOKUP($B12,[2]高二上!$B:$R,10,0) -> #N/A | AV12: =VLOOKUP($B12,[2]高二上!$B:$R,11,0) -> #N/A | AW12: =VLOOKUP($B12,[2]高二上!$B:$R,12,0) -> #N/A | AX12: =VLOOKUP($B12,[2]高二上!$B:$R,13,0) -> #N/A | AY12: =VLOOKUP($B12,[2]高二上!$B:$R,14,0) -> #N/A | AZ12: =VLOOKUP($B12,[2]高二上!$B:$R,15,0) -> #N/A | BA12: =VLOOKUP($B12,[2]高二上!$B:$R,16,0) -> #N/A | BB12: =VLOOKUP($B12,[2]高二上!$B:$R,17,0) -> #N/A | BC12: =VLOOKUP($B12,[1]高一下!$B:$R,6,0) -> 97 | BD12: =VLOOKUP($B12,[1]高一下!$B:$R,7,0) -> 龚霞 | BE12: =VLOOKUP($B12,[1]高一下!$B:$R,8,0) -> 109 | BF12: =VLOOKUP($B12,[1]高一下!$B:$R,9,0) -> 扎拉 | BG12: =VLOOKUP($B12,[1]高一下!$B:$R,10,0) -> 96.5 | BH12: =VLOOKUP($B12,[1]高一下!$B:$R,11,0) -> 肖秀秀 | BI12: =VLOOKUP($B12,[1]高一下!$B:$R,12,0) -> 59 | BJ12: =VLOOKUP($B12,[1]高一下!$B:$R,13,0) -> 兰举银 | BK12: =VLOOKUP($B12,[1]高一下!$B:$R,14,0) -> 80 | BL12: =VLOOKUP($B12,[1]高一下!$B:$R,15,0) -> 任吉洪 | BM12: =VLOOKUP($B12,[1]高一下!$B:$R,16,0) -> 76 | BN12: =VLOOKUP($B12,[1]高一下!$B:$R,17,0) -> 田友米 | BO12: =VLOOKUP($B12,[1]高一上!$B:$W,5,0) -> 103.5 | BP12: =VLOOKUP($B12,[1]高一上!$B:$W,6,0) -> 龚霞 | BQ12: =VLOOKUP($B12,[1]高一上!$B:$W,7,0) -> 81 | BR12: =VLOOKUP($B12,[1]高一上!$B:$W,8,0) -> 扎拉 | BS12: =VLOOKUP($B12,[1]高一上!$B:$W,9,0) -> 98 | BT12: =VLOOKUP($B12,[1]高一上!$B:$W,10,0) -> 肖秀秀 | BU12: =VLOOKUP($B12,[1]高一上!$B:$W,11,0) -> 61 | BV12: =VLOOKUP($B12,[1]高一上!$B:$W,12,0) -> 兰举银 | BW12: =VLOOKUP($B12,[1]高一上!$B:$W,13,0) -> 68 | BX12: =VLOOKUP($B12,[1]高一上!$B:$W,14,0) -> 任吉洪 | BY12: =VLOOKUP($B12,[1]高一上!$B:$W,15,0) -> 83 | BZ12: =VLOOKUP($B12,[1]高一上!$B:$W,16,0) -> 田友米 | CA12: =VLOOKUP($B12,[1]中考!$B:$N,5,0) -> 113 | CB12: =VLOOKUP($B12,[1]中考!$B:$N,6,0) -> 120 | CC12: =VLOOKUP($B12,[1]中考!$B:$N,7,0) -> 128 | CD12: =VLOOKUP($B12,[1]中考!$B:$N,8,0) -> 44 | CE12: =VLOOKUP($B12,[1]中考!$B:$N,9,0) -> 33 | CF12: =VLOOKUP($B12,[1]中考!$B:$N,10,0) -> 42
A13: 513422200603051165 | B13: G513422200603051165 | C13: 01 | D13: 理科 | E13: 马江莉 | F13: 561 | G13: 114 | H13: 龚霞 | I13: 115 | J13: 扎拉 | K13: 113 | L13: 肖秀秀 | M13: 69.5 | N13: 兰举银 | O13: 70 | P13: 任吉洪 | Q13: 79.5 | R13: 田友米 | S13: =VLOOKUP(B13,[1]高三上!$B:$R,6,0) -> 111 | T13: =VLOOKUP(B13,[1]高三上!$B:$R,7,0) -> 龚霞 | U13: =VLOOKUP(B13,[1]高三上!$B:$R,8,0) -> 122 | V13: =VLOOKUP(B13,[1]高三上!$B:$R,9,0) -> 扎拉 | W13: =VLOOKUP(B13,[1]高三上!$B:$R,10,0) -> 110.5 | X13: =VLOOKUP(B13,[1]高三上!$B:$R,11,0) -> 肖秀秀 | Y13: =VLOOKUP(B13,[1]高三上!$B:$R,12,0) -> 71 | Z13: =VLOOKUP(B13,[1]高三上!$B:$R,13,0) -> 兰举银 | AA13: =VLOOKUP(B13,[1]高三上!$B:$R,14,0) -> 74 | AB13: =VLOOKUP(B13,[1]高三上!$B:$R,15,0) -> 任吉洪 | AC13: =VLOOKUP(B13,[1]高三上!$B:$R,16,0) -> 75 | AD13: =VLOOKUP(B13,[1]高三上!$B:$R,17,0) -> 田友米 | AE13: =VLOOKUP($B13,[1]高二下!$B:$R,6,0) -> 99.0 | AF13: =VLOOKUP($B13,[1]高二下!$B:$R,7,0) -> 龚霞 | AG13: =VLOOKUP($B13,[1]高二下!$B:$R,8,0) -> 118.5 | AH13: =VLOOKUP($B13,[1]高二下!$B:$R,9,0) -> 扎拉 | AI13: =VLOOKUP($B13,[1]高二下!$B:$R,10,0) -> 64.0 | AJ13: =VLOOKUP($B13,[1]高二下!$B:$R,11,0) -> 肖秀秀 | AK13: =VLOOKUP($B13,[1]高二下!$B:$R,12,0) -> 77.0 | AL13: =VLOOKUP($B13,[1]高二下!$B:$R,13,0) -> 兰举银 | AM13: =VLOOKUP($B13,[1]高二下!$B:$R,14,0) -> 86.0 | AN13: =VLOOKUP($B13,[1]高二下!$B:$R,15,0) -> 任吉洪 | AO13: =VLOOKUP($B13,[1]高二下!$B:$R,16,0) -> 126.0 | AP13: =VLOOKUP($B13,[1]高二下!$B:$R,17,0) -> 田友米 | AQ13: =VLOOKUP($B13,[2]高二上!$B:$R,6,0) -> #N/A | AR13: =VLOOKUP($B13,[2]高二上!$B:$R,7,0) -> #N/A | AS13: =VLOOKUP($B13,[2]高二上!$B:$R,8,0) -> #N/A | AT13: =VLOOKUP($B13,[2]高二上!$B:$R,9,0) -> #N/A | AU13: =VLOOKUP($B13,[2]高二上!$B:$R,10,0) -> #N/A | AV13: =VLOOKUP($B13,[2]高二上!$B:$R,11,0) -> #N/A | AW13: =VLOOKUP($B13,[2]高二上!$B:$R,12,0) -> #N/A | AX13: =VLOOKUP($B13,[2]高二上!$B:$R,13,0) -> #N/A | AY13: =VLOOKUP($B13,[2]高二上!$B:$R,14,0) -> #N/A | AZ13: =VLOOKUP($B13,[2]高二上!$B:$R,15,0) -> #N/A | BA13: =VLOOKUP($B13,[2]高二上!$B:$R,16,0) -> #N/A | BB13: =VLOOKUP($B13,[2]高二上!$B:$R,17,0) -> #N/A | BC13: =VLOOKUP($B13,[1]高一下!$B:$R,6,0) -> 104 | BD13: =VLOOKUP($B13,[1]高一下!$B:$R,7,0) -> 龚霞 | BE13: =VLOOKUP($B13,[1]高一下!$B:$R,8,0) -> 125 | BF13: =VLOOKUP($B13,[1]高一下!$B:$R,9,0) -> 扎拉 | BG13: =VLOOKUP($B13,[1]高一下!$B:$R,10,0) -> 86.5 | BH13: =VLOOKUP($B13,[1]高一下!$B:$R,11,0) -> 肖秀秀 | BI13: =VLOOKUP($B13,[1]高一下!$B:$R,12,0) -> 66 | BJ13: =VLOOKUP($B13,[1]高一下!$B:$R,13,0) -> 兰举银 | BK13: =VLOOKUP($B13,[1]高一下!$B:$R,14,0) -> 88 | BL13: =VLOOKUP($B13,[1]高一下!$B:$R,15,0) -> 任吉洪 | BM13: =VLOOKUP($B13,[1]高一下!$B:$R,16,0) -> 74 | BN13: =VLOOKUP($B13,[1]高一下!$B:$R,17,0) -> 田友米 | BO13: =VLOOKUP($B13,[1]高一上!$B:$W,5,0) -> 104 | BP13: =VLOOKUP($B13,[1]高一上!$B:$W,6,0) -> 龚霞 | BQ13: =VLOOKUP($B13,[1]高一上!$B:$W,7,0) -> 125.5 | BR13: =VLOOKUP($B13,[1]高一上!$B:$W,8,0) -> 扎拉 | BS13: =VLOOKUP($B13,[1]高一上!$B:$W,9,0) -> 96.5 | BT13: =VLOOKUP($B13,[1]高一上!$B:$W,10,0) -> 肖秀秀 | BU13: =VLOOKUP($B13,[1]高一上!$B:$W,11,0) -> 75 | BV13: =VLOOKUP($B13,[1]高一上!$B:$W,12,0) -> 兰举银 | BW13: =VLOOKUP($B13,[1]高一上!$B:$W,13,0) -> 83.5 | BX13: =VLOOKUP($B13,[1]高一上!$B:$W,14,0) -> 任吉洪 | BY13: =VLOOKUP($B13,[1]高一上!$B:$W,15,0) -> 86.5 | BZ13: =VLOOKUP($B13,[1]高一上!$B:$W,16,0) -> 田友米 | CA13: =VLOOKUP($B13,[1]中考!$B:$N,5,0) -> 107 | CB13: =VLOOKUP($B13,[1]中考!$B:$N,6,0) -> 132 | CC13: =VLOOKUP($B13,[1]中考!$B:$N,7,0) -> 133 | CD13: =VLOOKUP($B13,[1]中考!$B:$N,8,0) -> 64 | CE13: =VLOOKUP($B13,[1]中考!$B:$N,9,0) -> 39 | CF13: =VLOOKUP($B13,[1]中考!$B:$N,10,0) -> 47
A14: 513422200610205839 | B14: G513422200610205839 | C14: 01 | D14: 理科 | E14: 王耀 | F14: 559 | G14: 105 | H14: 龚霞 | I14: 115 | J14: 扎拉 | K14: 126 | L14: 肖秀秀 | M14: 65.5 | N14: 兰举银 | O14: 71 | P14: 任吉洪 | Q14: 76.5 | R14: 田友米 | S14: =VLOOKUP(B14,[1]高三上!$B:$R,6,0) -> 95 | T14: =VLOOKUP(B14,[1]高三上!$B:$R,7,0) -> 龚霞 | U14: =VLOOKUP(B14,[1]高三上!$B:$R,8,0) -> 101 | V14: =VLOOKUP(B14,[1]高三上!$B:$R,9,0) -> 扎拉 | W14: =VLOOKUP(B14,[1]高三上!$B:$R,10,0) -> 120 | X14: =VLOOKUP(B14,[1]高三上!$B:$R,11,0) -> 肖秀秀 | Y14: =VLOOKUP(B14,[1]高三上!$B:$R,12,0) -> 56 | Z14: =VLOOKUP(B14,[1]高三上!$B:$R,13,0) -> 兰举银 | AA14: =VLOOKUP(B14,[1]高三上!$B:$R,14,0) -> 46 | AB14: =VLOOKUP(B14,[1]高三上!$B:$R,15,0) -> 任吉洪 | AC14: =VLOOKUP(B14,[1]高三上!$B:$R,16,0) -> 74 | AD14: =VLOOKUP(B14,[1]高三上!$B:$R,17,0) -> 田友米 | AE14: =VLOOKUP($B14,[1]高二下!$B:$R,6,0) -> 91.0 | AF14: =VLOOKUP($B14,[1]高二下!$B:$R,7,0) -> 龚霞 | AG14: =VLOOKUP($B14,[1]高二下!$B:$R,8,0) -> 122.5 | AH14: =VLOOKUP($B14,[1]高二下!$B:$R,9,0) -> 扎拉 | AI14: =VLOOKUP($B14,[1]高二下!$B:$R,10,0) -> 64.0 | AJ14: =VLOOKUP($B14,[1]高二下!$B:$R,11,0) -> 肖秀秀 | AK14: =VLOOKUP($B14,[1]高二下!$B:$R,12,0) -> 60.0 | AL14: =VLOOKUP($B14,[1]高二下!$B:$R,13,0) -> 兰举银 | AM14: =VLOOKUP($B14,[1]高二下!$B:$R,14,0) -> 85.0 | AN14: =VLOOKUP($B14,[1]高二下!$B:$R,15,0) -> 任吉洪 | AO14: =VLOOKUP($B14,[1]高二下!$B:$R,16,0) -> 116.0 | AP14: =VLOOKUP($B14,[1]高二下!$B:$R,17,0) -> 田友米 | AQ14: =VLOOKUP($B14,[2]高二上!$B:$R,6,0) -> #N/A | AR14: =VLOOKUP($B14,[2]高二上!$B:$R,7,0) -> #N/A | AS14: =VLOOKUP($B14,[2]高二上!$B:$R,8,0) -> #N/A | AT14: =VLOOKUP($B14,[2]高二上!$B:$R,9,0) -> #N/A | AU14: =VLOOKUP($B14,[2]高二上!$B:$R,10,0) -> #N/A | AV14: =VLOOKUP($B14,[2]高二上!$B:$R,11,0) -> #N/A | AW14: =VLOOKUP($B14,[2]高二上!$B:$R,12,0) -> #N/A | AX14: =VLOOKUP($B14,[2]高二上!$B:$R,13,0) -> #N/A | AY14: =VLOOKUP($B14,[2]高二上!$B:$R,14,0) -> #N/A | AZ14: =VLOOKUP($B14,[2]高二上!$B:$R,15,0) -> #N/A | BA14: =VLOOKUP($B14,[2]高二上!$B:$R,16,0) -> #N/A | BB14: =VLOOKUP($B14,[2]高二上!$B:$R,17,0) -> #N/A | BC14: =VLOOKUP($B14,[1]高一下!$B:$R,6,0) -> 103 | BD14: =VLOOKUP($B14,[1]高一下!$B:$R,7,0) -> 龚霞 | BE14: =VLOOKUP($B14,[1]高一下!$B:$R,8,0) -> 129 | BF14: =VLOOKUP($B14,[1]高一下!$B:$R,9,0) -> 扎拉 | BG14: =VLOOKUP($B14,[1]高一下!$B:$R,10,0) -> 106 | BH14: =VLOOKUP($B14,[1]高一下!$B:$R,11,0) -> 肖秀秀 | BI14: =VLOOKUP($B14,[1]高一下!$B:$R,12,0) -> 66 | BJ14: =VLOOKUP($B14,[1]高一下!$B:$R,13,0) -> 兰举银 | BK14: =VLOOKUP($B14,[1]高一下!$B:$R,14,0) -> 77 | BL14: =VLOOKUP($B14,[1]高一下!$B:$R,15,0) -> 任吉洪 | BM14: =VLOOKUP($B14,[1]高一下!$B:$R,16,0) -> 55 | BN14: =VLOOKUP($B14,[1]高一下!$B:$R,17,0) -> 田友米 | BO14: =VLOOKUP($B14,[1]高一上!$B:$W,5,0) -> 89 | BP14: =VLOOKUP($B14,[1]高一上!$B:$W,6,0) -> 龚霞 | BQ14: =VLOOKUP($B14,[1]高一上!$B:$W,7,0) -> 82 | BR14: =VLOOKUP($B14,[1]高一上!$B:$W,8,0) -> 扎拉 | BS14: =VLOOKUP($B14,[1]高一上!$B:$W,9,0) -> 101 | BT14: =VLOOKUP($B14,[1]高一上!$B:$W,10,0) -> 肖秀秀 | BU14: =VLOOKUP($B14,[1]高一上!$B:$W,11,0) -> 76 | BV14: =VLOOKUP($B14,[1]高一上!$B:$W,12,0) -> 兰举银 | BW14: =VLOOKUP($B14,[1]高一上!$B:$W,13,0) -> 69 | BX14: =VLOOKUP($B14,[1]高一上!$B:$W,14,0) -> 任吉洪 | BY14: =VLOOKUP($B14,[1]高一上!$B:$W,15,0) -> 79.5 | BZ14: =VLOOKUP($B14,[1]高一上!$B:$W,16,0) -> 田友米 | CA14: =VLOOKUP($B14,[1]中考!$B:$N,5,0) -> 115 | CB14: =VLOOKUP($B14,[1]中考!$B:$N,6,0) -> 135 | CC14: =VLOOKUP($B14,[1]中考!$B:$N,7,0) -> 134 | CD14: =VLOOKUP($B14,[1]中考!$B:$N,8,0) -> 58 | CE14: =VLOOKUP($B14,[1]中考!$B:$N,9,0) -> 37 | CF14: =VLOOKUP($B14,[1]中考!$B:$N,10,0) -> 42
A15: 513422200512206619 | B15: G513422200512206619 | C15: 01 | D15: 理科 | E15: 党玉林 | F15: 553 | G15: 120 | H15: 龚霞 | I15: 94 | J15: 扎拉 | K15: 114 | L15: 肖秀秀 | M15: 67.5 | N15: 兰举银 | O15: 78 | P15: 任吉洪 | Q15: 79.5 | R15: 田友米 | S15: =VLOOKUP(B15,[1]高三上!$B:$R,6,0) -> 101.5 | T15: =VLOOKUP(B15,[1]高三上!$B:$R,7,0) -> 龚霞 | U15: =VLOOKUP(B15,[1]高三上!$B:$R,8,0) -> 88 | V15: =VLOOKUP(B15,[1]高三上!$B:$R,9,0) -> 扎拉 | W15: =VLOOKUP(B15,[1]高三上!$B:$R,10,0) -> 100 | X15: =VLOOKUP(B15,[1]高三上!$B:$R,11,0) -> 肖秀秀 | Y15: =VLOOKUP(B15,[1]高三上!$B:$R,12,0) -> 66 | Z15: =VLOOKUP(B15,[1]高三上!$B:$R,13,0) -> 兰举银 | AA15: =VLOOKUP(B15,[1]高三上!$B:$R,14,0) -> 65 | AB15: =VLOOKUP(B15,[1]高三上!$B:$R,15,0) -> 任吉洪 | AC15: =VLOOKUP(B15,[1]高三上!$B:$R,16,0) -> 61 | AD15: =VLOOKUP(B15,[1]高三上!$B:$R,17,0) -> 田友米 | AE15: =VLOOKUP($B15,[1]高二下!$B:$R,6,0) -> 93.0 | AF15: =VLOOKUP($B15,[1]高二下!$B:$R,7,0) -> 龚霞 | AG15: =VLOOKUP($B15,[1]高二下!$B:$R,8,0) -> 123.5 | AH15: =VLOOKUP($B15,[1]高二下!$B:$R,9,0) -> 扎拉 | AI15: =VLOOKUP($B15,[1]高二下!$B:$R,10,0) -> 66.0 | AJ15: =VLOOKUP($B15,[1]高二下!$B:$R,11,0) -> 肖秀秀 | AK15: =VLOOKUP($B15,[1]高二下!$B:$R,12,0) -> 66.0 | AL15: =VLOOKUP($B15,[1]高二下!$B:$R,13,0) -> 兰举银 | AM15: =VLOOKUP($B15,[1]高二下!$B:$R,14,0) -> 81.0 | AN15: =VLOOKUP($B15,[1]高二下!$B:$R,15,0) -> 任吉洪 | AO15: =VLOOKUP($B15,[1]高二下!$B:$R,16,0) -> 96.0 | AP15: =VLOOKUP($B15,[1]高二下!$B:$R,17,0) -> 田友米 | AQ15: =VLOOKUP($B15,[2]高二上!$B:$R,6,0) -> #N/A | AR15: =VLOOKUP($B15,[2]高二上!$B:$R,7,0) -> #N/A | AS15: =VLOOKUP($B15,[2]高二上!$B:$R,8,0) -> #N/A | AT15: =VLOOKUP($B15,[2]高二上!$B:$R,9,0) -> #N/A | AU15: =VLOOKUP($B15,[2]高二上!$B:$R,10,0) -> #N/A | AV15: =VLOOKUP($B15,[2]高二上!$B:$R,11,0) -> #N/A | AW15: =VLOOKUP($B15,[2]高二上!$B:$R,12,0) -> #N/A | AX15: =VLOOKUP($B15,[2]高二上!$B:$R,13,0) -> #N/A | AY15: =VLOOKUP($B15,[2]高二上!$B:$R,14,0) -> #N/A | AZ15: =VLOOKUP($B15,[2]高二上!$B:$R,15,0) -> #N/A | BA15: =VLOOKUP($B15,[2]高二上!$B:$R,16,0) -> #N/A | BB15: =VLOOKUP($B15,[2]高二上!$B:$R,17,0) -> #N/A | BC15: =VLOOKUP($B15,[1]高一下!$B:$R,6,0) -> 107 | BD15: =VLOOKUP($B15,[1]高一下!$B:$R,7,0) -> 龚霞 | BE15: =VLOOKUP($B15,[1]高一下!$B:$R,8,0) -> 118 | BF15: =VLOOKUP($B15,[1]高一下!$B:$R,9,0) -> 扎拉 | BG15: =VLOOKUP($B15,[1]高一下!$B:$R,10,0) -> 86 | BH15: =VLOOKUP($B15,[1]高一下!$B:$R,11,0) -> 肖秀秀 | BI15: =VLOOKUP($B15,[1]高一下!$B:$R,12,0) -> 71 | BJ15: =VLOOKUP($B15,[1]高一下!$B:$R,13,0) -> 兰举银 | BK15: =VLOOKUP($B15,[1]高一下!$B:$R,14,0) -> 78 | BL15: =VLOOKUP($B15,[1]高一下!$B:$R,15,0) -> 任吉洪 | BM15: =VLOOKUP($B15,[1]高一下!$B:$R,16,0) -> 71 | BN15: =VLOOKUP($B15,[1]高一下!$B:$R,17,0) -> 田友米 | BO15: =VLOOKUP($B15,[1]高一上!$B:$W,5,0) -> 102 | BP15: =VLOOKUP($B15,[1]高一上!$B:$W,6,0) -> 龚霞 | BQ15: =VLOOKUP($B15,[1]高一上!$B:$W,7,0) -> 84.5 | BR15: =VLOOKUP($B15,[1]高一上!$B:$W,8,0) -> 扎拉 | BS15: =VLOOKUP($B15,[1]高一上!$B:$W,9,0) -> 95.5 | BT15: =VLOOKUP($B15,[1]高一上!$B:$W,10,0) -> 肖秀秀 | BU15: =VLOOKUP($B15,[1]高一上!$B:$W,11,0) -> 58 | BV15: =VLOOKUP($B15,[1]高一上!$B:$W,12,0) -> 兰举银 | BW15: =VLOOKUP($B15,[1]高一上!$B:$W,13,0) -> 75.5 | BX15: =VLOOKUP($B15,[1]高一上!$B:$W,14,0) -> 任吉洪 | BY15: =VLOOKUP($B15,[1]高一上!$B:$W,15,0) -> 81 | BZ15: =VLOOKUP($B15,[1]高一上!$B:$W,16,0) -> 田友米 | CA15: =VLOOKUP($B15,[1]中考!$B:$N,5,0) -> 107 | CB15: =VLOOKUP($B15,[1]中考!$B:$N,6,0) -> 106 | CC15: =VLOOKUP($B15,[1]中考!$B:$N,7,0) -> 122 | CD15: =VLOOKUP($B15,[1]中考!$B:$N,8,0) -> 60 | CE15: =VLOOKUP($B15,[1]中考!$B:$N,9,0) -> 41 | CF15: =VLOOKUP($B15,[1]中考!$B:$N,10,0) -> 48
... A122: 513422200201184811 | B122: G513422200201184811 | C122: 04 | D122: 理科 | E122: 仁青偏初 | F122: 349 | G122: 100 | H122: 叶仁芳 | I122: 76 | J122: 苏朗偏初 | K122: 43 | L122: 东梅 | M122: 41 | N122: 兰举银 | O122: 39 | P122: 刘厚江 | Q122: 49.5 | R122: 高琴 | S122: =VLOOKUP(B122,[1]高三上!$B:$R,6,0) -> 94.5 | T122: =VLOOKUP(B122,[1]高三上!$B:$R,7,0) -> 叶仁芳 | U122: =VLOOKUP(B122,[1]高三上!$B:$R,8,0) -> 82 | V122: =VLOOKUP(B122,[1]高三上!$B:$R,9,0) -> 苏朗偏初 | W122: =VLOOKUP(B122,[1]高三上!$B:$R,10,0) -> 36 | X122: =VLOOKUP(B122,[1]高三上!$B:$R,11,0) -> 东梅 | Y122: =VLOOKUP(B122,[1]高三上!$B:$R,12,0) -> 41 | Z122: =VLOOKUP(B122,[1]高三上!$B:$R,13,0) -> 兰举银 | AA122: =VLOOKUP(B122,[1]高三上!$B:$R,14,0) -> 27 | AB122: =VLOOKUP(B122,[1]高三上!$B:$R,15,0) -> 刘厚江 | AC122: =VLOOKUP(B122,[1]高三上!$B:$R,16,0) -> 39 | AD122: =VLOOKUP(B122,[1]高三上!$B:$R,17,0) -> 高琴 | AE122: =VLOOKUP($B122,[1]高二下!$B:$R,6,0) -> 90.0 | AF122: =VLOOKUP($B122,[1]高二下!$B:$R,7,0) -> 叶仁芳 | AG122: =VLOOKUP($B122,[1]高二下!$B:$R,8,0) -> 40.0 | AH122: =VLOOKUP($B122,[1]高二下!$B:$R,9,0) -> 苏朗偏初 | AI122: =VLOOKUP($B122,[1]高二下!$B:$R,10,0) -> 22.0 | AJ122: =VLOOKUP($B122,[1]高二下!$B:$R,11,0) -> 东梅 | AK122: =VLOOKUP($B122,[1]高二下!$B:$R,12,0) -> 37.0 | AL122: =VLOOKUP($B122,[1]高二下!$B:$R,13,0) -> 兰举银 | AM122: =VLOOKUP($B122,[1]高二下!$B:$R,14,0) -> 44.0 | AN122: =VLOOKUP($B122,[1]高二下!$B:$R,15,0) -> 方帮林 | AO122: =VLOOKUP($B122,[1]高二下!$B:$R,16,0) -> 102.0 | AP122: =VLOOKUP($B122,[1]高二下!$B:$R,17,0) -> 高琴 | AQ122: =VLOOKUP($B122,[2]高二上!$B:$R,6,0) -> #N/A | AR122: =VLOOKUP($B122,[2]高二上!$B:$R,7,0) -> #N/A | AS122: =VLOOKUP($B122,[2]高二上!$B:$R,8,0) -> #N/A | AT122: =VLOOKUP($B122,[2]高二上!$B:$R,9,0) -> #N/A | AU122: =VLOOKUP($B122,[2]高二上!$B:$R,10,0) -> #N/A | AV122: =VLOOKUP($B122,[2]高二上!$B:$R,11,0) -> #N/A | AW122: =VLOOKUP($B122,[2]高二上!$B:$R,12,0) -> #N/A | AX122: =VLOOKUP($B122,[2]高二上!$B:$R,13,0) -> #N/A | AY122: =VLOOKUP($B122,[2]高二上!$B:$R,14,0) -> #N/A | AZ122: =VLOOKUP($B122,[2]高二上!$B:$R,15,0) -> #N/A | BA122: =VLOOKUP($B122,[2]高二上!$B:$R,16,0) -> #N/A | BB122: =VLOOKUP($B122,[2]高二上!$B:$R,17,0) -> #N/A | BC122: =VLOOKUP($B122,[1]高一下!$B:$R,6,0) -> 79 | BD122: =VLOOKUP($B122,[1]高一下!$B:$R,7,0) -> 叶仁芳 | BE122: =VLOOKUP($B122,[1]高一下!$B:$R,8,0) -> 87 | BF122: =VLOOKUP($B122,[1]高一下!$B:$R,9,0) -> 苏朗偏初 | BG122: =VLOOKUP($B122,[1]高一下!$B:$R,10,0) -> 34 | BH122: =VLOOKUP($B122,[1]高一下!$B:$R,11,0) -> 东梅 | BI122: =VLOOKUP($B122,[1]高一下!$B:$R,12,0) -> 38 | BJ122: =VLOOKUP($B122,[1]高一下!$B:$R,13,0) -> 兰举银 | BK122: =VLOOKUP($B122,[1]高一下!$B:$R,14,0) -> 41 | BL122: =VLOOKUP($B122,[1]高一下!$B:$R,15,0) -> 方帮林 | BM122: =VLOOKUP($B122,[1]高一下!$B:$R,16,0) -> 29 | BN122: =VLOOKUP($B122,[1]高一下!$B:$R,17,0) -> 高琴 | BO122: =VLOOKUP($B122,[1]高一上!$B:$W,5,0) -> 76 | BP122: =VLOOKUP($B122,[1]高一上!$B:$W,6,0) -> 叶仁芳 | BQ122: =VLOOKUP($B122,[1]高一上!$B:$W,7,0) -> 66 | BR122: =VLOOKUP($B122,[1]高一上!$B:$W,8,0) -> 苏朗偏初 | BS122: =VLOOKUP($B122,[1]高一上!$B:$W,9,0) -> 59.5 | BT122: =VLOOKUP($B122,[1]高一上!$B:$W,10,0) -> 东梅 | BU122: =VLOOKUP($B122,[1]高一上!$B:$W,11,0) -> 49.5 | BV122: =VLOOKUP($B122,[1]高一上!$B:$W,12,0) -> 兰举银 | BW122: =VLOOKUP($B122,[1]高一上!$B:$W,13,0) -> 46.5 | BX122: =VLOOKUP($B122,[1]高一上!$B:$W,14,0) -> 方帮林 | BY122: =VLOOKUP($B122,[1]高一上!$B:$W,15,0) -> 41 | BZ122: =VLOOKUP($B122,[1]高一上!$B:$W,16,0) -> 田友米 | CA122: =VLOOKUP($B122,[1]中考!$B:$N,5,0) -> 98 | CB122: =VLOOKUP($B122,[1]中考!$B:$N,6,0) -> 81 | CC122: =VLOOKUP($B122,[1]中考!$B:$N,7,0) -> 82 | CD122: =VLOOKUP($B122,[1]中考!$B:$N,8,0) -> 34 | CE122: =VLOOKUP($B122,[1]中考!$B:$N,9,0) -> 22 | CF122: =VLOOKUP($B122,[1]中考!$B:$N,10,0) -> 38
A123: 513422200606145423 | B123: G513422200606145423 | C123: 04 | D123: 理科 | E123: 小康珠 | F123: 319 | G123: 93 | H123: 叶仁芳 | I123: 50 | J123: 苏朗偏初 | K123: 42 | L123: 东梅 | M123: 40 | N123: 兰举银 | O123: 41 | P123: 刘厚江 | Q123: 53 | R123: 高琴 | S123: 0 | T123: =VLOOKUP(B123,[1]高三上!$B:$R,7,0) -> 叶仁芳 | U123: 0 | V123: =VLOOKUP(B123,[1]高三上!$B:$R,9,0) -> 苏朗偏初 | W123: 0 | X123: =VLOOKUP(B123,[1]高三上!$B:$R,11,0) -> 东梅 | Y123: 0 | Z123: =VLOOKUP(B123,[1]高三上!$B:$R,13,0) -> 兰举银 | AA123: 0 | AB123: =VLOOKUP(B123,[1]高三上!$B:$R,15,0) -> 刘厚江 | AC123: 0 | AD123: 高琴 | AE123: 0 | AF123: =VLOOKUP($B123,[1]高二下!$B:$R,7,0) -> 叶仁芳 | AG123: 0 | AH123: =VLOOKUP($B123,[1]高二下!$B:$R,9,0) -> 苏朗偏初 | AI123: 0 | AJ123: =VLOOKUP($B123,[1]高二下!$B:$R,11,0) -> 东梅 | AK123: 0 | AL123: =VLOOKUP($B123,[1]高二下!$B:$R,13,0) -> 兰举银 | AM123: 0 | AN123: =VLOOKUP($B123,[1]高二下!$B:$R,15,0) -> 方帮林 | AO123: 0 | AP123: =VLOOKUP($B123,[1]高二下!$B:$R,17,0) -> 高琴 | AQ123: =VLOOKUP($B123,[2]高二上!$B:$R,6,0) -> #N/A | AR123: =VLOOKUP($B123,[2]高二上!$B:$R,7,0) -> #N/A | AS123: =VLOOKUP($B123,[2]高二上!$B:$R,8,0) -> #N/A | AT123: =VLOOKUP($B123,[2]高二上!$B:$R,9,0) -> #N/A | AU123: =VLOOKUP($B123,[2]高二上!$B:$R,10,0) -> #N/A | AV123: =VLOOKUP($B123,[2]高二上!$B:$R,11,0) -> #N/A | AW123: =VLOOKUP($B123,[2]高二上!$B:$R,12,0) -> #N/A | AX123: =VLOOKUP($B123,[2]高二上!$B:$R,13,0) -> #N/A | AY123: =VLOOKUP($B123,[2]高二上!$B:$R,14,0) -> #N/A | AZ123: =VLOOKUP($B123,[2]高二上!$B:$R,15,0) -> #N/A | BA123: =VLOOKUP($B123,[2]高二上!$B:$R,16,0) -> #N/A | BB123: =VLOOKUP($B123,[2]高二上!$B:$R,17,0) -> #N/A | BC123: =VLOOKUP($B123,[1]高一下!$B:$R,6,0) -> 86 | BD123: =VLOOKUP($B123,[1]高一下!$B:$R,7,0) -> 叶仁芳 | BE123: =VLOOKUP($B123,[1]高一下!$B:$R,8,0) -> 46 | BF123: =VLOOKUP($B123,[1]高一下!$B:$R,9,0) -> 苏朗偏初 | BG123: =VLOOKUP($B123,[1]高一下!$B:$R,10,0) -> 49 | BH123: =VLOOKUP($B123,[1]高一下!$B:$R,11,0) -> 东梅 | BI123: =VLOOKUP($B123,[1]高一下!$B:$R,12,0) -> 31 | BJ123: =VLOOKUP($B123,[1]高一下!$B:$R,13,0) -> 兰举银 | BK123: =VLOOKUP($B123,[1]高一下!$B:$R,14,0) -> 40 | BL123: =VLOOKUP($B123,[1]高一下!$B:$R,15,0) -> 方帮林 | BM123: =VLOOKUP($B123,[1]高一下!$B:$R,16,0) -> 31 | BN123: =VLOOKUP($B123,[1]高一下!$B:$R,17,0) -> 高琴 | BO123: =VLOOKUP($B123,[1]高一上!$B:$W,5,0) -> 77 | BP123: =VLOOKUP($B123,[1]高一上!$B:$W,6,0) -> 叶仁芳 | BQ123: =VLOOKUP($B123,[1]高一上!$B:$W,7,0) -> 39 | BR123: =VLOOKUP($B123,[1]高一上!$B:$W,8,0) -> 苏朗偏初 | BS123: =VLOOKUP($B123,[1]高一上!$B:$W,9,0) -> 60 | BT123: =VLOOKUP($B123,[1]高一上!$B:$W,10,0) -> 东梅 | BU123: =VLOOKUP($B123,[1]高一上!$B:$W,11,0) -> 21.5 | BV123: =VLOOKUP($B123,[1]高一上!$B:$W,12,0) -> 兰举银 | BW123: =VLOOKUP($B123,[1]高一上!$B:$W,13,0) -> 43 | BX123: =VLOOKUP($B123,[1]高一上!$B:$W,14,0) -> 方帮林 | BY123: =VLOOKUP($B123,[1]高一上!$B:$W,15,0) -> 38 | BZ123: =VLOOKUP($B123,[1]高一上!$B:$W,16,0) -> 田友米 | CA123: =VLOOKUP($B123,[1]中考!$B:$N,5,0) -> 98 | CB123: =VLOOKUP($B123,[1]中考!$B:$N,6,0) -> 75 | CC123: =VLOOKUP($B123,[1]中考!$B:$N,7,0) -> 104 | CD123: =VLOOKUP($B123,[1]中考!$B:$N,8,0) -> 25 | CE123: =VLOOKUP($B123,[1]中考!$B:$N,9,0) -> 20 | CF123: =VLOOKUP($B123,[1]中考!$B:$N,10,0) -> 34
A124: 513422200309156011 | B124: G513422200309156011 | C124: 04 | D124: 理科 | E124: 杨路林 | F124: 271 | G124: 97 | H124: 叶仁芳 | I124: 32 | J124: 苏朗偏初 | K124: 36 | L124: 东梅 | M124: 31 | N124: 兰举银 | O124: 35.5 | P124: 刘厚江 | Q124: 39.5 | R124: 高琴 | S124: 0 | T124: 叶仁芳 | U124: 0 | V124: 苏朗偏初 | W124: 0 | X124: 东梅 | Y124: 0 | Z124: 兰举银 | AA124: 0 | AB124: 刘厚江 | AC124: 0 | AD124: 高琴 | AE124: 0 | AF124: =VLOOKUP($B124,[1]高二下!$B:$R,7,0) -> 叶仁芳 | AG124: 0 | AH124: =VLOOKUP($B124,[1]高二下!$B:$R,9,0) -> 苏朗偏初 | AI124: 0 | AJ124: =VLOOKUP($B124,[1]高二下!$B:$R,11,0) -> 东梅 | AK124: 0 | AL124: =VLOOKUP($B124,[1]高二下!$B:$R,13,0) -> 兰举银 | AM124: 0 | AN124: =VLOOKUP($B124,[1]高二下!$B:$R,15,0) -> 方帮林 | AO124: 0 | AP124: =VLOOKUP($B124,[1]高二下!$B:$R,17,0) -> 高琴 | AQ124: =VLOOKUP($B124,[2]高二上!$B:$R,6,0) -> #N/A | AR124: =VLOOKUP($B124,[2]高二上!$B:$R,7,0) -> #N/A | AS124: =VLOOKUP($B124,[2]高二上!$B:$R,8,0) -> #N/A | AT124: =VLOOKUP($B124,[2]高二上!$B:$R,9,0) -> #N/A | AU124: =VLOOKUP($B124,[2]高二上!$B:$R,10,0) -> #N/A | AV124: =VLOOKUP($B124,[2]高二上!$B:$R,11,0) -> #N/A | AW124: =VLOOKUP($B124,[2]高二上!$B:$R,12,0) -> #N/A | AX124: =VLOOKUP($B124,[2]高二上!$B:$R,13,0) -> #N/A | AY124: =VLOOKUP($B124,[2]高二上!$B:$R,14,0) -> #N/A | AZ124: =VLOOKUP($B124,[2]高二上!$B:$R,15,0) -> #N/A | BA124: =VLOOKUP($B124,[2]高二上!$B:$R,16,0) -> #N/A | BB124: =VLOOKUP($B124,[2]高二上!$B:$R,17,0) -> #N/A | BC124: =VLOOKUP($B124,[1]高一下!$B:$R,6,0) -> 81 | BD124: =VLOOKUP($B124,[1]高一下!$B:$R,7,0) -> 叶仁芳 | BE124: =VLOOKUP($B124,[1]高一下!$B:$R,8,0) -> 81 | BF124: =VLOOKUP($B124,[1]高一下!$B:$R,9,0) -> 苏朗偏初 | BG124: =VLOOKUP($B124,[1]高一下!$B:$R,10,0) -> 40.5 | BH124: =VLOOKUP($B124,[1]高一下!$B:$R,11,0) -> 东梅 | BI124: =VLOOKUP($B124,[1]高一下!$B:$R,12,0) -> 18 | BJ124: =VLOOKUP($B124,[1]高一下!$B:$R,13,0) -> 兰举银 | BK124: =VLOOKUP($B124,[1]高一下!$B:$R,14,0) -> 29 | BL124: =VLOOKUP($B124,[1]高一下!$B:$R,15,0) -> 方帮林 | BM124: =VLOOKUP($B124,[1]高一下!$B:$R,16,0) -> 26 | BN124: =VLOOKUP($B124,[1]高一下!$B:$R,17,0) -> 高琴 | BO124: =VLOOKUP($B124,[1]高一上!$B:$W,5,0) -> 88.5 | BP124: =VLOOKUP($B124,[1]高一上!$B:$W,6,0) -> 叶仁芳 | BQ124: =VLOOKUP($B124,[1]高一上!$B:$W,7,0) -> 46 | BR124: =VLOOKUP($B124,[1]高一上!$B:$W,8,0) -> 苏朗偏初 | BS124: =VLOOKUP($B124,[1]高一上!$B:$W,9,0) -> 36.5 | BT124: =VLOOKUP($B124,[1]高一上!$B:$W,10,0) -> 东梅 | BU124: =VLOOKUP($B124,[1]高一上!$B:$W,11,0) -> 34.5 | BV124: =VLOOKUP($B124,[1]高一上!$B:$W,12,0) -> 兰举银 | BW124: =VLOOKUP($B124,[1]高一上!$B:$W,13,0) -> 32.5 | BX124: =VLOOKUP($B124,[1]高一上!$B:$W,14,0) -> 方帮林 | BY124: =VLOOKUP($B124,[1]高一上!$B:$W,15,0) -> 26.5 | BZ124: =VLOOKUP($B124,[1]高一上!$B:$W,16,0) -> 田友米 | CA124: =VLOOKUP($B124,[1]中考!$B:$N,5,0) -> 102 | CB124: =VLOOKUP($B124,[1]中考!$B:$N,6,0) -> 89 | CC124: =VLOOKUP($B124,[1]中考!$B:$N,7,0) -> 61 | CD124: =VLOOKUP($B124,[1]中考!$B:$N,8,0) -> 33 | CE124: =VLOOKUP($B124,[1]中考!$B:$N,9,0) -> 24 | CF124: =VLOOKUP($B124,[1]中考!$B:$N,10,0) -> 35
A125: 51342220040719541X | B125: G51342220040719541X | C125: 04 | D125: 理科 | E125: 向欣伟 | F125: 253 | G125: 83 | H125: 叶仁芳 | I125: 38 | J125: 苏朗偏初 | K125: 45 | L125: 东梅 | M125: 26 | N125: 兰举银 | O125: 9 | P125: 刘厚江 | Q125: 52 | R125: 高琴 | S125: =VLOOKUP(B125,[1]高三上!$B:$R,6,0) -> 0 | T125: =VLOOKUP(B125,[1]高三上!$B:$R,7,0) -> 叶仁芳 | U125: =VLOOKUP(B125,[1]高三上!$B:$R,8,0) -> 0 | V125: =VLOOKUP(B125,[1]高三上!$B:$R,9,0) -> 苏朗偏初 | W125: =VLOOKUP(B125,[1]高三上!$B:$R,10,0) -> 0 | X125: =VLOOKUP(B125,[1]高三上!$B:$R,11,0) -> 东梅 | Y125: =VLOOKUP(B125,[1]高三上!$B:$R,12,0) -> 0 | Z125: =VLOOKUP(B125,[1]高三上!$B:$R,13,0) -> 兰举银 | AA125: =VLOOKUP(B125,[1]高三上!$B:$R,14,0) -> 0 | AB125: =VLOOKUP(B125,[1]高三上!$B:$R,15,0) -> 刘厚江 | AC125: =VLOOKUP(B125,[1]高三上!$B:$R,16,0) -> 0 | AD125: 张斯杰 | AE125: =VLOOKUP($B125,[1]高二下!$B:$R,6,0) -> 79.0 | AF125: =VLOOKUP($B125,[1]高二下!$B:$R,7,0) -> 叶仁芳 | AG125: =VLOOKUP($B125,[1]高二下!$B:$R,8,0) -> 42.0 | AH125: =VLOOKUP($B125,[1]高二下!$B:$R,9,0) -> 苏朗偏初 | AI125: =VLOOKUP($B125,[1]高二下!$B:$R,10,0) -> 25.0 | AJ125: =VLOOKUP($B125,[1]高二下!$B:$R,11,0) -> 东梅 | AK125: =VLOOKUP($B125,[1]高二下!$B:$R,12,0) -> 31.0 | AL125: =VLOOKUP($B125,[1]高二下!$B:$R,13,0) -> 兰举银 | AM125: =VLOOKUP($B125,[1]高二下!$B:$R,14,0) -> 33.0 | AN125: =VLOOKUP($B125,[1]高二下!$B:$R,15,0) -> 方帮林 | AO125: =VLOOKUP($B125,[1]高二下!$B:$R,16,0) -> 68.0 | AP125: =VLOOKUP($B125,[1]高二下!$B:$R,17,0) -> 高琴 | AQ125: =VLOOKUP($B125,[2]高二上!$B:$R,6,0) -> #N/A | AR125: =VLOOKUP($B125,[2]高二上!$B:$R,7,0) -> #N/A | AS125: =VLOOKUP($B125,[2]高二上!$B:$R,8,0) -> #N/A | AT125: =VLOOKUP($B125,[2]高二上!$B:$R,9,0) -> #N/A | AU125: =VLOOKUP($B125,[2]高二上!$B:$R,10,0) -> #N/A | AV125: =VLOOKUP($B125,[2]高二上!$B:$R,11,0) -> #N/A | AW125: =VLOOKUP($B125,[2]高二上!$B:$R,12,0) -> #N/A | AX125: =VLOOKUP($B125,[2]高二上!$B:$R,13,0) -> #N/A | AY125: =VLOOKUP($B125,[2]高二上!$B:$R,14,0) -> #N/A | AZ125: =VLOOKUP($B125,[2]高二上!$B:$R,15,0) -> #N/A | BA125: =VLOOKUP($B125,[2]高二上!$B:$R,16,0) -> #N/A | BB125: =VLOOKUP($B125,[2]高二上!$B:$R,17,0) -> #N/A | BC125: =VLOOKUP($B125,[1]高一下!$B:$R,6,0) -> #N/A | BD125: =VLOOKUP($B125,[1]高一下!$B:$R,7,0) -> #N/A | BE125: =VLOOKUP($B125,[1]高一下!$B:$R,8,0) -> #N/A | BF125: =VLOOKUP($B125,[1]高一下!$B:$R,9,0) -> #N/A | BG125: =VLOOKUP($B125,[1]高一下!$B:$R,10,0) -> #N/A | BH125: =VLOOKUP($B125,[1]高一下!$B:$R,11,0) -> #N/A | BI125: =VLOOKUP($B125,[1]高一下!$B:$R,12,0) -> #N/A | BJ125: =VLOOKUP($B125,[1]高一下!$B:$R,13,0) -> #N/A | BK125: =VLOOKUP($B125,[1]高一下!$B:$R,14,0) -> #N/A | BL125: =VLOOKUP($B125,[1]高一下!$B:$R,15,0) -> #N/A | BM125: =VLOOKUP($B125,[1]高一下!$B:$R,16,0) -> #N/A | BN125: =VLOOKUP($B125,[1]高一下!$B:$R,17,0) -> #N/A | BO125: =VLOOKUP($B125,[1]高一上!$B:$W,5,0) -> #N/A | BP125: =VLOOKUP($B125,[1]高一上!$B:$W,6,0) -> #N/A | BQ125: =VLOOKUP($B125,[1]高一上!$B:$W,7,0) -> #N/A | BR125: =VLOOKUP($B125,[1]高一上!$B:$W,8,0) -> #N/A | BS125: =VLOOKUP($B125,[1]高一上!$B:$W,9,0) -> #N/A | BT125: =VLOOKUP($B125,[1]高一上!$B:$W,10,0) -> #N/A | BU125: =VLOOKUP($B125,[1]高一上!$B:$W,11,0) -> #N/A | BV125: =VLOOKUP($B125,[1]高一上!$B:$W,12,0) -> #N/A | BW125: =VLOOKUP($B125,[1]高一上!$B:$W,13,0) -> #N/A | BX125: =VLOOKUP($B125,[1]高一上!$B:$W,14,0) -> #N/A | BY125: =VLOOKUP($B125,[1]高一上!$B:$W,15,0) -> #N/A | BZ125: =VLOOKUP($B125,[1]高一上!$B:$W,16,0) -> #N/A | CA125: =VLOOKUP($B125,[1]中考!$B:$N,5,0) -> #N/A | CB125: =VLOOKUP($B125,[1]中考!$B:$N,6,0) -> #N/A | CC125: =VLOOKUP($B125,[1]中考!$B:$N,7,0) -> #N/A | CD125: =VLOOKUP($B125,[1]中考!$B:$N,8,0) -> #N/A | CE125: =VLOOKUP($B125,[1]中考!$B:$N,9,0) -> #N/A | CF125: =VLOOKUP($B125,[1]中考!$B:$N,10,0) -> #N/A
A126: 513422200612083812 | B126: G513422200612083812 | C126: 05 | D126: 理科 | E126: 吴俊林 | F126: 545 | G126: 109 | H126: 李志友 | I126: 114 | J126: 次儿祝玛 | K126: 84 | L126: 肖秀秀 | M126: 89.5 | N126: 胡伟杰 | O126: 74 | P126: 郑强秋 | Q126: 74.5 | R126: 张斯杰 | S126: =VLOOKUP(B126,[1]高三上!$B:$R,6,0) -> 100 | T126: =VLOOKUP(B126,[1]高三上!$B:$R,7,0) -> 李志友 | U126: =VLOOKUP(B126,[1]高三上!$B:$R,8,0) -> 126 | V126: =VLOOKUP(B126,[1]高三上!$B:$R,9,0) -> 次儿祝玛 | W126: =VLOOKUP(B126,[1]高三上!$B:$R,10,0) -> 72 | X126: =VLOOKUP(B126,[1]高三上!$B:$R,11,0) -> 肖秀秀 | Y126: =VLOOKUP(B126,[1]高三上!$B:$R,12,0) -> 72 | Z126: =VLOOKUP(B126,[1]高三上!$B:$R,13,0) -> 胡伟杰 | AA126: =VLOOKUP(B126,[1]高三上!$B:$R,14,0) -> 56 | AB126: =VLOOKUP(B126,[1]高三上!$B:$R,15,0) -> 郑强秋 | AC126: =VLOOKUP(B126,[1]高三上!$B:$R,16,0) -> 60 | AD126: 张斯杰 | AE126: =VLOOKUP($B126,[1]高二下!$B:$R,6,0) -> 101.0 | AF126: =VLOOKUP($B126,[1]高二下!$B:$R,7,0) -> 李志友 | AG126: =VLOOKUP($B126,[1]高二下!$B:$R,8,0) -> 69.0 | AH126: =VLOOKUP($B126,[1]高二下!$B:$R,9,0) -> 次儿祝玛 | AI126: =VLOOKUP($B126,[1]高二下!$B:$R,10,0) -> 75.0 | AJ126: =VLOOKUP($B126,[1]高二下!$B:$R,11,0) -> 肖秀秀 | AK126: =VLOOKUP($B126,[1]高二下!$B:$R,12,0) -> 63.0 | AL126: =VLOOKUP($B126,[1]高二下!$B:$R,13,0) -> 胡伟杰 | AM126: =VLOOKUP($B126,[1]高二下!$B:$R,14,0) -> 84.0 | AN126: =VLOOKUP($B126,[1]高二下!$B:$R,15,0) -> 邱宗兰 | AO126: =VLOOKUP($B126,[1]高二下!$B:$R,16,0) -> 134.0 | AP126: =VLOOKUP($B126,[1]高二下!$B:$R,17,0) -> 龙志云 | AQ126: =VLOOKUP($B126,[2]高二上!$B:$R,6,0) -> #N/A | AR126: =VLOOKUP($B126,[2]高二上!$B:$R,7,0) -> #N/A | AS126: =VLOOKUP($B126,[2]高二上!$B:$R,8,0) -> #N/A | AT126: =VLOOKUP($B126,[2]高二上!$B:$R,9,0) -> #N/A | AU126: =VLOOKUP($B126,[2]高二上!$B:$R,10,0) -> #N/A | AV126: =VLOOKUP($B126,[2]高二上!$B:$R,11,0) -> #N/A | AW126: =VLOOKUP($B126,[2]高二上!$B:$R,12,0) -> #N/A | AX126: =VLOOKUP($B126,[2]高二上!$B:$R,13,0) -> #N/A | AY126: =VLOOKUP($B126,[2]高二上!$B:$R,14,0) -> #N/A | AZ126: =VLOOKUP($B126,[2]高二上!$B:$R,15,0) -> #N/A | BA126: =VLOOKUP($B126,[2]高二上!$B:$R,16,0) -> #N/A | BB126: =VLOOKUP($B126,[2]高二上!$B:$R,17,0) -> #N/A | BC126: =VLOOKUP($B126,[1]高一下!$B:$R,6,0) -> 92 | BD126: =VLOOKUP($B126,[1]高一下!$B:$R,7,0) -> 曹霞 | BE126: =VLOOKUP($B126,[1]高一下!$B:$R,8,0) -> 108 | BF126: =VLOOKUP($B126,[1]高一下!$B:$R,9,0) -> 次儿祝玛 | BG126: =VLOOKUP($B126,[1]高一下!$B:$R,10,0) -> 37.5 | BH126: =VLOOKUP($B126,[1]高一下!$B:$R,11,0) -> 肖秀秀 | BI126: =VLOOKUP($B126,[1]高一下!$B:$R,12,0) -> 78 | BJ126: =VLOOKUP($B126,[1]高一下!$B:$R,13,0) -> 胡伟杰 | BK126: =VLOOKUP($B126,[1]高一下!$B:$R,14,0) -> 70 | BL126: =VLOOKUP($B126,[1]高一下!$B:$R,15,0) -> 刘红 | BM126: =VLOOKUP($B126,[1]高一下!$B:$R,16,0) -> 67 | BN126: =VLOOKUP($B126,[1]高一下!$B:$R,17,0) -> 龙志云 | BO126: =VLOOKUP($B126,[1]高一上!$B:$W,5,0) -> 89.5 | BP126: =VLOOKUP($B126,[1]高一上!$B:$W,6,0) -> 曹霞 | BQ126: =VLOOKUP($B126,[1]高一上!$B:$W,7,0) -> 112 | BR126: =VLOOKUP($B126,[1]高一上!$B:$W,8,0) -> 次儿祝玛 | BS126: =VLOOKUP($B126,[1]高一上!$B:$W,9,0) -> 58 | BT126: =VLOOKUP($B126,[1]高一上!$B:$W,10,0) -> 肖秀秀 | BU126: =VLOOKUP($B126,[1]高一上!$B:$W,11,0) -> 87 | BV126: =VLOOKUP($B126,[1]高一上!$B:$W,12,0) -> 胡伟杰 | BW126: =VLOOKUP($B126,[1]高一上!$B:$W,13,0) -> 59 | BX126: =VLOOKUP($B126,[1]高一上!$B:$W,14,0) -> 刘红 | BY126: =VLOOKUP($B126,[1]高一上!$B:$W,15,0) -> 72.5 | BZ126: =VLOOKUP($B126,[1]高一上!$B:$W,16,0) -> 龙志云 | CA126: =VLOOKUP($B126,[1]中考!$B:$N,5,0) -> 106 | CB126: =VLOOKUP($B126,[1]中考!$B:$N,6,0) -> 119 | CC126: =VLOOKUP($B126,[1]中考!$B:$N,7,0) -> 74 | CD126: =VLOOKUP($B126,[1]中考!$B:$N,8,0) -> 53 | CE126: =VLOOKUP($B126,[1]中考!$B:$N,9,0) -> 37 | CF126: =VLOOKUP($B126,[1]中考!$B:$N,10,0) -> 40
