Workbook
Name 科类: [1]成绩册!$F$3:$F$613

Sheet 质量奖
A1: 高二教学质量奖
A2: 科目 | B2: 奖项 | C2: 奖励金额/元 | D2: 实发金额/元
A3: 高二历史类语文（6个班） | B3: 一等奖 | C3: =7000*6 -> 42000 | D3: =C3*0.8 -> 33600
A4: 高二历史类数学（7个班） | B4: 一等奖 | C4: =7000*7 -> 49000 | D4: =C4*0.8 -> 39200
A5: 高二物理类语文（6个班） | B5: 一等奖 | C5: =7000*6 -> 42000 | D5: =C5*0.8 -> 33600
A6: 高二物理类化学（5个班） | B6: 一等奖 | C6: =7000*0.6*5 -> 21000 | D6: =C6*0.8 -> 16800
A7: 高二历史类历史（7个班） | B7: 二等奖 | C7: =5000*7*0.6 -> 21000 | D7: =C7*0.8 -> 16800
A8: 高二历史类政治（5个班） | B8: 二等奖 | C8: =5000*5*0.6 -> 15000 | D8: =C8*0.8 -> 12000
A9: 高二历史类生物（2个班） | B9: 二等奖 | C9: =5000*2*0.6 -> 6000 | D9: =C9*0.8 -> 4800
A10: 高二物理类数学（6个班） | B10: 二等奖 | C10: =5000*6 -> 30000 | D10: =C10*0.8 -> 24000
A11: 高二物理类生物（3个班） | B11: 二等奖 | C11: =5000*3*0.6 -> 9000 | D11: =C11*0.8 -> 7200
A12: 高二物理类地理（2个班） | B12: 二等奖 | C12: =5000*2*0.6 -> 6000 | D12: =C12*0.8 -> 4800
A13: 高二历史类地理（2个班） | B13: 三等奖 | C13: =3000*0.6*2 -> 3600 | D13: =C13*0.8 -> 2880
A14: 高二物理类英语（3个班） | B14: 三等奖 | C14: =3000*3 -> 9000 | D14: =C14*0.8 -> 7200
B15: 合计 | C15: =SUM(C3:C14) -> 253600 | D15: =SUM(D3:D14) -> 202880 | F15: =D15+进步奖!D12 -> 342080
B16: 奖项 | C16: 奖励金额/元 | D16: 实发金额/元
A17: 1.高二历史类数学 | B17: 一等奖 | C17: 49000 | D17: 39200 | I17: 工作量
A18: 班级 | B18: 科目 | C18: 参考人数 | D18: 年级平均分 | E18: 班平均分 | F18: 班平均分/年级平均分 | G18: 名次 | H18: 任课课师 | I18: 上期课时 | J18: 下期课时 | K18: 课时奖 | L18: 贡献奖 | M18: 合计
A19: 高二年级（9 ）班 | B19: 数学 | C19: 43 | D19: 55.649068 | E19: 53.625 | F19: =E19/D19 -> 0.96362799 | G19: 1 | H19: 马俊 | I19: 7 | J19: 8 | K19: =$D$17*0.4*SUM(I19:J19)/SUM($I$19:$J$25) -> 2240 | L19: =$D$17*0.6*0.7*E19/SUM($E$19:$E$25)+$D$17*0.6*0.3*F19/SUM($F$19:$F$25) -> 3923.5823 | M19: =SUM(K19:L19) -> 6163.5823
A20: 高二年级（14 ）班 | B20: 数学 | C20: 40 | D20: 55.649068 | E20: 51.903226 | F20: =E20/D20 -> 0.93268814 | G20: 2 | H20: 马俊 | I20: 7 | J20: 8 | K20: =$D$17*0.4*SUM(I20:J20)/SUM($I$19:$J$25) -> 2240 | L20: =$D$17*0.6*0.7*E20/SUM($E$19:$E$25)+$D$17*0.6*0.3*F20/SUM($F$19:$F$25) -> 3797.6052 | M20: =SUM(K20:L20) -> 6037.6052
A21: 高二年级（10 ）班 | B21: 数学 | C21: 40 | D21: 55.649068 | E21: 45.804348 | F21: =E21/D21 -> 0.82309281 | G21: 3 | H21: 喇燕 | I21: 7 | J21: 8 | K21: =$D$17*0.4*SUM(I21:J21)/SUM($I$19:$J$25) -> 2240 | L21: =$D$17*0.6*0.7*E21/SUM($E$19:$E$25)+$D$17*0.6*0.3*F21/SUM($F$19:$F$25) -> 3351.3684 | M21: =SUM(K21:L21) -> 5591.3684
A22: 高二年级（15 ）班 | B22: 数学 | C22: 45 | D22: 55.649068 | E22: 44.833333 | F22: =E22/D22 -> 0.80564392 | G22: 4 | H22: 潘勇 | I22: 7 | J22: 8 | K22: =$D$17*0.4*SUM(I22:J22)/SUM($I$19:$J$25) -> 2240 | L22: =$D$17*0.6*0.7*E22/SUM($E$19:$E$25)+$D$17*0.6*0.3*F22/SUM($F$19:$F$25) -> 3280.3221 | M22: =SUM(K22:L22) -> 5520.3221
A23: 高二年级（13 ）班 | B23: 数学 | C23: 44 | D23: 55.649068 | E23: 43.8 | F23: =E23/D23 -> 0.78707517 | G23: 5 | H23: 吕开绒/徐万雄 | I23: 7 | J23: 8 | K23: =$D$17*0.4*SUM(I23:J23)/SUM($I$19:$J$25) -> 2240 | L23: =$D$17*0.6*0.7*E23/SUM($E$19:$E$25)+$D$17*0.6*0.3*F23/SUM($F$19:$F$25) -> 3204.7162 | M23: =SUM(K23:L23) -> 5444.7162
A24: 高二年级（11 ）班 | B24: 数学 | C24: 41 | D24: 55.649068 | E24: 42.808511 | F24: =E24/D24 -> 0.76925835 | G24: 6 | H24: 曹云萍 | I24: 7 | J24: 8 | K24: =$D$17*0.4*SUM(I24:J24)/SUM($I$19:$J$25) -> 2240 | L24: =$D$17*0.6*0.7*E24/SUM($E$19:$E$25)+$D$17*0.6*0.3*F24/SUM($F$19:$F$25) -> 3132.1718 | M24: =SUM(K24:L24) -> 5372.1718
A25: 高二年级（12 ）班 | B25: 数学 | C25: 48 | D25: 55.649068 | E25: 38.681818 | F25: =E25/D25 -> 0.69510271 | G25: 7 | H25: 钟海昌 | I25: 7 | J25: 8 | K25: =$D$17*0.4*SUM(I25:J25)/SUM($I$19:$J$25) -> 2240 | L25: =$D$17*0.6*0.7*E25/SUM($E$19:$E$25)+$D$17*0.6*0.3*F25/SUM($F$19:$F$25) -> 2830.234 | M25: =SUM(K25:L25) -> 5070.234
J26: 合计 | K26: =SUM(K19:K25) -> 15680 | L26: =SUM(L19:L25) -> 23520 | M26: =SUM(K26:L26) -> 39200
B27: 奖项 | C27: 奖励金额/元 | D27: 实发金额/元
A28: 2.高二历史类生物 | B28: 二等奖 | C28: 6000 | D28: 4800 | I28: 工作量
A29: 班级 | B29: 科目 | C29: 参考人数 | D29: 年级平均分 | E29: 班平均分 | F29: 班平均分/年级平均分 | G29: 名次 | H29: 任课课师 | I29: 上期课时 | J29: 下期课时 | K29: 课时奖 | L29: 贡献奖 | M29: 合计
A30: 高二年级（13）班 | B30: 生物 | C30: 44 | D30: 74.484365 | E30: 70.335 | F30: =E30/D30 -> 0.94429214 | G30: 1 | H30: 尼玛布池 | I30: 5 | J30: 6 | K30: =$D$28*0.4*SUM(I30:J30)/SUM($I$30:$J$31) -> 960 | L30: =$D$28*0.6*0.7*E30/SUM($E$30:$E$31)+$D$28*0.6*0.3*F30/SUM($F$30:$F$31) -> 1495.8615 | M30: =SUM(K30:L30) -> 2455.8615
A31: 高二年级（12）班 | B31: 生物 | C31: 41 | D31: 74.484365 | E31: 65.081818 | F31: =E31/D31 -> 0.87376483 | G31: 2 | H31: 张弘 | I31: 5 | J31: 6 | K31: =$D$28*0.4*SUM(I31:J31)/SUM($I$30:$J$31) -> 960 | L31: =$D$28*0.6*0.7*E31/SUM($E$30:$E$31)+$D$28*0.6*0.3*F31/SUM($F$30:$F$31) -> 1384.1385 | M31: =SUM(K31:L31) -> 2344.1385
J32: 合计 | K32: =SUM(K30:K31) -> 1920 | L32: =SUM(L30:L31) -> 2880 | M32: =SUM(K32:L32) -> 4800
B33: 奖项 | C33: 奖励金额/元 | D33: 实发金额/元
A34: 3.高二历史类语文 | B34: 一等奖 | C34: 42000 | D34: 33600 | I34: 工作量
A35: 班级 | B35: 科目 | C35: 参考人数 | D35: 年级平均分 | E35: 班平均分 | F35: 班平均分/年级平均分 | G35: 名次 | H35: 任课课师 | I35: 上期课时 | J35: 下期课时 | K35: 课时奖 | L35: 贡献奖 | M35: 合计
A36: 高二年级（9 ）班 | B36: 语文 | C36: 44 | D36: 86.434783 | E36: 90.6 | F36: =E36/D36 -> 1.0481891 | G36: 1 | H36: 岳子琦 | I36: 7 | J36: 7 | K36: =$D$34*0.4*SUM(I36:J36)/SUM($I$36:$J$42) -> 1920 | L36: =$D$34*0.6*0.7*E36/SUM($E$36:$E$42)+$D$34*0.6*0.3*F36/SUM($F$36:$F$42) -> 3056.6066 | M36: =SUM(K36:L36) -> 4976.6066
A37: 高二年级（12 ）班 | B37: 语文 | C37: 45 | D37: 86.434783 | E37: 87.840909 | F37: =E37/D37 -> 1.0162681 | G37: 2 | H37: 杨翁基之玛 | I37: 7 | J37: 7 | K37: =$D$34*0.4*SUM(I37:J37)/SUM($I$36:$J$42) -> 1920 | L37: =$D$34*0.6*0.7*E37/SUM($E$36:$E$42)+$D$34*0.6*0.3*F37/SUM($F$36:$F$42) -> 2963.5221 | M37: =SUM(K37:L37) -> 4883.5221
A38: 高二年级（13 ）班 | B38: 语文 | C38: 40 | D38: 86.434783 | E38: 86.7 | F38: =E38/D38 -> 1.0030684 | G38: 3 | H38: 易涛 | I38: 7 | J38: 7 | K38: =$D$34*0.4*SUM(I38:J38)/SUM($I$36:$J$42) -> 1920 | L38: =$D$34*0.6*0.7*E38/SUM($E$36:$E$42)+$D$34*0.6*0.3*F38/SUM($F$36:$F$42) -> 2925.0309 | M38: =SUM(K38:L38) -> 4845.0309
A39: 高二年级（10 ）班 | B39: 语文 | C39: 48 | D39: 86.434783 | E39: 86.152174 | F39: =E39/D39 -> 0.99673038 | G39: 4 | H39: 杨翁基之玛 | I39: 7 | J39: 7 | K39: =$D$34*0.4*SUM(I39:J39)/SUM($I$36:$J$42) -> 1920 | L39: =$D$34*0.6*0.7*E39/SUM($E$36:$E$42)+$D$34*0.6*0.3*F39/SUM($F$36:$F$42) -> 2906.5486 | M39: =SUM(K39:L39) -> 4826.5486
A40: 高二年级（11 ）班 | B40: 语文 | C40: 48 | D40: 86.434783 | E40: 84.893617 | F40: =E40/D40 -> 0.98216961 | G40: 5 | H40: 陈光汇 | I40: 7 | J40: 7 | K40: =$D$34*0.4*SUM(I40:J40)/SUM($I$36:$J$42) -> 1920 | L40: =$D$34*0.6*0.7*E40/SUM($E$36:$E$42)+$D$34*0.6*0.3*F40/SUM($F$36:$F$42) -> 2864.0882 | M40: =SUM(K40:L40) -> 4784.0882
A41: 高二年级（15 ）班 | B41: 语文 | C41: 48 | D41: 86.434783 | E41: 82.305556 | F41: =E41/D41 -> 0.95222725 | G41: 6 | H41: 甲阿祝玛 | I41: 7 | J41: 7 | K41: =$D$34*0.4*SUM(I41:J41)/SUM($I$36:$J$42) -> 1920 | L41: =$D$34*0.6*0.7*E41/SUM($E$36:$E$42)+$D$34*0.6*0.3*F41/SUM($F$36:$F$42) -> 2776.7738 | M41: =SUM(K41:L41) -> 4696.7738
A42: 高二年级（14 ）班 | B42: 语文 | C42: 43 | D42: 86.434783 | E42: 79.064516 | F42: =E42/D42 -> 0.91473032 | G42: 7 | H42: 格绒燚西 | I42: 7 | J42: 7 | K42: =$D$34*0.4*SUM(I42:J42)/SUM($I$36:$J$42) -> 1920 | L42: =$D$34*0.6*0.7*E42/SUM($E$36:$E$42)+$D$34*0.6*0.3*F42/SUM($F$36:$F$42) -> 2667.4296 | M42: =SUM(K42:L42) -> 4587.4296
J43: 合计 | K43: =SUM(K36:K42) -> 13440 | L43: =SUM(L36:L42) -> 20160 | M43: =SUM(K43:L43) -> 33600
B44: 奖项 | C44: 奖励金额/元 | D44: 实发金额/元
A45: 4.高二历史类政治 | B45: 二等奖 | C45: 15000 | D45: 12000 | I45: 工作量
A46: 班级 | B46: 科目 | C46: 参考人数 | D46: 年级平均分 | E46: 班平均分 | F46: 班平均分/年级平均分 | G46: 名次 | H46: 任课课师 | I46: 上期课时 | J46: 下期课时 | K46: 课时奖 | L46: 贡献奖 | M46: 合计
A47: 高二年级（9）班 | B47: 政治 | C47: 41 | D47: 73.749719 | E47: 81.5375 | F47: =E47/D47 -> 1.1055974 | G47: 1 | H47: 马巫各 | I47: 6 | J47: 5 | K47: =$D$45*0.4*SUM(I47:J47)/SUM($I$47:$J$53) -> 685.71429 | L47: =$D$45*0.6*0.7*E47/SUM($E$47:$E$53)+$D$45*0.6*0.3*F47/SUM($F$47:$F$53) -> 1128.3573 | M47: =SUM(K47:L47) -> 1814.0716
A48: 高二年级（11）班 | B48: 政治 | C48: 44 | D48: 73.749719 | E48: 77.502128 | F48: =E48/D48 -> 1.0508803 | G48: 2 | H48: 胡东缘 | I48: 6 | J48: 5 | K48: =$D$45*0.4*SUM(I48:J48)/SUM($I$47:$J$53) -> 685.71429 | L48: =$D$45*0.6*0.7*E48/SUM($E$47:$E$53)+$D$45*0.6*0.3*F48/SUM($F$47:$F$53) -> 1072.5138 | M48: =SUM(K48:L48) -> 1758.2281
A49: 高二年级（12）班 | B49: 政治 | C49: 40 | D49: 73.749719 | E49: 76.822727 | F49: =E49/D49 -> 1.0416681 | G49: 3 | H49: 胡东缘 | I49: 6 | J49: 5 | K49: =$D$45*0.4*SUM(I49:J49)/SUM($I$47:$J$53) -> 685.71429 | L49: =$D$45*0.6*0.7*E49/SUM($E$47:$E$53)+$D$45*0.6*0.3*F49/SUM($F$47:$F$53) -> 1063.1119 | M49: =SUM(K49:L49) -> 1748.8262
A50: 高二年级（13）班 | B50: 政治 | C50: 45 | D50: 73.749719 | E50: 74.43 | F50: =E50/D50 -> 1.0092242 | G50: 4 | H50: 胡东缘/吴文艺 | I50: 6 | J50: 5 | K50: =$D$45*0.4*SUM(I50:J50)/SUM($I$47:$J$53) -> 685.71429 | L50: =$D$45*0.6*0.7*E50/SUM($E$47:$E$53)+$D$45*0.6*0.3*F50/SUM($F$47:$F$53) -> 1030.0001 | M50: =SUM(K50:L50) -> 1715.7144
A51: 高二年级（10）班 | B51: 政治 | C51: 40 | D51: 73.749719 | E51: 73.03913 | F51: =E51/D51 -> 0.99036486 | G51: 5 | H51: 纪春权/吴文艺 | I51: 6 | J51: 5 | K51: =$D$45*0.4*SUM(I51:J51)/SUM($I$47:$J$53) -> 685.71429 | L51: =$D$45*0.6*0.7*E51/SUM($E$47:$E$53)+$D$45*0.6*0.3*F51/SUM($F$47:$F$53) -> 1010.7526 | M51: =SUM(K51:L51) -> 1696.4669
A52: 高二年级（14）班 | B52: 政治 | C52: 48 | D52: 73.749719 | E52: 68.941935 | F52: =E52/D52 -> 0.93480947 | G52: 6 | H52: 纪春权 | I52: 6 | J52: 5 | K52: =$D$45*0.4*SUM(I52:J52)/SUM($I$47:$J$53) -> 685.71429 | L52: =$D$45*0.6*0.7*E52/SUM($E$47:$E$53)+$D$45*0.6*0.3*F52/SUM($F$47:$F$53) -> 954.05351 | M52: =SUM(K52:L52) -> 1639.7678
A53: 高二年级（15）班 | B53: 政治 | C53: 43 | D53: 73.749719 | E53: 68.013889 | F53: =E53/D53 -> 0.92222573 | G53: 7 | H53: 马巫各 | I53: 6 | J53: 5 | K53: =$D$45*0.4*SUM(I53:J53)/SUM($I$47:$J$53) -> 685.71429 | L53: =$D$45*0.6*0.7*E53/SUM($E$47:$E$53)+$D$45*0.6*0.3*F53/SUM($F$47:$F$53) -> 941.21073 | M53: =SUM(K53:L53) -> 1626.925
J54: 合计 | K54: =SUM(K47:K53) -> 4800 | L54: =SUM(L47:L53) -> 7200 | M54: =SUM(K54:L54) -> 12000
B55: 奖项 | C55: 奖励金额/元 | D55: 实发金额/元
A56: 5.高二物理类数学 | B56: 二等奖 | C56: 30000 | D56: 24000 | I56: 工作量
A57: 班级 | B57: 科目 | C57: 参考人数 | D57: 年级平均分 | E57: 班平均分 | F57: 班平均分/年级平均分 | G57: 名次 | H57: 任课课师 | I57: 上期课时 | J57: 下期课时 | K57: 课时奖 | L57: 贡献奖 | M57: 合计
A58: 高二年级（1 ）班 | B58: 数学 | C58: 43 | D58: 55.649068 | E58: 83.069767 | F58: =E58/D58 -> 1.4927432 | G58: 1 | H58: 赵云川 | I58: 7 | J58: 8 | K58: =$D$56*0.4*SUM(I58:J58)/SUM($I$58:$J$65) -> 1200 | L58: =$D$56*0.6*0.7*E58/SUM($E$58:$E$65)+$D$56*0.6*0.3*F58/SUM($F$58:$F$65) -> 2367.6122 | M58: =SUM(K58:L58) -> 3567.6122
A59: 高二年级（3 ）班 | B59: 数学 | C59: 48 | D59: 55.649068 | E59: 75.021739 | F59: =E59/D59 -> 1.3481221 | G59: 2 | H59: 央宗娜姆 | I59: 7 | J59: 8 | K59: =$D$56*0.4*SUM(I59:J59)/SUM($I$58:$J$65) -> 1200 | L59: =$D$56*0.6*0.7*E59/SUM($E$58:$E$65)+$D$56*0.6*0.3*F59/SUM($F$58:$F$65) -> 2138.2314 | M59: =SUM(K59:L59) -> 3338.2314
A60: 高二年级（6 ）班 | B60: 数学 | C60: 48 | D60: 55.649068 | E60: 67.18 | F60: =E60/D60 -> 1.207208 | G60: 3 | H60: 央宗娜姆 | I60: 7 | J60: 8 | K60: =$D$56*0.4*SUM(I60:J60)/SUM($I$58:$J$65) -> 1200 | L60: =$D$56*0.6*0.7*E60/SUM($E$58:$E$65)+$D$56*0.6*0.3*F60/SUM($F$58:$F$65) -> 1914.7301 | M60: =SUM(K60:L60) -> 3114.7301
A61: 高二年级（4 ）班 | B61: 数学 | C61: 50 | D61: 55.649068 | E61: 64.612245 | F61: =E61/D61 -> 1.1610661 | G61: 4 | H61: 喇燕 | I61: 7 | J61: 8 | K61: =$D$56*0.4*SUM(I61:J61)/SUM($I$58:$J$65) -> 1200 | L61: =$D$56*0.6*0.7*E61/SUM($E$58:$E$65)+$D$56*0.6*0.3*F61/SUM($F$58:$F$65) -> 1841.5453 | M61: =SUM(K61:L61) -> 3041.5453
A62: 高二年级（2 ）班 | B62: 数学 | C62: 48 | D62: 55.649068 | E62: 61.652174 | F62: =E62/D62 -> 1.1078743 | G62: 5 | H62: 钟海昌 | I62: 7 | J62: 8 | K62: =$D$56*0.4*SUM(I62:J62)/SUM($I$58:$J$65) -> 1200 | L62: =$D$56*0.6*0.7*E62/SUM($E$58:$E$65)+$D$56*0.6*0.3*F62/SUM($F$58:$F$65) -> 1757.1788 | M62: =SUM(K62:L62) -> 2957.1788
A63: 高二年级（5 ）班 | B63: 数学 | C63: 50 | D63: 55.649068 | E63: 56.866667 | F63: =E63/D63 -> 1.0218799 | G63: 6 | H63: 赵云川 | I63: 7 | J63: 8 | K63: =$D$56*0.4*SUM(I63:J63)/SUM($I$58:$J$65) -> 1200 | L63: =$D$56*0.6*0.7*E63/SUM($E$58:$E$65)+$D$56*0.6*0.3*F63/SUM($F$58:$F$65) -> 1620.7847 | M63: =SUM(K63:L63) -> 2820.7847
A64: 高二年级（7 ）班 | B64: 数学 | C64: 41 | D64: 55.649068 | E64: 54.860465 | F64: =E64/D64 -> 0.985829 | G64: 7 | H64: 曹云萍 | I64: 7 | J64: 8 | K64: =$D$56*0.4*SUM(I64:J64)/SUM($I$58:$J$65) -> 1200 | L64: =$D$56*0.6*0.7*E64/SUM($E$58:$E$65)+$D$56*0.6*0.3*F64/SUM($F$58:$F$65) -> 1563.605 | M64: =SUM(K64:L64) -> 2763.605
A65: 高二年级（8 ）班 | B65: 数学 | C65: 48 | D65: 55.649068 | E65: 41.973684 | F65: =E65/D65 -> 0.75425673 | G65: 8 | H65: 吕开绒/徐万雄 | I65: 7 | J65: 8 | K65: =$D$56*0.4*SUM(I65:J65)/SUM($I$58:$J$65) -> 1200 | L65: =$D$56*0.6*0.7*E65/SUM($E$58:$E$65)+$D$56*0.6*0.3*F65/SUM($F$58:$F$65) -> 1196.3125 | M65: =SUM(K65:L65) -> 2396.3125
J66: 合计 | K66: =SUM(K58:K65) -> 9600 | L66: =SUM(L58:L65) -> 14400 | M66: =SUM(K66:L66) -> 24000
B67: 奖项 | C67: 奖励金额/元 | D67: 实发金额/元
A68: 6.高二物理类化学 | B68: 一等奖 | C68: 21000 | D68: 16800 | I68: 工作量
A69: 班级 | B69: 科目 | C69: 参考人数 | D69: 年级平均分 | E69: 班平均分 | F69: 班平均分/年级平均分 | G69: 名次 | H69: 任课课师 | I69: 上期课时 | J69: 下期课时 | K69: 课时奖 | L69: 贡献奖 | M69: 合计
A70: 高二年级（1 ）班 | B70: 化学 | C70: 43 | D70: 75.258689 | E70: 84.283721 | F70: =E70/D70 -> 1.1199201 | G70: 1 | H70: 叶小军 | I70: 5 | J70: 6 | K70: =$D$68*0.4*SUM(I70:J70)/SUM($I$70:$J$76) -> 960 | L70: =$D$68*0.6*0.7*E70/SUM($E$70:$E$76)+$D$68*0.6*0.3*F70/SUM($F$70:$F$76) -> 1620.2274 | M70: =SUM(K70:L70) -> 2580.2274
A71: 高二年级（3 ）班 | B71: 化学 | C71: 48 | D71: 75.258689 | E71: 80.734783 | F71: =E71/D71 -> 1.0727636 | G71: 2 | H71: 何传英 | I71: 5 | J71: 6 | K71: =$D$68*0.4*SUM(I71:J71)/SUM($I$70:$J$76) -> 960 | L71: =$D$68*0.6*0.7*E71/SUM($E$70:$E$76)+$D$68*0.6*0.3*F71/SUM($F$70:$F$76) -> 1552.0044 | M71: =SUM(K71:L71) -> 2512.0044
A72: 高二年级（2 ）班 | B72: 化学 | C72: 48 | D72: 75.258689 | E72: 79.478261 | F72: =E72/D72 -> 1.0560676 | G72: 3 | H72: 李荣鑫 | I72: 5 | J72: 6 | K72: =$D$68*0.4*SUM(I72:J72)/SUM($I$70:$J$76) -> 960 | L72: =$D$68*0.6*0.7*E72/SUM($E$70:$E$76)+$D$68*0.6*0.3*F72/SUM($F$70:$F$76) -> 1527.8496 | M72: =SUM(K72:L72) -> 2487.8496
A73: 高二年级（6 ）班 | B73: 化学 | C73: 50 | D73: 75.258689 | E73: 74.656 | F73: =E73/D73 -> 0.99199177 | G73: 4 | H73: 李荣鑫 | I73: 5 | J73: 6 | K73: =$D$68*0.4*SUM(I73:J73)/SUM($I$70:$J$76) -> 960 | L73: =$D$68*0.6*0.7*E73/SUM($E$70:$E$76)+$D$68*0.6*0.3*F73/SUM($F$70:$F$76) -> 1435.149 | M73: =SUM(K73:L73) -> 2395.149
A74: 高二年级（4 ）班 | B74: 化学 | C74: 50 | D74: 75.258689 | E74: 70.583673 | F74: =E74/D74 -> 0.93788073 | G74: 5 | H74: 马红琦 | I74: 5 | J74: 6 | K74: =$D$68*0.4*SUM(I74:J74)/SUM($I$70:$J$76) -> 960 | L74: =$D$68*0.6*0.7*E74/SUM($E$70:$E$76)+$D$68*0.6*0.3*F74/SUM($F$70:$F$76) -> 1356.8646 | M74: =SUM(K74:L74) -> 2316.8646
A75: 高二年级（7 ）班 | B75: 化学 | C75: 48 | D75: 75.258689 | E75: 69.427273 | F75: =E75/D75 -> 0.92251505 | G75: 6 | H75: 叶小军 | I75: 5 | J75: 6 | K75: =$D$68*0.4*SUM(I75:J75)/SUM($I$70:$J$76) -> 960 | L75: =$D$68*0.6*0.7*E75/SUM($E$70:$E$76)+$D$68*0.6*0.3*F75/SUM($F$70:$F$76) -> 1334.6346 | M75: =SUM(K75:L75) -> 2294.6346
A76: 高二年级（8 ）班 | B76: 化学 | C76: 40 | D76: 75.258689 | E76: 65.194737 | F76: =E76/D76 -> 0.86627522 | G76: 7 | H76: 马红琦 | I76: 5 | J76: 6 | K76: =$D$68*0.4*SUM(I76:J76)/SUM($I$70:$J$76) -> 960 | L76: =$D$68*0.6*0.7*E76/SUM($E$70:$E$76)+$D$68*0.6*0.3*F76/SUM($F$70:$F$76) -> 1253.2704 | M76: =SUM(K76:L76) -> 2213.2704
J77: 合计 | K77: =SUM(K70:K76) -> 6720 | L77: =SUM(L70:L76) -> 10080 | M77: =SUM(K77:L77) -> 16800
B78: 奖项 | C78: 奖励金额/元 | D78: 实发金额/元
A79: 7.高二物理类生物 | B79: 二等奖 | C79: 9000 | D79: 7200 | I79: 工作量
A80: 班级 | B80: 科目 | C80: 参考人数 | D80: 年级平均分 | E80: 班平均分 | F80: 班平均分/年级平均分 | G80: 名次 | H80: 任课课师 | I80: 上期课时 | J80: 下期课时 | K80: 课时奖 | L80: 贡献奖 | M80: 合计
A81: 高二年级（1 ）班 | B81: 生物 | C81: 43 | D81: 74.484365 | E81: 85.009302 | F81: =E81/D81 -> 1.141304 | G81: 1 | H81: 彭桦 | I81: 5 | J81: 6 | K81: =$D$79*0.4*SUM(I81:J81)/SUM($I$81:$J$85) -> 576 | L81: =$D$79*0.6*0.7*E81/SUM($E$81:$E$85)+$D$79*0.6*0.3*F81/SUM($F$81:$F$85) -> 953.03298 | M81: =SUM(K81:L81) -> 1529.033
A82: 高二年级（2 ）班 | B82: 生物 | C82: 48 | D82: 74.484365 | E82: 79.876087 | F82: =E82/D82 -> 1.0723873 | G82: 2 | H82: 彭桦 | I82: 5 | J82: 6 | K82: =$D$79*0.4*SUM(I82:J82)/SUM($I$81:$J$85) -> 576 | L82: =$D$79*0.6*0.7*E82/SUM($E$81:$E$85)+$D$79*0.6*0.3*F82/SUM($F$81:$F$85) -> 895.48488 | M82: =SUM(K82:L82) -> 1471.4849
A83: 高二年级（3 ）班 | B83: 生物 | C83: 48 | D83: 74.484365 | E83: 79.513043 | F83: =E83/D83 -> 1.0675132 | G83: 3 | H83: 尼玛布池 | I83: 5 | J83: 6 | K83: =$D$79*0.4*SUM(I83:J83)/SUM($I$81:$J$85) -> 576 | L83: =$D$79*0.6*0.7*E83/SUM($E$81:$E$85)+$D$79*0.6*0.3*F83/SUM($F$81:$F$85) -> 891.41483 | M83: =SUM(K83:L83) -> 1467.4148
A84: 高二年级（5）班 | B84: 生物 | C84: 48 | D84: 74.484365 | E84: 70.991111 | F84: =E84/D84 -> 0.95310085 | G84: 4 | H84: 张弘 | I84: 5 | J84: 6 | K84: =$D$79*0.4*SUM(I84:J84)/SUM($I$81:$J$85) -> 576 | L84: =$D$79*0.6*0.7*E84/SUM($E$81:$E$85)+$D$79*0.6*0.3*F84/SUM($F$81:$F$85) -> 795.87608 | M84: =SUM(K84:L84) -> 1371.8761
A85: 高二年级（7）班 | B85: 生物 | C85: 48 | D85: 74.484365 | E85: 69.948837 | F85: =E85/D85 -> 0.93910766 | G85: 5 | H85: 尼玛布池 | I85: 5 | J85: 6 | K85: =$D$79*0.4*SUM(I85:J85)/SUM($I$81:$J$85) -> 576 | L85: =$D$79*0.6*0.7*E85/SUM($E$81:$E$85)+$D$79*0.6*0.3*F85/SUM($F$81:$F$85) -> 784.19122 | M85: =SUM(K85:L85) -> 1360.1912
J86: 合计 | K86: =SUM(K81:K85) -> 2880 | L86: =SUM(L81:L85) -> 4320 | M86: =SUM(K86:L86) -> 7200
B87: 奖项 | C87: 奖励金额/元 | D87: 实发金额/元
A88: 8.高二类物理语文 | B88: 一等奖 | C88: 42000 | D88: 33600 | I88: 工作量
A89: 班级 | B89: 科目 | C89: 参考人数 | D89: 年级平均分 | E89: 班平均分 | F89: 班平均分/年级平均分 | G89: 名次 | H89: 任课课师 | I89: 上期课时 | J89: 下期课时 | K89: 课时奖 | L89: 贡献奖 | M89: 合计
A90: 高二年级（1 ）班 | B90: 语文 | C90: 43 | D90: 86.434783 | E90: 95.255814 | F90: =E90/D90 -> 1.1020542 | G90: 1 | H90: 周菊明 | I90: 7 | J90: 7 | K90: =$D$88*0.4*SUM(I90:J90)/SUM($I$90:$J$97) -> 1680 | L90: =$D$88*0.6*0.7*E90/SUM($E$90:$E$97)+$D$88*0.6*0.3*F90/SUM($F$90:$F$97) -> 2758.6605 | M90: =SUM(K90:L90) -> 4438.6605
A91: 高二年级（2 ）班 | B91: 语文 | C91: 41 | D91: 86.434783 | E91: 88.043478 | F91: =E91/D91 -> 1.0186117 | G91: 2 | H91: 肖锐 | I91: 7 | J91: 7 | K91: =$D$88*0.4*SUM(I91:J91)/SUM($I$90:$J$97) -> 1680 | L91: =$D$88*0.6*0.7*E91/SUM($E$90:$E$97)+$D$88*0.6*0.3*F91/SUM($F$90:$F$97) -> 2549.7873 | M91: =SUM(K91:L91) -> 4229.7873
A92: 高二年级（3 ）班 | B92: 语文 | C92: 50 | D92: 86.434783 | E92: 87.891304 | F92: =E92/D92 -> 1.0168511 | G92: 3 | H92: 易涛 | I92: 7 | J92: 7 | K92: =$D$88*0.4*SUM(I92:J92)/SUM($I$90:$J$97) -> 1680 | L92: =$D$88*0.6*0.7*E92/SUM($E$90:$E$97)+$D$88*0.6*0.3*F92/SUM($F$90:$F$97) -> 2545.3803 | M92: =SUM(K92:L92) -> 4225.3803
A93: 高二年级（4 ）班 | B93: 语文 | C93: 48 | D93: 86.434783 | E93: 87.469388 | F93: =E93/D93 -> 1.0119698 | G93: 4 | H93: 肖锐 | I93: 7 | J93: 7 | K93: =$D$88*0.4*SUM(I93:J93)/SUM($I$90:$J$97) -> 1680 | L93: =$D$88*0.6*0.7*E93/SUM($E$90:$E$97)+$D$88*0.6*0.3*F93/SUM($F$90:$F$97) -> 2533.1613 | M93: =SUM(K93:L93) -> 4213.1613
A94: 高二年级（6 ）班 | B94: 语文 | C94: 48 | D94: 86.434783 | E94: 86.04 | F94: =E94/D94 -> 0.9954326 | G94: 5 | H94: 陈光汇 | I94: 7 | J94: 7 | K94: =$D$88*0.4*SUM(I94:J94)/SUM($I$90:$J$97) -> 1680 | L94: =$D$88*0.6*0.7*E94/SUM($E$90:$E$97)+$D$88*0.6*0.3*F94/SUM($F$90:$F$97) -> 2491.7655 | M94: =SUM(K94:L94) -> 4171.7655
A95: 高二年级（5 ）班 | B95: 语文 | C95: 50 | D95: 86.434783 | E95: 84.6 | F95: =E95/D95 -> 0.97877264 | G95: 6 | H95: 格绒燚西 | I95: 7 | J95: 7 | K95: =$D$88*0.4*SUM(I95:J95)/SUM($I$90:$J$97) -> 1680 | L95: =$D$88*0.6*0.7*E95/SUM($E$90:$E$97)+$D$88*0.6*0.3*F95/SUM($F$90:$F$97) -> 2450.0623 | M95: =SUM(K95:L95) -> 4130.0623
A96: 高二年级（8 ）班 | B96: 语文 | C96: 40 | D96: 86.434783 | E96: 83.447368 | F96: =E96/D96 -> 0.96543736 | G96: 7 | H96: 岳子琦 | I96: 7 | J96: 7 | K96: =$D$88*0.4*SUM(I96:J96)/SUM($I$90:$J$97) -> 1680 | L96: =$D$88*0.6*0.7*E96/SUM($E$90:$E$97)+$D$88*0.6*0.3*F96/SUM($F$90:$F$97) -> 2416.6814 | M96: =SUM(K96:L96) -> 4096.6814
A97: 高二年级（7 ）班 | B97: 语文 | C97: 41 | D97: 86.434783 | E97: 83.372093 | F97: =E97/D97 -> 0.96456647 | G97: 8 | H97: 李正琪/杨翁基之玛 | I97: 7 | J97: 7 | K97: =$D$88*0.4*SUM(I97:J97)/SUM($I$90:$J$97) -> 1680 | L97: =$D$88*0.6*0.7*E97/SUM($E$90:$E$97)+$D$88*0.6*0.3*F97/SUM($F$90:$F$97) -> 2414.5014 | M97: =SUM(K97:L97) -> 4094.5014
J98: 合计 | K98: =SUM(K90:K97) -> 13440 | L98: =SUM(L90:L97) -> 20160 | M98: =SUM(K98:L98) -> 33600
B99: 奖项 | C99: 奖励金额/元 | D99: 实发金额/元
A100: 9.高二历史类历史 | B100: 二等奖 | C100: 21000 | D100: 16800 | I100: 工作量
...

Sheet 进步奖
A1: 高二教学质量进步奖
A2: 科目 | B2: 奖项 | C2: 奖励金额/元 | D2: 实发金额/元
A3: 高二历史类历史（7个班） | B3: 一等奖 | C3: =7*6000*0.6 -> 25200 | D3: =C3*0.8 -> 20160
A4: 高二物理类语文（8个班） | B4: 一等奖 | C4: =6000*8 -> 48000 | D4: =C4*0.8 -> 38400
A5: 高二物理类地理（4个班） | B5: 一等奖 | C5: =4*6000*0.6 -> 14400 | D5: =C5*0.8 -> 11520
A6: 高二历史类数学（7个班） | B6: 二等奖 | C6: =4000*7 -> 28000 | D6: =C6*0.8 -> 22400
A7: 高二历史类语文（7个班） | B7: 三等奖 | C7: =2000*7 -> 14000 | D7: =C7*0.8 -> 11200
A8: 高二历史类政治（7个班） | B8: 三等奖 | C8: =2000*0.6*7 -> 8400 | D8: =C8*0.8 -> 6720
A9: 高二物理类物理（8个班） | B9: 三等奖 | C9: =2000*8*0.6 -> 9600 | D9: =C9*0.8 -> 7680
A10: 高二物理类英语（8个班） | B10: 三等奖 | C10: =2000*8*0.6 -> 9600 | D10: =C10*0.8 -> 7680
A11: 高二物理类化学（7个班） | B11: 二等奖 | C11: =4000*7*0.6 -> 16800 | D11: =C11*0.8 -> 13440
B12: 合计 | C12: =SUM(C3:C11) -> 174000 | D12: =SUM(D3:D11) -> 139200
B13: 奖项 | C13: 奖励金额/元 | D13: 实发金额/元
A14: 1.高二历史类历史 | B14: 一等奖 | C14: =7*6000*0.6 -> 25200 | D14: =C14*0.8 -> 20160 | I14: 工作量
A15: 班级 | B15: 科目 | C15: 参考人数 | D15: 年级平均分 | E15: 班平均分 | F15: 班平均分/年级平均分 | G15: 名次 | H15: 任课课师 | I15: 上期课时 | J15: 下期课时 | K15: 课时奖 | L15: 贡献奖 | M15: 合计
A16: 高二年级（9）班 | B16: 历史 | C16: 41 | D16: 54.119718 | E16: 64.575 | F16: =E16/D16 -> 1.193188 | G16: 1 | H16: 杨琴 | I16: 6 | J16: 7 | K16: =$D$14*0.4*SUM(I16:J16)/SUM($I$16:$J$22) -> 1152 | L16: =$D$14*0.6*0.7*E16/SUM($E$16:$E$22)+$D$14*0.6*0.3*F16/SUM($F$16:$F$22) -> 2068.0264 | M16: =SUM(K16:L16) -> 3220.0264
A17: 高二年级（13）班 | B17: 历史 | C17: 43 | D17: 54.119718 | E17: 55.4 | F17: =E17/D17 -> 1.0236565 | G17: 2 | H17: 徐志兵 | I17: 6 | J17: 7 | K17: =$D$14*0.4*SUM(I17:J17)/SUM($I$16:$J$22) -> 1152 | L17: =$D$14*0.6*0.7*E17/SUM($E$16:$E$22)+$D$14*0.6*0.3*F17/SUM($F$16:$F$22) -> 1774.1953 | M17: =SUM(K17:L17) -> 2926.1953
A18: 高二年级（11）班 | B18: 历史 | C18: 41 | D18: 54.119718 | E18: 54.808511 | F18: =E18/D18 -> 1.0127272 | G18: 3 | H18: 降初里 | I18: 6 | J18: 7 | K18: =$D$14*0.4*SUM(I18:J18)/SUM($I$16:$J$22) -> 1152 | L18: =$D$14*0.6*0.7*E18/SUM($E$16:$E$22)+$D$14*0.6*0.3*F18/SUM($F$16:$F$22) -> 1755.2527 | M18: =SUM(K18:L18) -> 2907.2527
A19: 高二年级（12）班 | B19: 历史 | C19: 44 | D19: 54.119718 | E19: 52.840909 | F19: =E19/D19 -> 0.97637073 | G19: 4 | H19: 杨琴 | I19: 6 | J19: 7 | K19: =$D$14*0.4*SUM(I19:J19)/SUM($I$16:$J$22) -> 1152 | L19: =$D$14*0.6*0.7*E19/SUM($E$16:$E$22)+$D$14*0.6*0.3*F19/SUM($F$16:$F$22) -> 1692.2399 | M19: =SUM(K19:L19) -> 2844.2399
A20: 高二年级（15）班 | B20: 历史 | C20: 48 | D20: 54.119718 | E20: 51.166667 | F20: =E20/D20 -> 0.94543483 | G20: 5 | H20: 降初里 | I20: 6 | J20: 7 | K20: =$D$14*0.4*SUM(I20:J20)/SUM($I$16:$J$22) -> 1152 | L20: =$D$14*0.6*0.7*E20/SUM($E$16:$E$22)+$D$14*0.6*0.3*F20/SUM($F$16:$F$22) -> 1638.622 | M20: =SUM(K20:L20) -> 2790.622
A21: 高二年级（10）班 | B21: 历史 | C21: 40 | D21: 54.119718 | E21: 50.782609 | F21: =E21/D21 -> 0.93833838 | G21: 6 | H21: 邱君益 | I21: 6 | J21: 7 | K21: =$D$14*0.4*SUM(I21:J21)/SUM($I$16:$J$22) -> 1152 | L21: =$D$14*0.6*0.7*E21/SUM($E$16:$E$22)+$D$14*0.6*0.3*F21/SUM($F$16:$F$22) -> 1626.3225 | M21: =SUM(K21:L21) -> 2778.3225
A22: 高二年级（14）班 | B22: 历史 | C22: 45 | D22: 54.119718 | E22: 48.129032 | F22: =E22/D22 -> 0.88930678 | G22: 7 | H22: 徐志兵 | I22: 6 | J22: 7 | K22: =$D$14*0.4*SUM(I22:J22)/SUM($I$16:$J$22) -> 1152 | L22: =$D$14*0.6*0.7*E22/SUM($E$16:$E$22)+$D$14*0.6*0.3*F22/SUM($F$16:$F$22) -> 1541.3412 | M22: =SUM(K22:L22) -> 2693.3412
J23: 合计 | K23: =SUM(K16:K22) -> 8064 | L23: =SUM(L16:L22) -> 12096 | M23: =SUM(K23:L23) -> 20160
B25: 奖项 | C25: 奖励金额/元 | D25: 实发金额/元
A26: 2.高二类物理语文 | B26: 一等奖 | C26: =6000*8 -> 48000 | D26: =C26*0.8 -> 38400 | I26: 工作量
A27: 班级 | B27: 科目 | C27: 参考人数 | D27: 年级平均分 | E27: 班平均分 | F27: 班平均分/年级平均分 | G27: 名次 | H27: 任课课师 | I27: 上期课时 | J27: 下期课时 | K27: 课时奖 | L27: 贡献奖 | M27: 合计
A28: 高二年级（1 ）班 | B28: 语文 | C28: 43 | D28: 86.434783 | E28: 95.255814 | F28: =E28/D28 -> 1.1020542 | G28: 1 | H28: 周菊明 | I28: 7 | J28: 7 | K28: =$D$26*0.4*SUM(I28:J28)/SUM($I$28:$J$35) -> 1920 | L28: =$D$26*0.6*0.7*E28/SUM($E$28:$E$35)+$D$26*0.6*0.3*F28/SUM($F$28:$F$35) -> 3152.7548 | M28: =SUM(K28:L28) -> 5072.7548
A29: 高二年级（2 ）班 | B29: 语文 | C29: 41 | D29: 86.434783 | E29: 88.043478 | F29: =E29/D29 -> 1.0186117 | G29: 2 | H29: 肖锐 | I29: 7 | J29: 7 | K29: =$D$26*0.4*SUM(I29:J29)/SUM($I$28:$J$35) -> 1920 | L29: =$D$26*0.6*0.7*E29/SUM($E$28:$E$35)+$D$26*0.6*0.3*F29/SUM($F$28:$F$35) -> 2914.0426 | M29: =SUM(K29:L29) -> 4834.0426
A30: 高二年级（3 ）班 | B30: 语文 | C30: 50 | D30: 86.434783 | E30: 87.891304 | F30: =E30/D30 -> 1.0168511 | G30: 3 | H30: 易涛 | I30: 7 | J30: 7 | K30: =$D$26*0.4*SUM(I30:J30)/SUM($I$28:$J$35) -> 1920 | L30: =$D$26*0.6*0.7*E30/SUM($E$28:$E$35)+$D$26*0.6*0.3*F30/SUM($F$28:$F$35) -> 2909.006 | M30: =SUM(K30:L30) -> 4829.006
A31: 高二年级（4 ）班 | B31: 语文 | C31: 48 | D31: 86.434783 | E31: 87.469388 | F31: =E31/D31 -> 1.0119698 | G31: 4 | H31: 肖锐 | I31: 7 | J31: 7 | K31: =$D$26*0.4*SUM(I31:J31)/SUM($I$28:$J$35) -> 1920 | L31: =$D$26*0.6*0.7*E31/SUM($E$28:$E$35)+$D$26*0.6*0.3*F31/SUM($F$28:$F$35) -> 2895.0415 | M31: =SUM(K31:L31) -> 4815.0415
A32: 高二年级（6 ）班 | B32: 语文 | C32: 48 | D32: 86.434783 | E32: 86.04 | F32: =E32/D32 -> 0.9954326 | G32: 5 | H32: 陈光汇 | I32: 7 | J32: 7 | K32: =$D$26*0.4*SUM(I32:J32)/SUM($I$28:$J$35) -> 1920 | L32: =$D$26*0.6*0.7*E32/SUM($E$28:$E$35)+$D$26*0.6*0.3*F32/SUM($F$28:$F$35) -> 2847.732 | M32: =SUM(K32:L32) -> 4767.732
A33: 高二年级（5 ）班 | B33: 语文 | C33: 50 | D33: 86.434783 | E33: 84.6 | F33: =E33/D33 -> 0.97877264 | G33: 6 | H33: 格绒燚西 | I33: 7 | J33: 7 | K33: =$D$26*0.4*SUM(I33:J33)/SUM($I$28:$J$35) -> 1920 | L33: =$D$26*0.6*0.7*E33/SUM($E$28:$E$35)+$D$26*0.6*0.3*F33/SUM($F$28:$F$35) -> 2800.0712 | M33: =SUM(K33:L33) -> 4720.0712
A34: 高二年级（8 ）班 | B34: 语文 | C34: 40 | D34: 86.434783 | E34: 83.447368 | F34: =E34/D34 -> 0.96543736 | G34: 7 | H34: 岳子琦 | I34: 7 | J34: 7 | K34: =$D$26*0.4*SUM(I34:J34)/SUM($I$28:$J$35) -> 1920 | L34: =$D$26*0.6*0.7*E34/SUM($E$28:$E$35)+$D$26*0.6*0.3*F34/SUM($F$28:$F$35) -> 2761.9217 | M34: =SUM(K34:L34) -> 4681.9217
A35: 高二年级（7 ）班 | B35: 语文 | C35: 41 | D35: 86.434783 | E35: 83.372093 | F35: =E35/D35 -> 0.96456647 | G35: 8 | H35: 李正琪/杨翁基之玛 | I35: 7 | J35: 7 | K35: =$D$26*0.4*SUM(I35:J35)/SUM($I$28:$J$35) -> 1920 | L35: =$D$26*0.6*0.7*E35/SUM($E$28:$E$35)+$D$26*0.6*0.3*F35/SUM($F$28:$F$35) -> 2759.4302 | M35: =SUM(K35:L35) -> 4679.4302
J36: 合计 | K36: =SUM(K28:K35) -> 15360 | L36: =SUM(L28:L35) -> 23040 | M36: =SUM(K36:L36) -> 38400
B37: 奖项 | C37: 奖励金额/元 | D37: 实发金额/元
A38: 3.高二物理类地理 | B38: 一等奖 | C38: 14400 | D38: 11520 | I38: 工作量
A39: 班级 | B39: 科目 | C39: 参考人数 | D39: 年级平均分 | E39: 班平均分 | F39: 班平均分/年级平均分 | G39: 名次 | H39: 任课课师 | I39: 上期课时 | J39: 下期课时 | K39: 课时奖 | L39: 贡献奖 | M39: 合计
A40: 高二年级（6）班 | B40: 地理 | C40: 50 | D40: 74.300938 | E40: 80.098 | F40: =E40/D40 -> 1.0780214 | G40: 1 | H40: 邓倩 | I40: 6 | J40: 6 | K40: =$D$38*0.4*SUM(I40:J40)/SUM($I$40:$J$42) -> 1536 | L40: =$D$38*0.6*0.7*E40/SUM($E$40:$E$42)+$D$38*0.6*0.3*F40/SUM($F$40:$F$42) -> 2411.3803 | M40: =SUM(K40:L40) -> 3947.3803
A41: 高二年级（5）班 | B41: 地理 | C41: 41 | D41: 74.300938 | E41: 77.615556 | F41: =E41/D41 -> 1.0446107 | G41: 2 | H41: 金贵 | I41: 6 | J41: 6 | K41: =$D$38*0.4*SUM(I41:J41)/SUM($I$40:$J$42) -> 1536 | L41: =$D$38*0.6*0.7*E41/SUM($E$40:$E$42)+$D$38*0.6*0.3*F41/SUM($F$40:$F$42) -> 2336.6454 | M41: =SUM(K41:L41) -> 3872.6454
A42: 高二年级（7）班（8）班 | B42: 地理 | C42: 48 | D42: 74.300938 | E42: 71.88 | F42: =E42/D42 -> 0.96741713 | G42: 3 | H42: 米小妹 | I42: 6 | J42: 6 | K42: =$D$38*0.4*SUM(I42:J42)/SUM($I$40:$J$42) -> 1536 | L42: =$D$38*0.6*0.7*E42/SUM($E$40:$E$42)+$D$38*0.6*0.3*F42/SUM($F$40:$F$42) -> 2163.9743 | M42: =SUM(K42:L42) -> 3699.9743
J43: 合计 | K43: =SUM(K40:K42) -> 4608 | L43: =SUM(L40:L42) -> 6912 | M43: =SUM(K43:L43) -> 11520
B44: 奖项 | C44: 奖励金额/元 | D44: 实发金额/元
A45: 4.高二历史类数学 | B45: 二等奖 | C45: =4000*7 -> 28000 | D45: =C45*0.8 -> 22400 | I45: 工作量
A46: 班级 | B46: 科目 | C46: 参考人数 | D46: 年级平均分 | E46: 班平均分 | F46: 班平均分/年级平均分 | G46: 名次 | H46: 任课课师 | I46: 上期课时 | J46: 下期课时 | K46: 课时奖 | L46: 贡献奖 | M46: 合计
A47: 高二年级（9 ）班 | B47: 数学 | C47: 43 | D47: 55.649068 | E47: 53.625 | F47: =E47/D47 -> 0.96362799 | G47: 1 | H47: 马俊 | I47: 7 | J47: 7 | K47: =$D$45*0.4*SUM(I47:J47)/SUM($I$47:$J$53) -> 1280 | L47: =$D$45*0.6*0.7*E47/SUM($E$47:$E$53)+$D$45*0.6*0.3*F47/SUM($F$47:$F$53) -> 2242.047 | M47: =SUM(K47:L47) -> 3522.047
A48: 高二年级（14 ）班 | B48: 数学 | C48: 40 | D48: 55.649068 | E48: 51.903226 | F48: =E48/D48 -> 0.93268814 | G48: 2 | H48: 马俊 | I48: 7 | J48: 7 | K48: =$D$45*0.4*SUM(I48:J48)/SUM($I$47:$J$53) -> 1280 | L48: =$D$45*0.6*0.7*E48/SUM($E$47:$E$53)+$D$45*0.6*0.3*F48/SUM($F$47:$F$53) -> 2170.0601 | M48: =SUM(K48:L48) -> 3450.0601
A49: 高二年级（10 ）班 | B49: 数学 | C49: 40 | D49: 55.649068 | E49: 45.804348 | F49: =E49/D49 -> 0.82309281 | G49: 3 | H49: 喇燕 | I49: 7 | J49: 7 | K49: =$D$45*0.4*SUM(I49:J49)/SUM($I$47:$J$53) -> 1280 | L49: =$D$45*0.6*0.7*E49/SUM($E$47:$E$53)+$D$45*0.6*0.3*F49/SUM($F$47:$F$53) -> 1915.0676 | M49: =SUM(K49:L49) -> 3195.0676
A50: 高二年级（15 ）班 | B50: 数学 | C50: 45 | D50: 55.649068 | E50: 44.833333 | F50: =E50/D50 -> 0.80564392 | G50: 4 | H50: 潘勇 | I50: 7 | J50: 7 | K50: =$D$45*0.4*SUM(I50:J50)/SUM($I$47:$J$53) -> 1280 | L50: =$D$45*0.6*0.7*E50/SUM($E$47:$E$53)+$D$45*0.6*0.3*F50/SUM($F$47:$F$53) -> 1874.4698 | M50: =SUM(K50:L50) -> 3154.4698
A51: 高二年级（13 ）班 | B51: 数学 | C51: 44 | D51: 55.649068 | E51: 43.8 | F51: =E51/D51 -> 0.78707517 | G51: 5 | H51: 吕开绒/徐万雄 | I51: 7 | J51: 7 | K51: =$D$45*0.4*SUM(I51:J51)/SUM($I$47:$J$53) -> 1280 | L51: =$D$45*0.6*0.7*E51/SUM($E$47:$E$53)+$D$45*0.6*0.3*F51/SUM($F$47:$F$53) -> 1831.2664 | M51: =SUM(K51:L51) -> 3111.2664
A52: 高二年级（11 ）班 | B52: 数学 | C52: 41 | D52: 55.649068 | E52: 42.808511 | F52: =E52/D52 -> 0.76925835 | G52: 6 | H52: 曹云萍 | I52: 7 | J52: 7 | K52: =$D$45*0.4*SUM(I52:J52)/SUM($I$47:$J$53) -> 1280 | L52: =$D$45*0.6*0.7*E52/SUM($E$47:$E$53)+$D$45*0.6*0.3*F52/SUM($F$47:$F$53) -> 1789.8125 | M52: =SUM(K52:L52) -> 3069.8125
A53: 高二年级（12 ）班 | B53: 数学 | C53: 48 | D53: 55.649068 | E53: 38.681818 | F53: =E53/D53 -> 0.69510271 | G53: 7 | H53: 钟海昌 | I53: 7 | J53: 7 | K53: =$D$45*0.4*SUM(I53:J53)/SUM($I$47:$J$53) -> 1280 | L53: =$D$45*0.6*0.7*E53/SUM($E$47:$E$53)+$D$45*0.6*0.3*F53/SUM($F$47:$F$53) -> 1617.2766 | M53: =SUM(K53:L53) -> 2897.2766
J54: 合计 | K54: =SUM(K47:K53) -> 8960 | L54: =SUM(L47:L53) -> 13440 | M54: =SUM(K54:L54) -> 22400
B55: 奖项 | C55: 奖励金额/元 | D55: 实发金额/元
A56: 5.高二历史类语文 | B56: 三等奖 | C56: =2000*7 -> 14000 | D56: =C56*0.8 -> 11200 | I56: 工作量
A57: 班级 | B57: 科目 | C57: 参考人数 | D57: 年级平均分 | E57: 班平均分 | F57: 班平均分/年级平均分 | G57: 名次 | H57: 任课课师 | I57: 上期课时 | J57: 下期课时 | K57: 课时奖 | L57: 贡献奖 | M57: 合计
A58: 高二年级（9 ）班 | B58: 语文 | C58: 44 | D58: 86.434783 | E58: 90.6 | F58: =E58/D58 -> 1.0481891 | G58: 1 | H58: 岳子琦 | I58: 6 | J58: 5 | K58: =$D$56*0.4*SUM(I58:J58)/SUM($I$58:$J$64) -> 640 | L58: =$D$56*0.6*0.7*E58/SUM($E$58:$E$64)+$D$56*0.6*0.3*F58/SUM($F$58:$F$64) -> 1018.8689 | M58: =SUM(K58:L58) -> 1658.8689
A59: 高二年级（12 ）班 | B59: 语文 | C59: 45 | D59: 86.434783 | E59: 87.840909 | F59: =E59/D59 -> 1.0162681 | G59: 2 | H59: 杨翁基之玛 | I59: 6 | J59: 5 | K59: =$D$56*0.4*SUM(I59:J59)/SUM($I$58:$J$64) -> 640 | L59: =$D$56*0.6*0.7*E59/SUM($E$58:$E$64)+$D$56*0.6*0.3*F59/SUM($F$58:$F$64) -> 987.84072 | M59: =SUM(K59:L59) -> 1627.8407
A60: 高二年级（13 ）班 | B60: 语文 | C60: 40 | D60: 86.434783 | E60: 86.7 | F60: =E60/D60 -> 1.0030684 | G60: 3 | H60: 易涛 | I60: 6 | J60: 5 | K60: =$D$56*0.4*SUM(I60:J60)/SUM($I$58:$J$64) -> 640 | L60: =$D$56*0.6*0.7*E60/SUM($E$58:$E$64)+$D$56*0.6*0.3*F60/SUM($F$58:$F$64) -> 975.01029 | M60: =SUM(K60:L60) -> 1615.0103
A61: 高二年级（10 ）班 | B61: 语文 | C61: 48 | D61: 86.434783 | E61: 86.152174 | F61: =E61/D61 -> 0.99673038 | G61: 4 | H61: 杨翁基之玛 | I61: 6 | J61: 5 | K61: =$D$56*0.4*SUM(I61:J61)/SUM($I$58:$J$64) -> 640 | L61: =$D$56*0.6*0.7*E61/SUM($E$58:$E$64)+$D$56*0.6*0.3*F61/SUM($F$58:$F$64) -> 968.84955 | M61: =SUM(K61:L61) -> 1608.8495
A62: 高二年级（11 ）班 | B62: 语文 | C62: 48 | D62: 86.434783 | E62: 84.893617 | F62: =E62/D62 -> 0.98216961 | G62: 5 | H62: 陈光汇 | I62: 6 | J62: 5 | K62: =$D$56*0.4*SUM(I62:J62)/SUM($I$58:$J$64) -> 640 | L62: =$D$56*0.6*0.7*E62/SUM($E$58:$E$64)+$D$56*0.6*0.3*F62/SUM($F$58:$F$64) -> 954.69608 | M62: =SUM(K62:L62) -> 1594.6961
A63: 高二年级（15 ）班 | B63: 语文 | C63: 48 | D63: 86.434783 | E63: 82.305556 | F63: =E63/D63 -> 0.95222725 | G63: 6 | H63: 甲阿祝玛 | I63: 6 | J63: 5 | K63: =$D$56*0.4*SUM(I63:J63)/SUM($I$58:$J$64) -> 640 | L63: =$D$56*0.6*0.7*E63/SUM($E$58:$E$64)+$D$56*0.6*0.3*F63/SUM($F$58:$F$64) -> 925.59127 | M63: =SUM(K63:L63) -> 1565.5913
A64: 高二年级（14 ）班 | B64: 语文 | C64: 43 | D64: 86.434783 | E64: 79.064516 | F64: =E64/D64 -> 0.91473032 | G64: 7 | H64: 格绒燚西 | I64: 6 | J64: 5 | K64: =$D$56*0.4*SUM(I64:J64)/SUM($I$58:$J$64) -> 640 | L64: =$D$56*0.6*0.7*E64/SUM($E$58:$E$64)+$D$56*0.6*0.3*F64/SUM($F$58:$F$64) -> 889.14321 | M64: =SUM(K64:L64) -> 1529.1432
J65: 合计 | K65: =SUM(K58:K64) -> 4480 | L65: =SUM(L58:L64) -> 6720 | M65: =SUM(K65:L65) -> 11200
B66: 奖项 | C66: 奖励金额/元 | D66: 实发金额/元
A67: 6.高二历史类政治 | B67: 三等奖 | C67: =2000*0.6*7 -> 8400 | D67: =C67*0.8 -> 6720 | I67: 工作量
A68: 班级 | B68: 科目 | C68: 参考人数 | D68: 年级平均分 | E68: 班平均分 | F68: 班平均分/年级平均分 | G68: 名次 | H68: 任课课师 | I68: 上期课时 | J68: 下期课时 | K68: 课时奖 | L68: 贡献奖 | M68: 合计
A69: 高二年级（9）班 | B69: 政治 | C69: 41 | D69: 73.749719 | E69: 81.5375 | F69: =E69/D69 -> 1.1055974 | G69: 1 | H69: 马巫各 | I69: 6 | J69: 5 | K69: =$D$67*0.4*SUM(I69:J69)/SUM($I$69:$J$75) -> 384 | L69: =$D$67*0.6*0.7*E69/SUM($E$69:$E$75)+$D$67*0.6*0.3*F69/SUM($F$69:$F$75) -> 631.88011 | M69: =SUM(K69:L69) -> 1015.8801
A70: 高二年级（11）班 | B70: 政治 | C70: 44 | D70: 73.749719 | E70: 77.502128 | F70: =E70/D70 -> 1.0508803 | G70: 2 | H70: 胡东缘 | I70: 6 | J70: 5 | K70: =$D$67*0.4*SUM(I70:J70)/SUM($I$69:$J$75) -> 384 | L70: =$D$67*0.6*0.7*E70/SUM($E$69:$E$75)+$D$67*0.6*0.3*F70/SUM($F$69:$F$75) -> 600.60773 | M70: =SUM(K70:L70) -> 984.60773
A71: 高二年级（12）班 | B71: 政治 | C71: 40 | D71: 73.749719 | E71: 76.822727 | F71: =E71/D71 -> 1.0416681 | G71: 3 | H71: 胡东缘 | I71: 6 | J71: 5 | K71: =$D$67*0.4*SUM(I71:J71)/SUM($I$69:$J$75) -> 384 | L71: =$D$67*0.6*0.7*E71/SUM($E$69:$E$75)+$D$67*0.6*0.3*F71/SUM($F$69:$F$75) -> 595.34267 | M71: =SUM(K71:L71) -> 979.34267
A72: 高二年级（13）班 | B72: 政治 | C72: 45 | D72: 73.749719 | E72: 74.43 | F72: =E72/D72 -> 1.0092242 | G72: 4 | H72: 胡东缘/吴文艺 | I72: 6 | J72: 5 | K72: =$D$67*0.4*SUM(I72:J72)/SUM($I$69:$J$75) -> 384 | L72: =$D$67*0.6*0.7*E72/SUM($E$69:$E$75)+$D$67*0.6*0.3*F72/SUM($F$69:$F$75) -> 576.80008 | M72: =SUM(K72:L72) -> 960.80008
A73: 高二年级（10）班 | B73: 政治 | C73: 40 | D73: 73.749719 | E73: 73.03913 | F73: =E73/D73 -> 0.99036486 | G73: 5 | H73: 纪春权/吴文艺 | I73: 6 | J73: 5 | K73: =$D$67*0.4*SUM(I73:J73)/SUM($I$69:$J$75) -> 384 | L73: =$D$67*0.6*0.7*E73/SUM($E$69:$E$75)+$D$67*0.6*0.3*F73/SUM($F$69:$F$75) -> 566.02144 | M73: =SUM(K73:L73) -> 950.02144
A74: 高二年级（14）班 | B74: 政治 | C74: 48 | D74: 73.749719 | E74: 68.941935 | F74: =E74/D74 -> 0.93480947 | G74: 6 | H74: 纪春权 | I74: 6 | J74: 5 | K74: =$D$67*0.4*SUM(I74:J74)/SUM($I$69:$J$75) -> 384 | L74: =$D$67*0.6*0.7*E74/SUM($E$69:$E$75)+$D$67*0.6*0.3*F74/SUM($F$69:$F$75) -> 534.26997 | M74: =SUM(K74:L74) -> 918.26997
A75: 高二年级（15）班 | B75: 政治 | C75: 43 | D75: 73.749719 | E75: 68.013889 | F75: =E75/D75 -> 0.92222573 | G75: 7 | H75: 马巫各 | I75: 6 | J75: 5 | K75: =$D$67*0.4*SUM(I75:J75)/SUM($I$69:$J$75) -> 384 | L75: =$D$67*0.6*0.7*E75/SUM($E$69:$E$75)+$D$67*0.6*0.3*F75/SUM($F$69:$F$75) -> 527.07801 | M75: =SUM(K75:L75) -> 911.07801
J76: 合计 | K76: =SUM(K69:K75) -> 2688 | L76: =SUM(L69:L75) -> 4032 | M76: =SUM(K76:L76) -> 6720
B77: 奖项 | C77: 奖励金额/元 | D77: 实发金额/元
A78: 7.高二物理类物理 | B78: 三等奖 | C78: =2000*8*0.6 -> 9600 | D78: =C78*0.8 -> 7680 | I78: 工作量
A79: 班级 | B79: 科目 | C79: 参考人数 | D79: 年级平均分 | E79: 班平均分 | F79: 班平均分/年级平均分 | G79: 名次 | H79: 任课课师 | I79: 上期课时 | J79: 下期课时 | K79: 课时奖 | L79: 贡献奖 | M79: 合计
A80: 高二年级（1 ）班 | B80: 物理 | C80: 43 | D80: 31.75 | E80: 43.395349 | F80: =E80/D80 -> 1.3667826 | G80: 1 | H80: 赵建超 | I80: 7 | J80: 7 | K80: =$D$78*0.4*SUM(I80:J80)/SUM($I$80:$J$87) -> 384 | L80: =$D$78*0.6*0.7*E80/SUM($E$80:$E$87)+$D$78*0.6*0.3*F80/SUM($F$80:$F$87) -> 790.26667 | M80: =SUM(K80:L80) -> 1174.2667
A81: 高二年级（3 ）班 | B81: 物理 | C81: 50 | D81: 31.75 | E81: 37.152174 | F81: =E81/D81 -> 1.1701472 | G81: 2 | H81: 周峰 | I81: 7 | J81: 7 | K81: =$D$78*0.4*SUM(I81:J81)/SUM($I$80:$J$87) -> 384 | L81: =$D$78*0.6*0.7*E81/SUM($E$80:$E$87)+$D$78*0.6*0.3*F81/SUM($F$80:$F$87) -> 676.57308 | M81: =SUM(K81:L81) -> 1060.5731
A82: 高二年级（4 ）班 | B82: 物理 | C82: 48 | D82: 31.75 | E82: 33.836735 | F82: =E82/D82 -> 1.0657239 | G82: 3 | H82: 解超燕 | I82: 7 | J82: 7 | K82: =$D$78*0.4*SUM(I82:J82)/SUM($I$80:$J$87) -> 384 | L82: =$D$78*0.6*0.7*E82/SUM($E$80:$E$87)+$D$78*0.6*0.3*F82/SUM($F$80:$F$87) -> 616.19608 | M82: =SUM(K82:L82) -> 1000.1961
A83: 高二年级（2 ）班 | B83: 物理 | C83: 50 | D83: 31.75 | E83: 33.413043 | F83: =E83/D83 -> 1.0523793 | G83: 4 | H83: 康小平 | I83: 7 | J83: 7 | K83: =$D$78*0.4*SUM(I83:J83)/SUM($I$80:$J$87) -> 384 | L83: =$D$78*0.6*0.7*E83/SUM($E$80:$E$87)+$D$78*0.6*0.3*F83/SUM($F$80:$F$87) -> 608.48029 | M83: =SUM(K83:L83) -> 992.48029
A84: 高二年级（6 ）班 | B84: 物理 | C84: 48 | D84: 31.75 | E84: 29.32 | F84: =E84/D84 -> 0.92346457 | G84: 5 | H84: 周峰 | I84: 7 | J84: 7 | K84: =$D$78*0.4*SUM(I84:J84)/SUM($I$80:$J$87) -> 384 | L84: =$D$78*0.6*0.7*E84/SUM($E$80:$E$87)+$D$78*0.6*0.3*F84/SUM($F$80:$F$87) -> 533.94245 | M84: =SUM(K84:L84) -> 917.94245
A85: 高二年级（7 ）班 | B85: 物理 | C85: 40 | D85: 31.75 | E85: 27.534884 | F85: =E85/D85 -> 0.86724043 | G85: 6 | H85: 解超燕 | I85: 7 | J85: 7 | K85: =$D$78*0.4*SUM(I85:J85)/SUM($I$80:$J$87) -> 384 | L85: =$D$78*0.6*0.7*E85/SUM($E$80:$E$87)+$D$78*0.6*0.3*F85/SUM($F$80:$F$87) -> 501.43394 | M85: =SUM(K85:L85) -> 885.43394
A86: 高二年级（5 ）班 | B86: 物理 | C86: 48 | D86: 31.75 | E86: 24.488889 | F86: =E86/D86 -> 0.77130359 | G86: 7 | H86: 赵建超 | I86: 7 | J86: 7 | K86: =$D$78*0.4*SUM(I86:J86)/SUM($I$80:$J$87) -> 384 | L86: =$D$78*0.6*0.7*E86/SUM($E$80:$E$87)+$D$78*0.6*0.3*F86/SUM($F$80:$F$87) -> 445.96375 | M86: =SUM(K86:L86) -> 829.96375
A87: 高二年级（8 ）班 | B87: 物理 | C87: 48 | D87: 31.75 | E87: 23.894737 | F87: =E87/D87 -> 0.75259014 | G87: 8 | H87: 康小平 | I87: 7 | J87: 7 | K87: =$D$78*0.4*SUM(I87:J87)/SUM($I$80:$J$87) -> 384 | L87: =$D$78*0.6*0.7*E87/SUM($E$80:$E$87)+$D$78*0.6*0.3*F87/SUM($F$80:$F$87) -> 435.14373 | M87: =SUM(K87:L87) -> 819.14373
J88: 合计 | K88: =SUM(K80:K87) -> 3072 | L88: =SUM(L80:L87) -> 4608 | M88: =SUM(K88:L88) -> 7680
B89: 奖项 | C89: 奖励金额/元 | D89: 实发金额/元
A90: 8.高二物理类英语 | B90: 三等奖 | C90: =2000*8*0.6 -> 9600 | D90: =C90*0.8 -> 7680 | I90: 工作量
A91: 班级 | B91: 科目 | C91: 参考人数 | D91: 年级平均分 | E91: 班平均分 | F91: 班平均分/年级平均分 | G91: 名次 | H91: 任课课师 | I91: 上期课时 | J91: 下期课时 | K91: 课时奖 | L91: 贡献奖 | M91: 合计
A92: 高二年级（1 ）班 | B92: 英语 | C92: 43 | D92: 65.006988 | E92: 105.93023 | F92: =E92/D92 -> 1.6295207 | G92: 1 | H92: 拉初 | I92: 7 | J92: 7 | K92: =$D$90*0.4*SUM(I92:J92)/SUM($I$92:$J$99) -> 384 | L92: =$D$90*0.6*0.7*E92/SUM($E$92:$E$99)+$D$90*0.6*0.3*F92/SUM($F$92:$F$99) -> 869.765 | M92: =SUM(K92:L92) -> 1253.765
A93: 高二年级（4 ）班 | B93: 英语 | C93: 48 | D93: 65.006988 | E93: 82.346939 | F93: =E93/D93 -> 1.2667398 | G93: 2 | H93: 浦恩玲 | I93: 7 | J93: 7 | K93: =$D$90*0.4*SUM(I93:J93)/SUM($I$92:$J$99) -> 384 | L93: =$D$90*0.6*0.7*E93/SUM($E$92:$E$99)+$D$90*0.6*0.3*F93/SUM($F$92:$F$99) -> 676.12884 | M93: =SUM(K93:L93) -> 1060.1288
A94: 高二年级（2 ）班 | B94: 英语 | C94: 50 | D94: 65.006988 | E94: 75.978261 | F94: =E94/D94 -> 1.1687707 | G94: 3 | H94: 彭丹 | I94: 7 | J94: 7 | K94: =$D$90*0.4*SUM(I94:J94)/SUM($I$92:$J$99) -> 384 | L94: =$D$90*0.6*0.7*E94/SUM($E$92:$E$99)+$D$90*0.6*0.3*F94/SUM($F$92:$F$99) -> 623.83732 | M94: =SUM(K94:L94) -> 1007.8373
A95: 高二年级（3 ）班 | B95: 英语 | C95: 41 | D95: 65.006988 | E95: 67.913043 | F95: =E95/D95 -> 1.0447037 | G95: 4 | H95: 李永会 | I95: 7 | J95: 7 | K95: =$D$90*0.4*SUM(I95:J95)/SUM($I$92:$J$99) -> 384 | L95: =$D$90*0.6*0.7*E95/SUM($E$92:$E$99)+$D$90*0.6*0.3*F95/SUM($F$92:$F$99) -> 557.61596 | M95: =SUM(K95:L95) -> 941.61596
A96: 高二年级（5 ）班 | B96: 英语 | C96: 48 | D96: 65.006988 | E96: 67.122222 | F96: =E96/D96 -> 1.0325386 | G96: 5 | H96: 拉初 | I96: 7 | J96: 7 | K96: =$D$90*0.4*SUM(I96:J96)/SUM($I$92:$J$99) -> 384 | L96: =$D$90*0.6*0.7*E96/SUM($E$92:$E$99)+$D$90*0.6*0.3*F96/SUM($F$92:$F$99) -> 551.12274 | M96: =SUM(K96:L96) -> 935.12274
A97: 高二年级（6 ）班 | B97: 英语 | C97: 41 | D97: 65.006988 | E97: 66.51 | F97: =E97/D97 -> 1.0231208 | G97: 6 | H97: 张福琴 | I97: 7 | J97: 7 | K97: =$D$90*0.4*SUM(I97:J97)/SUM($I$92:$J$99) -> 384 | L97: =$D$90*0.6*0.7*E97/SUM($E$92:$E$99)+$D$90*0.6*0.3*F97/SUM($F$92:$F$99) -> 546.09594 | M97: =SUM(K97:L97) -> 930.09594
A98: 高二年级（8 ）班 | B98: 英语 | C98: 48 | D98: 65.006988 | E98: 49.276316 | F98: =E98/D98 -> 0.75801568 | G98: 7 | H98: 朱恩凡 | I98: 7 | J98: 7 | K98: =$D$90*0.4*SUM(I98:J98)/SUM($I$92:$J$99) -> 384 | L98: =$D$90*0.6*0.7*E98/SUM($E$92:$E$99)+$D$90*0.6*0.3*F98/SUM($F$92:$F$99) -> 404.59474 | M98: =SUM(K98:L98) -> 788.59474
A99: 高二年级（7 ）班 | B99: 英语 | C99: 50 | D99: 65.006988 | E99: 46.139535 | F99: =E99/D99 -> 0.7097627 | G99: 8 | H99: 陈国萍 | I99: 7 | J99: 7 | K99: =$D$90*0.4*SUM(I99:J99)/SUM($I$92:$J$99) -> 384 | L99: =$D$90*0.6*0.7*E99/SUM($E$92:$E$99)+$D$90*0.6*0.3*F99/SUM($F$92:$F$99) -> 378.83946 | M99: =SUM(K99:L99) -> 762.83946
J100: 合计 | K100: =SUM(K92:K99) -> 3072 | L100: =SUM(L92:L99) -> 4608 | M100: =SUM(K100:L100) -> 7680
B101: 奖项 | C101: 奖励金额/元 | D101: 实发金额/元
...

Sheet 合计
A1: 科目 | B1: 任课课师 | C1: 奖金 | D1: 签字 | E1: 组内合计
A2: 数学 | B2: 赵云川 | C2: =质量奖!M58+质量奖!M63 -> 6388.3969 | E2: =SUM(C2:C10) -> 85600
B3: 钟海昌 | C3: =质量奖!M62+质量奖!M25+进步奖!M53 -> 10924.689
B4: 央宗娜姆 | C4: =质量奖!M59+质量奖!M60 -> 6452.9615
B5: 喇燕 | C5: =质量奖!M61+质量奖!M21+进步奖!M49 -> 11827.981
B6: 曹云萍 | C6: =质量奖!M24+质量奖!M64+进步奖!M52 -> 11205.589
B7: 徐万雄 | C7: =质量奖!M65*0.5+质量奖!M23*0.8+进步奖!M51*0.8 -> 8042.9423
B8: 马俊 | C8: =质量奖!M19+质量奖!M20+进步奖!M47+进步奖!M48 -> 19173.295
B9: 潘勇 | C9: =质量奖!M22+进步奖!M50 -> 8674.7919
B10: 吕开绒 | C10: =质量奖!M65*0.5+质量奖!M23*0.2+进步奖!M51*0.2 -> 2909.3528
A11: 语文 | B11: 周菊明 | C11: =质量奖!M90+进步奖!M28 -> 9511.4153 | E11: =SUM(C11:C19) -> 116800
B12: 肖锐 | C12: =质量奖!M91+质量奖!M93+进步奖!M29+进步奖!M31 -> 18092.033
B13: 易涛 | C13: =质量奖!M92+质量奖!M38+进步奖!M30+进步奖!M60 -> 15514.427
B14: 格绒燚西 | C14: =质量奖!M42+质量奖!M95+进步奖!M64+进步奖!M33 -> 14966.706
B15: 陈光汇 | C15: =质量奖!M94+质量奖!M40+进步奖!M32+进步奖!M62 -> 15318.282
B16: 杨翁基之玛 | C16: =质量奖!M37+质量奖!M39+质量奖!M97*0.5+进步奖!M61+进步奖!M59+进步奖!M35*0.5 -> 17333.727
B17: 岳子琦 | C17: =质量奖!M96+质量奖!M36+进步奖!M34+进步奖!M58 -> 15414.079
B18: 甲阿祝玛 | C18: =质量奖!M41+进步奖!M63 -> 6262.3651
B19: 李正琪 | C19: =质量奖!M97*0.5+进步奖!M35*0.5 -> 4386.9658
A20: 英语 | B20: 拉初 | C20: =质量奖!M123+质量奖!M127+进步奖!M92+进步奖!M96 -> 4240.97 | E20: =SUM(C20:C26) -> 14880
B21: 彭丹 | C21: =质量奖!M125+进步奖!M94 -> 1952.6848
B22: 李永会 | C22: =质量奖!M126+进步奖!M95 -> 1824.3809
B23: 浦恩玲 | C23: =质量奖!M124+进步奖!M93 -> 2053.9996
B24: 张福琴 | C24: =质量奖!M128+进步奖!M97 -> 1802.0609
B25: 陈国萍 | C25: =质量奖!M130+进步奖!M99 -> 1478.0015
B26: 朱恩凡 | C26: =质量奖!M129+进步奖!M98 -> 1527.9023
A27: 物理 | B27: 赵建超 | C27: =进步奖!M80+进步奖!M86 -> 2004.2304 | E27: =SUM(C27:C30) -> 7680
B28: 康小平 | C28: =进步奖!M83+进步奖!M87 -> 1811.624
B29: 周峰 | C29: =进步奖!M84+进步奖!M81 -> 1978.5155
B30: 解超燕 | C30: =进步奖!M85+进步奖!M82 -> 1885.63
A31: 化学 | B31: 叶小军 | C31: =质量奖!M70+质量奖!M75+进步奖!M104+进步奖!M109 -> 8774.7515 | E31: =SUM(C31:C34) -> 30240
B32: 李荣鑫 | C32: =质量奖!M72+质量奖!M73+进步奖!M106+进步奖!M107 -> 8789.3975
B33: 何传英 | C33: =质量奖!M71+进步奖!M105 -> 4521.6079
B34: 马红琦 | C34: =质量奖!M74+质量奖!M76+进步奖!M108+进步奖!M110 -> 8154.2431
A35: 生物 | B35: 彭桦 | C35: =质量奖!M81+质量奖!M82 -> 3000.5179 | E35: =SUM(C35:C37) -> 12000
B36: 张弘 | C36: =质量奖!M31+质量奖!M84 -> 3716.0146
B37: 尼玛布池 | C37: =质量奖!M30+质量奖!M83+质量奖!M85 -> 5283.4675
A38: 政治 | B38: 马巫各 | C38: =质量奖!M47+质量奖!M53+进步奖!M69+进步奖!M75 -> 5367.9548 | E38: =SUM(C38:C41) -> 18720
B39: 胡东缘 | C39: =质量奖!M48+质量奖!M49+进步奖!M70+进步奖!M71+质量奖!M50*0.5+进步奖!M72*0.5 -> 6809.2619
B40: 吴文艺 | C40: =质量奖!M50*0.5+质量奖!M51*0.5+进步奖!M72*0.5+进步奖!M73*0.5 -> 2661.5014
B41: 纪春权 | C41: =质量奖!M52+进步奖!M74+质量奖!M51*0.5+进步奖!M73*0.5 -> 3881.2819
A42: 历史 | B42: 杨琴 | C42: =质量奖!M102+质量奖!M105+进步奖!M16+进步奖!M19 -> 11117.822 | E42: =SUM(C42:C45) -> 36960
B43: 降初里 | C43: =质量奖!M104+质量奖!M106+进步奖!M18+进步奖!M20 -> 10446.104
B44: 邱君益 | C44: =质量奖!M107+进步奖!M21 -> 5093.5912
B45: 徐志兵 | C45: =质量奖!M103+质量奖!M108+进步奖!M17+进步奖!M22 -> 10302.484
A46: 地理 | B46: 邓倩 | C46: =质量奖!M136+质量奖!M113+进步奖!M40 -> 6215.5997 | E46: =SUM(C46:C49) -> 19200
B47: 金贵 | C47: =质量奖!M137+进步奖!M41 -> 5486.2476
B48: 米晓妹 | C48: =质量奖!M138+质量奖!M116+质量奖!M114+进步奖!M42 -> 6378.1093
B49: 石敏 | C49: =质量奖!M115+质量奖!M117 -> 1120.0435
A50: 合计 | E50: =SUM(E2:E49) -> 342080
