Workbook
Name 科类: [1]成绩册!$F$3:$F$613

Sheet 质量奖
A1: 高二教学质量奖
A2: 科目 | B2: 奖项 | C2: 奖励金额/元 | D2: 实发金额/元
A3: 高二历史类语文（6个班） | B3: 一等奖 | C3: =7000*6 -> 42000 | D3: =C3*0.8 -> 33600
A4: 高二历史类数学（7个班） | B4: 一等奖 | C4: =7000*7 -> 49000 | D4: =C4*0.8 -> 39200
A5: 高二物理类语文（6个班） | B5: 一等奖 | C5: =7000*6 -> 42000 | D5: =C5*0.8 -> 33600
A6: 高二物理类化学（5个班） | B6: 一等奖 | C6: =7000*0.6*5 -> 21000 | D6: =C6*0.8 -> 16800
A7: 高二历史类历史（7个班） | B7: 二等奖 | C7: =5000*7*0.6 -> 21000 | D7: =C7*0.8 -> 16800
A8: 高二历史类政治（5个班） | B8: 二等奖 | C8: =5000*5*0.6 -> 15000 | D8: =C8*0.8 -> 12000
A9: 高二历史类生物（2个班） | B9: 二等奖 | C9: =5000*2*0.6 -> 6000 | D9: =C9*0.8 -> 4800
A10: 高二物理类数学（6个班） | B10: 二等奖 | C10: =5000*6 -> 30000 | D10: =C10*0.8 -> 24000
A11: 高二物理类生物（3个班） | B11: 二等奖 | C11: =5000*3*0.6 -> 9000 | D11: =C11*0.8 -> 7200
A12: 高二物理类地理（2个班） | B12: 二等奖 | C12: =5000*2*0.6 -> 6000 | D12: =C12*0.8 -> 4800
A13: 高二历史类地理（2个班） | B13: 三等奖 | C13: =3000*0.6*2 -> 3600 | D13: =C13*0.8 -> 2880
A14: 高二物理类英语（3个班） | B14: 三等奖 | C14: =3000*3 -> 9000 | D14: =C14*0.8 -> 7200
B15: 合计 | C15: =SUM(C3:C14) -> 253600 | D15: =SUM(D3:D14) -> 202880 | F15: =D15+进步奖!D12 -> 342080
B16: 奖项 | C16: 奖励金额/元 | D16: 实发金额/元
A17: 1.高二历史类数学 | B17: 一等奖 | C17: 49000 | D17: 39200 | I17: 工作量
A18: 班级 | B18: 科目 | C18: 参考人数 | D18: 年级平均分 | E18: 班平均分 | F18: 班平均分/年级平均分 | G18: 名次 | H18: 任课课师 | I18: 上期课时 | J18: 下期课时 | K18: 课时奖 | L18: 贡献奖 | M18: 合计
A19: 高二年级（9 ）班 | B19: 数学 | C19: 43 | D19: 55.649068 | E19: 53.625 | F19: =E19/D19 -> 0.96362799 | G19: 1 | H19: 马俊 | I19: 7 | J19: 8 | K19: =$D$17*0.4*SUM(I19:J19)/SUM($I$19:$J$25) -> 2240 | L19: =$D$17*0.6*0.7*E19/SUM($E$19:$E$25)+$D$17*0.6*0.3*F19/SUM($F$19:$F$25) -> 3923.5823 | M19: =SUM(K19:L19) -> 6163.5823
A20: 高二年级（14 ）班 | B20: 数学 | C20: 40 | D20: 55.649068 | E20: 51.903226 | F20: =E20/D20 -> 0.93268814 | G20: 2 | H20: 马俊 | I20: 7 | J20: 8 | K20: =$D$17*0.4*SUM(I20:J20)/SUM($I$19:$J$25) -> 2240 | L20: =$D$17*0.6*0.7*E20/SUM($E$19:$E$25)+$D$17*0.6*0.3*F20/SUM($F$19:$F$25) -> 3797.6052 | M20: =SUM(K20:L20) -> 6037.6052
A21: 高二年级（10 ）班 | B21: 数学 | C21: 40 | D21: 55.649068 | E21: 45.804348 | F21: =E21/D21 -> 0.82309281 | G21: 3 | H21: 喇燕 | I21: 7 | J21: 8 | K21: =$D$17*0.4*SUM(I21:J21)/SUM($I$19:$J$25) -> 2240 | L21: =$D$17*0.6*0.7*E21/SUM($E$19:$E$25)+$D$17*0.6*0.3*F21/SUM($F$19:$F$25) -> 3351.3684 | M21: =SUM(K21:L21) -> 5591.3684
A22: 高二年级（15 ）班 | B22: 数学 | C22: 45 | D22: 55.649068 | E22: 44.833333 | F22: =E22/D22 -> 0.80564392 | G22: 4 | H22: 潘勇 | I22: 7 | J22: 8 | K22: =$D$17*0.4*SUM(I22:J22)/SUM($I$19:$J$25) -> 2240 | L22: =$D$17*0.6*0.7*E22/SUM($E$19:$E$25)+$D$17*0.6*0.3*F22/SUM($F$19:$F$25) -> 3280.3221 | M22: =SUM(K22:L22) -> 5520.3221
A23: 高二年级（13 ）班 | B23: 数学 | C23: 44 | D23: 55.649068 | E23: 43.8 | F23: =E23/D23 -> 0.78707517 | G23: 5 | H23: 吕开绒/徐万雄 | I23: 7 | J23: 8 | K23: =$D$17*0.4*SUM(I23:J23)/SUM($I$19:$J$25) -> 2240 | L23: =$D$17*0.6*0.7*E23/SUM($E$19:$E$25)+$D$17*0.6*0.3*F23/SUM($F$19:$F$25) -> 3204.7162 | M23: =SUM(K23:L23) -> 5444.7162
A24: 高二年级（11 ）班 | B24: 数学 | C24: 41 | D24: 55.649068 | E24: 42.808511 | F24: =E24/D24 -> 0.76925835 | G24: 6 | H24: 曹云萍 | I24: 7 | J24: 8 | K24: =$D$17*0.4*SUM(I24:J24)/SUM($I$19:$J$25) -> 2240 | L24: =$D$17*0.6*0.7*E24/SUM($E$19:$E$25)+$D$17*0.6*0.3*F24/SUM($F$19:$F$25) -> 3132.1718 | M24: =SUM(K24:L24) -> 5372.1718
A25: 高二年级（12 ）班 | B25: 数学 | C25: 48 | D25: 55.649068 | E25: 38.681818 | F25: =E25/D25 -> 0.69510271 | G25: 7 | H25: 钟海昌 | I25: 7 | J25: 8 | K25: =$D$17*0.4*SUM(I25:J25)/SUM($I$19:$J$25) -> 2240 | L25: =$D$17*0.6*0.7*E25/SUM($E$19:$E$25)+$D$17*0.6*0.3*F25/SUM($F$19:$F$25) -> 2830.234 | M25: =SUM(K25:L25) -> 5070.234
J26: 合计 | K26: =SUM(K19:K25) -> 15680 | L26: =SUM(L19:L25) -> 23520 | M26: =SUM(K26:L26) -> 39200
B27: 奖项 | C27: 奖励金额/元 | D27: 实发金额/元
A28: 2.高二历史类生物 | B28: 二等奖 | C28: 6000 | D28: 4800 | I28: 工作量
A29: 班级 | B29: 科目 | C29: 参考人数 | D29: 年级平均分 | E29: 班平均分 | F29: 班平均分/年级平均分 | G29: 名次 | H29: 任课课师 | I29: 上期课时 | J29: 下期课时 | K29: 课时奖 | L29: 贡献奖 | M29: 合计
A30: 高二年级（13）班 | B30: 生物 | C30: 44 | D30: 74.484365 | E30: 70.335 | F30: =E30/D30 -> 0.94429214 | G30: 1 | H30: 尼玛布池 | I30: 5 | J30: 6 | K30: =$D$28*0.4*SUM(I30:J30)/SUM($I$30:$J$31) -> 960 | L30: =$D$28*0.6*0.7*E30/SUM($E$30:$E$31)+$D$28*0.6*0.3*F30/SUM($F$30:$F$31) -> 1495.8615 | M30: =SUM(K30:L30) -> 2455.8615
A31: 高二年级（12）班 | B31: 生物 | C31: 41 | D31: 74.484365 | E31: 65.081818 | F31: =E31/D31 -> 0.87376483 | G31: 2 | H31: 张弘 | I31: 5 | J31: 6 | K31: =$D$28*0.4*SUM(I31:J31)/SUM($I$30:$J$31) -> 960 | L31: =$D$28*0.6*0.7*E31/SUM($E$30:$E$31)+$D$28*0.6*0.3*F31/SUM($F$30:$F$31) -> 1384.1385 | M31: =SUM(K31:L31) -> 2344.1385
J32: 合计 | K32: =SUM(K30:K31) -> 1920 | L32: =SUM(L30:L31) -> 2880 | M32: =SUM(K32:L32) -> 4800
B33: 奖项 | C33: 奖励金额/元 | D33: 实发金额/元
A34: 3.高二历史类语文 | B34: 一等奖 | C34: 42000 | D34: 33600 | I34: 工作量
A35: 班级 | B35: 科目 | C35: 参考人数 | D35: 年级平均分 | E35: 班平均分 | F35: 班平均分/年级平均分 | G35: 名次 | H35: 任课课师 | I35: 上期课时 | J35: 下期课时 | K35: 课时奖 | L35: 贡献奖 | M35: 合计
A36: 高二年级（9 ）班 | B36: 语文 | C36: 44 | D36: 86.434783 | E36: 90.6 | F36: =E36/D36 -> 1.0481891 | G36: 1 | H36: 岳子琦 | I36: 7 | J36: 7 | K36: =$D$34*0.4*SUM(I36:J36)/SUM($I$36:$J$42) -> 1920 | L36: =$D$34*0.6*0.7*E36/SUM($E$36:$E$42)+$D$34*0.6*0.3*F36/SUM($F$36:$F$42) -> 3056.6066 | M36: =SUM(K36:L36) -> 4976.6066
A37: 高二年级（12 ）班 | B37: 语文 | C37: 45 | D37: 86.434783 | E37: 87.840909 | F37: =E37/D37 -> 1.0162681 | G37: 2 | H37: 杨翁基之玛 | I37: 7 | J37: 7 | K37: =$D$34*0.4*SUM(I37:J37)/SUM($I$36:$J$42) -> 1920 | L37: =$D$34*0.6*0.7*E37/SUM($E$36:$E$42)+$D$34*0.6*0.3*F37/SUM($F$36:$F$42) -> 2963.5221 | M37: =SUM(K37:L37) -> 4883.5221
A38: 高二年级（13 ）班 | B38: 语文 | C38: 40 | D38: 86.434783 | E38: 86.7 | F38: =E38/D38 -> 1.0030684 | G38: 3 | H38: 易涛 | I38: 7 | J38: 7 | K38: =$D$34*0.4*SUM(I38:J38)/SUM($I$36:$J$42) -> 1920 | L38: =$D$34*0.6*0.7*E38/SUM($E$36:$E$42)+$D$34*0.6*0.3*F38/SUM($F$36:$F$42) -> 2925.0309 | M38: =SUM(K38:L38) -> 4845.0309
A39: 高二年级（10 ）班 | B39: 语文 | C39: 48 | D39: 86.434783 | E39: 86.152174 | F39: =E39/D39 -> 0.99673038 | G39: 4 | H39: 杨翁基之玛 | I39: 7 | J39: 7 | K39: =$D$34*0.4*SUM(I39:J39)/SUM($I$36:$J$42) -> 1920 | L39: =$D$34*0.6*0.7*E39/SUM($E$36:$E$42)+$D$34*0.6*0.3*F39/SUM($F$36:$F$42) -> 2906.5486 | M39: =SUM(K39:L39) -> 4826.5486
A40: 高二年级（11 ）班 | B40: 语文 | C40: 48 | D40: 86.434783 | E40: 84.893617 | F40: =E40/D40 -> 0.98216961 | G40: 5 | H40: 陈光汇 | I40: 7 | J40: 7 | K40: =$D$34*0.4*SUM(I40:J40)/SUM($I$36:$J$42) -> 1920 | L40: =$D$34*0.6*0.7*E40/SUM($E$36:$E$42)+$D$34*0.6*0.3*F40/SUM($F$36:$F$42) -> 2864.0882 | M40: =SUM(K40:L40) -> 4784.0882
...

Sheet 进步奖
A1: 高二教学质量进步奖
A2: 科目 | B2: 奖项 | C2: 奖励金额/元 | D2: 实发金额/元
A3: 高二历史类历史（7个班） | B3: 一等奖 | C3: =7*6000*0.6 -> 25200 | D3: =C3*0.8 -> 20160
A4: 高二物理类语文（8个班） | B4: 一等奖 | C4: =6000*8 -> 48000 | D4: =C4*0.8 -> 38400
A5: 高二物理类地理（4个班） | B5: 一等奖 | C5: =4*6000*0.6 -> 14400 | D5: =C5*0.8 -> 11520
A6: 高二历史类数学（7个班） | B6: 二等奖 | C6: =4000*7 -> 28000 | D6: =C6*0.8 -> 22400
A7: 高二历史类语文（7个班） | B7: 三等奖 | C7: =2000*7 -> 14000 | D7: =C7*0.8 -> 11200
A8: 高二历史类政治（7个班） | B8: 三等奖 | C8: =2000*0.6*7 -> 8400 | D8: =C8*0.8 -> 6720
A9: 高二物理类物理（8个班） | B9: 三等奖 | C9: =2000*8*0.6 -> 9600 | D9: =C9*0.8 -> 7680
A10: 高二物理类英语（8个班） | B10: 三等奖 | C10: =2000*8*0.6 -> 9600 | D10: =C10*0.8 -> 7680
A11: 高二物理类化学（7个班） | B11: 二等奖 | C11: =4000*7*0.6 -> 16800 | D11: =C11*0.8 -> 13440
B12: 合计 | C12: =SUM(C3:C11) -> 174000 | D12: =SUM(D3:D11) -> 139200
B13: 奖项 | C13: 奖励金额/元 | D13: 实发金额/元
A14: 1.高二历史类历史 | B14: 一等奖 | C14: =7*6000*0.6 -> 25200 | D14: =C14*0.8 -> 20160 | I14: 工作量
A15: 班级 | B15: 科目 | C15: 参考人数 | D15: 年级平均分 | E15: 班平均分 | F15: 班平均分/年级平均分 | G15: 名次 | H15: 任课课师 | I15: 上期课时 | J15: 下期课时 | K15: 课时奖 | L15: 贡献奖 | M15: 合计
A16: 高二年级（9）班 | B16: 历史 | C16: 41 | D16: 54.119718 | E16: 64.575 | F16: =E16/D16 -> 1.193188 | G16: 1 | H16: 杨琴 | I16: 6 | J16: 7 | K16: =$D$14*0.4*SUM(I16:J16)/SUM($I$16:$J$22) -> 1152 | L16: =$D$14*0.6*0.7*E16/SUM($E$16:$E$22)+$D$14*0.6*0.3*F16/SUM($F$16:$F$22) -> 2068.0264 | M16: =SUM(K16:L16) -> 3220.0264
A17: 高二年级（13）班 | B17: 历史 | C17: 43 | D17: 54.119718 | E17: 55.4 | F17: =E17/D17 -> 1.0236565 | G17: 2 | H17: 徐志兵 | I17: 6 | J17: 7 | K17: =$D$14*0.4*SUM(I17:J17)/SUM($I$16:$J$22) -> 1152 | L17: =$D$14*0.6*0.7*E17/SUM($E$16:$E$22)+$D$14*0.6*0.3*F17/SUM($F$16:$F$22) -> 1774.1953 | M17: =SUM(K17:L17) -> 2926.1953
A18: 高二年级（11）班 | B18: 历史 | C18: 41 | D18: 54.119718 | E18: 54.808511 | F18: =E18/D18 -> 1.0127272 | G18: 3 | H18: 降初里 | I18: 6 | J18: 7 | K18: =$D$14*0.4*SUM(I18:J18)/SUM($I$16:$J$22) -> 1152 | L18: =$D$14*0.6*0.7*E18/SUM($E$16:$E$22)+$D$14*0.6*0.3*F18/SUM($F$16:$F$22) -> 1755.2527 | M18: =SUM(K18:L18) -> 2907.2527
A19: 高二年级（12）班 | B19: 历史 | C19: 44 | D19: 54.119718 | E19: 52.840909 | F19: =E19/D19 -> 0.97637073 | G19: 4 | H19: 杨琴 | I19: 6 | J19: 7 | K19: =$D$14*0.4*SUM(I19:J19)/SUM($I$16:$J$22) -> 1152 | L19: =$D$14*0.6*0.7*E19/SUM($E$16:$E$22)+$D$14*0.6*0.3*F19/SUM($F$16:$F$22) -> 1692.2399 | M19: =SUM(K19:L19) -> 2844.2399
A20: 高二年级（15）班 | B20: 历史 | C20: 48 | D20: 54.119718 | E20: 51.166667 | F20: =E20/D20 -> 0.94543483 | G20: 5 | H20: 降初里 | I20: 6 | J20: 7 | K20: =$D$14*0.4*SUM(I20:J20)/SUM($I$16:$J$22) -> 1152 | L20: =$D$14*0.6*0.7*E20/SUM($E$16:$E$22)+$D$14*0.6*0.3*F20/SUM($F$16:$F$22) -> 1638.622 | M20: =SUM(K20:L20) -> 2790.622
A21: 高二年级（10）班 | B21: 历史 | C21: 40 | D21: 54.119718 | E21: 50.782609 | F21: =E21/D21 -> 0.93833838 | G21: 6 | H21: 邱君益 | I21: 6 | J21: 7 | K21: =$D$14*0.4*SUM(I21:J21)/SUM($I$16:$J$22) -> 1152 | L21: =$D$14*0.6*0.7*E21/SUM($E$16:$E$22)+$D$14*0.6*0.3*F21/SUM($F$16:$F$22) -> 1626.3225 | M21: =SUM(K21:L21) -> 2778.3225
A22: 高二年级（14）班 | B22: 历史 | C22: 45 | D22: 54.119718 | E22: 48.129032 | F22: =E22/D22 -> 0.88930678 | G22: 7 | H22: 徐志兵 | I22: 6 | J22: 7 | K22: =$D$14*0.4*SUM(I22:J22)/SUM($I$16:$J$22) -> 1152 | L22: =$D$14*0.6*0.7*E22/SUM($E$16:$E$22)+$D$14*0.6*0.3*F22/SUM($F$16:$F$22) -> 1541.3412 | M22: =SUM(K22:L22) -> 2693.3412
J23: 合计 | K23: =SUM(K16:K22) -> 8064 | L23: =SUM(L16:L22) -> 12096 | M23: =SUM(K23:L23) -> 20160
B25: 奖项 | C25: 奖励金额/元 | D25: 实发金额/元
A26: 2.高二类物理语文 | B26: 一等奖 | C26: =6000*8 -> 48000 | D26: =C26*0.8 -> 38400 | I26: 工作量
A27: 班级 | B27: 科目 | C27: 参考人数 | D27: 年级平均分 | E27: 班平均分 | F27: 班平均分/年级平均分 | G27: 名次 | H27: 任课课师 | I27: 上期课时 | J27: 下期课时 | K27: 课时奖 | L27: 贡献奖 | M27: 合计
A28: 高二年级（1 ）班 | B28: 语文 | C28: 43 | D28: 86.434783 | E28: 95.255814 | F28: =E28/D28 -> 1.1020542 | G28: 1 | H28: 周菊明 | I28: 7 | J28: 7 | K28: =$D$26*0.4*SUM(I28:J28)/SUM($I$28:$J$35) -> 1920 | L28: =$D$26*0.6*0.7*E28/SUM($E$28:$E$35)+$D$26*0.6*0.3*F28/SUM($F$28:$F$35) -> 3152.7548 | M28: =SUM(K28:L28) -> 5072.7548
A29: 高二年级（2 ）班 | B29: 语文 | C29: 41 | D29: 86.434783 | E29: 88.043478 | F29: =E29/D29 -> 1.0186117 | G29: 2 | H29: 肖锐 | I29: 7 | J29: 7 | K29: =$D$26*0.4*SUM(I29:J29)/SUM($I$28:$J$35) -> 1920 | L29: =$D$26*0.6*0.7*E29/SUM($E$28:$E$35)+$D$26*0.6*0.3*F29/SUM($F$28:$F$35) -> 2914.0426 | M29: =SUM(K29:L29) -> 4834.0426
A30: 高二年级（3 ）班 | B30: 语文 | C30: 50 | D30: 86.434783 | E30: 87.891304 | F30: =E30/D30 -> 1.0168511 | G30: 3 | H30: 易涛 | I30: 7 | J30: 7 | K30: =$D$26*0.4*SUM(I30:J30)/SUM($I$28:$J$35) -> 1920 | L30: =$D$26*0.6*0.7*E30/SUM($E$28:$E$35)+$D$26*0.6*0.3*F30/SUM($F$28:$F$35) -> 2909.006 | M30: =SUM(K30:L30) -> 4829.006
A31: 高二年级（4 ）班 | B31: 语文 | C31: 48 | D31: 86.434783 | E31: 87.469388 | F31: =E31/D31 -> 1.0119698 | G31: 4 | H31: 肖锐 | I31: 7 | J31: 7 | K31: =$D$26*0.4*SUM(I31:J31)/SUM($I$28:$J$35) -> 1920 | L31: =$D$26*0.6*0.7*E31/SUM($E$28:$E$35)+$D$26*0.6*0.3*F31/SUM($F$28:$F$35) -> 2895.0415 | M31: =SUM(K31:L31) -> 4815.0415
A32: 高二年级（6 ）班 | B32: 语文 | C32: 48 | D32: 86.434783 | E32: 86.04 | F32: =E32/D32 -> 0.9954326 | G32: 5 | H32: 陈光汇 | I32: 7 | J32: 7 | K32: =$D$26*0.4*SUM(I32:J32)/SUM($I$28:$J$35) -> 1920 | L32: =$D$26*0.6*0.7*E32/SUM($E$28:$E$35)+$D$26*0.6*0.3*F32/SUM($F$28:$F$35) -> 2847.732 | M32: =SUM(K32:L32) -> 4767.732
A33: 高二年级（5 ）班 | B33: 语文 | C33: 50 | D33: 86.434783 | E33: 84.6 | F33: =E33/D33 -> 0.97877264 | G33: 6 | H33: 格绒燚西 | I33: 7 | J33: 7 | K33: =$D$26*0.4*SUM(I33:J33)/SUM($I$28:$J$35) -> 1920 | L33: =$D$26*0.6*0.7*E33/SUM($E$28:$E$35)+$D$26*0.6*0.3*F33/SUM($F$28:$F$35) -> 2800.0712 | M33: =SUM(K33:L33) -> 4720.0712
A34: 高二年级（8 ）班 | B34: 语文 | C34: 40 | D34: 86.434783 | E34: 83.447368 | F34: =E34/D34 -> 0.96543736 | G34: 7 | H34: 岳子琦 | I34: 7 | J34: 7 | K34: =$D$26*0.4*SUM(I34:J34)/SUM($I$28:$J$35) -> 1920 | L34: =$D$26*0.6*0.7*E34/SUM($E$28:$E$35)+$D$26*0.6*0.3*F34/SUM($F$28:$F$35) -> 2761.9217 | M34: =SUM(K34:L34) -> 4681.9217
A35: 高二年级（7 ）班 | B35: 语文 | C35: 41 | D35: 86.434783 | E35: 83.372093 | F35: =E35/D35 -> 0.96456647 | G35: 8 | H35: 李正琪/杨翁基之玛 | I35: 7 | J35: 7 | K35: =$D$26*0.4*SUM(I35:J35)/SUM($I$28:$J$35) -> 1920 | L35: =$D$26*0.6*0.7*E35/SUM($E$28:$E$35)+$D$26*0.6*0.3*F35/SUM($F$28:$F$35) -> 2759.4302 | M35: =SUM(K35:L35) -> 4679.4302
J36: 合计 | K36: =SUM(K28:K35) -> 15360 | L36: =SUM(L28:L35) -> 23040 | M36: =SUM(K36:L36) -> 38400
B37: 奖项 | C37: 奖励金额/元 | D37: 实发金额/元
A38: 3.高二物理类地理 | B38: 一等奖 | C38: 14400 | D38: 11520 | I38: 工作量
A39: 班级 | B39: 科目 | C39: 参考人数 | D39: 年级平均分 | E39: 班平均分 | F39: 班平均分/年级平均分 | G39: 名次 | H39: 任课课师 | I39: 上期课时 | J39: 下期课时 | K39: 课时奖 | L39: 贡献奖 | M39: 合计
A40: 高二年级（6）班 | B40: 地理 | C40: 50 | D40: 74.300938 | E40: 80.098 | F40: =E40/D40 -> 1.0780214 | G40: 1 | H40: 邓倩 | I40: 6 | J40: 6 | K40: =$D$38*0.4*SUM(I40:J40)/SUM($I$40:$J$42) -> 1536 | L40: =$D$38*0.6*0.7*E40/SUM($E$40:$E$42)+$D$38*0.6*0.3*F40/SUM($F$40:$F$42) -> 2411.3803 | M40: =SUM(K40:L40) -> 3947.3803
A41: 高二年级（5）班 | B41: 地理 | C41: 41 | D41: 74.300938 | E41: 77.615556 | F41: =E41/D41 -> 1.0446107 | G41: 2 | H41: 金贵 | I41: 6 | J41: 6 | K41: =$D$38*0.4*SUM(I41:J41)/SUM($I$40:$J$42) -> 1536 | L41: =$D$38*0.6*0.7*E41/SUM($E$40:$E$42)+$D$38*0.6*0.3*F41/SUM($F$40:$F$42) -> 2336.6454 | M41: =SUM(K41:L41) -> 3872.6454
...

Sheet 合计
A1: 科目 | B1: 任课课师 | C1: 奖金 | D1: 签字 | E1: 组内合计
A2: 数学 | B2: 赵云川 | C2: =质量奖!M58+质量奖!M63 -> 6388.3969 | E2: =SUM(C2:C10) -> 85600
B3: 钟海昌 | C3: =质量奖!M62+质量奖!M25+进步奖!M53 -> 10924.689
B4: 央宗娜姆 | C4: =质量奖!M59+质量奖!M60 -> 6452.9615
B5: 喇燕 | C5: =质量奖!M61+质量奖!M21+进步奖!M49 -> 11827.981
B6: 曹云萍 | C6: =质量奖!M24+质量奖!M64+进步奖!M52 -> 11205.589
B7: 徐万雄 | C7: =质量奖!M65*0.5+质量奖!M23*0.8+进步奖!M51*0.8 -> 8042.9423
B8: 马俊 | C8: =质量奖!M19+质量奖!M20+进步奖!M47+进步奖!M48 -> 19173.295
B9: 潘勇 | C9: =质量奖!M22+进步奖!M50 -> 8674.7919
B10: 吕开绒 | C10: =质量奖!M65*0.5+质量奖!M23*0.2+进步奖!M51*0.2 -> 2909.3528
A11: 语文 | B11: 周菊明 | C11: =质量奖!M90+进步奖!M28 -> 9511.4153 | E11: =SUM(C11:C19) -> 116800
B12: 肖锐 | C12: =质量奖!M91+质量奖!M93+进步奖!M29+进步奖!M31 -> 18092.033
B13: 易涛 | C13: =质量奖!M92+质量奖!M38+进步奖!M30+进步奖!M60 -> 15514.427
B14: 格绒燚西 | C14: =质量奖!M42+质量奖!M95+进步奖!M64+进步奖!M33 -> 14966.706
B15: 陈光汇 | C15: =质量奖!M94+质量奖!M40+进步奖!M32+进步奖!M62 -> 15318.282
B16: 杨翁基之玛 | C16: =质量奖!M37+质量奖!M39+质量奖!M97*0.5+进步奖!M61+进步奖!M59+进步奖!M35*0.5 -> 17333.727
B17: 岳子琦 | C17: =质量奖!M96+质量奖!M36+进步奖!M34+进步奖!M58 -> 15414.079
B18: 甲阿祝玛 | C18: =质量奖!M41+进步奖!M63 -> 6262.3651
B19: 李正琪 | C19: =质量奖!M97*0.5+进步奖!M35*0.5 -> 4386.9658
A20: 英语 | B20: 拉初 | C20: =质量奖!M123+质量奖!M127+进步奖!M92+进步奖!M96 -> 4240.97 | E20: =SUM(C20:C26) -> 14880
B21: 彭丹 | C21: =质量奖!M125+进步奖!M94 -> 1952.6848
B22: 李永会 | C22: =质量奖!M126+进步奖!M95 -> 1824.3809
B23: 浦恩玲 | C23: =质量奖!M124+进步奖!M93 -> 2053.9996
B24: 张福琴 | C24: =质量奖!M128+进步奖!M97 -> 1802.0609
B25: 陈国萍 | C25: =质量奖!M130+进步奖!M99 -> 1478.0015
B26: 朱恩凡 | C26: =质量奖!M129+进步奖!M98 -> 1527.9023
A27: 物理 | B27: 赵建超 | C27: =进步奖!M80+进步奖!M86 -> 2004.2304 | E27: =SUM(C27:C30) -> 7680
B28: 康小平 | C28: =进步奖!M83+进步奖!M87 -> 1811.624
B29: 周峰 | C29: =进步奖!M84+进步奖!M81 -> 1978.5155
B30: 解超燕 | C30: =进步奖!M85+进步奖!M82 -> 1885.63
A31: 化学 | B31: 叶小军 | C31: =质量奖!M70+质量奖!M75+进步奖!M104+进步奖!M109 -> 8774.7515 | E31: =SUM(C31:C34) -> 30240
B32: 李荣鑫 | C32: =质量奖!M72+质量奖!M73+进步奖!M106+进步奖!M107 -> 8789.3975
B33: 何传英 | C33: =质量奖!M71+进步奖!M105 -> 4521.6079
B34: 马红琦 | C34: =质量奖!M74+质量奖!M76+进步奖!M108+进步奖!M110 -> 8154.2431
A35: 生物 | B35: 彭桦 | C35: =质量奖!M81+质量奖!M82 -> 3000.5179 | E35: =SUM(C35:C37) -> 12000
B36: 张弘 | C36: =质量奖!M31+质量奖!M84 -> 3716.0146
B37: 尼玛布池 | C37: =质量奖!M30+质量奖!M83+质量奖!M85 -> 5283.4675
A38: 政治 | B38: 马巫各 | C38: =质量奖!M47+质量奖!M53+进步奖!M69+进步奖!M75 -> 5367.9548 | E38: =SUM(C38:C41) -> 18720
B39: 胡东缘 | C39: =质量奖!M48+质量奖!M49+进步奖!M70+进步奖!M71+质量奖!M50*0.5+进步奖!M72*0.5 -> 6809.2619
B40: 吴文艺 | C40: =质量奖!M50*0.5+质量奖!M51*0.5+进步奖!M72*0.5+进步奖!M73*0.5 -> 2661.5014
...
