Workbook
Name 班主任: #REF!,#REF!,#REF!,#REF!,#REF!,#REF!
Name 单双上线: #REF!
Name 高2016级质量奖: #REF!
Name 高2017级质量奖: #REF!
Name 高2018级质量奖: #REF!
Name 过程评价奖: '2.gk_过程评价'!$B$1:$D$77
Name 基本奖: '1.gk_工作量'!$B$4:$M$93
Name 录取C9: '7.gk_C9院校考核'!$B:$F
Name 文化贡献奖: #REF!
Name 学生教师总表: #REF!
Name 总分上线: #REF!

Sheet 汇总
A1: 校长审签：
A2: 分导审签：
A3: 经办人：
A4: 木里中学（高中部）2024-2025学年度教学质量进步奖及高考奖公示
A5: 序号 | B5: 工号 | C5: 姓名 | D5: 各年级质量进步奖 | H5: 高考质量奖 | P5: 合计/元 | Q5: 实发/元 | R5: 备注
D6: 高一/元 | E6: 高二/元 | F6: 高三/元 | G6: 小计1/元 | H6: 工作量 (30%)/元 | I6: 文化质量奖(70%) | K6: 艺体质量奖(70%)/元 | L6: 超额目标奖/元 | M6: 年级管理奖/元 | N6: 录取到C9院校考核/元 | O6: 小计2/元
I7: 过程评价奖/元 | J7: 上线质量奖(总分上线)/元
A8: 1 | B8: mz024 | C8: 曹云萍 | D8: =IF(SUMIF(高一质量奖!A:A,C8,高一质量奖!B:B)>0,SUMIF(高一质量奖!A:A,C8,高一质量奖!B:B),"") | E8: =IF(SUMIF(高二进步奖!A:A,C8,高二进步奖!B:B)>0,SUMIF(高二进步奖!A:A,C8,高二进步奖!B:B),"") | F8: =IF(SUMIF(高三进步奖!A:A,C8,高三进步奖!D:D)>0,SUMIF(高三进步奖!A:A,C8,高三进步奖!D:D),"") | G8: =SUM(D8:F8) -> 0 | H8: =IF(SUMIFS('1.gk_工作量'!$M$4:$M$93,'1.gk_工作量'!$B$4:$B$93,C8)>0,SUMIFS('1.gk_工作量'!$M$4:$M$93,'1.gk_工作量'!$B$4:$B$93,C8),"") -> 18278.721 | I8: =IF(SUMIFS('2.gk_过程评价'!$D:$D,'2.gk_过程评价'!$B:$B,C8)>0,SUMIFS('2.gk_过程评价'!$D:$D,'2.gk_过程评价'!$B:$B,C8),"") -> 13040.671 | J8: =IF(SUMIF('3.gk_上线质量'!B:B,C8,'3.gk_上线质量'!D:D)<>0,SUMIF('3.gk_上线质量'!B:B,C8,'3.gk_上线质量'!D:D),"") -> 4658.0642 | K8: =IF(SUMIFS('4.gk_艺体质量'!E:E,'4.gk_艺体质量'!A:A,C8)>0,SUMIFS('4.gk_艺体质量'!E:E,'4.gk_艺体质量'!A:A,C8),"") -> 2651.1532 | L8: =IF(SUMIF('5.gk_超额目标'!B:B,C8,'5.gk_超额目标'!D:D)>0,SUMIF('5.gk_超额目标'!B:B,C8,'5.gk_超额目标'!D:D),"") -> 3583.3901 | M8: =IF(SUMIF('6.gk_年级管理'!A:A,C8,'6.gk_年级管理'!D:D)>0,SUMIF('6.gk_年级管理'!A:A,C8,'6.gk_年级管理'!D:D),"") -> 2180.88 | N8: =IF(SUMIF('7.gk_C9院校考核'!B:B,C8,'7.gk_C9院校考核'!F:F)>0,SUMIF('7.gk_C9院校考核'!B:B,C8,'7.gk_C9院校考核'!F:F),"") | O8: =SUM(H8:N8) -> 44392.88 | P8: =G8+O8 -> 44392.88 | Q8: =IF(R8="辞职发0.3",P8*0.3,P8) -> 44392.88
A9: 2 | B9: mz019 | C9: 陈光汇 | D9: =IF(SUMIF(高一质量奖!A:A,C9,高一质量奖!B:B)>0,SUMIF(高一质量奖!A:A,C9,高一质量奖!B:B),"") | E9: =IF(SUMIF(高二进步奖!A:A,C9,高二进步奖!B:B)>0,SUMIF(高二进步奖!A:A,C9,高二进步奖!B:B),"") | F9: =IF(SUMIF(高三进步奖!A:A,C9,高三进步奖!D:D)>0,SUMIF(高三进步奖!A:A,C9,高三进步奖!D:D),"") | G9: =SUM(D9:F9) -> 0 | H9: =IF(SUMIFS('1.gk_工作量'!$M$4:$M$93,'1.gk_工作量'!$B$4:$B$93,C9)>0,SUMIFS('1.gk_工作量'!$M$4:$M$93,'1.gk_工作量'!$B$4:$B$93,C9),"") -> 13661.837 | I9: =IF(SUMIFS('2.gk_过程评价'!$D:$D,'2.gk_过程评价'!$B:$B,C9)>0,SUMIFS('2.gk_过程评价'!$D:$D,'2.gk_过程评价'!$B:$B,C9),"") -> 13186.054 | J9: =IF(SUMIF('3.gk_上线质量'!B:B,C9,'3.gk_上线质量'!D:D)<>0,SUMIF('3.gk_上线质量'!B:B,C9,'3.gk_上线质量'!D:D),"") -> 13764.37 | K9: =IF(SUMIFS('4.gk_艺体质量'!E:E,'4.gk_艺体质量'!A:A,C9)>0,SUMIFS('4.gk_艺体质量'!E:E,'4.gk_艺体质量'!A:A,C9),"") -> 657.80492 | L9: =IF(SUMIF('5.gk_超额目标'!B:B,C9,'5.gk_超额目标'!D:D)>0,SUMIF('5.gk_超额目标'!B:B,C9,'5.gk_超额目标'!D:D),"") -> 2859.0878 | M9: =IF(SUMIF('6.gk_年级管理'!A:A,C9,'6.gk_年级管理'!D:D)>0,SUMIF('6.gk_年级管理'!A:A,C9,'6.gk_年级管理'!D:D),"") | N9: =IF(SUMIF('7.gk_C9院校考核'!B:B,C9,'7.gk_C9院校考核'!F:F)>0,SUMIF('7.gk_C9院校考核'!B:B,C9,'7.gk_C9院校考核'!F:F),"") | O9: =SUM(H9:N9) -> 44129.154 | P9: =G9+O9 -> 44129.154 | Q9: =IF(R9="辞职发0.3",P9*0.3,P9) -> 44129.154
A10: 3 | B10: mz033 | C10: 陈国萍 | D10: =IF(SUMIF(高一质量奖!A:A,C10,高一质量奖!B:B)>0,SUMIF(高一质量奖!A:A,C10,高一质量奖!B:B),"") | E10: =IF(SUMIF(高二进步奖!A:A,C10,高二进步奖!B:B)>0,SUMIF(高二进步奖!A:A,C10,高二进步奖!B:B),"") | F10: =IF(SUMIF(高三进步奖!A:A,C10,高三进步奖!D:D)>0,SUMIF(高三进步奖!A:A,C10,高三进步奖!D:D),"") | G10: =SUM(D10:F10) -> 0 | H10: =IF(SUMIFS('1.gk_工作量'!$M$4:$M$93,'1.gk_工作量'!$B$4:$B$93,C10)>0,SUMIFS('1.gk_工作量'!$M$4:$M$93,'1.gk_工作量'!$B$4:$B$93,C10),"") -> 18506.181 | I10: =IF(SUMIFS('2.gk_过程评价'!$D:$D,'2.gk_过程评价'!$B:$B,C10)>0,SUMIFS('2.gk_过程评价'!$D:$D,'2.gk_过程评价'!$B:$B,C10),"") -> 12962.151 | J10: =IF(SUMIF('3.gk_上线质量'!B:B,C10,'3.gk_上线质量'!D:D)<>0,SUMIF('3.gk_上线质量'!B:B,C10,'3.gk_上线质量'!D:D),"") -> 4893.7113 | K10: =IF(SUMIFS('4.gk_艺体质量'!E:E,'4.gk_艺体质量'!A:A,C10)>0,SUMIFS('4.gk_艺体质量'!E:E,'4.gk_艺体质量'!A:A,C10),"") -> 2212.6166 | L10: =IF(SUMIF('5.gk_超额目标'!B:B,C10,'5.gk_超额目标'!D:D)>0,SUMIF('5.gk_超额目标'!B:B,C10,'5.gk_超额目标'!D:D),"") -> 3964.6018 | M10: =IF(SUMIF('6.gk_年级管理'!A:A,C10,'6.gk_年级管理'!D:D)>0,SUMIF('6.gk_年级管理'!A:A,C10,'6.gk_年级管理'!D:D),"") | N10: =IF(SUMIF('7.gk_C9院校考核'!B:B,C10,'7.gk_C9院校考核'!F:F)>0,SUMIF('7.gk_C9院校考核'!B:B,C10,'7.gk_C9院校考核'!F:F),"") | O10: =SUM(H10:N10) -> 42539.261 | P10: =G10+O10 -> 42539.261 | Q10: =IF(R10="辞职发0.3",P10*0.3,P10) -> 42539.261
A11: 4 | B11: mz027 | C11: 陈虎林 | D11: =IF(SUMIF(高一质量奖!A:A,C11,高一质量奖!B:B)>0,SUMIF(高一质量奖!A:A,C11,高一质量奖!B:B),"") | E11: =IF(SUMIF(高二进步奖!A:A,C11,高二进步奖!B:B)>0,SUMIF(高二进步奖!A:A,C11,高二进步奖!B:B),"") | F11: =IF(SUMIF(高三进步奖!A:A,C11,高三进步奖!D:D)>0,SUMIF(高三进步奖!A:A,C11,高三进步奖!D:D),"") | G11: =SUM(D11:F11) -> 0 | H11: =IF(SUMIFS('1.gk_工作量'!$M$4:$M$93,'1.gk_工作量'!$B$4:$B$93,C11)>0,SUMIFS('1.gk_工作量'!$M$4:$M$93,'1.gk_工作量'!$B$4:$B$93,C11),"") -> 1246.5181 | I11: =IF(SUMIFS('2.gk_过程评价'!$D:$D,'2.gk_过程评价'!$B:$B,C11)>0,SUMIFS('2.gk_过程评价'!$D:$D,'2.gk_过程评价'!$B:$B,C11),"") -> 2110.6286 | J11: =IF(SUMIF('3.gk_上线质量'!B:B,C11,'3.gk_上线质量'!D:D)<>0,SUMIF('3.gk_上线质量'!B:B,C11,'3.gk_上线质量'!D:D),"") -> 926.44798 | K11: =IF(SUMIFS('4.gk_艺体质量'!E:E,'4.gk_艺体质量'!A:A,C11)>0,SUMIFS('4.gk_艺体质量'!E:E,'4.gk_艺体质量'!A:A,C11),"") | L11: =IF(SUMIF('5.gk_超额目标'!B:B,C11,'5.gk_超额目标'!D:D)>0,SUMIF('5.gk_超额目标'!B:B,C11,'5.gk_超额目标'!D:D),"") -> 600.40844 | M11: =IF(SUMIF('6.gk_年级管理'!A:A,C11,'6.gk_年级管理'!D:D)>0,SUMIF('6.gk_年级管理'!A:A,C11,'6.gk_年级管理'!D:D),"") | N11: =IF(SUMIF('7.gk_C9院校考核'!B:B,C11,'7.gk_C9院校考核'!F:F)>0,SUMIF('7.gk_C9院校考核'!B:B,C11,'7.gk_C9院校考核'!F:F),"") | O11: =SUM(H11:N11) -> 4884.0031 | P11: =G11+O11 -> 4884.0031 | Q11: =IF(R11="辞职发0.3",P11*0.3,P11) -> 4884.0031
A12: 5 | C12: 次珍扎保 | D12: =IF(SUMIF(高一质量奖!A:A,C12,高一质量奖!B:B)>0,SUMIF(高一质量奖!A:A,C12,高一质量奖!B:B),"") | E12: =IF(SUMIF(高二进步奖!A:A,C12,高二进步奖!B:B)>0,SUMIF(高二进步奖!A:A,C12,高二进步奖!B:B),"") | F12: =IF(SUMIF(高三进步奖!A:A,C12,高三进步奖!D:D)>0,SUMIF(高三进步奖!A:A,C12,高三进步奖!D:D),"") | G12: =SUM(D12:F12) -> 0 | H12: =IF(SUMIFS('1.gk_工作量'!$M$4:$M$93,'1.gk_工作量'!$B$4:$B$93,C12)>0,SUMIFS('1.gk_工作量'!$M$4:$M$93,'1.gk_工作量'!$B$4:$B$93,C12),"") -> 1187.1601 | I12: =IF(SUMIFS('2.gk_过程评价'!$D:$D,'2.gk_过程评价'!$B:$B,C12)>0,SUMIFS('2.gk_过程评价'!$D:$D,'2.gk_过程评价'!$B:$B,C12),"") -> 2200.9843 | J12: =IF(SUMIF('3.gk_上线质量'!B:B,C12,'3.gk_上线质量'!D:D)<>0,SUMIF('3.gk_上线质量'!B:B,C12,'3.gk_上线质量'!D:D),"") -> 1158.867 | K12: =IF(SUMIFS('4.gk_艺体质量'!E:E,'4.gk_艺体质量'!A:A,C12)>0,SUMIFS('4.gk_艺体质量'!E:E,'4.gk_艺体质量'!A:A,C12),"") -> 79.73393 | L12: =IF(SUMIF('5.gk_超额目标'!B:B,C12,'5.gk_超额目标'!D:D)>0,SUMIF('5.gk_超额目标'!B:B,C12,'5.gk_超额目标'!D:D),"") -> 142.95439 | M12: =IF(SUMIF('6.gk_年级管理'!A:A,C12,'6.gk_年级管理'!D:D)>0,SUMIF('6.gk_年级管理'!A:A,C12,'6.gk_年级管理'!D:D),"") | N12: =IF(SUMIF('7.gk_C9院校考核'!B:B,C12,'7.gk_C9院校考核'!F:F)>0,SUMIF('7.gk_C9院校考核'!B:B,C12,'7.gk_C9院校考核'!F:F),"") | O12: =SUM(H12:N12) -> 4769.6997 | P12: =G12+O12 -> 4769.6997 | Q12: =IF(R12="辞职发0.3",P12*0.3,P12) -> 1430.9099 | R12: 辞职发0.3
A13: 6 | B13: mz048 | C13: 崔萌 | D13: =IF(SUMIF(高一质量奖!A:A,C13,高一质量奖!B:B)>0,SUMIF(高一质量奖!A:A,C13,高一质量奖!B:B),"") | E13: =IF(SUMIF(高二进步奖!A:A,C13,高二进步奖!B:B)>0,SUMIF(高二进步奖!A:A,C13,高二进步奖!B:B),"") | F13: =IF(SUMIF(高三进步奖!A:A,C13,高三进步奖!D:D)>0,SUMIF(高三进步奖!A:A,C13,高三进步奖!D:D),"") | G13: =SUM(D13:F13) -> 0 | H13: =IF(SUMIFS('1.gk_工作量'!$M$4:$M$93,'1.gk_工作量'!$B$4:$B$93,C13)>0,SUMIFS('1.gk_工作量'!$M$4:$M$93,'1.gk_工作量'!$B$4:$B$93,C13),"") -> 1424.5921 | I13: =IF(SUMIFS('2.gk_过程评价'!$D:$D,'2.gk_过程评价'!$B:$B,C13)>0,SUMIFS('2.gk_过程评价'!$D:$D,'2.gk_过程评价'!$B:$B,C13),"") -> 1837.5712 | J13: =IF(SUMIF('3.gk_上线质量'!B:B,C13,'3.gk_上线质量'!D:D)<>0,SUMIF('3.gk_上线质量'!B:B,C13,'3.gk_上线质量'!D:D),"") -> 1197.6035 | K13: =IF(SUMIFS('4.gk_艺体质量'!E:E,'4.gk_艺体质量'!A:A,C13)>0,SUMIFS('4.gk_艺体质量'!E:E,'4.gk_艺体质量'!A:A,C13),"") | L13: =IF(SUMIF('5.gk_超额目标'!B:B,C13,'5.gk_超额目标'!D:D)>0,SUMIF('5.gk_超额目标'!B:B,C13,'5.gk_超额目标'!D:D),"") -> 257.3179 | M13: =IF(SUMIF('6.gk_年级管理'!A:A,C13,'6.gk_年级管理'!D:D)>0,SUMIF('6.gk_年级管理'!A:A,C13,'6.gk_年级管理'!D:D),"") | N13: =IF(SUMIF('7.gk_C9院校考核'!B:B,C13,'7.gk_C9院校考核'!F:F)>0,SUMIF('7.gk_C9院校考核'!B:B,C13,'7.gk_C9院校考核'!F:F),"") | O13: =SUM(H13:N13) -> 4717.0847 | P13: =G13+O13 -> 4717.0847 | Q13: =IF(R13="辞职发0.3",P13*0.3,P13) -> 4717.0847
A14: 7 | B14: mz075 | C14: 旦珠拉初 | D14: =IF(SUMIF(高一质量奖!A:A,C14,高一质量奖!B:B)>0,SUMIF(高一质量奖!A:A,C14,高一质量奖!B:B),"") | E14: =IF(SUMIF(高二进步奖!A:A,C14,高二进步奖!B:B)>0,SUMIF(高二进步奖!A:A,C14,高二进步奖!B:B),"") | F14: =IF(SUMIF(高三进步奖!A:A,C14,高三进步奖!D:D)>0,SUMIF(高三进步奖!A:A,C14,高三进步奖!D:D),"") | G14: =SUM(D14:F14) -> 0 | H14: =IF(SUMIFS('1.gk_工作量'!$M$4:$M$93,'1.gk_工作量'!$B$4:$B$93,C14)>0,SUMIFS('1.gk_工作量'!$M$4:$M$93,'1.gk_工作量'!$B$4:$B$93,C14),"") -> 7746.5335 | I14: =IF(SUMIFS('2.gk_过程评价'!$D:$D,'2.gk_过程评价'!$B:$B,C14)>0,SUMIFS('2.gk_过程评价'!$D:$D,'2.gk_过程评价'!$B:$B,C14),"") | J14: =IF(SUMIF('3.gk_上线质量'!B:B,C14,'3.gk_上线质量'!D:D)<>0,SUMIF('3.gk_上线质量'!B:B,C14,'3.gk_上线质量'!D:D),"") | K14: =IF(SUMIFS('4.gk_艺体质量'!E:E,'4.gk_艺体质量'!A:A,C14)>0,SUMIFS('4.gk_艺体质量'!E:E,'4.gk_艺体质量'!A:A,C14),"") | L14: =IF(SUMIF('5.gk_超额目标'!B:B,C14,'5.gk_超额目标'!D:D)>0,SUMIF('5.gk_超额目标'!B:B,C14,'5.gk_超额目标'!D:D),"") | M14: =IF(SUMIF('6.gk_年级管理'!A:A,C14,'6.gk_年级管理'!D:D)>0,SUMIF('6.gk_年级管理'!A:A,C14,'6.gk_年级管理'!D:D),"") | N14: =IF(SUMIF('7.gk_C9院校考核'!B:B,C14,'7.gk_C9院校考核'!F:F)>0,SUMIF('7.gk_C9院校考核'!B:B,C14,'7.gk_C9院校考核'!F:F),"") | O14: =SUM(H14:N14) -> 7746.5335 | P14: =G14+O14 -> 7746.5335 | Q14: =IF(R14="辞职发0.3",P14*0.3,P14) -> 7746.5335
A15: 8 | C15: 邓国华 | D15: =IF(SUMIF(高一质量奖!A:A,C15,高一质量奖!B:B)>0,SUMIF(高一质量奖!A:A,C15,高一质量奖!B:B),"") | E15: =IF(SUMIF(高二进步奖!A:A,C15,高二进步奖!B:B)>0,SUMIF(高二进步奖!A:A,C15,高二进步奖!B:B),"") | F15: =IF(SUMIF(高三进步奖!A:A,C15,高三进步奖!D:D)>0,SUMIF(高三进步奖!A:A,C15,高三进步奖!D:D),"") | G15: =SUM(D15:F15) -> 0 | H15: =IF(SUMIFS('1.gk_工作量'!$M$4:$M$93,'1.gk_工作量'!$B$4:$B$93,C15)>0,SUMIFS('1.gk_工作量'!$M$4:$M$93,'1.gk_工作量'!$B$4:$B$93,C15),"") -> 3442.7643 | I15: =IF(SUMIFS('2.gk_过程评价'!$D:$D,'2.gk_过程评价'!$B:$B,C15)>0,SUMIFS('2.gk_过程评价'!$D:$D,'2.gk_过程评价'!$B:$B,C15),"") -> 4009.4701 | J15: =IF(SUMIF('3.gk_上线质量'!B:B,C15,'3.gk_上线质量'!D:D)<>0,SUMIF('3.gk_上线质量'!B:B,C15,'3.gk_上线质量'!D:D),"") -> 3537.9338 | K15: =IF(SUMIFS('4.gk_艺体质量'!E:E,'4.gk_艺体质量'!A:A,C15)>0,SUMIFS('4.gk_艺体质量'!E:E,'4.gk_艺体质量'!A:A,C15),"") -> 4166.0978 | L15: =IF(SUMIF('5.gk_超额目标'!B:B,C15,'5.gk_超额目标'!D:D)>0,SUMIF('5.gk_超额目标'!B:B,C15,'5.gk_超额目标'!D:D),"") -> 857.72634 | M15: =IF(SUMIF('6.gk_年级管理'!A:A,C15,'6.gk_年级管理'!D:D)>0,SUMIF('6.gk_年级管理'!A:A,C15,'6.gk_年级管理'!D:D),"") | N15: =IF(SUMIF('7.gk_C9院校考核'!B:B,C15,'7.gk_C9院校考核'!F:F)>0,SUMIF('7.gk_C9院校考核'!B:B,C15,'7.gk_C9院校考核'!F:F),"") | O15: =SUM(H15:N15) -> 16013.992 | P15: =G15+O15 -> 16013.992 | Q15: =IF(R15="辞职发0.3",P15*0.3,P15) -> 4804.1977 | R15: 辞职发0.3
A16: 9 | B16: mz115 | C16: 邓彤 | H16: =IF(SUMIFS('1.gk_工作量'!$M$4:$M$93,'1.gk_工作量'!$B$4:$B$93,C16)>0,SUMIFS('1.gk_工作量'!$M$4:$M$93,'1.gk_工作量'!$B$4:$B$93,C16),"") | I16: =IF(SUMIFS('2.gk_过程评价'!$D:$D,'2.gk_过程评价'!$B:$B,C16)>0,SUMIFS('2.gk_过程评价'!$D:$D,'2.gk_过程评价'!$B:$B,C16),"") | J16: =IF(SUMIF('3.gk_上线质量'!B:B,C16,'3.gk_上线质量'!D:D)<>0,SUMIF('3.gk_上线质量'!B:B,C16,'3.gk_上线质量'!D:D),"") | K16: =IF(SUMIFS('4.gk_艺体质量'!E:E,'4.gk_艺体质量'!A:A,C16)>0,SUMIFS('4.gk_艺体质量'!E:E,'4.gk_艺体质量'!A:A,C16),"") -> 74700 | L16: =IF(SUMIF('5.gk_超额目标'!B:B,C16,'5.gk_超额目标'!D:D)>0,SUMIF('5.gk_超额目标'!B:B,C16,'5.gk_超额目标'!D:D),"") | M16: =IF(SUMIF('6.gk_年级管理'!A:A,C16,'6.gk_年级管理'!D:D)>0,SUMIF('6.gk_年级管理'!A:A,C16,'6.gk_年级管理'!D:D),"") | N16: =IF(SUMIF('7.gk_C9院校考核'!B:B,C16,'7.gk_C9院校考核'!F:F)>0,SUMIF('7.gk_C9院校考核'!B:B,C16,'7.gk_C9院校考核'!F:F),"") | O16: =SUM(H16:N16) -> 74700 | P16: =G16+O16 -> 74700 | Q16: =IF(R16="辞职发0.3",P16*0.3,P16) -> 74700 | R16: =IF(SUMIFS('4.gk_艺体质量'!K:K,'4.gk_艺体质量'!G:G,I16)>0,SUMIFS('4.gk_艺体质量'!K:K,'4.gk_艺体质量'!G:G,I16),"")
A17: 10 | B17: mz065 | C17: 邓倩 | D17: =IF(SUMIF(高一质量奖!A:A,C17,高一质量奖!B:B)>0,SUMIF(高一质量奖!A:A,C17,高一质量奖!B:B),"") | E17: =IF(SUMIF(高二进步奖!A:A,C17,高二进步奖!B:B)>0,SUMIF(高二进步奖!A:A,C17,高二进步奖!B:B),"") | F17: =IF(SUMIF(高三进步奖!A:A,C17,高三进步奖!D:D)>0,SUMIF(高三进步奖!A:A,C17,高三进步奖!D:D),"") | G17: =SUM(D17:F17) -> 0 | H17: =IF(SUMIFS('1.gk_工作量'!$M$4:$M$93,'1.gk_工作量'!$B$4:$B$93,C17)>0,SUMIFS('1.gk_工作量'!$M$4:$M$93,'1.gk_工作量'!$B$4:$B$93,C17),"") -> 12963.859 | I17: =IF(SUMIFS('2.gk_过程评价'!$D:$D,'2.gk_过程评价'!$B:$B,C17)>0,SUMIFS('2.gk_过程评价'!$D:$D,'2.gk_过程评价'!$B:$B,C17),"") -> 13293.301 | J17: =IF(SUMIF('3.gk_上线质量'!B:B,C17,'3.gk_上线质量'!D:D)<>0,SUMIF('3.gk_上线质量'!B:B,C17,'3.gk_上线质量'!D:D),"") -> 29617.283 | K17: =IF(SUMIFS('4.gk_艺体质量'!E:E,'4.gk_艺体质量'!A:A,C17)>0,SUMIFS('4.gk_艺体质量'!E:E,'4.gk_艺体质量'!A:A,C17),"") -> 1694.346 | L17: =IF(SUMIF('5.gk_超额目标'!B:B,C17,'5.gk_超额目标'!D:D)>0,SUMIF('5.gk_超额目标'!B:B,C17,'5.gk_超额目标'!D:D),"") -> 6280.4629 | M17: =IF(SUMIF('6.gk_年级管理'!A:A,C17,'6.gk_年级管理'!D:D)>0,SUMIF('6.gk_年级管理'!A:A,C17,'6.gk_年级管理'!D:D),"") -> 2180.88 | N17: =IF(SUMIF('7.gk_C9院校考核'!B:B,C17,'7.gk_C9院校考核'!F:F)>0,SUMIF('7.gk_C9院校考核'!B:B,C17,'7.gk_C9院校考核'!F:F),"") | O17: =SUM(H17:N17) -> 66030.133 | P17: =G17+O17 -> 66030.133 | Q17: =IF(R17="辞职发0.3",P17*0.3,P17) -> 66030.133
A18: 11 | B18: mz096 | C18: 东梅 | D18: =IF(SUMIF(高一质量奖!A:A,C18,高一质量奖!B:B)>0,SUMIF(高一质量奖!A:A,C18,高一质量奖!B:B),"") | E18: =IF(SUMIF(高二进步奖!A:A,C18,高二进步奖!B:B)>0,SUMIF(高二进步奖!A:A,C18,高二进步奖!B:B),"") | F18: =IF(SUMIF(高三进步奖!A:A,C18,高三进步奖!D:D)>0,SUMIF(高三进步奖!A:A,C18,高三进步奖!D:D),"") | G18: =SUM(D18:F18) -> 0 | H18: =IF(SUMIFS('1.gk_工作量'!$M$4:$M$93,'1.gk_工作量'!$B$4:$B$93,C18)>0,SUMIFS('1.gk_工作量'!$M$4:$M$93,'1.gk_工作量'!$B$4:$B$93,C18),"") -> 7696.0437 | I18: =IF(SUMIFS('2.gk_过程评价'!$D:$D,'2.gk_过程评价'!$B:$B,C18)>0,SUMIFS('2.gk_过程评价'!$D:$D,'2.gk_过程评价'!$B:$B,C18),"") -> 4293.7856 | J18: =IF(SUMIF('3.gk_上线质量'!B:B,C18,'3.gk_上线质量'!D:D)<>0,SUMIF('3.gk_上线质量'!B:B,C18,'3.gk_上线质量'!D:D),"") -> 6795.0279 | K18: =IF(SUMIFS('4.gk_艺体质量'!E:E,'4.gk_艺体质量'!A:A,C18)>0,SUMIFS('4.gk_艺体质量'!E:E,'4.gk_艺体质量'!A:A,C18),"") -> 7574.7234 | L18: =IF(SUMIF('5.gk_超额目标'!B:B,C18,'5.gk_超额目标'!D:D)>0,SUMIF('5.gk_超额目标'!B:B,C18,'5.gk_超额目标'!D:D),"") -> 857.72634 | M18: =IF(SUMIF('6.gk_年级管理'!A:A,C18,'6.gk_年级管理'!D:D)>0,SUMIF('6.gk_年级管理'!A:A,C18,'6.gk_年级管理'!D:D),"") -> 782.88 | N18: =IF(SUMIF('7.gk_C9院校考核'!B:B,C18,'7.gk_C9院校考核'!F:F)>0,SUMIF('7.gk_C9院校考核'!B:B,C18,'7.gk_C9院校考核'!F:F),"") | O18: =SUM(H18:N18) -> 28000.187 | P18: =G18+O18 -> 28000.187 | Q18: =IF(R18="辞职发0.3",P18*0.3,P18) -> 28000.187
A19: 12 | B19: mz089 | C19: 杜东洋 | D19: =IF(SUMIF(高一质量奖!A:A,C19,高一质量奖!B:B)>0,SUMIF(高一质量奖!A:A,C19,高一质量奖!B:B),"") | E19: =IF(SUMIF(高二进步奖!A:A,C19,高二进步奖!B:B)>0,SUMIF(高二进步奖!A:A,C19,高二进步奖!B:B),"") | F19: =IF(SUMIF(高三进步奖!A:A,C19,高三进步奖!D:D)>0,SUMIF(高三进步奖!A:A,C19,高三进步奖!D:D),"") | G19: =SUM(D19:F19) -> 0 | H19: =IF(SUMIFS('1.gk_工作量'!$M$4:$M$93,'1.gk_工作量'!$B$4:$B$93,C19)>0,SUMIFS('1.gk_工作量'!$M$4:$M$93,'1.gk_工作量'!$B$4:$B$93,C19),"") -> 11458.288 | I19: =IF(SUMIFS('2.gk_过程评价'!$D:$D,'2.gk_过程评价'!$B:$B,C19)>0,SUMIFS('2.gk_过程评价'!$D:$D,'2.gk_过程评价'!$B:$B,C19),"") -> 4426.5808 | J19: =IF(SUMIF('3.gk_上线质量'!B:B,C19,'3.gk_上线质量'!D:D)<>0,SUMIF('3.gk_上线质量'!B:B,C19,'3.gk_上线质量'!D:D),"") -> 19917.018 | K19: =IF(SUMIFS('4.gk_艺体质量'!E:E,'4.gk_艺体质量'!A:A,C19)>0,SUMIFS('4.gk_艺体质量'!E:E,'4.gk_艺体质量'!A:A,C19),"") | L19: =IF(SUMIF('5.gk_超额目标'!B:B,C19,'5.gk_超额目标'!D:D)>0,SUMIF('5.gk_超额目标'!B:B,C19,'5.gk_超额目标'!D:D),"") -> 1601.0892 | M19: =IF(SUMIF('6.gk_年级管理'!A:A,C19,'6.gk_年级管理'!D:D)>0,SUMIF('6.gk_年级管理'!A:A,C19,'6.gk_年级管理'!D:D),"") -> 782.88 | N19: =IF(SUMIF('7.gk_C9院校考核'!B:B,C19,'7.gk_C9院校考核'!F:F)>0,SUMIF('7.gk_C9院校考核'!B:B,C19,'7.gk_C9院校考核'!F:F),"") | O19: =SUM(H19:N19) -> 38185.856 | P19: =G19+O19 -> 38185.856 | Q19: =IF(R19="辞职发0.3",P19*0.3,P19) -> 38185.856
A20: 13 | B20: mz148 | C20: 付仁源 | D20: =IF(SUMIF(高一质量奖!A:A,C20,高一质量奖!B:B)>0,SUMIF(高一质量奖!A:A,C20,高一质量奖!B:B),"") | E20: =IF(SUMIF(高二进步奖!A:A,C20,高二进步奖!B:B)>0,SUMIF(高二进步奖!A:A,C20,高二进步奖!B:B),"") | F20: =IF(SUMIF(高三进步奖!A:A,C20,高三进步奖!D:D)>0,SUMIF(高三进步奖!A:A,C20,高三进步奖!D:D),"") | G20: =SUM(D20:F20) -> 0 | H20: =IF(SUMIFS('1.gk_工作量'!$M$4:$M$93,'1.gk_工作量'!$B$4:$B$93,C20)>0,SUMIFS('1.gk_工作量'!$M$4:$M$93,'1.gk_工作量'!$B$4:$B$93,C20),"") -> 712.29606 | I20: =IF(SUMIFS('2.gk_过程评价'!$D:$D,'2.gk_过程评价'!$B:$B,C20)>0,SUMIFS('2.gk_过程评价'!$D:$D,'2.gk_过程评价'!$B:$B,C20),"") -> 2059.2836 | J20: =IF(SUMIF('3.gk_上线质量'!B:B,C20,'3.gk_上线质量'!D:D)<>0,SUMIF('3.gk_上线质量'!B:B,C20,'3.gk_上线质量'!D:D),"") -> 1142.7268 | K20: =IF(SUMIFS('4.gk_艺体质量'!E:E,'4.gk_艺体质量'!A:A,C20)>0,SUMIFS('4.gk_艺体质量'!E:E,'4.gk_艺体质量'!A:A,C20),"") -> 39.866965 | L20: =IF(SUMIF('5.gk_超额目标'!B:B,C20,'5.gk_超额目标'!D:D)>0,SUMIF('5.gk_超额目标'!B:B,C20,'5.gk_超额目标'!D:D),"") -> 371.68142 | M20: =IF(SUMIF('6.gk_年级管理'!A:A,C20,'6.gk_年级管理'!D:D)>0,SUMIF('6.gk_年级管理'!A:A,C20,'6.gk_年级管理'!D:D),"") | N20: =IF(SUMIF('7.gk_C9院校考核'!B:B,C20,'7.gk_C9院校考核'!F:F)>0,SUMIF('7.gk_C9院校考核'!B:B,C20,'7.gk_C9院校考核'!F:F),"") | O20: =SUM(H20:N20) -> 4325.8549 | P20: =G20+O20 -> 4325.8549 | Q20: =IF(R20="辞职发0.3",P20*0.3,P20) -> 4325.8549
A21: 14 | B21: mz106 | C21: 高琴 | D21: =IF(SUMIF(高一质量奖!A:A,C21,高一质量奖!B:B)>0,SUMIF(高一质量奖!A:A,C21,高一质量奖!B:B),"") | E21: =IF(SUMIF(高二进步奖!A:A,C21,高二进步奖!B:B)>0,SUMIF(高二进步奖!A:A,C21,高二进步奖!B:B),"") | F21: =IF(SUMIF(高三进步奖!A:A,C21,高三进步奖!D:D)>0,SUMIF(高三进步奖!A:A,C21,高三进步奖!D:D),"") | G21: =SUM(D21:F21) -> 0 | H21: =IF(SUMIFS('1.gk_工作量'!$M$4:$M$93,'1.gk_工作量'!$B$4:$B$93,C21)>0,SUMIFS('1.gk_工作量'!$M$4:$M$93,'1.gk_工作量'!$B$4:$B$93,C21),"") -> 2748.587 | I21: =IF(SUMIFS('2.gk_过程评价'!$D:$D,'2.gk_过程评价'!$B:$B,C21)>0,SUMIFS('2.gk_过程评价'!$D:$D,'2.gk_过程评价'!$B:$B,C21),"") -> 3305.8459 | J21: =IF(SUMIF('3.gk_上线质量'!B:B,C21,'3.gk_上线质量'!D:D)<>0,SUMIF('3.gk_上线质量'!B:B,C21,'3.gk_上线质量'!D:D),"") -> 11015.692 | K21: =IF(SUMIFS('4.gk_艺体质量'!E:E,'4.gk_艺体质量'!A:A,C21)>0,SUMIFS('4.gk_艺体质量'!E:E,'4.gk_艺体质量'!A:A,C21),"") | L21: =IF(SUMIF('5.gk_超额目标'!B:B,C21,'5.gk_超额目标'!D:D)>0,SUMIF('5.gk_超额目标'!B:B,C21,'5.gk_超额目标'!D:D),"") | M21: =IF(SUMIF('6.gk_年级管理'!A:A,C21,'6.gk_年级管理'!D:D)>0,SUMIF('6.gk_年级管理'!A:A,C21,'6.gk_年级管理'!D:D),"") | N21: =IF(SUMIF('7.gk_C9院校考核'!B:B,C21,'7.gk_C9院校考核'!F:F)>0,SUMIF('7.gk_C9院校考核'!B:B,C21,'7.gk_C9院校考核'!F:F),"") -> 2812.5 | O21: =SUM(H21:N21) -> 19882.625 | P21: =G21+O21 -> 19882.625 | Q21: =IF(R21="辞职发0.3",P21*0.3,P21) -> 19882.625
A22: 15 | B22: mz013 | C22: 格绒燚西 | D22: =IF(SUMIF(高一质量奖!A:A,C22,高一质量奖!B:B)>0,SUMIF(高一质量奖!A:A,C22,高一质量奖!B:B),"") | E22: =IF(SUMIF(高二进步奖!A:A,C22,高二进步奖!B:B)>0,SUMIF(高二进步奖!A:A,C22,高二进步奖!B:B),"") | F22: =IF(SUMIF(高三进步奖!A:A,C22,高三进步奖!D:D)>0,SUMIF(高三进步奖!A:A,C22,高三进步奖!D:D),"") | G22: =SUM(D22:F22) -> 0 | H22: =IF(SUMIFS('1.gk_工作量'!$M$4:$M$93,'1.gk_工作量'!$B$4:$B$93,C22)>0,SUMIFS('1.gk_工作量'!$M$4:$M$93,'1.gk_工作量'!$B$4:$B$93,C22),"") -> 14967.713 | I22: =IF(SUMIFS('2.gk_过程评价'!$D:$D,'2.gk_过程评价'!$B:$B,C22)>0,SUMIFS('2.gk_过程评价'!$D:$D,'2.gk_过程评价'!$B:$B,C22),"") -> 13057.973 | J22: =IF(SUMIF('3.gk_上线质量'!B:B,C22,'3.gk_上线质量'!D:D)<>0,SUMIF('3.gk_上线质量'!B:B,C22,'3.gk_上线质量'!D:D),"") -> 8547.8545 | K22: =IF(SUMIFS('4.gk_艺体质量'!E:E,'4.gk_艺体质量'!A:A,C22)>0,SUMIFS('4.gk_艺体质量'!E:E,'4.gk_艺体质量'!A:A,C22),"") -> 14790.644 | L22: =IF(SUMIF('5.gk_超额目标'!B:B,C22,'5.gk_超额目标'!D:D)>0,SUMIF('5.gk_超额目标'!B:B,C22,'5.gk_超额目标'!D:D),"") -> 2201.4976 | M22: =IF(SUMIF('6.gk_年级管理'!A:A,C22,'6.gk_年级管理'!D:D)>0,SUMIF('6.gk_年级管理'!A:A,C22,'6.gk_年级管理'!D:D),"") | N22: =IF(SUMIF('7.gk_C9院校考核'!B:B,C22,'7.gk_C9院校考核'!F:F)>0,SUMIF('7.gk_C9院校考核'!B:B,C22,'7.gk_C9院校考核'!F:F),"") | O22: =SUM(H22:N22) -> 53565.683 | P22: =G22+O22 -> 53565.683 | Q22: =IF(R22="辞职发0.3",P22*0.3,P22) -> 53565.683
A23: 16 | B23: mz176 | C23: 何传英 | D23: =IF(SUMIF(高一质量奖!A:A,C23,高一质量奖!B:B)>0,SUMIF(高一质量奖!A:A,C23,高一质量奖!B:B),"") | E23: =IF(SUMIF(高二进步奖!A:A,C23,高二进步奖!B:B)>0,SUMIF(高二进步奖!A:A,C23,高二进步奖!B:B),"") | F23: =IF(SUMIF(高三进步奖!A:A,C23,高三进步奖!D:D)>0,SUMIF(高三进步奖!A:A,C23,高三进步奖!D:D),"") -> 3862.7093 | G23: =SUM(D23:F23) -> 3862.7093 | H23: =IF(SUMIFS('1.gk_工作量'!$M$4:$M$93,'1.gk_工作量'!$B$4:$B$93,C23)>0,SUMIFS('1.gk_工作量'!$M$4:$M$93,'1.gk_工作量'!$B$4:$B$93,C23),"") -> 1830.6818 | I23: =IF(SUMIFS('2.gk_过程评价'!$D:$D,'2.gk_过程评价'!$B:$B,C23)>0,SUMIFS('2.gk_过程评价'!$D:$D,'2.gk_过程评价'!$B:$B,C23),"") -> 8890.2466 | J23: =IF(SUMIF('3.gk_上线质量'!B:B,C23,'3.gk_上线质量'!D:D)<>0,SUMIF('3.gk_上线质量'!B:B,C23,'3.gk_上线质量'!D:D),"") -> 21595.599 | K23: =IF(SUMIFS('4.gk_艺体质量'!E:E,'4.gk_艺体质量'!A:A,C23)>0,SUMIFS('4.gk_艺体质量'!E:E,'4.gk_艺体质量'!A:A,C23),"") -> 1196.009 | L23: =IF(SUMIF('5.gk_超额目标'!B:B,C23,'5.gk_超额目标'!D:D)>0,SUMIF('5.gk_超额目标'!B:B,C23,'5.gk_超额目标'!D:D),"") -> 2029.9523 | M23: =IF(SUMIF('6.gk_年级管理'!A:A,C23,'6.gk_年级管理'!D:D)>0,SUMIF('6.gk_年级管理'!A:A,C23,'6.gk_年级管理'!D:D),"") | N23: =IF(SUMIF('7.gk_C9院校考核'!B:B,C23,'7.gk_C9院校考核'!F:F)>0,SUMIF('7.gk_C9院校考核'!B:B,C23,'7.gk_C9院校考核'!F:F),"") | O23: =SUM(H23:N23) -> 35542.489 | P23: =G23+O23 -> 39405.198 | Q23: =IF(R23="辞职发0.3",P23*0.3,P23) -> 39405.198 | R23: 攀枝花支教
A24: 17 | B24: mz178 | C24: 何东霖 | D24: =IF(SUMIF(高一质量奖!A:A,C24,高一质量奖!B:B)>0,SUMIF(高一质量奖!A:A,C24,高一质量奖!B:B),"") | E24: =IF(SUMIF(高二进步奖!A:A,C24,高二进步奖!B:B)>0,SUMIF(高二进步奖!A:A,C24,高二进步奖!B:B),"") | F24: =IF(SUMIF(高三进步奖!A:A,C24,高三进步奖!D:D)>0,SUMIF(高三进步奖!A:A,C24,高三进步奖!D:D),"") | G24: =SUM(D24:F24) -> 0 | H24: =IF(SUMIFS('1.gk_工作量'!$M$4:$M$93,'1.gk_工作量'!$B$4:$B$93,C24)>0,SUMIFS('1.gk_工作量'!$M$4:$M$93,'1.gk_工作量'!$B$4:$B$93,C24),"") -> 7696.0437 | I24: =IF(SUMIFS('2.gk_过程评价'!$D:$D,'2.gk_过程评价'!$B:$B,C24)>0,SUMIFS('2.gk_过程评价'!$D:$D,'2.gk_过程评价'!$B:$B,C24),"") -> 4335.4645 | J24: =IF(SUMIF('3.gk_上线质量'!B:B,C24,'3.gk_上线质量'!D:D)<>0,SUMIF('3.gk_上线质量'!B:B,C24,'3.gk_上线质量'!D:D),"") -> 1420.3384 | K24: =IF(SUMIFS('4.gk_艺体质量'!E:E,'4.gk_艺体质量'!A:A,C24)>0,SUMIFS('4.gk_艺体质量'!E:E,'4.gk_艺体质量'!A:A,C24),"") -> 8770.7323 | L24: =IF(SUMIF('5.gk_超额目标'!B:B,C24,'5.gk_超额目标'!D:D)>0,SUMIF('5.gk_超额目标'!B:B,C24,'5.gk_超额目标'!D:D),"") -> 686.18108 | M24: =IF(SUMIF('6.gk_年级管理'!A:A,C24,'6.gk_年级管理'!D:D)>0,SUMIF('6.gk_年级管理'!A:A,C24,'6.gk_年级管理'!D:D),"") | N24: =IF(SUMIF('7.gk_C9院校考核'!B:B,C24,'7.gk_C9院校考核'!F:F)>0,SUMIF('7.gk_C9院校考核'!B:B,C24,'7.gk_C9院校考核'!F:F),"") | O24: =SUM(H24:N24) -> 22908.76 | P24: =G24+O24 -> 22908.76 | Q24: =IF(R24="辞职发0.3",P24*0.3,P24) -> 22908.76 | R24: 攀枝花支教
A25: 18 | B25: mz064 | C25: 胡东缘 | D25: =IF(SUMIF(高一质量奖!A:A,C25,高一质量奖!B:B)>0,SUMIF(高一质量奖!A:A,C25,高一质量奖!B:B),"") | E25: =IF(SUMIF(高二进步奖!A:A,C25,高二进步奖!B:B)>0,SUMIF(高二进步奖!A:A,C25,高二进步奖!B:B),"") | F25: =IF(SUMIF(高三进步奖!A:A,C25,高三进步奖!D:D)>0,SUMIF(高三进步奖!A:A,C25,高三进步奖!D:D),"") | G25: =SUM(D25:F25) -> 0 | H25: =IF(SUMIFS('1.gk_工作量'!$M$4:$M$93,'1.gk_工作量'!$B$4:$B$93,C25)>0,SUMIFS('1.gk_工作量'!$M$4:$M$93,'1.gk_工作量'!$B$4:$B$93,C25),"") -> 18088.998 | I25: =IF(SUMIFS('2.gk_过程评价'!$D:$D,'2.gk_过程评价'!$B:$B,C25)>0,SUMIFS('2.gk_过程评价'!$D:$D,'2.gk_过程评价'!$B:$B,C25),"") -> 13174.177 | J25: =IF(SUMIF('3.gk_上线质量'!B:B,C25,'3.gk_上线质量'!D:D)<>0,SUMIF('3.gk_上线质量'!B:B,C25,'3.gk_上线质量'!D:D),"") -> 13276.936 | K25: =IF(SUMIFS('4.gk_艺体质量'!E:E,'4.gk_艺体质量'!A:A,C25)>0,SUMIFS('4.gk_艺体质量'!E:E,'4.gk_艺体质量'!A:A,C25),"") -> 1003.3186 | L25: =IF(SUMIF('5.gk_超额目标'!B:B,C25,'5.gk_超额目标'!D:D)>0,SUMIF('5.gk_超额目标'!B:B,C25,'5.gk_超额目标'!D:D),"") -> 6909.4622 | M25: =IF(SUMIF('6.gk_年级管理'!A:A,C25,'6.gk_年级管理'!D:D)>0,SUMIF('6.gk_年级管理'!A:A,C25,'6.gk_年级管理'!D:D),"") -> 2180.88 | N25: =IF(SUMIF('7.gk_C9院校考核'!B:B,C25,'7.gk_C9院校考核'!F:F)>0,SUMIF('7.gk_C9院校考核'!B:B,C25,'7.gk_C9院校考核'!F:F),"") | O25: =SUM(H25:N25) -> 54633.772 | P25: =G25+O25 -> 54633.772 | Q25: =IF(R25="辞职发0.3",P25*0.3,P25) -> 54633.772
A26: 19 | B26: mz141 | C26: 胡慧芳 | D26: =IF(SUMIF(高一质量奖!A:A,C26,高一质量奖!B:B)>0,SUMIF(高一质量奖!A:A,C26,高一质量奖!B:B),"") | E26: =IF(SUMIF(高二进步奖!A:A,C26,高二进步奖!B:B)>0,SUMIF(高二进步奖!A:A,C26,高二进步奖!B:B),"") -> 1495.04 | F26: =IF(SUMIF(高三进步奖!A:A,C26,高三进步奖!D:D)>0,SUMIF(高三进步奖!A:A,C26,高三进步奖!D:D),"") | G26: =SUM(D26:F26) -> 1495.04 | H26: =IF(SUMIFS('1.gk_工作量'!$M$4:$M$93,'1.gk_工作量'!$B$4:$B$93,C26)>0,SUMIFS('1.gk_工作量'!$M$4:$M$93,'1.gk_工作量'!$B$4:$B$93,C26),"") | I26: =IF(SUMIFS('2.gk_过程评价'!$D:$D,'2.gk_过程评价'!$B:$B,C26)>0,SUMIFS('2.gk_过程评价'!$D:$D,'2.gk_过程评价'!$B:$B,C26),"") | J26: =IF(SUMIF('3.gk_上线质量'!B:B,C26,'3.gk_上线质量'!D:D)<>0,SUMIF('3.gk_上线质量'!B:B,C26,'3.gk_上线质量'!D:D),"") | K26: =IF(SUMIFS('4.gk_艺体质量'!E:E,'4.gk_艺体质量'!A:A,C26)>0,SUMIFS('4.gk_艺体质量'!E:E,'4.gk_艺体质量'!A:A,C26),"") | L26: =IF(SUMIF('5.gk_超额目标'!B:B,C26,'5.gk_超额目标'!D:D)>0,SUMIF('5.gk_超额目标'!B:B,C26,'5.gk_超额目标'!D:D),"") | M26: =IF(SUMIF('6.gk_年级管理'!A:A,C26,'6.gk_年级管理'!D:D)>0,SUMIF('6.gk_年级管理'!A:A,C26,'6.gk_年级管理'!D:D),"") | N26: =IF(SUMIF('7.gk_C9院校考核'!B:B,C26,'7.gk_C9院校考核'!F:F)>0,SUMIF('7.gk_C9院校考核'!B:B,C26,'7.gk_C9院校考核'!F:F),"") | O26: =SUM(H26:N26) -> 0 | P26: =G26+O26 -> 1495.04 | Q26: =IF(R26="辞职发0.3",P26*0.3,P26) -> 1495.04
A27: 20 | B27: mz069 | C27: 胡柔殳 | D27: =IF(SUMIF(高一质量奖!A:A,C27,高一质量奖!B:B)>0,SUMIF(高一质量奖!A:A,C27,高一质量奖!B:B),"") | E27: =IF(SUMIF(高二进步奖!A:A,C27,高二进步奖!B:B)>0,SUMIF(高二进步奖!A:A,C27,高二进步奖!B:B),"") | F27: =IF(SUMIF(高三进步奖!A:A,C27,高三进步奖!D:D)>0,SUMIF(高三进步奖!A:A,C27,高三进步奖!D:D),"") | G27: =SUM(D27:F27) -> 0 | H27: =IF(SUMIFS('1.gk_工作量'!$M$4:$M$93,'1.gk_工作量'!$B$4:$B$93,C27)>0,SUMIFS('1.gk_工作量'!$M$4:$M$93,'1.gk_工作量'!$B$4:$B$93,C27),"") -> 2136.8882 | I27: =IF(SUMIFS('2.gk_过程评价'!$D:$D,'2.gk_过程评价'!$B:$B,C27)>0,SUMIFS('2.gk_过程评价'!$D:$D,'2.gk_过程评价'!$B:$B,C27),"") -> 4716.458 | J27: =IF(SUMIF('3.gk_上线质量'!B:B,C27,'3.gk_上线质量'!D:D)<>0,SUMIF('3.gk_上线质量'!B:B,C27,'3.gk_上线质量'!D:D),"") -> 64.560835 | K27: =IF(SUMIFS('4.gk_艺体质量'!E:E,'4.gk_艺体质量'!A:A,C27)>0,SUMIFS('4.gk_艺体质量'!E:E,'4.gk_艺体质量'!A:A,C27),"") -> 1993.3483 | L27: =IF(SUMIF('5.gk_超额目标'!B:B,C27,'5.gk_超额目标'!D:D)>0,SUMIF('5.gk_超额目标'!B:B,C27,'5.gk_超额目标'!D:D),"") -> 171.54527 | M27: =IF(SUMIF('6.gk_年级管理'!A:A,C27,'6.gk_年级管理'!D:D)>0,SUMIF('6.gk_年级管理'!A:A,C27,'6.gk_年级管理'!D:D),"") | N27: =IF(SUMIF('7.gk_C9院校考核'!B:B,C27,'7.gk_C9院校考核'!F:F)>0,SUMIF('7.gk_C9院校考核'!B:B,C27,'7.gk_C9院校考核'!F:F),"") | O27: =SUM(H27:N27) -> 9082.8005 | P27: =G27+O27 -> 9082.8005 | Q27: =IF(R27="辞职发0.3",P27*0.3,P27) -> 9082.8005
A28: 21 | C28: 黄萍 | D28: =IF(SUMIF(高一质量奖!A:A,C28,高一质量奖!B:B)>0,SUMIF(高一质量奖!A:A,C28,高一质量奖!B:B),"") | E28: =IF(SUMIF(高二进步奖!A:A,C28,高二进步奖!B:B)>0,SUMIF(高二进步奖!A:A,C28,高二进步奖!B:B),"") | F28: =IF(SUMIF(高三进步奖!A:A,C28,高三进步奖!D:D)>0,SUMIF(高三进步奖!A:A,C28,高三进步奖!D:D),"") | G28: =SUM(D28:F28) -> 0 | H28: =IF(SUMIFS('1.gk_工作量'!$M$4:$M$93,'1.gk_工作量'!$B$4:$B$93,C28)>0,SUMIFS('1.gk_工作量'!$M$4:$M$93,'1.gk_工作量'!$B$4:$B$93,C28),"") -> 2136.8882 | I28: =IF(SUMIFS('2.gk_过程评价'!$D:$D,'2.gk_过程评价'!$B:$B,C28)>0,SUMIFS('2.gk_过程评价'!$D:$D,'2.gk_过程评价'!$B:$B,C28),"") -> 4450.6722 | J28: =IF(SUMIF('3.gk_上线质量'!B:B,C28,'3.gk_上线质量'!D:D)<>0,SUMIF('3.gk_上线质量'!B:B,C28,'3.gk_上线质量'!D:D),"") -> 2885.8693 | K28: =IF(SUMIFS('4.gk_艺体质量'!E:E,'4.gk_艺体质量'!A:A,C28)>0,SUMIFS('4.gk_艺体质量'!E:E,'4.gk_艺体质量'!A:A,C28),"") | L28: =IF(SUMIF('5.gk_超额目标'!B:B,C28,'5.gk_超额目标'!D:D)>0,SUMIF('5.gk_超额目标'!B:B,C28,'5.gk_超额目标'!D:D),"") -> 867.25664 | M28: =IF(SUMIF('6.gk_年级管理'!A:A,C28,'6.gk_年级管理'!D:D)>0,SUMIF('6.gk_年级管理'!A:A,C28,'6.gk_年级管理'!D:D),"") | N28: =IF(SUMIF('7.gk_C9院校考核'!B:B,C28,'7.gk_C9院校考核'!F:F)>0,SUMIF('7.gk_C9院校考核'!B:B,C28,'7.gk_C9院校考核'!F:F),"") | O28: =SUM(H28:N28) -> 10340.686 | P28: =G28+O28 -> 10340.686 | Q28: =IF(R28="辞职发0.3",P28*0.3,P28) -> 3102.2059 | R28: 辞职发0.3
A29: 22 | B29: mz062 | C29: 纪春权 | D29: =IF(SUMIF(高一质量奖!A:A,C29,高一质量奖!B:B)>0,SUMIF(高一质量奖!A:A,C29,高一质量奖!B:B),"") | E29: =IF(SUMIF(高二进步奖!A:A,C29,高二进步奖!B:B)>0,SUMIF(高二进步奖!A:A,C29,高二进步奖!B:B),"") | F29: =IF(SUMIF(高三进步奖!A:A,C29,高三进步奖!D:D)>0,SUMIF(高三进步奖!A:A,C29,高三进步奖!D:D),"") | G29: =SUM(D29:F29) -> 0 | H29: =IF(SUMIFS('1.gk_工作量'!$M$4:$M$93,'1.gk_工作量'!$B$4:$B$93,C29)>0,SUMIFS('1.gk_工作量'!$M$4:$M$93,'1.gk_工作量'!$B$4:$B$93,C29),"") -> 10287.367 | I29: =IF(SUMIFS('2.gk_过程评价'!$D:$D,'2.gk_过程评价'!$B:$B,C29)>0,SUMIFS('2.gk_过程评价'!$D:$D,'2.gk_过程评价'!$B:$B,C29),"") -> 10994.537 | J29: =IF(SUMIF('3.gk_上线质量'!B:B,C29,'3.gk_上线质量'!D:D)<>0,SUMIF('3.gk_上线质量'!B:B,C29,'3.gk_上线质量'!D:D),"") -> 8020.8767 | K29: =IF(SUMIFS('4.gk_艺体质量'!E:E,'4.gk_艺体质量'!A:A,C29)>0,SUMIFS('4.gk_艺体质量'!E:E,'4.gk_艺体质量'!A:A,C29),"") -> 8491.6636 | L29: =IF(SUMIF('5.gk_超额目标'!B:B,C29,'5.gk_超额目标'!D:D)>0,SUMIF('5.gk_超额目标'!B:B,C29,'5.gk_超额目标'!D:D),"") -> 1686.8618 | M29: =IF(SUMIF('6.gk_年级管理'!A:A,C29,'6.gk_年级管理'!D:D)>0,SUMIF('6.gk_年级管理'!A:A,C29,'6.gk_年级管理'!D:D),"") | N29: =IF(SUMIF('7.gk_C9院校考核'!B:B,C29,'7.gk_C9院校考核'!F:F)>0,SUMIF('7.gk_C9院校考核'!B:B,C29,'7.gk_C9院校考核'!F:F),"") | O29: =SUM(H29:N29) -> 39481.306 | P29: =G29+O29 -> 39481.306 | Q29: =IF(R29="辞职发0.3",P29*0.3,P29) -> 39481.306
A30: 23 | B30: mz081 | C30: 甲阿祝玛 | D30: =IF(SUMIF(高一质量奖!A:A,C30,高一质量奖!B:B)>0,SUMIF(高一质量奖!A:A,C30,高一质量奖!B:B),"") | E30: =IF(SUMIF(高二进步奖!A:A,C30,高二进步奖!B:B)>0,SUMIF(高二进步奖!A:A,C30,高二进步奖!B:B),"") | F30: =IF(SUMIF(高三进步奖!A:A,C30,高三进步奖!D:D)>0,SUMIF(高三进步奖!A:A,C30,高三进步奖!D:D),"") | G30: =SUM(D30:F30) -> 0 | H30: =IF(SUMIFS('1.gk_工作量'!$M$4:$M$93,'1.gk_工作量'!$B$4:$B$93,C30)>0,SUMIFS('1.gk_工作量'!$M$4:$M$93,'1.gk_工作量'!$B$4:$B$93,C30),"") -> 2329.9586 | I30: =IF(SUMIFS('2.gk_过程评价'!$D:$D,'2.gk_过程评价'!$B:$B,C30)>0,SUMIFS('2.gk_过程评价'!$D:$D,'2.gk_过程评价'!$B:$B,C30),"") -> 4586.1614 | J30: =IF(SUMIF('3.gk_上线质量'!B:B,C30,'3.gk_上线质量'!D:D)<>0,SUMIF('3.gk_上线质量'!B:B,C30,'3.gk_上线质量'!D:D),"") -> 358.31263 | K30: =IF(SUMIFS('4.gk_艺体质量'!E:E,'4.gk_艺体质量'!A:A,C30)>0,SUMIFS('4.gk_艺体质量'!E:E,'4.gk_艺体质量'!A:A,C30),"") -> 4485.0336 | L30: =IF(SUMIF('5.gk_超额目标'!B:B,C30,'5.gk_超额目标'!D:D)>0,SUMIF('5.gk_超额目标'!B:B,C30,'5.gk_超额目标'!D:D),"") -> 228.72703 | M30: =IF(SUMIF('6.gk_年级管理'!A:A,C30,'6.gk_年级管理'!D:D)>0,SUMIF('6.gk_年级管理'!A:A,C30,'6.gk_年级管理'!D:D),"") | N30: =IF(SUMIF('7.gk_C9院校考核'!B:B,C30,'7.gk_C9院校考核'!F:F)>0,SUMIF('7.gk_C9院校考核'!B:B,C30,'7.gk_C9院校考核'!F:F),"") | O30: =SUM(H30:N30) -> 11988.193 | P30: =G30+O30 -> 11988.193 | Q30: =IF(R30="辞职发0.3",P30*0.3,P30) -> 11988.193
A31: 24 | B31: mz046 | C31: 贾学英 | D31: =IF(SUMIF(高一质量奖!A:A,C31,高一质量奖!B:B)>0,SUMIF(高一质量奖!A:A,C31,高一质量奖!B:B),"") | E31: =IF(SUMIF(高二进步奖!A:A,C31,高二进步奖!B:B)>0,SUMIF(高二进步奖!A:A,C31,高二进步奖!B:B),"") | F31: =IF(SUMIF(高三进步奖!A:A,C31,高三进步奖!D:D)>0,SUMIF(高三进步奖!A:A,C31,高三进步奖!D:D),"") | G31: =SUM(D31:F31) -> 0 | H31: =IF(SUMIFS('1.gk_工作量'!$M$4:$M$93,'1.gk_工作量'!$B$4:$B$93,C31)>0,SUMIFS('1.gk_工作量'!$M$4:$M$93,'1.gk_工作量'!$B$4:$B$93,C31),"") -> 237.43202 | I31: =IF(SUMIFS('2.gk_过程评价'!$D:$D,'2.gk_过程评价'!$B:$B,C31)>0,SUMIFS('2.gk_过程评价'!$D:$D,'2.gk_过程评价'!$B:$B,C31),"") | J31: =IF(SUMIF('3.gk_上线质量'!B:B,C31,'3.gk_上线质量'!D:D)<>0,SUMIF('3.gk_上线质量'!B:B,C31,'3.gk_上线质量'!D:D),"") | K31: =IF(SUMIFS('4.gk_艺体质量'!E:E,'4.gk_艺体质量'!A:A,C31)>0,SUMIFS('4.gk_艺体质量'!E:E,'4.gk_艺体质量'!A:A,C31),"") | L31: =IF(SUMIF('5.gk_超额目标'!B:B,C31,'5.gk_超额目标'!D:D)>0,SUMIF('5.gk_超额目标'!B:B,C31,'5.gk_超额目标'!D:D),"") | M31: =IF(SUMIF('6.gk_年级管理'!A:A,C31,'6.gk_年级管理'!D:D)>0,SUMIF('6.gk_年级管理'!A:A,C31,'6.gk_年级管理'!D:D),"") | N31: =IF(SUMIF('7.gk_C9院校考核'!B:B,C31,'7.gk_C9院校考核'!F:F)>0,SUMIF('7.gk_C9院校考核'!B:B,C31,'7.gk_C9院校考核'!F:F),"") | O31: =SUM(H31:N31) -> 237.43202 | P31: =G31+O31 -> 237.43202 | Q31: =IF(R31="辞职发0.3",P31*0.3,P31) -> 237.43202
A32: 25 | B32: mz055 | C32: 降初里 | D32: =IF(SUMIF(高一质量奖!A:A,C32,高一质量奖!B:B)>0,SUMIF(高一质量奖!A:A,C32,高一质量奖!B:B),"") | E32: =IF(SUMIF(高二进步奖!A:A,C32,高二进步奖!B:B)>0,SUMIF(高二进步奖!A:A,C32,高二进步奖!B:B),"") | F32: =IF(SUMIF(高三进步奖!A:A,C32,高三进步奖!D:D)>0,SUMIF(高三进步奖!A:A,C32,高三进步奖!D:D),"") | G32: =SUM(D32:F32) -> 0 | H32: =IF(SUMIFS('1.gk_工作量'!$M$4:$M$93,'1.gk_工作量'!$B$4:$B$93,C32)>0,SUMIFS('1.gk_工作量'!$M$4:$M$93,'1.gk_工作量'!$B$4:$B$93,C32),"") -> 14654.143 | I32: =IF(SUMIFS('2.gk_过程评价'!$D:$D,'2.gk_过程评价'!$B:$B,C32)>0,SUMIFS('2.gk_过程评价'!$D:$D,'2.gk_过程评价'!$B:$B,C32),"") -> 13280.437 | J32: =IF(SUMIF('3.gk_上线质量'!B:B,C32,'3.gk_上线质量'!D:D)<>0,SUMIF('3.gk_上线质量'!B:B,C32,'3.gk_上线质量'!D:D),"") -> 4357.8564 | K32: =IF(SUMIFS('4.gk_艺体质量'!E:E,'4.gk_艺体质量'!A:A,C32)>0,SUMIFS('4.gk_艺体质量'!E:E,'4.gk_艺体质量'!A:A,C32),"") -> 15528.183 | L32: =IF(SUMIF('5.gk_超额目标'!B:B,C32,'5.gk_超额目标'!D:D)>0,SUMIF('5.gk_超额目标'!B:B,C32,'5.gk_超额目标'!D:D),"") -> 1886.998 | M32: =IF(SUMIF('6.gk_年级管理'!A:A,C32,'6.gk_年级管理'!D:D)>0,SUMIF('6.gk_年级管理'!A:A,C32,'6.gk_年级管理'!D:D),"") -> 8611.68 | N32: =IF(SUMIF('7.gk_C9院校考核'!B:B,C32,'7.gk_C9院校考核'!F:F)>0,SUMIF('7.gk_C9院校考核'!B:B,C32,'7.gk_C9院校考核'!F:F),"") -> 2500 | O32: =SUM(H32:N32) -> 60819.298 | P32: =G32+O32 -> 60819.298 | Q32: =IF(R32="辞职发0.3",P32*0.3,P32) -> 60819.298
A33: 26 | B33: mz040 | C33: 解超燕 | D33: =IF(SUMIF(高一质量奖!A:A,C33,高一质量奖!B:B)>0,SUMIF(高一质量奖!A:A,C33,高一质量奖!B:B),"") | E33: =IF(SUMIF(高二进步奖!A:A,C33,高二进步奖!B:B)>0,SUMIF(高二进步奖!A:A,C33,高二进步奖!B:B),"") | F33: =IF(SUMIF(高三进步奖!A:A,C33,高三进步奖!D:D)>0,SUMIF(高三进步奖!A:A,C33,高三进步奖!D:D),"") | G33: =SUM(D33:F33) -> 0 | H33: =IF(SUMIFS('1.gk_工作量'!$M$4:$M$93,'1.gk_工作量'!$B$4:$B$93,C33)>0,SUMIFS('1.gk_工作量'!$M$4:$M$93,'1.gk_工作量'!$B$4:$B$93,C33),"") -> 14321.46 | I33: =IF(SUMIFS('2.gk_过程评价'!$D:$D,'2.gk_过程评价'!$B:$B,C33)>0,SUMIFS('2.gk_过程评价'!$D:$D,'2.gk_过程评价'!$B:$B,C33),"") -> 13096.718 | J33: =IF(SUMIF('3.gk_上线质量'!B:B,C33,'3.gk_上线质量'!D:D)<>0,SUMIF('3.gk_上线质量'!B:B,C33,'3.gk_上线质量'!D:D),"") -> 17116.691 | K33: =IF(SUMIFS('4.gk_艺体质量'!E:E,'4.gk_艺体质量'!A:A,C33)>0,SUMIFS('4.gk_艺体质量'!E:E,'4.gk_艺体质量'!A:A,C33),"") -> 1355.4768 | L33: =IF(SUMIF('5.gk_超额目标'!B:B,C33,'5.gk_超额目标'!D:D)>0,SUMIF('5.gk_超额目标'!B:B,C33,'5.gk_超额目标'!D:D),"") -> 4059.9047 | M33: =IF(SUMIF('6.gk_年级管理'!A:A,C33,'6.gk_年级管理'!D:D)>0,SUMIF('6.gk_年级管理'!A:A,C33,'6.gk_年级管理'!D:D),"") | N33: =IF(SUMIF('7.gk_C9院校考核'!B:B,C33,'7.gk_C9院校考核'!F:F)>0,SUMIF('7.gk_C9院校考核'!B:B,C33,'7.gk_C9院校考核'!F:F),"") | O33: =SUM(H33:N33) -> 49950.252 | P33: =G33+O33 -> 49950.252 | Q33: =IF(R33="辞职发0.3",P33*0.3,P33) -> 49950.252
A34: 27 | B34: mz145 | C34: 金贵 | D34: =IF(SUMIF(高一质量奖!A:A,C34,高一质量奖!B:B)>0,SUMIF(高一质量奖!A:A,C34,高一质量奖!B:B),"") | E34: =IF(SUMIF(高二进步奖!A:A,C34,高二进步奖!B:B)>0,SUMIF(高二进步奖!A:A,C34,高二进步奖!B:B),"") | F34: =IF(SUMIF(高三进步奖!A:A,C34,高三进步奖!D:D)>0,SUMIF(高三进步奖!A:A,C34,高三进步奖!D:D),"") | G34: =SUM(D34:F34) -> 0 | H34: =IF(SUMIFS('1.gk_工作量'!$M$4:$M$93,'1.gk_工作量'!$B$4:$B$93,C34)>0,SUMIFS('1.gk_工作量'!$M$4:$M$93,'1.gk_工作量'!$B$4:$B$93,C34),"") -> 4579.2688 | I34: =IF(SUMIFS('2.gk_过程评价'!$D:$D,'2.gk_过程评价'!$B:$B,C34)>0,SUMIFS('2.gk_过程评价'!$D:$D,'2.gk_过程评价'!$B:$B,C34),"") -> 8806.0719 | J34: =IF(SUMIF('3.gk_上线质量'!B:B,C34,'3.gk_上线质量'!D:D)<>0,SUMIF('3.gk_上线质量'!B:B,C34,'3.gk_上线质量'!D:D),"") -> 6843.4485 | K34: =IF(SUMIFS('4.gk_艺体质量'!E:E,'4.gk_艺体质量'!A:A,C34)>0,SUMIFS('4.gk_艺体质量'!E:E,'4.gk_艺体质量'!A:A,C34),"") -> 757.47234 | L34: =IF(SUMIF('5.gk_超额目标'!B:B,C34,'5.gk_超额目标'!D:D)>0,SUMIF('5.gk_超额目标'!B:B,C34,'5.gk_超额目标'!D:D),"") -> 1257.9986 | M34: =IF(SUMIF('6.gk_年级管理'!A:A,C34,'6.gk_年级管理'!D:D)>0,SUMIF('6.gk_年级管理'!A:A,C34,'6.gk_年级管理'!D:D),"") | N34: =IF(SUMIF('7.gk_C9院校考核'!B:B,C34,'7.gk_C9院校考核'!F:F)>0,SUMIF('7.gk_C9院校考核'!B:B,C34,'7.gk_C9院校考核'!F:F),"") | O34: =SUM(H34:N34) -> 22244.26 | P34: =G34+O34 -> 22244.26 | Q34: =IF(R34="辞职发0.3",P34*0.3,P34) -> 22244.26
A35: 28 | B35: mz038 | C35: 康小平 | D35: =IF(SUMIF(高一质量奖!A:A,C35,高一质量奖!B:B)>0,SUMIF(高一质量奖!A:A,C35,高一质量奖!B:B),"") | E35: =IF(SUMIF(高二进步奖!A:A,C35,高二进步奖!B:B)>0,SUMIF(高二进步奖!A:A,C35,高二进步奖!B:B),"") | F35: =IF(SUMIF(高三进步奖!A:A,C35,高三进步奖!D:D)>0,SUMIF(高三进步奖!A:A,C35,高三进步奖!D:D),"") | G35: =SUM(D35:F35) -> 0 | H35: =IF(SUMIFS('1.gk_工作量'!$M$4:$M$93,'1.gk_工作量'!$B$4:$B$93,C35)>0,SUMIFS('1.gk_工作量'!$M$4:$M$93,'1.gk_工作量'!$B$4:$B$93,C35),"") -> 21579.614 | I35: =IF(SUMIFS('2.gk_过程评价'!$D:$D,'2.gk_过程评价'!$B:$B,C35)>0,SUMIFS('2.gk_过程评价'!$D:$D,'2.gk_过程评价'!$B:$B,C35),"") -> 13109.525 | J35: =IF(SUMIF('3.gk_上线质量'!B:B,C35,'3.gk_上线质量'!D:D)<>0,SUMIF('3.gk_上线质量'!B:B,C35,'3.gk_上线质量'!D:D),"") -> 27272.111 | K35: =IF(SUMIFS('4.gk_艺体质量'!E:E,'4.gk_艺体质量'!A:A,C35)>0,SUMIFS('4.gk_艺体质量'!E:E,'4.gk_艺体质量'!A:A,C35),"") -> 1362.1213 | L35: =IF(SUMIF('5.gk_超额目标'!B:B,C35,'5.gk_超额目标'!D:D)>0,SUMIF('5.gk_超额目标'!B:B,C35,'5.gk_超额目标'!D:D),"") -> 4526.889 | M35: =IF(SUMIF('6.gk_年级管理'!A:A,C35,'6.gk_年级管理'!D:D)>0,SUMIF('6.gk_年级管理'!A:A,C35,'6.gk_年级管理'!D:D),"") -> 2180.88 | N35: =IF(SUMIF('7.gk_C9院校考核'!B:B,C35,'7.gk_C9院校考核'!F:F)>0,SUMIF('7.gk_C9院校考核'!B:B,C35,'7.gk_C9院校考核'!F:F),"") | O35: =SUM(H35:N35) -> 70031.14 | P35: =G35+O35 -> 70031.14 | Q35: =IF(R35="辞职发0.3",P35*0.3,P35) -> 70031.14
A36: 29 | B36: mz061 | C36: 康宇峰 | D36: =IF(SUMIF(高一质量奖!A:A,C36,高一质量奖!B:B)>0,SUMIF(高一质量奖!A:A,C36,高一质量奖!B:B),"") | E36: =IF(SUMIF(高二进步奖!A:A,C36,高二进步奖!B:B)>0,SUMIF(高二进步奖!A:A,C36,高二进步奖!B:B),"") | F36: =IF(SUMIF(高三进步奖!A:A,C36,高三进步奖!D:D)>0,SUMIF(高三进步奖!A:A,C36,高三进步奖!D:D),"") | G36: =SUM(D36:F36) -> 0 | H36: =IF(SUMIFS('1.gk_工作量'!$M$4:$M$93,'1.gk_工作量'!$B$4:$B$93,C36)>0,SUMIFS('1.gk_工作量'!$M$4:$M$93,'1.gk_工作量'!$B$4:$B$93,C36),"") -> 1424.5921 | I36: =IF(SUMIFS('2.gk_过程评价'!$D:$D,'2.gk_过程评价'!$B:$B,C36)>0,SUMIFS('2.gk_过程评价'!$D:$D,'2.gk_过程评价'!$B:$B,C36),"") -> 2771.0291 | J36: =IF(SUMIF('3.gk_上线质量'!B:B,C36,'3.gk_上线质量'!D:D)<>0,SUMIF('3.gk_上线质量'!B:B,C36,'3.gk_上线质量'!D:D),"") -> 1233.1119 | K36: =IF(SUMIFS('4.gk_艺体质量'!E:E,'4.gk_艺体质量'!A:A,C36)>0,SUMIFS('4.gk_艺体质量'!E:E,'4.gk_艺体质量'!A:A,C36),"") -> 837.20627 | L36: =IF(SUMIF('5.gk_超额目标'!B:B,C36,'5.gk_超额目标'!D:D)>0,SUMIF('5.gk_超额目标'!B:B,C36,'5.gk_超额目标'!D:D),"") -> 486.04493 | M36: =IF(SUMIF('6.gk_年级管理'!A:A,C36,'6.gk_年级管理'!D:D)>0,SUMIF('6.gk_年级管理'!A:A,C36,'6.gk_年级管理'!D:D),"") | N36: =IF(SUMIF('7.gk_C9院校考核'!B:B,C36,'7.gk_C9院校考核'!F:F)>0,SUMIF('7.gk_C9院校考核'!B:B,C36,'7.gk_C9院校考核'!F:F),"") | O36: =SUM(H36:N36) -> 6751.9844 | P36: =G36+O36 -> 6751.9844 | Q36: =IF(R36="辞职发0.3",P36*0.3,P36) -> 6751.9844 | R36: 攀枝花支教
A37: 30 | B37: mz028 | C37: 拉初 | D37: =IF(SUMIF(高一质量奖!A:A,C37,高一质量奖!B:B)>0,SUMIF(高一质量奖!A:A,C37,高一质量奖!B:B),"") | E37: =IF(SUMIF(高二进步奖!A:A,C37,高二进步奖!B:B)>0,SUMIF(高二进步奖!A:A,C37,高二进步奖!B:B),"") | F37: =IF(SUMIF(高三进步奖!A:A,C37,高三进步奖!D:D)>0,SUMIF(高三进步奖!A:A,C37,高三进步奖!D:D),"") | G37: =SUM(D37:F37) -> 0 | H37: =IF(SUMIFS('1.gk_工作量'!$M$4:$M$93,'1.gk_工作量'!$B$4:$B$93,C37)>0,SUMIFS('1.gk_工作量'!$M$4:$M$93,'1.gk_工作量'!$B$4:$B$93,C37),"") -> 14492.849 | I37: =IF(SUMIFS('2.gk_过程评价'!$D:$D,'2.gk_过程评价'!$B:$B,C37)>0,SUMIFS('2.gk_过程评价'!$D:$D,'2.gk_过程评价'!$B:$B,C37),"") -> 13157.355 | J37: =IF(SUMIF('3.gk_上线质量'!B:B,C37,'3.gk_上线质量'!D:D)<>0,SUMIF('3.gk_上线质量'!B:B,C37,'3.gk_上线质量'!D:D),"") -> 37687.387 | K37: =IF(SUMIFS('4.gk_艺体质量'!E:E,'4.gk_艺体质量'!A:A,C37)>0,SUMIFS('4.gk_艺体质量'!E:E,'4.gk_艺体质量'!A:A,C37),"") -> 1016.6076 | L37: =IF(SUMIF('5.gk_超额目标'!B:B,C37,'5.gk_超额目标'!D:D)>0,SUMIF('5.gk_超额目标'!B:B,C37,'5.gk_超额目标'!D:D),"") -> 1572.4983 | M37: =IF(SUMIF('6.gk_年级管理'!A:A,C37,'6.gk_年级管理'!D:D)>0,SUMIF('6.gk_年级管理'!A:A,C37,'6.gk_年级管理'!D:D),"") | N37: =IF(SUMIF('7.gk_C9院校考核'!B:B,C37,'7.gk_C9院校考核'!F:F)>0,SUMIF('7.gk_C9院校考核'!B:B,C37,'7.gk_C9院校考核'!F:F),"") -> 7500 | O37: =SUM(H37:N37) -> 75426.698 | P37: =G37+O37 -> 75426.698 | Q37: =IF(R37="辞职发0.3",P37*0.3,P37) -> 75426.698
A38: 31 | B38: mz051 | C38: 喇菊 | D38: =IF(SUMIF(高一质量奖!A:A,C38,高一质量奖!B:B)>0,SUMIF(高一质量奖!A:A,C38,高一质量奖!B:B),"") | E38: =IF(SUMIF(高二进步奖!A:A,C38,高二进步奖!B:B)>0,SUMIF(高二进步奖!A:A,C38,高二进步奖!B:B),"") | F38: =IF(SUMIF(高三进步奖!A:A,C38,高三进步奖!D:D)>0,SUMIF(高三进步奖!A:A,C38,高三进步奖!D:D),"") | G38: =SUM(D38:F38) -> 0 | H38: =IF(SUMIFS('1.gk_工作量'!$M$4:$M$93,'1.gk_工作量'!$B$4:$B$93,C38)>0,SUMIFS('1.gk_工作量'!$M$4:$M$93,'1.gk_工作量'!$B$4:$B$93,C38),"") -> 1899.4562 | I38: =IF(SUMIFS('2.gk_过程评价'!$D:$D,'2.gk_过程评价'!$B:$B,C38)>0,SUMIFS('2.gk_过程评价'!$D:$D,'2.gk_过程评价'!$B:$B,C38),"") -> 4308.4135 | J38: =IF(SUMIF('3.gk_上线质量'!B:B,C38,'3.gk_上线质量'!D:D)<>0,SUMIF('3.gk_上线质量'!B:B,C38,'3.gk_上线质量'!D:D),"") -> 3705.7919 | K38: =IF(SUMIFS('4.gk_艺体质量'!E:E,'4.gk_艺体质量'!A:A,C38)>0,SUMIFS('4.gk_艺体质量'!E:E,'4.gk_艺体质量'!A:A,C38),"") | L38: =IF(SUMIF('5.gk_超额目标'!B:B,C38,'5.gk_超额目标'!D:D)>0,SUMIF('5.gk_超额目标'!B:B,C38,'5.gk_超额目标'!D:D),"") -> 571.81756 | M38: =IF(SUMIF('6.gk_年级管理'!A:A,C38,'6.gk_年级管理'!D:D)>0,SUMIF('6.gk_年级管理'!A:A,C38,'6.gk_年级管理'!D:D),"") | N38: =IF(SUMIF('7.gk_C9院校考核'!B:B,C38,'7.gk_C9院校考核'!F:F)>0,SUMIF('7.gk_C9院校考核'!B:B,C38,'7.gk_C9院校考核'!F:F),"") | O38: =SUM(H38:N38) -> 10485.479 | P38: =G38+O38 -> 10485.479 | Q38: =IF(R38="辞职发0.3",P38*0.3,P38) -> 10485.479
A39: 32 | B39: mz023 | C39: 喇燕 | D39: =IF(SUMIF(高一质量奖!A:A,C39,高一质量奖!B:B)>0,SUMIF(高一质量奖!A:A,C39,高一质量奖!B:B),"") | E39: =IF(SUMIF(高二进步奖!A:A,C39,高二进步奖!B:B)>0,SUMIF(高二进步奖!A:A,C39,高二进步奖!B:B),"") | F39: =IF(SUMIF(高三进步奖!A:A,C39,高三进步奖!D:D)>0,SUMIF(高三进步奖!A:A,C39,高三进步奖!D:D),"") | G39: =SUM(D39:F39) -> 0 | H39: =IF(SUMIFS('1.gk_工作量'!$M$4:$M$93,'1.gk_工作量'!$B$4:$B$93,C39)>0,SUMIFS('1.gk_工作量'!$M$4:$M$93,'1.gk_工作量'!$B$4:$B$93,C39),"") -> 18947.154 | I39: =IF(SUMIFS('2.gk_过程评价'!$D:$D,'2.gk_过程评价'!$B:$B,C39)>0,SUMIFS('2.gk_过程评价'!$D:$D,'2.gk_过程评价'!$B:$B,C39),"") -> 12620.081 | J39: =IF(SUMIF('3.gk_上线质量'!B:B,C39,'3.gk_上线质量'!D:D)<>0,SUMIF('3.gk_上线质量'!B:B,C39,'3.gk_上线质量'!D:D),"") -> 15326.742 | K39: =IF(SUMIFS('4.gk_艺体质量'!E:E,'4.gk_艺体质量'!A:A,C39)>0,SUMIFS('4.gk_艺体质量'!E:E,'4.gk_艺体质量'!A:A,C39),"") -> 697.67189 | L39: =IF(SUMIF('5.gk_超额目标'!B:B,C39,'5.gk_超额目标'!D:D)>0,SUMIF('5.gk_超额目标'!B:B,C39,'5.gk_超额目标'!D:D),"") -> 4717.4949 | M39: =IF(SUMIF('6.gk_年级管理'!A:A,C39,'6.gk_年级管理'!D:D)>0,SUMIF('6.gk_年级管理'!A:A,C39,'6.gk_年级管理'!D:D),"") -> 2180.88 | N39: =IF(SUMIF('7.gk_C9院校考核'!B:B,C39,'7.gk_C9院校考核'!F:F)>0,SUMIF('7.gk_C9院校考核'!B:B,C39,'7.gk_C9院校考核'!F:F),"") | O39: =SUM(H39:N39) -> 54490.024 | P39: =G39+O39 -> 54490.024 | Q39: =IF(R39="辞职发0.3",P39*0.3,P39) -> 54490.024
A40: 33 | C40: 李汉林 | D40: =IF(SUMIF(高一质量奖!A:A,C40,高一质量奖!B:B)>0,SUMIF(高一质量奖!A:A,C40,高一质量奖!B:B),"") | E40: =IF(SUMIF(高二进步奖!A:A,C40,高二进步奖!B:B)>0,SUMIF(高二进步奖!A:A,C40,高二进步奖!B:B),"") | F40: =IF(SUMIF(高三进步奖!A:A,C40,高三进步奖!D:D)>0,SUMIF(高三进步奖!A:A,C40,高三进步奖!D:D),"") | G40: =SUM(D40:F40) -> 0 | H40: =IF(SUMIFS('1.gk_工作量'!$M$4:$M$93,'1.gk_工作量'!$B$4:$B$93,C40)>0,SUMIFS('1.gk_工作量'!$M$4:$M$93,'1.gk_工作量'!$B$4:$B$93,C40),"") -> 1780.7402 | I40: =IF(SUMIFS('2.gk_过程评价'!$D:$D,'2.gk_过程评价'!$B:$B,C40)>0,SUMIFS('2.gk_过程评价'!$D:$D,'2.gk_过程评价'!$B:$B,C40),"") -> 2001.2436 | J40: =IF(SUMIF('3.gk_上线质量'!B:B,C40,'3.gk_上线质量'!D:D)<>0,SUMIF('3.gk_上线质量'!B:B,C40,'3.gk_上线质量'!D:D),"") -> 542.31101 | K40: =IF(SUMIFS('4.gk_艺体质量'!E:E,'4.gk_艺体质量'!A:A,C40)>0,SUMIFS('4.gk_艺体质量'!E:E,'4.gk_艺体质量'!A:A,C40),"") -> 677.73841 | L40: =IF(SUMIF('5.gk_超额目标'!B:B,C40,'5.gk_超额目标'!D:D)>0,SUMIF('5.gk_超额目标'!B:B,C40,'5.gk_超额目标'!D:D),"") -> 257.3179 | M40: =IF(SUMIF('6.gk_年级管理'!A:A,C40,'6.gk_年级管理'!D:D)>0,SUMIF('6.gk_年级管理'!A:A,C40,'6.gk_年级管理'!D:D),"") | N40: =IF(SUMIF('7.gk_C9院校考核'!B:B,C40,'7.gk_C9院校考核'!F:F)>0,SUMIF('7.gk_C9院校考核'!B:B,C40,'7.gk_C9院校考核'!F:F),"") | O40: =SUM(H40:N40) -> 5259.3511 | P40: =G40+O40 -> 5259.3511 | Q40: =IF(R40="辞职发0.3",P40*0.3,P40) -> 5259.3511 | R40: 成都支教
A41: 34 | B41: mz043 | C41: 李荣鑫 | D41: =IF(SUMIF(高一质量奖!A:A,C41,高一质量奖!B:B)>0,SUMIF(高一质量奖!A:A,C41,高一质量奖!B:B),"") | E41: =IF(SUMIF(高二进步奖!A:A,C41,高二进步奖!B:B)>0,SUMIF(高二进步奖!A:A,C41,高二进步奖!B:B),"") | F41: =IF(SUMIF(高三进步奖!A:A,C41,高三进步奖!D:D)>0,SUMIF(高三进步奖!A:A,C41,高三进步奖!D:D),"") -> 4822.6293 | G41: =SUM(D41:F41) -> 4822.6293 | H41: =IF(SUMIFS('1.gk_工作量'!$M$4:$M$93,'1.gk_工作量'!$B$4:$B$93,C41)>0,SUMIFS('1.gk_工作量'!$M$4:$M$93,'1.gk_工作量'!$B$4:$B$93,C41),"") -> 14219.437 | I41: =IF(SUMIFS('2.gk_过程评价'!$D:$D,'2.gk_过程评价'!$B:$B,C41)>0,SUMIFS('2.gk_过程评价'!$D:$D,'2.gk_过程评价'!$B:$B,C41),"") -> 13596.578 | J41: =IF(SUMIF('3.gk_上线质量'!B:B,C41,'3.gk_上线质量'!D:D)<>0,SUMIF('3.gk_上线质量'!B:B,C41,'3.gk_上线质量'!D:D),"") -> 30637.344 | K41: =IF(SUMIFS('4.gk_艺体质量'!E:E,'4.gk_艺体质量'!A:A,C41)>0,SUMIFS('4.gk_艺体质量'!E:E,'4.gk_艺体质量'!A:A,C41),"") -> 318.93572 | L41: =IF(SUMIF('5.gk_超额目标'!B:B,C41,'5.gk_超额目标'!D:D)>0,SUMIF('5.gk_超额目标'!B:B,C41,'5.gk_超额目标'!D:D),"") -> 4822.3281 | M41: =IF(SUMIF('6.gk_年级管理'!A:A,C41,'6.gk_年级管理'!D:D)>0,SUMIF('6.gk_年级管理'!A:A,C41,'6.gk_年级管理'!D:D),"") -> 2180.88 | N41: =IF(SUMIF('7.gk_C9院校考核'!B:B,C41,'7.gk_C9院校考核'!F:F)>0,SUMIF('7.gk_C9院校考核'!B:B,C41,'7.gk_C9院校考核'!F:F),"") | O41: =SUM(H41:N41) -> 65775.503 | P41: =G41+O41 -> 70598.132 | Q41: =IF(R41="辞职发0.3",P41*0.3,P41) -> 70598.132
A42: 35 | C42: 李挖合 | D42: =IF(SUMIF(高一质量奖!A:A,C42,高一质量奖!B:B)>0,SUMIF(高一质量奖!A:A,C42,高一质量奖!B:B),"") | E42: =IF(SUMIF(高二进步奖!A:A,C42,高二进步奖!B:B)>0,SUMIF(高二进步奖!A:A,C42,高二进步奖!B:B),"") | F42: =IF(SUMIF(高三进步奖!A:A,C42,高三进步奖!D:D)>0,SUMIF(高三进步奖!A:A,C42,高三进步奖!D:D),"") | G42: =SUM(D42:F42) -> 0 | H42: =IF(SUMIFS('1.gk_工作量'!$M$4:$M$93,'1.gk_工作量'!$B$4:$B$93,C42)>0,SUMIFS('1.gk_工作量'!$M$4:$M$93,'1.gk_工作量'!$B$4:$B$93,C42),"") -> 949.72808 | I42: =IF(SUMIFS('2.gk_过程评价'!$D:$D,'2.gk_过程评价'!$B:$B,C42)>0,SUMIFS('2.gk_过程评价'!$D:$D,'2.gk_过程评价'!$B:$B,C42),"") | J42: =IF(SUMIF('3.gk_上线质量'!B:B,C42,'3.gk_上线质量'!D:D)<>0,SUMIF('3.gk_上线质量'!B:B,C42,'3.gk_上线质量'!D:D),"") | K42: =IF(SUMIFS('4.gk_艺体质量'!E:E,'4.gk_艺体质量'!A:A,C42)>0,SUMIFS('4.gk_艺体质量'!E:E,'4.gk_艺体质量'!A:A,C42),"") | L42: =IF(SUMIF('5.gk_超额目标'!B:B,C42,'5.gk_超额目标'!D:D)>0,SUMIF('5.gk_超额目标'!B:B,C42,'5.gk_超额目标'!D:D),"") | M42: =IF(SUMIF('6.gk_年级管理'!A:A,C42,'6.gk_年级管理'!D:D)>0,SUMIF('6.gk_年级管理'!A:A,C42,'6.gk_年级管理'!D:D),"") | N42: =IF(SUMIF('7.gk_C9院校考核'!B:B,C42,'7.gk_C9院校考核'!F:F)>0,SUMIF('7.gk_C9院校考核'!B:B,C42,'7.gk_C9院校考核'!F:F),"") | O42: =SUM(H42:N42) -> 949.72808 | P42: =G42+O42 -> 949.72808 | Q42: =IF(R42="辞职发0.3",P42*0.3,P42) -> 949.72808 | R42: 调离
A43: 36 | B43: mz030 | C43: 李永会 | D43: =IF(SUMIF(高一质量奖!A:A,C43,高一质量奖!B:B)>0,SUMIF(高一质量奖!A:A,C43,高一质量奖!B:B),"") | E43: =IF(SUMIF(高二进步奖!A:A,C43,高二进步奖!B:B)>0,SUMIF(高二进步奖!A:A,C43,高二进步奖!B:B),"") | F43: =IF(SUMIF(高三进步奖!A:A,C43,高三进步奖!D:D)>0,SUMIF(高三进步奖!A:A,C43,高三进步奖!D:D),"") | G43: =SUM(D43:F43) -> 0 | H43: =IF(SUMIFS('1.gk_工作量'!$M$4:$M$93,'1.gk_工作量'!$B$4:$B$93,C43)>0,SUMIFS('1.gk_工作量'!$M$4:$M$93,'1.gk_工作量'!$B$4:$B$93,C43),"") -> 16205.145 | I43: =IF(SUMIFS('2.gk_过程评价'!$D:$D,'2.gk_过程评价'!$B:$B,C43)>0,SUMIFS('2.gk_过程评价'!$D:$D,'2.gk_过程评价'!$B:$B,C43),"") -> 13015.677 | J43: =IF(SUMIF('3.gk_上线质量'!B:B,C43,'3.gk_上线质量'!D:D)<>0,SUMIF('3.gk_上线质量'!B:B,C43,'3.gk_上线质量'!D:D),"") -> 23824.562 | K43: =IF(SUMIFS('4.gk_艺体质量'!E:E,'4.gk_艺体质量'!A:A,C43)>0,SUMIFS('4.gk_艺体质量'!E:E,'4.gk_艺体质量'!A:A,C43),"") -> 3827.2286 | L43: =IF(SUMIF('5.gk_超额目标'!B:B,C43,'5.gk_超额目标'!D:D)>0,SUMIF('5.gk_超额目标'!B:B,C43,'5.gk_超额目标'!D:D),"") -> 6432.9476 | M43: =IF(SUMIF('6.gk_年级管理'!A:A,C43,'6.gk_年级管理'!D:D)>0,SUMIF('6.gk_年级管理'!A:A,C43,'6.gk_年级管理'!D:D),"") -> 2180.88 | N43: =IF(SUMIF('7.gk_C9院校考核'!B:B,C43,'7.gk_C9院校考核'!F:F)>0,SUMIF('7.gk_C9院校考核'!B:B,C43,'7.gk_C9院校考核'!F:F),"") | O43: =SUM(H43:N43) -> 65486.44 | P43: =G43+O43 -> 65486.44 | Q43: =IF(R43="辞职发0.3",P43*0.3,P43) -> 65486.44
A44: 37 | B44: mz015 | C44: 李正琪 | D44: =IF(SUMIF(高一质量奖!A:A,C44,高一质量奖!B:B)>0,SUMIF(高一质量奖!A:A,C44,高一质量奖!B:B),"") | E44: =IF(SUMIF(高二进步奖!A:A,C44,高二进步奖!B:B)>0,SUMIF(高二进步奖!A:A,C44,高二进步奖!B:B),"") | F44: =IF(SUMIF(高三进步奖!A:A,C44,高三进步奖!D:D)>0,SUMIF(高三进步奖!A:A,C44,高三进步奖!D:D),"") | G44: =SUM(D44:F44) -> 0 | H44: =IF(SUMIFS('1.gk_工作量'!$M$4:$M$93,'1.gk_工作量'!$B$4:$B$93,C44)>0,SUMIFS('1.gk_工作量'!$M$4:$M$93,'1.gk_工作量'!$B$4:$B$93,C44),"") -> 2470.8554 | I44: =IF(SUMIFS('2.gk_过程评价'!$D:$D,'2.gk_过程评价'!$B:$B,C44)>0,SUMIFS('2.gk_过程评价'!$D:$D,'2.gk_过程评价'!$B:$B,C44),"") -> 6485.3251 | J44: =IF(SUMIF('3.gk_上线质量'!B:B,C44,'3.gk_上线质量'!D:D)<>0,SUMIF('3.gk_上线质量'!B:B,C44,'3.gk_上线质量'!D:D),"") -> 823.15065 | K44: =IF(SUMIFS('4.gk_艺体质量'!E:E,'4.gk_艺体质量'!A:A,C44)>0,SUMIFS('4.gk_艺体质量'!E:E,'4.gk_艺体质量'!A:A,C44),"") -> 837.20627 | L44: =IF(SUMIF('5.gk_超额目标'!B:B,C44,'5.gk_超额目标'!D:D)>0,SUMIF('5.gk_超额目标'!B:B,C44,'5.gk_超额目标'!D:D),"") -> 857.72634 | M44: =IF(SUMIF('6.gk_年级管理'!A:A,C44,'6.gk_年级管理'!D:D)>0,SUMIF('6.gk_年级管理'!A:A,C44,'6.gk_年级管理'!D:D),"") | N44: =IF(SUMIF('7.gk_C9院校考核'!B:B,C44,'7.gk_C9院校考核'!F:F)>0,SUMIF('7.gk_C9院校考核'!B:B,C44,'7.gk_C9院校考核'!F:F),"") | O44: =SUM(H44:N44) -> 11474.264 | P44: =G44+O44 -> 11474.264 | Q44: =IF(R44="辞职发0.3",P44*0.3,P44) -> 11474.264
A45: 38 | C45: 立日木里 | D45: =IF(SUMIF(高一质量奖!A:A,C45,高一质量奖!B:B)>0,SUMIF(高一质量奖!A:A,C45,高一质量奖!B:B),"") | E45: =IF(SUMIF(高二进步奖!A:A,C45,高二进步奖!B:B)>0,SUMIF(高二进步奖!A:A,C45,高二进步奖!B:B),"") | F45: =IF(SUMIF(高三进步奖!A:A,C45,高三进步奖!D:D)>0,SUMIF(高三进步奖!A:A,C45,高三进步奖!D:D),"") | G45: =SUM(D45:F45) -> 0 | H45: =IF(SUMIFS('1.gk_工作量'!$M$4:$M$93,'1.gk_工作量'!$B$4:$B$93,C45)>0,SUMIFS('1.gk_工作量'!$M$4:$M$93,'1.gk_工作量'!$B$4:$B$93,C45),"") -> 415.50604 | I45: =IF(SUMIFS('2.gk_过程评价'!$D:$D,'2.gk_过程评价'!$B:$B,C45)>0,SUMIFS('2.gk_过程评价'!$D:$D,'2.gk_过程评价'!$B:$B,C45),"") | J45: =IF(SUMIF('3.gk_上线质量'!B:B,C45,'3.gk_上线质量'!D:D)<>0,SUMIF('3.gk_上线质量'!B:B,C45,'3.gk_上线质量'!D:D),"") | K45: =IF(SUMIFS('4.gk_艺体质量'!E:E,'4.gk_艺体质量'!A:A,C45)>0,SUMIFS('4.gk_艺体质量'!E:E,'4.gk_艺体质量'!A:A,C45),"") | L45: =IF(SUMIF('5.gk_超额目标'!B:B,C45,'5.gk_超额目标'!D:D)>0,SUMIF('5.gk_超额目标'!B:B,C45,'5.gk_超额目标'!D:D),"") | M45: =IF(SUMIF('6.gk_年级管理'!A:A,C45,'6.gk_年级管理'!D:D)>0,SUMIF('6.gk_年级管理'!A:A,C45,'6.gk_年级管理'!D:D),"") | N45: =IF(SUMIF('7.gk_C9院校考核'!B:B,C45,'7.gk_C9院校考核'!F:F)>0,SUMIF('7.gk_C9院校考核'!B:B,C45,'7.gk_C9院校考核'!F:F),"") | O45: =SUM(H45:N45) -> 415.50604 | P45: =G45+O45 -> 415.50604 | Q45: =IF(R45="辞职发0.3",P45*0.3,P45) -> 124.65181 | R45: 辞职发0.3
A46: 39 | B46: mz101 | C46: 刘厚江 | D46: =IF(SUMIF(高一质量奖!A:A,C46,高一质量奖!B:B)>0,SUMIF(高一质量奖!A:A,C46,高一质量奖!B:B),"") | E46: =IF(SUMIF(高二进步奖!A:A,C46,高二进步奖!B:B)>0,SUMIF(高二进步奖!A:A,C46,高二进步奖!B:B),"") | F46: =IF(SUMIF(高三进步奖!A:A,C46,高三进步奖!D:D)>0,SUMIF(高三进步奖!A:A,C46,高三进步奖!D:D),"") -> 1904.5876 | G46: =SUM(D46:F46) -> 1904.5876 | H46: =IF(SUMIFS('1.gk_工作量'!$M$4:$M$93,'1.gk_工作量'!$B$4:$B$93,C46)>0,SUMIFS('1.gk_工作量'!$M$4:$M$93,'1.gk_工作量'!$B$4:$B$93,C46),"") -> 2748.587 | I46: =IF(SUMIFS('2.gk_过程评价'!$D:$D,'2.gk_过程评价'!$B:$B,C46)>0,SUMIFS('2.gk_过程评价'!$D:$D,'2.gk_过程评价'!$B:$B,C46),"") -> 4595.4281 | J46: =IF(SUMIF('3.gk_上线质量'!B:B,C46,'3.gk_上线质量'!D:D)<>0,SUMIF('3.gk_上线质量'!B:B,C46,'3.gk_上线质量'!D:D),"") -> 6448.0134 | K46: =IF(SUMIFS('4.gk_艺体质量'!E:E,'4.gk_艺体质量'!A:A,C46)>0,SUMIFS('4.gk_艺体质量'!E:E,'4.gk_艺体质量'!A:A,C46),"") | L46: =IF(SUMIF('5.gk_超额目标'!B:B,C46,'5.gk_超额目标'!D:D)>0,SUMIF('5.gk_超额目标'!B:B,C46,'5.gk_超额目标'!D:D),"") -> 257.3179 | M46: =IF(SUMIF('6.gk_年级管理'!A:A,C46,'6.gk_年级管理'!D:D)>0,SUMIF('6.gk_年级管理'!A:A,C46,'6.gk_年级管理'!D:D),"") | N46: =IF(SUMIF('7.gk_C9院校考核'!B:B,C46,'7.gk_C9院校考核'!F:F)>0,SUMIF('7.gk_C9院校考核'!B:B,C46,'7.gk_C9院校考核'!F:F),"") | O46: =SUM(H46:N46) -> 14049.346 | P46: =G46+O46 -> 15953.934 | Q46: =IF(R46="辞职发0.3",P46*0.3,P46) -> 15953.934
A47: 40 | B47: mz014 | C47: 刘权芳 | D47: =IF(SUMIF(高一质量奖!A:A,C47,高一质量奖!B:B)>0,SUMIF(高一质量奖!A:A,C47,高一质量奖!B:B),"") | E47: =IF(SUMIF(高二进步奖!A:A,C47,高二进步奖!B:B)>0,SUMIF(高二进步奖!A:A,C47,高二进步奖!B:B),"") | F47: =IF(SUMIF(高三进步奖!A:A,C47,高三进步奖!D:D)>0,SUMIF(高三进步奖!A:A,C47,高三进步奖!D:D),"") | G47: =SUM(D47:F47) -> 0 | H47: =IF(SUMIFS('1.gk_工作量'!$M$4:$M$93,'1.gk_工作量'!$B$4:$B$93,C47)>0,SUMIFS('1.gk_工作量'!$M$4:$M$93,'1.gk_工作量'!$B$4:$B$93,C47),"") -> 1305.8761 | I47: =IF(SUMIFS('2.gk_过程评价'!$D:$D,'2.gk_过程评价'!$B:$B,C47)>0,SUMIFS('2.gk_过程评价'!$D:$D,'2.gk_过程评价'!$B:$B,C47),"") -> 4068.2084 | J47: =IF(SUMIF('3.gk_上线质量'!B:B,C47,'3.gk_上线质量'!D:D)<>0,SUMIF('3.gk_上线质量'!B:B,C47,'3.gk_上线质量'!D:D),"") -> 2727.6953 | K47: =IF(SUMIFS('4.gk_艺体质量'!E:E,'4.gk_艺体质量'!A:A,C47)>0,SUMIFS('4.gk_艺体质量'!E:E,'4.gk_艺体质量'!A:A,C47),"") -> 199.33483 | L47: =IF(SUMIF('5.gk_超额目标'!B:B,C47,'5.gk_超额目标'!D:D)>0,SUMIF('5.gk_超额目标'!B:B,C47,'5.gk_超额目标'!D:D),"") -> 628.99932 | M47: =IF(SUMIF('6.gk_年级管理'!A:A,C47,'6.gk_年级管理'!D:D)>0,SUMIF('6.gk_年级管理'!A:A,C47,'6.gk_年级管理'!D:D),"") | N47: =IF(SUMIF('7.gk_C9院校考核'!B:B,C47,'7.gk_C9院校考核'!F:F)>0,SUMIF('7.gk_C9院校考核'!B:B,C47,'7.gk_C9院校考核'!F:F),"") | O47: =SUM(H47:N47) -> 8930.1139 | P47: =G47+O47 -> 8930.1139 | Q47: =IF(R47="辞职发0.3",P47*0.3,P47) -> 8930.1139
A48: 41 | B48: mz016 | C48: 刘云菊 | D48: =IF(SUMIF(高一质量奖!A:A,C48,高一质量奖!B:B)>0,SUMIF(高一质量奖!A:A,C48,高一质量奖!B:B),"") | E48: =IF(SUMIF(高二进步奖!A:A,C48,高二进步奖!B:B)>0,SUMIF(高二进步奖!A:A,C48,高二进步奖!B:B),"") | F48: =IF(SUMIF(高三进步奖!A:A,C48,高三进步奖!D:D)>0,SUMIF(高三进步奖!A:A,C48,高三进步奖!D:D),"") | G48: =SUM(D48:F48) -> 0 | H48: =IF(SUMIFS('1.gk_工作量'!$M$4:$M$93,'1.gk_工作量'!$B$4:$B$93,C48)>0,SUMIFS('1.gk_工作量'!$M$4:$M$93,'1.gk_工作量'!$B$4:$B$93,C48),"") -> 3302.9835 | I48: =IF(SUMIFS('2.gk_过程评价'!$D:$D,'2.gk_过程评价'!$B:$B,C48)>0,SUMIFS('2.gk_过程评价'!$D:$D,'2.gk_过程评价'!$B:$B,C48),"") -> 4250.3413 | J48: =IF(SUMIF('3.gk_上线质量'!B:B,C48,'3.gk_上线质量'!D:D)<>0,SUMIF('3.gk_上线质量'!B:B,C48,'3.gk_上线质量'!D:D),"") -> 3828.4575 | K48: =IF(SUMIFS('4.gk_艺体质量'!E:E,'4.gk_艺体质量'!A:A,C48)>0,SUMIFS('4.gk_艺体质量'!E:E,'4.gk_艺体质量'!A:A,C48),"") | L48: =IF(SUMIF('5.gk_超额目标'!B:B,C48,'5.gk_超额目标'!D:D)>0,SUMIF('5.gk_超额目标'!B:B,C48,'5.gk_超额目标'!D:D),"") -> 600.40844 | M48: =IF(SUMIF('6.gk_年级管理'!A:A,C48,'6.gk_年级管理'!D:D)>0,SUMIF('6.gk_年级管理'!A:A,C48,'6.gk_年级管理'!D:D),"") | N48: =IF(SUMIF('7.gk_C9院校考核'!B:B,C48,'7.gk_C9院校考核'!F:F)>0,SUMIF('7.gk_C9院校考核'!B:B,C48,'7.gk_C9院校考核'!F:F),"") | O48: =SUM(H48:N48) -> 11982.191 | P48: =G48+O48 -> 11982.191 | Q48: =IF(R48="辞职发0.3",P48*0.3,P48) -> 11982.191
A49: 42 | C49: 卢逸 | D49: =IF(SUMIF(高一质量奖!A:A,C49,高一质量奖!B:B)>0,SUMIF(高一质量奖!A:A,C49,高一质量奖!B:B),"") | E49: =IF(SUMIF(高二进步奖!A:A,C49,高二进步奖!B:B)>0,SUMIF(高二进步奖!A:A,C49,高二进步奖!B:B),"") | F49: =IF(SUMIF(高三进步奖!A:A,C49,高三进步奖!D:D)>0,SUMIF(高三进步奖!A:A,C49,高三进步奖!D:D),"") | G49: =SUM(D49:F49) -> 0 | H49: =IF(SUMIFS('1.gk_工作量'!$M$4:$M$93,'1.gk_工作量'!$B$4:$B$93,C49)>0,SUMIFS('1.gk_工作量'!$M$4:$M$93,'1.gk_工作量'!$B$4:$B$93,C49),"") -> 1662.0241 | I49: =IF(SUMIFS('2.gk_过程评价'!$D:$D,'2.gk_过程评价'!$B:$B,C49)>0,SUMIFS('2.gk_过程评价'!$D:$D,'2.gk_过程评价'!$B:$B,C49),"") -> 4511.0516 | J49: =IF(SUMIF('3.gk_上线质量'!B:B,C49,'3.gk_上线质量'!D:D)<>0,SUMIF('3.gk_上线质量'!B:B,C49,'3.gk_上线质量'!D:D),"") -> 1410.6542 | K49: =IF(SUMIFS('4.gk_艺体质量'!E:E,'4.gk_艺体质量'!A:A,C49)>0,SUMIFS('4.gk_艺体质量'!E:E,'4.gk_艺体质量'!A:A,C49),"") -> 159.46786 | L49: =IF(SUMIF('5.gk_超额目标'!B:B,C49,'5.gk_超额目标'!D:D)>0,SUMIF('5.gk_超额目标'!B:B,C49,'5.gk_超额目标'!D:D),"") -> 829.13547 | M49: =IF(SUMIF('6.gk_年级管理'!A:A,C49,'6.gk_年级管理'!D:D)>0,SUMIF('6.gk_年级管理'!A:A,C49,'6.gk_年级管理'!D:D),"") | N49: =IF(SUMIF('7.gk_C9院校考核'!B:B,C49,'7.gk_C9院校考核'!F:F)>0,SUMIF('7.gk_C9院校考核'!B:B,C49,'7.gk_C9院校考核'!F:F),"") | O49: =SUM(H49:N49) -> 8572.3333 | P49: =G49+O49 -> 8572.3333 | Q49: =IF(R49="辞职发0.3",P49*0.3,P49) -> 8572.3333 | R49: 攀枝花支教
A50: 43 | B50: mz073 | C50: 鲁绒旦友 | D50: =IF(SUMIF(高一质量奖!A:A,C50,高一质量奖!B:B)>0,SUMIF(高一质量奖!A:A,C50,高一质量奖!B:B),"") | E50: =IF(SUMIF(高二进步奖!A:A,C50,高二进步奖!B:B)>0,SUMIF(高二进步奖!A:A,C50,高二进步奖!B:B),"") | F50: =IF(SUMIF(高三进步奖!A:A,C50,高三进步奖!D:D)>0,SUMIF(高三进步奖!A:A,C50,高三进步奖!D:D),"") | G50: =SUM(D50:F50) -> 0 | H50: =IF(SUMIFS('1.gk_工作量'!$M$4:$M$93,'1.gk_工作量'!$B$4:$B$93,C50)>0,SUMIFS('1.gk_工作量'!$M$4:$M$93,'1.gk_工作量'!$B$4:$B$93,C50),"") -> 8341.2295 | I50: =IF(SUMIFS('2.gk_过程评价'!$D:$D,'2.gk_过程评价'!$B:$B,C50)>0,SUMIFS('2.gk_过程评价'!$D:$D,'2.gk_过程评价'!$B:$B,C50),"") | J50: =IF(SUMIF('3.gk_上线质量'!B:B,C50,'3.gk_上线质量'!D:D)<>0,SUMIF('3.gk_上线质量'!B:B,C50,'3.gk_上线质量'!D:D),"") | K50: =IF(SUMIFS('4.gk_艺体质量'!E:E,'4.gk_艺体质量'!A:A,C50)>0,SUMIFS('4.gk_艺体质量'!E:E,'4.gk_艺体质量'!A:A,C50),"") | L50: =IF(SUMIF('5.gk_超额目标'!B:B,C50,'5.gk_超额目标'!D:D)>0,SUMIF('5.gk_超额目标'!B:B,C50,'5.gk_超额目标'!D:D),"") | M50: =IF(SUMIF('6.gk_年级管理'!A:A,C50,'6.gk_年级管理'!D:D)>0,SUMIF('6.gk_年级管理'!A:A,C50,'6.gk_年级管理'!D:D),"") | N50: =IF(SUMIF('7.gk_C9院校考核'!B:B,C50,'7.gk_C9院校考核'!F:F)>0,SUMIF('7.gk_C9院校考核'!B:B,C50,'7.gk_C9院校考核'!F:F),"") | O50: =SUM(H50:N50) -> 8341.2295 | P50: =G50+O50 -> 8341.2295 | Q50: =IF(R50="辞职发0.3",P50*0.3,P50) -> 8341.2295
A51: 44 | C51: 罗云 | D51: =IF(SUMIF(高一质量奖!A:A,C51,高一质量奖!B:B)>0,SUMIF(高一质量奖!A:A,C51,高一质量奖!B:B),"") | E51: =IF(SUMIF(高二进步奖!A:A,C51,高二进步奖!B:B)>0,SUMIF(高二进步奖!A:A,C51,高二进步奖!B:B),"") | F51: =IF(SUMIF(高三进步奖!A:A,C51,高三进步奖!D:D)>0,SUMIF(高三进步奖!A:A,C51,高三进步奖!D:D),"") | G51: =SUM(D51:F51) -> 0 | H51: =IF(SUMIFS('1.gk_工作量'!$M$4:$M$93,'1.gk_工作量'!$B$4:$B$93,C51)>0,SUMIFS('1.gk_工作量'!$M$4:$M$93,'1.gk_工作量'!$B$4:$B$93,C51),"") -> 474.86404 | I51: =IF(SUMIFS('2.gk_过程评价'!$D:$D,'2.gk_过程评价'!$B:$B,C51)>0,SUMIFS('2.gk_过程评价'!$D:$D,'2.gk_过程评价'!$B:$B,C51),"") | J51: =IF(SUMIF('3.gk_上线质量'!B:B,C51,'3.gk_上线质量'!D:D)<>0,SUMIF('3.gk_上线质量'!B:B,C51,'3.gk_上线质量'!D:D),"") | K51: =IF(SUMIFS('4.gk_艺体质量'!E:E,'4.gk_艺体质量'!A:A,C51)>0,SUMIFS('4.gk_艺体质量'!E:E,'4.gk_艺体质量'!A:A,C51),"") | L51: =IF(SUMIF('5.gk_超额目标'!B:B,C51,'5.gk_超额目标'!D:D)>0,SUMIF('5.gk_超额目标'!B:B,C51,'5.gk_超额目标'!D:D),"") | M51: =IF(SUMIF('6.gk_年级管理'!A:A,C51,'6.gk_年级管理'!D:D)>0,SUMIF('6.gk_年级管理'!A:A,C51,'6.gk_年级管理'!D:D),"") | N51: =IF(SUMIF('7.gk_C9院校考核'!B:B,C51,'7.gk_C9院校考核'!F:F)>0,SUMIF('7.gk_C9院校考核'!B:B,C51,'7.gk_C9院校考核'!F:F),"") | O51: =SUM(H51:N51) -> 474.86404 | P51: =G51+O51 -> 474.86404 | Q51: =IF(R51="辞职发0.3",P51*0.3,P51) -> 474.86404 | R51: 调离
A52: 45 | B52: mz025 | C52: 吕开绒 | D52: =IF(SUMIF(高一质量奖!A:A,C52,高一质量奖!B:B)>0,SUMIF(高一质量奖!A:A,C52,高一质量奖!B:B),"") | E52: =IF(SUMIF(高二进步奖!A:A,C52,高二进步奖!B:B)>0,SUMIF(高二进步奖!A:A,C52,高二进步奖!B:B),"") | F52: =IF(SUMIF(高三进步奖!A:A,C52,高三进步奖!D:D)>0,SUMIF(高三进步奖!A:A,C52,高三进步奖!D:D),"") | G52: =SUM(D52:F52) -> 0 | H52: =IF(SUMIFS('1.gk_工作量'!$M$4:$M$93,'1.gk_工作量'!$B$4:$B$93,C52)>0,SUMIFS('1.gk_工作量'!$M$4:$M$93,'1.gk_工作量'!$B$4:$B$93,C52),"") -> 4705.9389 | I52: =IF(SUMIFS('2.gk_过程评价'!$D:$D,'2.gk_过程评价'!$B:$B,C52)>0,SUMIFS('2.gk_过程评价'!$D:$D,'2.gk_过程评价'!$B:$B,C52),"") -> 5944.3285 | J52: =IF(SUMIF('3.gk_上线质量'!B:B,C52,'3.gk_上线质量'!D:D)<>0,SUMIF('3.gk_上线质量'!B:B,C52,'3.gk_上线质量'!D:D),"") -> 2421.0313 | K52: =IF(SUMIFS('4.gk_艺体质量'!E:E,'4.gk_艺体质量'!A:A,C52)>0,SUMIFS('4.gk_艺体质量'!E:E,'4.gk_艺体质量'!A:A,C52),"") -> 1063.1191 | L52: =IF(SUMIF('5.gk_超额目标'!B:B,C52,'5.gk_超额目标'!D:D)>0,SUMIF('5.gk_超额目标'!B:B,C52,'5.gk_超额目标'!D:D),"") -> 1210.3472 | M52: =IF(SUMIF('6.gk_年级管理'!A:A,C52,'6.gk_年级管理'!D:D)>0,SUMIF('6.gk_年级管理'!A:A,C52,'6.gk_年级管理'!D:D),"") | N52: =IF(SUMIF('7.gk_C9院校考核'!B:B,C52,'7.gk_C9院校考核'!F:F)>0,SUMIF('7.gk_C9院校考核'!B:B,C52,'7.gk_C9院校考核'!F:F),"") | O52: =SUM(H52:N52) -> 15344.765 | P52: =G52+O52 -> 15344.765 | Q52: =IF(R52="辞职发0.3",P52*0.3,P52) -> 15344.765
A53: 46 | B53: mz045 | C53: 马红琦 | D53: =IF(SUMIF(高一质量奖!A:A,C53,高一质量奖!B:B)>0,SUMIF(高一质量奖!A:A,C53,高一质量奖!B:B),"") | E53: =IF(SUMIF(高二进步奖!A:A,C53,高二进步奖!B:B)>0,SUMIF(高二进步奖!A:A,C53,高二进步奖!B:B),"") | F53: =IF(SUMIF(高三进步奖!A:A,C53,高三进步奖!D:D)>0,SUMIF(高三进步奖!A:A,C53,高三进步奖!D:D),"") -> 884.76862 | G53: =SUM(D53:F53) -> 884.76862 | H53: =IF(SUMIFS('1.gk_工作量'!$M$4:$M$93,'1.gk_工作量'!$B$4:$B$93,C53)>0,SUMIFS('1.gk_工作量'!$M$4:$M$93,'1.gk_工作量'!$B$4:$B$93,C53),"") -> 6982.8228 | I53: =IF(SUMIFS('2.gk_过程评价'!$D:$D,'2.gk_过程评价'!$B:$B,C53)>0,SUMIFS('2.gk_过程评价'!$D:$D,'2.gk_过程评价'!$B:$B,C53),"") -> 10476.355 | J53: =IF(SUMIF('3.gk_上线质量'!B:B,C53,'3.gk_上线质量'!D:D)<>0,SUMIF('3.gk_上线质量'!B:B,C53,'3.gk_上线质量'!D:D),"") -> 7211.4453 | K53: =IF(SUMIFS('4.gk_艺体质量'!E:E,'4.gk_艺体质量'!A:A,C53)>0,SUMIFS('4.gk_艺体质量'!E:E,'4.gk_艺体质量'!A:A,C53),"") | L53: =IF(SUMIF('5.gk_超额目标'!B:B,C53,'5.gk_超额目标'!D:D)>0,SUMIF('5.gk_超额目标'!B:B,C53,'5.gk_超额目标'!D:D),"") -> 1601.0892 | M53: =IF(SUMIF('6.gk_年级管理'!A:A,C53,'6.gk_年级管理'!D:D)>0,SUMIF('6.gk_年级管理'!A:A,C53,'6.gk_年级管理'!D:D),"") | N53: =IF(SUMIF('7.gk_C9院校考核'!B:B,C53,'7.gk_C9院校考核'!F:F)>0,SUMIF('7.gk_C9院校考核'!B:B,C53,'7.gk_C9院校考核'!F:F),"") | O53: =SUM(H53:N53) -> 26271.712 | P53: =G53+O53 -> 27156.481 | Q53: =IF(R53="辞职发0.3",P53*0.3,P53) -> 27156.481
A54: 47 | B54: mz026 | C54: 马俊 | D54: =IF(SUMIF(高一质量奖!A:A,C54,高一质量奖!B:B)>0,SUMIF(高一质量奖!A:A,C54,高一质量奖!B:B),"") | E54: =IF(SUMIF(高二进步奖!A:A,C54,高二进步奖!B:B)>0,SUMIF(高二进步奖!A:A,C54,高二进步奖!B:B),"") | F54: =IF(SUMIF(高三进步奖!A:A,C54,高三进步奖!D:D)>0,SUMIF(高三进步奖!A:A,C54,高三进步奖!D:D),"") | G54: =SUM(D54:F54) -> 0 | H54: =IF(SUMIFS('1.gk_工作量'!$M$4:$M$93,'1.gk_工作量'!$B$4:$B$93,C54)>0,SUMIFS('1.gk_工作量'!$M$4:$M$93,'1.gk_工作量'!$B$4:$B$93,C54),"") -> 18780.729 | I54: =IF(SUMIFS('2.gk_过程评价'!$D:$D,'2.gk_过程评价'!$B:$B,C54)>0,SUMIFS('2.gk_过程评价'!$D:$D,'2.gk_过程评价'!$B:$B,C54),"") -> 12973.632 | J54: =IF(SUMIF('3.gk_上线质量'!B:B,C54,'3.gk_上线质量'!D:D)<>0,SUMIF('3.gk_上线质量'!B:B,C54,'3.gk_上线质量'!D:D),"") -> 13018.692 | K54: =IF(SUMIFS('4.gk_艺体质量'!E:E,'4.gk_艺体质量'!A:A,C54)>0,SUMIFS('4.gk_艺体质量'!E:E,'4.gk_艺体质量'!A:A,C54),"") -> 19687.636 | L54: =IF(SUMIF('5.gk_超额目标'!B:B,C54,'5.gk_超额目标'!D:D)>0,SUMIF('5.gk_超额目标'!B:B,C54,'5.gk_超额目标'!D:D),"") -> 3125.936 | M54: =IF(SUMIF('6.gk_年级管理'!A:A,C54,'6.gk_年级管理'!D:D)>0,SUMIF('6.gk_年级管理'!A:A,C54,'6.gk_年级管理'!D:D),"") -> 2180.88 | N54: =IF(SUMIF('7.gk_C9院校考核'!B:B,C54,'7.gk_C9院校考核'!F:F)>0,SUMIF('7.gk_C9院校考核'!B:B,C54,'7.gk_C9院校考核'!F:F),"") | O54: =SUM(H54:N54) -> 69767.505 | P54: =G54+O54 -> 69767.505 | Q54: =IF(R54="辞职发0.3",P54*0.3,P54) -> 69767.505
A55: 48 | B55: mz063 | C55: 马巫各 | D55: =IF(SUMIF(高一质量奖!A:A,C55,高一质量奖!B:B)>0,SUMIF(高一质量奖!A:A,C55,高一质量奖!B:B),"") | E55: =IF(SUMIF(高二进步奖!A:A,C55,高二进步奖!B:B)>0,SUMIF(高二进步奖!A:A,C55,高二进步奖!B:B),"") | F55: =IF(SUMIF(高三进步奖!A:A,C55,高三进步奖!D:D)>0,SUMIF(高三进步奖!A:A,C55,高三进步奖!D:D),"") | G55: =SUM(D55:F55) -> 0 | H55: =IF(SUMIFS('1.gk_工作量'!$M$4:$M$93,'1.gk_工作量'!$B$4:$B$93,C55)>0,SUMIFS('1.gk_工作量'!$M$4:$M$93,'1.gk_工作量'!$B$4:$B$93,C55),"") -> 17775.044 | I55: =IF(SUMIFS('2.gk_过程评价'!$D:$D,'2.gk_过程评价'!$B:$B,C55)>0,SUMIFS('2.gk_过程评价'!$D:$D,'2.gk_过程评价'!$B:$B,C55),"") -> 13031.115 | J55: =IF(SUMIF('3.gk_上线质量'!B:B,C55,'3.gk_上线质量'!D:D)<>0,SUMIF('3.gk_上线质量'!B:B,C55,'3.gk_上线质量'!D:D),"") -> 18959.903 | K55: =IF(SUMIFS('4.gk_艺体质量'!E:E,'4.gk_艺体质量'!A:A,C55)>0,SUMIFS('4.gk_艺体质量'!E:E,'4.gk_艺体质量'!A:A,C55),"") -> 15587.983 | L55: =IF(SUMIF('5.gk_超额目标'!B:B,C55,'5.gk_超额目标'!D:D)>0,SUMIF('5.gk_超额目标'!B:B,C55,'5.gk_超额目标'!D:D),"") -> 3430.9054 | M55: =IF(SUMIF('6.gk_年级管理'!A:A,C55,'6.gk_年级管理'!D:D)>0,SUMIF('6.gk_年级管理'!A:A,C55,'6.gk_年级管理'!D:D),"") | N55: =IF(SUMIF('7.gk_C9院校考核'!B:B,C55,'7.gk_C9院校考核'!F:F)>0,SUMIF('7.gk_C9院校考核'!B:B,C55,'7.gk_C9院校考核'!F:F),"") | O55: =SUM(H55:N55) -> 68784.95 | P55: =G55+O55 -> 68784.95 | Q55: =IF(R55="辞职发0.3",P55*0.3,P55) -> 68784.95
A56: 49 | B56: mz068 | C56: 米晓妹 | D56: =IF(SUMIF(高一质量奖!A:A,C56,高一质量奖!B:B)>0,SUMIF(高一质量奖!A:A,C56,高一质量奖!B:B),"") | E56: =IF(SUMIF(高二进步奖!A:A,C56,高二进步奖!B:B)>0,SUMIF(高二进步奖!A:A,C56,高二进步奖!B:B),"") | F56: =IF(SUMIF(高三进步奖!A:A,C56,高三进步奖!D:D)>0,SUMIF(高三进步奖!A:A,C56,高三进步奖!D:D),"") | G56: =SUM(D56:F56) -> 0 | H56: =IF(SUMIFS('1.gk_工作量'!$M$4:$M$93,'1.gk_工作量'!$B$4:$B$93,C56)>0,SUMIFS('1.gk_工作量'!$M$4:$M$93,'1.gk_工作量'!$B$4:$B$93,C56),"") -> 14042.897 | I56: =IF(SUMIFS('2.gk_过程评价'!$D:$D,'2.gk_过程评价'!$B:$B,C56)>0,SUMIFS('2.gk_过程评价'!$D:$D,'2.gk_过程评价'!$B:$B,C56),"") -> 12951.139 | J56: =IF(SUMIF('3.gk_上线质量'!B:B,C56,'3.gk_上线质量'!D:D)<>0,SUMIF('3.gk_上线质量'!B:B,C56,'3.gk_上线质量'!D:D),"") -> 5997.7016 | K56: =IF(SUMIFS('4.gk_艺体质量'!E:E,'4.gk_艺体质量'!A:A,C56)>0,SUMIFS('4.gk_艺体质量'!E:E,'4.gk_艺体质量'!A:A,C56),"") -> 13295.633 | L56: =IF(SUMIF('5.gk_超额目标'!B:B,C56,'5.gk_超额目标'!D:D)>0,SUMIF('5.gk_超额目标'!B:B,C56,'5.gk_超额目标'!D:D),"") -> 3059.224 | M56: =IF(SUMIF('6.gk_年级管理'!A:A,C56,'6.gk_年级管理'!D:D)>0,SUMIF('6.gk_年级管理'!A:A,C56,'6.gk_年级管理'!D:D),"") | N56: =IF(SUMIF('7.gk_C9院校考核'!B:B,C56,'7.gk_C9院校考核'!F:F)>0,SUMIF('7.gk_C9院校考核'!B:B,C56,'7.gk_C9院校考核'!F:F),"") | O56: =SUM(H56:N56) -> 49346.595 | P56: =G56+O56 -> 49346.595 | Q56: =IF(R56="辞职发0.3",P56*0.3,P56) -> 49346.595
A57: 50 | B57: mz052 | C57: 尼玛布池 | D57: =IF(SUMIF(高一质量奖!A:A,C57,高一质量奖!B:B)>0,SUMIF(高一质量奖!A:A,C57,高一质量奖!B:B),"") | E57: =IF(SUMIF(高二进步奖!A:A,C57,高二进步奖!B:B)>0,SUMIF(高二进步奖!A:A,C57,高二进步奖!B:B),"") | F57: =IF(SUMIF(高三进步奖!A:A,C57,高三进步奖!D:D)>0,SUMIF(高三进步奖!A:A,C57,高三进步奖!D:D),"") -> 972.27908 | G57: =SUM(D57:F57) -> 972.27908 | H57: =IF(SUMIFS('1.gk_工作量'!$M$4:$M$93,'1.gk_工作量'!$B$4:$B$93,C57)>0,SUMIFS('1.gk_工作量'!$M$4:$M$93,'1.gk_工作量'!$B$4:$B$93,C57),"") -> 17234.69 | I57: =IF(SUMIFS('2.gk_过程评价'!$D:$D,'2.gk_过程评价'!$B:$B,C57)>0,SUMIFS('2.gk_过程评价'!$D:$D,'2.gk_过程评价'!$B:$B,C57),"") -> 13361.581 | J57: =IF(SUMIF('3.gk_上线质量'!B:B,C57,'3.gk_上线质量'!D:D)<>0,SUMIF('3.gk_上线质量'!B:B,C57,'3.gk_上线质量'!D:D),"") -> 29511.565 | K57: =IF(SUMIFS('4.gk_艺体质量'!E:E,'4.gk_艺体质量'!A:A,C57)>0,SUMIFS('4.gk_艺体质量'!E:E,'4.gk_艺体质量'!A:A,C57),"") -> 358.80269 | L57: =IF(SUMIF('5.gk_超额目标'!B:B,C57,'5.gk_超额目标'!D:D)>0,SUMIF('5.gk_超额目标'!B:B,C57,'5.gk_超额目标'!D:D),"") -> 5622.8727 | M57: =IF(SUMIF('6.gk_年级管理'!A:A,C57,'6.gk_年级管理'!D:D)>0,SUMIF('6.gk_年级管理'!A:A,C57,'6.gk_年级管理'!D:D),"") -> 4790.6 | N57: =IF(SUMIF('7.gk_C9院校考核'!B:B,C57,'7.gk_C9院校考核'!F:F)>0,SUMIF('7.gk_C9院校考核'!B:B,C57,'7.gk_C9院校考核'!F:F),"") | O57: =SUM(H57:N57) -> 70880.111 | P57: =G57+O57 -> 71852.39 | Q57: =IF(R57="辞职发0.3",P57*0.3,P57) -> 71852.39
A58: 51 | B58: mz049 | C58: 宁建康 | D58: =IF(SUMIF(高一质量奖!A:A,C58,高一质量奖!B:B)>0,SUMIF(高一质量奖!A:A,C58,高一质量奖!B:B),"") | E58: =IF(SUMIF(高二进步奖!A:A,C58,高二进步奖!B:B)>0,SUMIF(高二进步奖!A:A,C58,高二进步奖!B:B),"") | F58: =IF(SUMIF(高三进步奖!A:A,C58,高三进步奖!D:D)>0,SUMIF(高三进步奖!A:A,C58,高三进步奖!D:D),"") | G58: =SUM(D58:F58) -> 0 | H58: =IF(SUMIFS('1.gk_工作量'!$M$4:$M$93,'1.gk_工作量'!$B$4:$B$93,C58)>0,SUMIFS('1.gk_工作量'!$M$4:$M$93,'1.gk_工作量'!$B$4:$B$93,C58),"") -> 1424.5921 | I58: =IF(SUMIFS('2.gk_过程评价'!$D:$D,'2.gk_过程评价'!$B:$B,C58)>0,SUMIFS('2.gk_过程评价'!$D:$D,'2.gk_过程评价'!$B:$B,C58),"") -> 1892.035 | J58: =IF(SUMIF('3.gk_上线质量'!B:B,C58,'3.gk_上线质量'!D:D)<>0,SUMIF('3.gk_上线质量'!B:B,C58,'3.gk_上线质量'!D:D),"") -> 1165.3231 | K58: =IF(SUMIFS('4.gk_艺体质量'!E:E,'4.gk_艺体质量'!A:A,C58)>0,SUMIFS('4.gk_艺体质量'!E:E,'4.gk_艺体质量'!A:A,C58),"") | L58: =IF(SUMIF('5.gk_超额目标'!B:B,C58,'5.gk_超额目标'!D:D)>0,SUMIF('5.gk_超额目标'!B:B,C58,'5.gk_超额目标'!D:D),"") -> 343.09054 | M58: =IF(SUMIF('6.gk_年级管理'!A:A,C58,'6.gk_年级管理'!D:D)>0,SUMIF('6.gk_年级管理'!A:A,C58,'6.gk_年级管理'!D:D),"") | N58: =IF(SUMIF('7.gk_C9院校考核'!B:B,C58,'7.gk_C9院校考核'!F:F)>0,SUMIF('7.gk_C9院校考核'!B:B,C58,'7.gk_C9院校考核'!F:F),"") | O58: =SUM(H58:N58) -> 4825.0407 | P58: =G58+O58 -> 4825.0407 | Q58: =IF(R58="辞职发0.3",P58*0.3,P58) -> 4825.0407
A59: 52 | B59: mz125 | C59: 潘勇 | D59: =IF(SUMIF(高一质量奖!A:A,C59,高一质量奖!B:B)>0,SUMIF(高一质量奖!A:A,C59,高一质量奖!B:B),"") | E59: =IF(SUMIF(高二进步奖!A:A,C59,高二进步奖!B:B)>0,SUMIF(高二进步奖!A:A,C59,高二进步奖!B:B),"") | F59: =IF(SUMIF(高三进步奖!A:A,C59,高三进步奖!D:D)>0,SUMIF(高三进步奖!A:A,C59,高三进步奖!D:D),"") | G59: =SUM(D59:F59) -> 0 | H59: =IF(SUMIFS('1.gk_工作量'!$M$4:$M$93,'1.gk_工作量'!$B$4:$B$93,C59)>0,SUMIFS('1.gk_工作量'!$M$4:$M$93,'1.gk_工作量'!$B$4:$B$93,C59),"") -> 13008.006 | I59: =IF(SUMIFS('2.gk_过程评价'!$D:$D,'2.gk_过程评价'!$B:$B,C59)>0,SUMIFS('2.gk_过程评价'!$D:$D,'2.gk_过程评价'!$B:$B,C59),"") -> 8924.6862 | J59: =IF(SUMIF('3.gk_上线质量'!B:B,C59,'3.gk_上线质量'!D:D)<>0,SUMIF('3.gk_上线质量'!B:B,C59,'3.gk_上线质量'!D:D),"") -> 8073.3324 | K59: =IF(SUMIFS('4.gk_艺体质量'!E:E,'4.gk_艺体质量'!A:A,C59)>0,SUMIFS('4.gk_艺体质量'!E:E,'4.gk_艺体质量'!A:A,C59),"") -> 19162.721 | L59: =IF(SUMIF('5.gk_超额目标'!B:B,C59,'5.gk_超额目标'!D:D)>0,SUMIF('5.gk_超额目标'!B:B,C59,'5.gk_超额目标'!D:D),"") -> 2325.3914 | M59: =IF(SUMIF('6.gk_年级管理'!A:A,C59,'6.gk_年级管理'!D:D)>0,SUMIF('6.gk_年级管理'!A:A,C59,'6.gk_年级管理'!D:D),"") -> 2180.88 | N59: =IF(SUMIF('7.gk_C9院校考核'!B:B,C59,'7.gk_C9院校考核'!F:F)>0,SUMIF('7.gk_C9院校考核'!B:B,C59,'7.gk_C9院校考核'!F:F),"") | O59: =SUM(H59:N59) -> 53675.017 | P59: =G59+O59 -> 53675.017 | Q59: =IF(R59="辞职发0.3",P59*0.3,P59) -> 53675.017
A60: 53 | B60: mz029 | C60: 彭丹 | D60: =IF(SUMIF(高一质量奖!A:A,C60,高一质量奖!B:B)>0,SUMIF(高一质量奖!A:A,C60,高一质量奖!B:B),"") | E60: =IF(SUMIF(高二进步奖!A:A,C60,高二进步奖!B:B)>0,SUMIF(高二进步奖!A:A,C60,高二进步奖!B:B),"") | F60: =IF(SUMIF(高三进步奖!A:A,C60,高三进步奖!D:D)>0,SUMIF(高三进步奖!A:A,C60,高三进步奖!D:D),"") | G60: =SUM(D60:F60) -> 0 | H60: =IF(SUMIFS('1.gk_工作量'!$M$4:$M$93,'1.gk_工作量'!$B$4:$B$93,C60)>0,SUMIFS('1.gk_工作量'!$M$4:$M$93,'1.gk_工作量'!$B$4:$B$93,C60),"") -> 14492.849 | I60: =IF(SUMIFS('2.gk_过程评价'!$D:$D,'2.gk_过程评价'!$B:$B,C60)>0,SUMIFS('2.gk_过程评价'!$D:$D,'2.gk_过程评价'!$B:$B,C60),"") -> 12987.736 | J60: =IF(SUMIF('3.gk_上线质量'!B:B,C60,'3.gk_上线质量'!D:D)<>0,SUMIF('3.gk_上线质量'!B:B,C60,'3.gk_上线质量'!D:D),"") -> 26957.377 | K60: =IF(SUMIFS('4.gk_艺体质量'!E:E,'4.gk_艺体质量'!A:A,C60)>0,SUMIFS('4.gk_艺体质量'!E:E,'4.gk_艺体质量'!A:A,C60),"") -> 1295.6764 | L60: =IF(SUMIF('5.gk_超额目标'!B:B,C60,'5.gk_超额目标'!D:D)>0,SUMIF('5.gk_超额目标'!B:B,C60,'5.gk_超额目标'!D:D),"") -> 3945.5412 | M60: =IF(SUMIF('6.gk_年级管理'!A:A,C60,'6.gk_年级管理'!D:D)>0,SUMIF('6.gk_年级管理'!A:A,C60,'6.gk_年级管理'!D:D),"") | N60: =IF(SUMIF('7.gk_C9院校考核'!B:B,C60,'7.gk_C9院校考核'!F:F)>0,SUMIF('7.gk_C9院校考核'!B:B,C60,'7.gk_C9院校考核'!F:F),"") | O60: =SUM(H60:N60) -> 59679.179 | P60: =G60+O60 -> 59679.179 | Q60: =IF(R60="辞职发0.3",P60*0.3,P60) -> 59679.179
A61: 54 | B61: mz050 | C61: 彭桦 | D61: =IF(SUMIF(高一质量奖!A:A,C61,高一质量奖!B:B)>0,SUMIF(高一质量奖!A:A,C61,高一质量奖!B:B),"") | E61: =IF(SUMIF(高二进步奖!A:A,C61,高二进步奖!B:B)>0,SUMIF(高二进步奖!A:A,C61,高二进步奖!B:B),"") | F61: =IF(SUMIF(高三进步奖!A:A,C61,高三进步奖!D:D)>0,SUMIF(高三进步奖!A:A,C61,高三进步奖!D:D),"") | G61: =SUM(D61:F61) -> 0 | H61: =IF(SUMIFS('1.gk_工作量'!$M$4:$M$93,'1.gk_工作量'!$B$4:$B$93,C61)>0,SUMIFS('1.gk_工作量'!$M$4:$M$93,'1.gk_工作量'!$B$4:$B$93,C61),"") -> 8071.9747 | I61: =IF(SUMIFS('2.gk_过程评价'!$D:$D,'2.gk_过程评价'!$B:$B,C61)>0,SUMIFS('2.gk_过程评价'!$D:$D,'2.gk_过程评价'!$B:$B,C61),"") -> 10842.661 | J61: =IF(SUMIF('3.gk_上线质量'!B:B,C61,'3.gk_上线质量'!D:D)<>0,SUMIF('3.gk_上线质量'!B:B,C61,'3.gk_上线质量'!D:D),"") -> 26146.331 | K61: =IF(SUMIFS('4.gk_艺体质量'!E:E,'4.gk_艺体质量'!A:A,C61)>0,SUMIFS('4.gk_艺体质量'!E:E,'4.gk_艺体质量'!A:A,C61),"") | L61: =IF(SUMIF('5.gk_超额目标'!B:B,C61,'5.gk_超额目标'!D:D)>0,SUMIF('5.gk_超额目标'!B:B,C61,'5.gk_超额目标'!D:D),"") -> 686.18108 | M61: =IF(SUMIF('6.gk_年级管理'!A:A,C61,'6.gk_年级管理'!D:D)>0,SUMIF('6.gk_年级管理'!A:A,C61,'6.gk_年级管理'!D:D),"") -> 782.88 | N61: =IF(SUMIF('7.gk_C9院校考核'!B:B,C61,'7.gk_C9院校考核'!F:F)>0,SUMIF('7.gk_C9院校考核'!B:B,C61,'7.gk_C9院校考核'!F:F),"") -> 4687.5 | O61: =SUM(H61:N61) -> 51217.528 | P61: =G61+O61 -> 51217.528 | Q61: =IF(R61="辞职发0.3",P61*0.3,P61) -> 51217.528
A62: 55 | B62: mz157 | C62: 偏初 | D62: =IF(SUMIF(高一质量奖!A:A,C62,高一质量奖!B:B)>0,SUMIF(高一质量奖!A:A,C62,高一质量奖!B:B),"") | E62: =IF(SUMIF(高二进步奖!A:A,C62,高二进步奖!B:B)>0,SUMIF(高二进步奖!A:A,C62,高二进步奖!B:B),"") -> 880.64 | F62: =IF(SUMIF(高三进步奖!A:A,C62,高三进步奖!D:D)>0,SUMIF(高三进步奖!A:A,C62,高三进步奖!D:D),"") | G62: =SUM(D62:F62) -> 880.64 | H62: =IF(SUMIFS('1.gk_工作量'!$M$4:$M$93,'1.gk_工作量'!$B$4:$B$93,C62)>0,SUMIFS('1.gk_工作量'!$M$4:$M$93,'1.gk_工作量'!$B$4:$B$93,C62),"") | I62: =IF(SUMIFS('2.gk_过程评价'!$D:$D,'2.gk_过程评价'!$B:$B,C62)>0,SUMIFS('2.gk_过程评价'!$D:$D,'2.gk_过程评价'!$B:$B,C62),"") | J62: =IF(SUMIF('3.gk_上线质量'!B:B,C62,'3.gk_上线质量'!D:D)<>0,SUMIF('3.gk_上线质量'!B:B,C62,'3.gk_上线质量'!D:D),"") | K62: =IF(SUMIFS('4.gk_艺体质量'!E:E,'4.gk_艺体质量'!A:A,C62)>0,SUMIFS('4.gk_艺体质量'!E:E,'4.gk_艺体质量'!A:A,C62),"") | L62: =IF(SUMIF('5.gk_超额目标'!B:B,C62,'5.gk_超额目标'!D:D)>0,SUMIF('5.gk_超额目标'!B:B,C62,'5.gk_超额目标'!D:D),"") | M62: =IF(SUMIF('6.gk_年级管理'!A:A,C62,'6.gk_年级管理'!D:D)>0,SUMIF('6.gk_年级管理'!A:A,C62,'6.gk_年级管理'!D:D),"") | N62: =IF(SUMIF('7.gk_C9院校考核'!B:B,C62,'7.gk_C9院校考核'!F:F)>0,SUMIF('7.gk_C9院校考核'!B:B,C62,'7.gk_C9院校考核'!F:F),"") | O62: =SUM(H62:N62) -> 0 | P62: =G62+O62 -> 880.64 | Q62: =IF(R62="辞职发0.3",P62*0.3,P62) -> 880.64
A63: 56 | B63: mz031 | C63: 浦恩玲 | D63: =IF(SUMIF(高一质量奖!A:A,C63,高一质量奖!B:B)>0,SUMIF(高一质量奖!A:A,C63,高一质量奖!B:B),"") | E63: =IF(SUMIF(高二进步奖!A:A,C63,高二进步奖!B:B)>0,SUMIF(高二进步奖!A:A,C63,高二进步奖!B:B),"") | F63: =IF(SUMIF(高三进步奖!A:A,C63,高三进步奖!D:D)>0,SUMIF(高三进步奖!A:A,C63,高三进步奖!D:D),"") | G63: =SUM(D63:F63) -> 0 | H63: =IF(SUMIFS('1.gk_工作量'!$M$4:$M$93,'1.gk_工作量'!$B$4:$B$93,C63)>0,SUMIFS('1.gk_工作量'!$M$4:$M$93,'1.gk_工作量'!$B$4:$B$93,C63),"") -> 15704.564 | I63: =IF(SUMIFS('2.gk_过程评价'!$D:$D,'2.gk_过程评价'!$B:$B,C63)>0,SUMIFS('2.gk_过程评价'!$D:$D,'2.gk_过程评价'!$B:$B,C63),"") -> 13034.739 | J63: =IF(SUMIF('3.gk_上线质量'!B:B,C63,'3.gk_上线质量'!D:D)<>0,SUMIF('3.gk_上线质量'!B:B,C63,'3.gk_上线质量'!D:D),"") -> 16617.959 | K63: =IF(SUMIFS('4.gk_艺体质量'!E:E,'4.gk_艺体质量'!A:A,C63)>0,SUMIFS('4.gk_艺体质量'!E:E,'4.gk_艺体质量'!A:A,C63),"") -> 8631.1979 | L63: =IF(SUMIF('5.gk_超额目标'!B:B,C63,'5.gk_超额目标'!D:D)>0,SUMIF('5.gk_超额目标'!B:B,C63,'5.gk_超额目标'!D:D),"") -> 2716.1334 | M63: =IF(SUMIF('6.gk_年级管理'!A:A,C63,'6.gk_年级管理'!D:D)>0,SUMIF('6.gk_年级管理'!A:A,C63,'6.gk_年级管理'!D:D),"") | N63: =IF(SUMIF('7.gk_C9院校考核'!B:B,C63,'7.gk_C9院校考核'!F:F)>0,SUMIF('7.gk_C9院校考核'!B:B,C63,'7.gk_C9院校考核'!F:F),"") | O63: =SUM(H63:N63) -> 56704.593 | P63: =G63+O63 -> 56704.593 | Q63: =IF(R63="辞职发0.3",P63*0.3,P63) -> 56704.593
... A74: 67 | B74: mz034 | C74: 熊湾 | D74: =IF(SUMIF(高一质量奖!A:A,C74,高一质量奖!B:B)>0,SUMIF(高一质量奖!A:A,C74,高一质量奖!B:B),"") | E74: =IF(SUMIF(高二进步奖!A:A,C74,高二进步奖!B:B)>0,SUMIF(高二进步奖!A:A,C74,高二进步奖!B:B),"") | F74: =IF(SUMIF(高三进步奖!A:A,C74,高三进步奖!D:D)>0,SUMIF(高三进步奖!A:A,C74,高三进步奖!D:D),"") | G74: =SUM(D74:F74) -> 0 | H74: =IF(SUMIFS('1.gk_工作量'!$M$4:$M$93,'1.gk_工作量'!$B$4:$B$93,C74)>0,SUMIFS('1.gk_工作量'!$M$4:$M$93,'1.gk_工作量'!$B$4:$B$93,C74),"") -> 1424.5921 | I74: =IF(SUMIFS('2.gk_过程评价'!$D:$D,'2.gk_过程评价'!$B:$B,C74)>0,SUMIFS('2.gk_过程评价'!$D:$D,'2.gk_过程评价'!$B:$B,C74),"") -> 4146.9368 | J74: =IF(SUMIF('3.gk_上线质量'!B:B,C74,'3.gk_上线质量'!D:D)<>0,SUMIF('3.gk_上线质量'!B:B,C74,'3.gk_上线质量'!D:D),"") -> 432.55759 | K74: =IF(SUMIFS('4.gk_艺体质量'!E:E,'4.gk_艺体质量'!A:A,C74)>0,SUMIFS('4.gk_艺体质量'!E:E,'4.gk_艺体质量'!A:A,C74),"") -> 318.93572 | L74: =IF(SUMIF('5.gk_超额目标'!B:B,C74,'5.gk_超额目标'!D:D)>0,SUMIF('5.gk_超额目标'!B:B,C74,'5.gk_超额目标'!D:D),"") -> 457.45405 | M74: =IF(SUMIF('6.gk_年级管理'!A:A,C74,'6.gk_年级管理'!D:D)>0,SUMIF('6.gk_年级管理'!A:A,C74,'6.gk_年级管理'!D:D),"") | N74: =IF(SUMIF('7.gk_C9院校考核'!B:B,C74,'7.gk_C9院校考核'!F:F)>0,SUMIF('7.gk_C9院校考核'!B:B,C74,'7.gk_C9院校考核'!F:F),"") | O74: =SUM(H74:N74) -> 6780.4763 | P74: =G74+O74 -> 6780.4763 | Q74: =IF(R74="辞职发0.3",P74*0.3,P74) -> 6780.4763
A75: 68 | B75: mz005 | C75: 徐万雄 | D75: =IF(SUMIF(高一质量奖!A:A,C75,高一质量奖!B:B)>0,SUMIF(高一质量奖!A:A,C75,高一质量奖!B:B),"") | E75: =IF(SUMIF(高二进步奖!A:A,C75,高二进步奖!B:B)>0,SUMIF(高二进步奖!A:A,C75,高二进步奖!B:B),"") | F75: =IF(SUMIF(高三进步奖!A:A,C75,高三进步奖!D:D)>0,SUMIF(高三进步奖!A:A,C75,高三进步奖!D:D),"") | G75: =SUM(D75:F75) -> 0 | H75: =IF(SUMIFS('1.gk_工作量'!$M$4:$M$93,'1.gk_工作量'!$B$4:$B$93,C75)>0,SUMIFS('1.gk_工作量'!$M$4:$M$93,'1.gk_工作量'!$B$4:$B$93,C75),"") -> 12157.276 | I75: =IF(SUMIFS('2.gk_过程评价'!$D:$D,'2.gk_过程评价'!$B:$B,C75)>0,SUMIFS('2.gk_过程评价'!$D:$D,'2.gk_过程评价'!$B:$B,C75),"") -> 8852.3719 | J75: =IF(SUMIF('3.gk_上线质量'!B:B,C75,'3.gk_上线质量'!D:D)<>0,SUMIF('3.gk_上线质量'!B:B,C75,'3.gk_上线质量'!D:D),"") -> 4507.9603 | K75: =IF(SUMIFS('4.gk_艺体质量'!E:E,'4.gk_艺体质量'!A:A,C75)>0,SUMIFS('4.gk_艺体质量'!E:E,'4.gk_艺体质量'!A:A,C75),"") | L75: =IF(SUMIF('5.gk_超额目标'!B:B,C75,'5.gk_超额目标'!D:D)>0,SUMIF('5.gk_超额目标'!B:B,C75,'5.gk_超额目标'!D:D),"") -> 1143.6351 | M75: =IF(SUMIF('6.gk_年级管理'!A:A,C75,'6.gk_年级管理'!D:D)>0,SUMIF('6.gk_年级管理'!A:A,C75,'6.gk_年级管理'!D:D),"") -> 8089.76 | N75: =IF(SUMIF('7.gk_C9院校考核'!B:B,C75,'7.gk_C9院校考核'!F:F)>0,SUMIF('7.gk_C9院校考核'!B:B,C75,'7.gk_C9院校考核'!F:F),"") | O75: =SUM(H75:N75) -> 34751.003 | P75: =G75+O75 -> 34751.003 | Q75: =IF(R75="辞职发0.3",P75*0.3,P75) -> 34751.003 | R75: 调离
A76: 69 | B76: mz058 | C76: 徐志兵 | D76: =IF(SUMIF(高一质量奖!A:A,C76,高一质量奖!B:B)>0,SUMIF(高一质量奖!A:A,C76,高一质量奖!B:B),"") | E76: =IF(SUMIF(高二进步奖!A:A,C76,高二进步奖!B:B)>0,SUMIF(高二进步奖!A:A,C76,高二进步奖!B:B),"") | F76: =IF(SUMIF(高三进步奖!A:A,C76,高三进步奖!D:D)>0,SUMIF(高三进步奖!A:A,C76,高三进步奖!D:D),"") | G76: =SUM(D76:F76) -> 0 | H76: =IF(SUMIFS('1.gk_工作量'!$M$4:$M$93,'1.gk_工作量'!$B$4:$B$93,C76)>0,SUMIFS('1.gk_工作量'!$M$4:$M$93,'1.gk_工作量'!$B$4:$B$93,C76),"") -> 12823.131 | I76: =IF(SUMIFS('2.gk_过程评价'!$D:$D,'2.gk_过程评价'!$B:$B,C76)>0,SUMIFS('2.gk_过程评价'!$D:$D,'2.gk_过程评价'!$B:$B,C76),"") -> 12926.455 | J76: =IF(SUMIF('3.gk_上线质量'!B:B,C76,'3.gk_上线质量'!D:D)<>0,SUMIF('3.gk_上线质量'!B:B,C76,'3.gk_上线质量'!D:D),"") -> 4690.3447 | K76: =IF(SUMIFS('4.gk_艺体质量'!E:E,'4.gk_艺体质量'!A:A,C76)>0,SUMIFS('4.gk_艺体质量'!E:E,'4.gk_艺体质量'!A:A,C76),"") -> 13494.968 | L76: =IF(SUMIF('5.gk_超额目标'!B:B,C76,'5.gk_超额目标'!D:D)>0,SUMIF('5.gk_超额目标'!B:B,C76,'5.gk_超额目标'!D:D),"") -> 1315.1804 | M76: =IF(SUMIF('6.gk_年级管理'!A:A,C76,'6.gk_年级管理'!D:D)>0,SUMIF('6.gk_年级管理'!A:A,C76,'6.gk_年级管理'!D:D),"") -> 782.88 | N76: =IF(SUMIF('7.gk_C9院校考核'!B:B,C76,'7.gk_C9院校考核'!F:F)>0,SUMIF('7.gk_C9院校考核'!B:B,C76,'7.gk_C9院校考核'!F:F),"") | O76: =SUM(H76:N76) -> 46032.958 | P76: =G76+O76 -> 46032.958 | Q76: =IF(R76="辞职发0.3",P76*0.3,P76) -> 46032.958
A77: 70 | B77: mz020 | C77: 央宗娜姆 | D77: =IF(SUMIF(高一质量奖!A:A,C77,高一质量奖!B:B)>0,SUMIF(高一质量奖!A:A,C77,高一质量奖!B:B),"") | E77: =IF(SUMIF(高二进步奖!A:A,C77,高二进步奖!B:B)>0,SUMIF(高二进步奖!A:A,C77,高二进步奖!B:B),"") | F77: =IF(SUMIF(高三进步奖!A:A,C77,高三进步奖!D:D)>0,SUMIF(高三进步奖!A:A,C77,高三进步奖!D:D),"") | G77: =SUM(D77:F77) -> 0 | H77: =IF(SUMIFS('1.gk_工作量'!$M$4:$M$93,'1.gk_工作量'!$B$4:$B$93,C77)>0,SUMIFS('1.gk_工作量'!$M$4:$M$93,'1.gk_工作量'!$B$4:$B$93,C77),"") -> 17445.146 | I77: =IF(SUMIFS('2.gk_过程评价'!$D:$D,'2.gk_过程评价'!$B:$B,C77)>0,SUMIFS('2.gk_过程评价'!$D:$D,'2.gk_过程评价'!$B:$B,C77),"") -> 12970.879 | J77: =IF(SUMIF('3.gk_上线质量'!B:B,C77,'3.gk_上线质量'!D:D)<>0,SUMIF('3.gk_上线质量'!B:B,C77,'3.gk_上线质量'!D:D),"") -> 29810.966 | K77: =IF(SUMIFS('4.gk_艺体质量'!E:E,'4.gk_艺体质量'!A:A,C77)>0,SUMIFS('4.gk_艺体质量'!E:E,'4.gk_艺体质量'!A:A,C77),"") -> 797.3393 | L77: =IF(SUMIF('5.gk_超额目标'!B:B,C77,'5.gk_超额目标'!D:D)>0,SUMIF('5.gk_超额目标'!B:B,C77,'5.gk_超额目标'!D:D),"") -> 4631.7223 | M77: =IF(SUMIF('6.gk_年级管理'!A:A,C77,'6.gk_年级管理'!D:D)>0,SUMIF('6.gk_年级管理'!A:A,C77,'6.gk_年级管理'!D:D),"") | N77: =IF(SUMIF('7.gk_C9院校考核'!B:B,C77,'7.gk_C9院校考核'!F:F)>0,SUMIF('7.gk_C9院校考核'!B:B,C77,'7.gk_C9院校考核'!F:F),"") | O77: =SUM(H77:N77) -> 65656.052 | P77: =G77+O77 -> 65656.052 | Q77: =IF(R77="辞职发0.3",P77*0.3,P77) -> 65656.052
A78: 71 | B78: mz056 | C78: 杨国芬 | D78: =IF(SUMIF(高一质量奖!A:A,C78,高一质量奖!B:B)>0,SUMIF(高一质量奖!A:A,C78,高一质量奖!B:B),"") | E78: =IF(SUMIF(高二进步奖!A:A,C78,高二进步奖!B:B)>0,SUMIF(高二进步奖!A:A,C78,高二进步奖!B:B),"") -> 2682.88 | F78: =IF(SUMIF(高三进步奖!A:A,C78,高三进步奖!D:D)>0,SUMIF(高三进步奖!A:A,C78,高三进步奖!D:D),"") | G78: =SUM(D78:F78) -> 2682.88 | H78: =IF(SUMIFS('1.gk_工作量'!$M$4:$M$93,'1.gk_工作量'!$B$4:$B$93,C78)>0,SUMIFS('1.gk_工作量'!$M$4:$M$93,'1.gk_工作量'!$B$4:$B$93,C78),"") -> 2255.6042 | I78: =IF(SUMIFS('2.gk_过程评价'!$D:$D,'2.gk_过程评价'!$B:$B,C78)>0,SUMIFS('2.gk_过程评价'!$D:$D,'2.gk_过程评价'!$B:$B,C78),"") -> 4254.7457 | J78: =IF(SUMIF('3.gk_上线质量'!B:B,C78,'3.gk_上线质量'!D:D)<>0,SUMIF('3.gk_上线质量'!B:B,C78,'3.gk_上线质量'!D:D),"") -> 955.50036 | K78: =IF(SUMIFS('4.gk_艺体质量'!E:E,'4.gk_艺体质量'!A:A,C78)>0,SUMIFS('4.gk_艺体质量'!E:E,'4.gk_艺体质量'!A:A,C78),"") -> 558.13751 | L78: =IF(SUMIF('5.gk_超额目标'!B:B,C78,'5.gk_超额目标'!D:D)>0,SUMIF('5.gk_超额目标'!B:B,C78,'5.gk_超额目标'!D:D),"") -> 657.5902 | M78: =IF(SUMIF('6.gk_年级管理'!A:A,C78,'6.gk_年级管理'!D:D)>0,SUMIF('6.gk_年级管理'!A:A,C78,'6.gk_年级管理'!D:D),"") | N78: =IF(SUMIF('7.gk_C9院校考核'!B:B,C78,'7.gk_C9院校考核'!F:F)>0,SUMIF('7.gk_C9院校考核'!B:B,C78,'7.gk_C9院校考核'!F:F),"") | O78: =SUM(H78:N78) -> 8681.578 | P78: =G78+O78 -> 11364.458 | Q78: =IF(R78="辞职发0.3",P78*0.3,P78) -> 11364.458
A79: 72 | B79: mz167 | C79: 杨妮 | D79: =IF(SUMIF(高一质量奖!A:A,C79,高一质量奖!B:B)>0,SUMIF(高一质量奖!A:A,C79,高一质量奖!B:B),"") | E79: =IF(SUMIF(高二进步奖!A:A,C79,高二进步奖!B:B)>0,SUMIF(高二进步奖!A:A,C79,高二进步奖!B:B),"") | F79: =IF(SUMIF(高三进步奖!A:A,C79,高三进步奖!D:D)>0,SUMIF(高三进步奖!A:A,C79,高三进步奖!D:D),"") | G79: =SUM(D79:F79) -> 0 | H79: =IF(SUMIFS('1.gk_工作量'!$M$4:$M$93,'1.gk_工作量'!$B$4:$B$93,C79)>0,SUMIFS('1.gk_工作量'!$M$4:$M$93,'1.gk_工作量'!$B$4:$B$93,C79),"") -> 4992.7684 | I79: =IF(SUMIFS('2.gk_过程评价'!$D:$D,'2.gk_过程评价'!$B:$B,C79)>0,SUMIFS('2.gk_过程评价'!$D:$D,'2.gk_过程评价'!$B:$B,C79),"") | J79: =IF(SUMIF('3.gk_上线质量'!B:B,C79,'3.gk_上线质量'!D:D)<>0,SUMIF('3.gk_上线质量'!B:B,C79,'3.gk_上线质量'!D:D),"") | K79: =IF(SUMIFS('4.gk_艺体质量'!E:E,'4.gk_艺体质量'!A:A,C79)>0,SUMIFS('4.gk_艺体质量'!E:E,'4.gk_艺体质量'!A:A,C79),"") | L79: =IF(SUMIF('5.gk_超额目标'!B:B,C79,'5.gk_超额目标'!D:D)>0,SUMIF('5.gk_超额目标'!B:B,C79,'5.gk_超额目标'!D:D),"") | M79: =IF(SUMIF('6.gk_年级管理'!A:A,C79,'6.gk_年级管理'!D:D)>0,SUMIF('6.gk_年级管理'!A:A,C79,'6.gk_年级管理'!D:D),"") | N79: =IF(SUMIF('7.gk_C9院校考核'!B:B,C79,'7.gk_C9院校考核'!F:F)>0,SUMIF('7.gk_C9院校考核'!B:B,C79,'7.gk_C9院校考核'!F:F),"") | O79: =SUM(H79:N79) -> 4992.7684 | P79: =G79+O79 -> 4992.7684 | Q79: =IF(R79="辞职发0.3",P79*0.3,P79) -> 4992.7684
A80: 73 | B80: mz059 | C80: 杨琴 | D80: =IF(SUMIF(高一质量奖!A:A,C80,高一质量奖!B:B)>0,SUMIF(高一质量奖!A:A,C80,高一质量奖!B:B),"") | E80: =IF(SUMIF(高二进步奖!A:A,C80,高二进步奖!B:B)>0,SUMIF(高二进步奖!A:A,C80,高二进步奖!B:B),"") | F80: =IF(SUMIF(高三进步奖!A:A,C80,高三进步奖!D:D)>0,SUMIF(高三进步奖!A:A,C80,高三进步奖!D:D),"") | G80: =SUM(D80:F80) -> 0 | H80: =IF(SUMIFS('1.gk_工作量'!$M$4:$M$93,'1.gk_工作量'!$B$4:$B$93,C80)>0,SUMIFS('1.gk_工作量'!$M$4:$M$93,'1.gk_工作量'!$B$4:$B$93,C80),"") -> 14391.562 | I80: =IF(SUMIFS('2.gk_过程评价'!$D:$D,'2.gk_过程评价'!$B:$B,C80)>0,SUMIFS('2.gk_过程评价'!$D:$D,'2.gk_过程评价'!$B:$B,C80),"") -> 13264.119 | J80: =IF(SUMIF('3.gk_上线质量'!B:B,C80,'3.gk_上线质量'!D:D)<>0,SUMIF('3.gk_上线质量'!B:B,C80,'3.gk_上线质量'!D:D),"") -> 24620.274 | K80: =IF(SUMIFS('4.gk_艺体质量'!E:E,'4.gk_艺体质量'!A:A,C80)>0,SUMIFS('4.gk_艺体质量'!E:E,'4.gk_艺体质量'!A:A,C80),"") -> 717.60537 | L80: =IF(SUMIF('5.gk_超额目标'!B:B,C80,'5.gk_超额目标'!D:D)>0,SUMIF('5.gk_超额目标'!B:B,C80,'5.gk_超额目标'!D:D),"") -> 6880.8713 | M80: =IF(SUMIF('6.gk_年级管理'!A:A,C80,'6.gk_年级管理'!D:D)>0,SUMIF('6.gk_年级管理'!A:A,C80,'6.gk_年级管理'!D:D),"") -> 2180.88 | N80: =IF(SUMIF('7.gk_C9院校考核'!B:B,C80,'7.gk_C9院校考核'!F:F)>0,SUMIF('7.gk_C9院校考核'!B:B,C80,'7.gk_C9院校考核'!F:F),"") | O80: =SUM(H80:N80) -> 62055.312 | P80: =G80+O80 -> 62055.312 | Q80: =IF(R80="辞职发0.3",P80*0.3,P80) -> 62055.312
A81: 74 | B81: mz017 | C81: 杨翁基之玛 | D81: =IF(SUMIF(高一质量奖!A:A,C81,高一质量奖!B:B)>0,SUMIF(高一质量奖!A:A,C81,高一质量奖!B:B),"") | E81: =IF(SUMIF(高二进步奖!A:A,C81,高二进步奖!B:B)>0,SUMIF(高二进步奖!A:A,C81,高二进步奖!B:B),"") | F81: =IF(SUMIF(高三进步奖!A:A,C81,高三进步奖!D:D)>0,SUMIF(高三进步奖!A:A,C81,高三进步奖!D:D),"") | G81: =SUM(D81:F81) -> 0 | H81: =IF(SUMIFS('1.gk_工作量'!$M$4:$M$93,'1.gk_工作量'!$B$4:$B$93,C81)>0,SUMIFS('1.gk_工作量'!$M$4:$M$93,'1.gk_工作量'!$B$4:$B$93,C81),"") -> 15539.112 | I81: =IF(SUMIFS('2.gk_过程评价'!$D:$D,'2.gk_过程评价'!$B:$B,C81)>0,SUMIFS('2.gk_过程评价'!$D:$D,'2.gk_过程评价'!$B:$B,C81),"") -> 13030.588 | J81: =IF(SUMIF('3.gk_上线质量'!B:B,C81,'3.gk_上线质量'!D:D)<>0,SUMIF('3.gk_上线质量'!B:B,C81,'3.gk_上线质量'!D:D),"") -> 9584.0559 | K81: =IF(SUMIFS('4.gk_艺体质量'!E:E,'4.gk_艺体质量'!A:A,C81)>0,SUMIFS('4.gk_艺体质量'!E:E,'4.gk_艺体质量'!A:A,C81),"") -> 1016.6076 | L81: =IF(SUMIF('5.gk_超额目标'!B:B,C81,'5.gk_超额目标'!D:D)>0,SUMIF('5.gk_超额目标'!B:B,C81,'5.gk_超额目标'!D:D),"") -> 4345.8135 | M81: =IF(SUMIF('6.gk_年级管理'!A:A,C81,'6.gk_年级管理'!D:D)>0,SUMIF('6.gk_年级管理'!A:A,C81,'6.gk_年级管理'!D:D),"") | N81: =IF(SUMIF('7.gk_C9院校考核'!B:B,C81,'7.gk_C9院校考核'!F:F)>0,SUMIF('7.gk_C9院校考核'!B:B,C81,'7.gk_C9院校考核'!F:F),"") | O81: =SUM(H81:N81) -> 43516.178 | P81: =G81+O81 -> 43516.178 | Q81: =IF(R81="辞职发0.3",P81*0.3,P81) -> 43516.178
A82: 75 | B82: mz042 | C82: 叶小军 | D82: =IF(SUMIF(高一质量奖!A:A,C82,高一质量奖!B:B)>0,SUMIF(高一质量奖!A:A,C82,高一质量奖!B:B),"") | E82: =IF(SUMIF(高二进步奖!A:A,C82,高二进步奖!B:B)>0,SUMIF(高二进步奖!A:A,C82,高二进步奖!B:B),"") | F82: =IF(SUMIF(高三进步奖!A:A,C82,高三进步奖!D:D)>0,SUMIF(高三进步奖!A:A,C82,高三进步奖!D:D),"") -> 3885.3052 | G82: =SUM(D82:F82) -> 3885.3052 | H82: =IF(SUMIFS('1.gk_工作量'!$M$4:$M$93,'1.gk_工作量'!$B$4:$B$93,C82)>0,SUMIFS('1.gk_工作量'!$M$4:$M$93,'1.gk_工作量'!$B$4:$B$93,C82),"") -> 13726.427 | I82: =IF(SUMIFS('2.gk_过程评价'!$D:$D,'2.gk_过程评价'!$B:$B,C82)>0,SUMIFS('2.gk_过程评价'!$D:$D,'2.gk_过程评价'!$B:$B,C82),"") -> 13089.019 | J82: =IF(SUMIF('3.gk_上线质量'!B:B,C82,'3.gk_上线质量'!D:D)<>0,SUMIF('3.gk_上线质量'!B:B,C82,'3.gk_上线质量'!D:D),"") -> 31137.691 | K82: =IF(SUMIFS('4.gk_艺体质量'!E:E,'4.gk_艺体质量'!A:A,C82)>0,SUMIFS('4.gk_艺体质量'!E:E,'4.gk_艺体质量'!A:A,C82),"") -> 358.80269 | L82: =IF(SUMIF('5.gk_超额目标'!B:B,C82,'5.gk_超额目标'!D:D)>0,SUMIF('5.gk_超额目标'!B:B,C82,'5.gk_超额目标'!D:D),"") -> 914.9081 | M82: =IF(SUMIF('6.gk_年级管理'!A:A,C82,'6.gk_年级管理'!D:D)>0,SUMIF('6.gk_年级管理'!A:A,C82,'6.gk_年级管理'!D:D),"") -> 10009.8 | N82: =IF(SUMIF('7.gk_C9院校考核'!B:B,C82,'7.gk_C9院校考核'!F:F)>0,SUMIF('7.gk_C9院校考核'!B:B,C82,'7.gk_C9院校考核'!F:F),"") -> 10000 | O82: =SUM(H82:N82) -> 79236.648 | P82: =G82+O82 -> 83121.953 | Q82: =IF(R82="辞职发0.3",P82*0.3,P82) -> 83121.953
A83: 76 | B83: mz011 | C83: 易涛 | D83: =IF(SUMIF(高一质量奖!A:A,C83,高一质量奖!B:B)>0,SUMIF(高一质量奖!A:A,C83,高一质量奖!B:B),"") | E83: =IF(SUMIF(高二进步奖!A:A,C83,高二进步奖!B:B)>0,SUMIF(高二进步奖!A:A,C83,高二进步奖!B:B),"") | F83: =IF(SUMIF(高三进步奖!A:A,C83,高三进步奖!D:D)>0,SUMIF(高三进步奖!A:A,C83,高三进步奖!D:D),"") | G83: =SUM(D83:F83) -> 0 | H83: =IF(SUMIFS('1.gk_工作量'!$M$4:$M$93,'1.gk_工作量'!$B$4:$B$93,C83)>0,SUMIFS('1.gk_工作量'!$M$4:$M$93,'1.gk_工作量'!$B$4:$B$93,C83),"") -> 16242.572 | I83: =IF(SUMIFS('2.gk_过程评价'!$D:$D,'2.gk_过程评价'!$B:$B,C83)>0,SUMIFS('2.gk_过程评价'!$D:$D,'2.gk_过程评价'!$B:$B,C83),"") -> 12797.818 | J83: =IF(SUMIF('3.gk_上线质量'!B:B,C83,'3.gk_上线质量'!D:D)<>0,SUMIF('3.gk_上线质量'!B:B,C83,'3.gk_上线质量'!D:D),"") -> 21621.424 | K83: =IF(SUMIFS('4.gk_艺体质量'!E:E,'4.gk_艺体质量'!A:A,C83)>0,SUMIFS('4.gk_艺体质量'!E:E,'4.gk_艺体质量'!A:A,C83),"") -> 2345.5064 | L83: =IF(SUMIF('5.gk_超额目标'!B:B,C83,'5.gk_超额目标'!D:D)>0,SUMIF('5.gk_超额目标'!B:B,C83,'5.gk_超额目标'!D:D),"") -> 5985.0238 | M83: =IF(SUMIF('6.gk_年级管理'!A:A,C83,'6.gk_年级管理'!D:D)>0,SUMIF('6.gk_年级管理'!A:A,C83,'6.gk_年级管理'!D:D),"") -> 2180.88 | N83: =IF(SUMIF('7.gk_C9院校考核'!B:B,C83,'7.gk_C9院校考核'!F:F)>0,SUMIF('7.gk_C9院校考核'!B:B,C83,'7.gk_C9院校考核'!F:F),"") | O83: =SUM(H83:N83) -> 61173.224 | P83: =G83+O83 -> 61173.224 | Q83: =IF(R83="辞职发0.3",P83*0.3,P83) -> 61173.224
A84: 77 | B84: mz054 | C84: 尤顺芝 | D84: =IF(SUMIF(高一质量奖!A:A,C84,高一质量奖!B:B)>0,SUMIF(高一质量奖!A:A,C84,高一质量奖!B:B),"") | E84: =IF(SUMIF(高二进步奖!A:A,C84,高二进步奖!B:B)>0,SUMIF(高二进步奖!A:A,C84,高二进步奖!B:B),"") | F84: =IF(SUMIF(高三进步奖!A:A,C84,高三进步奖!D:D)>0,SUMIF(高三进步奖!A:A,C84,高三进步奖!D:D),"") | G84: =SUM(D84:F84) -> 0 | H84: =IF(SUMIFS('1.gk_工作量'!$M$4:$M$93,'1.gk_工作量'!$B$4:$B$93,C84)>0,SUMIFS('1.gk_工作量'!$M$4:$M$93,'1.gk_工作量'!$B$4:$B$93,C84),"") -> 2018.1722 | I84: =IF(SUMIFS('2.gk_过程评价'!$D:$D,'2.gk_过程评价'!$B:$B,C84)>0,SUMIFS('2.gk_过程评价'!$D:$D,'2.gk_过程评价'!$B:$B,C84),"") -> 4212.5016 | J84: =IF(SUMIF('3.gk_上线质量'!B:B,C84,'3.gk_上线质量'!D:D)<>0,SUMIF('3.gk_上线质量'!B:B,C84,'3.gk_上线质量'!D:D),"") -> 2527.5567 | K84: =IF(SUMIFS('4.gk_艺体质量'!E:E,'4.gk_艺体质量'!A:A,C84)>0,SUMIFS('4.gk_艺体质量'!E:E,'4.gk_艺体质量'!A:A,C84),"") | L84: =IF(SUMIF('5.gk_超额目标'!B:B,C84,'5.gk_超额目标'!D:D)>0,SUMIF('5.gk_超额目标'!B:B,C84,'5.gk_超额目标'!D:D),"") -> 1286.5895 | M84: =IF(SUMIF('6.gk_年级管理'!A:A,C84,'6.gk_年级管理'!D:D)>0,SUMIF('6.gk_年级管理'!A:A,C84,'6.gk_年级管理'!D:D),"") | N84: =IF(SUMIF('7.gk_C9院校考核'!B:B,C84,'7.gk_C9院校考核'!F:F)>0,SUMIF('7.gk_C9院校考核'!B:B,C84,'7.gk_C9院校考核'!F:F),"") | O84: =SUM(H84:N84) -> 10044.82 | P84: =G84+O84 -> 10044.82 | Q84: =IF(R84="辞职发0.3",P84*0.3,P84) -> 10044.82
A85: 78 | B85: mz010 | C85: 岳子琦 | D85: =IF(SUMIF(高一质量奖!A:A,C85,高一质量奖!B:B)>0,SUMIF(高一质量奖!A:A,C85,高一质量奖!B:B),"") | E85: =IF(SUMIF(高二进步奖!A:A,C85,高二进步奖!B:B)>0,SUMIF(高二进步奖!A:A,C85,高二进步奖!B:B),"") | F85: =IF(SUMIF(高三进步奖!A:A,C85,高三进步奖!D:D)>0,SUMIF(高三进步奖!A:A,C85,高三进步奖!D:D),"") | G85: =SUM(D85:F85) -> 0 | H85: =IF(SUMIFS('1.gk_工作量'!$M$4:$M$93,'1.gk_工作量'!$B$4:$B$93,C85)>0,SUMIFS('1.gk_工作量'!$M$4:$M$93,'1.gk_工作量'!$B$4:$B$93,C85),"") -> 14255.417 | I85: =IF(SUMIFS('2.gk_过程评价'!$D:$D,'2.gk_过程评价'!$B:$B,C85)>0,SUMIFS('2.gk_过程评价'!$D:$D,'2.gk_过程评价'!$B:$B,C85),"") -> 13237.371 | J85: =IF(SUMIF('3.gk_上线质量'!B:B,C85,'3.gk_上线质量'!D:D)<>0,SUMIF('3.gk_上线质量'!B:B,C85,'3.gk_上线质量'!D:D),"") -> 18930.851 | K85: =IF(SUMIFS('4.gk_艺体质量'!E:E,'4.gk_艺体质量'!A:A,C85)>0,SUMIFS('4.gk_艺体质量'!E:E,'4.gk_艺体质量'!A:A,C85),"") -> 199.33483 | L85: =IF(SUMIF('5.gk_超额目标'!B:B,C85,'5.gk_超额目标'!D:D)>0,SUMIF('5.gk_超额目标'!B:B,C85,'5.gk_超额目标'!D:D),"") -> 2887.6787 | M85: =IF(SUMIF('6.gk_年级管理'!A:A,C85,'6.gk_年级管理'!D:D)>0,SUMIF('6.gk_年级管理'!A:A,C85,'6.gk_年级管理'!D:D),"") | N85: =IF(SUMIF('7.gk_C9院校考核'!B:B,C85,'7.gk_C9院校考核'!F:F)>0,SUMIF('7.gk_C9院校考核'!B:B,C85,'7.gk_C9院校考核'!F:F),"") | O85: =SUM(H85:N85) -> 49510.653 | P85: =G85+O85 -> 49510.653 | Q85: =IF(R85="辞职发0.3",P85*0.3,P85) -> 49510.653
A86: 79 | B86: mz036 | C86: 张翠莲 | D86: =IF(SUMIF(高一质量奖!A:A,C86,高一质量奖!B:B)>0,SUMIF(高一质量奖!A:A,C86,高一质量奖!B:B),"") | E86: =IF(SUMIF(高二进步奖!A:A,C86,高二进步奖!B:B)>0,SUMIF(高二进步奖!A:A,C86,高二进步奖!B:B),"") | F86: =IF(SUMIF(高三进步奖!A:A,C86,高三进步奖!D:D)>0,SUMIF(高三进步奖!A:A,C86,高三进步奖!D:D),"") | G86: =SUM(D86:F86) -> 0 | H86: =IF(SUMIFS('1.gk_工作量'!$M$4:$M$93,'1.gk_工作量'!$B$4:$B$93,C86)>0,SUMIFS('1.gk_工作量'!$M$4:$M$93,'1.gk_工作量'!$B$4:$B$93,C86),"") -> 3754.5507 | I86: =IF(SUMIFS('2.gk_过程评价'!$D:$D,'2.gk_过程评价'!$B:$B,C86)>0,SUMIFS('2.gk_过程评价'!$D:$D,'2.gk_过程评价'!$B:$B,C86),"") -> 8963.421 | J86: =IF(SUMIF('3.gk_上线质量'!B:B,C86,'3.gk_上线质量'!D:D)<>0,SUMIF('3.gk_上线质量'!B:B,C86,'3.gk_上线质量'!D:D),"") -> 2182.1562 | K86: =IF(SUMIFS('4.gk_艺体质量'!E:E,'4.gk_艺体质量'!A:A,C86)>0,SUMIFS('4.gk_艺体质量'!E:E,'4.gk_艺体质量'!A:A,C86),"") -> 239.20179 | L86: =IF(SUMIF('5.gk_超额目标'!B:B,C86,'5.gk_超额目标'!D:D)>0,SUMIF('5.gk_超额目标'!B:B,C86,'5.gk_超额目标'!D:D),"") -> 943.49898 | M86: =IF(SUMIF('6.gk_年级管理'!A:A,C86,'6.gk_年级管理'!D:D)>0,SUMIF('6.gk_年级管理'!A:A,C86,'6.gk_年级管理'!D:D),"") | N86: =IF(SUMIF('7.gk_C9院校考核'!B:B,C86,'7.gk_C9院校考核'!F:F)>0,SUMIF('7.gk_C9院校考核'!B:B,C86,'7.gk_C9院校考核'!F:F),"") | O86: =SUM(H86:N86) -> 16082.829 | P86: =G86+O86 -> 16082.829 | Q86: =IF(R86="辞职发0.3",P86*0.3,P86) -> 16082.829
A87: 80 | B87: mz032 | C87: 张福琴 | D87: =IF(SUMIF(高一质量奖!A:A,C87,高一质量奖!B:B)>0,SUMIF(高一质量奖!A:A,C87,高一质量奖!B:B),"") | E87: =IF(SUMIF(高二进步奖!A:A,C87,高二进步奖!B:B)>0,SUMIF(高二进步奖!A:A,C87,高二进步奖!B:B),"") | F87: =IF(SUMIF(高三进步奖!A:A,C87,高三进步奖!D:D)>0,SUMIF(高三进步奖!A:A,C87,高三进步奖!D:D),"") | G87: =SUM(D87:F87) -> 0 | H87: =IF(SUMIFS('1.gk_工作量'!$M$4:$M$93,'1.gk_工作量'!$B$4:$B$93,C87)>0,SUMIFS('1.gk_工作量'!$M$4:$M$93,'1.gk_工作量'!$B$4:$B$93,C87),"") -> 9551.8284 | I87: =IF(SUMIFS('2.gk_过程评价'!$D:$D,'2.gk_过程评价'!$B:$B,C87)>0,SUMIFS('2.gk_过程评价'!$D:$D,'2.gk_过程评价'!$B:$B,C87),"") -> 10602.766 | J87: =IF(SUMIF('3.gk_上线质量'!B:B,C87,'3.gk_上线质量'!D:D)<>0,SUMIF('3.gk_上线质量'!B:B,C87,'3.gk_上线质量'!D:D),"") -> 9724.4758 | K87: =IF(SUMIFS('4.gk_艺体质量'!E:E,'4.gk_艺体质量'!A:A,C87)>0,SUMIFS('4.gk_艺体质量'!E:E,'4.gk_艺体质量'!A:A,C87),"") -> 7348.8106 | L87: =IF(SUMIF('5.gk_超额目标'!B:B,C87,'5.gk_超额目标'!D:D)>0,SUMIF('5.gk_超额目标'!B:B,C87,'5.gk_超额目标'!D:D),"") -> 4031.3138 | M87: =IF(SUMIF('6.gk_年级管理'!A:A,C87,'6.gk_年级管理'!D:D)>0,SUMIF('6.gk_年级管理'!A:A,C87,'6.gk_年级管理'!D:D),"") | N87: =IF(SUMIF('7.gk_C9院校考核'!B:B,C87,'7.gk_C9院校考核'!F:F)>0,SUMIF('7.gk_C9院校考核'!B:B,C87,'7.gk_C9院校考核'!F:F),"") | O87: =SUM(H87:N87) -> 41259.194 | P87: =G87+O87 -> 41259.194 | Q87: =IF(R87="辞职发0.3",P87*0.3,P87) -> 41259.194
... A94: 87 | B94: mz022 | C94: 赵云川 | D94: =IF(SUMIF(高一质量奖!A:A,C94,高一质量奖!B:B)>0,SUMIF(高一质量奖!A:A,C94,高一质量奖!B:B),"") | E94: =IF(SUMIF(高二进步奖!A:A,C94,高二进步奖!B:B)>0,SUMIF(高二进步奖!A:A,C94,高二进步奖!B:B),"") | F94: =IF(SUMIF(高三进步奖!A:A,C94,高三进步奖!D:D)>0,SUMIF(高三进步奖!A:A,C94,高三进步奖!D:D),"") | G94: =SUM(D94:F94) -> 0 | H94: =IF(SUMIFS('1.gk_工作量'!$M$4:$M$93,'1.gk_工作量'!$B$4:$B$93,C94)>0,SUMIFS('1.gk_工作量'!$M$4:$M$93,'1.gk_工作量'!$B$4:$B$93,C94),"") -> 18947.154 | I94: =IF(SUMIFS('2.gk_过程评价'!$D:$D,'2.gk_过程评价'!$B:$B,C94)>0,SUMIFS('2.gk_过程评价'!$D:$D,'2.gk_过程评价'!$B:$B,C94),"") -> 12954.807 | J94: =IF(SUMIF('3.gk_上线质量'!B:B,C94,'3.gk_上线质量'!D:D)<>0,SUMIF('3.gk_上线质量'!B:B,C94,'3.gk_上线质量'!D:D),"") -> 38003.735 | K94: =IF(SUMIFS('4.gk_艺体质量'!E:E,'4.gk_艺体质量'!A:A,C94)>0,SUMIFS('4.gk_艺体质量'!E:E,'4.gk_艺体质量'!A:A,C94),"") -> 2026.5707 | L94: =IF(SUMIF('5.gk_超额目标'!B:B,C94,'5.gk_超额目标'!D:D)>0,SUMIF('5.gk_超额目标'!B:B,C94,'5.gk_超额目标'!D:D),"") -> 3631.0415 | M94: =IF(SUMIF('6.gk_年级管理'!A:A,C94,'6.gk_年级管理'!D:D)>0,SUMIF('6.gk_年级管理'!A:A,C94,'6.gk_年级管理'!D:D),"") -> 2180.88 | N94: =IF(SUMIF('7.gk_C9院校考核'!B:B,C94,'7.gk_C9院校考核'!F:F)>0,SUMIF('7.gk_C9院校考核'!B:B,C94,'7.gk_C9院校考核'!F:F),"") -> 7500 | O94: =SUM(H94:N94) -> 85244.189 | P94: =G94+O94 -> 85244.189 | Q94: =IF(R94="辞职发0.3",P94*0.3,P94) -> 85244.189
A95: 88 | B95: mz175 | C95: 钟海昌 | D95: =IF(SUMIF(高一质量奖!A:A,C95,高一质量奖!B:B)>0,SUMIF(高一质量奖!A:A,C95,高一质量奖!B:B),"") | E95: =IF(SUMIF(高二进步奖!A:A,C95,高二进步奖!B:B)>0,SUMIF(高二进步奖!A:A,C95,高二进步奖!B:B),"") | F95: =IF(SUMIF(高三进步奖!A:A,C95,高三进步奖!D:D)>0,SUMIF(高三进步奖!A:A,C95,高三进步奖!D:D),"") | G95: =SUM(D95:F95) -> 0 | H95: =IF(SUMIFS('1.gk_工作量'!$M$4:$M$93,'1.gk_工作量'!$B$4:$B$93,C95)>0,SUMIFS('1.gk_工作量'!$M$4:$M$93,'1.gk_工作量'!$B$4:$B$93,C95),"") -> 5159.194 | I95: =IF(SUMIFS('2.gk_过程评价'!$D:$D,'2.gk_过程评价'!$B:$B,C95)>0,SUMIFS('2.gk_过程评价'!$D:$D,'2.gk_过程评价'!$B:$B,C95),"") -> 4368.8903 | J95: =IF(SUMIF('3.gk_上线质量'!B:B,C95,'3.gk_上线质量'!D:D)<>0,SUMIF('3.gk_上线质量'!B:B,C95,'3.gk_上线质量'!D:D),"") -> 8522.0302 | K95: =IF(SUMIFS('4.gk_艺体质量'!E:E,'4.gk_艺体质量'!A:A,C95)>0,SUMIFS('4.gk_艺体质量'!E:E,'4.gk_艺体质量'!A:A,C95),"") | L95: =IF(SUMIF('5.gk_超额目标'!B:B,C95,'5.gk_超额目标'!D:D)>0,SUMIF('5.gk_超额目标'!B:B,C95,'5.gk_超额目标'!D:D),"") -> 1772.6344 | M95: =IF(SUMIF('6.gk_年级管理'!A:A,C95,'6.gk_年级管理'!D:D)>0,SUMIF('6.gk_年级管理'!A:A,C95,'6.gk_年级管理'!D:D),"") | N95: =IF(SUMIF('7.gk_C9院校考核'!B:B,C95,'7.gk_C9院校考核'!F:F)>0,SUMIF('7.gk_C9院校考核'!B:B,C95,'7.gk_C9院校考核'!F:F),"") | O95: =SUM(H95:N95) -> 19822.749 | P95: =G95+O95 -> 19822.749 | Q95: =IF(R95="辞职发0.3",P95*0.3,P95) -> 19822.749 | R95: 攀枝花支教
A96: 89 | B96: mz039 | C96: 周峰 | D96: =IF(SUMIF(高一质量奖!A:A,C96,高一质量奖!B:B)>0,SUMIF(高一质量奖!A:A,C96,高一质量奖!B:B),"") | E96: =IF(SUMIF(高二进步奖!A:A,C96,高二进步奖!B:B)>0,SUMIF(高二进步奖!A:A,C96,高二进步奖!B:B),"") | F96: =IF(SUMIF(高三进步奖!A:A,C96,高三进步奖!D:D)>0,SUMIF(高三进步奖!A:A,C96,高三进步奖!D:D),"") | G96: =SUM(D96:F96) -> 0 | H96: =IF(SUMIFS('1.gk_工作量'!$M$4:$M$93,'1.gk_工作量'!$B$4:$B$93,C96)>0,SUMIFS('1.gk_工作量'!$M$4:$M$93,'1.gk_工作量'!$B$4:$B$93,C96),"") -> 15581.859 | I96: =IF(SUMIFS('2.gk_过程评价'!$D:$D,'2.gk_过程评价'!$B:$B,C96)>0,SUMIFS('2.gk_过程评价'!$D:$D,'2.gk_过程评价'!$B:$B,C96),"") -> 13122.872 | J96: =IF(SUMIF('3.gk_上线质量'!B:B,C96,'3.gk_上线质量'!D:D)<>0,SUMIF('3.gk_上线质量'!B:B,C96,'3.gk_上线质量'!D:D),"") -> 30569.555 | K96: =IF(SUMIFS('4.gk_艺体质量'!E:E,'4.gk_艺体质量'!A:A,C96)>0,SUMIFS('4.gk_艺体质量'!E:E,'4.gk_艺体质量'!A:A,C96),"") -> 358.80269 | L96: =IF(SUMIF('5.gk_超额目标'!B:B,C96,'5.gk_超额目标'!D:D)>0,SUMIF('5.gk_超额目标'!B:B,C96,'5.gk_超额目标'!D:D),"") -> 4117.0865 | M96: =IF(SUMIF('6.gk_年级管理'!A:A,C96,'6.gk_年级管理'!D:D)>0,SUMIF('6.gk_年级管理'!A:A,C96,'6.gk_年级管理'!D:D),"") | N96: =IF(SUMIF('7.gk_C9院校考核'!B:B,C96,'7.gk_C9院校考核'!F:F)>0,SUMIF('7.gk_C9院校考核'!B:B,C96,'7.gk_C9院校考核'!F:F),"") | O96: =SUM(H96:N96) -> 63750.175 | P96: =G96+O96 -> 63750.175 | Q96: =IF(R96="辞职发0.3",P96*0.3,P96) -> 63750.175 | R96: 攀枝花支教
A97: 90 | B97: mz009 | C97: 周菊明 | D97: =IF(SUMIF(高一质量奖!A:A,C97,高一质量奖!B:B)>0,SUMIF(高一质量奖!A:A,C97,高一质量奖!B:B),"") | E97: =IF(SUMIF(高二进步奖!A:A,C97,高二进步奖!B:B)>0,SUMIF(高二进步奖!A:A,C97,高二进步奖!B:B),"") | F97: =IF(SUMIF(高三进步奖!A:A,C97,高三进步奖!D:D)>0,SUMIF(高三进步奖!A:A,C97,高三进步奖!D:D),"") | G97: =SUM(D97:F97) -> 0 | H97: =IF(SUMIFS('1.gk_工作量'!$M$4:$M$93,'1.gk_工作量'!$B$4:$B$93,C97)>0,SUMIFS('1.gk_工作量'!$M$4:$M$93,'1.gk_工作量'!$B$4:$B$93,C97),"") -> 13475.176 | I97: =IF(SUMIFS('2.gk_过程评价'!$D:$D,'2.gk_过程评价'!$B:$B,C97)>0,SUMIFS('2.gk_过程评价'!$D:$D,'2.gk_过程评价'!$B:$B,C97),"") -> 13251.102 | J97: =IF(SUMIF('3.gk_上线质量'!B:B,C97,'3.gk_上线质量'!D:D)<>0,SUMIF('3.gk_上线质量'!B:B,C97,'3.gk_上线质量'!D:D),"") -> 37555.038 | K97: =IF(SUMIFS('4.gk_艺体质量'!E:E,'4.gk_艺体质量'!A:A,C97)>0,SUMIFS('4.gk_艺体质量'!E:E,'4.gk_艺体质量'!A:A,C97),"") -> 1594.6786 | L97: =IF(SUMIF('5.gk_超额目标'!B:B,C97,'5.gk_超额目标'!D:D)>0,SUMIF('5.gk_超额目标'!B:B,C97,'5.gk_超额目标'!D:D),"") -> 2925.7999 | M97: =IF(SUMIF('6.gk_年级管理'!A:A,C97,'6.gk_年级管理'!D:D)>0,SUMIF('6.gk_年级管理'!A:A,C97,'6.gk_年级管理'!D:D),"") -> 2180.88 | N97: =IF(SUMIF('7.gk_C9院校考核'!B:B,C97,'7.gk_C9院校考核'!F:F)>0,SUMIF('7.gk_C9院校考核'!B:B,C97,'7.gk_C9院校考核'!F:F),"") -> 7500 | O97: =SUM(H97:N97) -> 78482.674 | P97: =G97+O97 -> 78482.674 | Q97: =IF(R97="辞职发0.3",P97*0.3,P97) -> 78482.674
A98: 91 | B98: mz072 | C98: 周时德 | D98: =IF(SUMIF(高一质量奖!A:A,C98,高一质量奖!B:B)>0,SUMIF(高一质量奖!A:A,C98,高一质量奖!B:B),"") | E98: =IF(SUMIF(高二进步奖!A:A,C98,高二进步奖!B:B)>0,SUMIF(高二进步奖!A:A,C98,高二进步奖!B:B),"") | F98: =IF(SUMIF(高三进步奖!A:A,C98,高三进步奖!D:D)>0,SUMIF(高三进步奖!A:A,C98,高三进步奖!D:D),"") | G98: =SUM(D98:F98) -> 0 | H98: =IF(SUMIFS('1.gk_工作量'!$M$4:$M$93,'1.gk_工作量'!$B$4:$B$93,C98)>0,SUMIFS('1.gk_工作量'!$M$4:$M$93,'1.gk_工作量'!$B$4:$B$93,C98),"") -> 1246.5181 | I98: =IF(SUMIFS('2.gk_过程评价'!$D:$D,'2.gk_过程评价'!$B:$B,C98)>0,SUMIFS('2.gk_过程评价'!$D:$D,'2.gk_过程评价'!$B:$B,C98),"") | J98: =IF(SUMIF('3.gk_上线质量'!B:B,C98,'3.gk_上线质量'!D:D)<>0,SUMIF('3.gk_上线质量'!B:B,C98,'3.gk_上线质量'!D:D),"") | K98: =IF(SUMIFS('4.gk_艺体质量'!E:E,'4.gk_艺体质量'!A:A,C98)>0,SUMIFS('4.gk_艺体质量'!E:E,'4.gk_艺体质量'!A:A,C98),"") -> 7400 | L98: =IF(SUMIF('5.gk_超额目标'!B:B,C98,'5.gk_超额目标'!D:D)>0,SUMIF('5.gk_超额目标'!B:B,C98,'5.gk_超额目标'!D:D),"") | M98: =IF(SUMIF('6.gk_年级管理'!A:A,C98,'6.gk_年级管理'!D:D)>0,SUMIF('6.gk_年级管理'!A:A,C98,'6.gk_年级管理'!D:D),"") | N98: =IF(SUMIF('7.gk_C9院校考核'!B:B,C98,'7.gk_C9院校考核'!F:F)>0,SUMIF('7.gk_C9院校考核'!B:B,C98,'7.gk_C9院校考核'!F:F),"") | O98: =SUM(H98:N98) -> 8646.5181 | P98: =G98+O98 -> 8646.5181 | Q98: =IF(R98="辞职发0.3",P98*0.3,P98) -> 8646.5181
A99: 92 | B99: mz161 | C99: 周宇竹 | D99: =IF(SUMIF(高一质量奖!A:A,C99,高一质量奖!B:B)>0,SUMIF(高一质量奖!A:A,C99,高一质量奖!B:B),"") | E99: =IF(SUMIF(高二进步奖!A:A,C99,高二进步奖!B:B)>0,SUMIF(高二进步奖!A:A,C99,高二进步奖!B:B),"") -> 1945.6 | F99: =IF(SUMIF(高三进步奖!A:A,C99,高三进步奖!D:D)>0,SUMIF(高三进步奖!A:A,C99,高三进步奖!D:D),"") | G99: =SUM(D99:F99) -> 1945.6 | H99: =IF(SUMIFS('1.gk_工作量'!$M$4:$M$93,'1.gk_工作量'!$B$4:$B$93,C99)>0,SUMIFS('1.gk_工作量'!$M$4:$M$93,'1.gk_工作量'!$B$4:$B$93,C99),"") | I99: =IF(SUMIFS('2.gk_过程评价'!$D:$D,'2.gk_过程评价'!$B:$B,C99)>0,SUMIFS('2.gk_过程评价'!$D:$D,'2.gk_过程评价'!$B:$B,C99),"") | J99: =IF(SUMIF('3.gk_上线质量'!B:B,C99,'3.gk_上线质量'!D:D)<>0,SUMIF('3.gk_上线质量'!B:B,C99,'3.gk_上线质量'!D:D),"") | K99: =IF(SUMIFS('4.gk_艺体质量'!E:E,'4.gk_艺体质量'!A:A,C99)>0,SUMIFS('4.gk_艺体质量'!E:E,'4.gk_艺体质量'!A:A,C99),"") | L99: =IF(SUMIF('5.gk_超额目标'!B:B,C99,'5.gk_超额目标'!D:D)>0,SUMIF('5.gk_超额目标'!B:B,C99,'5.gk_超额目标'!D:D),"") | M99: =IF(SUMIF('6.gk_年级管理'!A:A,C99,'6.gk_年级管理'!D:D)>0,SUMIF('6.gk_年级管理'!A:A,C99,'6.gk_年级管理'!D:D),"") | N99: =IF(SUMIF('7.gk_C9院校考核'!B:B,C99,'7.gk_C9院校考核'!F:F)>0,SUMIF('7.gk_C9院校考核'!B:B,C99,'7.gk_C9院校考核'!F:F),"") | O99: =SUM(H99:N99) -> 0 | P99: =G99+O99 -> 1945.6 | Q99: =IF(R99="辞职发0.3",P99*0.3,P99) -> 1945.6
A100: 93 | B100: mz035 | C100: 朱恩凡 | D100: =IF(SUMIF(高一质量奖!A:A,C100,高一质量奖!B:B)>0,SUMIF(高一质量奖!A:A,C100,高一质量奖!B:B),"") | E100: =IF(SUMIF(高二进步奖!A:A,C100,高二进步奖!B:B)>0,SUMIF(高二进步奖!A:A,C100,高二进步奖!B:B),"") | F100: =IF(SUMIF(高三进步奖!A:A,C100,高三进步奖!D:D)>0,SUMIF(高三进步奖!A:A,C100,高三进步奖!D:D),"") | G100: =SUM(D100:F100) -> 0 | H100: =IF(SUMIFS('1.gk_工作量'!$M$4:$M$93,'1.gk_工作量'!$B$4:$B$93,C100)>0,SUMIFS('1.gk_工作量'!$M$4:$M$93,'1.gk_工作量'!$B$4:$B$93,C100),"") -> 13780.553 | I100: =IF(SUMIFS('2.gk_过程评价'!$D:$D,'2.gk_过程评价'!$B:$B,C100)>0,SUMIFS('2.gk_过程评价'!$D:$D,'2.gk_过程评价'!$B:$B,C100),"") -> 12824.472 | J100: =IF(SUMIF('3.gk_上线质量'!B:B,C100,'3.gk_上线质量'!D:D)<>0,SUMIF('3.gk_上线质量'!B:B,C100,'3.gk_上线质量'!D:D),"") -> 19240.743 | K100: =IF(SUMIFS('4.gk_艺体质量'!E:E,'4.gk_艺体质量'!A:A,C100)>0,SUMIFS('4.gk_艺体质量'!E:E,'4.gk_艺体质量'!A:A,C100),"") -> 159.46786 | L100: =IF(SUMIF('5.gk_超额目标'!B:B,C100,'5.gk_超额目标'!D:D)>0,SUMIF('5.gk_超额目标'!B:B,C100,'5.gk_超额目标'!D:D),"") -> 2830.4969 | M100: =IF(SUMIF('6.gk_年级管理'!A:A,C100,'6.gk_年级管理'!D:D)>0,SUMIF('6.gk_年级管理'!A:A,C100,'6.gk_年级管理'!D:D),"") | N100: =IF(SUMIF('7.gk_C9院校考核'!B:B,C100,'7.gk_C9院校考核'!F:F)>0,SUMIF('7.gk_C9院校考核'!B:B,C100,'7.gk_C9院校考核'!F:F),"") | O100: =SUM(H100:N100) -> 48835.733 | P100: =G100+O100 -> 48835.733 | Q100: =IF(R100="辞职发0.3",P100*0.3,P100) -> 48835.733
A101: 94 | B101: mz147 | C101: 李瑛 | H101: =IF(SUMIFS('1.gk_工作量'!$M$4:$M$93,'1.gk_工作量'!$B$4:$B$93,C101)>0,SUMIFS('1.gk_工作量'!$M$4:$M$93,'1.gk_工作量'!$B$4:$B$93,C101),"") -> 12451.099 | O101: =SUM(H101:N101) -> 12451.099 | P101: =G101+O101 -> 12451.099 | Q101: =IF(R101="辞职发0.3",P101*0.3,P101) -> 12451.099
A102: 95 | B102: mz070 | C102: 朱梦清 | D102: =IF(SUMIF(高一质量奖!A:A,C102,高一质量奖!B:B)>0,SUMIF(高一质量奖!A:A,C102,高一质量奖!B:B),"") | E102: =IF(SUMIF(高二进步奖!A:A,C102,高二进步奖!B:B)>0,SUMIF(高二进步奖!A:A,C102,高二进步奖!B:B),"") | F102: =IF(SUMIF(高三进步奖!A:A,C102,高三进步奖!D:D)>0,SUMIF(高三进步奖!A:A,C102,高三进步奖!D:D),"") | G102: =SUM(D102:F102) -> 0 | H102: =IF(SUMIFS('1.gk_工作量'!$M$4:$M$93,'1.gk_工作量'!$B$4:$B$93,C102)>0,SUMIFS('1.gk_工作量'!$M$4:$M$93,'1.gk_工作量'!$B$4:$B$93,C102),"") -> 1721.3821 | I102: =IF(SUMIFS('2.gk_过程评价'!$D:$D,'2.gk_过程评价'!$B:$B,C102)>0,SUMIFS('2.gk_过程评价'!$D:$D,'2.gk_过程评价'!$B:$B,C102),"") | J102: =IF(SUMIF('3.gk_上线质量'!B:B,C102,'3.gk_上线质量'!D:D)<>0,SUMIF('3.gk_上线质量'!B:B,C102,'3.gk_上线质量'!D:D),"") | K102: =IF(SUMIFS('4.gk_艺体质量'!E:E,'4.gk_艺体质量'!A:A,C102)>0,SUMIFS('4.gk_艺体质量'!E:E,'4.gk_艺体质量'!A:A,C102),"") -> 8900 | L102: =IF(SUMIF('5.gk_超额目标'!B:B,C102,'5.gk_超额目标'!D:D)>0,SUMIF('5.gk_超额目标'!B:B,C102,'5.gk_超额目标'!D:D),"") | M102: =IF(SUMIF('6.gk_年级管理'!A:A,C102,'6.gk_年级管理'!D:D)>0,SUMIF('6.gk_年级管理'!A:A,C102,'6.gk_年级管理'!D:D),"") | N102: =IF(SUMIF('7.gk_C9院校考核'!B:B,C102,'7.gk_C9院校考核'!F:F)>0,SUMIF('7.gk_C9院校考核'!B:B,C102,'7.gk_C9院校考核'!F:F),"") | O102: =SUM(H102:N102) -> 10621.382 | P102: =G102+O102 -> 10621.382 | Q102: =IF(R102="辞职发0.3",P102*0.3,P102) -> 10621.382
C103: 合计 | D103: =SUM(D8:D102) -> 0 | E103: =SUM(E8:E102) -> 10240 | F103: =SUM(F8:F102) -> 17280 | G103: =SUM(G8:G102) -> 27520 | H103: =SUM(H8:H102) -> 763032 | I103: =SUM(I8:I102) -> 669257.79 | J103: =SUM(J8:J102) -> 892343.72 | K103: =SUM(K8:K102) -> 316806.49 | ... Q103: =SUM(Q8:Q102) -> 2939442.3

Sheet 高一质量奖
A1: 姓名 | B1: 质量奖

Sheet 高二进步奖
A1: 姓名 | B1: 合计
A2: 赵香才 | B2: 3235.84
A3: 胡慧芳 | B3: 1495.04
A4: 杨国芬 | B4: 2682.88
A5: 周宇竹 | B5: 1945.6
A6: 偏初 | B6: 880.64
B7: =SUM(B2:B6) -> 10240

Sheet 高三进步奖
A1: 教师 | B1: 质量奖 | C1: 进步奖 | D1: 合计
A2: 叶小军 | C2: 3885.3052 | D2: =SUM(B2:C2) -> 3885.3052
A3: 李荣鑫 | C3: 4822.6293 | D3: =SUM(B3:C3) -> 4822.6293
A4: 何传英 | C4: 3862.7093 | D4: =SUM(B4:C4) -> 3862.7093
A5: 刘厚江 | C5: 1904.5876 | D5: =SUM(B5:C5) -> 1904.5876
A6: 马红琦 | C6: 884.76862 | D6: =SUM(B6:C6) -> 884.76862
A7: 尼玛布池 | C7: 972.27908 | D7: =SUM(B7:C7) -> 972.27908
A8: 张弘 | C8: 947.72092 | D8: =SUM(B8:C8) -> 947.72092
A9: 合计 | B9: =SUM(B2:B8) -> 0 | C9: =SUM(C2:C8) -> 17280 | D9: =SUM(D2:D8) -> 17280

Sheet gk_质量奖分配
C1: 项目 | D1: 金额 | E1: 算法/说明
A2: 总额分配 | C2: 政府拨款 | D2: 4645000 | E2: 总额=学生奖金+学校奖金
C3: 学生奖金 | D3: 1310000
C4: 学校奖金 | D4: =D2-D3 -> 3335000
A6: 学校奖金分配 | C6: 学校提留 | D6: =D4*0.2 -> 667000 | E6: 学校提留=学校奖金*20%
C7: 年级管理奖 | D7: 74560 | E7: 按照政府目标，文化和艺体超额部分的8%作为年级管理奖.文化本科超额950000元，艺体本科超额215000元，合计超额1165000元.年级管理奖（1165000*80%*8%=74560元）
C8: C9院校考核 | D8: 50000
C9: 教师奖励 | D9: =D4-D6-D7-D8 -> 2543440 | E9: 剩余的教师奖励=学校奖金-学校提留-年级管理奖-C9院校奖励
C10: 超额目标奖 | D10: 168000 | E10: 学校本科目标220人，奋斗目标240人。实际完成272人，超过学校基本目标52人，超过学校奋斗目标32人，超额目标奖2000*20人+4000*32=168000元.此部分从学校提留的20%中支出.
A12: 教师奖金分配 | C12: 2.1工作量（30%） | D12: =$D$9*0.3 -> 763032 | E12: 工作量=教师奖励*30%
C13: 2.2业绩（70%） | D13: =$D$9*0.7 -> 1780408 | E13: 业绩=教师奖励*70%
A15: 2.2业绩 | C15: 2.2.1文化本科质量奖 | D15: =(2870000*0.8-74560*2870000/(2870000+415000))*0.7 -> 1561601.5 | E15: 文化总奖金：287万元 文化本科质量奖=文化总奖金-学校提留-年级管理奖占比奖金-工作量，即（2870000*0.8-74560*2870000/(2870000+415000)）*0.7 艺体总奖金：41.5万元. 艺体质量奖=艺体总奖金-学校提留-年级管理奖占比奖金-工作量，即(415000*0.8-74560*415000/(2870000+415000))*0.7
C16: 2.2.2艺体质量奖 | D16: =(415000*0.8-74560*415000/(2870000+415000))*0.7 -> 225806.49
A18: 2.2.1文化本科质量奖 | C18: 2.2.1.1过程评价奖 | D18: =$D$15*3/7 -> 669257.79 | E18: 过程评价奖=文化本科质量奖*3/7(文化奖金中工作量、过程评价、上线质量占比3:3:4)
C19: 2.2.1.2上线质量奖 | D19: =$D$15*4/7 -> 892343.72 | E19: 上线质量奖=文化本科质量奖*4/7(文化奖金中工作量、过程评价、上线质量占比3:3:4)
A21: 2.2.1.2文化上线质量奖 | C21: 2.2.1.2.1总分上线质量奖 | D21: =$D$19*1 -> 892343.72 | E21: 总分上线质量奖=文化上线质量奖*100%
C22: 2.2.1.2.2单双上线质量奖 | D22: =$D$19*0 -> 0 | E22: 总分上线质量奖=文化上线质量奖*0（2024年起凉山州不再公布单科分数线，本项资金调整到总分上线）

Sheet gk_分数线

Sheet 1.gk_工作量
A1: 序号 | B1: 姓名 | C1: 高一 | F1: 高二 | I1: 高三 | L1: 高三年级主任/班主任 | M1: 基本奖合计
C2: 上期/节 | D2: 下期/节 | E2: 小计/元 | F2: 上期/节 | G2: 下期/节 | H2: 小计/元 | I2: 上期/节 | J2: 下期/节 | K2: 小计/元
E3: =(gk_质量奖分配!$D$12-$L$94)*0.2/SUM($C$4:$D$93) -> 118.71601 | H3: =(gk_质量奖分配!$D$12-$L$94)*0.3/SUM($F$4:$G$93) -> 166.42561 | K3: =(gk_质量奖分配!$D$12-$L$94)*0.5/SUM($I$4:$J$93) -> 274.8587
A4: 1 | B4: 曹云萍 | C4: 14 | D4: 14 | E4: =$E$3*SUM(C4:D4) -> 3324.0483 | F4: 15 | G4: 16 | H4: =$H$3*SUM(F4:G4) -> 5159.194 | I4: 16 | J4: 16 | K4: =$K$3*SUM(I4:J4) -> 8795.4785 | L4: 1000 | M4: =E4+H4+K4+L4 -> 18278.721
A5: 2 | B5: 陈光汇 | C5: 6 | D5: 5 | E5: =$E$3*SUM(C5:D5) -> 1305.8761 | F5: 14 | G5: 14 | H5: =$H$3*SUM(F5:G5) -> 4659.9172 | I5: 14 | J5: 14 | K5: =$K$3*SUM(I5:J5) -> 7696.0437 | M5: =E5+H5+K5+L5 -> 13661.837
A6: 3 | B6: 陈国萍 | C6: 12 | D6: 13 | E6: =$E$3*SUM(C6:D6) -> 2967.9003 | F6: 12 | G6: 12 | H6: =$H$3*SUM(F6:G6) -> 3994.2147 | I6: 21 | J6: 21 | K6: =$K$3*SUM(I6:J6) -> 11544.066 | M6: =E6+H6+K6+L6 -> 18506.181
A7: 4 | B7: 陈虎林 | C7: 3.5 | D7: 7 | E7: =$E$3*SUM(C7:D7) -> 1246.5181 | H7: =$H$3*SUM(F7:G7) -> 0 | K7: =$K$3*SUM(I7:J7) -> 0 | M7: =E7+H7+K7+L7 -> 1246.5181
A8: 5 | B8: 次珍扎保 | C8: 10 | E8: =$E$3*SUM(C8:D8) -> 1187.1601 | H8: =$H$3*SUM(F8:G8) -> 0 | K8: =$K$3*SUM(I8:J8) -> 0 | M8: =E8+H8+K8+L8 -> 1187.1601
A9: 6 | B9: 崔萌 | C9: 8 | D9: 4 | E9: =$E$3*SUM(C9:D9) -> 1424.5921 | H9: =$H$3*SUM(F9:G9) -> 0 | K9: =$K$3*SUM(I9:J9) -> 0 | M9: =E9+H9+K9+L9 -> 1424.5921
A10: 7 | B10: 旦珠拉初 | C10: 12 | D10: 14 | E10: =$E$3*SUM(C10:D10) -> 3086.6163 | F10: 14 | G10: 14 | H10: =$H$3*SUM(F10:G10) -> 4659.9172 | K10: =$K$3*SUM(I10:J10) -> 0 | M10: =E10+H10+K10+L10 -> 7746.5335
A11: 8 | B11: 邓国华 | C11: 14 | D11: 15 | E11: =$E$3*SUM(C11:D11) -> 3442.7643 | H11: =$H$3*SUM(F11:G11) -> 0 | K11: =$K$3*SUM(I11:J11) -> 0 | M11: =E11+H11+K11+L11 -> 3442.7643
A12: 9 | B12: 邓倩 | C12: 9 | D12: 10 | E12: =$E$3*SUM(C12:D12) -> 2255.6042 | F12: 11 | G12: 11 | H12: =$H$3*SUM(F12:G12) -> 3661.3635 | I12: 11 | J12: 11 | K12: =$K$3*SUM(I12:J12) -> 6046.8915 | L12: 1000 | M12: =E12+H12+K12+L12 -> 12963.859
A13: 10 | B13: 东梅 | E13: =$E$3*SUM(C13:D13) -> 0 | H13: =$H$3*SUM(F13:G13) -> 0 | I13: 14 | J13: 14 | K13: =$K$3*SUM(I13:J13) -> 7696.0437 | M13: =E13+H13+K13+L13 -> 7696.0437
A14: 11 | B14: 杜东洋 | E14: =$E$3*SUM(C14:D14) -> 0 | F14: 16 | H14: =$H$3*SUM(F14:G14) -> 2662.8098 | I14: 16 | J14: 16 | K14: =$K$3*SUM(I14:J14) -> 8795.4785 | M14: =E14+H14+K14+L14 -> 11458.288
A15: 12 | B15: 付仁源 | C15: 6 | E15: =$E$3*SUM(C15:D15) -> 712.29606 | H15: =$H$3*SUM(F15:G15) -> 0 | K15: =$K$3*SUM(I15:J15) -> 0 | M15: =E15+H15+K15+L15 -> 712.29606
A16: 13 | B16: 高琴 | E16: =$E$3*SUM(C16:D16) -> 0 | H16: =$H$3*SUM(F16:G16) -> 0 | I16: 5 | J16: 5 | K16: =$K$3*SUM(I16:J16) -> 2748.587 | M16: =E16+H16+K16+L16 -> 2748.587
A17: 14 | B17: 格绒燚西 | C17: 12 | D17: 10 | E17: =$E$3*SUM(C17:D17) -> 2611.7522 | F17: 14 | G17: 14 | H17: =$H$3*SUM(F17:G17) -> 4659.9172 | I17: 14 | J17: 14 | K17: =$K$3*SUM(I17:J17) -> 7696.0437 | M17: =E17+H17+K17+L17 -> 14967.713
A18: 15 | B18: 何传英 | E18: =$E$3*SUM(C18:D18) -> 0 | F18: 5 | G18: 6 | H18: =$H$3*SUM(F18:G18) -> 1830.6818 | K18: =$K$3*SUM(I18:J18) -> 0 | M18: =E18+H18+K18+L18 -> 1830.6818
A19: 16 | B19: 何东霖 | E19: =$E$3*SUM(C19:D19) -> 0 | H19: =$H$3*SUM(F19:G19) -> 0 | I19: 14 | J19: 14 | K19: =$K$3*SUM(I19:J19) -> 7696.0437 | M19: =E19+H19+K19+L19 -> 7696.0437
A20: 17 | B20: 胡东缘 | C20: 9 | D20: 16 | E20: =$E$3*SUM(C20:D20) -> 2967.9003 | F20: 20 | G20: 12 | H20: =$H$3*SUM(F20:G20) -> 5325.6197 | I20: 16 | J20: 16 | K20: =$K$3*SUM(I20:J20) -> 8795.4785 | L20: 1000 | M20: =E20+H20+K20+L20 -> 18088.998
A21: 18 | B21: 胡柔殳 | C21: 6 | D21: 12 | E21: =$E$3*SUM(C21:D21) -> 2136.8882 | H21: =$H$3*SUM(F21:G21) -> 0 | K21: =$K$3*SUM(I21:J21) -> 0 | M21: =E21+H21+K21+L21 -> 2136.8882
A22: 19 | B22: 黄萍 | C22: 8 | D22: 10 | E22: =$E$3*SUM(C22:D22) -> 2136.8882 | H22: =$H$3*SUM(F22:G22) -> 0 | K22: =$K$3*SUM(I22:J22) -> 0 | M22: =E22+H22+K22+L22 -> 2136.8882
A23: 20 | B23: 纪春权 | C23: 9 | D23: 15.25 | E23: =$E$3*SUM(C23:D23) -> 2878.8632 | F23: 17 | G23: 11 | H23: =$H$3*SUM(F23:G23) -> 4659.9172 | I23: 10 | K23: =$K$3*SUM(I23:J23) -> 2748.587 | M23: =E23+H23+K23+L23 -> 10287.367
A24: 21 | B24: 甲阿祝玛 | E24: =$E$3*SUM(C24:D24) -> 0 | F24: 7 | G24: 7 | H24: =$H$3*SUM(F24:G24) -> 2329.9586 | K24: =$K$3*SUM(I24:J24) -> 0 | M24: =E24+H24+K24+L24 -> 2329.9586
A25: 22 | B25: 贾学英 | D25: 2 | E25: =$E$3*SUM(C25:D25) -> 237.43202 | H25: =$H$3*SUM(F25:G25) -> 0 | K25: =$K$3*SUM(I25:J25) -> 0 | M25: =E25+H25+K25+L25 -> 237.43202
A26: 23 | B26: 降初里 | C26: 9 | D26: 14 | E26: =$E$3*SUM(C26:D26) -> 2730.4682 | F26: 12 | G26: 14 | H26: =$H$3*SUM(F26:G26) -> 4327.066 | I26: 12 | J26: 12 | K26: =$K$3*SUM(I26:J26) -> 6596.6089 | L26: 1000 | M26: =E26+H26+K26+L26 -> 14654.143
A27: 24 | B27: 解超燕 | C27: 15 | D27: 16 | E27: =$E$3*SUM(C27:D27) -> 3680.1963 | F27: 21 | H27: =$H$3*SUM(F27:G27) -> 3494.9379 | I27: 14 | J27: 12 | K27: =$K$3*SUM(I27:J27) -> 7146.3263 | M27: =E27+H27+K27+L27 -> 14321.46
A28: 25 | B28: 金贵 | E28: =$E$3*SUM(C28:D28) -> 0 | F28: 5 | G28: 6 | H28: =$H$3*SUM(F28:G28) -> 1830.6818 | I28: 5 | J28: 5 | K28: =$K$3*SUM(I28:J28) -> 2748.587 | M28: =E28+H28+K28+L28 -> 4579.2688
A29: 26 | B29: 康小平 | C29: 21 | D29: 20 | E29: =$E$3*SUM(C29:D29) -> 4867.3564 | F29: 16 | G29: 14 | H29: =$H$3*SUM(F29:G29) -> 4992.7684 | I29: 21 | J29: 18 | K29: =$K$3*SUM(I29:J29) -> 10719.489 | L29: 1000 | M29: =E29+H29+K29+L29 -> 21579.614
A30: 27 | B30: 康宇峰 | C30: 12 | E30: =$E$3*SUM(C30:D30) -> 1424.5921 | H30: =$H$3*SUM(F30:G30) -> 0 | K30: =$K$3*SUM(I30:J30) -> 0 | M30: =E30+H30+K30+L30 -> 1424.5921
A31: 28 | B31: 拉初 | C31: 6 | D31: 12 | E31: =$E$3*SUM(C31:D31) -> 2136.8882 | F31: 14 | G31: 14 | H31: =$H$3*SUM(F31:G31) -> 4659.9172 | I31: 14 | J31: 14 | K31: =$K$3*SUM(I31:J31) -> 7696.0437 | M31: =E31+H31+K31+L31 -> 14492.849
A32: 29 | B32: 喇菊 | C32: 6 | D32: 10 | E32: =$E$3*SUM(C32:D32) -> 1899.4562 | H32: =$H$3*SUM(F32:G32) -> 0 | K32: =$K$3*SUM(I32:J32) -> 0 | M32: =E32+H32+K32+L32 -> 1899.4562
A33: 30 | B33: 喇燕 | C33: 14 | D33: 15 | E33: =$E$3*SUM(C33:D33) -> 3442.7643 | F33: 15 | G33: 16 | H33: =$H$3*SUM(F33:G33) -> 5159.194 | I33: 17 | J33: 17 | K33: =$K$3*SUM(I33:J33) -> 9345.1959 | L33: 1000 | M33: =E33+H33+K33+L33 -> 18947.154
A34: 31 | B34: 李汉林 | C34: 9 | D34: 6 | E34: =$E$3*SUM(C34:D34) -> 1780.7402 | H34: =$H$3*SUM(F34:G34) -> 0 | K34: =$K$3*SUM(I34:J34) -> 0 | M34: =E34+H34+K34+L34 -> 1780.7402
A35: 32 | B35: 李荣鑫 | C35: 8 | D35: 10 | E35: =$E$3*SUM(C35:D35) -> 2136.8882 | F35: 10 | G35: 12 | H35: =$H$3*SUM(F35:G35) -> 3661.3635 | I35: 11 | J35: 16 | K35: =$K$3*SUM(I35:J35) -> 7421.185 | L35: 1000 | M35: =E35+H35+K35+L35 -> 14219.437
A36: 33 | B36: 李挖合 | C36: 4 | D36: 4 | E36: =$E$3*SUM(C36:D36) -> 949.72808 | H36: =$H$3*SUM(F36:G36) -> 0 | K36: =$K$3*SUM(I36:J36) -> 0 | M36: =E36+H36+K36+L36 -> 949.72808
A37: 34 | B37: 李永会 | C37: 12 | D37: 12 | E37: =$E$3*SUM(C37:D37) -> 2849.1842 | F37: 14 | G37: 14 | H37: =$H$3*SUM(F37:G37) -> 4659.9172 | I37: 14 | J37: 14 | K37: =$K$3*SUM(I37:J37) -> 7696.0437 | L37: 1000 | M37: =E37+H37+K37+L37 -> 16205.145
A38: 35 | B38: 李正琪 | C38: 6 | D38: 5 | E38: =$E$3*SUM(C38:D38) -> 1305.8761 | F38: 7 | H38: =$H$3*SUM(F38:G38) -> 1164.9793 | K38: =$K$3*SUM(I38:J38) -> 0 | M38: =E38+H38+K38+L38 -> 2470.8554
A39: 36 | B39: 立日木里 | C39: 1.5 | D39: 2 | E39: =$E$3*SUM(C39:D39) -> 415.50604 | H39: =$H$3*SUM(F39:G39) -> 0 | K39: =$K$3*SUM(I39:J39) -> 0 | M39: =E39+H39+K39+L39 -> 415.50604
A40: 37 | B40: 刘厚江 | E40: =$E$3*SUM(C40:D40) -> 0 | H40: =$H$3*SUM(F40:G40) -> 0 | I40: 5 | J40: 5 | K40: =$K$3*SUM(I40:J40) -> 2748.587 | M40: =E40+H40+K40+L40 -> 2748.587
A41: 38 | B41: 刘权芳 | C41: 6 | D41: 5 | E41: =$E$3*SUM(C41:D41) -> 1305.8761 | H41: =$H$3*SUM(F41:G41) -> 0 | K41: =$K$3*SUM(I41:J41) -> 0 | M41: =E41+H41+K41+L41 -> 1305.8761
A42: 39 | B42: 刘云菊 | C42: 6 | D42: 5 | E42: =$E$3*SUM(C42:D42) -> 1305.8761 | F42: 12 | H42: =$H$3*SUM(F42:G42) -> 1997.1074 | K42: =$K$3*SUM(I42:J42) -> 0 | M42: =E42+H42+K42+L42 -> 3302.9835
A43: 40 | B43: 卢逸 | C43: 6 | D43: 8 | E43: =$E$3*SUM(C43:D43) -> 1662.0241 | H43: =$H$3*SUM(F43:G43) -> 0 | K43: =$K$3*SUM(I43:J43) -> 0 | M43: =E43+H43+K43+L43 -> 1662.0241
A44: 41 | B44: 鲁绒旦友 | C44: 12 | D44: 12 | E44: =$E$3*SUM(C44:D44) -> 2849.1842 | F44: 16 | G44: 17 | H44: =$H$3*SUM(F44:G44) -> 5492.0453 | K44: =$K$3*SUM(I44:J44) -> 0 | M44: =E44+H44+K44+L44 -> 8341.2295
A45: 42 | B45: 罗云 | D45: 4 | E45: =$E$3*SUM(C45:D45) -> 474.86404 | H45: =$H$3*SUM(F45:G45) -> 0 | K45: =$K$3*SUM(I45:J45) -> 0 | M45: =E45+H45+K45+L45 -> 474.86404
A46: 43 | B46: 吕开绒 | C46: 10.5 | D46: 14 | E46: =$E$3*SUM(C46:D46) -> 2908.5422 | F46: 10.8 | H46: =$H$3*SUM(F46:G46) -> 1797.3966 | K46: =$K$3*SUM(I46:J46) -> 0 | M46: =E46+H46+K46+L46 -> 4705.9389
A47: 44 | B47: 马红琦 | C47: 8 | D47: 7 | E47: =$E$3*SUM(C47:D47) -> 1780.7402 | F47: 11 | G47: 12 | H47: =$H$3*SUM(F47:G47) -> 3827.7891 | I47: 5 | K47: =$K$3*SUM(I47:J47) -> 1374.2935 | M47: =E47+H47+K47+L47 -> 6982.8228
A48: 45 | B48: 马俊 | C48: 14 | D48: 15 | E48: =$E$3*SUM(C48:D48) -> 3442.7643 | F48: 14 | G48: 16 | H48: =$H$3*SUM(F48:G48) -> 4992.7684 | I48: 17 | J48: 17 | K48: =$K$3*SUM(I48:J48) -> 9345.1959 | L48: 1000 | M48: =E48+H48+K48+L48 -> 18780.729
A49: 46 | B49: 马巫各 | C49: 12 | D49: 16.4 | E49: =$E$3*SUM(C49:D49) -> 3371.5347 | F49: 21 | G49: 16 | H49: =$H$3*SUM(F49:G49) -> 6157.7477 | I49: 15 | J49: 15 | K49: =$K$3*SUM(I49:J49) -> 8245.7611 | M49: =E49+H49+K49+L49 -> 17775.044
A50: 47 | B50: 米晓妹 | C50: 9 | D50: 16 | E50: =$E$3*SUM(C50:D50) -> 2967.9003 | F50: 17 | H50: =$H$3*SUM(F50:G50) -> 2829.2354 | I50: 15 | J50: 15 | K50: =$K$3*SUM(I50:J50) -> 8245.7611 | M50: =E50+H50+K50+L50 -> 14042.897
A51: 48 | B51: 尼玛布池 | C51: 6 | D51: 9 | E51: =$E$3*SUM(C51:D51) -> 1780.7402 | F51: 16 | G51: 18 | H51: =$H$3*SUM(F51:G51) -> 5658.4709 | I51: 16 | J51: 16 | K51: =$K$3*SUM(I51:J51) -> 8795.4785 | L51: 1000 | M51: =E51+H51+K51+L51 -> 17234.69
A52: 49 | B52: 宁建康 | C52: 8 | D52: 4 | E52: =$E$3*SUM(C52:D52) -> 1424.5921 | H52: =$H$3*SUM(F52:G52) -> 0 | K52: =$K$3*SUM(I52:J52) -> 0 | M52: =E52+H52+K52+L52 -> 1424.5921
A53: 50 | B53: 潘勇 | E53: =$E$3*SUM(C53:D53) -> 0 | F53: 8 | G53: 8 | H53: =$H$3*SUM(F53:G53) -> 2662.8098 | I53: 17 | J53: 17 | K53: =$K$3*SUM(I53:J53) -> 9345.1959 | L53: 1000 | M53: =E53+H53+K53+L53 -> 13008.006
A54: 51 | B54: 彭丹 | C54: 6 | D54: 12 | E54: =$E$3*SUM(C54:D54) -> 2136.8882 | F54: 14 | G54: 14 | H54: =$H$3*SUM(F54:G54) -> 4659.9172 | I54: 14 | J54: 14 | K54: =$K$3*SUM(I54:J54) -> 7696.0437 | M54: =E54+H54+K54+L54 -> 14492.849
A55: 52 | B55: 彭桦 | C55: 6 | D55: 8 | E55: =$E$3*SUM(C55:D55) -> 1662.0241 | F55: 10 | G55: 12 | H55: =$H$3*SUM(F55:G55) -> 3661.3635 | I55: 10 | K55: =$K$3*SUM(I55:J55) -> 2748.587 | M55: =E55+H55+K55+L55 -> 8071.9747
A56: 53 | B56: 浦恩玲 | C56: 6 | D56: 6 | E56: =$E$3*SUM(C56:D56) -> 1424.5921 | F56: 14 | G56: 14 | H56: =$H$3*SUM(F56:G56) -> 4659.9172 | I56: 21 | J56: 14 | K56: =$K$3*SUM(I56:J56) -> 9620.0546 | M56: =E56+H56+K56+L56 -> 15704.564
A57: 54 | B57: 邱君益 | C57: 6 | D57: 8 | E57: =$E$3*SUM(C57:D57) -> 1662.0241 | F57: 12 | G57: 7 | H57: =$H$3*SUM(F57:G57) -> 3162.0867 | I57: 6 | J57: 6 | K57: =$K$3*SUM(I57:J57) -> 3298.3044 | M57: =E57+H57+K57+L57 -> 8122.4152
A58: 55 | B58: 沙国芳 | E58: =$E$3*SUM(C58:D58) -> 0 | H58: =$H$3*SUM(F58:G58) -> 0 | I58: 19.5 | J58: 22 | K58: =$K$3*SUM(I58:J58) -> 11406.636 | M58: =E58+H58+K58+L58 -> 11406.636
A59: 56 | B59: 沙正芳 | E59: =$E$3*SUM(C59:D59) -> 0 | H59: =$H$3*SUM(F59:G59) -> 0 | I59: 10 | J59: 10 | K59: =$K$3*SUM(I59:J59) -> 5497.1741 | M59: =E59+H59+K59+L59 -> 5497.1741
A60: 57 | B60: 石敏 | C60: 9 | D60: 8 | E60: =$E$3*SUM(C60:D60) -> 2018.1722 | F60: 12 | G60: 12 | H60: =$H$3*SUM(F60:G60) -> 3994.2147 | I60: 10 | J60: 10 | K60: =$K$3*SUM(I60:J60) -> 5497.1741 | M60: =E60+H60+K60+L60 -> 11509.561
A61: 58 | B61: 田维婷 | C61: 12 | D61: 6 | E61: =$E$3*SUM(C61:D61) -> 2136.8882 | H61: =$H$3*SUM(F61:G61) -> 0 | K61: =$K$3*SUM(I61:J61) -> 0 | M61: =E61+H61+K61+L61 -> 2136.8882
A62: 59 | B62: 万饶 | C62: 8 | D62: 4 | E62: =$E$3*SUM(C62:D62) -> 1424.5921 | H62: =$H$3*SUM(F62:G62) -> 0 | K62: =$K$3*SUM(I62:J62) -> 0 | M62: =E62+H62+K62+L62 -> 1424.5921
A63: 60 | B63: 王富国 | D63: 10 | E63: =$E$3*SUM(C63:D63) -> 1187.1601 | F63: 1 | G63: 1 | H63: =$H$3*SUM(F63:G63) -> 332.85123 | K63: =$K$3*SUM(I63:J63) -> 0 | M63: =E63+H63+K63+L63 -> 1520.0113
A64: 61 | B64: 王友春 | E64: =$E$3*SUM(C64:D64) -> 0 | F64: 8 | H64: =$H$3*SUM(F64:G64) -> 1331.4049 | K64: =$K$3*SUM(I64:J64) -> 0 | M64: =E64+H64+K64+L64 -> 1331.4049
A65: 62 | B65: 吴文艺 | E65: =$E$3*SUM(C65:D65) -> 0 | F65: 8 | G65: 12 | H65: =$H$3*SUM(F65:G65) -> 3328.5123 | I65: 10 | J65: 10 | K65: =$K$3*SUM(I65:J65) -> 5497.1741 | M65: =E65+H65+K65+L65 -> 8825.6863
A66: 63 | B66: 肖锐 | C66: 6 | D66: 5 | E66: =$E$3*SUM(C66:D66) -> 1305.8761 | F66: 14 | G66: 14 | H66: =$H$3*SUM(F66:G66) -> 4659.9172 | I66: 14 | J66: 15 | K66: =$K$3*SUM(I66:J66) -> 7970.9024 | L66: 1000 | M66: =E66+H66+K66+L66 -> 14936.696
A67: 64 | B67: 熊湾 | C67: 6 | D67: 6 | E67: =$E$3*SUM(C67:D67) -> 1424.5921 | H67: =$H$3*SUM(F67:G67) -> 0 | K67: =$K$3*SUM(I67:J67) -> 0 | M67: =E67+H67+K67+L67 -> 1424.5921
A68: 65 | B68: 徐万雄 | E68: =$E$3*SUM(C68:D68) -> 0 | F68: 4.2 | G68: 16 | H68: =$H$3*SUM(F68:G68) -> 3361.7974 | I68: 16 | J68: 16 | K68: =$K$3*SUM(I68:J68) -> 8795.4785 | M68: =E68+H68+K68+L68 -> 12157.276
A69: 66 | B69: 徐志兵 | C69: 6 | D69: 10 | E69: =$E$3*SUM(C69:D69) -> 1899.4562 | F69: 12 | G69: 14 | H69: =$H$3*SUM(F69:G69) -> 4327.066 | I69: 12 | J69: 12 | K69: =$K$3*SUM(I69:J69) -> 6596.6089 | M69: =E69+H69+K69+L69 -> 12823.131
A70: 67 | B70: 央宗娜姆 | C70: 14 | D70: 14 | E70: =$E$3*SUM(C70:D70) -> 3324.0483 | F70: 16 | G70: 16 | H70: =$H$3*SUM(F70:G70) -> 5325.6197 | I70: 16 | J70: 16 | K70: =$K$3*SUM(I70:J70) -> 8795.4785 | M70: =E70+H70+K70+L70 -> 17445.146
A71: 68 | B71: 杨国芬 | C71: 9 | D71: 10 | E71: =$E$3*SUM(C71:D71) -> 2255.6042 | H71: =$H$3*SUM(F71:G71) -> 0 | K71: =$K$3*SUM(I71:J71) -> 0 | M71: =E71+H71+K71+L71 -> 2255.6042
A72: 69 | B72: 杨妮 | E72: =$E$3*SUM(C72:D72) -> 0 | F72: 15 | G72: 15 | H72: =$H$3*SUM(F72:G72) -> 4992.7684 | K72: =$K$3*SUM(I72:J72) -> 0 | M72: =E72+H72+K72+L72 -> 4992.7684
A73: 70 | B73: 杨琴 | C73: 6 | D73: 9 | E73: =$E$3*SUM(C73:D73) -> 1780.7402 | F73: 12 | G73: 14 | H73: =$H$3*SUM(F73:G73) -> 4327.066 | I73: 13.5 | J73: 13 | K73: =$K$3*SUM(I73:J73) -> 7283.7556 | L73: 1000 | M73: =E73+H73+K73+L73 -> 14391.562
A74: 71 | B74: 杨翁基之玛 | C74: 12 | D74: 5 | E74: =$E$3*SUM(C74:D74) -> 2018.1722 | F74: 14 | G74: 21 | H74: =$H$3*SUM(F74:G74) -> 5824.8965 | I74: 14 | J74: 14 | K74: =$K$3*SUM(I74:J74) -> 7696.0437 | M74: =E74+H74+K74+L74 -> 15539.112
A75: 72 | B75: 叶小军 | C75: 8 | D75: 9 | E75: =$E$3*SUM(C75:D75) -> 2018.1722 | F75: 10 | G75: 12 | H75: =$H$3*SUM(F75:G75) -> 3661.3635 | I75: 11 | J75: 11 | K75: =$K$3*SUM(I75:J75) -> 6046.8915 | L75: 2000 | M75: =E75+H75+K75+L75 -> 13726.427
A76: 73 | B76: 易涛 | C76: 12 | D76: 10 | E76: =$E$3*SUM(C76:D76) -> 2611.7522 | F76: 14 | G76: 14 | H76: =$H$3*SUM(F76:G76) -> 4659.9172 | I76: 14 | J76: 15 | K76: =$K$3*SUM(I76:J76) -> 7970.9024 | L76: 1000 | M76: =E76+H76+K76+L76 -> 16242.572
A77: 74 | B77: 尤顺芝 | C77: 9 | D77: 8 | E77: =$E$3*SUM(C77:D77) -> 2018.1722 | H77: =$H$3*SUM(F77:G77) -> 0 | K77: =$K$3*SUM(I77:J77) -> 0 | M77: =E77+H77+K77+L77 -> 2018.1722
A78: 75 | B78: 岳子琦 | C78: 6 | D78: 10 | E78: =$E$3*SUM(C78:D78) -> 1899.4562 | F78: 14 | G78: 14 | H78: =$H$3*SUM(F78:G78) -> 4659.9172 | I78: 14 | J78: 14 | K78: =$K$3*SUM(I78:J78) -> 7696.0437 | M78: =E78+H78+K78+L78 -> 14255.417
A79: 76 | B79: 张翠莲 | C79: 6 | D79: 6 | E79: =$E$3*SUM(C79:D79) -> 1424.5921 | F79: 7 | G79: 7 | H79: =$H$3*SUM(F79:G79) -> 2329.9586 | K79: =$K$3*SUM(I79:J79) -> 0 | M79: =E79+H79+K79+L79 -> 3754.5507
A80: 77 | B80: 张福琴 | C80: 12 | D80: 13 | E80: =$E$3*SUM(C80:D80) -> 2967.9003 | F80: 14 | G80: 14 | H80: =$H$3*SUM(F80:G80) -> 4659.9172 | J80: 7 | K80: =$K$3*SUM(I80:J80) -> 1924.0109 | M80: =E80+H80+K80+L80 -> 9551.8284
A81: 78 | B81: 张弘 | C81: 9 | D81: 10 | E81: =$E$3*SUM(C81:D81) -> 2255.6042 | F81: 11 | H81: =$H$3*SUM(F81:G81) -> 1830.6818 | I81: 15 | J81: 15 | K81: =$K$3*SUM(I81:J81) -> 8245.7611 | M81: =E81+H81+K81+L81 -> 12332.047
A82: 79 | B82: 张斯杰 | E82: =$E$3*SUM(C82:D82) -> 0 | H82: =$H$3*SUM(F82:G82) -> 0 | I82: 5 | J82: 5 | K82: =$K$3*SUM(I82:J82) -> 2748.587 | M82: =E82+H82+K82+L82 -> 2748.587
A83: 80 | B83: 张镇棚 | C83: 6 | D83: 5 | E83: =$E$3*SUM(C83:D83) -> 1305.8761 | H83: =$H$3*SUM(F83:G83) -> 0 | K83: =$K$3*SUM(I83:J83) -> 0 | M83: =E83+H83+K83+L83 -> 1305.8761
A84: 81 | B84: 赵刚 | D84: 5 | E84: =$E$3*SUM(C84:D84) -> 593.58005 | F84: 14 | G84: 14 | H84: =$H$3*SUM(F84:G84) -> 4659.9172 | K84: =$K$3*SUM(I84:J84) -> 0 | M84: =E84+H84+K84+L84 -> 5253.4973
A85: 82 | B85: 赵建超 | C85: 11 | D85: 8 | E85: =$E$3*SUM(C85:D85) -> 2255.6042 | F85: 9 | G85: 14 | H85: =$H$3*SUM(F85:G85) -> 3827.7891 | I85: 13 | J85: 12 | K85: =$K$3*SUM(I85:J85) -> 6871.4676 | M85: =E85+H85+K85+L85 -> 12954.861
A86: 83 | B86: 赵云川 | C86: 14 | D86: 15 | E86: =$E$3*SUM(C86:D86) -> 3442.7643 | F86: 15 | G86: 16 | H86: =$H$3*SUM(F86:G86) -> 5159.194 | I86: 17 | J86: 17 | K86: =$K$3*SUM(I86:J86) -> 9345.1959 | L86: 1000 | M86: =E86+H86+K86+L86 -> 18947.154
A87: 84 | B87: 钟海昌 | E87: =$E$3*SUM(C87:D87) -> 0 | F87: 15 | G87: 16 | H87: =$H$3*SUM(F87:G87) -> 5159.194 | K87: =$K$3*SUM(I87:J87) -> 0 | M87: =E87+H87+K87+L87 -> 5159.194
A88: 85 | B88: 周峰 | C88: 15 | D88: 14 | E88: =$E$3*SUM(C88:D88) -> 3442.7643 | F88: 16 | G88: 14 | H88: =$H$3*SUM(F88:G88) -> 4992.7684 | I88: 14 | J88: 12 | K88: =$K$3*SUM(I88:J88) -> 7146.3263 | M88: =E88+H88+K88+L88 -> 15581.859
A89: 86 | B89: 周菊明 | C89: 6 | D89: 10 | E89: =$E$3*SUM(C89:D89) -> 1899.4562 | F89: 7 | G89: 7 | H89: =$H$3*SUM(F89:G89) -> 2329.9586 | I89: 15 | J89: 15 | K89: =$K$3*SUM(I89:J89) -> 8245.7611 | L89: 1000 | M89: =E89+H89+K89+L89 -> 13475.176
A90: 87 | B90: 周时德 | C90: 5 | D90: 5.5 | E90: =$E$3*SUM(C90:D90) -> 1246.5181 | H90: =$H$3*SUM(F90:G90) -> 0 | K90: =$K$3*SUM(I90:J90) -> 0 | M90: =E90+H90+K90+L90 -> 1246.5181
A91: 88 | B91: 朱恩凡 | C91: 6 | D91: 6 | E91: =$E$3*SUM(C91:D91) -> 1424.5921 | F91: 14 | G91: 14 | H91: =$H$3*SUM(F91:G91) -> 4659.9172 | I91: 14 | J91: 14 | K91: =$K$3*SUM(I91:J91) -> 7696.0437 | M91: =E91+H91+K91+L91 -> 13780.553
A92: 89 | B92: 李瑛 | E92: =$E$3*SUM(C92:D92) -> 0 | H92: =$H$3*SUM(F92:G92) -> 0 | I92: 20.4 | J92: 24.9 | K92: =$K$3*SUM(I92:J92) -> 12451.099 | M92: =E92+H92+K92+L92 -> 12451.099
A93: 90 | B93: 朱梦清 | C93: 7 | D93: 7.5 | E93: =$E$3*SUM(C93:D93) -> 1721.3821 | H93: =$H$3*SUM(F93:G93) -> 0 | K93: =$K$3*SUM(I93:J93) -> 0 | M93: =E93+H93+K93+L93 -> 1721.3821
E94: =SUM(E4:E93) -> 149006.4 | H94: =SUM(H4:H93) -> 223509.6 | K94: =SUM(K4:K93) -> 372516 | L94: =SUM(L4:L93) -> 18000 | M94: =SUM(M4:M93) -> 763032

Sheet 2.gk_过程评价
A1: 序号 | B1: 学科 | C1: 得分 | D1: 金额/元 | E1: 备注
A2: 1 | B2: 陈光汇 | C2: 603.08721 | D2: =C2*gk_质量奖分配!$D$18/SUM($C$2:$C$77) -> 13186.054
A3: 2 | B3: 格绒燚西 | C3: 597.22921 | D3: =C3*gk_质量奖分配!$D$18/SUM($C$2:$C$77) -> 13057.973
A4: 3 | B4: 何东霖 | C4: 198.29004 | D4: =C4*gk_质量奖分配!$D$18/SUM($C$2:$C$77) -> 4335.4645
A5: 4 | B5: 肖锐 | C5: 586.13724 | D5: =C5*gk_质量奖分配!$D$18/SUM($C$2:$C$77) -> 12815.456
A6: 5 | B6: 杨翁基之玛 | C6: 595.97669 | D6: =C6*gk_质量奖分配!$D$18/SUM($C$2:$C$77) -> 13030.588
A7: 6 | B7: 易涛 | C7: 585.33056 | D7: =C7*gk_质量奖分配!$D$18/SUM($C$2:$C$77) -> 12797.818
A8: 7 | B8: 岳子琦 | C8: 605.43429 | D8: =C8*gk_质量奖分配!$D$18/SUM($C$2:$C$77) -> 13237.371
A9: 8 | B9: 周菊明 | C9: 606.06229 | D9: =C9*gk_质量奖分配!$D$18/SUM($C$2:$C$77) -> 13251.102
A10: 9 | B10: 甲阿祝玛 | C10: 209.7561 | D10: =C10*gk_质量奖分配!$D$18/SUM($C$2:$C$77) -> 4586.1614
A11: 10 | B11: 李正琪 | C11: 296.61766 | D11: =C11*gk_质量奖分配!$D$18/SUM($C$2:$C$77) -> 6485.3251
A12: 11 | B12: 刘权芳 | C12: 186.06661 | D12: =C12*gk_质量奖分配!$D$18/SUM($C$2:$C$77) -> 4068.2084
A13: 12 | B13: 刘云菊 | C13: 194.39678 | D13: =C13*gk_质量奖分配!$D$18/SUM($C$2:$C$77) -> 4250.3413
... A77: 76 | B77: 李汉林 | C77: 91.530368 | D77: =C77*gk_质量奖分配!$D$18/SUM($C$2:$C$77) -> 2001.2436
C78: =SUM(C2:C77) -> 30609.673 | D78: =C78*gk_质量奖分配!$D$18/SUM($C$2:$C$77) -> 669257.79

Sheet 3.gk_上线质量
A1: 序号 | B1: 姓名 | C1: 得分 | D1: 金额
A2: 1 | B2: 陈光汇 | C2: 255.84 | D2: =gk_质量奖分配!$D$19*C2/SUM($C$2:$C$77) -> 13764.37
A3: 2 | B3: 格绒燚西 | C3: 158.88 | D3: =gk_质量奖分配!$D$19*C3/SUM($C$2:$C$77) -> 8547.8545
A4: 3 | B4: 何东霖 | C4: 26.4 | D4: =gk_质量奖分配!$D$19*C4/SUM($C$2:$C$77) -> 1420.3384
A5: 4 | B5: 肖锐 | C5: 537.96 | D5: =gk_质量奖分配!$D$19*C5/SUM($C$2:$C$77) -> 28942.622
A6: 5 | B6: 杨翁基之玛 | C6: 178.14 | D6: =gk_质量奖分配!$D$19*C6/SUM($C$2:$C$77) -> 9584.0559
A7: 6 | B7: 易涛 | C7: 401.88 | D7: =gk_质量奖分配!$D$19*C7/SUM($C$2:$C$77) -> 21621.424
A8: 7 | B8: 岳子琦 | C8: 351.87 | D8: =gk_质量奖分配!$D$19*C8/SUM($C$2:$C$77) -> 18930.851
A9: 8 | B9: 周菊明 | C9: 698.04 | D9: =gk_质量奖分配!$D$19*C9/SUM($C$2:$C$77) -> 37555.038
A10: 9 | B10: 甲阿祝玛 | C10: 6.66 | D10: =gk_质量奖分配!$D$19*C10/SUM($C$2:$C$77) -> 358.31263
A11: 10 | B11: 李正琪 | C11: 15.3 | D11: =gk_质量奖分配!$D$19*C11/SUM($C$2:$C$77) -> 823.15065
A12: 11 | B12: 刘权芳 | C12: 50.7 | D12: =gk_质量奖分配!$D$19*C12/SUM($C$2:$C$77) -> 2727.6953
A13: 12 | B13: 刘云菊 | C13: 71.16 | D13: =gk_质量奖分配!$D$19*C13/SUM($C$2:$C$77) -> 3828.4575
... A57: 56 | B57: 万饶 | C57: 7.08 | D57: =gk_质量奖分配!$D$19*C57/SUM($C$2:$C$77) -> 380.90893
A58: 57 | B58: 高琴 | C58: =136.5+136.5/2 -> 204.75 | D58: =gk_质量奖分配!$D$19*C58/SUM($C$2:$C$77) -> 11015.692
A59: 58 | B59: 尼玛布池 | C59: =500.31+7.5/2+88.95/2 -> 548.535 | D59: =gk_质量奖分配!$D$19*C59/SUM($C$2:$C$77) -> 29511.565
A60: 59 | B60: 张弘 | C60: 431.58 | D60: =gk_质量奖分配!$D$19*C60/SUM($C$2:$C$77) -> 23219.304
A61: 60 | B61: 张斯杰 | C61: =7.5+7.5/2 -> 11.25 | D61: =gk_质量奖分配!$D$19*C61/SUM($C$2:$C$77) -> 605.25783
A62: 61 | B62: 彭桦 | C62: =373.26+225.45/2 -> 485.985 | D62: =gk_质量奖分配!$D$19*C62/SUM($C$2:$C$77) -> 26146.331
A63: 62 | B63: 喇菊 | C63: 68.88 | D63: =gk_质量奖分配!$D$19*C63/SUM($C$2:$C$77) -> 3705.7919
A64: 63 | B64: 尤顺芝 | C64: 46.98 | D64: =gk_质量奖分配!$D$19*C64/SUM($C$2:$C$77) -> 2527.5567
A65: 64 | B65: 付仁源 | C65: 21.24 | D65: =gk_质量奖分配!$D$19*C65/SUM($C$2:$C$77) -> 1142.7268
A66: 65 | B66: 胡东缘 | C66: 246.78 | D66: =gk_质量奖分配!$D$19*C66/SUM($C$2:$C$77) -> 13276.936
A67: 66 | B67: 马巫各 | C67: 352.41 | D67: =gk_质量奖分配!$D$19*C67/SUM($C$2:$C$77) -> 18959.903
A68: 67 | B68: 沙正芳 | C68: =62.7+63.15/2 -> 94.275 | D68: =gk_质量奖分配!$D$19*C68/SUM($C$2:$C$77) -> 5072.0606
A69: 68 | B69: 吴文艺 | C69: 75.78 | D69: =gk_质量奖分配!$D$19*C69/SUM($C$2:$C$77) -> 4077.0167
A70: 69 | B70: 纪春权 | C70: =117.51+63.15/2 -> 149.085 | D70: =gk_质量奖分配!$D$19*C70/SUM($C$2:$C$77) -> 8020.8767
A71: 70 | B71: 康宇峰 | C71: 22.92 | D71: =gk_质量奖分配!$D$19*C71/SUM($C$2:$C$77) -> 1233.1119
A72: 71 | B72: 邓倩 | C72: 550.5 | D72: =gk_质量奖分配!$D$19*C72/SUM($C$2:$C$77) -> 29617.283
A73: 72 | B73: 金贵 | C73: 127.2 | D73: =gk_质量奖分配!$D$19*C73/SUM($C$2:$C$77) -> 6843.4485
A74: 73 | B74: 米晓妹 | C74: 111.48 | D74: =gk_质量奖分配!$D$19*C74/SUM($C$2:$C$77) -> 5997.7016
A75: 74 | B75: 石敏 | C75: 59.64 | D75: =gk_质量奖分配!$D$19*C75/SUM($C$2:$C$77) -> 3208.6735
A76: 75 | B76: 胡柔殳 | C76: 1.2 | D76: =gk_质量奖分配!$D$19*C76/SUM($C$2:$C$77) -> 64.560835
A77: 76 | B77: 李汉林 | C77: 10.08 | D77: =gk_质量奖分配!$D$19*C77/SUM($C$2:$C$77) -> 542.31101
B78: 合计 | C78: =SUM(C2:C77) -> 16586.1 | D78: =gk_质量奖分配!$D$19*C78/SUM($C$2:$C$77) -> 892343.72

Sheet 4.gk_艺体质量
A1: 2025届艺体质量奖
B2: 文化教师考核 | D2: 专业教师考核 | E2: 合计
A3: 授课教师 | B3: 分数 | C3: 金额 | D3: 金额
A4: 曹云萍 | B4: 39.9 | C4: =B4*gk_质量奖分配!$D$16/SUM($B$4:$B$64) -> 2651.1532 | E4: =C4+D4 -> 2651.1532
A5: 陈光汇 | B5: 9.9 | C5: =B5*gk_质量奖分配!$D$16/SUM($B$4:$B$64) -> 657.80492 | E5: =C5+D5 -> 657.80492
A6: 陈国萍 | B6: 33.3 | C6: =B6*gk_质量奖分配!$D$16/SUM($B$4:$B$64) -> 2212.6166 | E6: =C6+D6 -> 2212.6166
A7: 次珍扎保 | B7: 1.2 | C7: =B7*gk_质量奖分配!$D$16/SUM($B$4:$B$64) -> 79.73393 | E7: =C7+D7 -> 79.73393
A8: 邓国华 | B8: 62.7 | C8: =B8*gk_质量奖分配!$D$16/SUM($B$4:$B$64) -> 4166.0978 | E8: =C8+D8 -> 4166.0978
A9: 邓倩 | B9: 25.5 | C9: =B9*gk_质量奖分配!$D$16/SUM($B$4:$B$64) -> 1694.346 | E9: =C9+D9 -> 1694.346
A10: 东梅 | B10: 114 | C10: =B10*gk_质量奖分配!$D$16/SUM($B$4:$B$64) -> 7574.7234 | E10: =C10+D10 -> 7574.7234
A11: 付仁源 | B11: 0.6 | C11: =B11*gk_质量奖分配!$D$16/SUM($B$4:$B$64) -> 39.866965 | E11: =C11+D11 -> 39.866965
A12: 格绒燚西 | B12: 222.6 | C12: =B12*gk_质量奖分配!$D$16/SUM($B$4:$B$64) -> 14790.644 | E12: =C12+D12 -> 14790.644
A13: 何传英 | B13: 18 | C13: =B13*gk_质量奖分配!$D$16/SUM($B$4:$B$64) -> 1196.009 | E13: =C13+D13 -> 1196.009
A14: 何东霖 | B14: 132 | C14: =B14*gk_质量奖分配!$D$16/SUM($B$4:$B$64) -> 8770.7323 | E14: =C14+D14 -> 8770.7323
A15: 胡东缘 | B15: 15.1 | C15: =B15*gk_质量奖分配!$D$16/SUM($B$4:$B$64) -> 1003.3186 | E15: =C15+D15 -> 1003.3186
... A64: 朱恩凡 | B64: 2.4 | C64: =B64*gk_质量奖分配!$D$16/SUM($B$4:$B$64) -> 159.46786 | E64: =C64+D64 -> 159.46786
A65: 邓彤 | D65: 74700 | E65: =C65+D65 -> 74700
A66: 朱梦清 | D66: 8900 | E66: =C66+D66 -> 8900
A67: 周时德 | D67: 7400 | E67: =C67+D67 -> 7400
A68: 汇总 | B68: =SUM(B4:B67) -> 3398.4 | C68: =SUM(C4:C67) -> 225806.49 | D68: =SUM(D4:D67) -> 91000 | E68: =C68+D68 -> 316806.49

Sheet 5.gk_超额目标
A1: 序号 | B1: 姓名 | C1: 得分 | D1: 金额
A2: 1 | B2: 曹云萍 | C2: 75.2 | D2: =C2*gk_质量奖分配!$D$10/SUM($C$2:$C$76) -> 3583.3901
A3: 2 | B3: 陈光汇 | C3: 60 | D3: =C3*gk_质量奖分配!$D$10/SUM($C$2:$C$76) -> 2859.0878
A4: 3 | B4: 陈国萍 | C4: 83.2 | D4: =C4*gk_质量奖分配!$D$10/SUM($C$2:$C$76) -> 3964.6018
A5: 4 | B5: 陈虎林 | C5: 12.6 | D5: =C5*gk_质量奖分配!$D$10/SUM($C$2:$C$76) -> 600.40844
A6: 5 | B6: 次珍扎保 | C6: 3 | D6: =C6*gk_质量奖分配!$D$10/SUM($C$2:$C$76) -> 142.95439
A7: 6 | B7: 崔萌 | C7: 5.4 | D7: =C7*gk_质量奖分配!$D$10/SUM($C$2:$C$76) -> 257.3179
A8: 7 | B8: 邓国华 | C8: 18 | D8: =C8*gk_质量奖分配!$D$10/SUM($C$2:$C$76) -> 857.72634
A9: 8 | B9: 邓倩 | C9: 131.8 | D9: =C9*gk_质量奖分配!$D$10/SUM($C$2:$C$76) -> 6280.4629
A10: 9 | B10: 东梅 | C10: 18 | D10: =C10*gk_质量奖分配!$D$10/SUM($C$2:$C$76) -> 857.72634
A11: 10 | B11: 杜东洋 | C11: 33.6 | D11: =C11*gk_质量奖分配!$D$10/SUM($C$2:$C$76) -> 1601.0892
A12: 11 | B12: 付仁源 | C12: 7.8 | D12: =C12*gk_质量奖分配!$D$10/SUM($C$2:$C$76) -> 371.68142
A13: 12 | B13: 格绒燚西 | C13: 46.2 | D13: =C13*gk_质量奖分配!$D$10/SUM($C$2:$C$76) -> 2201.4976
... A76: 75 | B76: 朱恩凡 | C76: 59.4 | D76: =C76*gk_质量奖分配!$D$10/SUM($C$2:$C$76) -> 2830.4969
C77: =SUM(C2:C76) -> 3525.6 | D77: =C77*gk_质量奖分配!$D$10/SUM($C$2:$C$76) -> 168000

Sheet 6.gk_年级管理
A1: 姓名 | B1: 年级管理 | C1: 班级管理 | D1: 奖金
A2: 徐万雄 | B2: 8089.76 | D2: =B2+C2 -> 8089.76
A3: 赵建超 | B3: 6002.08 | D3: =B3+C3 -> 6002.08
A4: 王友春 | B4: 2609.6 | D4: =B4+C4 -> 2609.6
A5: 降初里 | B5: 8611.68 | D5: =B5+C5 -> 8611.68
A6: 叶小军 | B6: 7828.8 | C6: 2181 | D6: =B6+C6 -> 10009.8
A7: 尼玛布池 | B7: 2609.6 | C7: 2181 | D7: =B7+C7 -> 4790.6
A8: 邱君益 | B8: 782.88 | D8: =B8+C8 -> 782.88
A9: 杜东洋 | B9: 782.88 | D9: =B9+C9 -> 782.88
A10: 东梅 | B10: 782.88 | D10: =B10+C10 -> 782.88
A11: 徐志兵 | B11: 782.88 | D11: =B11+C11 -> 782.88
A12: 彭桦 | B12: 782.88 | D12: =B12+C12 -> 782.88
A13: 李荣鑫 | C13: 2180.88 | D13: =B13+C13 -> 2180.88
A14: 易涛 | C14: 2180.88 | D14: =B14+C14 -> 2180.88
A15: 肖锐 | C15: 2180.88 | D15: =B15+C15 -> 2180.88
A16: 赵云川 | C16: 2180.88 | D16: =B16+C16 -> 2180.88
A17: 邓倩 | C17: 2180.88 | D17: =B17+C17 -> 2180.88
A18: 曹云萍 | C18: 2180.88 | D18: =B18+C18 -> 2180.88
A19: 康小平 | C19: 2180.88 | D19: =B19+C19 -> 2180.88
A20: 杨琴 | C20: 2180.88 | D20: =B20+C20 -> 2180.88
A21: 喇燕 | C21: 2180.88 | D21: =B21+C21 -> 2180.88
A22: 胡东缘 | C22: 2180.88 | D22: =B22+C22 -> 2180.88
A23: 李永会 | C23: 2180.88 | D23: =B23+C23 -> 2180.88
A24: 马俊 | C24: 2180.88 | D24: =B24+C24 -> 2180.88
... A26: 周菊明 | C26: 2180.88 | D26: =B26+C26 -> 2180.88
A27: 合计 | B27: =SUM(B2:B26) -> 39665.92 | C27: =SUM(C2:C26) -> 34894.32 | D27: =B27+C27 -> 74560.24

Sheet 7.gk_C9院校考核
A1: 奖金总额 | B1: 50000 | C1: 元
A2: 序号 | B2: 姓名 | C2: 年级管理/元 | D2: 班级管理/元 | E2: 教师考核/元 | F2: 合计
A3: 1 | B3: 降初里 | C3: =B1*0.05 -> 2500 | F3: =SUM(C3:E3) -> 2500
A4: 2 | B4: 叶小军 | D4: =B1*0.05 -> 2500 | E4: =$B$1*0.9*1/6 -> 7500 | F4: =SUM(C4:E4) -> 10000
A5: 3 | B5: 周菊明 | E5: =$B$1*0.9*1/6 -> 7500 | F5: =SUM(C5:E5) -> 7500
A6: 4 | B6: 赵云川 | E6: =$B$1*0.9*1/6 -> 7500 | F6: =SUM(C6:E6) -> 7500
A7: 5 | B7: 拉初 | E7: =$B$1*0.9*1/6 -> 7500 | F7: =SUM(C7:E7) -> 7500
A8: 6 | B8: 赵建超 | E8: =$B$1*0.9*1/6 -> 7500 | F8: =SUM(C8:E8) -> 7500
A9: 7 | B9: 彭桦 | E9: =$B$1*0.9*(1/6)*6.25/10 -> 4687.5 | F9: =SUM(C9:E9) -> 4687.5
A10: 8 | B10: 高琴 | E10: =$B$1*0.9*(1/6)*3.75/10 -> 2812.5 | F10: =SUM(C10:E10) -> 2812.5
F11: =SUM(F3:F10) -> 50000
