Workbook
Name 班主任: #REF!,#REF!,#REF!,#REF!,#REF!,#REF!
Name 单双上线: #REF!
Name 高2016级质量奖: #REF!
Name 高2017级质量奖: #REF!
Name 高2018级质量奖: #REF!
Name 过程评价奖: '2.gk_过程评价'!$B$1:$D$77
Name 基本奖: '1.gk_工作量'!$B$4:$M$93
Name 录取C9: '7.gk_C9院校考核'!$B:$F
Name 文化贡献奖: #REF!
Name 学生教师总表: #REF!
Name 总分上线: #REF!

Sheet 汇总
A1: 校长审签：
A2: 分导审签：
A3: 经办人：
A4: 木里中学（高中部）2024-2025学年度教学质量进步奖及高考奖公示
A5: 序号 | B5: 工号 | C5: 姓名 | D5: 各年级质量进步奖 | H5: 高考质量奖 | P5: 合计/元 | Q5: 实发/元 | R5: 备注
D6: 高一/元 | E6: 高二/元 | F6: 高三/元 | G6: 小计1/元 | H6: 工作量 (30%)/元 | I6: 文化质量奖(70%) | K6: 艺体质量奖(70%)/元 | L6: 超额目标奖/元 | M6: 年级管理奖/元 | N6: 录取到C9院校考核/元 | O6: 小计2/元
I7: 过程评价奖/元 | J7: 上线质量奖(总分上线)/元
A8: 1 | B8: mz024 | C8: 曹云萍 | D8: =IF(SUMIF(高一质量奖!A:A,C8,高一质量奖!B:B)>0,SUMIF(高一质量奖!A:A,C8,高一质量奖!B:B),"") | E8: =IF(SUMIF(高二进步奖!A:A,C8,高二进步奖!B:B)>0,SUMIF(高二进步奖!A:A,C8,高二进步奖!B:B),"") | F8: =IF(SUMIF(高三进步奖!A:A,C8,高三进步奖!D:D)>0,SUMIF(高三进步奖!A:A,C8,高三进步奖!D:D),"") | G8: =SUM(D8:F8) -> 0 | H8: =IF(SUMIFS('1.gk_工作量'!$M$4:$M$93,'1.gk_工作量'!$B$4:$B$93,C8)>0,SUMIFS('1.gk_工作量'!$M$4:$M$93,'1.gk_工作量'!$B$4:$B$93,C8),"") -> 18278.721 | I8: =IF(SUMIFS('2.gk_过程评价'!$D:$D,'2.gk_过程评价'!$B:$B,C8)>0,SUMIFS('2.gk_过程评价'!$D:$D,'2.gk_过程评价'!$B:$B,C8),"") -> 13040.671 | J8: =IF(SUMIF('3.gk_上线质量'!B:B,C8,'3.gk_上线质量'!D:D)<>0,SUMIF('3.gk_上线质量'!B:B,C8,'3.gk_上线质量'!D:D),"") -> 4658.0642 | K8: =IF(SUMIFS('4.gk_艺体质量'!E:E,'4.gk_艺体质量'!A:A,C8)>0,SUMIFS('4.gk_艺体质量'!E:E,'4.gk_艺体质量'!A:A,C8),"") -> 2651.1532 | L8: =IF(SUMIF('5.gk_超额目标'!B:B,C8,'5.gk_超额目标'!D:D)>0,SUMIF('5.gk_超额目标'!B:B,C8,'5.gk_超额目标'!D:D),"") -> 3583.3901 | M8: =IF(SUMIF('6.gk_年级管理'!A:A,C8,'6.gk_年级管理'!D:D)>0,SUMIF('6.gk_年级管理'!A:A,C8,'6.gk_年级管理'!D:D),"") -> 2180.88 | N8: =IF(SUMIF('7.gk_C9院校考核'!B:B,C8,'7.gk_C9院校考核'!F:F)>0,SUMIF('7.gk_C9院校考核'!B:B,C8,'7.gk_C9院校考核'!F:F),"") | O8: =SUM(H8:N8) -> 44392.88 | P8: =G8+O8 -> 44392.88 | Q8: =IF(R8="辞职发0.3",P8*0.3,P8) -> 44392.88
A9: 2 | B9: mz019 | C9: 陈光汇 | D9: =IF(SUMIF(高一质量奖!A:A,C9,高一质量奖!B:B)>0,SUMIF(高一质量奖!A:A,C9,高一质量奖!B:B),"") | E9: =IF(SUMIF(高二进步奖!A:A,C9,高二进步奖!B:B)>0,SUMIF(高二进步奖!A:A,C9,高二进步奖!B:B),"") | F9: =IF(SUMIF(高三进步奖!A:A,C9,高三进步奖!D:D)>0,SUMIF(高三进步奖!A:A,C9,高三进步奖!D:D),"") | G9: =SUM(D9:F9) -> 0 | H9: =IF(SUMIFS('1.gk_工作量'!$M$4:$M$93,'1.gk_工作量'!$B$4:$B$93,C9)>0,SUMIFS('1.gk_工作量'!$M$4:$M$93,'1.gk_工作量'!$B$4:$B$93,C9),"") -> 13661.837 | I9: =IF(SUMIFS('2.gk_过程评价'!$D:$D,'2.gk_过程评价'!$B:$B,C9)>0,SUMIFS('2.gk_过程评价'!$D:$D,'2.gk_过程评价'!$B:$B,C9),"") -> 13186.054 | J9: =IF(SUMIF('3.gk_上线质量'!B:B,C9,'3.gk_上线质量'!D:D)<>0,SUMIF('3.gk_上线质量'!B:B,C9,'3.gk_上线质量'!D:D),"") -> 13764.37 | K9: =IF(SUMIFS('4.gk_艺体质量'!E:E,'4.gk_艺体质量'!A:A,C9)>0,SUMIFS('4.gk_艺体质量'!E:E,'4.gk_艺体质量'!A:A,C9),"") -> 657.80492 | L9: =IF(SUMIF('5.gk_超额目标'!B:B,C9,'5.gk_超额目标'!D:D)>0,SUMIF('5.gk_超额目标'!B:B,C9,'5.gk_超额目标'!D:D),"") -> 2859.0878 | M9: =IF(SUMIF('6.gk_年级管理'!A:A,C9,'6.gk_年级管理'!D:D)>0,SUMIF('6.gk_年级管理'!A:A,C9,'6.gk_年级管理'!D:D),"") | N9: =IF(SUMIF('7.gk_C9院校考核'!B:B,C9,'7.gk_C9院校考核'!F:F)>0,SUMIF('7.gk_C9院校考核'!B:B,C9,'7.gk_C9院校考核'!F:F),"") | O9: =SUM(H9:N9) -> 44129.154 | P9: =G9+O9 -> 44129.154 | Q9: =IF(R9="辞职发0.3",P9*0.3,P9) -> 44129.154
A10: 3 | B10: mz033 | C10: 陈国萍 | D10: =IF(SUMIF(高一质量奖!A:A,C10,高一质量奖!B:B)>0,SUMIF(高一质量奖!A:A,C10,高一质量奖!B:B),"") | E10: =IF(SUMIF(高二进步奖!A:A,C10,高二进步奖!B:B)>0,SUMIF(高二进步奖!A:A,C10,高二进步奖!B:B),"") | F10: =IF(SUMIF(高三进步奖!A:A,C10,高三进步奖!D:D)>0,SUMIF(高三进步奖!A:A,C10,高三进步奖!D:D),"") | G10: =SUM(D10:F10) -> 0 | H10: =IF(SUMIFS('1.gk_工作量'!$M$4:$M$93,'1.gk_工作量'!$B$4:$B$93,C10)>0,SUMIFS('1.gk_工作量'!$M$4:$M$93,'1.gk_工作量'!$B$4:$B$93,C10),"") -> 18506.181 | I10: =IF(SUMIFS('2.gk_过程评价'!$D:$D,'2.gk_过程评价'!$B:$B,C10)>0,SUMIFS('2.gk_过程评价'!$D:$D,'2.gk_过程评价'!$B:$B,C10),"") -> 12962.151 | J10: =IF(SUMIF('3.gk_上线质量'!B:B,C10,'3.gk_上线质量'!D:D)<>0,SUMIF('3.gk_上线质量'!B:B,C10,'3.gk_上线质量'!D:D),"") -> 4893.7113 | K10: =IF(SUMIFS('4.gk_艺体质量'!E:E,'4.gk_艺体质量'!A:A,C10)>0,SUMIFS('4.gk_艺体质量'!E:E,'4.gk_艺体质量'!A:A,C10),"") -> 2212.6166 | L10: =IF(SUMIF('5.gk_超额目标'!B:B,C10,'5.gk_超额目标'!D:D)>0,SUMIF('5.gk_超额目标'!B:B,C10,'5.gk_超额目标'!D:D),"") -> 3964.6018 | M10: =IF(SUMIF('6.gk_年级管理'!A:A,C10,'6.gk_年级管理'!D:D)>0,SUMIF('6.gk_年级管理'!A:A,C10,'6.gk_年级管理'!D:D),"") | N10: =IF(SUMIF('7.gk_C9院校考核'!B:B,C10,'7.gk_C9院校考核'!F:F)>0,SUMIF('7.gk_C9院校考核'!B:B,C10,'7.gk_C9院校考核'!F:F),"") | O10: =SUM(H10:N10) -> 42539.261 | P10: =G10+O10 -> 42539.261 | Q10: =IF(R10="辞职发0.3",P10*0.3,P10) -> 42539.261
A11: 4 | B11: mz027 | C11: 陈虎林 | D11: =IF(SUMIF(高一质量奖!A:A,C11,高一质量奖!B:B)>0,SUMIF(高一质量奖!A:A,C11,高一质量奖!B:B),"") | E11: =IF(SUMIF(高二进步奖!A:A,C11,高二进步奖!B:B)>0,SUMIF(高二进步奖!A:A,C11,高二进步奖!B:B),"") | F11: =IF(SUMIF(高三进步奖!A:A,C11,高三进步奖!D:D)>0,SUMIF(高三进步奖!A:A,C11,高三进步奖!D:D),"") | G11: =SUM(D11:F11) -> 0 | H11: =IF(SUMIFS('1.gk_工作量'!$M$4:$M$93,'1.gk_工作量'!$B$4:$B$93,C11)>0,SUMIFS('1.gk_工作量'!$M$4:$M$93,'1.gk_工作量'!$B$4:$B$93,C11),"") -> 1246.5181 | I11: =IF(SUMIFS('2.gk_过程评价'!$D:$D,'2.gk_过程评价'!$B:$B,C11)>0,SUMIFS('2.gk_过程评价'!$D:$D,'2.gk_过程评价'!$B:$B,C11),"") -> 2110.6286 | J11: =IF(SUMIF('3.gk_上线质量'!B:B,C11,'3.gk_上线质量'!D:D)<>0,SUMIF('3.gk_上线质量'!B:B,C11,'3.gk_上线质量'!D:D),"") -> 926.44798 | K11: =IF(SUMIFS('4.gk_艺体质量'!E:E,'4.gk_艺体质量'!A:A,C11)>0,SUMIFS('4.gk_艺体质量'!E:E,'4.gk_艺体质量'!A:A,C11),"") | L11: =IF(SUMIF('5.gk_超额目标'!B:B,C11,'5.gk_超额目标'!D:D)>0,SUMIF('5.gk_超额目标'!B:B,C11,'5.gk_超额目标'!D:D),"") -> 600.40844 | M11: =IF(SUMIF('6.gk_年级管理'!A:A,C11,'6.gk_年级管理'!D:D)>0,SUMIF('6.gk_年级管理'!A:A,C11,'6.gk_年级管理'!D:D),"") | N11: =IF(SUMIF('7.gk_C9院校考核'!B:B,C11,'7.gk_C9院校考核'!F:F)>0,SUMIF('7.gk_C9院校考核'!B:B,C11,'7.gk_C9院校考核'!F:F),"") | O11: =SUM(H11:N11) -> 4884.0031 | P11: =G11+O11 -> 4884.0031 | Q11: =IF(R11="辞职发0.3",P11*0.3,P11) -> 4884.0031
A12: 5 | C12: 次珍扎保 | D12: =IF(SUMIF(高一质量奖!A:A,C12,高一质量奖!B:B)>0,SUMIF(高一质量奖!A:A,C12,高一质量奖!B:B),"") | E12: =IF(SUMIF(高二进步奖!A:A,C12,高二进步奖!B:B)>0,SUMIF(高二进步奖!A:A,C12,高二进步奖!B:B),"") | F12: =IF(SUMIF(高三进步奖!A:A,C12,高三进步奖!D:D)>0,SUMIF(高三进步奖!A:A,C12,高三进步奖!D:D),"") | G12: =SUM(D12:F12) -> 0 | H12: =IF(SUMIFS('1.gk_工作量'!$M$4:$M$93,'1.gk_工作量'!$B$4:$B$93,C12)>0,SUMIFS('1.gk_工作量'!$M$4:$M$93,'1.gk_工作量'!$B$4:$B$93,C12),"") -> 1187.1601 | I12: =IF(SUMIFS('2.gk_过程评价'!$D:$D,'2.gk_过程评价'!$B:$B,C12)>0,SUMIFS('2.gk_过程评价'!$D:$D,'2.gk_过程评价'!$B:$B,C12),"") -> 2200.9843 | J12: =IF(SUMIF('3.gk_上线质量'!B:B,C12,'3.gk_上线质量'!D:D)<>0,SUMIF('3.gk_上线质量'!B:B,C12,'3.gk_上线质量'!D:D),"") -> 1158.867 | K12: =IF(SUMIFS('4.gk_艺体质量'!E:E,'4.gk_艺体质量'!A:A,C12)>0,SUMIFS('4.gk_艺体质量'!E:E,'4.gk_艺体质量'!A:A,C12),"") -> 79.73393 | L12: =IF(SUMIF('5.gk_超额目标'!B:B,C12,'5.gk_超额目标'!D:D)>0,SUMIF('5.gk_超额目标'!B:B,C12,'5.gk_超额目标'!D:D),"") -> 142.95439 | M12: =IF(SUMIF('6.gk_年级管理'!A:A,C12,'6.gk_年级管理'!D:D)>0,SUMIF('6.gk_年级管理'!A:A,C12,'6.gk_年级管理'!D:D),"") | N12: =IF(SUMIF('7.gk_C9院校考核'!B:B,C12,'7.gk_C9院校考核'!F:F)>0,SUMIF('7.gk_C9院校考核'!B:B,C12,'7.gk_C9院校考核'!F:F),"") | O12: =SUM(H12:N12) -> 4769.6997 | P12: =G12+O12 -> 4769.6997 | Q12: =IF(R12="辞职发0.3",P12*0.3,P12) -> 1430.9099 | R12: 辞职发0.3
A13: 6 | B13: mz048 | C13: 崔萌 | D13: =IF(SUMIF(高一质量奖!A:A,C13,高一质量奖!B:B)>0,SUMIF(高一质量奖!A:A,C13,高一质量奖!B:B),"") | E13: =IF(SUMIF(高二进步奖!A:A,C13,高二进步奖!B:B)>0,SUMIF(高二进步奖!A:A,C13,高二进步奖!B:B),"") | F13: =IF(SUMIF(高三进步奖!A:A,C13,高三进步奖!D:D)>0,SUMIF(高三进步奖!A:A,C13,高三进步奖!D:D),"") | G13: =SUM(D13:F13) -> 0 | H13: =IF(SUMIFS('1.gk_工作量'!$M$4:$M$93,'1.gk_工作量'!$B$4:$B$93,C13)>0,SUMIFS('1.gk_工作量'!$M$4:$M$93,'1.gk_工作量'!$B$4:$B$93,C13),"") -> 1424.5921 | I13: =IF(SUMIFS('2.gk_过程评价'!$D:$D,'2.gk_过程评价'!$B:$B,C13)>0,SUMIFS('2.gk_过程评价'!$D:$D,'2.gk_过程评价'!$B:$B,C13),"") -> 1837.5712 | J13: =IF(SUMIF('3.gk_上线质量'!B:B,C13,'3.gk_上线质量'!D:D)<>0,SUMIF('3.gk_上线质量'!B:B,C13,'3.gk_上线质量'!D:D),"") -> 1197.6035 | K13: =IF(SUMIFS('4.gk_艺体质量'!E:E,'4.gk_艺体质量'!A:A,C13)>0,SUMIFS('4.gk_艺体质量'!E:E,'4.gk_艺体质量'!A:A,C13),"") | L13: =IF(SUMIF('5.gk_超额目标'!B:B,C13,'5.gk_超额目标'!D:D)>0,SUMIF('5.gk_超额目标'!B:B,C13,'5.gk_超额目标'!D:D),"") -> 257.3179 | M13: =IF(SUMIF('6.gk_年级管理'!A:A,C13,'6.gk_年级管理'!D:D)>0,SUMIF('6.gk_年级管理'!A:A,C13,'6.gk_年级管理'!D:D),"") | N13: =IF(SUMIF('7.gk_C9院校考核'!B:B,C13,'7.gk_C9院校考核'!F:F)>0,SUMIF('7.gk_C9院校考核'!B:B,C13,'7.gk_C9院校考核'!F:F),"") | O13: =SUM(H13:N13) -> 4717.0847 | P13: =G13+O13 -> 4717.0847 | Q13: =IF(R13="辞职发0.3",P13*0.3,P13) -> 4717.0847
A14: 7 | B14: mz075 | C14: 旦珠拉初 | D14: =IF(SUMIF(高一质量奖!A:A,C14,高一质量奖!B:B)>0,SUMIF(高一质量奖!A:A,C14,高一质量奖!B:B),"") | E14: =IF(SUMIF(高二进步奖!A:A,C14,高二进步奖!B:B)>0,SUMIF(高二进步奖!A:A,C14,高二进步奖!B:B),"") | F14: =IF(SUMIF(高三进步奖!A:A,C14,高三进步奖!D:D)>0,SUMIF(高三进步奖!A:A,C14,高三进步奖!D:D),"") | G14: =SUM(D14:F14) -> 0 | H14: =IF(SUMIFS('1.gk_工作量'!$M$4:$M$93,'1.gk_工作量'!$B$4:$B$93,C14)>0,SUMIFS('1.gk_工作量'!$M$4:$M$93,'1.gk_工作量'!$B$4:$B$93,C14),"") -> 7746.5335 | I14: =IF(SUMIFS('2.gk_过程评价'!$D:$D,'2.gk_过程评价'!$B:$B,C14)>0,SUMIFS('2.gk_过程评价'!$D:$D,'2.gk_过程评价'!$B:$B,C14),"") | J14: =IF(SUMIF('3.gk_上线质量'!B:B,C14,'3.gk_上线质量'!D:D)<>0,SUMIF('3.gk_上线质量'!B:B,C14,'3.gk_上线质量'!D:D),"") | K14: =IF(SUMIFS('4.gk_艺体质量'!E:E,'4.gk_艺体质量'!A:A,C14)>0,SUMIFS('4.gk_艺体质量'!E:E,'4.gk_艺体质量'!A:A,C14),"") | L14: =IF(SUMIF('5.gk_超额目标'!B:B,C14,'5.gk_超额目标'!D:D)>0,SUMIF('5.gk_超额目标'!B:B,C14,'5.gk_超额目标'!D:D),"") | M14: =IF(SUMIF('6.gk_年级管理'!A:A,C14,'6.gk_年级管理'!D:D)>0,SUMIF('6.gk_年级管理'!A:A,C14,'6.gk_年级管理'!D:D),"") | N14: =IF(SUMIF('7.gk_C9院校考核'!B:B,C14,'7.gk_C9院校考核'!F:F)>0,SUMIF('7.gk_C9院校考核'!B:B,C14,'7.gk_C9院校考核'!F:F),"") | O14: =SUM(H14:N14) -> 7746.5335 | P14: =G14+O14 -> 7746.5335 | Q14: =IF(R14="辞职发0.3",P14*0.3,P14) -> 7746.5335
A15: 8 | C15: 邓国华 | D15: =IF(SUMIF(高一质量奖!A:A,C15,高一质量奖!B:B)>0,SUMIF(高一质量奖!A:A,C15,高一质量奖!B:B),"") | E15: =IF(SUMIF(高二进步奖!A:A,C15,高二进步奖!B:B)>0,SUMIF(高二进步奖!A:A,C15,高二进步奖!B:B),"") | F15: =IF(SUMIF(高三进步奖!A:A,C15,高三进步奖!D:D)>0,SUMIF(高三进步奖!A:A,C15,高三进步奖!D:D),"") | G15: =SUM(D15:F15) -> 0 | H15: =IF(SUMIFS('1.gk_工作量'!$M$4:$M$93,'1.gk_工作量'!$B$4:$B$93,C15)>0,SUMIFS('1.gk_工作量'!$M$4:$M$93,'1.gk_工作量'!$B$4:$B$93,C15),"") -> 3442.7643 | I15: =IF(SUMIFS('2.gk_过程评价'!$D:$D,'2.gk_过程评价'!$B:$B,C15)>0,SUMIFS('2.gk_过程评价'!$D:$D,'2.gk_过程评价'!$B:$B,C15),"") -> 4009.4701 | J15: =IF(SUMIF('3.gk_上线质量'!B:B,C15,'3.gk_上线质量'!D:D)<>0,SUMIF('3.gk_上线质量'!B:B,C15,'3.gk_上线质量'!D:D),"") -> 3537.9338 | K15: =IF(SUMIFS('4.gk_艺体质量'!E:E,'4.gk_艺体质量'!A:A,C15)>0,SUMIFS('4.gk_艺体质量'!E:E,'4.gk_艺体质量'!A:A,C15),"") -> 4166.0978 | L15: =IF(SUMIF('5.gk_超额目标'!B:B,C15,'5.gk_超额目标'!D:D)>0,SUMIF('5.gk_超额目标'!B:B,C15,'5.gk_超额目标'!D:D),"") -> 857.72634 | M15: =IF(SUMIF('6.gk_年级管理'!A:A,C15,'6.gk_年级管理'!D:D)>0,SUMIF('6.gk_年级管理'!A:A,C15,'6.gk_年级管理'!D:D),"") | N15: =IF(SUMIF('7.gk_C9院校考核'!B:B,C15,'7.gk_C9院校考核'!F:F)>0,SUMIF('7.gk_C9院校考核'!B:B,C15,'7.gk_C9院校考核'!F:F),"") | O15: =SUM(H15:N15) -> 16013.992 | P15: =G15+O15 -> 16013.992 | Q15: =IF(R15="辞职发0.3",P15*0.3,P15) -> 4804.1977 | R15: 辞职发0.3
A16: 9 | B16: mz115 | C16: 邓彤 | H16: =IF(SUMIFS('1.gk_工作量'!$M$4:$M$93,'1.gk_工作量'!$B$4:$B$93,C16)>0,SUMIFS('1.gk_工作量'!$M$4:$M$93,'1.gk_工作量'!$B$4:$B$93,C16),"") | I16: =IF(SUMIFS('2.gk_过程评价'!$D:$D,'2.gk_过程评价'!$B:$B,C16)>0,SUMIFS('2.gk_过程评价'!$D:$D,'2.gk_过程评价'!$B:$B,C16),"") | J16: =IF(SUMIF('3.gk_上线质量'!B:B,C16,'3.gk_上线质量'!D:D)<>0,SUMIF('3.gk_上线质量'!B:B,C16,'3.gk_上线质量'!D:D),"") | K16: =IF(SUMIFS('4.gk_艺体质量'!E:E,'4.gk_艺体质量'!A:A,C16)>0,SUMIFS('4.gk_艺体质量'!E:E,'4.gk_艺体质量'!A:A,C16),"") -> 74700 | L16: =IF(SUMIF('5.gk_超额目标'!B:B,C16,'5.gk_超额目标'!D:D)>0,SUMIF('5.gk_超额目标'!B:B,C16,'5.gk_超额目标'!D:D),"") | M16: =IF(SUMIF('6.gk_年级管理'!A:A,C16,'6.gk_年级管理'!D:D)>0,SUMIF('6.gk_年级管理'!A:A,C16,'6.gk_年级管理'!D:D),"") | N16: =IF(SUMIF('7.gk_C9院校考核'!B:B,C16,'7.gk_C9院校考核'!F:F)>0,SUMIF('7.gk_C9院校考核'!B:B,C16,'7.gk_C9院校考核'!F:F),"") | O16: =SUM(H16:N16) -> 74700 | P16: =G16+O16 -> 74700 | Q16: =IF(R16="辞职发0.3",P16*0.3,P16) -> 74700 | R16: =IF(SUMIFS('4.gk_艺体质量'!K:K,'4.gk_艺体质量'!G:G,I16)>0,SUMIFS('4.gk_艺体质量'!K:K,'4.gk_艺体质量'!G:G,I16),"")
A17: 10 | B17: mz065 | C17: 邓倩 | D17: =IF(SUMIF(高一质量奖!A:A,C17,高一质量奖!B:B)>0,SUMIF(高一质量奖!A:A,C17,高一质量奖!B:B),"") | E17: =IF(SUMIF(高二进步奖!A:A,C17,高二进步奖!B:B)>0,SUMIF(高二进步奖!A:A,C17,高二进步奖!B:B),"") | F17: =IF(SUMIF(高三进步奖!A:A,C17,高三进步奖!D:D)>0,SUMIF(高三进步奖!A:A,C17,高三进步奖!D:D),"") | G17: =SUM(D17:F17) -> 0 | H17: =IF(SUMIFS('1.gk_工作量'!$M$4:$M$93,'1.gk_工作量'!$B$4:$B$93,C17)>0,SUMIFS('1.gk_工作量'!$M$4:$M$93,'1.gk_工作量'!$B$4:$B$93,C17),"") -> 12963.859 | I17: =IF(SUMIFS('2.gk_过程评价'!$D:$D,'2.gk_过程评价'!$B:$B,C17)>0,SUMIFS('2.gk_过程评价'!$D:$D,'2.gk_过程评价'!$B:$B,C17),"") -> 13293.301 | J17: =IF(SUMIF('3.gk_上线质量'!B:B,C17,'3.gk_上线质量'!D:D)<>0,SUMIF('3.gk_上线质量'!B:B,C17,'3.gk_上线质量'!D:D),"") -> 29617.283 | K17: =IF(SUMIFS('4.gk_艺体质量'!E:E,'4.gk_艺体质量'!A:A,C17)>0,SUMIFS('4.gk_艺体质量'!E:E,'4.gk_艺体质量'!A:A,C17),"") -> 1694.346 | L17: =IF(SUMIF('5.gk_超额目标'!B:B,C17,'5.gk_超额目标'!D:D)>0,SUMIF('5.gk_超额目标'!B:B,C17,'5.gk_超额目标'!D:D),"") -> 6280.4629 | M17: =IF(SUMIF('6.gk_年级管理'!A:A,C17,'6.gk_年级管理'!D:D)>0,SUMIF('6.gk_年级管理'!A:A,C17,'6.gk_年级管理'!D:D),"") -> 2180.88 | N17: =IF(SUMIF('7.gk_C9院校考核'!B:B,C17,'7.gk_C9院校考核'!F:F)>0,SUMIF('7.gk_C9院校考核'!B:B,C17,'7.gk_C9院校考核'!F:F),"") | O17: =SUM(H17:N17) -> 66030.133 | P17: =G17+O17 -> 66030.133 | Q17: =IF(R17="辞职发0.3",P17*0.3,P17) -> 66030.133
A18: 11 | B18: mz096 | C18: 东梅 | D18: =IF(SUMIF(高一质量奖!A:A,C18,高一质量奖!B:B)>0,SUMIF(高一质量奖!A:A,C18,高一质量奖!B:B),"") | E18: =IF(SUMIF(高二进步奖!A:A,C18,高二进步奖!B:B)>0,SUMIF(高二进步奖!A:A,C18,高二进步奖!B:B),"") | F18: =IF(SUMIF(高三进步奖!A:A,C18,高三进步奖!D:D)>0,SUMIF(高三进步奖!A:A,C18,高三进步奖!D:D),"") | G18: =SUM(D18:F18) -> 0 | H18: =IF(SUMIFS('1.gk_工作量'!$M$4:$M$93,'1.gk_工作量'!$B$4:$B$93,C18)>0,SUMIFS('1.gk_工作量'!$M$4:$M$93,'1.gk_工作量'!$B$4:$B$93,C18),"") -> 7696.0437 | I18: =IF(SUMIFS('2.gk_过程评价'!$D:$D,'2.gk_过程评价'!$B:$B,C18)>0,SUMIFS('2.gk_过程评价'!$D:$D,'2.gk_过程评价'!$B:$B,C18),"") -> 4293.7856 | J18: =IF(SUMIF('3.gk_上线质量'!B:B,C18,'3.gk_上线质量'!D:D)<>0,SUMIF('3.gk_上线质量'!B:B,C18,'3.gk_上线质量'!D:D),"") -> 6795.0279 | K18: =IF(SUMIFS('4.gk_艺体质量'!E:E,'4.gk_艺体质量'!A:A,C18)>0,SUMIFS('4.gk_艺体质量'!E:E,'4.gk_艺体质量'!A:A,C18),"") -> 7574.7234 | L18: =IF(SUMIF('5.gk_超额目标'!B:B,C18,'5.gk_超额目标'!D:D)>0,SUMIF('5.gk_超额目标'!B:B,C18,'5.gk_超额目标'!D:D),"") -> 857.72634 | M18: =IF(SUMIF('6.gk_年级管理'!A:A,C18,'6.gk_年级管理'!D:D)>0,SUMIF('6.gk_年级管理'!A:A,C18,'6.gk_年级管理'!D:D),"") -> 782.88 | N18: =IF(SUMIF('7.gk_C9院校考核'!B:B,C18,'7.gk_C9院校考核'!F:F)>0,SUMIF('7.gk_C9院校考核'!B:B,C18,'7.gk_C9院校考核'!F:F),"") | O18: =SUM(H18:N18) -> 28000.187 | P18: =G18+O18 -> 28000.187 | Q18: =IF(R18="辞职发0.3",P18*0.3,P18) -> 28000.187
A19: 12 | B19: mz089 | C19: 杜东洋 | D19: =IF(SUMIF(高一质量奖!A:A,C19,高一质量奖!B:B)>0,SUMIF(高一质量奖!A:A,C19,高一质量奖!B:B),"") | E19: =IF(SUMIF(高二进步奖!A:A,C19,高二进步奖!B:B)>0,SUMIF(高二进步奖!A:A,C19,高二进步奖!B:B),"") | F19: =IF(SUMIF(高三进步奖!A:A,C19,高三进步奖!D:D)>0,SUMIF(高三进步奖!A:A,C19,高三进步奖!D:D),"") | G19: =SUM(D19:F19) -> 0 | H19: =IF(SUMIFS('1.gk_工作量'!$M$4:$M$93,'1.gk_工作量'!$B$4:$B$93,C19)>0,SUMIFS('1.gk_工作量'!$M$4:$M$93,'1.gk_工作量'!$B$4:$B$93,C19),"") -> 11458.288 | I19: =IF(SUMIFS('2.gk_过程评价'!$D:$D,'2.gk_过程评价'!$B:$B,C19)>0,SUMIFS('2.gk_过程评价'!$D:$D,'2.gk_过程评价'!$B:$B,C19),"") -> 4426.5808 | J19: =IF(SUMIF('3.gk_上线质量'!B:B,C19,'3.gk_上线质量'!D:D)<>0,SUMIF('3.gk_上线质量'!B:B,C19,'3.gk_上线质量'!D:D),"") -> 19917.018 | K19: =IF(SUMIFS('4.gk_艺体质量'!E:E,'4.gk_艺体质量'!A:A,C19)>0,SUMIFS('4.gk_艺体质量'!E:E,'4.gk_艺体质量'!A:A,C19),"") | L19: =IF(SUMIF('5.gk_超额目标'!B:B,C19,'5.gk_超额目标'!D:D)>0,SUMIF('5.gk_超额目标'!B:B,C19,'5.gk_超额目标'!D:D),"") -> 1601.0892 | M19: =IF(SUMIF('6.gk_年级管理'!A:A,C19,'6.gk_年级管理'!D:D)>0,SUMIF('6.gk_年级管理'!A:A,C19,'6.gk_年级管理'!D:D),"") -> 782.88 | N19: =IF(SUMIF('7.gk_C9院校考核'!B:B,C19,'7.gk_C9院校考核'!F:F)>0,SUMIF('7.gk_C9院校考核'!B:B,C19,'7.gk_C9院校考核'!F:F),"") | O19: =SUM(H19:N19) -> 38185.856 | P19: =G19+O19 -> 38185.856 | Q19: =IF(R19="辞职发0.3",P19*0.3,P19) -> 38185.856
A20: 13 | B20: mz148 | C20: 付仁源 | D20: =IF(SUMIF(高一质量奖!A:A,C20,高一质量奖!B:B)>0,SUMIF(高一质量奖!A:A,C20,高一质量奖!B:B),"") | E20: =IF(SUMIF(高二进步奖!A:A,C20,高二进步奖!B:B)>0,SUMIF(高二进步奖!A:A,C20,高二进步奖!B:B),"") | F20: =IF(SUMIF(高三进步奖!A:A,C20,高三进步奖!D:D)>0,SUMIF(高三进步奖!A:A,C20,高三进步奖!D:D),"") | G20: =SUM(D20:F20) -> 0 | H20: =IF(SUMIFS('1.gk_工作量'!$M$4:$M$93,'1.gk_工作量'!$B$4:$B$93,C20)>0,SUMIFS('1.gk_工作量'!$M$4:$M$93,'1.gk_工作量'!$B$4:$B$93,C20),"") -> 712.29606 | I20: =IF(SUMIFS('2.gk_过程评价'!$D:$D,'2.gk_过程评价'!$B:$B,C20)>0,SUMIFS('2.gk_过程评价'!$D:$D,'2.gk_过程评价'!$B:$B,C20),"") -> 2059.2836 | J20: =IF(SUMIF('3.gk_上线质量'!B:B,C20,'3.gk_上线质量'!D:D)<>0,SUMIF('3.gk_上线质量'!B:B,C20,'3.gk_上线质量'!D:D),"") -> 1142.7268 | K20: =IF(SUMIFS('4.gk_艺体质量'!E:E,'4.gk_艺体质量'!A:A,C20)>0,SUMIFS('4.gk_艺体质量'!E:E,'4.gk_艺体质量'!A:A,C20),"") -> 39.866965 | L20: =IF(SUMIF('5.gk_超额目标'!B:B,C20,'5.gk_超额目标'!D:D)>0,SUMIF('5.gk_超额目标'!B:B,C20,'5.gk_超额目标'!D:D),"") -> 371.68142 | M20: =IF(SUMIF('6.gk_年级管理'!A:A,C20,'6.gk_年级管理'!D:D)>0,SUMIF('6.gk_年级管理'!A:A,C20,'6.gk_年级管理'!D:D),"") | N20: =IF(SUMIF('7.gk_C9院校考核'!B:B,C20,'7.gk_C9院校考核'!F:F)>0,SUMIF('7.gk_C9院校考核'!B:B,C20,'7.gk_C9院校考核'!F:F),"") | O20: =SUM(H20:N20) -> 4325.8549 | P20: =G20+O20 -> 4325.8549 | Q20: =IF(R20="辞职发0.3",P20*0.3,P20) -> 4325.8549
A21: 14 | B21: mz106 | C21: 高琴 | D21: =IF(SUMIF(高一质量奖!A:A,C21,高一质量奖!B:B)>0,SUMIF(高一质量奖!A:A,C21,高一质量奖!B:B),"") | E21: =IF(SUMIF(高二进步奖!A:A,C21,高二进步奖!B:B)>0,SUMIF(高二进步奖!A:A,C21,高二进步奖!B:B),"") | F21: =IF(SUMIF(高三进步奖!A:A,C21,高三进步奖!D:D)>0,SUMIF(高三进步奖!A:A,C21,高三进步奖!D:D),"") | G21: =SUM(D21:F21) -> 0 | H21: =IF(SUMIFS('1.gk_工作量'!$M$4:$M$93,'1.gk_工作量'!$B$4:$B$93,C21)>0,SUMIFS('1.gk_工作量'!$M$4:$M$93,'1.gk_工作量'!$B$4:$B$93,C21),"") -> 2748.587 | I21: =IF(SUMIFS('2.gk_过程评价'!$D:$D,'2.gk_过程评价'!$B:$B,C21)>0,SUMIFS('2.gk_过程评价'!$D:$D,'2.gk_过程评价'!$B:$B,C21),"") -> 3305.8459 | J21: =IF(SUMIF('3.gk_上线质量'!B:B,C21,'3.gk_上线质量'!D:D)<>0,SUMIF('3.gk_上线质量'!B:B,C21,'3.gk_上线质量'!D:D),"") -> 11015.692 | K21: =IF(SUMIFS('4.gk_艺体质量'!E:E,'4.gk_艺体质量'!A:A,C21)>0,SUMIFS('4.gk_艺体质量'!E:E,'4.gk_艺体质量'!A:A,C21),"") | L21: =IF(SUMIF('5.gk_超额目标'!B:B,C21,'5.gk_超额目标'!D:D)>0,SUMIF('5.gk_超额目标'!B:B,C21,'5.gk_超额目标'!D:D),"") | M21: =IF(SUMIF('6.gk_年级管理'!A:A,C21,'6.gk_年级管理'!D:D)>0,SUMIF('6.gk_年级管理'!A:A,C21,'6.gk_年级管理'!D:D),"") | N21: =IF(SUMIF('7.gk_C9院校考核'!B:B,C21,'7.gk_C9院校考核'!F:F)>0,SUMIF('7.gk_C9院校考核'!B:B,C21,'7.gk_C9院校考核'!F:F),"") -> 2812.5 | O21: =SUM(H21:N21) -> 19882.625 | P21: =G21+O21 -> 19882.625 | Q21: =IF(R21="辞职发0.3",P21*0.3,P21) -> 19882.625
A22: 15 | B22: mz013 | C22: 格绒燚西 | D22: =IF(SUMIF(高一质量奖!A:A,C22,高一质量奖!B:B)>0,SUMIF(高一质量奖!A:A,C22,高一质量奖!B:B),"") | E22: =IF(SUMIF(高二进步奖!A:A,C22,高二进步奖!B:B)>0,SUMIF(高二进步奖!A:A,C22,高二进步奖!B:B),"") | F22: =IF(SUMIF(高三进步奖!A:A,C22,高三进步奖!D:D)>0,SUMIF(高三进步奖!A:A,C22,高三进步奖!D:D),"") | G22: =SUM(D22:F22) -> 0 | H22: =IF(SUMIFS('1.gk_工作量'!$M$4:$M$93,'1.gk_工作量'!$B$4:$B$93,C22)>0,SUMIFS('1.gk_工作量'!$M$4:$M$93,'1.gk_工作量'!$B$4:$B$93,C22),"") -> 14967.713 | I22: =IF(SUMIFS('2.gk_过程评价'!$D:$D,'2.gk_过程评价'!$B:$B,C22)>0,SUMIFS('2.gk_过程评价'!$D:$D,'2.gk_过程评价'!$B:$B,C22),"") -> 13057.973 | J22: =IF(SUMIF('3.gk_上线质量'!B:B,C22,'3.gk_上线质量'!D:D)<>0,SUMIF('3.gk_上线质量'!B:B,C22,'3.gk_上线质量'!D:D),"") -> 8547.8545 | K22: =IF(SUMIFS('4.gk_艺体质量'!E:E,'4.gk_艺体质量'!A:A,C22)>0,SUMIFS('4.gk_艺体质量'!E:E,'4.gk_艺体质量'!A:A,C22),"") -> 14790.644 | L22: =IF(SUMIF('5.gk_超额目标'!B:B,C22,'5.gk_超额目标'!D:D)>0,SUMIF('5.gk_超额目标'!B:B,C22,'5.gk_超额目标'!D:D),"") -> 2201.4976 | M22: =IF(SUMIF('6.gk_年级管理'!A:A,C22,'6.gk_年级管理'!D:D)>0,SUMIF('6.gk_年级管理'!A:A,C22,'6.gk_年级管理'!D:D),"") | N22: =IF(SUMIF('7.gk_C9院校考核'!B:B,C22,'7.gk_C9院校考核'!F:F)>0,SUMIF('7.gk_C9院校考核'!B:B,C22,'7.gk_C9院校考核'!F:F),"") | O22: =SUM(H22:N22) -> 53565.683 | P22: =G22+O22 -> 53565.683 | Q22: =IF(R22="辞职发0.3",P22*0.3,P22) -> 53565.683
A23: 16 | B23: mz176 | C23: 何传英 | D23: =IF(SUMIF(高一质量奖!A:A,C23,高一质量奖!B:B)>0,SUMIF(高一质量奖!A:A,C23,高一质量奖!B:B),"") | E23: =IF(SUMIF(高二进步奖!A:A,C23,高二进步奖!B:B)>0,SUMIF(高二进步奖!A:A,C23,高二进步奖!B:B),"") | F23: =IF(SUMIF(高三进步奖!A:A,C23,高三进步奖!D:D)>0,SUMIF(高三进步奖!A:A,C23,高三进步奖!D:D),"") -> 3862.7093 | G23: =SUM(D23:F23) -> 3862.7093 | H23: =IF(SUMIFS('1.gk_工作量'!$M$4:$M$93,'1.gk_工作量'!$B$4:$B$93,C23)>0,SUMIFS('1.gk_工作量'!$M$4:$M$93,'1.gk_工作量'!$B$4:$B$93,C23),"") -> 1830.6818 | I23: =IF(SUMIFS('2.gk_过程评价'!$D:$D,'2.gk_过程评价'!$B:$B,C23)>0,SUMIFS('2.gk_过程评价'!$D:$D,'2.gk_过程评价'!$B:$B,C23),"") -> 8890.2466 | J23: =IF(SUMIF('3.gk_上线质量'!B:B,C23,'3.gk_上线质量'!D:D)<>0,SUMIF('3.gk_上线质量'!B:B,C23,'3.gk_上线质量'!D:D),"") -> 21595.599 | K23: =IF(SUMIFS('4.gk_艺体质量'!E:E,'4.gk_艺体质量'!A:A,C23)>0,SUMIFS('4.gk_艺体质量'!E:E,'4.gk_艺体质量'!A:A,C23),"") -> 1196.009 | L23: =IF(SUMIF('5.gk_超额目标'!B:B,C23,'5.gk_超额目标'!D:D)>0,SUMIF('5.gk_超额目标'!B:B,C23,'5.gk_超额目标'!D:D),"") -> 2029.9523 | M23: =IF(SUMIF('6.gk_年级管理'!A:A,C23,'6.gk_年级管理'!D:D)>0,SUMIF('6.gk_年级管理'!A:A,C23,'6.gk_年级管理'!D:D),"") | N23: =IF(SUMIF('7.gk_C9院校考核'!B:B,C23,'7.gk_C9院校考核'!F:F)>0,SUMIF('7.gk_C9院校考核'!B:B,C23,'7.gk_C9院校考核'!F:F),"") | O23: =SUM(H23:N23) -> 35542.489 | P23: =G23+O23 -> 39405.198 | Q23: =IF(R23="辞职发0.3",P23*0.3,P23) -> 39405.198 | R23: 攀枝花支教
A24: 17 | B24: mz178 | C24: 何东霖 | D24: =IF(SUMIF(高一质量奖!A:A,C24,高一质量奖!B:B)>0,SUMIF(高一质量奖!A:A,C24,高一质量奖!B:B),"") | E24: =IF(SUMIF(高二进步奖!A:A,C24,高二进步奖!B:B)>0,SUMIF(高二进步奖!A:A,C24,高二进步奖!B:B),"") | F24: =IF(SUMIF(高三进步奖!A:A,C24,高三进步奖!D:D)>0,SUMIF(高三进步奖!A:A,C24,高三进步奖!D:D),"") | G24: =SUM(D24:F24) -> 0 | H24: =IF(SUMIFS('1.gk_工作量'!$M$4:$M$93,'1.gk_工作量'!$B$4:$B$93,C24)>0,SUMIFS('1.gk_工作量'!$M$4:$M$93,'1.gk_工作量'!$B$4:$B$93,C24),"") -> 7696.0437 | I24: =IF(SUMIFS('2.gk_过程评价'!$D:$D,'2.gk_过程评价'!$B:$B,C24)>0,SUMIFS('2.gk_过程评价'!$D:$D,'2.gk_过程评价'!$B:$B,C24),"") -> 4335.4645 | J24: =IF(SUMIF('3.gk_上线质量'!B:B,C24,'3.gk_上线质量'!D:D)<>0,SUMIF('3.gk_上线质量'!B:B,C24,'3.gk_上线质量'!D:D),"") -> 1420.3384 | K24: =IF(SUMIFS('4.gk_艺体质量'!E:E,'4.gk_艺体质量'!A:A,C24)>0,SUMIFS('4.gk_艺体质量'!E:E,'4.gk_艺体质量'!A:A,C24),"") -> 8770.7323 | L24: =IF(SUMIF('5.gk_超额目标'!B:B,C24,'5.gk_超额目标'!D:D)>0,SUMIF('5.gk_超额目标'!B:B,C24,'5.gk_超额目标'!D:D),"") -> 686.18108 | M24: =IF(SUMIF('6.gk_年级管理'!A:A,C24,'6.gk_年级管理'!D:D)>0,SUMIF('6.gk_年级管理'!A:A,C24,'6.gk_年级管理'!D:D),"") | N24: =IF(SUMIF('7.gk_C9院校考核'!B:B,C24,'7.gk_C9院校考核'!F:F)>0,SUMIF('7.gk_C9院校考核'!B:B,C24,'7.gk_C9院校考核'!F:F),"") | O24: =SUM(H24:N24) -> 22908.76 | P24: =G24+O24 -> 22908.76 | Q24: =IF(R24="辞职发0.3",P24*0.3,P24) -> 22908.76 | R24: 攀枝花支教
A25: 18 | B25: mz064 | C25: 胡东缘 | D25: =IF(SUMIF(高一质量奖!A:A,C25,高一质量奖!B:B)>0,SUMIF(高一质量奖!A:A,C25,高一质量奖!B:B),"") | E25: =IF(SUMIF(高二进步奖!A:A,C25,高二进步奖!B:B)>0,SUMIF(高二进步奖!A:A,C25,高二进步奖!B:B),"") | F25: =IF(SUMIF(高三进步奖!A:A,C25,高三进步奖!D:D)>0,SUMIF(高三进步奖!A:A,C25,高三进步奖!D:D),"") | G25: =SUM(D25:F25) -> 0 | H25: =IF(SUMIFS('1.gk_工作量'!$M$4:$M$93,'1.gk_工作量'!$B$4:$B$93,C25)>0,SUMIFS('1.gk_工作量'!$M$4:$M$93,'1.gk_工作量'!$B$4:$B$93,C25),"") -> 18088.998 | I25: =IF(SUMIFS('2.gk_过程评价'!$D:$D,'2.gk_过程评价'!$B:$B,C25)>0,SUMIFS('2.gk_过程评价'!$D:$D,'2.gk_过程评价'!$B:$B,C25),"") -> 13174.177 | J25: =IF(SUMIF('3.gk_上线质量'!B:B,C25,'3.gk_上线质量'!D:D)<>0,SUMIF('3.gk_上线质量'!B:B,C25,'3.gk_上线质量'!D:D),"") -> 13276.936 | K25: =IF(SUMIFS('4.gk_艺体质量'!E:E,'4.gk_艺体质量'!A:A,C25)>0,SUMIFS('4.gk_艺体质量'!E:E,'4.gk_艺体质量'!A:A,C25),"") -> 1003.3186 | L25: =IF(SUMIF('5.gk_超额目标'!B:B,C25,'5.gk_超额目标'!D:D)>0,SUMIF('5.gk_超额目标'!B:B,C25,'5.gk_超额目标'!D:D),"") -> 6909.4622 | M25: =IF(SUMIF('6.gk_年级管理'!A:A,C25,'6.gk_年级管理'!D:D)>0,SUMIF('6.gk_年级管理'!A:A,C25,'6.gk_年级管理'!D:D),"") -> 2180.88 | N25: =IF(SUMIF('7.gk_C9院校考核'!B:B,C25,'7.gk_C9院校考核'!F:F)>0,SUMIF('7.gk_C9院校考核'!B:B,C25,'7.gk_C9院校考核'!F:F),"") | O25: =SUM(H25:N25) -> 54633.772 | P25: =G25+O25 -> 54633.772 | Q25: =IF(R25="辞职发0.3",P25*0.3,P25) -> 54633.772
A26: 19 | B26: mz141 | C26: 胡慧芳 | D26: =IF(SUMIF(高一质量奖!A:A,C26,高一质量奖!B:B)>0,SUMIF(高一质量奖!A:A,C26,高一质量奖!B:B),"") | E26: =IF(SUMIF(高二进步奖!A:A,C26,高二进步奖!B:B)>0,SUMIF(高二进步奖!A:A,C26,高二进步奖!B:B),"") -> 1495.04 | F26: =IF(SUMIF(高三进步奖!A:A,C26,高三进步奖!D:D)>0,SUMIF(高三进步奖!A:A,C26,高三进步奖!D:D),"") | G26: =SUM(D26:F26) -> 1495.04 | H26: =IF(SUMIFS('1.gk_工作量'!$M$4:$M$93,'1.gk_工作量'!$B$4:$B$93,C26)>0,SUMIFS('1.gk_工作量'!$M$4:$M$93,'1.gk_工作量'!$B$4:$B$93,C26),"") | I26: =IF(SUMIFS('2.gk_过程评价'!$D:$D,'2.gk_过程评价'!$B:$B,C26)>0,SUMIFS('2.gk_过程评价'!$D:$D,'2.gk_过程评价'!$B:$B,C26),"") | J26: =IF(SUMIF('3.gk_上线质量'!B:B,C26,'3.gk_上线质量'!D:D)<>0,SUMIF('3.gk_上线质量'!B:B,C26,'3.gk_上线质量'!D:D),"") | K26: =IF(SUMIFS('4.gk_艺体质量'!E:E,'4.gk_艺体质量'!A:A,C26)>0,SUMIFS('4.gk_艺体质量'!E:E,'4.gk_艺体质量'!A:A,C26),"") | L26: =IF(SUMIF('5.gk_超额目标'!B:B,C26,'5.gk_超额目标'!D:D)>0,SUMIF('5.gk_超额目标'!B:B,C26,'5.gk_超额目标'!D:D),"") | M26: =IF(SUMIF('6.gk_年级管理'!A:A,C26,'6.gk_年级管理'!D:D)>0,SUMIF('6.gk_年级管理'!A:A,C26,'6.gk_年级管理'!D:D),"") | N26: =IF(SUMIF('7.gk_C9院校考核'!B:B,C26,'7.gk_C9院校考核'!F:F)>0,SUMIF('7.gk_C9院校考核'!B:B,C26,'7.gk_C9院校考核'!F:F),"") | O26: =SUM(H26:N26) -> 0 | P26: =G26+O26 -> 1495.04 | Q26: =IF(R26="辞职发0.3",P26*0.3,P26) -> 1495.04
A27: 20 | B27: mz069 | C27: 胡柔殳 | D27: =IF(SUMIF(高一质量奖!A:A,C27,高一质量奖!B:B)>0,SUMIF(高一质量奖!A:A,C27,高一质量奖!B:B),"") | E27: =IF(SUMIF(高二进步奖!A:A,C27,高二进步奖!B:B)>0,SUMIF(高二进步奖!A:A,C27,高二进步奖!B:B),"") | F27: =IF(SUMIF(高三进步奖!A:A,C27,高三进步奖!D:D)>0,SUMIF(高三进步奖!A:A,C27,高三进步奖!D:D),"") | G27: =SUM(D27:F27) -> 0 | H27: =IF(SUMIFS('1.gk_工作量'!$M$4:$M$93,'1.gk_工作量'!$B$4:$B$93,C27)>0,SUMIFS('1.gk_工作量'!$M$4:$M$93,'1.gk_工作量'!$B$4:$B$93,C27),"") -> 2136.8882 | I27: =IF(SUMIFS('2.gk_过程评价'!$D:$D,'2.gk_过程评价'!$B:$B,C27)>0,SUMIFS('2.gk_过程评价'!$D:$D,'2.gk_过程评价'!$B:$B,C27),"") -> 4716.458 | J27: =IF(SUMIF('3.gk_上线质量'!B:B,C27,'3.gk_上线质量'!D:D)<>0,SUMIF('3.gk_上线质量'!B:B,C27,'3.gk_上线质量'!D:D),"") -> 64.560835 | K27: =IF(SUMIFS('4.gk_艺体质量'!E:E,'4.gk_艺体质量'!A:A,C27)>0,SUMIFS('4.gk_艺体质量'!E:E,'4.gk_艺体质量'!A:A,C27),"") -> 1993.3483 | L27: =IF(SUMIF('5.gk_超额目标'!B:B,C27,'5.gk_超额目标'!D:D)>0,SUMIF('5.gk_超额目标'!B:B,C27,'5.gk_超额目标'!D:D),"") -> 171.54527 | M27: =IF(SUMIF('6.gk_年级管理'!A:A,C27,'6.gk_年级管理'!D:D)>0,SUMIF('6.gk_年级管理'!A:A,C27,'6.gk_年级管理'!D:D),"") | N27: =IF(SUMIF('7.gk_C9院校考核'!B:B,C27,'7.gk_C9院校考核'!F:F)>0,SUMIF('7.gk_C9院校考核'!B:B,C27,'7.gk_C9院校考核'!F:F),"") | O27: =SUM(H27:N27) -> 9082.8005 | P27: =G27+O27 -> 9082.8005 | Q27: =IF(R27="辞职发0.3",P27*0.3,P27) -> 9082.8005
A28: 21 | C28: 黄萍 | D28: =IF(SUMIF(高一质量奖!A:A,C28,高一质量奖!B:B)>0,SUMIF(高一质量奖!A:A,C28,高一质量奖!B:B),"") | E28: =IF(SUMIF(高二进步奖!A:A,C28,高二进步奖!B:B)>0,SUMIF(高二进步奖!A:A,C28,高二进步奖!B:B),"") | F28: =IF(SUMIF(高三进步奖!A:A,C28,高三进步奖!D:D)>0,SUMIF(高三进步奖!A:A,C28,高三进步奖!D:D),"") | G28: =SUM(D28:F28) -> 0 | H28: =IF(SUMIFS('1.gk_工作量'!$M$4:$M$93,'1.gk_工作量'!$B$4:$B$93,C28)>0,SUMIFS('1.gk_工作量'!$M$4:$M$93,'1.gk_工作量'!$B$4:$B$93,C28),"") -> 2136.8882 | I28: =IF(SUMIFS('2.gk_过程评价'!$D:$D,'2.gk_过程评价'!$B:$B,C28)>0,SUMIFS('2.gk_过程评价'!$D:$D,'2.gk_过程评价'!$B:$B,C28),"") -> 4450.6722 | J28: =IF(SUMIF('3.gk_上线质量'!B:B,C28,'3.gk_上线质量'!D:D)<>0,SUMIF('3.gk_上线质量'!B:B,C28,'3.gk_上线质量'!D:D),"") -> 2885.8693 | K28: =IF(SUMIFS('4.gk_艺体质量'!E:E,'4.gk_艺体质量'!A:A,C28)>0,SUMIFS('4.gk_艺体质量'!E:E,'4.gk_艺体质量'!A:A,C28),"") | L28: =IF(SUMIF('5.gk_超额目标'!B:B,C28,'5.gk_超额目标'!D:D)>0,SUMIF('5.gk_超额目标'!B:B,C28,'5.gk_超额目标'!D:D),"") -> 867.25664 | M28: =IF(SUMIF('6.gk_年级管理'!A:A,C28,'6.gk_年级管理'!D:D)>0,SUMIF('6.gk_年级管理'!A:A,C28,'6.gk_年级管理'!D:D),"") | N28: =IF(SUMIF('7.gk_C9院校考核'!B:B,C28,'7.gk_C9院校考核'!F:F)>0,SUMIF('7.gk_C9院校考核'!B:B,C28,'7.gk_C9院校考核'!F:F),"") | O28: =SUM(H28:N28) -> 10340.686 | P28: =G28+O28 -> 10340.686 | Q28: =IF(R28="辞职发0.3",P28*0.3,P28) -> 3102.2059 | R28: 辞职发0.3
A29: 22 | B29: mz062 | C29: 纪春权 | D29: =IF(SUMIF(高一质量奖!A:A,C29,高一质量奖!B:B)>0,SUMIF(高一质量奖!A:A,C29,高一质量奖!B:B),"") | E29: =IF(SUMIF(高二进步奖!A:A,C29,高二进步奖!B:B)>0,SUMIF(高二进步奖!A:A,C29,高二进步奖!B:B),"") | F29: =IF(SUMIF(高三进步奖!A:A,C29,高三进步奖!D:D)>0,SUMIF(高三进步奖!A:A,C29,高三进步奖!D:D),"") | G29: =SUM(D29:F29) -> 0 | H29: =IF(SUMIFS('1.gk_工作量'!$M$4:$M$93,'1.gk_工作量'!$B$4:$B$93,C29)>0,SUMIFS('1.gk_工作量'!$M$4:$M$93,'1.gk_工作量'!$B$4:$B$93,C29),"") -> 10287.367 | I29: =IF(SUMIFS('2.gk_过程评价'!$D:$D,'2.gk_过程评价'!$B:$B,C29)>0,SUMIFS('2.gk_过程评价'!$D:$D,'2.gk_过程评价'!$B:$B,C29),"") -> 10994.537 | J29: =IF(SUMIF('3.gk_上线质量'!B:B,C29,'3.gk_上线质量'!D:D)<>0,SUMIF('3.gk_上线质量'!B:B,C29,'3.gk_上线质量'!D:D),"") -> 8020.8767 | K29: =IF(SUMIFS('4.gk_艺体质量'!E:E,'4.gk_艺体质量'!A:A,C29)>0,SUMIFS('4.gk_艺体质量'!E:E,'4.gk_艺体质量'!A:A,C29),"") -> 8491.6636 | L29: =IF(SUMIF('5.gk_超额目标'!B:B,C29,'5.gk_超额目标'!D:D)>0,SUMIF('5.gk_超额目标'!B:B,C29,'5.gk_超额目标'!D:D),"") -> 1686.8618 | M29: =IF(SUMIF('6.gk_年级管理'!A:A,C29,'6.gk_年级管理'!D:D)>0,SUMIF('6.gk_年级管理'!A:A,C29,'6.gk_年级管理'!D:D),"") | N29: =IF(SUMIF('7.gk_C9院校考核'!B:B,C29,'7.gk_C9院校考核'!F:F)>0,SUMIF('7.gk_C9院校考核'!B:B,C29,'7.gk_C9院校考核'!F:F),"") | O29: =SUM(H29:N29) -> 39481.306 | P29: =G29+O29 -> 39481.306 | Q29: =IF(R29="辞职发0.3",P29*0.3,P29) -> 39481.306
A30: 23 | B30: mz081 | C30: 甲阿祝玛 | D30: =IF(SUMIF(高一质量奖!A:A,C30,高一质量奖!B:B)>0,SUMIF(高一质量奖!A:A,C30,高一质量奖!B:B),"") | E30: =IF(SUMIF(高二进步奖!A:A,C30,高二进步奖!B:B)>0,SUMIF(高二进步奖!A:A,C30,高二进步奖!B:B),"") | F30: =IF(SUMIF(高三进步奖!A:A,C30,高三进步奖!D:D)>0,SUMIF(高三进步奖!A:A,C30,高三进步奖!D:D),"") | G30: =SUM(D30:F30) -> 0 | H30: =IF(SUMIFS('1.gk_工作量'!$M$4:$M$93,'1.gk_工作量'!$B$4:$B$93,C30)>0,SUMIFS('1.gk_工作量'!$M$4:$M$93,'1.gk_工作量'!$B$4:$B$93,C30),"") -> 2329.9586 | I30: =IF(SUMIFS('2.gk_过程评价'!$D:$D,'2.gk_过程评价'!$B:$B,C30)>0,SUMIFS('2.gk_过程评价'!$D:$D,'2.gk_过程评价'!$B:$B,C30),"") -> 4586.1614 | J30: =IF(SUMIF('3.gk_上线质量'!B:B,C30,'3.gk_上线质量'!D:D)<>0,SUMIF('3.gk_上线质量'!B:B,C30,'3.gk_上线质量'!D:D),"") -> 358.31263 | K30: =IF(SUMIFS('4.gk_艺体质量'!E:E,'4.gk_艺体质量'!A:A,C30)>0,SUMIFS('4.gk_艺体质量'!E:E,'4.gk_艺体质量'!A:A,C30),"") -> 4485.0336 | L30: =IF(SUMIF('5.gk_超额目标'!B:B,C30,'5.gk_超额目标'!D:D)>0,SUMIF('5.gk_超额目标'!B:B,C30,'5.gk_超额目标'!D:D),"") -> 228.72703 | M30: =IF(SUMIF('6.gk_年级管理'!A:A,C30,'6.gk_年级管理'!D:D)>0,SUMIF('6.gk_年级管理'!A:A,C30,'6.gk_年级管理'!D:D),"") | N30: =IF(SUMIF('7.gk_C9院校考核'!B:B,C30,'7.gk_C9院校考核'!F:F)>0,SUMIF('7.gk_C9院校考核'!B:B,C30,'7.gk_C9院校考核'!F:F),"") | O30: =SUM(H30:N30) -> 11988.193 | P30: =G30+O30 -> 11988.193 | Q30: =IF(R30="辞职发0.3",P30*0.3,P30) -> 11988.193
A31: 24 | B31: mz046 | C31: 贾学英 | D31: =IF(SUMIF(高一质量奖!A:A,C31,高一质量奖!B:B)>0,SUMIF(高一质量奖!A:A,C31,高一质量奖!B:B),"") | E31: =IF(SUMIF(高二进步奖!A:A,C31,高二进步奖!B:B)>0,SUMIF(高二进步奖!A:A,C31,高二进步奖!B:B),"") | F31: =IF(SUMIF(高三进步奖!A:A,C31,高三进步奖!D:D)>0,SUMIF(高三进步奖!A:A,C31,高三进步奖!D:D),"") | G31: =SUM(D31:F31) -> 0 | H31: =IF(SUMIFS('1.gk_工作量'!$M$4:$M$93,'1.gk_工作量'!$B$4:$B$93,C31)>0,SUMIFS('1.gk_工作量'!$M$4:$M$93,'1.gk_工作量'!$B$4:$B$93,C31),"") -> 237.43202 | I31: =IF(SUMIFS('2.gk_过程评价'!$D:$D,'2.gk_过程评价'!$B:$B,C31)>0,SUMIFS('2.gk_过程评价'!$D:$D,'2.gk_过程评价'!$B:$B,C31),"") | J31: =IF(SUMIF('3.gk_上线质量'!B:B,C31,'3.gk_上线质量'!D:D)<>0,SUMIF('3.gk_上线质量'!B:B,C31,'3.gk_上线质量'!D:D),"") | K31: =IF(SUMIFS('4.gk_艺体质量'!E:E,'4.gk_艺体质量'!A:A,C31)>0,SUMIFS('4.gk_艺体质量'!E:E,'4.gk_艺体质量'!A:A,C31),"") | L31: =IF(SUMIF('5.gk_超额目标'!B:B,C31,'5.gk_超额目标'!D:D)>0,SUMIF('5.gk_超额目标'!B:B,C31,'5.gk_超额目标'!D:D),"") | M31: =IF(SUMIF('6.gk_年级管理'!A:A,C31,'6.gk_年级管理'!D:D)>0,SUMIF('6.gk_年级管理'!A:A,C31,'6.gk_年级管理'!D:D),"") | N31: =IF(SUMIF('7.gk_C9院校考核'!B:B,C31,'7.gk_C9院校考核'!F:F)>0,SUMIF('7.gk_C9院校考核'!B:B,C31,'7.gk_C9院校考核'!F:F),"") | O31: =SUM(H31:N31) -> 237.43202 | P31: =G31+O31 -> 237.43202 | Q31: =IF(R31="辞职发0.3",P31*0.3,P31) -> 237.43202
A32: 25 | B32: mz055 | C32: 降初里 | D32: =IF(SUMIF(高一质量奖!A:A,C32,高一质量奖!B:B)>0,SUMIF(高一质量奖!A:A,C32,高一质量奖!B:B),"") | E32: =IF(SUMIF(高二进步奖!A:A,C32,高二进步奖!B:B)>0,SUMIF(高二进步奖!A:A,C32,高二进步奖!B:B),"") | F32: =IF(SUMIF(高三进步奖!A:A,C32,高三进步奖!D:D)>0,SUMIF(高三进步奖!A:A,C32,高三进步奖!D:D),"") | G32: =SUM(D32:F32) -> 0 | H32: =IF(SUMIFS('1.gk_工作量'!$M$4:$M$93,'1.gk_工作量'!$B$4:$B$93,C32)>0,SUMIFS('1.gk_工作量'!$M$4:$M$93,'1.gk_工作量'!$B$4:$B$93,C32),"") -> 14654.143 | I32: =IF(SUMIFS('2.gk_过程评价'!$D:$D,'2.gk_过程评价'!$B:$B,C32)>0,SUMIFS('2.gk_过程评价'!$D:$D,'2.gk_过程评价'!$B:$B,C32),"") -> 13280.437 | J32: =IF(SUMIF('3.gk_上线质量'!B:B,C32,'3.gk_上线质量'!D:D)<>0,SUMIF('3.gk_上线质量'!B:B,C32,'3.gk_上线质量'!D:D),"") -> 4357.8564 | K32: =IF(SUMIFS('4.gk_艺体质量'!E:E,'4.gk_艺体质量'!A:A,C32)>0,SUMIFS('4.gk_艺体质量'!E:E,'4.gk_艺体质量'!A:A,C32),"") -> 15528.183 | L32: =IF(SUMIF('5.gk_超额目标'!B:B,C32,'5.gk_超额目标'!D:D)>0,SUMIF('5.gk_超额目标'!B:B,C32,'5.gk_超额目标'!D:D),"") -> 1886.998 | M32: =IF(SUMIF('6.gk_年级管理'!A:A,C32,'6.gk_年级管理'!D:D)>0,SUMIF('6.gk_年级管理'!A:A,C32,'6.gk_年级管理'!D:D),"") -> 8611.68 | N32: =IF(SUMIF('7.gk_C9院校考核'!B:B,C32,'7.gk_C9院校考核'!F:F)>0,SUMIF('7.gk_C9院校考核'!B:B,C32,'7.gk_C9院校考核'!F:F),"") -> 2500 | O32: =SUM(H32:N32) -> 60819.298 | P32: =G32+O32 -> 60819.298 | Q32: =IF(R32="辞职发0.3",P32*0.3,P32) -> 60819.298
A33: 26 | B33: mz040 | C33: 解超燕 | D33: =IF(SUMIF(高一质量奖!A:A,C33,高一质量奖!B:B)>0,SUMIF(高一质量奖!A:A,C33,高一质量奖!B:B),"") | E33: =IF(SUMIF(高二进步奖!A:A,C33,高二进步奖!B:B)>0,SUMIF(高二进步奖!A:A,C33,高二进步奖!B:B),"") | F33: =IF(SUMIF(高三进步奖!A:A,C33,高三进步奖!D:D)>0,SUMIF(高三进步奖!A:A,C33,高三进步奖!D:D),"") | G33: =SUM(D33:F33) -> 0 | H33: =IF(SUMIFS('1.gk_工作量'!$M$4:$M$93,'1.gk_工作量'!$B$4:$B$93,C33)>0,SUMIFS('1.gk_工作量'!$M$4:$M$93,'1.gk_工作量'!$B$4:$B$93,C33),"") -> 14321.46 | I33: =IF(SUMIFS('2.gk_过程评价'!$D:$D,'2.gk_过程评价'!$B:$B,C33)>0,SUMIFS('2.gk_过程评价'!$D:$D,'2.gk_过程评价'!$B:$B,C33),"") -> 13096.718 | J33: =IF(SUMIF('3.gk_上线质量'!B:B,C33,'3.gk_上线质量'!D:D)<>0,SUMIF('3.gk_上线质量'!B:B,C33,'3.gk_上线质量'!D:D),"") -> 17116.691 | K33: =IF(SUMIFS('4.gk_艺体质量'!E:E,'4.gk_艺体质量'!A:A,C33)>0,SUMIFS('4.gk_艺体质量'!E:E,'4.gk_艺体质量'!A:A,C33),"") -> 1355.4768 | L33: =IF(SUMIF('5.gk_超额目标'!B:B,C33,'5.gk_超额目标'!D:D)>0,SUMIF('5.gk_超额目标'!B:B,C33,'5.gk_超额目标'!D:D),"") -> 4059.9047 | M33: =IF(SUMIF('6.gk_年级管理'!A:A,C33,'6.gk_年级管理'!D:D)>0,SUMIF('6.gk_年级管理'!A:A,C33,'6.gk_年级管理'!D:D),"") | N33: =IF(SUMIF('7.gk_C9院校考核'!B:B,C33,'7.gk_C9院校考核'!F:F)>0,SUMIF('7.gk_C9院校考核'!B:B,C33,'7.gk_C9院校考核'!F:F),"") | O33: =SUM(H33:N33) -> 49950.252 | P33: =G33+O33 -> 49950.252 | Q33: =IF(R33="辞职发0.3",P33*0.3,P33) -> 49950.252
A34: 27 | B34: mz145 | C34: 金贵 | D34: =IF(SUMIF(高一质量奖!A:A,C34,高一质量奖!B:B)>0,SUMIF(高一质量奖!A:A,C34,高一质量奖!B:B),"") | E34: =IF(SUMIF(高二进步奖!A:A,C34,高二进步奖!B:B)>0,SUMIF(高二进步奖!A:A,C34,高二进步奖!B:B),"") | F34: =IF(SUMIF(高三进步奖!A:A,C34,高三进步奖!D:D)>0,SUMIF(高三进步奖!A:A,C34,高三进步奖!D:D),"") | G34: =SUM(D34:F34) -> 0 | H34: =IF(SUMIFS('1.gk_工作量'!$M$4:$M$93,'1.gk_工作量'!$B$4:$B$93,C34)>0,SUMIFS('1.gk_工作量'!$M$4:$M$93,'1.gk_工作量'!$B$4:$B$93,C34),"") -> 4579.2688 | I34: =IF(SUMIFS('2.gk_过程评价'!$D:$D,'2.gk_过程评价'!$B:$B,C34)>0,SUMIFS('2.gk_过程评价'!$D:$D,'2.gk_过程评价'!$B:$B,C34),"") -> 8806.0719 | J34: =IF(SUMIF('3.gk_上线质量'!B:B,C34,'3.gk_上线质量'!D:D)<>0,SUMIF('3.gk_上线质量'!B:B,C34,'3.gk_上线质量'!D:D),"") -> 6843.4485 | K34: =IF(SUMIFS('4.gk_艺体质量'!E:E,'4.gk_艺体质量'!A:A,C34)>0,SUMIFS('4.gk_艺体质量'!E:E,'4.gk_艺体质量'!A:A,C34),"") -> 757.47234 | L34: =IF(SUMIF('5.gk_超额目标'!B:B,C34,'5.gk_超额目标'!D:D)>0,SUMIF('5.gk_超额目标'!B:B,C34,'5.gk_超额目标'!D:D),"") -> 1257.9986 | M34: =IF(SUMIF('6.gk_年级管理'!A:A,C34,'6.gk_年级管理'!D:D)>0,SUMIF('6.gk_年级管理'!A:A,C34,'6.gk_年级管理'!D:D),"") | N34: =IF(SUMIF('7.gk_C9院校考核'!B:B,C34,'7.gk_C9院校考核'!F:F)>0,SUMIF('7.gk_C9院校考核'!B:B,C34,'7.gk_C9院校考核'!F:F),"") | O34: =SUM(H34:N34) -> 22244.26 | P34: =G34+O34 -> 22244.26 | Q34: =IF(R34="辞职发0.3",P34*0.3,P34) -> 22244.26
A35: 28 | B35: mz038 | C35: 康小平 | D35: =IF(SUMIF(高一质量奖!A:A,C35,高一质量奖!B:B)>0,SUMIF(高一质量奖!A:A,C35,高一质量奖!B:B),"") | E35: =IF(SUMIF(高二进步奖!A:A,C35,高二进步奖!B:B)>0,SUMIF(高二进步奖!A:A,C35,高二进步奖!B:B),"") | F35: =IF(SUMIF(高三进步奖!A:A,C35,高三进步奖!D:D)>0,SUMIF(高三进步奖!A:A,C35,高三进步奖!D:D),"") | G35: =SUM(D35:F35) -> 0 | H35: =IF(SUMIFS('1.gk_工作量'!$M$4:$M$93,'1.gk_工作量'!$B$4:$B$93,C35)>0,SUMIFS('1.gk_工作量'!$M$4:$M$93,'1.gk_工作量'!$B$4:$B$93,C35),"") -> 21579.614 | I35: =IF(SUMIFS('2.gk_过程评价'!$D:$D,'2.gk_过程评价'!$B:$B,C35)>0,SUMIFS('2.gk_过程评价'!$D:$D,'2.gk_过程评价'!$B:$B,C35),"") -> 13109.525 | J35: =IF(SUMIF('3.gk_上线质量'!B:B,C35,'3.gk_上线质量'!D:D)<>0,SUMIF('3.gk_上线质量'!B:B,C35,'3.gk_上线质量'!D:D),"") -> 27272.111 | K35: =IF(SUMIFS('4.gk_艺体质量'!E:E,'4.gk_艺体质量'!A:A,C35)>0,SUMIFS('4.gk_艺体质量'!E:E,'4.gk_艺体质量'!A:A,C35),"") -> 1362.1213 | L35: =IF(SUMIF('5.gk_超额目标'!B:B,C35,'5.gk_超额目标'!D:D)>0,SUMIF('5.gk_超额目标'!B:B,C35,'5.gk_超额目标'!D:D),"") -> 4526.889 | M35: =IF(SUMIF('6.gk_年级管理'!A:A,C35,'6.gk_年级管理'!D:D)>0,SUMIF('6.gk_年级管理'!A:A,C35,'6.gk_年级管理'!D:D),"") -> 2180.88 | N35: =IF(SUMIF('7.gk_C9院校考核'!B:B,C35,'7.gk_C9院校考核'!F:F)>0,SUMIF('7.gk_C9院校考核'!B:B,C35,'7.gk_C9院校考核'!F:F),"") | O35: =SUM(H35:N35) -> 70031.14 | P35: =G35+O35 -> 70031.14 | Q35: =IF(R35="辞职发0.3",P35*0.3,P35) -> 70031.14
A36: 29 | B36: mz061 | C36: 康宇峰 | D36: =IF(SUMIF(高一质量奖!A:A,C36,高一质量奖!B:B)>0,SUMIF(高一质量奖!A:A,C36,高一质量奖!B:B),"") | E36: =IF(SUMIF(高二进步奖!A:A,C36,高二进步奖!B:B)>0,SUMIF(高二进步奖!A:A,C36,高二进步奖!B:B),"") | F36: =IF(SUMIF(高三进步奖!A:A,C36,高三进步奖!D:D)>0,SUMIF(高三进步奖!A:A,C36,高三进步奖!D:D),"") | G36: =SUM(D36:F36) -> 0 | H36: =IF(SUMIFS('1.gk_工作量'!$M$4:$M$93,'1.gk_工作量'!$B$4:$B$93,C36)>0,SUMIFS('1.gk_工作量'!$M$4:$M$93,'1.gk_工作量'!$B$4:$B$93,C36),"") -> 1424.5921 | I36: =IF(SUMIFS('2.gk_过程评价'!$D:$D,'2.gk_过程评价'!$B:$B,C36)>0,SUMIFS('2.gk_过程评价'!$D:$D,'2.gk_过程评价'!$B:$B,C36),"") -> 2771.0291 | J36: =IF(SUMIF('3.gk_上线质量'!B:B,C36,'3.gk_上线质量'!D:D)<>0,SUMIF('3.gk_上线质量'!B:B,C36,'3.gk_上线质量'!D:D),"") -> 1233.1119 | K36: =IF(SUMIFS('4.gk_艺体质量'!E:E,'4.gk_艺体质量'!A:A,C36)>0,SUMIFS('4.gk_艺体质量'!E:E,'4.gk_艺体质量'!A:A,C36),"") -> 837.20627 | L36: =IF(SUMIF('5.gk_超额目标'!B:B,C36,'5.gk_超额目标'!D:D)>0,SUMIF('5.gk_超额目标'!B:B,C36,'5.gk_超额目标'!D:D),"") -> 486.04493 | M36: =IF(SUMIF('6.gk_年级管理'!A:A,C36,'6.gk_年级管理'!D:D)>0,SUMIF('6.gk_年级管理'!A:A,C36,'6.gk_年级管理'!D:D),"") | N36: =IF(SUMIF('7.gk_C9院校考核'!B:B,C36,'7.gk_C9院校考核'!F:F)>0,SUMIF('7.gk_C9院校考核'!B:B,C36,'7.gk_C9院校考核'!F:F),"") | O36: =SUM(H36:N36) -> 6751.9844 | P36: =G36+O36 -> 6751.9844 | Q36: =IF(R36="辞职发0.3",P36*0.3,P36) -> 6751.9844 | R36: 攀枝花支教
A37: 30 | B37: mz028 | C37: 拉初 | D37: =IF(SUMIF(高一质量奖!A:A,C37,高一质量奖!B:B)>0,SUMIF(高一质量奖!A:A,C37,高一质量奖!B:B),"") | E37: =IF(SUMIF(高二进步奖!A:A,C37,高二进步奖!B:B)>0,SUMIF(高二进步奖!A:A,C37,高二进步奖!B:B),"") | F37: =IF(SUMIF(高三进步奖!A:A,C37,高三进步奖!D:D)>0,SUMIF(高三进步奖!A:A,C37,高三进步奖!D:D),"") | G37: =SUM(D37:F37) -> 0 | H37: =IF(SUMIFS('1.gk_工作量'!$M$4:$M$93,'1.gk_工作量'!$B$4:$B$93,C37)>0,SUMIFS('1.gk_工作量'!$M$4:$M$93,'1.gk_工作量'!$B$4:$B$93,C37),"") -> 14492.849 | I37: =IF(SUMIFS('2.gk_过程评价'!$D:$D,'2.gk_过程评价'!$B:$B,C37)>0,SUMIFS('2.gk_过程评价'!$D:$D,'2.gk_过程评价'!$B:$B,C37),"") -> 13157.355 | J37: =IF(SUMIF('3.gk_上线质量'!B:B,C37,'3.gk_上线质量'!D:D)<>0,SUMIF('3.gk_上线质量'!B:B,C37,'3.gk_上线质量'!D:D),"") -> 37687.387 | K37: =IF(SUMIFS('4.gk_艺体质量'!E:E,'4.gk_艺体质量'!A:A,C37)>0,SUMIFS('4.gk_艺体质量'!E:E,'4.gk_艺体质量'!A:A,C37),"") -> 1016.6076 | L37: =IF(SUMIF('5.gk_超额目标'!B:B,C37,'5.gk_超额目标'!D:D)>0,SUMIF('5.gk_超额目标'!B:B,C37,'5.gk_超额目标'!D:D),"") -> 1572.4983 | M37: =IF(SUMIF('6.gk_年级管理'!A:A,C37,'6.gk_年级管理'!D:D)>0,SUMIF('6.gk_年级管理'!A:A,C37,'6.gk_年级管理'!D:D),"") | N37: =IF(SUMIF('7.gk_C9院校考核'!B:B,C37,'7.gk_C9院校考核'!F:F)>0,SUMIF('7.gk_C9院校考核'!B:B,C37,'7.gk_C9院校考核'!F:F),"") -> 7500 | O37: =SUM(H37:N37) -> 75426.698 | P37: =G37+O37 -> 75426.698 | Q37: =IF(R37="辞职发0.3",P37*0.3,P37) -> 75426.698
A38: 31 | B38: mz051 | C38: 喇菊 | D38: =IF(SUMIF(高一质量奖!A:A,C38,高一质量奖!B:B)>0,SUMIF(高一质量奖!A:A,C38,高一质量奖!B:B),"") | E38: =IF(SUMIF(高二进步奖!A:A,C38,高二进步奖!B:B)>0,SUMIF(高二进步奖!A:A,C38,高二进步奖!B:B),"") | F38: =IF(SUMIF(高三进步奖!A:A,C38,高三进步奖!D:D)>0,SUMIF(高三进步奖!A:A,C38,高三进步奖!D:D),"") | G38: =SUM(D38:F38) -> 0 | H38: =IF(SUMIFS('1.gk_工作量'!$M$4:$M$93,'1.gk_工作量'!$B$4:$B$93,C38)>0,SUMIFS('1.gk_工作量'!$M$4:$M$93,'1.gk_工作量'!$B$4:$B$93,C38),"") -> 1899.4562 | I38: =IF(SUMIFS('2.gk_过程评价'!$D:$D,'2.gk_过程评价'!$B:$B,C38)>0,SUMIFS('2.gk_过程评价'!$D:$D,'2.gk_过程评价'!$B:$B,C38),"") -> 4308.4135 | J38: =IF(SUMIF('3.gk_上线质量'!B:B,C38,'3.gk_上线质量'!D:D)<>0,SUMIF('3.gk_上线质量'!B:B,C38,'3.gk_上线质量'!D:D),"") -> 3705.7919 | K38: =IF(SUMIFS('4.gk_艺体质量'!E:E,'4.gk_艺体质量'!A:A,C38)>0,SUMIFS('4.gk_艺体质量'!E:E,'4.gk_艺体质量'!A:A,C38),"") | L38: =IF(SUMIF('5.gk_超额目标'!B:B,C38,'5.gk_超额目标'!D:D)>0,SUMIF('5.gk_超额目标'!B:B,C38,'5.gk_超额目标'!D:D),"") -> 571.81756 | M38: =IF(SUMIF('6.gk_年级管理'!A:A,C38,'6.gk_年级管理'!D:D)>0,SUMIF('6.gk_年级管理'!A:A,C38,'6.gk_年级管理'!D:D),"") | N38: =IF(SUMIF('7.gk_C9院校考核'!B:B,C38,'7.gk_C9院校考核'!F:F)>0,SUMIF('7.gk_C9院校考核'!B:B,C38,'7.gk_C9院校考核'!F:F),"") | O38: =SUM(H38:N38) -> 10485.479 | P38: =G38+O38 -> 10485.479 | Q38: =IF(R38="辞职发0.3",P38*0.3,P38) -> 10485.479
A39: 32 | B39: mz023 | C39: 喇燕 | D39: =IF(SUMIF(高一质量奖!A:A,C39,高一质量奖!B:B)>0,SUMIF(高一质量奖!A:A,C39,高一质量奖!B:B),"") | E39: =IF(SUMIF(高二进步奖!A:A,C39,高二进步奖!B:B)>0,SUMIF(高二进步奖!A:A,C39,高二进步奖!B:B),"") | F39: =IF(SUMIF(高三进步奖!A:A,C39,高三进步奖!D:D)>0,SUMIF(高三进步奖!A:A,C39,高三进步奖!D:D),"") | G39: =SUM(D39:F39) -> 0 | H39: =IF(SUMIFS('1.gk_工作量'!$M$4:$M$93,'1.gk_工作量'!$B$4:$B$93,C39)>0,SUMIFS('1.gk_工作量'!$M$4:$M$93,'1.gk_工作量'!$B$4:$B$93,C39),"") -> 18947.154 | I39: =IF(SUMIFS('2.gk_过程评价'!$D:$D,'2.gk_过程评价'!$B:$B,C39)>0,SUMIFS('2.gk_过程评价'!$D:$D,'2.gk_过程评价'!$B:$B,C39),"") -> 12620.081 | J39: =IF(SUMIF('3.gk_上线质量'!B:B,C39,'3.gk_上线质量'!D:D)<>0,SUMIF('3.gk_上线质量'!B:B,C39,'3.gk_上线质量'!D:D),"") -> 15326.742 | K39: =IF(SUMIFS('4.gk_艺体质量'!E:E,'4.gk_艺体质量'!A:A,C39)>0,SUMIFS('4.gk_艺体质量'!E:E,'4.gk_艺体质量'!A:A,C39),"") -> 697.67189 | L39: =IF(SUMIF('5.gk_超额目标'!B:B,C39,'5.gk_超额目标'!D:D)>0,SUMIF('5.gk_超额目标'!B:B,C39,'5.gk_超额目标'!D:D),"") -> 4717.4949 | M39: =IF(SUMIF('6.gk_年级管理'!A:A,C39,'6.gk_年级管理'!D:D)>0,SUMIF('6.gk_年级管理'!A:A,C39,'6.gk_年级管理'!D:D),"") -> 2180.88 | N39: =IF(SUMIF('7.gk_C9院校考核'!B:B,C39,'7.gk_C9院校考核'!F:F)>0,SUMIF('7.gk_C9院校考核'!B:B,C39,'7.gk_C9院校考核'!F:F),"") | O39: =SUM(H39:N39) -> 54490.024 | P39: =G39+O39 -> 54490.024 | Q39: =IF(R39="辞职发0.3",P39*0.3,P39) -> 54490.024
A40: 33 | C40: 李汉林 | D40: =IF(SUMIF(高一质量奖!A:A,C40,高一质量奖!B:B)>0,SUMIF(高一质量奖!A:A,C40,高一质量奖!B:B),"") | E40: =IF(SUMIF(高二进步奖!A:A,C40,高二进步奖!B:B)>0,SUMIF(高二进步奖!A:A,C40,高二进步奖!B:B),"") | F40: =IF(SUMIF(高三进步奖!A:A,C40,高三进步奖!D:D)>0,SUMIF(高三进步奖!A:A,C40,高三进步奖!D:D),"") | G40: =SUM(D40:F40) -> 0 | H40: =IF(SUMIFS('1.gk_工作量'!$M$4:$M$93,'1.gk_工作量'!$B$4:$B$93,C40)>0,SUMIFS('1.gk_工作量'!$M$4:$M$93,'1.gk_工作量'!$B$4:$B$93,C40),"") -> 1780.7402 | I40: =IF(SUMIFS('2.gk_过程评价'!$D:$D,'2.gk_过程评价'!$B:$B,C40)>0,SUMIFS('2.gk_过程评价'!$D:$D,'2.gk_过程评价'!$B:$B,C40),"") -> 2001.2436 | J40: =IF(SUMIF('3.gk_上线质量'!B:B,C40,'3.gk_上线质量'!D:D)<>0,SUMIF('3.gk_上线质量'!B:B,C40,'3.gk_上线质量'!D:D),"") -> 542.31101 | K40: =IF(SUMIFS('4.gk_艺体质量'!E:E,'4.gk_艺体质量'!A:A,C40)>0,SUMIFS('4.gk_艺体质量'!E:E,'4.gk_艺体质量'!A:A,C40),"") -> 677.73841 | L40: =IF(SUMIF('5.gk_超额目标'!B:B,C40,'5.gk_超额目标'!D:D)>0,SUMIF('5.gk_超额目标'!B:B,C40,'5.gk_超额目标'!D:D),"") -> 257.3179 | M40: =IF(SUMIF('6.gk_年级管理'!A:A,C40,'6.gk_年级管理'!D:D)>0,SUMIF('6.gk_年级管理'!A:A,C40,'6.gk_年级管理'!D:D),"") | N40: =IF(SUMIF('7.gk_C9院校考核'!B:B,C40,'7.gk_C9院校考核'!F:F)>0,SUMIF('7.gk_C9院校考核'!B:B,C40,'7.gk_C9院校考核'!F:F),"") | O40: =SUM(H40:N40) -> 5259.3511 | P40: =G40+O40 -> 5259.3511 | Q40: =IF(R40="辞职发0.3",P40*0.3,P40) -> 5259.3511 | R40: 成都支教
...

Sheet 高一质量奖
A1: 姓名 | B1: 质量奖

Sheet 高二进步奖
A1: 姓名 | B1: 合计
A2: 赵香才 | B2: 3235.84
A3: 胡慧芳 | B3: 1495.04
A4: 杨国芬 | B4: 2682.88
A5: 周宇竹 | B5: 1945.6
A6: 偏初 | B6: 880.64
B7: =SUM(B2:B6) -> 10240

Sheet 高三进步奖
A1: 教师 | B1: 质量奖 | C1: 进步奖 | D1: 合计
A2: 叶小军 | C2: 3885.3052 | D2: =SUM(B2:C2) -> 3885.3052
A3: 李荣鑫 | C3: 4822.6293 | D3: =SUM(B3:C3) -> 4822.6293
A4: 何传英 | C4: 3862.7093 | D4: =SUM(B4:C4) -> 3862.7093
A5: 刘厚江 | C5: 1904.5876 | D5: =SUM(B5:C5) -> 1904.5876
A6: 马红琦 | C6: 884.76862 | D6: =SUM(B6:C6) -> 884.76862
A7: 尼玛布池 | C7: 972.27908 | D7: =SUM(B7:C7) -> 972.27908
A8: 张弘 | C8: 947.72092 | D8: =SUM(B8:C8) -> 947.72092
A9: 合计 | B9: =SUM(B2:B8) -> 0 | C9: =SUM(C2:C8) -> 17280 | D9: =SUM(D2:D8) -> 17280

Sheet gk_质量奖分配
C1: 项目 | D1: 金额 | E1: 算法/说明
A2: 总额分配 | C2: 政府拨款 | D2: 4645000 | E2: 总额=学生奖金+学校奖金
C3: 学生奖金 | D3: 1310000
C4: 学校奖金 | D4: =D2-D3 -> 3335000
A6: 学校奖金分配 | C6: 学校提留 | D6: =D4*0.2 -> 667000 | E6: 学校提留=学校奖金*20%
C7: 年级管理奖 | D7: 74560 | E7: 按照政府目标，文化和艺体超额部分的8%作为年级管理奖.文化本科超额950000元，艺体本科超额215000元，合计超额1165000元.年级管理奖（1165000*80%*8%=74560元）
C8: C9院校考核 | D8: 50000
C9: 教师奖励 | D9: =D4-D6-D7-D8 -> 2543440 | E9: 剩余的教师奖励=学校奖金-学校提留-年级管理奖-C9院校奖励
C10: 超额目标奖 | D10: 168000 | E10: 学校本科目标220人，奋斗目标240人。实际完成272人，超过学校基本目标52人，超过学校奋斗目标32人，超额目标奖2000*20人+4000*32=168000元.此部分从学校提留的20%中支出.
A12: 教师奖金分配 | C12: 2.1工作量（30%） | D12: =$D$9*0.3 -> 763032 | E12: 工作量=教师奖励*30%
C13: 2.2业绩（70%） | D13: =$D$9*0.7 -> 1780408 | E13: 业绩=教师奖励*70%
A15: 2.2业绩 | C15: 2.2.1文化本科质量奖 | D15: =(2870000*0.8-74560*2870000/(2870000+415000))*0.7 -> 1561601.5 | E15: 文化总奖金：287万元 文化本科质量奖=文化总奖金-学校提留-年级管理奖占比奖金-工作量，即（2870000*0.8-74560*2870000/(2870000+415000)）*0.7 艺体总奖金：41.5万元. 艺体质量奖=艺体总奖金-学校提留-年级管理奖占比奖金-工作量，即(415000*0.8-74560*415000/(2870000+415000))*0.7
C16: 2.2.2艺体质量奖 | D16: =(415000*0.8-74560*415000/(2870000+415000))*0.7 -> 225806.49
A18: 2.2.1文化本科质量奖 | C18: 2.2.1.1过程评价奖 | D18: =$D$15*3/7 -> 669257.79 | E18: 过程评价奖=文化本科质量奖*3/7(文化奖金中工作量、过程评价、上线质量占比3:3:4)
C19: 2.2.1.2上线质量奖 | D19: =$D$15*4/7 -> 892343.72 | E19: 上线质量奖=文化本科质量奖*4/7(文化奖金中工作量、过程评价、上线质量占比3:3:4)
A21: 2.2.1.2文化上线质量奖 | C21: 2.2.1.2.1总分上线质量奖 | D21: =$D$19*1 -> 892343.72 | E21: 总分上线质量奖=文化上线质量奖*100%
C22: 2.2.1.2.2单双上线质量奖 | D22: =$D$19*0 -> 0 | E22: 总分上线质量奖=文化上线质量奖*0（2024年起凉山州不再公布单科分数线，本项资金调整到总分上线）

Sheet gk_分数线

Sheet 1.gk_工作量
A1: 序号 | B1: 姓名 | C1: 高一 | F1: 高二 | I1: 高三 | L1: 高三年级主任/班主任 | M1: 基本奖合计
C2: 上期/节 | D2: 下期/节 | E2: 小计/元 | F2: 上期/节 | G2: 下期/节 | H2: 小计/元 | I2: 上期/节 | J2: 下期/节 | K2: 小计/元
E3: =(gk_质量奖分配!$D$12-$L$94)*0.2/SUM($C$4:$D$93) -> 118.71601 | H3: =(gk_质量奖分配!$D$12-$L$94)*0.3/SUM($F$4:$G$93) -> 166.42561 | K3: =(gk_质量奖分配!$D$12-$L$94)*0.5/SUM($I$4:$J$93) -> 274.8587
A4: 1 | B4: 曹云萍 | C4: 14 | D4: 14 | E4: =$E$3*SUM(C4:D4) -> 3324.0483 | F4: 15 | G4: 16 | H4: =$H$3*SUM(F4:G4) -> 5159.194 | I4: 16 | J4: 16 | K4: =$K$3*SUM(I4:J4) -> 8795.4785 | L4: 1000 | M4: =E4+H4+K4+L4 -> 18278.721
A5: 2 | B5: 陈光汇 | C5: 6 | D5: 5 | E5: =$E$3*SUM(C5:D5) -> 1305.8761 | F5: 14 | G5: 14 | H5: =$H$3*SUM(F5:G5) -> 4659.9172 | I5: 14 | J5: 14 | K5: =$K$3*SUM(I5:J5) -> 7696.0437 | M5: =E5+H5+K5+L5 -> 13661.837
A6: 3 | B6: 陈国萍 | C6: 12 | D6: 13 | E6: =$E$3*SUM(C6:D6) -> 2967.9003 | F6: 12 | G6: 12 | H6: =$H$3*SUM(F6:G6) -> 3994.2147 | I6: 21 | J6: 21 | K6: =$K$3*SUM(I6:J6) -> 11544.066 | M6: =E6+H6+K6+L6 -> 18506.181
A7: 4 | B7: 陈虎林 | C7: 3.5 | D7: 7 | E7: =$E$3*SUM(C7:D7) -> 1246.5181 | H7: =$H$3*SUM(F7:G7) -> 0 | K7: =$K$3*SUM(I7:J7) -> 0 | M7: =E7+H7+K7+L7 -> 1246.5181
A8: 5 | B8: 次珍扎保 | C8: 10 | E8: =$E$3*SUM(C8:D8) -> 1187.1601 | H8: =$H$3*SUM(F8:G8) -> 0 | K8: =$K$3*SUM(I8:J8) -> 0 | M8: =E8+H8+K8+L8 -> 1187.1601
A9: 6 | B9: 崔萌 | C9: 8 | D9: 4 | E9: =$E$3*SUM(C9:D9) -> 1424.5921 | H9: =$H$3*SUM(F9:G9) -> 0 | K9: =$K$3*SUM(I9:J9) -> 0 | M9: =E9+H9+K9+L9 -> 1424.5921
A10: 7 | B10: 旦珠拉初 | C10: 12 | D10: 14 | E10: =$E$3*SUM(C10:D10) -> 3086.6163 | F10: 14 | G10: 14 | H10: =$H$3*SUM(F10:G10) -> 4659.9172 | K10: =$K$3*SUM(I10:J10) -> 0 | M10: =E10+H10+K10+L10 -> 7746.5335
A11: 8 | B11: 邓国华 | C11: 14 | D11: 15 | E11: =$E$3*SUM(C11:D11) -> 3442.7643 | H11: =$H$3*SUM(F11:G11) -> 0 | K11: =$K$3*SUM(I11:J11) -> 0 | M11: =E11+H11+K11+L11 -> 3442.7643
A12: 9 | B12: 邓倩 | C12: 9 | D12: 10 | E12: =$E$3*SUM(C12:D12) -> 2255.6042 | F12: 11 | G12: 11 | H12: =$H$3*SUM(F12:G12) -> 3661.3635 | I12: 11 | J12: 11 | K12: =$K$3*SUM(I12:J12) -> 6046.8915 | L12: 1000 | M12: =E12+H12+K12+L12 -> 12963.859
A13: 10 | B13: 东梅 | E13: =$E$3*SUM(C13:D13) -> 0 | H13: =$H$3*SUM(F13:G13) -> 0 | I13: 14 | J13: 14 | K13: =$K$3*SUM(I13:J13) -> 7696.0437 | M13: =E13+H13+K13+L13 -> 7696.0437
A14: 11 | B14: 杜东洋 | E14: =$E$3*SUM(C14:D14) -> 0 | F14: 16 | H14: =$H$3*SUM(F14:G14) -> 2662.8098 | I14: 16 | J14: 16 | K14: =$K$3*SUM(I14:J14) -> 8795.4785 | M14: =E14+H14+K14+L14 -> 11458.288
A15: 12 | B15: 付仁源 | C15: 6 | E15: =$E$3*SUM(C15:D15) -> 712.29606 | H15: =$H$3*SUM(F15:G15) -> 0 | K15: =$K$3*SUM(I15:J15) -> 0 | M15: =E15+H15+K15+L15 -> 712.29606
A16: 13 | B16: 高琴 | E16: =$E$3*SUM(C16:D16) -> 0 | H16: =$H$3*SUM(F16:G16) -> 0 | I16: 5 | J16: 5 | K16: =$K$3*SUM(I16:J16) -> 2748.587 | M16: =E16+H16+K16+L16 -> 2748.587
A17: 14 | B17: 格绒燚西 | C17: 12 | D17: 10 | E17: =$E$3*SUM(C17:D17) -> 2611.7522 | F17: 14 | G17: 14 | H17: =$H$3*SUM(F17:G17) -> 4659.9172 | I17: 14 | J17: 14 | K17: =$K$3*SUM(I17:J17) -> 7696.0437 | M17: =E17+H17+K17+L17 -> 14967.713
A18: 15 | B18: 何传英 | E18: =$E$3*SUM(C18:D18) -> 0 | F18: 5 | G18: 6 | H18: =$H$3*SUM(F18:G18) -> 1830.6818 | K18: =$K$3*SUM(I18:J18) -> 0 | M18: =E18+H18+K18+L18 -> 1830.6818
A19: 16 | B19: 何东霖 | E19: =$E$3*SUM(C19:D19) -> 0 | H19: =$H$3*SUM(F19:G19) -> 0 | I19: 14 | J19: 14 | K19: =$K$3*SUM(I19:J19) -> 7696.0437 | M19: =E19+H19+K19+L19 -> 7696.0437
A20: 17 | B20: 胡东缘 | C20: 9 | D20: 16 | E20: =$E$3*SUM(C20:D20) -> 2967.9003 | F20: 20 | G20: 12 | H20: =$H$3*SUM(F20:G20) -> 5325.6197 | I20: 16 | J20: 16 | K20: =$K$3*SUM(I20:J20) -> 8795.4785 | L20: 1000 | M20: =E20+H20+K20+L20 -> 18088.998
A21: 18 | B21: 胡柔殳 | C21: 6 | D21: 12 | E21: =$E$3*SUM(C21:D21) -> 2136.8882 | H21: =$H$3*SUM(F21:G21) -> 0 | K21: =$K$3*SUM(I21:J21) -> 0 | M21: =E21+H21+K21+L21 -> 2136.8882
A22: 19 | B22: 黄萍 | C22: 8 | D22: 10 | E22: =$E$3*SUM(C22:D22) -> 2136.8882 | H22: =$H$3*SUM(F22:G22) -> 0 | K22: =$K$3*SUM(I22:J22) -> 0 | M22: =E22+H22+K22+L22 -> 2136.8882
A23: 20 | B23: 纪春权 | C23: 9 | D23: 15.25 | E23: =$E$3*SUM(C23:D23) -> 2878.8632 | F23: 17 | G23: 11 | H23: =$H$3*SUM(F23:G23) -> 4659.9172 | I23: 10 | K23: =$K$3*SUM(I23:J23) -> 2748.587 | M23: =E23+H23+K23+L23 -> 10287.367
A24: 21 | B24: 甲阿祝玛 | E24: =$E$3*SUM(C24:D24) -> 0 | F24: 7 | G24: 7 | H24: =$H$3*SUM(F24:G24) -> 2329.9586 | K24: =$K$3*SUM(I24:J24) -> 0 | M24: =E24+H24+K24+L24 -> 2329.9586
A25: 22 | B25: 贾学英 | D25: 2 | E25: =$E$3*SUM(C25:D25) -> 237.43202 | H25: =$H$3*SUM(F25:G25) -> 0 | K25: =$K$3*SUM(I25:J25) -> 0 | M25: =E25+H25+K25+L25 -> 237.43202
A26: 23 | B26: 降初里 | C26: 9 | D26: 14 | E26: =$E$3*SUM(C26:D26) -> 2730.4682 | F26: 12 | G26: 14 | H26: =$H$3*SUM(F26:G26) -> 4327.066 | I26: 12 | J26: 12 | K26: =$K$3*SUM(I26:J26) -> 6596.6089 | L26: 1000 | M26: =E26+H26+K26+L26 -> 14654.143
A27: 24 | B27: 解超燕 | C27: 15 | D27: 16 | E27: =$E$3*SUM(C27:D27) -> 3680.1963 | F27: 21 | H27: =$H$3*SUM(F27:G27) -> 3494.9379 | I27: 14 | J27: 12 | K27: =$K$3*SUM(I27:J27) -> 7146.3263 | M27: =E27+H27+K27+L27 -> 14321.46
A28: 25 | B28: 金贵 | E28: =$E$3*SUM(C28:D28) -> 0 | F28: 5 | G28: 6 | H28: =$H$3*SUM(F28:G28) -> 1830.6818 | I28: 5 | J28: 5 | K28: =$K$3*SUM(I28:J28) -> 2748.587 | M28: =E28+H28+K28+L28 -> 4579.2688
A29: 26 | B29: 康小平 | C29: 21 | D29: 20 | E29: =$E$3*SUM(C29:D29) -> 4867.3564 | F29: 16 | G29: 14 | H29: =$H$3*SUM(F29:G29) -> 4992.7684 | I29: 21 | J29: 18 | K29: =$K$3*SUM(I29:J29) -> 10719.489 | L29: 1000 | M29: =E29+H29+K29+L29 -> 21579.614
A30: 27 | B30: 康宇峰 | C30: 12 | E30: =$E$3*SUM(C30:D30) -> 1424.5921 | H30: =$H$3*SUM(F30:G30) -> 0 | K30: =$K$3*SUM(I30:J30) -> 0 | M30: =E30+H30+K30+L30 -> 1424.5921
A31: 28 | B31: 拉初 | C31: 6 | D31: 12 | E31: =$E$3*SUM(C31:D31) -> 2136.8882 | F31: 14 | G31: 14 | H31: =$H$3*SUM(F31:G31) -> 4659.9172 | I31: 14 | J31: 14 | K31: =$K$3*SUM(I31:J31) -> 7696.0437 | M31: =E31+H31+K31+L31 -> 14492.849
A32: 29 | B32: 喇菊 | C32: 6 | D32: 10 | E32: =$E$3*SUM(C32:D32) -> 1899.4562 | H32: =$H$3*SUM(F32:G32) -> 0 | K32: =$K$3*SUM(I32:J32) -> 0 | M32: =E32+H32+K32+L32 -> 1899.4562
A33: 30 | B33: 喇燕 | C33: 14 | D33: 15 | E33: =$E$3*SUM(C33:D33) -> 3442.7643 | F33: 15 | G33: 16 | H33: =$H$3*SUM(F33:G33) -> 5159.194 | I33: 17 | J33: 17 | K33: =$K$3*SUM(I33:J33) -> 9345.1959 | L33: 1000 | M33: =E33+H33+K33+L33 -> 18947.154
A34: 31 | B34: 李汉林 | C34: 9 | D34: 6 | E34: =$E$3*SUM(C34:D34) -> 1780.7402 | H34: =$H$3*SUM(F34:G34) -> 0 | K34: =$K$3*SUM(I34:J34) -> 0 | M34: =E34+H34+K34+L34 -> 1780.7402
A35: 32 | B35: 李荣鑫 | C35: 8 | D35: 10 | E35: =$E$3*SUM(C35:D35) -> 2136.8882 | F35: 10 | G35: 12 | H35: =$H$3*SUM(F35:G35) -> 3661.3635 | I35: 11 | J35: 16 | K35: =$K$3*SUM(I35:J35) -> 7421.185 | L35: 1000 | M35: =E35+H35+K35+L35 -> 14219.437
A36: 33 | B36: 李挖合 | C36: 4 | D36: 4 | E36: =$E$3*SUM(C36:D36) -> 949.72808 | H36: =$H$3*SUM(F36:G36) -> 0 | K36: =$K$3*SUM(I36:J36) -> 0 | M36: =E36+H36+K36+L36 -> 949.72808
A37: 34 | B37: 李永会 | C37: 12 | D37: 12 | E37: =$E$3*SUM(C37:D37) -> 2849.1842 | F37: 14 | G37: 14 | H37: =$H$3*SUM(F37:G37) -> 4659.9172 | I37: 14 | J37: 14 | K37: =$K$3*SUM(I37:J37) -> 7696.0437 | L37: 1000 | M37: =E37+H37+K37+L37 -> 16205.145
A38: 35 | B38: 李正琪 | C38: 6 | D38: 5 | E38: =$E$3*SUM(C38:D38) -> 1305.8761 | F38: 7 | H38: =$H$3*SUM(F38:G38) -> 1164.9793 | K38: =$K$3*SUM(I38:J38) -> 0 | M38: =E38+H38+K38+L38 -> 2470.8554
A39: 36 | B39: 立日木里 | C39: 1.5 | D39: 2 | E39: =$E$3*SUM(C39:D39) -> 415.50604 | H39: =$H$3*SUM(F39:G39) -> 0 | K39: =$K$3*SUM(I39:J39) -> 0 | M39: =E39+H39+K39+L39 -> 415.50604
A40: 37 | B40: 刘厚江 | E40: =$E$3*SUM(C40:D40) -> 0 | H40: =$H$3*SUM(F40:G40) -> 0 | I40: 5 | J40: 5 | K40: =$K$3*SUM(I40:J40) -> 2748.587 | M40: =E40+H40+K40+L40 -> 2748.587
...

Sheet 2.gk_过程评价
A1: 序号 | B1: 学科 | C1: 得分 | D1: 金额/元 | E1: 备注
A2: 1 | B2: 陈光汇 | C2: 603.08721 | D2: =C2*gk_质量奖分配!$D$18/SUM($C$2:$C$77) -> 13186.054
A3: 2 | B3: 格绒燚西 | C3: 597.22921 | D3: =C3*gk_质量奖分配!$D$18/SUM($C$2:$C$77) -> 13057.973
A4: 3 | B4: 何东霖 | C4: 198.29004 | D4: =C4*gk_质量奖分配!$D$18/SUM($C$2:$C$77) -> 4335.4645
A5: 4 | B5: 肖锐 | C5: 586.13724 | D5: =C5*gk_质量奖分配!$D$18/SUM($C$2:$C$77) -> 12815.456
A6: 5 | B6: 杨翁基之玛 | C6: 595.97669 | D6: =C6*gk_质量奖分配!$D$18/SUM($C$2:$C$77) -> 13030.588
A7: 6 | B7: 易涛 | C7: 585.33056 | D7: =C7*gk_质量奖分配!$D$18/SUM($C$2:$C$77) -> 12797.818
A8: 7 | B8: 岳子琦 | C8: 605.43429 | D8: =C8*gk_质量奖分配!$D$18/SUM($C$2:$C$77) -> 13237.371
A9: 8 | B9: 周菊明 | C9: 606.06229 | D9: =C9*gk_质量奖分配!$D$18/SUM($C$2:$C$77) -> 13251.102
A10: 9 | B10: 甲阿祝玛 | C10: 209.7561 | D10: =C10*gk_质量奖分配!$D$18/SUM($C$2:$C$77) -> 4586.1614
A11: 10 | B11: 李正琪 | C11: 296.61766 | D11: =C11*gk_质量奖分配!$D$18/SUM($C$2:$C$77) -> 6485.3251
A12: 11 | B12: 刘权芳 | C12: 186.06661 | D12: =C12*gk_质量奖分配!$D$18/SUM($C$2:$C$77) -> 4068.2084
A13: 12 | B13: 刘云菊 | C13: 194.39678 | D13: =C13*gk_质量奖分配!$D$18/SUM($C$2:$C$77) -> 4250.3413
... A77: 76 | B77: 李汉林 | C77: 91.530368 | D77: =C77*gk_质量奖分配!$D$18/SUM($C$2:$C$77) -> 2001.2436
C78: =SUM(C2:C77) -> 30609.673 | D78: =C78*gk_质量奖分配!$D$18/SUM($C$2:$C$77) -> 669257.79

Sheet 3.gk_上线质量
A1: 序号 | B1: 姓名 | C1: 得分 | D1: 金额
A2: 1 | B2: 陈光汇 | C2: 255.84 | D2: =gk_质量奖分配!$D$19*C2/SUM($C$2:$C$77) -> 13764.37
A3: 2 | B3: 格绒燚西 | C3: 158.88 | D3: =gk_质量奖分配!$D$19*C3/SUM($C$2:$C$77) -> 8547.8545
A4: 3 | B4: 何东霖 | C4: 26.4 | D4: =gk_质量奖分配!$D$19*C4/SUM($C$2:$C$77) -> 1420.3384
A5: 4 | B5: 肖锐 | C5: 537.96 | D5: =gk_质量奖分配!$D$19*C5/SUM($C$2:$C$77) -> 28942.622
A6: 5 | B6: 杨翁基之玛 | C6: 178.14 | D6: =gk_质量奖分配!$D$19*C6/SUM($C$2:$C$77) -> 9584.0559
A7: 6 | B7: 易涛 | C7: 401.88 | D7: =gk_质量奖分配!$D$19*C7/SUM($C$2:$C$77) -> 21621.424
A8: 7 | B8: 岳子琦 | C8: 351.87 | D8: =gk_质量奖分配!$D$19*C8/SUM($C$2:$C$77) -> 18930.851
A9: 8 | B9: 周菊明 | C9: 698.04 | D9: =gk_质量奖分配!$D$19*C9/SUM($C$2:$C$77) -> 37555.038
A10: 9 | B10: 甲阿祝玛 | C10: 6.66 | D10: =gk_质量奖分配!$D$19*C10/SUM($C$2:$C$77) -> 358.31263
A11: 10 | B11: 李正琪 | C11: 15.3 | D11: =gk_质量奖分配!$D$19*C11/SUM($C$2:$C$77) -> 823.15065
A12: 11 | B12: 刘权芳 | C12: 50.7 | D12: =gk_质量奖分配!$D$19*C12/SUM($C$2:$C$77) -> 2727.6953
A13: 12 | B13: 刘云菊 | C13: 71.16 | D13: =gk_质量奖分配!$D$19*C13/SUM($C$2:$C$77) -> 3828.4575
... A57: 56 | B57: 万饶 | C57: 7.08 | D57: =gk_质量奖分配!$D$19*C57/SUM($C$2:$C$77) -> 380.90893
A58: 57 | B58: 高琴 | C58: =136.5+136.5/2 -> 204.75 | D58: =gk_质量奖分配!$D$19*C58/SUM($C$2:$C$77) -> 11015.692
A59: 58 | B59: 尼玛布池 | C59: =500.31+7.5/2+88.95/2 -> 548.535 | D59: =gk_质量奖分配!$D$19*C59/SUM($C$2:$C$77) -> 29511.565
A60: 59 | B60: 张弘 | C60: 431.58 | D60: =gk_质量奖分配!$D$19*C60/SUM($C$2:$C$77) -> 23219.304
A61: 60 | B61: 张斯杰 | C61: =7.5+7.5/2 -> 11.25 | D61: =gk_质量奖分配!$D$19*C61/SUM($C$2:$C$77) -> 605.25783
A62: 61 | B62: 彭桦 | C62: =373.26+225.45/2 -> 485.985 | D62: =gk_质量奖分配!$D$19*C62/SUM($C$2:$C$77) -> 26146.331
A63: 62 | B63: 喇菊 | C63: 68.88 | D63: =gk_质量奖分配!$D$19*C63/SUM($C$2:$C$77) -> 3705.7919
A64: 63 | B64: 尤顺芝 | C64: 46.98 | D64: =gk_质量奖分配!$D$19*C64/SUM($C$2:$C$77) -> 2527.5567
A65: 64 | B65: 付仁源 | C65: 21.24 | D65: =gk_质量奖分配!$D$19*C65/SUM($C$2:$C$77) -> 1142.7268
A66: 65 | B66: 胡东缘 | C66: 246.78 | D66: =gk_质量奖分配!$D$19*C66/SUM($C$2:$C$77) -> 13276.936
A67: 66 | B67: 马巫各 | C67: 352.41 | D67: =gk_质量奖分配!$D$19*C67/SUM($C$2:$C$77) -> 18959.903
A68: 67 | B68: 沙正芳 | C68: =62.7+63.15/2 -> 94.275 | D68: =gk_质量奖分配!$D$19*C68/SUM($C$2:$C$77) -> 5072.0606
A69: 68 | B69: 吴文艺 | C69: 75.78 | D69: =gk_质量奖分配!$D$19*C69/SUM($C$2:$C$77) -> 4077.0167
A70: 69 | B70: 纪春权 | C70: =117.51+63.15/2 -> 149.085 | D70: =gk_质量奖分配!$D$19*C70/SUM($C$2:$C$77) -> 8020.8767
A71: 70 | B71: 康宇峰 | C71: 22.92 | D71: =gk_质量奖分配!$D$19*C71/SUM($C$2:$C$77) -> 1233.1119
A72: 71 | B72: 邓倩 | C72: 550.5 | D72: =gk_质量奖分配!$D$19*C72/SUM($C$2:$C$77) -> 29617.283
A73: 72 | B73: 金贵 | C73: 127.2 | D73: =gk_质量奖分配!$D$19*C73/SUM($C$2:$C$77) -> 6843.4485
A74: 73 | B74: 米晓妹 | C74: 111.48 | D74: =gk_质量奖分配!$D$19*C74/SUM($C$2:$C$77) -> 5997.7016
A75: 74 | B75: 石敏 | C75: 59.64 | D75: =gk_质量奖分配!$D$19*C75/SUM($C$2:$C$77) -> 3208.6735
A76: 75 | B76: 胡柔殳 | C76: 1.2 | D76: =gk_质量奖分配!$D$19*C76/SUM($C$2:$C$77) -> 64.560835
A77: 76 | B77: 李汉林 | C77: 10.08 | D77: =gk_质量奖分配!$D$19*C77/SUM($C$2:$C$77) -> 542.31101
B78: 合计 | C78: =SUM(C2:C77) -> 16586.1 | D78: =gk_质量奖分配!$D$19*C78/SUM($C$2:$C$77) -> 892343.72

Sheet 4.gk_艺体质量
A1: 2025届艺体质量奖
B2: 文化教师考核 | D2: 专业教师考核 | E2: 合计
A3: 授课教师 | B3: 分数 | C3: 金额 | D3: 金额
A4: 曹云萍 | B4: 39.9 | C4: =B4*gk_质量奖分配!$D$16/SUM($B$4:$B$64) -> 2651.1532 | E4: =C4+D4 -> 2651.1532
A5: 陈光汇 | B5: 9.9 | C5: =B5*gk_质量奖分配!$D$16/SUM($B$4:$B$64) -> 657.80492 | E5: =C5+D5 -> 657.80492
A6: 陈国萍 | B6: 33.3 | C6: =B6*gk_质量奖分配!$D$16/SUM($B$4:$B$64) -> 2212.6166 | E6: =C6+D6 -> 2212.6166
A7: 次珍扎保 | B7: 1.2 | C7: =B7*gk_质量奖分配!$D$16/SUM($B$4:$B$64) -> 79.73393 | E7: =C7+D7 -> 79.73393
A8: 邓国华 | B8: 62.7 | C8: =B8*gk_质量奖分配!$D$16/SUM($B$4:$B$64) -> 4166.0978 | E8: =C8+D8 -> 4166.0978
A9: 邓倩 | B9: 25.5 | C9: =B9*gk_质量奖分配!$D$16/SUM($B$4:$B$64) -> 1694.346 | E9: =C9+D9 -> 1694.346
A10: 东梅 | B10: 114 | C10: =B10*gk_质量奖分配!$D$16/SUM($B$4:$B$64) -> 7574.7234 | E10: =C10+D10 -> 7574.7234
A11: 付仁源 | B11: 0.6 | C11: =B11*gk_质量奖分配!$D$16/SUM($B$4:$B$64) -> 39.866965 | E11: =C11+D11 -> 39.866965
A12: 格绒燚西 | B12: 222.6 | C12: =B12*gk_质量奖分配!$D$16/SUM($B$4:$B$64) -> 14790.644 | E12: =C12+D12 -> 14790.644
A13: 何传英 | B13: 18 | C13: =B13*gk_质量奖分配!$D$16/SUM($B$4:$B$64) -> 1196.009 | E13: =C13+D13 -> 1196.009
A14: 何东霖 | B14: 132 | C14: =B14*gk_质量奖分配!$D$16/SUM($B$4:$B$64) -> 8770.7323 | E14: =C14+D14 -> 8770.7323
A15: 胡东缘 | B15: 15.1 | C15: =B15*gk_质量奖分配!$D$16/SUM($B$4:$B$64) -> 1003.3186 | E15: =C15+D15 -> 1003.3186
... A64: 朱恩凡 | B64: 2.4 | C64: =B64*gk_质量奖分配!$D$16/SUM($B$4:$B$64) -> 159.46786 | E64: =C64+D64 -> 159.46786
A65: 邓彤 | D65: 74700 | E65: =C65+D65 -> 74700
A66: 朱梦清 | D66: 8900 | E66: =C66+D66 -> 8900
A67: 周时德 | D67: 7400 | E67: =C67+D67 -> 7400
A68: 汇总 | B68: =SUM(B4:B67) -> 3398.4 | C68: =SUM(C4:C67) -> 225806.49 | D68: =SUM(D4:D67) -> 91000 | E68: =C68+D68 -> 316806.49

Sheet 5.gk_超额目标
A1: 序号 | B1: 姓名 | C1: 得分 | D1: 金额
A2: 1 | B2: 曹云萍 | C2: 75.2 | D2: =C2*gk_质量奖分配!$D$10/SUM($C$2:$C$76) -> 3583.3901
A3: 2 | B3: 陈光汇 | C3: 60 | D3: =C3*gk_质量奖分配!$D$10/SUM($C$2:$C$76) -> 2859.0878
A4: 3 | B4: 陈国萍 | C4: 83.2 | D4: =C4*gk_质量奖分配!$D$10/SUM($C$2:$C$76) -> 3964.6018
A5: 4 | B5: 陈虎林 | C5: 12.6 | D5: =C5*gk_质量奖分配!$D$10/SUM($C$2:$C$76) -> 600.40844
A6: 5 | B6: 次珍扎保 | C6: 3 | D6: =C6*gk_质量奖分配!$D$10/SUM($C$2:$C$76) -> 142.95439
A7: 6 | B7: 崔萌 | C7: 5.4 | D7: =C7*gk_质量奖分配!$D$10/SUM($C$2:$C$76) -> 257.3179
A8: 7 | B8: 邓国华 | C8: 18 | D8: =C8*gk_质量奖分配!$D$10/SUM($C$2:$C$76) -> 857.72634
A9: 8 | B9: 邓倩 | C9: 131.8 | D9: =C9*gk_质量奖分配!$D$10/SUM($C$2:$C$76) -> 6280.4629
A10: 9 | B10: 东梅 | C10: 18 | D10: =C10*gk_质量奖分配!$D$10/SUM($C$2:$C$76) -> 857.72634
A11: 10 | B11: 杜东洋 | C11: 33.6 | D11: =C11*gk_质量奖分配!$D$10/SUM($C$2:$C$76) -> 1601.0892
A12: 11 | B12: 付仁源 | C12: 7.8 | D12: =C12*gk_质量奖分配!$D$10/SUM($C$2:$C$76) -> 371.68142
A13: 12 | B13: 格绒燚西 | C13: 46.2 | D13: =C13*gk_质量奖分配!$D$10/SUM($C$2:$C$76) -> 2201.4976
... A76: 75 | B76: 朱恩凡 | C76: 59.4 | D76: =C76*gk_质量奖分配!$D$10/SUM($C$2:$C$76) -> 2830.4969
C77: =SUM(C2:C76) -> 3525.6 | D77: =C77*gk_质量奖分配!$D$10/SUM($C$2:$C$76) -> 168000

Sheet 6.gk_年级管理
A1: 姓名 | B1: 年级管理 | C1: 班级管理 | D1: 奖金
A2: 徐万雄 | B2: 8089.76 | D2: =B2+C2 -> 8089.76
A3: 赵建超 | B3: 6002.08 | D3: =B3+C3 -> 6002.08
A4: 王友春 | B4: 2609.6 | D4: =B4+C4 -> 2609.6
A5: 降初里 | B5: 8611.68 | D5: =B5+C5 -> 8611.68
A6: 叶小军 | B6: 7828.8 | C6: 2181 | D6: =B6+C6 -> 10009.8
A7: 尼玛布池 | B7: 2609.6 | C7: 2181 | D7: =B7+C7 -> 4790.6
A8: 邱君益 | B8: 782.88 | D8: =B8+C8 -> 782.88
A9: 杜东洋 | B9: 782.88 | D9: =B9+C9 -> 782.88
A10: 东梅 | B10: 782.88 | D10: =B10+C10 -> 782.88
A11: 徐志兵 | B11: 782.88 | D11: =B11+C11 -> 782.88
A12: 彭桦 | B12: 782.88 | D12: =B12+C12 -> 782.88
A13: 李荣鑫 | C13: 2180.88 | D13: =B13+C13 -> 2180.88
A14: 易涛 | C14: 2180.88 | D14: =B14+C14 -> 2180.88
A15: 肖锐 | C15: 2180.88 | D15: =B15+C15 -> 2180.88
A16: 赵云川 | C16: 2180.88 | D16: =B16+C16 -> 2180.88
A17: 邓倩 | C17: 2180.88 | D17: =B17+C17 -> 2180.88
A18: 曹云萍 | C18: 2180.88 | D18: =B18+C18 -> 2180.88
A19: 康小平 | C19: 2180.88 | D19: =B19+C19 -> 2180.88
A20: 杨琴 | C20: 2180.88 | D20: =B20+C20 -> 2180.88
A21: 喇燕 | C21: 2180.88 | D21: =B21+C21 -> 2180.88
A22: 胡东缘 | C22: 2180.88 | D22: =B22+C22 -> 2180.88
A23: 李永会 | C23: 2180.88 | D23: =B23+C23 -> 2180.88
A24: 马俊 | C24: 2180.88 | D24: =B24+C24 -> 2180.88
... A26: 周菊明 | C26: 2180.88 | D26: =B26+C26 -> 2180.88
A27: 合计 | B27: =SUM(B2:B26) -> 39665.92 | C27: =SUM(C2:C26) -> 34894.32 | D27: =B27+C27 -> 74560.24

Sheet 7.gk_C9院校考核
A1: 奖金总额 | B1: 50000 | C1: 元
A2: 序号 | B2: 姓名 | C2: 年级管理/元 | D2: 班级管理/元 | E2: 教师考核/元 | F2: 合计
A3: 1 | B3: 降初里 | C3: =B1*0.05 -> 2500 | F3: =SUM(C3:E3) -> 2500
A4: 2 | B4: 叶小军 | D4: =B1*0.05 -> 2500 | E4: =$B$1*0.9*1/6 -> 7500 | F4: =SUM(C4:E4) -> 10000
