Workbook

Sheet 所有教师汇总
A1: 教师 | B1: 得分
A2: 陈光汇 | B2: 603.08721
A3: 格绒燚西 | B3: 597.22921
A4: 何东霖 | B4: 198.29004
A5: 肖锐 | B5: 586.13724
A6: 杨翁基之玛 | B6: 595.97669
A7: 易涛 | B7: 585.33056
A8: 岳子琦 | B8: 605.43429
A9: 周菊明 | B9: 606.06229
A10: 甲阿祝玛 | B10: 209.7561
A11: 李正琪 | B11: 296.61766
A12: 刘权芳 | B12: 186.06661
A13: 刘云菊 | B13: 194.39678
... A77: 李汉林 | B77: 91.530368

Sheet 语文
A1: 身份证号码 | B1: 辅助学籍号 | C1: 班级 | D1: 科类 | E1: 姓名 | F1: 总分 | G1: 高考 | K1: 高三上 | O1: 高二下 | S1: 高二上 | W1: 高一下 | AA1: 高一上 | AE1: 中考
G2: 成绩 | H2: 教师 | I2: 得分 | J2: 排名 | K2: 成绩 | L2: 教师 | M2: 得分 | N2: 排名 | O2: 成绩 | P2: 教师 | Q2: 得分 | R2: 排名 | S2: 成绩 | T2: 教师 | U2: 得分 | V2: 排名 | W2: 成绩 | X2: 教师 | Y2: 得分 | Z2: 排名 | AA2: 成绩 | AB2: 教师 | AC2: 得分 | AD2: 排名 | AE2: 成绩 | AF2: 排名
A3: 513422200609206017 | B3: G513422200609206017 | C3: 1 | D3: 物理类 | E3: 仁青杜基 | F3: 624 | G3: 123 | H3: 周菊明 | I3: =IF(OR(G3=0,K3=0),100,(((N3-J3)/COUNTIF(D:D,D3))*100)+100) -> 100.84746 | J3: =RANK(G3,$G$3:$G$356,0) -> 1 | K3: =VLOOKUP(B3,[1]高三上!$B:$H,6,0) -> 115 | L3: =VLOOKUP(B3,[1]高三上!$B:$H,7,0) -> 周菊明 | M3: =IF(OR(O3=0,K3=0),100,(((R3-N3)/COUNTIF(D:D,D3))*100)+100) -> 104.80226 | N3: =RANK(K3,$K$3:$K$356,0) -> 4 | O3: =VLOOKUP(B3,[1]高二下!$B:$H,6,0) -> 99 | P3: =VLOOKUP(B3,[1]高二下!$B:$H,7,0) -> 周菊明 | Q3: =IF(OR(O3=0,S3=0),100,(((V3-R3)/COUNTIF(D:D,D3))*100)+100) -> 94.350282 | R3: =RANK(O3,$O$3:$O$356,0) -> 21 | S3: =VLOOKUP(B3,[1]高二上!$B:$H,6,0) -> 118 | T3: =VLOOKUP(B3,[1]高二上!$B:$H,7,0) -> 周菊明 | U3: =IF(OR(W3=0,S3=0),100,(((Z3-V3)/COUNTIF(D:D,D3))*100)+100) -> 103.9548 | V3: =RANK(S3,$S$3:$S$356,0) -> 1 | W3: =VLOOKUP(B3,[1]高一下!$B:$H,6,0) -> 101 | X3: =VLOOKUP(B3,[1]高一下!$B:$H,7,0) -> 周菊明 | Y3: =IF(OR(W3=0,AA3=0),100,(((AD3-Z3)/COUNTIF(D:D,D3))*100)+100) -> 96.892655 | Z3: =RANK(W3,$W$3:$W$356,0) -> 15 | AA3: =VLOOKUP(B3,[1]高一上!$B:$G,5,0) -> 108 | AB3: =VLOOKUP(B3,[1]高一上!$B:$G,6,0) -> 周菊明 | AC3: =IF(OR(AE3=0,AA3=0),100,(((AF3-AD3)/COUNTIF(D:D,D3))*100)+100) -> 114.68927 | AD3: =RANK(AA3,$AA$3:$AA$356,0) -> 4 | AE3: =VLOOKUP(B3,[1]中考!$B:$G,6,0) -> 114 | AF3: =RANK(AE3,AE3:AE356,0) -> 56
A4: 51342220070812341X | B4: G51342220070812341X | C4: 1 | D4: 物理类 | E4: 潘路阳 | F4: 607 | G4: 113 | H4: 周菊明 | I4: =IF(OR(G4=0,K4=0),100,(((N4-J4)/COUNTIF(D:D,D4))*100)+100) -> 96.045198 | J4: =RANK(G4,$G$3:$G$356,0) -> 19 | K4: =VLOOKUP(B4,[1]高三上!$B:$H,6,0) -> 114 | L4: =VLOOKUP(B4,[1]高三上!$B:$H,7,0) -> 周菊明 | M4: =IF(OR(O4=0,K4=0),100,(((R4-N4)/COUNTIF(D:D,D4))*100)+100) -> 118.36158 | N4: =RANK(K4,$K$3:$K$356,0) -> 5 | O4: =VLOOKUP(B4,[1]高二下!$B:$H,6,0) -> 93 | P4: =VLOOKUP(B4,[1]高二下!$B:$H,7,0) -> 周菊明 | Q4: =IF(OR(O4=0,S4=0),100,(((V4-R4)/COUNTIF(D:D,D4))*100)+100) -> 81.073446 | R4: =RANK(O4,$O$3:$O$356,0) -> 70 | S4: =VLOOKUP(B4,[1]高二上!$B:$H,6,0) -> 116 | T4: =VLOOKUP(B4,[1]高二上!$B:$H,7,0) -> 周菊明 | U4: =IF(OR(W4=0,S4=0),100,(((Z4-V4)/COUNTIF(D:D,D4))*100)+100) -> 120.33898 | V4: =RANK(S4,$S$3:$S$356,0) -> 3 | W4: =VLOOKUP(B4,[1]高一下!$B:$H,6,0) -> 93 | X4: =VLOOKUP(B4,[1]高一下!$B:$H,7,0) -> 周菊明 | Y4: =IF(OR(W4=0,AA4=0),100,(((AD4-Z4)/COUNTIF(D:D,D4))*100)+100) -> 86.158192 | Z4: =RANK(W4,$W$3:$W$356,0) -> 75 | AA4: =VLOOKUP(B4,[1]高一上!$B:$G,5,0) -> 97 | AB4: =VLOOKUP(B4,[1]高一上!$B:$G,6,0) -> 周菊明 | AC4: =IF(OR(AE4=0,AA4=0),100,(((AF4-AD4)/COUNTIF(D:D,D4))*100)+100) -> 124.85876 | AD4: =RANK(AA4,$AA$3:$AA$356,0) -> 26 | AE4: =VLOOKUP(B4,[1]中考!$B:$G,6,0) -> 109 | AF4: =RANK(AE4,AE4:AE357,0) -> 114
A5: 513422200708114417 | B5: G513422200708114417 | C5: 1 | D5: 物理类 | E5: 杨东生 | F5: 603 | G5: 117 | H5: 周菊明 | I5: =IF(OR(G5=0,K5=0),100,(((N5-J5)/COUNTIF(D:D,D5))*100)+100) -> 104.51977 | J5: =RANK(G5,$G$3:$G$356,0) -> 8 | K5: =VLOOKUP(B5,[1]高三上!$B:$H,6,0) -> 108 | L5: =VLOOKUP(B5,[1]高三上!$B:$H,7,0) -> 周菊明 | M5: =IF(OR(O5=0,K5=0),100,(((R5-N5)/COUNTIF(D:D,D5))*100)+100) -> 96.610169 | N5: =RANK(K5,$K$3:$K$356,0) -> 24 | O5: =VLOOKUP(B5,[1]高二下!$B:$H,6,0) -> 101 | P5: =VLOOKUP(B5,[1]高二下!$B:$H,7,0) -> 周菊明 | Q5: =IF(OR(O5=0,S5=0),100,(((V5-R5)/COUNTIF(D:D,D5))*100)+100) -> 106.21469 | R5: =RANK(O5,$O$3:$O$356,0) -> 12 | S5: =VLOOKUP(B5,[1]高二上!$B:$H,6,0) -> 105 | T5: =VLOOKUP(B5,[1]高二上!$B:$H,7,0) -> 周菊明 | U5: =IF(OR(W5=0,S5=0),100,(((Z5-V5)/COUNTIF(D:D,D5))*100)+100) -> 140.39548 | V5: =RANK(S5,$S$3:$S$356,0) -> 34 | W5: =VLOOKUP(B5,[1]高一下!$B:$H,6,0) -> 86 | X5: =VLOOKUP(B5,[1]高一下!$B:$H,7,0) -> 周菊明 | Y5: =IF(OR(W5=0,AA5=0),100,(((AD5-Z5)/COUNTIF(D:D,D5))*100)+100) -> 56.214689 | Z5: =RANK(W5,$W$3:$W$356,0) -> 177 | AA5: =VLOOKUP(B5,[1]高一上!$B:$G,5,0) -> 98 | AB5: =VLOOKUP(B5,[1]高一上!$B:$G,6,0) -> 周菊明 | AC5: =IF(OR(AE5=0,AA5=0),100,(((AF5-AD5)/COUNTIF(D:D,D5))*100)+100) -> 122.88136 | AD5: =RANK(AA5,$AA$3:$AA$356,0) -> 22 | AE5: =VLOOKUP(B5,[1]中考!$B:$G,6,0) -> 110 | AF5: =RANK(AE5,AE5:AE358,0) -> 103
A6: 513422200701205025 | B6: G513422200701205025 | C6: 1 | D6: 物理类 | E6: 次里拉姆 | F6: 594 | G6: 114 | H6: 周菊明 | I6: =IF(OR(G6=0,K6=0),100,(((N6-J6)/COUNTIF(D:D,D6))*100)+100) -> 109.88701 | J6: =RANK(G6,$G$3:$G$356,0) -> 13 | K6: =VLOOKUP(B6,[1]高三上!$B:$H,6,0) -> 104 | L6: =VLOOKUP(B6,[1]高三上!$B:$H,7,0) -> 周菊明 | M6: =IF(OR(O6=0,K6=0),100,(((R6-N6)/COUNTIF(D:D,D6))*100)+100) -> 90.960452 | N6: =RANK(K6,$K$3:$K$356,0) -> 48 | O6: =VLOOKUP(B6,[1]高二下!$B:$H,6,0) -> 100 | P6: =VLOOKUP(B6,[1]高二下!$B:$H,7,0) -> 周菊明 | Q6: =IF(OR(O6=0,S6=0),100,(((V6-R6)/COUNTIF(D:D,D6))*100)+100) -> 105.08475 | R6: =RANK(O6,$O$3:$O$356,0) -> 16 | S6: =VLOOKUP(B6,[1]高二上!$B:$H,6,0) -> 105 | T6: =VLOOKUP(B6,[1]高二上!$B:$H,7,0) -> 周菊明 | U6: =IF(OR(W6=0,S6=0),100,(((Z6-V6)/COUNTIF(D:D,D6))*100)+100) -> 135.59322 | V6: =RANK(S6,$S$3:$S$356,0) -> 34 | W6: =VLOOKUP(B6,[1]高一下!$B:$H,6,0) -> 87 | X6: =VLOOKUP(B6,[1]高一下!$B:$H,7,0) -> 周菊明 | Y6: =IF(OR(W6=0,AA6=0),100,(((AD6-Z6)/COUNTIF(D:D,D6))*100)+100) -> 98.022599 | Z6: =RANK(W6,$W$3:$W$356,0) -> 160 | AA6: =VLOOKUP(B6,[1]高一上!$B:$G,5,0) -> 81 | AB6: =VLOOKUP(B6,[1]高一上!$B:$G,6,0) -> 周菊明 | AC6: =IF(OR(AE6=0,AA6=0),100,(((AF6-AD6)/COUNTIF(D:D,D6))*100)+100) -> 69.20904 | AD6: =RANK(AA6,$AA$3:$AA$356,0) -> 153 | AE6: =VLOOKUP(B6,[1]中考!$B:$G,6,0) -> 116 | AF6: =RANK(AE6,AE6:AE359,0) -> 44
A7: 513422200605053818 | B7: G513422200605053818 | C7: 1 | D7: 物理类 | E7: 马文海 | F7: 585 | G7: 107 | H7: 周菊明 | I7: =IF(OR(G7=0,K7=0),100,(((N7-J7)/COUNTIF(D:D,D7))*100)+100) -> 92.937853 | J7: =RANK(G7,$G$3:$G$356,0) -> 64 | K7: =VLOOKUP(B7,[1]高三上!$B:$H,6,0) -> 105 | L7: =VLOOKUP(B7,[1]高三上!$B:$H,7,0) -> 周菊明 | M7: =IF(OR(O7=0,K7=0),100,(((R7-N7)/COUNTIF(D:D,D7))*100)+100) -> 99.435028 | N7: =RANK(K7,$K$3:$K$356,0) -> 39 | O7: =VLOOKUP(B7,[1]高二下!$B:$H,6,0) -> 96 | P7: =VLOOKUP(B7,[1]高二下!$B:$H,7,0) -> 周菊明 | Q7: =IF(OR(O7=0,S7=0),100,(((V7-R7)/COUNTIF(D:D,D7))*100)+100) -> 101.9774 | R7: =RANK(O7,$O$3:$O$356,0) -> 37 | S7: =VLOOKUP(B7,[1]高二上!$B:$H,6,0) -> 103 | T7: =VLOOKUP(B7,[1]高二上!$B:$H,7,0) -> 周菊明 | U7: =IF(OR(W7=0,S7=0),100,(((Z7-V7)/COUNTIF(D:D,D7))*100)+100) -> 108.75706 | V7: =RANK(S7,$S$3:$S$356,0) -> 44 | W7: =VLOOKUP(B7,[1]高一下!$B:$H,6,0) -> 93 | X7: =VLOOKUP(B7,[1]高一下!$B:$H,7,0) -> 周菊明 | Y7: =IF(OR(W7=0,AA7=0),100,(((AD7-Z7)/COUNTIF(D:D,D7))*100)+100) -> 97.740113 | Z7: =RANK(W7,$W$3:$W$356,0) -> 75 | AA7: =VLOOKUP(B7,[1]高一上!$B:$G,5,0) -> 90 | AB7: =VLOOKUP(B7,[1]高一上!$B:$G,6,0) -> 周菊明 | AC7: =IF(OR(AE7=0,AA7=0),100,(((AF7-AD7)/COUNTIF(D:D,D7))*100)+100) -> 103.67232 | AD7: =RANK(AA7,$AA$3:$AA$356,0) -> 67 | AE7: =VLOOKUP(B7,[1]中考!$B:$G,6,0) -> 112 | AF7: =RANK(AE7,AE7:AE360,0) -> 80
A8: 513422200705272727 | B8: G513422200705272727 | C8: 1 | D8: 物理类 | E8: 周静 | F8: 575 | G8: 117 | H8: 周菊明 | I8: =IF(OR(G8=0,K8=0),100,(((N8-J8)/COUNTIF(D:D,D8))*100)+100) -> 111.29944 | J8: =RANK(G8,$G$3:$G$356,0) -> 8 | K8: =VLOOKUP(B8,[1]高三上!$B:$H,6,0) -> 104 | L8: =VLOOKUP(B8,[1]高三上!$B:$H,7,0) -> 周菊明 | M8: =IF(OR(O8=0,K8=0),100,(((R8-N8)/COUNTIF(D:D,D8))*100)+100) -> 106.21469 | N8: =RANK(K8,$K$3:$K$356,0) -> 48 | O8: =VLOOKUP(B8,[1]高二下!$B:$H,6,0) -> 93 | P8: =VLOOKUP(B8,[1]高二下!$B:$H,7,0) -> 周菊明 | Q8: =IF(OR(O8=0,S8=0),100,(((V8-R8)/COUNTIF(D:D,D8))*100)+100) -> 82.768362 | R8: =RANK(O8,$O$3:$O$356,0) -> 70 | S8: =VLOOKUP(B8,[1]高二上!$B:$H,6,0) -> 111 | T8: =VLOOKUP(B8,[1]高二上!$B:$H,7,0) -> 周菊明 | U8: =IF(OR(W8=0,S8=0),100,(((Z8-V8)/COUNTIF(D:D,D8))*100)+100) -> 103.9548 | V8: =RANK(S8,$S$3:$S$356,0) -> 9 | W8: =VLOOKUP(B8,[1]高一下!$B:$H,6,0) -> 99 | X8: =VLOOKUP(B8,[1]高一下!$B:$H,7,0) -> 周菊明 | Y8: =IF(OR(W8=0,AA8=0),100,(((AD8-Z8)/COUNTIF(D:D,D8))*100)+100) -> 103.67232 | Z8: =RANK(W8,$W$3:$W$356,0) -> 23 | AA8: =VLOOKUP(B8,[1]高一上!$B:$G,5,0) -> 95 | AB8: =VLOOKUP(B8,[1]高一上!$B:$G,6,0) -> 周菊明 | AC8: =IF(OR(AE8=0,AA8=0),100,(((AF8-AD8)/COUNTIF(D:D,D8))*100)+100) -> 119.20904 | AD8: =RANK(AA8,$AA$3:$AA$356,0) -> 36 | AE8: =VLOOKUP(B8,[1]中考!$B:$G,6,0) -> 110 | AF8: =RANK(AE8,AE8:AE361,0) -> 104
A9: 51342220070426002X | B9: G51342220070426002X | C9: 1 | D9: 物理类 | E9: 杨语曦 | F9: 568 | G9: 118 | H9: 周菊明 | I9: =IF(OR(G9=0,K9=0),100,(((N9-J9)/COUNTIF(D:D,D9))*100)+100) -> 98.870056 | J9: =RANK(G9,$G$3:$G$356,0) -> 5 | K9: =VLOOKUP(B9,[1]高三上!$B:$H,6,0) -> 122 | L9: =VLOOKUP(B9,[1]高三上!$B:$H,7,0) -> 周菊明 | M9: =IF(OR(O9=0,K9=0),100,(((R9-N9)/COUNTIF(D:D,D9))*100)+100) -> 104.23729 | N9: =RANK(K9,$K$3:$K$356,0) -> 1 | O9: =VLOOKUP(B9,[1]高二下!$B:$H,6,0) -> 100 | P9: =VLOOKUP(B9,[1]高二下!$B:$H,7,0) -> 周菊明 | Q9: =IF(OR(O9=0,S9=0),100,(((V9-R9)/COUNTIF(D:D,D9))*100)+100) -> 95.762712 | R9: =RANK(O9,$O$3:$O$356,0) -> 16 | S9: =VLOOKUP(B9,[1]高二上!$B:$H,6,0) -> 118 | T9: =VLOOKUP(B9,[1]高二上!$B:$H,7,0) -> 周菊明 | U9: =IF(OR(W9=0,S9=0),100,(((Z9-V9)/COUNTIF(D:D,D9))*100)+100) -> 101.69492 | V9: =RANK(S9,$S$3:$S$356,0) -> 1 | W9: =VLOOKUP(B9,[1]高一下!$B:$H,6,0) -> 104 | X9: =VLOOKUP(B9,[1]高一下!$B:$H,7,0) -> 周菊明 | Y9: =IF(OR(W9=0,AA9=0),100,(((AD9-Z9)/COUNTIF(D:D,D9))*100)+100) -> 98.305085 | Z9: =RANK(W9,$W$3:$W$356,0) -> 7 | AA9: =VLOOKUP(B9,[1]高一上!$B:$G,5,0) -> 117 | AB9: =VLOOKUP(B9,[1]高一上!$B:$G,6,0) -> 周菊明 | AC9: =IF(OR(AE9=0,AA9=0),100,(((AF9-AD9)/COUNTIF(D:D,D9))*100)+100) -> 101.69492 | AD9: =RANK(AA9,$AA$3:$AA$356,0) -> 1 | AE9: =VLOOKUP(B9,[1]中考!$B:$G,6,0) -> 124 | AF9: =RANK(AE9,AE9:AE362,0) -> 7
A10: 513422200506044430 | B10: G513422200506044430 | C10: 1 | D10: 物理类 | E10: 邱波 | F10: 565 | G10: 117 | H10: 周菊明 | I10: =IF(OR(G10=0,K10=0),100,(((N10-J10)/COUNTIF(D:D,D10))*100)+100) -> 117.51412 | J10: =RANK(G10,$G$3:$G$356,0) -> 8 | K10: =VLOOKUP(B10,[1]高三上!$B:$H,6,0) -> 102 | L10: =VLOOKUP(B10,[1]高三上!$B:$H,7,0) -> 周菊明 | M10: =IF(OR(O10=0,K10=0),100,(((R10-N10)/COUNTIF(D:D,D10))*100)+100) -> 132.76836 | N10: =RANK(K10,$K$3:$K$356,0) -> 70 | O10: =VLOOKUP(B10,[1]高二下!$B:$H,6,0) -> 86 | P10: =VLOOKUP(B10,[1]高二下!$B:$H,7,0) -> 周菊明 | Q10: =IF(OR(O10=0,S10=0),100,(((V10-R10)/COUNTIF(D:D,D10))*100)+100) -> 75.423729 | R10: =RANK(O10,$O$3:$O$356,0) -> 186 | S10: =VLOOKUP(B10,[1]高二上!$B:$H,6,0) -> 98 | T10: =VLOOKUP(B10,[1]高二上!$B:$H,7,0) -> 周菊明 | U10: =IF(OR(W10=0,S10=0),100,(((Z10-V10)/COUNTIF(D:D,D10))*100)+100) -> 83.333333 | V10: =RANK(S10,$S$3:$S$356,0) -> 99 | W10: =VLOOKUP(B10,[1]高一下!$B:$H,6,0) -> 96 | X10: =VLOOKUP(B10,[1]高一下!$B:$H,7,0) -> 周菊明 | Y10: =IF(OR(W10=0,AA10=0),100,(((AD10-Z10)/COUNTIF(D:D,D10))*100)+100) -> 110.16949 | Z10: =RANK(W10,$W$3:$W$356,0) -> 40 | AA10: =VLOOKUP(B10,[1]高一上!$B:$G,5,0) -> 89 | AB10: =VLOOKUP(B10,[1]高一上!$B:$G,6,0) -> 肖锐 | AC10: =IF(OR(AE10=0,AA10=0),100,(((AF10-AD10)/COUNTIF(D:D,D10))*100)+100) -> 144.91525 | AD10: =RANK(AA10,$AA$3:$AA$356,0) -> 76 | AE10: =VLOOKUP(B10,[1]中考!$B:$G,6,0) -> 101 | AF10: =RANK(AE10,AE10:AE363,0) -> 235
A11: 513422200412104826 | B11: G513422200412104826 | C11: 1 | D11: 物理类 | E11: 呷绒拉姆 | F11: 559 | G11: 119 | H11: 周菊明 | I11: =IF(OR(G11=0,K11=0),100,(((N11-J11)/COUNTIF(D:D,D11))*100)+100) -> 102.54237 | J11: =RANK(G11,$G$3:$G$356,0) -> 3 | K11: =VLOOKUP(B11,[1]高三上!$B:$H,6,0) -> 111 | L11: =VLOOKUP(B11,[1]高三上!$B:$H,7,0) -> 周菊明 | M11: =IF(OR(O11=0,K11=0),100,(((R11-N11)/COUNTIF(D:D,D11))*100)+100) -> 116.38418 | N11: =RANK(K11,$K$3:$K$356,0) -> 12 | O11: =VLOOKUP(B11,[1]高二下!$B:$H,6,0) -> 93 | P11: =VLOOKUP(B11,[1]高二下!$B:$H,7,0) -> 周菊明 | Q11: =IF(OR(O11=0,S11=0),100,(((V11-R11)/COUNTIF(D:D,D11))*100)+100) -> 85.59322 | R11: =RANK(O11,$O$3:$O$356,0) -> 70 | S11: =VLOOKUP(B11,[1]高二上!$B:$H,6,0) -> 108 | T11: =VLOOKUP(B11,[1]高二上!$B:$H,7,0) -> 周菊明 | U11: =IF(OR(W11=0,S11=0),100,(((Z11-V11)/COUNTIF(D:D,D11))*100)+100) -> 97.740113 | V11: =RANK(S11,$S$3:$S$356,0) -> 19 | W11: =VLOOKUP(B11,[1]高一下!$B:$H,6,0) -> 103 | X11: =VLOOKUP(B11,[1]高一下!$B:$H,7,0) -> 周菊明 | Y11: =IF(OR(W11=0,AA11=0),100,(((AD11-Z11)/COUNTIF(D:D,D11))*100)+100) -> 101.69492 | Z11: =RANK(W11,$W$3:$W$356,0) -> 11 | AA11: =VLOOKUP(B11,[1]高一上!$B:$G,5,0) -> 99 | AB11: =VLOOKUP(B11,[1]高一上!$B:$G,6,0) -> 周菊明 | AC11: =IF(OR(AE11=0,AA11=0),100,(((AF11-AD11)/COUNTIF(D:D,D11))*100)+100) -> 96.045198 | AD11: =RANK(AA11,$AA$3:$AA$356,0) -> 17 | AE11: =VLOOKUP(B11,[1]中考!$B:$G,6,0) -> 128 | AF11: =RANK(AE11,AE11:AE364,0) -> 3
A12: 513422200506017010 | B12: G513422200506017010 | C12: 1 | D12: 物理类 | E12: 鲁绒卓西 | F12: 558 | G12: 113 | H12: 周菊明 | I12: =IF(OR(G12=0,K12=0),100,(((N12-J12)/COUNTIF(D:D,D12))*100)+100) -> 122.88136 | J12: =RANK(G12,$G$3:$G$356,0) -> 19 | K12: =VLOOKUP(B12,[1]高三上!$B:$H,6,0) -> 99 | L12: =VLOOKUP(B12,[1]高三上!$B:$H,7,0) -> 周菊明 | M12: =IF(OR(O12=0,K12=0),100,(((R12-N12)/COUNTIF(D:D,D12))*100)+100) -> 91.525424 | N12: =RANK(K12,$K$3:$K$356,0) -> 100 | O12: =VLOOKUP(B12,[1]高二下!$B:$H,6,0) -> 93 | P12: =VLOOKUP(B12,[1]高二下!$B:$H,7,0) -> 周菊明 | Q12: =IF(OR(O12=0,S12=0),100,(((V12-R12)/COUNTIF(D:D,D12))*100)+100) -> 86.723164 | R12: =RANK(O12,$O$3:$O$356,0) -> 70 | S12: =VLOOKUP(B12,[1]高二上!$B:$H,6,0) -> 107 | T12: =VLOOKUP(B12,[1]高二上!$B:$H,7,0) -> 周菊明 | U12: =IF(OR(W12=0,S12=0),100,(((Z12-V12)/COUNTIF(D:D,D12))*100)+100) -> 111.01695 | V12: =RANK(S12,$S$3:$S$356,0) -> 23 | W12: =VLOOKUP(B12,[1]高一下!$B:$H,6,0) -> 94 | X12: =VLOOKUP(B12,[1]高一下!$B:$H,7,0) -> 周菊明 | Y12: =IF(OR(W12=0,AA12=0),100,(((AD12-Z12)/COUNTIF(D:D,D12))*100)+100) -> 85.310734 | Z12: =RANK(W12,$W$3:$W$356,0) -> 62 | AA12: =VLOOKUP(B12,[1]高一上!$B:$G,5,0) -> 102 | AB12: =VLOOKUP(B12,[1]高一上!$B:$G,6,0) -> 周菊明 | AC12: =IF(OR(AE12=0,AA12=0),100,(((AF12-AD12)/COUNTIF(D:D,D12))*100)+100) -> 127.11864 | AD12: =RANK(AA12,$AA$3:$AA$356,0) -> 10 | AE12: =VLOOKUP(B12,[1]中考!$B:$G,6,0) -> 110 | AF12: =RANK(AE12,AE12:AE365,0) -> 106
A13: 513422200405285016 | B13: G513422200405285016 | C13: 1 | D13: 物理类 | E13: 英扎次里 | F13: 552 | G13: 110 | H13: 周菊明 | I13: =IF(OR(G13=0,K13=0),100,(((N13-J13)/COUNTIF(D:D,D13))*100)+100) -> 108.75706 | J13: =RANK(G13,$G$3:$G$356,0) -> 39 | K13: =VLOOKUP(B13,[1]高三上!$B:$H,6,0) -> 102 | L13: =VLOOKUP(B13,[1]高三上!$B:$H,7,0) -> 周菊明 | M13: =IF(OR(O13=0,K13=0),100,(((R13-N13)/COUNTIF(D:D,D13))*100)+100) -> 90.677966 | N13: =RANK(K13,$K$3:$K$356,0) -> 70 | O13: =VLOOKUP(B13,[1]高二下!$B:$H,6,0) -> 96 | P13: =VLOOKUP(B13,[1]高二下!$B:$H,7,0) -> 周菊明 | Q13: =IF(OR(O13=0,S13=0),100,(((V13-R13)/COUNTIF(D:D,D13))*100)+100) -> 90.960452 | R13: =RANK(O13,$O$3:$O$356,0) -> 37 | S13: =VLOOKUP(B13,[1]高二上!$B:$H,6,0) -> 114 | T13: =VLOOKUP(B13,[1]高二上!$B:$H,7,0) -> 周菊明 | U13: =IF(OR(W13=0,S13=0),100,(((Z13-V13)/COUNTIF(D:D,D13))*100)+100) -> 100.56497 | V13: =RANK(S13,$S$3:$S$356,0) -> 5 | W13: =VLOOKUP(B13,[1]高一下!$B:$H,6,0) -> 104 | X13: =VLOOKUP(B13,[1]高一下!$B:$H,7,0) -> 周菊明 | Y13: =IF(OR(W13=0,AA13=0),100,(((AD13-Z13)/COUNTIF(D:D,D13))*100)+100) -> 102.82486 | Z13: =RANK(W13,$W$3:$W$356,0) -> 7 | AA13: =VLOOKUP(B13,[1]高一上!$B:$G,5,0) -> 99 | AB13: =VLOOKUP(B13,[1]高一上!$B:$G,6,0) -> 周菊明 | AC13: =IF(OR(AE13=0,AA13=0),100,(((AF13-AD13)/COUNTIF(D:D,D13))*100)+100) -> 102.54237 | AD13: =RANK(AA13,$AA$3:$AA$356,0) -> 17 | AE13: =VLOOKUP(B13,[1]中考!$B:$G,6,0) -> 118 | AF13: =RANK(AE13,AE13:AE366,0) -> 26
A14: 513422200607081521 | B14: G513422200607081521 | C14: 1 | D14: 物理类 | E14: 马金秀 | F14: 550 | G14: 114 | H14: 周菊明 | I14: =IF(OR(G14=0,K14=0),100,(((N14-J14)/COUNTIF(D:D,D14))*100)+100) -> 99.717514 | J14: =RANK(G14,$G$3:$G$356,0) -> 13 | K14: =VLOOKUP(B14,[1]高三上!$B:$H,6,0) -> 111 | L14: =VLOOKUP(B14,[1]高三上!$B:$H,7,0) -> 周菊明 | M14: =IF(OR(O14=0,K14=0),100,(((R14-N14)/COUNTIF(D:D,D14))*100)+100) -> 105.08475 | N14: =RANK(K14,$K$3:$K$356,0) -> 12 | O14: =VLOOKUP(B14,[1]高二下!$B:$H,6,0) -> 97 | P14: =VLOOKUP(B14,[1]高二下!$B:$H,7,0) -> 周菊明 | Q14: =IF(OR(O14=0,S14=0),100,(((V14-R14)/COUNTIF(D:D,D14))*100)+100) -> 114.12429 | R14: =RANK(O14,$O$3:$O$356,0) -> 30 | S14: =VLOOKUP(B14,[1]高二上!$B:$H,6,0) -> 99 | T14: =VLOOKUP(B14,[1]高二上!$B:$H,7,0) -> 周菊明 | U14: =IF(OR(W14=0,S14=0),100,(((Z14-V14)/COUNTIF(D:D,D14))*100)+100) -> 80.508475 | V14: =RANK(S14,$S$3:$S$356,0) -> 80 | W14: =VLOOKUP(B14,[1]高一下!$B:$H,6,0) -> 103 | X14: =VLOOKUP(B14,[1]高一下!$B:$H,7,0) -> 周菊明 | Y14: =IF(OR(W14=0,AA14=0),100,(((AD14-Z14)/COUNTIF(D:D,D14))*100)+100) -> 103.10734 | Z14: =RANK(W14,$W$3:$W$356,0) -> 11 | AA14: =VLOOKUP(B14,[1]高一上!$B:$G,5,0) -> 98 | AB14: =VLOOKUP(B14,[1]高一上!$B:$G,6,0) -> 周菊明 | AC14: =IF(OR(AE14=0,AA14=0),100,(((AF14-AD14)/COUNTIF(D:D,D14))*100)+100) -> 95.480226 | AD14: =RANK(AA14,$AA$3:$AA$356,0) -> 22 | AE14: =VLOOKUP(B14,[1]中考!$B:$G,6,0) -> 124 | AF14: =RANK(AE14,AE14:AE367,0) -> 6
... A107: 513422200502102111 | B107: G513422200502102111 | C107: 3 | D107: 物理类 | E107: 吕神发 | F107: 472 | G107: 90 | H107: 易涛 | I107: =IF(OR(G107=0,K107=0),100,(((N107-J107)/COUNTIF(D:D,D107))*100)+100) -> 71.751412 | J107: =RANK(G107,$G$3:$G$356,0) -> 289 | K107: =VLOOKUP(B107,[1]高三上!$B:$H,6,0) -> 91 | L107: =VLOOKUP(B107,[1]高三上!$B:$H,7,0) -> 易涛 | M107: =IF(OR(O107=0,K107=0),100,(((R107-N107)/COUNTIF(D:D,D107))*100)+100) -> 139.26554 | N107: =RANK(K107,$K$3:$K$356,0) -> 189 | O107: =VLOOKUP(B107,[1]高二下!$B:$H,6,0) -> 72 | P107: =VLOOKUP(B107,[1]高二下!$B:$H,7,0) -> 易涛 | Q107: =IF(OR(O107=0,S107=0),100,(((V107-R107)/COUNTIF(D:D,D107))*100)+100) -> 29.943503 | R107: =RANK(O107,$O$3:$O$356,0) -> 328 | S107: =VLOOKUP(B107,[1]高二上!$B:$H,6,0) -> 99 | T107: =VLOOKUP(B107,[1]高二上!$B:$H,7,0) -> 易涛 | U107: =IF(OR(W107=0,S107=0),100,(((Z107-V107)/COUNTIF(D:D,D107))*100)+100) -> 146.0452 | V107: =RANK(S107,$S$3:$S$356,0) -> 80 | W107: =VLOOKUP(B107,[1]高一下!$B:$H,6,0) -> 82 | X107: =VLOOKUP(B107,[1]高一下!$B:$H,7,0) -> 易涛 | Y107: =IF(OR(W107=0,AA107=0),100,(((AD107-Z107)/COUNTIF(D:D,D107))*100)+100) -> 95.19774 | Z107: =RANK(W107,$W$3:$W$356,0) -> 243 | AA107: =VLOOKUP(B107,[1]高一上!$B:$G,5,0) -> 76 | AB107: =VLOOKUP(B107,[1]高一上!$B:$G,6,0) -> 易涛 | AC107: =IF(OR(AE107=0,AA107=0),100,(((AF107-AD107)/COUNTIF(D:D,D107))*100)+100) -> 109.32203 | AD107: =RANK(AA107,$AA$3:$AA$356,0) -> 226 | AE107: =VLOOKUP(B107,[1]中考!$B:$G,6,0) -> 98 | AF107: =RANK(AE107,AE107:AE460,0) -> 259
A108: 513422200511080022 | B108: G513422200511080022 | C108: 3 | D108: 物理类 | E108: 严高倩 | F108: 471 | G108: 94 | H108: 易涛 | I108: =IF(OR(G108=0,K108=0),100,(((N108-J108)/COUNTIF(D:D,D108))*100)+100) -> 40.112994 | J108: =RANK(G108,$G$3:$G$356,0) -> 242 | K108: =VLOOKUP(B108,[1]高三上!$B:$H,6,0) -> 106 | L108: =VLOOKUP(B108,[1]高三上!$B:$H,7,0) -> 易涛 | M108: =IF(OR(O108=0,K108=0),100,(((R108-N108)/COUNTIF(D:D,D108))*100)+100) -> 115.53672 | N108: =RANK(K108,$K$3:$K$356,0) -> 30 | O108: =VLOOKUP(B108,[1]高二下!$B:$H,6,0) -> 92 | P108: =VLOOKUP(B108,[1]高二下!$B:$H,7,0) -> 易涛 | Q108: =IF(OR(O108=0,S108=0),100,(((V108-R108)/COUNTIF(D:D,D108))*100)+100) -> 100 | R108: =RANK(O108,$O$3:$O$356,0) -> 85 | S108: =VLOOKUP(B108,[1]高二上!$B:$H,6,0) -> 0 | T108: =VLOOKUP(B108,[1]高二上!$B:$H,7,0) -> 易涛 | U108: =IF(OR(W108=0,S108=0),100,(((Z108-V108)/COUNTIF(D:D,D108))*100)+100) -> 100 | V108: =RANK(S108,$S$3:$S$356,0) -> 350 | W108: 0 | X108: 易涛 | Y108: =IF(OR(W108=0,AA108=0),100,(((AD108-Z108)/COUNTIF(D:D,D108))*100)+100) -> 100 | Z108: =RANK(W108,$W$3:$W$356,0) -> 352 | AA108: 0 | AB108: 易涛 | AC108: =IF(OR(AE108=0,AA108=0),100,(((AF108-AD108)/COUNTIF(D:D,D108))*100)+100) -> 100 | AD108: =RANK(AA108,$AA$3:$AA$356,0) -> 354 | AE108: 0 | AF108: =RANK(AE108,AE108:AE461,0) -> 346
A109: 513422200712152512 | B109: G513422200712152512 | C109: 3 | D109: 物理类 | E109: 吴学康 | F109: 467 | G109: 97 | H109: 易涛 | I109: =IF(OR(G109=0,K109=0),100,(((N109-J109)/COUNTIF(D:D,D109))*100)+100) -> 110.16949 | J109: =RANK(G109,$G$3:$G$356,0) -> 195 | K109: =VLOOKUP(B109,[1]高三上!$B:$H,6,0) -> 88 | L109: =VLOOKUP(B109,[1]高三上!$B:$H,7,0) -> 易涛 | M109: =IF(OR(O109=0,K109=0),100,(((R109-N109)/COUNTIF(D:D,D109))*100)+100) -> 64.124294 | N109: =RANK(K109,$K$3:$K$356,0) -> 231 | O109: =VLOOKUP(B109,[1]高二下!$B:$H,6,0) -> 91 | P109: =VLOOKUP(B109,[1]高二下!$B:$H,7,0) -> 易涛 | Q109: =IF(OR(O109=0,S109=0),100,(((V109-R109)/COUNTIF(D:D,D109))*100)+100) -> 125.14124 | R109: =RANK(O109,$O$3:$O$356,0) -> 104 | S109: =VLOOKUP(B109,[1]高二上!$B:$H,6,0) -> 91 | T109: =VLOOKUP(B109,[1]高二上!$B:$H,7,0) -> 易涛 | U109: =IF(OR(W109=0,S109=0),100,(((Z109-V109)/COUNTIF(D:D,D109))*100)+100) -> 117.23164 | V109: =RANK(S109,$S$3:$S$356,0) -> 193 | W109: =VLOOKUP(B109,[1]高一下!$B:$H,6,0) -> 81 | X109: =VLOOKUP(B109,[1]高一下!$B:$H,7,0) -> 易涛 | Y109: =IF(OR(W109=0,AA109=0),100,(((AD109-Z109)/COUNTIF(D:D,D109))*100)+100) -> 80.225989 | Z109: =RANK(W109,$W$3:$W$356,0) -> 254 | AA109: =VLOOKUP(B109,[1]高一上!$B:$G,5,0) -> 79 | AB109: =VLOOKUP(B109,[1]高一上!$B:$G,6,0) -> 肖锐 | AC109: =IF(OR(AE109=0,AA109=0),100,(((AF109-AD109)/COUNTIF(D:D,D109))*100)+100) -> 141.52542 | AD109: =RANK(AA109,$AA$3:$AA$356,0) -> 184 | AE109: =VLOOKUP(B109,[1]中考!$B:$G,6,0) -> 87 | AF109: =RANK(AE109,AE109:AE462,0) -> 331
A110: 513422200704242323 | B110: G513422200704242323 | C110: 3 | D110: 物理类 | E110: 熊芹芹 | F110: 467 | G110: 95 | H110: 易涛 | I110: =IF(OR(G110=0,K110=0),100,(((N110-J110)/COUNTIF(D:D,D110))*100)+100) -> 47.740113 | J110: =RANK(G110,$G$3:$G$356,0) -> 224 | K110: =VLOOKUP(B110,[1]高三上!$B:$H,6,0) -> 105 | L110: =VLOOKUP(B110,[1]高三上!$B:$H,7,0) -> 易涛 | M110: =IF(OR(O110=0,K110=0),100,(((R110-N110)/COUNTIF(D:D,D110))*100)+100) -> 112.99435 | N110: =RANK(K110,$K$3:$K$356,0) -> 39 | O110: =VLOOKUP(B110,[1]高二下!$B:$H,6,0) -> 92 | P110: =VLOOKUP(B110,[1]高二下!$B:$H,7,0) -> 易涛 | Q110: =IF(OR(O110=0,S110=0),100,(((V110-R110)/COUNTIF(D:D,D110))*100)+100) -> 80.508475 | R110: =RANK(O110,$O$3:$O$356,0) -> 85 | S110: =VLOOKUP(B110,[1]高二上!$B:$H,6,0) -> 109 | T110: =VLOOKUP(B110,[1]高二上!$B:$H,7,0) -> 易涛 | U110: =IF(OR(W110=0,S110=0),100,(((Z110-V110)/COUNTIF(D:D,D110))*100)+100) -> 155.08475 | V110: =RANK(S110,$S$3:$S$356,0) -> 16 | W110: =VLOOKUP(B110,[1]高一下!$B:$H,6,0) -> 84 | X110: =VLOOKUP(B110,[1]高一下!$B:$H,7,0) -> 易涛 | Y110: =IF(OR(W110=0,AA110=0),100,(((AD110-Z110)/COUNTIF(D:D,D110))*100)+100) -> 72.59887 | Z110: =RANK(W110,$W$3:$W$356,0) -> 211 | AA110: =VLOOKUP(B110,[1]高一上!$B:$G,5,0) -> 84 | AB110: =VLOOKUP(B110,[1]高一上!$B:$G,6,0) -> 易涛 | AC110: =IF(OR(AE110=0,AA110=0),100,(((AF110-AD110)/COUNTIF(D:D,D110))*100)+100) -> 82.20339 | AD110: =RANK(AA110,$AA$3:$AA$356,0) -> 114 | AE110: =VLOOKUP(B110,[1]中考!$B:$G,6,0) -> 114 | AF110: =RANK(AE110,AE110:AE463,0) -> 51
A111: 51342220070125154X | B111: G51342220070125154X | C111: 3 | D111: 物理类 | E111: 乔建英 | F111: 465 | G111: 91 | H111: 易涛 | I111: =IF(OR(G111=0,K111=0),100,(((N111-J111)/COUNTIF(D:D,D111))*100)+100) -> 71.186441 | J111: =RANK(G111,$G$3:$G$356,0) -> 274 | K111: =VLOOKUP(B111,[1]高三上!$B:$H,6,0) -> 92 | L111: =VLOOKUP(B111,[1]高三上!$B:$H,7,0) -> 易涛 | M111: =IF(OR(O111=0,K111=0),100,(((R111-N111)/COUNTIF(D:D,D111))*100)+100) -> 61.864407 | N111: =RANK(K111,$K$3:$K$356,0) -> 172 | O111: =VLOOKUP(B111,[1]高二下!$B:$H,6,0) -> 96 | P111: =VLOOKUP(B111,[1]高二下!$B:$H,7,0) -> 易涛 | Q111: =IF(OR(O111=0,S111=0),100,(((V111-R111)/COUNTIF(D:D,D111))*100)+100) -> 157.34463 | R111: =RANK(O111,$O$3:$O$356,0) -> 37 | S111: =VLOOKUP(B111,[1]高二上!$B:$H,6,0) -> 87 | T111: =VLOOKUP(B111,[1]高二上!$B:$H,7,0) -> 易涛 | U111: =IF(OR(W111=0,S111=0),100,(((Z111-V111)/COUNTIF(D:D,D111))*100)+100) -> 46.045198 | V111: =RANK(S111,$S$3:$S$356,0) -> 240 | W111: =VLOOKUP(B111,[1]高一下!$B:$H,6,0) -> 95 | X111: =VLOOKUP(B111,[1]高一下!$B:$H,7,0) -> 易涛 | Y111: =IF(OR(W111=0,AA111=0),100,(((AD111-Z111)/COUNTIF(D:D,D111))*100)+100) -> 121.18644 | Z111: =RANK(W111,$W$3:$W$356,0) -> 49 | AA111: =VLOOKUP(B111,[1]高一上!$B:$G,5,0) -> 83 | AB111: =VLOOKUP(B111,[1]高一上!$B:$G,6,0) -> 易涛 | AC111: =IF(OR(AE111=0,AA111=0),100,(((AF111-AD111)/COUNTIF(D:D,D111))*100)+100) -> 102.82486 | AD111: =RANK(AA111,$AA$3:$AA$356,0) -> 124 | AE111: =VLOOKUP(B111,[1]中考!$B:$G,6,0) -> 107 | AF111: =RANK(AE111,AE111:AE464,0) -> 134
A112: 513422200301156818 | B112: G513422200301156818 | C112: 3 | D112: 物理类 | E112: 马志雄 | F112: 464 | G112: 104 | H112: 易涛 | I112: =IF(OR(G112=0,K112=0),100,(((N112-J112)/COUNTIF(D:D,D112))*100)+100) -> 116.10169 | J112: =RANK(G112,$G$3:$G$356,0) -> 92 | K112: =VLOOKUP(B112,[1]高三上!$B:$H,6,0) -> 94 | L112: =VLOOKUP(B112,[1]高三上!$B:$H,7,0) -> 易涛 | M112: =IF(OR(O112=0,K112=0),100,(((R112-N112)/COUNTIF(D:D,D112))*100)+100) -> 59.60452 | N112: =RANK(K112,$K$3:$K$356,0) -> 149 | O112: =VLOOKUP(B112,[1]高二下!$B:$H,6,0) -> 104 | P112: =VLOOKUP(B112,[1]高二下!$B:$H,7,0) -> 易涛 | Q112: =IF(OR(O112=0,S112=0),100,(((V112-R112)/COUNTIF(D:D,D112))*100)+100) -> 132.20339 | R112: =RANK(O112,$O$3:$O$356,0) -> 6 | S112: =VLOOKUP(B112,[1]高二上!$B:$H,6,0) -> 96 | T112: =VLOOKUP(B112,[1]高二上!$B:$H,7,0) -> 易涛 | U112: =IF(OR(W112=0,S112=0),100,(((Z112-V112)/COUNTIF(D:D,D112))*100)+100) -> 77.40113 | V112: =RANK(S112,$S$3:$S$356,0) -> 120 | W112: =VLOOKUP(B112,[1]高一下!$B:$H,6,0) -> 96 | X112: =VLOOKUP(B112,[1]高一下!$B:$H,7,0) -> 易涛 | Y112: =IF(OR(W112=0,AA112=0),100,(((AD112-Z112)/COUNTIF(D:D,D112))*100)+100) -> 131.9209 | Z112: =RANK(W112,$W$3:$W$356,0) -> 40 | AA112: =VLOOKUP(B112,[1]高一上!$B:$G,5,0) -> 81 | AB112: =VLOOKUP(B112,[1]高一上!$B:$G,6,0) -> 易涛 | AC112: =IF(OR(AE112=0,AA112=0),100,(((AF112-AD112)/COUNTIF(D:D,D112))*100)+100) -> 85.875706 | AD112: =RANK(AA112,$AA$3:$AA$356,0) -> 153 | AE112: =VLOOKUP(B112,[1]中考!$B:$G,6,0) -> 109 | AF112: =RANK(AE112,AE112:AE465,0) -> 103
A113: 513422200809063815 | B113: G513422200809063815 | C113: 3 | D113: 物理类 | E113: 尼玛扎西 | F113: 460 | G113: 102 | H113: 易涛 | I113: =IF(OR(G113=0,K113=0),100,(((N113-J113)/COUNTIF(D:D,D113))*100)+100) -> 104.51977 | J113: =RANK(G113,$G$3:$G$356,0) -> 114 | K113: =VLOOKUP(B113,[1]高三上!$B:$H,6,0) -> 96 | L113: =VLOOKUP(B113,[1]高三上!$B:$H,7,0) -> 易涛 | M113: =IF(OR(O113=0,K113=0),100,(((R113-N113)/COUNTIF(D:D,D113))*100)+100) -> 69.20904 | N113: =RANK(K113,$K$3:$K$356,0) -> 130 | O113: =VLOOKUP(B113,[1]高二下!$B:$H,6,0) -> 99 | P113: =VLOOKUP(B113,[1]高二下!$B:$H,7,0) -> 易涛 | Q113: =IF(OR(O113=0,S113=0),100,(((V113-R113)/COUNTIF(D:D,D113))*100)+100) -> 104.80226 | R113: =RANK(O113,$O$3:$O$356,0) -> 21 | S113: =VLOOKUP(B113,[1]高二上!$B:$H,6,0) -> 104 | T113: =VLOOKUP(B113,[1]高二上!$B:$H,7,0) -> 易涛 | U113: =IF(OR(W113=0,S113=0),100,(((Z113-V113)/COUNTIF(D:D,D113))*100)+100) -> 127.11864 | V113: =RANK(S113,$S$3:$S$356,0) -> 38 | W113: =VLOOKUP(B113,[1]高一下!$B:$H,6,0) -> 89 | X113: =VLOOKUP(B113,[1]高一下!$B:$H,7,0) -> 易涛 | Y113: =IF(OR(W113=0,AA113=0),100,(((AD113-Z113)/COUNTIF(D:D,D113))*100)+100) -> 122.31638 | Z113: =RANK(W113,$W$3:$W$356,0) -> 134 | AA113: =VLOOKUP(B113,[1]高一上!$B:$G,5,0) -> 77 | AB113: =VLOOKUP(B113,[1]高一上!$B:$G,6,0) -> 肖锐 | AC113: =IF(OR(AE113=0,AA113=0),100,(((AF113-AD113)/COUNTIF(D:D,D113))*100)+100) -> 47.740113 | AD113: =RANK(AA113,$AA$3:$AA$356,0) -> 213 | AE113: =VLOOKUP(B113,[1]中考!$B:$G,6,0) -> 117 | AF113: =RANK(AE113,AE113:AE466,0) -> 28
A114: 51342220060621031X | B114: G51342220060621031X | C114: 3 | D114: 物理类 | E114: 仁争龙布 | F114: 460 | G114: 98 | H114: 易涛 | I114: =IF(OR(G114=0,K114=0),100,(((N114-J114)/COUNTIF(D:D,D114))*100)+100) -> 82.768362 | J114: =RANK(G114,$G$3:$G$356,0) -> 182 | K114: =VLOOKUP(B114,[1]高三上!$B:$H,6,0) -> 97 | L114: =VLOOKUP(B114,[1]高三上!$B:$H,7,0) -> 易涛 | M114: =IF(OR(O114=0,K114=0),100,(((R114-N114)/COUNTIF(D:D,D114))*100)+100) -> 99.152542 | N114: =RANK(K114,$K$3:$K$356,0) -> 121 | O114: =VLOOKUP(B114,[1]高二下!$B:$H,6,0) -> 90 | P114: =VLOOKUP(B114,[1]高二下!$B:$H,7,0) -> 易涛 | Q114: =IF(OR(O114=0,S114=0),100,(((V114-R114)/COUNTIF(D:D,D114))*100)+100) -> 72.033898 | R114: =RANK(O114,$O$3:$O$356,0) -> 118 | S114: =VLOOKUP(B114,[1]高二上!$B:$H,6,0) -> 108 | T114: =VLOOKUP(B114,[1]高二上!$B:$H,7,0) -> 易涛 | U114: =IF(OR(W114=0,S114=0),100,(((Z114-V114)/COUNTIF(D:D,D114))*100)+100) -> 139.83051 | V114: =RANK(S114,$S$3:$S$356,0) -> 19 | W114: =VLOOKUP(B114,[1]高一下!$B:$H,6,0) -> 87 | X114: =VLOOKUP(B114,[1]高一下!$B:$H,7,0) -> 易涛 | Y114: =IF(OR(W114=0,AA114=0),100,(((AD114-Z114)/COUNTIF(D:D,D114))*100)+100) -> 106.77966 | Z114: =RANK(W114,$W$3:$W$356,0) -> 160 | AA114: =VLOOKUP(B114,[1]高一上!$B:$G,5,0) -> 79 | AB114: =VLOOKUP(B114,[1]高一上!$B:$G,6,0) -> 易涛 | AC114: =IF(OR(AE114=0,AA114=0),100,(((AF114-AD114)/COUNTIF(D:D,D114))*100)+100) -> 77.118644 | AD114: =RANK(AA114,$AA$3:$AA$356,0) -> 184 | AE114: =VLOOKUP(B114,[1]中考!$B:$G,6,0) -> 109 | AF114: =RANK(AE114,AE114:AE467,0) -> 103
A115: 513422200801254211 | B115: G513422200801254211 | C115: 3 | D115: 物理类 | E115: 扎拉 | F115: 458 | G115: 95 | H115: 易涛 | I115: =IF(OR(G115=0,K115=0),100,(((N115-J115)/COUNTIF(D:D,D115))*100)+100) -> 98.870056 | J115: =RANK(G115,$G$3:$G$356,0) -> 224 | K115: =VLOOKUP(B115,[1]高三上!$B:$H,6,0) -> 89 | L115: =VLOOKUP(B115,[1]高三上!$B:$H,7,0) -> 易涛 | M115: =IF(OR(O115=0,K115=0),100,(((R115-N115)/COUNTIF(D:D,D115))*100)+100) -> 107.06215 | N115: =RANK(K115,$K$3:$K$356,0) -> 220 | O115: =VLOOKUP(B115,[1]高二下!$B:$H,6,0) -> 83 | P115: =VLOOKUP(B115,[1]高二下!$B:$H,7,0) -> 易涛 | Q115: =IF(OR(O115=0,S115=0),100,(((V115-R115)/COUNTIF(D:D,D115))*100)+100) -> 73.446328 | R115: =RANK(O115,$O$3:$O$356,0) -> 245 | S115: =VLOOKUP(B115,[1]高二上!$B:$H,6,0) -> 94 | T115: =VLOOKUP(B115,[1]高二上!$B:$H,7,0) -> 易涛 | U115: =IF(OR(W115=0,S115=0),100,(((Z115-V115)/COUNTIF(D:D,D115))*100)+100) -> 129.09605 | V115: =RANK(S115,$S$3:$S$356,0) -> 151 | W115: =VLOOKUP(B115,[1]高一下!$B:$H,6,0) -> 81 | X115: =VLOOKUP(B115,[1]高一下!$B:$H,7,0) -> 易涛 | Y115: =IF(OR(W115=0,AA115=0),100,(((AD115-Z115)/COUNTIF(D:D,D115))*100)+100) -> 111.29944 | Z115: =RANK(W115,$W$3:$W$356,0) -> 254 | AA115: =VLOOKUP(B115,[1]高一上!$B:$G,5,0) -> 71 | AB115: =VLOOKUP(B115,[1]高一上!$B:$G,6,0) -> 易涛 | AC115: =IF(OR(AE115=0,AA115=0),100,(((AF115-AD115)/COUNTIF(D:D,D115))*100)+100) -> 67.79661 | AD115: =RANK(AA115,$AA$3:$AA$356,0) -> 294 | AE115: =VLOOKUP(B115,[1]中考!$B:$G,6,0) -> 104 | AF115: =RANK(AE115,AE115:AE468,0) -> 180
A116: 511602200707173507 | B116: G511602200707173507 | C116: 3 | D116: 物理类 | E116: 黄诗韵 | F116: 457 | G116: 99 | H116: 易涛 | I116: =IF(OR(G116=0,K116=0),100,(((N116-J116)/COUNTIF(D:D,D116))*100)+100) -> 71.186441 | J116: =RANK(G116,$G$3:$G$356,0) -> 158 | K116: =VLOOKUP(B116,[1]高三上!$B:$H,6,0) -> 103 | L116: =VLOOKUP(B116,[1]高三上!$B:$H,7,0) -> 易涛 | M116: =IF(OR(O116=0,K116=0),100,(((R116-N116)/COUNTIF(D:D,D116))*100)+100) -> 126.27119 | N116: =RANK(K116,$K$3:$K$356,0) -> 56 | O116: =VLOOKUP(B116,[1]高二下!$B:$H,6,0) -> 88 | P116: =VLOOKUP(B116,[1]高二下!$B:$H,7,0) -> 易涛 | Q116: =IF(OR(O116=0,S116=0),100,(((V116-R116)/COUNTIF(D:D,D116))*100)+100) -> 70.338983 | R116: =RANK(O116,$O$3:$O$356,0) -> 149 | S116: =VLOOKUP(B116,[1]高二上!$B:$H,6,0) -> 103 | T116: =VLOOKUP(B116,[1]高二上!$B:$H,7,0) -> 易涛 | U116: =IF(OR(W116=0,S116=0),100,(((Z116-V116)/COUNTIF(D:D,D116))*100)+100) -> 105.08475 | V116: =RANK(S116,$S$3:$S$356,0) -> 44 | W116: =VLOOKUP(B116,[1]高一下!$B:$H,6,0) -> 94 | X116: =VLOOKUP(B116,[1]高一下!$B:$H,7,0) -> 易涛 | Y116: =IF(OR(W116=0,AA116=0),100,(((AD116-Z116)/COUNTIF(D:D,D116))*100)+100) -> 110.45198 | Z116: =RANK(W116,$W$3:$W$356,0) -> 62 | AA116: =VLOOKUP(B116,[1]高一上!$B:$G,5,0) -> 86 | AB116: =VLOOKUP(B116,[1]高一上!$B:$G,6,0) -> 刘云菊 | AC116: =IF(OR(AE116=0,AA116=0),100,(((AF116-AD116)/COUNTIF(D:D,D116))*100)+100) -> 101.12994 | AD116: =RANK(AA116,$AA$3:$AA$356,0) -> 99 | AE116: =VLOOKUP(B116,[1]中考!$B:$G,6,0) -> 109 | AF116: =RANK(AE116,AE116:AE469,0) -> 103
A117: 513422200510260910 | B117: G513422200510260910 | C117: 3 | D117: 物理类 | E117: 陈小龙 | F117: 457 | G117: 96 | H117: 易涛 | I117: =IF(OR(G117=0,K117=0),100,(((N117-J117)/COUNTIF(D:D,D117))*100)+100) -> 88.983051 | J117: =RANK(G117,$G$3:$G$356,0) -> 211 | K117: =VLOOKUP(B117,[1]高三上!$B:$H,6,0) -> 92 | L117: =VLOOKUP(B117,[1]高三上!$B:$H,7,0) -> 易涛 | M117: =IF(OR(O117=0,K117=0),100,(((R117-N117)/COUNTIF(D:D,D117))*100)+100) -> 75.423729 | N117: =RANK(K117,$K$3:$K$356,0) -> 172 | O117: =VLOOKUP(B117,[1]高二下!$B:$H,6,0) -> 92 | P117: =VLOOKUP(B117,[1]高二下!$B:$H,7,0) -> 易涛 | Q117: =IF(OR(O117=0,S117=0),100,(((V117-R117)/COUNTIF(D:D,D117))*100)+100) -> 159.03955 | R117: =RANK(O117,$O$3:$O$356,0) -> 85 | S117: =VLOOKUP(B117,[1]高二上!$B:$H,6,0) -> 82 | T117: =VLOOKUP(B117,[1]高二上!$B:$H,7,0) -> 易涛 | U117: =IF(OR(W117=0,S117=0),100,(((Z117-V117)/COUNTIF(D:D,D117))*100)+100) -> 76.553672 | V117: =RANK(S117,$S$3:$S$356,0) -> 294 | W117: =VLOOKUP(B117,[1]高一下!$B:$H,6,0) -> 84 | X117: =VLOOKUP(B117,[1]高一下!$B:$H,7,0) -> 易涛 | Y117: =IF(OR(W117=0,AA117=0),100,(((AD117-Z117)/COUNTIF(D:D,D117))*100)+100) -> 83.615819 | Z117: =RANK(W117,$W$3:$W$356,0) -> 211 | AA117: =VLOOKUP(B117,[1]高一上!$B:$G,5,0) -> 81 | AB117: =VLOOKUP(B117,[1]高一上!$B:$G,6,0) -> 易涛 | AC117: =IF(OR(AE117=0,AA117=0),100,(((AF117-AD117)/COUNTIF(D:D,D117))*100)+100) -> 123.44633 | AD117: =RANK(AA117,$AA$3:$AA$356,0) -> 153 | AE117: =VLOOKUP(B117,[1]中考!$B:$G,6,0) -> 100 | AF117: =RANK(AE117,AE117:AE470,0) -> 236
A118: 513422200710285629 | B118: G513422200710285629 | C118: 3 | D118: 物理类 | E118: 伍金祝玛 | F118: 454 | G118: 95 | H118: 易涛 | I118: =IF(OR(G118=0,K118=0),100,(((N118-J118)/COUNTIF(D:D,D118))*100)+100) -> 93.502825 | J118: =RANK(G118,$G$3:$G$356,0) -> 224 | K118: =VLOOKUP(B118,[1]高三上!$B:$H,6,0) -> 90 | L118: =VLOOKUP(B118,[1]高三上!$B:$H,7,0) -> 易涛 | M118: =IF(OR(O118=0,K118=0),100,(((R118-N118)/COUNTIF(D:D,D118))*100)+100) -> 46.610169 | N118: =RANK(K118,$K$3:$K$356,0) -> 201 | O118: =VLOOKUP(B118,[1]高二下!$B:$H,6,0) -> 101 | P118: =VLOOKUP(B118,[1]高二下!$B:$H,7,0) -> 易涛 | Q118: =IF(OR(O118=0,S118=0),100,(((V118-R118)/COUNTIF(D:D,D118))*100)+100) -> 139.26554 | R118: =RANK(O118,$O$3:$O$356,0) -> 12 | S118: =VLOOKUP(B118,[1]高二上!$B:$H,6,0) -> 94 | T118: =VLOOKUP(B118,[1]高二上!$B:$H,7,0) -> 易涛 | U118: =IF(OR(W118=0,S118=0),100,(((Z118-V118)/COUNTIF(D:D,D118))*100)+100) -> 102.54237 | V118: =RANK(S118,$S$3:$S$356,0) -> 151 | W118: =VLOOKUP(B118,[1]高一下!$B:$H,6,0) -> 87 | X118: =VLOOKUP(B118,[1]高一下!$B:$H,7,0) -> 易涛 | Y118: =IF(OR(W118=0,AA118=0),100,(((AD118-Z118)/COUNTIF(D:D,D118))*100)+100) -> 118.64407 | Z118: =RANK(W118,$W$3:$W$356,0) -> 160 | AA118: =VLOOKUP(B118,[1]高一上!$B:$G,5,0) -> 76 | AB118: =VLOOKUP(B118,[1]高一上!$B:$G,6,0) -> 张镇棚 | AC118: =IF(OR(AE118=0,AA118=0),100,(((AF118-AD118)/COUNTIF(D:D,D118))*100)+100) -> 115.25424 | AD118: =RANK(AA118,$AA$3:$AA$356,0) -> 226 | AE118: =VLOOKUP(B118,[1]中考!$B:$G,6,0) -> 96 | AF118: =RANK(AE118,AE118:AE471,0) -> 280
A119: 513422200703201327 | B119: G513422200703201327 | C119: 3 | D119: 物理类 | E119: 李小美 | F119: 452 | G119: 91 | H119: 易涛 | I119: =IF(OR(G119=0,K119=0),100,(((N119-J119)/COUNTIF(D:D,D119))*100)+100) -> 75.988701 | J119: =RANK(G119,$G$3:$G$356,0) -> 274 | K119: =VLOOKUP(B119,[1]高三上!$B:$H,6,0) -> 91 | L119: =VLOOKUP(B119,[1]高三上!$B:$H,7,0) -> 易涛 | M119: =IF(OR(O119=0,K119=0),100,(((R119-N119)/COUNTIF(D:D,D119))*100)+100) -> 88.700565 | N119: =RANK(K119,$K$3:$K$356,0) -> 189 | O119: =VLOOKUP(B119,[1]高二下!$B:$H,6,0) -> 88 | P119: =VLOOKUP(B119,[1]高二下!$B:$H,7,0) -> 易涛 | Q119: =IF(OR(O119=0,S119=0),100,(((V119-R119)/COUNTIF(D:D,D119))*100)+100) -> 78.248588 | R119: =RANK(O119,$O$3:$O$356,0) -> 149 | S119: =VLOOKUP(B119,[1]高二上!$B:$H,6,0) -> 100 | T119: =VLOOKUP(B119,[1]高二上!$B:$H,7,0) -> 易涛 | U119: =IF(OR(W119=0,S119=0),100,(((Z119-V119)/COUNTIF(D:D,D119))*100)+100) -> 144.91525 | V119: =RANK(S119,$S$3:$S$356,0) -> 72 | W119: =VLOOKUP(B119,[1]高一下!$B:$H,6,0) -> 83 | X119: =VLOOKUP(B119,[1]高一下!$B:$H,7,0) -> 易涛 | Y119: =IF(OR(W119=0,AA119=0),100,(((AD119-Z119)/COUNTIF(D:D,D119))*100)+100) -> 90.112994 | Z119: =RANK(W119,$W$3:$W$356,0) -> 231 | AA119: =VLOOKUP(B119,[1]高一上!$B:$G,5,0) -> 78 | AB119: =VLOOKUP(B119,[1]高一上!$B:$G,6,0) -> 肖锐 | AC119: =IF(OR(AE119=0,AA119=0),100,(((AF119-AD119)/COUNTIF(D:D,D119))*100)+100) -> 74.011299 | AD119: =RANK(AA119,$AA$3:$AA$356,0) -> 196 | AE119: =VLOOKUP(B119,[1]中考!$B:$G,6,0) -> 109 | AF119: =RANK(AE119,AE119:AE472,0) -> 104
A120: 513422200606123814 | B120: G513422200606123814 | C120: 3 | D120: 物理类 | E120: 马军 | F120: 451 | G120: 93 | H120: 易涛 | I120: =IF(OR(G120=0,K120=0),100,(((N120-J120)/COUNTIF(D:D,D120))*100)+100) -> 82.768362 | J120: =RANK(G120,$G$3:$G$356,0) -> 250 | K120: =VLOOKUP(B120,[1]高三上!$B:$H,6,0) -> 91 | L120: =VLOOKUP(B120,[1]高三上!$B:$H,7,0) -> 易涛 | M120: =IF(OR(O120=0,K120=0),100,(((R120-N120)/COUNTIF(D:D,D120))*100)+100) -> 83.898305 | N120: =RANK(K120,$K$3:$K$356,0) -> 189 | O120: =VLOOKUP(B120,[1]高二下!$B:$H,6,0) -> 89 | P120: =VLOOKUP(B120,[1]高二下!$B:$H,7,0) -> 易涛 | Q120: =IF(OR(O120=0,S120=0),100,(((V120-R120)/COUNTIF(D:D,D120))*100)+100) -> 137.00565 | R120: =RANK(O120,$O$3:$O$356,0) -> 132 | S120: =VLOOKUP(B120,[1]高二上!$B:$H,6,0) -> 85 | T120: =VLOOKUP(B120,[1]高二上!$B:$H,7,0) -> 易涛 | U120: =IF(OR(W120=0,S120=0),100,(((Z120-V120)/COUNTIF(D:D,D120))*100)+100) -> 66.384181 | V120: =RANK(S120,$S$3:$S$356,0) -> 263 | W120: =VLOOKUP(B120,[1]高一下!$B:$H,6,0) -> 88 | X120: =VLOOKUP(B120,[1]高一下!$B:$H,7,0) -> 易涛 | Y120: =IF(OR(W120=0,AA120=0),100,(((AD120-Z120)/COUNTIF(D:D,D120))*100)+100) -> 111.29944 | Z120: =RANK(W120,$W$3:$W$356,0) -> 144 | AA120: =VLOOKUP(B120,[1]高一上!$B:$G,5,0) -> 79 | AB120: =VLOOKUP(B120,[1]高一上!$B:$G,6,0) -> 张镇棚 | AC120: =IF(OR(AE120=0,AA120=0),100,(((AF120-AD120)/COUNTIF(D:D,D120))*100)+100) -> 134.74576 | AD120: =RANK(AA120,$AA$3:$AA$356,0) -> 184 | AE120: =VLOOKUP(B120,[1]中考!$B:$G,6,0) -> 91 | AF120: =RANK(AE120,AE120:AE473,0) -> 307
A121: 513422200511080911 | B121: G513422200511080911 | C121: 3 | D121: 物理类 | E121: 尼玛扎西 | F121: 449 | G121: 99 | H121: 易涛 | I121: =IF(OR(G121=0,K121=0),100,(((N121-J121)/COUNTIF(D:D,D121))*100)+100) -> 100 | J121: =RANK(G121,$G$3:$G$356,0) -> 158 | K121: 0 | L121: 易涛 | M121: =IF(OR(O121=0,K121=0),100,(((R121-N121)/COUNTIF(D:D,D121))*100)+100) -> 100 | N121: =RANK(K121,$K$3:$K$356,0) -> 344 | O121: 0 | P121: =H121 -> 易涛 | Q121: =IF(OR(O121=0,S121=0),100,(((V121-R121)/COUNTIF(D:D,D121))*100)+100) -> 100 | R121: =RANK(O121,$O$3:$O$356,0) -> 348 | S121: 0 | T121: =H121 -> 易涛 | U121: =IF(OR(W121=0,S121=0),100,(((Z121-V121)/COUNTIF(D:D,D121))*100)+100) -> 100 | V121: =RANK(S121,$S$3:$S$356,0) -> 350 | W121: =VLOOKUP(B121,[1]高一下!$B:$H,6,0) -> 83 | X121: =VLOOKUP(B121,[1]高一下!$B:$H,7,0) -> 易涛 | Y121: =IF(OR(W121=0,AA121=0),100,(((AD121-Z121)/COUNTIF(D:D,D121))*100)+100) -> 82.20339 | Z121: =RANK(W121,$W$3:$W$356,0) -> 231 | AA121: =VLOOKUP(B121,[1]高一上!$B:$G,5,0) -> 80 | AB121: =VLOOKUP(B121,[1]高一上!$B:$G,6,0) -> 易涛 | AC121: =IF(OR(AE121=0,AA121=0),100,(((AF121-AD121)/COUNTIF(D:D,D121))*100)+100) -> 79.378531 | AD121: =RANK(AA121,$AA$3:$AA$356,0) -> 168 | AE121: =VLOOKUP(B121,[1]中考!$B:$G,6,0) -> 110 | AF121: =RANK(AE121,AE121:AE474,0) -> 95
A122: 513422200610101546 | B122: G513422200610101546 | C122: 3 | D122: 物理类 | E122: 杨几几 | F122: 448 | G122: 93 | H122: 易涛 | I122: =IF(OR(G122=0,K122=0),100,(((N122-J122)/COUNTIF(D:D,D122))*100)+100) -> 68.644068 | J122: =RANK(G122,$G$3:$G$356,0) -> 250 | K122: =VLOOKUP(B122,[1]高三上!$B:$H,6,0) -> 95 | L122: =VLOOKUP(B122,[1]高三上!$B:$H,7,0) -> 易涛 | M122: =IF(OR(O122=0,K122=0),100,(((R122-N122)/COUNTIF(D:D,D122))*100)+100) -> 141.52542 | N122: =RANK(K122,$K$3:$K$356,0) -> 139 | O122: =VLOOKUP(B122,[1]高二下!$B:$H,6,0) -> 80 | P122: =VLOOKUP(B122,[1]高二下!$B:$H,7,0) -> 易涛 | Q122: =IF(OR(O122=0,S122=0),100,(((V122-R122)/COUNTIF(D:D,D122))*100)+100) -> 64.689266 | R122: =RANK(O122,$O$3:$O$356,0) -> 286 | S122: =VLOOKUP(B122,[1]高二上!$B:$H,6,0) -> 93 | T122: =VLOOKUP(B122,[1]高二上!$B:$H,7,0) -> 易涛 | U122: =IF(OR(W122=0,S122=0),100,(((Z122-V122)/COUNTIF(D:D,D122))*100)+100) -> 126.27119 | V122: =RANK(S122,$S$3:$S$356,0) -> 161 | W122: =VLOOKUP(B122,[1]高一下!$B:$H,6,0) -> 81 | X122: =VLOOKUP(B122,[1]高一下!$B:$H,7,0) -> 易涛 | Y122: =IF(OR(W122=0,AA122=0),100,(((AD122-Z122)/COUNTIF(D:D,D122))*100)+100) -> 111.29944 | Z122: =RANK(W122,$W$3:$W$356,0) -> 254 | AA122: =VLOOKUP(B122,[1]高一上!$B:$G,5,0) -> 71 | AB122: =VLOOKUP(B122,[1]高一上!$B:$G,6,0) -> 杨翁基之玛 | AC122: =IF(OR(AE122=0,AA122=0),100,(((AF122-AD122)/COUNTIF(D:D,D122))*100)+100) -> 90.112994 | AD122: =RANK(AA122,$AA$3:$AA$356,0) -> 294 | AE122: =VLOOKUP(B122,[1]中考!$B:$G,6,0) -> 98 | AF122: =RANK(AE122,AE122:AE475,0) -> 259
A123: 513422200602130320 | B123: G513422200602130320 | C123: 3 | D123: 物理类 | E123: 沈梅 | F123: 446 | G123: 95 | H123: 易涛 | I123: =IF(OR(G123=0,K123=0),100,(((N123-J123)/COUNTIF(D:D,D123))*100)+100) -> 41.525424 | J123: =RANK(G123,$G$3:$G$356,0) -> 224 | K123: =VLOOKUP(B123,[1]高三上!$B:$H,6,0) -> 110 | L123: =VLOOKUP(B123,[1]高三上!$B:$H,7,0) -> 易涛 | M123: =IF(OR(O123=0,K123=0),100,(((R123-N123)/COUNTIF(D:D,D123))*100)+100) -> 132.48588 | N123: =RANK(K123,$K$3:$K$356,0) -> 17 | O123: =VLOOKUP(B123,[1]高二下!$B:$H,6,0) -> 89 | P123: =VLOOKUP(B123,[1]高二下!$B:$H,7,0) -> 易涛 | Q123: =IF(OR(O123=0,S123=0),100,(((V123-R123)/COUNTIF(D:D,D123))*100)+100) -> 71.186441 | R123: =RANK(O123,$O$3:$O$356,0) -> 132 | S123: =VLOOKUP(B123,[1]高二上!$B:$H,6,0) -> 106 | T123: =VLOOKUP(B123,[1]高二上!$B:$H,7,0) -> 易涛 | U123: =IF(OR(W123=0,S123=0),100,(((Z123-V123)/COUNTIF(D:D,D123))*100)+100) -> 95.480226 | V123: =RANK(S123,$S$3:$S$356,0) -> 30 | W123: =VLOOKUP(B123,[1]高一下!$B:$H,6,0) -> 102 | X123: =VLOOKUP(B123,[1]高一下!$B:$H,7,0) -> 易涛 | Y123: =IF(OR(W123=0,AA123=0),100,(((AD123-Z123)/COUNTIF(D:D,D123))*100)+100) -> 112.99435 | Z123: =RANK(W123,$W$3:$W$356,0) -> 14 | AA123: =VLOOKUP(B123,[1]高一上!$B:$G,5,0) -> 91 | AB123: =VLOOKUP(B123,[1]高一上!$B:$G,6,0) -> 易涛 | AC123: =IF(OR(AE123=0,AA123=0),100,(((AF123-AD123)/COUNTIF(D:D,D123))*100)+100) -> 95.19774 | AD123: =RANK(AA123,$AA$3:$AA$356,0) -> 60 | AE123: =VLOOKUP(B123,[1]中考!$B:$G,6,0) -> 115 | AF123: =RANK(AE123,AE123:AE476,0) -> 43
A124: 513422200410126423 | B124: G513422200410126423 | C124: 3 | D124: 物理类 | E124: 崩秋 | F124: 445 | G124: 96 | H124: 易涛 | I124: =IF(OR(G124=0,K124=0),100,(((N124-J124)/COUNTIF(D:D,D124))*100)+100) -> 68.644068 | J124: =RANK(G124,$G$3:$G$356,0) -> 211 | K124: =VLOOKUP(B124,[1]高三上!$B:$H,6,0) -> 99 | L124: =VLOOKUP(B124,[1]高三上!$B:$H,7,0) -> 易涛 | M124: =IF(OR(O124=0,K124=0),100,(((R124-N124)/COUNTIF(D:D,D124))*100)+100) -> 100 | N124: =RANK(K124,$K$3:$K$356,0) -> 100 | O124: 0 | P124: 易涛 | Q124: =IF(OR(O124=0,S124=0),100,(((V124-R124)/COUNTIF(D:D,D124))*100)+100) -> 100 | R124: =RANK(O124,$O$3:$O$356,0) -> 348 | S124: =VLOOKUP(B124,[1]高二上!$B:$H,6,0) -> 107 | T124: =VLOOKUP(B124,[1]高二上!$B:$H,7,0) -> 易涛 | U124: =IF(OR(W124=0,S124=0),100,(((Z124-V124)/COUNTIF(D:D,D124))*100)+100) -> 111.01695 | V124: =RANK(S124,$S$3:$S$356,0) -> 23 | W124: =VLOOKUP(B124,[1]高一下!$B:$H,6,0) -> 94 | X124: =VLOOKUP(B124,[1]高一下!$B:$H,7,0) -> 易涛 | Y124: =IF(OR(W124=0,AA124=0),100,(((AD124-Z124)/COUNTIF(D:D,D124))*100)+100) -> 99.435028 | Z124: =RANK(W124,$W$3:$W$356,0) -> 62 | AA124: =VLOOKUP(B124,[1]高一上!$B:$G,5,0) -> 91 | AB124: =VLOOKUP(B124,[1]高一上!$B:$G,6,0) -> 肖锐 | AC124: =IF(OR(AE124=0,AA124=0),100,(((AF124-AD124)/COUNTIF(D:D,D124))*100)+100) -> 100 | AD124: =RANK(AA124,$AA$3:$AA$356,0) -> 60 | AE124: =VLOOKUP(B124,[1]中考!$B:$G,6,0) -> 0 | AF124: =RANK(AE124,AE124:AE477,0) -> 347
A125: 513422200605072111 | B125: G513422200605072111 | C125: 3 | D125: 物理类 | E125: 杜基扎西 | F125: 438 | G125: 99 | H125: 易涛 | I125: =IF(OR(G125=0,K125=0),100,(((N125-J125)/COUNTIF(D:D,D125))*100)+100) -> 71.186441 | J125: =RANK(G125,$G$3:$G$356,0) -> 158 | K125: =VLOOKUP(B125,[1]高三上!$B:$H,6,0) -> 103 | L125: =VLOOKUP(B125,[1]高三上!$B:$H,7,0) -> 易涛 | M125: =IF(OR(O125=0,K125=0),100,(((R125-N125)/COUNTIF(D:D,D125))*100)+100) -> 172.59887 | N125: =RANK(K125,$K$3:$K$356,0) -> 56 | O125: =VLOOKUP(B125,[1]高二下!$B:$H,6,0) -> 77 | P125: =VLOOKUP(B125,[1]高二下!$B:$H,7,0) -> 易涛 | Q125: =IF(OR(O125=0,S125=0),100,(((V125-R125)/COUNTIF(D:D,D125))*100)+100) -> 82.20339 | R125: =RANK(O125,$O$3:$O$356,0) -> 313 | S125: =VLOOKUP(B125,[1]高二上!$B:$H,6,0) -> 86 | T125: =VLOOKUP(B125,[1]高二上!$B:$H,7,0) -> 易涛 | U125: =IF(OR(W125=0,S125=0),100,(((Z125-V125)/COUNTIF(D:D,D125))*100)+100) -> 50.564972 | V125: =RANK(S125,$S$3:$S$356,0) -> 250 | W125: =VLOOKUP(B125,[1]高一下!$B:$H,6,0) -> 93 | X125: =VLOOKUP(B125,[1]高一下!$B:$H,7,0) -> 易涛 | Y125: =IF(OR(W125=0,AA125=0),100,(((AD125-Z125)/COUNTIF(D:D,D125))*100)+100) -> 111.01695 | Z125: =RANK(W125,$W$3:$W$356,0) -> 75 | AA125: =VLOOKUP(B125,[1]高一上!$B:$G,5,0) -> 84 | AB125: =VLOOKUP(B125,[1]高一上!$B:$G,6,0) -> 肖锐 | AC125: =IF(OR(AE125=0,AA125=0),100,(((AF125-AD125)/COUNTIF(D:D,D125))*100)+100) -> 89.548023 | AD125: =RANK(AA125,$AA$3:$AA$356,0) -> 114 | AE125: =VLOOKUP(B125,[1]中考!$B:$G,6,0) -> 111 | AF125: =RANK(AE125,AE125:AE478,0) -> 77
A126: 51342220070205381X | B126: G51342220070205381X | C126: 3 | D126: 物理类 | E126: 苏朗杜基 | F126: 435 | G126: 99 | H126: 易涛 | I126: =IF(OR(G126=0,K126=0),100,(((N126-J126)/COUNTIF(D:D,D126))*100)+100) -> 120.62147 | J126: =RANK(G126,$G$3:$G$356,0) -> 158 | K126: =VLOOKUP(B126,[1]高三上!$B:$H,6,0) -> 88 | L126: =VLOOKUP(B126,[1]高三上!$B:$H,7,0) -> 易涛 | M126: =IF(OR(O126=0,K126=0),100,(((R126-N126)/COUNTIF(D:D,D126))*100)+100) -> 112.71186 | N126: =RANK(K126,$K$3:$K$356,0) -> 231 | O126: =VLOOKUP(B126,[1]高二下!$B:$H,6,0) -> 81 | P126: =VLOOKUP(B126,[1]高二下!$B:$H,7,0) -> 易涛 | Q126: =IF(OR(O126=0,S126=0),100,(((V126-R126)/COUNTIF(D:D,D126))*100)+100) -> 108.19209 | R126: =RANK(O126,$O$3:$O$356,0) -> 276 | S126: =VLOOKUP(B126,[1]高二上!$B:$H,6,0) -> 81 | T126: =VLOOKUP(B126,[1]高二上!$B:$H,7,0) -> 易涛 | U126: =IF(OR(W126=0,S126=0),100,(((Z126-V126)/COUNTIF(D:D,D126))*100)+100) -> 102.54237 | V126: =RANK(S126,$S$3:$S$356,0) -> 305 | W126: =VLOOKUP(B126,[1]高一下!$B:$H,6,0) -> 74 | X126: =VLOOKUP(B126,[1]高一下!$B:$H,7,0) -> 易涛 | Y126: =IF(OR(W126=0,AA126=0),100,(((AD126-Z126)/COUNTIF(D:D,D126))*100)+100) -> 91.242938 | Z126: =RANK(W126,$W$3:$W$356,0) -> 314 | AA126: =VLOOKUP(B126,[1]高一上!$B:$G,5,0) -> 72 | AB126: =VLOOKUP(B126,[1]高一上!$B:$G,6,0) -> 易涛 | AC126: =IF(OR(AE126=0,AA126=0),100,(((AF126-AD126)/COUNTIF(D:D,D126))*100)+100) -> 115.25424 | AD126: =RANK(AA126,$AA$3:$AA$356,0) -> 283 | AE126: =VLOOKUP(B126,[1]中考!$B:$G,6,0) -> 86 | AF126: =RANK(AE126,AE126:AE479,0) -> 337
A127: 513422200609066413 | B127: G513422200609066413 | C127: 3 | D127: 物理类 | E127: 偏初次仁 | F127: 432 | G127: 108 | H127: 易涛 | I127: =IF(OR(G127=0,K127=0),100,(((N127-J127)/COUNTIF(D:D,D127))*100)+100) -> 115.81921 | J127: =RANK(G127,$G$3:$G$356,0) -> 53 | K127: =VLOOKUP(B127,[1]高三上!$B:$H,6,0) -> 98 | L127: =VLOOKUP(B127,[1]高三上!$B:$H,7,0) -> 易涛 | M127: =IF(OR(O127=0,K127=0),100,(((R127-N127)/COUNTIF(D:D,D127))*100)+100) -> 93.220339 | N127: =RANK(K127,$K$3:$K$356,0) -> 109 | O127: =VLOOKUP(B127,[1]高二下!$B:$H,6,0) -> 92 | P127: =VLOOKUP(B127,[1]高二下!$B:$H,7,0) -> 易涛 | Q127: =IF(OR(O127=0,S127=0),100,(((V127-R127)/COUNTIF(D:D,D127))*100)+100) -> 85.59322 | R127: =RANK(O127,$O$3:$O$356,0) -> 85 | S127: =VLOOKUP(B127,[1]高二上!$B:$H,6,0) -> 105 | T127: =VLOOKUP(B127,[1]高二上!$B:$H,7,0) -> 易涛 | U127: =IF(OR(W127=0,S127=0),100,(((Z127-V127)/COUNTIF(D:D,D127))*100)+100) -> 107.9096 | V127: =RANK(S127,$S$3:$S$356,0) -> 34 | W127: =VLOOKUP(B127,[1]高一下!$B:$H,6,0) -> 94 | X127: =VLOOKUP(B127,[1]高一下!$B:$H,7,0) -> 易涛 | Y127: =IF(OR(W127=0,AA127=0),100,(((AD127-Z127)/COUNTIF(D:D,D127))*100)+100) -> 129.9435 | Z127: =RANK(W127,$W$3:$W$356,0) -> 62 | AA127: =VLOOKUP(B127,[1]高一上!$B:$G,5,0) -> 80 | AB127: =VLOOKUP(B127,[1]高一上!$B:$G,6,0) -> 张镇棚 | AC127: =IF(OR(AE127=0,AA127=0),100,(((AF127-AD127)/COUNTIF(D:D,D127))*100)+100) -> 103.9548 | AD127: =RANK(AA127,$AA$3:$AA$356,0) -> 168 | AE127: =VLOOKUP(B127,[1]中考!$B:$G,6,0) -> 104 | AF127: =RANK(AE127,AE127:AE480,0) -> 182
A128: 513422200510017021 | B128: G513422200510017021 | C128: 3 | D128: 物理类 | E128: 仁青拉初 | F128: 428 | G128: 91 | H128: 易涛 | I128: =IF(OR(G128=0,K128=0),100,(((N128-J128)/COUNTIF(D:D,D128))*100)+100) -> 87.853107 | J128: =RANK(G128,$G$3:$G$356,0) -> 274 | K128: =VLOOKUP(B128,[1]高三上!$B:$H,6,0) -> 88 | L128: =VLOOKUP(B128,[1]高三上!$B:$H,7,0) -> 易涛 | M128: =IF(OR(O128=0,K128=0),100,(((R128-N128)/COUNTIF(D:D,D128))*100)+100) -> 118.64407 | N128: =RANK(K128,$K$3:$K$356,0) -> 231 | O128: =VLOOKUP(B128,[1]高二下!$B:$H,6,0) -> 79 | P128: =VLOOKUP(B128,[1]高二下!$B:$H,7,0) -> 易涛 | Q128: =IF(OR(O128=0,S128=0),100,(((V128-R128)/COUNTIF(D:D,D128))*100)+100) -> 102.25989 | R128: =RANK(O128,$O$3:$O$356,0) -> 297 | S128: =VLOOKUP(B128,[1]高二上!$B:$H,6,0) -> 81 | T128: =VLOOKUP(B128,[1]高二上!$B:$H,7,0) -> 易涛 | U128: =IF(OR(W128=0,S128=0),100,(((Z128-V128)/COUNTIF(D:D,D128))*100)+100) -> 95.480226 | V128: =RANK(S128,$S$3:$S$356,0) -> 305 | W128: =VLOOKUP(B128,[1]高一下!$B:$H,6,0) -> 79 | X128: =VLOOKUP(B128,[1]高一下!$B:$H,7,0) -> 易涛 | Y128: =IF(OR(W128=0,AA128=0),100,(((AD128-Z128)/COUNTIF(D:D,D128))*100)+100) -> 65.819209 | Z128: =RANK(W128,$W$3:$W$356,0) -> 289 | AA128: =VLOOKUP(B128,[1]高一上!$B:$G,5,0) -> 80 | AB128: =VLOOKUP(B128,[1]高一上!$B:$G,6,0) -> 格绒燚西 | AC128: =IF(OR(AE128=0,AA128=0),100,(((AF128-AD128)/COUNTIF(D:D,D128))*100)+100) -> 148.30508 | AD128: =RANK(AA128,$AA$3:$AA$356,0) -> 168 | AE128: =VLOOKUP(B128,[1]中考!$B:$G,6,0) -> 85 | AF128: =RANK(AE128,AE128:AE481,0) -> 339
A129: 513422200903176621 | B129: G513422200903176621 | C129: 3 | D129: 物理类 | E129: 杜吉萍 | F129: 426 | G129: 86 | H129: 易涛 | I129: =IF(OR(G129=0,K129=0),100,(((N129-J129)/COUNTIF(D:D,D129))*100)+100) -> 38.700565 | J129: =RANK(G129,$G$3:$G$356,0) -> 326 | K129: =VLOOKUP(B129,[1]高三上!$B:$H,6,0) -> 98 | L129: =VLOOKUP(B129,[1]高三上!$B:$H,7,0) -> 易涛 | M129: =IF(OR(O129=0,K129=0),100,(((R129-N129)/COUNTIF(D:D,D129))*100)+100) -> 111.29944 | N129: =RANK(K129,$K$3:$K$356,0) -> 109 | O129: =VLOOKUP(B129,[1]高二下!$B:$H,6,0) -> 88 | P129: =VLOOKUP(B129,[1]高二下!$B:$H,7,0) -> 易涛 | Q129: =IF(OR(O129=0,S129=0),100,(((V129-R129)/COUNTIF(D:D,D129))*100)+100) -> 125.70621 | R129: =RANK(O129,$O$3:$O$356,0) -> 149 | S129: =VLOOKUP(B129,[1]高二上!$B:$H,6,0) -> 87 | T129: =VLOOKUP(B129,[1]高二上!$B:$H,7,0) -> 易涛 | U129: =IF(OR(W129=0,S129=0),100,(((Z129-V129)/COUNTIF(D:D,D129))*100)+100) -> 46.045198 | V129: =RANK(S129,$S$3:$S$356,0) -> 240 | W129: =VLOOKUP(B129,[1]高一下!$B:$H,6,0) -> 95 | X129: =VLOOKUP(B129,[1]高一下!$B:$H,7,0) -> 易涛 | Y129: =IF(OR(W129=0,AA129=0),100,(((AD129-Z129)/COUNTIF(D:D,D129))*100)+100) -> 162.99435 | Z129: =RANK(W129,$W$3:$W$356,0) -> 49 | AA129: =VLOOKUP(B129,[1]高一上!$B:$G,5,0) -> 73 | AB129: =VLOOKUP(B129,[1]高一上!$B:$G,6,0) -> 肖锐 | AC129: =IF(OR(AE129=0,AA129=0),100,(((AF129-AD129)/COUNTIF(D:D,D129))*100)+100) -> 60.169492 | AD129: =RANK(AA129,$AA$3:$AA$356,0) -> 272 | AE129: =VLOOKUP(B129,[1]中考!$B:$G,6,0) -> 107 | AF129: =RANK(AE129,AE129:AE482,0) -> 131
A130: 513422200601123620 | B130: G513422200601123620 | C130: 3 | D130: 物理类 | E130: 陈桂菲 | F130: 426 | G130: 95 | H130: 易涛 | I130: =IF(OR(G130=0,K130=0),100,(((N130-J130)/COUNTIF(D:D,D130))*100)+100) -> 110.45198 | J130: =RANK(G130,$G$3:$G$356,0) -> 224 | K130: =VLOOKUP(B130,[1]高三上!$B:$H,6,0) -> 86 | L130: =VLOOKUP(B130,[1]高三上!$B:$H,7,0) -> 易涛 | M130: =IF(OR(O130=0,K130=0),100,(((R130-N130)/COUNTIF(D:D,D130))*100)+100) -> 83.615819 | N130: =RANK(K130,$K$3:$K$356,0) -> 261 | O130: =VLOOKUP(B130,[1]高二下!$B:$H,6,0) -> 85 | P130: =VLOOKUP(B130,[1]高二下!$B:$H,7,0) -> 易涛 | Q130: =IF(OR(O130=0,S130=0),100,(((V130-R130)/COUNTIF(D:D,D130))*100)+100) -> 103.9548 | R130: =RANK(O130,$O$3:$O$356,0) -> 203 | S130: =VLOOKUP(B130,[1]高二上!$B:$H,6,0) -> 89 | T130: =VLOOKUP(B130,[1]高二上!$B:$H,7,0) -> 易涛 | U130: =IF(OR(W130=0,S130=0),100,(((Z130-V130)/COUNTIF(D:D,D130))*100)+100) -> 68.361582 | V130: =RANK(S130,$S$3:$S$356,0) -> 217 | W130: =VLOOKUP(B130,[1]高一下!$B:$H,6,0) -> 91 | X130: =VLOOKUP(B130,[1]高一下!$B:$H,7,0) -> 易涛 | Y130: =IF(OR(W130=0,AA130=0),100,(((AD130-Z130)/COUNTIF(D:D,D130))*100)+100) -> 95.762712 | Z130: =RANK(W130,$W$3:$W$356,0) -> 105 | AA130: =VLOOKUP(B130,[1]高一上!$B:$G,5,0) -> 87 | AB130: =VLOOKUP(B130,[1]高一上!$B:$G,6,0) -> 杨翁基之玛 | AC130: =IF(OR(AE130=0,AA130=0),100,(((AF130-AD130)/COUNTIF(D:D,D130))*100)+100) -> 168.92655 | AD130: =RANK(AA130,$AA$3:$AA$356,0) -> 90 | AE130: =VLOOKUP(B130,[1]中考!$B:$G,6,0) -> 87 | AF130: =RANK(AE130,AE130:AE483,0) -> 334
A131: 513422200602232124 | B131: G513422200602232124 | C131: 3 | D131: 物理类 | E131: 叶才美 | F131: 424 | G131: 103 | H131: 易涛 | I131: =IF(OR(G131=0,K131=0),100,(((N131-J131)/COUNTIF(D:D,D131))*100)+100) -> 110.73446 | J131: =RANK(G131,$G$3:$G$356,0) -> 101 | K131: =VLOOKUP(B131,[1]高三上!$B:$H,6,0) -> 95 | L131: =VLOOKUP(B131,[1]高三上!$B:$H,7,0) -> 易涛 | M131: =IF(OR(O131=0,K131=0),100,(((R131-N131)/COUNTIF(D:D,D131))*100)+100) -> 63.276836 | N131: =RANK(K131,$K$3:$K$356,0) -> 139 | O131: =VLOOKUP(B131,[1]高二下!$B:$H,6,0) -> 102 | P131: =VLOOKUP(B131,[1]高二下!$B:$H,7,0) -> 易涛 | Q131: =IF(OR(O131=0,S131=0),100,(((V131-R131)/COUNTIF(D:D,D131))*100)+100) -> 151.9774 | R131: =RANK(O131,$O$3:$O$356,0) -> 9 | S131: =VLOOKUP(B131,[1]高二上!$B:$H,6,0) -> 91 | T131: =VLOOKUP(B131,[1]高二上!$B:$H,7,0) -> 易涛 | U131: =IF(OR(W131=0,S131=0),100,(((Z131-V131)/COUNTIF(D:D,D131))*100)+100) -> 66.666667 | V131: =RANK(S131,$S$3:$S$356,0) -> 193 | W131: =VLOOKUP(B131,[1]高一下!$B:$H,6,0) -> 93 | X131: =VLOOKUP(B131,[1]高一下!$B:$H,7,0) -> 易涛 | Y131: =IF(OR(W131=0,AA131=0),100,(((AD131-Z131)/COUNTIF(D:D,D131))*100)+100) -> 142.65537 | Z131: =RANK(W131,$W$3:$W$356,0) -> 75 | AA131: =VLOOKUP(B131,[1]高一上!$B:$G,5,0) -> 76 | AB131: =VLOOKUP(B131,[1]高一上!$B:$G,6,0) -> 张镇棚 | AC131: =IF(OR(AE131=0,AA131=0),100,(((AF131-AD131)/COUNTIF(D:D,D131))*100)+100) -> 107.06215 | AD131: =RANK(AA131,$AA$3:$AA$356,0) -> 226 | AE131: =VLOOKUP(B131,[1]中考!$B:$G,6,0) -> 99 | AF131: =RANK(AE131,AE131:AE484,0) -> 251
A132: 513422200301111310 | B132: G513422200301111310 | C132: 3 | D132: 物理类 | E132: 王伍斤 | F132: 420 | G132: 90 | H132: 易涛 | I132: =IF(OR(G132=0,K132=0),100,(((N132-J132)/COUNTIF(D:D,D132))*100)+100) -> 110.16949 | J132: =RANK(G132,$G$3:$G$356,0) -> 289 | K132: =VLOOKUP(B132,[1]高三上!$B:$H,6,0) -> 78 | L132: =VLOOKUP(B132,[1]高三上!$B:$H,7,0) -> 易涛 | M132: =IF(OR(O132=0,K132=0),100,(((R132-N132)/COUNTIF(D:D,D132))*100)+100) -> 82.20339 | N132: =RANK(K132,$K$3:$K$356,0) -> 325 | O132: =VLOOKUP(B132,[1]高二下!$B:$H,6,0) -> 82 | P132: =VLOOKUP(B132,[1]高二下!$B:$H,7,0) -> 易涛 | Q132: =IF(OR(O132=0,S132=0),100,(((V132-R132)/COUNTIF(D:D,D132))*100)+100) -> 75.423729 | R132: =RANK(O132,$O$3:$O$356,0) -> 262 | S132: =VLOOKUP(B132,[1]高二上!$B:$H,6,0) -> 92 | T132: =VLOOKUP(B132,[1]高二上!$B:$H,7,0) -> 易涛 | U132: =IF(OR(W132=0,S132=0),100,(((Z132-V132)/COUNTIF(D:D,D132))*100)+100) -> 104.80226 | V132: =RANK(S132,$S$3:$S$356,0) -> 175 | W132: =VLOOKUP(B132,[1]高一下!$B:$H,6,0) -> 85 | X132: =VLOOKUP(B132,[1]高一下!$B:$H,7,0) -> 易涛 | Y132: =IF(OR(W132=0,AA132=0),100,(((AD132-Z132)/COUNTIF(D:D,D132))*100)+100) -> 142.37288 | Z132: =RANK(W132,$W$3:$W$356,0) -> 192 | AA132: =VLOOKUP(B132,[1]高一上!$B:$G,5,0) -> 64 | AB132: =VLOOKUP(B132,[1]高一上!$B:$G,6,0) -> 易涛 | AC132: =IF(OR(AE132=0,AA132=0),100,(((AF132-AD132)/COUNTIF(D:D,D132))*100)+100) -> 36.440678 | AD132: =RANK(AA132,$AA$3:$AA$356,0) -> 342 | AE132: =VLOOKUP(B132,[1]中考!$B:$G,6,0) -> 108 | AF132: =RANK(AE132,AE132:AE485,0) -> 117
...

Sheet 语文老师汇总得分
A1: 高考 | B1: 行标签 | C1: 平均值项:得分 | F1: 陈光汇 | G1: =SUMIF(B1:C83,F1,C1:C83) -> 603.08721
B2: 陈光汇 | C2: 99.247495 | F2: 格绒燚西 | G2: =SUMIF(B2:C84,F2,C2:C84) -> 597.22921
B3: 格绒燚西 | C3: 104.15032 | F3: 何东霖 | G3: =SUMIF(B3:C85,F3,C3:C85) -> 198.29004
B4: 何东霖 | C4: 100.2248 | F4: 肖锐 | G4: =SUMIF(B4:C86,F4,C4:C86) -> 586.13724
B5: 肖锐 | C5: 101.54165 | F5: 杨翁基之玛 | G5: =SUMIF(B5:C87,F5,C5:C87) -> 595.97669
B6: 杨翁基之玛 | C6: 92.361384 | F6: 易涛 | G6: =SUMIF(B6:C88,F6,C6:C88) -> 585.33056
B7: 易涛 | C7: 91.287107 | F7: 岳子琦 | G7: =SUMIF(B7:C89,F7,C7:C89) -> 605.43429
B8: 岳子琦 | C8: 100.59701 | F8: 周菊明 | G8: =SUMIF(B8:C90,F8,C8:C90) -> 606.06229
B9: 周菊明 | C9: 100.12482 | F9: 甲阿祝玛 | G9: =SUMIF(B9:C91,F9,C9:C91) -> 209.7561
B10: (空白) | F10: 李正琪 | G10: =SUMIF(B10:C92,F10,C10:C92) -> 296.61766
B11: 总计 | C11: 98.688039 | F11: 刘权芳 | G11: =SUMIF(B11:C93,F11,C11:C93) -> 186.06661
F12: 刘云菊 | G12: =SUMIF(B12:C94,F12,C12:C94) -> 194.39678
F13: 张镇棚 | G13: =SUMIF(B13:C95,F13,C13:C95) -> 206.7053
B14: 行标签 | C14: 平均值项:得分
B15: 陈光汇 | C15: 102.40735
B16: 格绒燚西 | C16: 98.907757
B17: 何东霖 | C17: 98.065242
B18: 肖锐 | C18: 102.02908
B19: 杨翁基之玛 | C19: 98.454836
B20: 易涛 | C20: 100.38681
B21: 岳子琦 | C21: 98.600824
B22: 周菊明 | C22: 101.5898
B23: (空白)
B24: 总计 | C24: 99.949392
B26: 高二下
B27: 行标签 | C27: 平均值项:得分
B28: 陈光汇 | C28: 97.09143
B29: 格绒燚西 | C29: 98.847593
B30: 甲阿祝玛 | C30: 104.14288
B31: 肖锐 | C31: 98.211925
B32: 杨翁基之玛 | C32: 109.66659
B33: 易涛 | C33: 100.81756
B34: 岳子琦 | C34: 103.53514
B35: 周菊明 | C35: 94.777296
B36: (空白)
B37: 总计 | C37: 101.45737
B39: 高二上
B40: 行标签 | C40: 平均值项:得分
B41: 陈光汇 | C41: 108.61626
B42: 格绒燚西 | C42: 93.999608
...

Sheet 数学
A1: 身份证号码 | B1: 辅助学籍号 | C1: 班级 | D1: 科类 | E1: 姓名 | F1: 总分 | G1: 高考 | K1: 高三上 | O1: 高二下 | S1: 高二上 | W1: 高一下 | AA1: 高一上 | AE1: 中考
G2: 成绩 | H2: 教师 | I2: 得分 | J2: 排名 | K2: 成绩 | L2: 教师 | M2: 得分 | N2: 排名 | O2: 成绩 | P2: 教师 | Q2: 得分 | R2: 排名 | S2: 成绩 | T2: 教师 | U2: 得分 | V2: 排名 | W2: 成绩 | X2: 教师 | Y2: 得分 | Z2: 排名 | AA2: 成绩 | AB2: 教师 | AC2: 得分 | AD2: 排名 | AE2: 成绩 | AF2: 排名
A3: 513422200609206017 | B3: G513422200609206017 | C3: 1 | D3: 物理类 | E3: 仁青杜基 | F3: 624 | G3: =VLOOKUP(B3,'[1]高三下(高考)'!$B:$J,8,0) -> 125 | H3: =VLOOKUP(B3,'[1]高三下(高考)'!$B:$J,9,0) -> 赵云川 | I3: =IF(OR(G3=0,K3=0),100,(((N3-J3)/COUNTIF(D:D,D3))*100)+100) -> 100.28249 | J3: =RANK(G3,$G$3:$G$356,0) -> 1 | K3: =VLOOKUP(B3,[1]高三上!$B:$J,8,0) -> 108 | L3: =VLOOKUP(B3,[1]高三上!$B:$J,9,0) -> 赵云川 | M3: =IF(OR(O3=0,K3=0),100,(((R3-N3)/COUNTIF(D:D,D3))*100)+100) -> 103.10734 | N3: =RANK(K3,$K$3:$K$356,0) -> 2 | O3: =VLOOKUP(B3,[1]高二下!$B:$J,8,0) -> 99 | P3: =VLOOKUP(B3,[1]高二下!$B:$J,9,0) -> 赵云川 | Q3: =IF(OR(O3=0,S3=0),100,(((V3-R3)/COUNTIF(D:D,D3))*100)+100) -> 96.610169 | R3: =RANK(O3,$O$3:$O$356,0) -> 13 | S3: =VLOOKUP(B3,[1]高二上!$B:$J,8,0) -> 146 | T3: =VLOOKUP(B3,[1]高二上!$B:$J,9,0) -> 赵云川 | U3: =IF(OR(W3=0,S3=0),100,(((Z3-V3)/COUNTIF(D:D,D3))*100)+100) -> 100 | V3: =RANK(S3,$S$3:$S$356,0) -> 1 | W3: =VLOOKUP(B3,[1]高一下!$B:$J,8,0) -> 132 | X3: =VLOOKUP(B3,[1]高一下!$B:$J,9,0) -> 赵云川 | Y3: =IF(OR(W3=0,AA3=0),100,(((AD3-Z3)/COUNTIF(D:D,D3))*100)+100) -> 100.56497 | Z3: =RANK(W3,$W$3:$W$356,0) -> 1 | AA3: =VLOOKUP(B3,[1]高一上!$B:$I,7,0) -> 117 | AB3: =VLOOKUP(B3,[1]高一上!$B:$I,8,0) -> 赵云川 | AC3: =IF(OR(AE3=0,AA3=0),100,(((AF3-AD3)/COUNTIF(D:D,D3))*100)+100) -> 99.435028 | AD3: =RANK(AA3,$AA$3:$AA$356,0) -> 3 | AE3: =VLOOKUP(B3,[1]中考!$B:$H,7,0) -> 138 | AF3: =RANK(AE3,AE3:AE356,0) -> 1
A4: 51342220070812341X | B4: G51342220070812341X | C4: 1 | D4: 物理类 | E4: 潘路阳 | F4: 607 | G4: =VLOOKUP(B4,'[1]高三下(高考)'!$B:$J,8,0) -> 123 | H4: =VLOOKUP(B4,'[1]高三下(高考)'!$B:$J,9,0) -> 赵云川 | I4: =IF(OR(G4=0,K4=0),100,(((N4-J4)/COUNTIF(D:D,D4))*100)+100) -> 101.41243 | J4: =RANK(G4,$G$3:$G$356,0) -> 2 | K4: =VLOOKUP(B4,[1]高三上!$B:$J,8,0) -> 100 | L4: =VLOOKUP(B4,[1]高三上!$B:$J,9,0) -> 赵云川 | M4: =IF(OR(O4=0,K4=0),100,(((R4-N4)/COUNTIF(D:D,D4))*100)+100) -> 100.84746 | N4: =RANK(K4,$K$3:$K$356,0) -> 7 | O4: =VLOOKUP(B4,[1]高二下!$B:$J,8,0) -> 101 | P4: =VLOOKUP(B4,[1]高二下!$B:$J,9,0) -> 赵云川 | Q4: =IF(OR(O4=0,S4=0),100,(((V4-R4)/COUNTIF(D:D,D4))*100)+100) -> 98.305085 | R4: =RANK(O4,$O$3:$O$356,0) -> 10 | S4: =VLOOKUP(B4,[1]高二上!$B:$J,8,0) -> 115 | T4: =VLOOKUP(B4,[1]高二上!$B:$J,9,0) -> 赵云川 | U4: =IF(OR(W4=0,S4=0),100,(((Z4-V4)/COUNTIF(D:D,D4))*100)+100) -> 101.69492 | V4: =RANK(S4,$S$3:$S$356,0) -> 4 | W4: =VLOOKUP(B4,[1]高一下!$B:$J,8,0) -> 114 | X4: =VLOOKUP(B4,[1]高一下!$B:$J,9,0) -> 赵云川 | Y4: =IF(OR(W4=0,AA4=0),100,(((AD4-Z4)/COUNTIF(D:D,D4))*100)+100) -> 97.740113 | Z4: =RANK(W4,$W$3:$W$356,0) -> 10 | AA4: =VLOOKUP(B4,[1]高一上!$B:$I,7,0) -> 118 | AB4: =VLOOKUP(B4,[1]高一上!$B:$I,8,0) -> 赵云川 | AC4: =IF(OR(AE4=0,AA4=0),100,(((AF4-AD4)/COUNTIF(D:D,D4))*100)+100) -> 101.9774 | AD4: =RANK(AA4,$AA$3:$AA$356,0) -> 2 | AE4: =VLOOKUP(B4,[1]中考!$B:$H,7,0) -> 132 | AF4: =RANK(AE4,AE4:AE357,0) -> 9
