Workbook

Sheet 所有教师汇总
A1: 教师 | B1: 得分
A2: 陈光汇 | B2: 603.08721
A3: 格绒燚西 | B3: 597.22921
A4: 何东霖 | B4: 198.29004
A5: 肖锐 | B5: 586.13724
A6: 杨翁基之玛 | B6: 595.97669
A7: 易涛 | B7: 585.33056
A8: 岳子琦 | B8: 605.43429
A9: 周菊明 | B9: 606.06229
A10: 甲阿祝玛 | B10: 209.7561
A11: 李正琪 | B11: 296.61766
A12: 刘权芳 | B12: 186.06661
A13: 刘云菊 | B13: 194.39678
... A77: 李汉林 | B77: 91.530368

Sheet 语文
A1: 身份证号码 | B1: 辅助学籍号 | C1: 班级 | D1: 科类 | E1: 姓名 | F1: 总分 | G1: 高考 | K1: 高三上 | O1: 高二下 | S1: 高二上 | W1: 高一下 | AA1: 高一上 | AE1: 中考
G2: 成绩 | H2: 教师 | I2: 得分 | J2: 排名 | K2: 成绩 | L2: 教师 | M2: 得分 | N2: 排名 | O2: 成绩 | P2: 教师 | Q2: 得分 | R2: 排名 | S2: 成绩 | T2: 教师 | U2: 得分 | V2: 排名 | W2: 成绩 | X2: 教师 | Y2: 得分 | Z2: 排名 | AA2: 成绩 | AB2: 教师 | AC2: 得分 | AD2: 排名 | AE2: 成绩 | AF2: 排名
A3: 513422200609206017 | B3: G513422200609206017 | C3: 1 | D3: 物理类 | E3: 仁青杜基 | F3: 624 | G3: 123 | H3: 周菊明 | I3: =IF(OR(G3=0,K3=0),100,(((N3-J3)/COUNTIF(D:D,D3))*100)+100) -> 100.84746 | J3: =RANK(G3,$G$3:$G$356,0) -> 1 | K3: =VLOOKUP(B3,[1]高三上!$B:$H,6,0) -> 115 | L3: =VLOOKUP(B3,[1]高三上!$B:$H,7,0) -> 周菊明 | M3: =IF(OR(O3=0,K3=0),100,(((R3-N3)/COUNTIF(D:D,D3))*100)+100) -> 104.80226 | N3: =RANK(K3,$K$3:$K$356,0) -> 4 | O3: =VLOOKUP(B3,[1]高二下!$B:$H,6,0) -> 99 | P3: =VLOOKUP(B3,[1]高二下!$B:$H,7,0) -> 周菊明 | Q3: =IF(OR(O3=0,S3=0),100,(((V3-R3)/COUNTIF(D:D,D3))*100)+100) -> 94.350282 | R3: =RANK(O3,$O$3:$O$356,0) -> 21 | S3: =VLOOKUP(B3,[1]高二上!$B:$H,6,0) -> 118 | T3: =VLOOKUP(B3,[1]高二上!$B:$H,7,0) -> 周菊明 | U3: =IF(OR(W3=0,S3=0),100,(((Z3-V3)/COUNTIF(D:D,D3))*100)+100) -> 103.9548 | V3: =RANK(S3,$S$3:$S$356,0) -> 1 | W3: =VLOOKUP(B3,[1]高一下!$B:$H,6,0) -> 101 | X3: =VLOOKUP(B3,[1]高一下!$B:$H,7,0) -> 周菊明 | Y3: =IF(OR(W3=0,AA3=0),100,(((AD3-Z3)/COUNTIF(D:D,D3))*100)+100) -> 96.892655 | Z3: =RANK(W3,$W$3:$W$356,0) -> 15 | AA3: =VLOOKUP(B3,[1]高一上!$B:$G,5,0) -> 108 | AB3: =VLOOKUP(B3,[1]高一上!$B:$G,6,0) -> 周菊明 | AC3: =IF(OR(AE3=0,AA3=0),100,(((AF3-AD3)/COUNTIF(D:D,D3))*100)+100) -> 114.68927 | AD3: =RANK(AA3,$AA$3:$AA$356,0) -> 4 | AE3: =VLOOKUP(B3,[1]中考!$B:$G,6,0) -> 114 | AF3: =RANK(AE3,AE3:AE356,0) -> 56
A4: 51342220070812341X | B4: G51342220070812341X | C4: 1 | D4: 物理类 | E4: 潘路阳 | F4: 607 | G4: 113 | H4: 周菊明 | I4: =IF(OR(G4=0,K4=0),100,(((N4-J4)/COUNTIF(D:D,D4))*100)+100) -> 96.045198 | J4: =RANK(G4,$G$3:$G$356,0) -> 19 | K4: =VLOOKUP(B4,[1]高三上!$B:$H,6,0) -> 114 | L4: =VLOOKUP(B4,[1]高三上!$B:$H,7,0) -> 周菊明 | M4: =IF(OR(O4=0,K4=0),100,(((R4-N4)/COUNTIF(D:D,D4))*100)+100) -> 118.36158 | N4: =RANK(K4,$K$3:$K$356,0) -> 5 | O4: =VLOOKUP(B4,[1]高二下!$B:$H,6,0) -> 93 | P4: =VLOOKUP(B4,[1]高二下!$B:$H,7,0) -> 周菊明 | Q4: =IF(OR(O4=0,S4=0),100,(((V4-R4)/COUNTIF(D:D,D4))*100)+100) -> 81.073446 | R4: =RANK(O4,$O$3:$O$356,0) -> 70 | S4: =VLOOKUP(B4,[1]高二上!$B:$H,6,0) -> 116 | T4: =VLOOKUP(B4,[1]高二上!$B:$H,7,0) -> 周菊明 | U4: =IF(OR(W4=0,S4=0),100,(((Z4-V4)/COUNTIF(D:D,D4))*100)+100) -> 120.33898 | V4: =RANK(S4,$S$3:$S$356,0) -> 3 | W4: =VLOOKUP(B4,[1]高一下!$B:$H,6,0) -> 93 | X4: =VLOOKUP(B4,[1]高一下!$B:$H,7,0) -> 周菊明 | Y4: =IF(OR(W4=0,AA4=0),100,(((AD4-Z4)/COUNTIF(D:D,D4))*100)+100) -> 86.158192 | Z4: =RANK(W4,$W$3:$W$356,0) -> 75 | AA4: =VLOOKUP(B4,[1]高一上!$B:$G,5,0) -> 97 | AB4: =VLOOKUP(B4,[1]高一上!$B:$G,6,0) -> 周菊明 | AC4: =IF(OR(AE4=0,AA4=0),100,(((AF4-AD4)/COUNTIF(D:D,D4))*100)+100) -> 124.85876 | AD4: =RANK(AA4,$AA$3:$AA$356,0) -> 26 | AE4: =VLOOKUP(B4,[1]中考!$B:$G,6,0) -> 109 | AF4: =RANK(AE4,AE4:AE357,0) -> 114
A5: 513422200708114417 | B5: G513422200708114417 | C5: 1 | D5: 物理类 | E5: 杨东生 | F5: 603 | G5: 117 | H5: 周菊明 | I5: =IF(OR(G5=0,K5=0),100,(((N5-J5)/COUNTIF(D:D,D5))*100)+100) -> 104.51977 | J5: =RANK(G5,$G$3:$G$356,0) -> 8 | K5: =VLOOKUP(B5,[1]高三上!$B:$H,6,0) -> 108 | L5: =VLOOKUP(B5,[1]高三上!$B:$H,7,0) -> 周菊明 | M5: =IF(OR(O5=0,K5=0),100,(((R5-N5)/COUNTIF(D:D,D5))*100)+100) -> 96.610169 | N5: =RANK(K5,$K$3:$K$356,0) -> 24 | O5: =VLOOKUP(B5,[1]高二下!$B:$H,6,0) -> 101 | P5: =VLOOKUP(B5,[1]高二下!$B:$H,7,0) -> 周菊明 | Q5: =IF(OR(O5=0,S5=0),100,(((V5-R5)/COUNTIF(D:D,D5))*100)+100) -> 106.21469 | R5: =RANK(O5,$O$3:$O$356,0) -> 12 | S5: =VLOOKUP(B5,[1]高二上!$B:$H,6,0) -> 105 | T5: =VLOOKUP(B5,[1]高二上!$B:$H,7,0) -> 周菊明 | U5: =IF(OR(W5=0,S5=0),100,(((Z5-V5)/COUNTIF(D:D,D5))*100)+100) -> 140.39548 | V5: =RANK(S5,$S$3:$S$356,0) -> 34 | W5: =VLOOKUP(B5,[1]高一下!$B:$H,6,0) -> 86 | X5: =VLOOKUP(B5,[1]高一下!$B:$H,7,0) -> 周菊明 | Y5: =IF(OR(W5=0,AA5=0),100,(((AD5-Z5)/COUNTIF(D:D,D5))*100)+100) -> 56.214689 | Z5: =RANK(W5,$W$3:$W$356,0) -> 177 | AA5: =VLOOKUP(B5,[1]高一上!$B:$G,5,0) -> 98 | AB5: =VLOOKUP(B5,[1]高一上!$B:$G,6,0) -> 周菊明 | AC5: =IF(OR(AE5=0,AA5=0),100,(((AF5-AD5)/COUNTIF(D:D,D5))*100)+100) -> 122.88136 | AD5: =RANK(AA5,$AA$3:$AA$356,0) -> 22 | AE5: =VLOOKUP(B5,[1]中考!$B:$G,6,0) -> 110 | AF5: =RANK(AE5,AE5:AE358,0) -> 103
A6: 513422200701205025 | B6: G513422200701205025 | C6: 1 | D6: 物理类 | E6: 次里拉姆 | F6: 594 | G6: 114 | H6: 周菊明 | I6: =IF(OR(G6=0,K6=0),100,(((N6-J6)/COUNTIF(D:D,D6))*100)+100) -> 109.88701 | J6: =RANK(G6,$G$3:$G$356,0) -> 13 | K6: =VLOOKUP(B6,[1]高三上!$B:$H,6,0) -> 104 | L6: =VLOOKUP(B6,[1]高三上!$B:$H,7,0) -> 周菊明 | M6: =IF(OR(O6=0,K6=0),100,(((R6-N6)/COUNTIF(D:D,D6))*100)+100) -> 90.960452 | N6: =RANK(K6,$K$3:$K$356,0) -> 48 | O6: =VLOOKUP(B6,[1]高二下!$B:$H,6,0) -> 100 | P6: =VLOOKUP(B6,[1]高二下!$B:$H,7,0) -> 周菊明 | Q6: =IF(OR(O6=0,S6=0),100,(((V6-R6)/COUNTIF(D:D,D6))*100)+100) -> 105.08475 | R6: =RANK(O6,$O$3:$O$356,0) -> 16 | S6: =VLOOKUP(B6,[1]高二上!$B:$H,6,0) -> 105 | T6: =VLOOKUP(B6,[1]高二上!$B:$H,7,0) -> 周菊明 | U6: =IF(OR(W6=0,S6=0),100,(((Z6-V6)/COUNTIF(D:D,D6))*100)+100) -> 135.59322 | V6: =RANK(S6,$S$3:$S$356,0) -> 34 | W6: =VLOOKUP(B6,[1]高一下!$B:$H,6,0) -> 87 | X6: =VLOOKUP(B6,[1]高一下!$B:$H,7,0) -> 周菊明 | Y6: =IF(OR(W6=0,AA6=0),100,(((AD6-Z6)/COUNTIF(D:D,D6))*100)+100) -> 98.022599 | Z6: =RANK(W6,$W$3:$W$356,0) -> 160 | AA6: =VLOOKUP(B6,[1]高一上!$B:$G,5,0) -> 81 | AB6: =VLOOKUP(B6,[1]高一上!$B:$G,6,0) -> 周菊明 | AC6: =IF(OR(AE6=0,AA6=0),100,(((AF6-AD6)/COUNTIF(D:D,D6))*100)+100) -> 69.20904 | AD6: =RANK(AA6,$AA$3:$AA$356,0) -> 153 | AE6: =VLOOKUP(B6,[1]中考!$B:$G,6,0) -> 116 | AF6: =RANK(AE6,AE6:AE359,0) -> 44
A7: 513422200605053818 | B7: G513422200605053818 | C7: 1 | D7: 物理类 | E7: 马文海 | F7: 585 | G7: 107 | H7: 周菊明 | I7: =IF(OR(G7=0,K7=0),100,(((N7-J7)/COUNTIF(D:D,D7))*100)+100) -> 92.937853 | J7: =RANK(G7,$G$3:$G$356,0) -> 64 | K7: =VLOOKUP(B7,[1]高三上!$B:$H,6,0) -> 105 | L7: =VLOOKUP(B7,[1]高三上!$B:$H,7,0) -> 周菊明 | M7: =IF(OR(O7=0,K7=0),100,(((R7-N7)/COUNTIF(D:D,D7))*100)+100) -> 99.435028 | N7: =RANK(K7,$K$3:$K$356,0) -> 39 | O7: =VLOOKUP(B7,[1]高二下!$B:$H,6,0) -> 96 | P7: =VLOOKUP(B7,[1]高二下!$B:$H,7,0) -> 周菊明 | Q7: =IF(OR(O7=0,S7=0),100,(((V7-R7)/COUNTIF(D:D,D7))*100)+100) -> 101.9774 | R7: =RANK(O7,$O$3:$O$356,0) -> 37 | S7: =VLOOKUP(B7,[1]高二上!$B:$H,6,0) -> 103 | T7: =VLOOKUP(B7,[1]高二上!$B:$H,7,0) -> 周菊明 | U7: =IF(OR(W7=0,S7=0),100,(((Z7-V7)/COUNTIF(D:D,D7))*100)+100) -> 108.75706 | V7: =RANK(S7,$S$3:$S$356,0) -> 44 | W7: =VLOOKUP(B7,[1]高一下!$B:$H,6,0) -> 93 | X7: =VLOOKUP(B7,[1]高一下!$B:$H,7,0) -> 周菊明 | Y7: =IF(OR(W7=0,AA7=0),100,(((AD7-Z7)/COUNTIF(D:D,D7))*100)+100) -> 97.740113 | Z7: =RANK(W7,$W$3:$W$356,0) -> 75 | AA7: =VLOOKUP(B7,[1]高一上!$B:$G,5,0) -> 90 | AB7: =VLOOKUP(B7,[1]高一上!$B:$G,6,0) -> 周菊明 | AC7: =IF(OR(AE7=0,AA7=0),100,(((AF7-AD7)/COUNTIF(D:D,D7))*100)+100) -> 103.67232 | AD7: =RANK(AA7,$AA$3:$AA$356,0) -> 67 | AE7: =VLOOKUP(B7,[1]中考!$B:$G,6,0) -> 112 | AF7: =RANK(AE7,AE7:AE360,0) -> 80
A8: 513422200705272727 | B8: G513422200705272727 | C8: 1 | D8: 物理类 | E8: 周静 | F8: 575 | G8: 117 | H8: 周菊明 | I8: =IF(OR(G8=0,K8=0),100,(((N8-J8)/COUNTIF(D:D,D8))*100)+100) -> 111.29944 | J8: =RANK(G8,$G$3:$G$356,0) -> 8 | K8: =VLOOKUP(B8,[1]高三上!$B:$H,6,0) -> 104 | L8: =VLOOKUP(B8,[1]高三上!$B:$H,7,0) -> 周菊明 | M8: =IF(OR(O8=0,K8=0),100,(((R8-N8)/COUNTIF(D:D,D8))*100)+100) -> 106.21469 | N8: =RANK(K8,$K$3:$K$356,0) -> 48 | O8: =VLOOKUP(B8,[1]高二下!$B:$H,6,0) -> 93 | P8: =VLOOKUP(B8,[1]高二下!$B:$H,7,0) -> 周菊明 | Q8: =IF(OR(O8=0,S8=0),100,(((V8-R8)/COUNTIF(D:D,D8))*100)+100) -> 82.768362 | R8: =RANK(O8,$O$3:$O$356,0) -> 70 | S8: =VLOOKUP(B8,[1]高二上!$B:$H,6,0) -> 111 | T8: =VLOOKUP(B8,[1]高二上!$B:$H,7,0) -> 周菊明 | U8: =IF(OR(W8=0,S8=0),100,(((Z8-V8)/COUNTIF(D:D,D8))*100)+100) -> 103.9548 | V8: =RANK(S8,$S$3:$S$356,0) -> 9 | W8: =VLOOKUP(B8,[1]高一下!$B:$H,6,0) -> 99 | X8: =VLOOKUP(B8,[1]高一下!$B:$H,7,0) -> 周菊明 | Y8: =IF(OR(W8=0,AA8=0),100,(((AD8-Z8)/COUNTIF(D:D,D8))*100)+100) -> 103.67232 | Z8: =RANK(W8,$W$3:$W$356,0) -> 23 | AA8: =VLOOKUP(B8,[1]高一上!$B:$G,5,0) -> 95 | AB8: =VLOOKUP(B8,[1]高一上!$B:$G,6,0) -> 周菊明 | AC8: =IF(OR(AE8=0,AA8=0),100,(((AF8-AD8)/COUNTIF(D:D,D8))*100)+100) -> 119.20904 | AD8: =RANK(AA8,$AA$3:$AA$356,0) -> 36 | AE8: =VLOOKUP(B8,[1]中考!$B:$G,6,0) -> 110 | AF8: =RANK(AE8,AE8:AE361,0) -> 104
A9: 51342220070426002X | B9: G51342220070426002X | C9: 1 | D9: 物理类 | E9: 杨语曦 | F9: 568 | G9: 118 | H9: 周菊明 | I9: =IF(OR(G9=0,K9=0),100,(((N9-J9)/COUNTIF(D:D,D9))*100)+100) -> 98.870056 | J9: =RANK(G9,$G$3:$G$356,0) -> 5 | K9: =VLOOKUP(B9,[1]高三上!$B:$H,6,0) -> 122 | L9: =VLOOKUP(B9,[1]高三上!$B:$H,7,0) -> 周菊明 | M9: =IF(OR(O9=0,K9=0),100,(((R9-N9)/COUNTIF(D:D,D9))*100)+100) -> 104.23729 | N9: =RANK(K9,$K$3:$K$356,0) -> 1 | O9: =VLOOKUP(B9,[1]高二下!$B:$H,6,0) -> 100 | P9: =VLOOKUP(B9,[1]高二下!$B:$H,7,0) -> 周菊明 | Q9: =IF(OR(O9=0,S9=0),100,(((V9-R9)/COUNTIF(D:D,D9))*100)+100) -> 95.762712 | R9: =RANK(O9,$O$3:$O$356,0) -> 16 | S9: =VLOOKUP(B9,[1]高二上!$B:$H,6,0) -> 118 | T9: =VLOOKUP(B9,[1]高二上!$B:$H,7,0) -> 周菊明 | U9: =IF(OR(W9=0,S9=0),100,(((Z9-V9)/COUNTIF(D:D,D9))*100)+100) -> 101.69492 | V9: =RANK(S9,$S$3:$S$356,0) -> 1 | W9: =VLOOKUP(B9,[1]高一下!$B:$H,6,0) -> 104 | X9: =VLOOKUP(B9,[1]高一下!$B:$H,7,0) -> 周菊明 | Y9: =IF(OR(W9=0,AA9=0),100,(((AD9-Z9)/COUNTIF(D:D,D9))*100)+100) -> 98.305085 | Z9: =RANK(W9,$W$3:$W$356,0) -> 7 | AA9: =VLOOKUP(B9,[1]高一上!$B:$G,5,0) -> 117 | AB9: =VLOOKUP(B9,[1]高一上!$B:$G,6,0) -> 周菊明 | AC9: =IF(OR(AE9=0,AA9=0),100,(((AF9-AD9)/COUNTIF(D:D,D9))*100)+100) -> 101.69492 | AD9: =RANK(AA9,$AA$3:$AA$356,0) -> 1 | AE9: =VLOOKUP(B9,[1]中考!$B:$G,6,0) -> 124 | AF9: =RANK(AE9,AE9:AE362,0) -> 7
A10: 513422200506044430 | B10: G513422200506044430 | C10: 1 | D10: 物理类 | E10: 邱波 | F10: 565 | G10: 117 | H10: 周菊明 | I10: =IF(OR(G10=0,K10=0),100,(((N10-J10)/COUNTIF(D:D,D10))*100)+100) -> 117.51412 | J10: =RANK(G10,$G$3:$G$356,0) -> 8 | K10: =VLOOKUP(B10,[1]高三上!$B:$H,6,0) -> 102 | L10: =VLOOKUP(B10,[1]高三上!$B:$H,7,0) -> 周菊明 | M10: =IF(OR(O10=0,K10=0),100,(((R10-N10)/COUNTIF(D:D,D10))*100)+100) -> 132.76836 | N10: =RANK(K10,$K$3:$K$356,0) -> 70 | O10: =VLOOKUP(B10,[1]高二下!$B:$H,6,0) -> 86 | P10: =VLOOKUP(B10,[1]高二下!$B:$H,7,0) -> 周菊明 | Q10: =IF(OR(O10=0,S10=0),100,(((V10-R10)/COUNTIF(D:D,D10))*100)+100) -> 75.423729 | R10: =RANK(O10,$O$3:$O$356,0) -> 186 | S10: =VLOOKUP(B10,[1]高二上!$B:$H,6,0) -> 98 | T10: =VLOOKUP(B10,[1]高二上!$B:$H,7,0) -> 周菊明 | U10: =IF(OR(W10=0,S10=0),100,(((Z10-V10)/COUNTIF(D:D,D10))*100)+100) -> 83.333333 | V10: =RANK(S10,$S$3:$S$356,0) -> 99 | W10: =VLOOKUP(B10,[1]高一下!$B:$H,6,0) -> 96 | X10: =VLOOKUP(B10,[1]高一下!$B:$H,7,0) -> 周菊明 | Y10: =IF(OR(W10=0,AA10=0),100,(((AD10-Z10)/COUNTIF(D:D,D10))*100)+100) -> 110.16949 | Z10: =RANK(W10,$W$3:$W$356,0) -> 40 | AA10: =VLOOKUP(B10,[1]高一上!$B:$G,5,0) -> 89 | AB10: =VLOOKUP(B10,[1]高一上!$B:$G,6,0) -> 肖锐 | AC10: =IF(OR(AE10=0,AA10=0),100,(((AF10-AD10)/COUNTIF(D:D,D10))*100)+100) -> 144.91525 | AD10: =RANK(AA10,$AA$3:$AA$356,0) -> 76 | AE10: =VLOOKUP(B10,[1]中考!$B:$G,6,0) -> 101 | AF10: =RANK(AE10,AE10:AE363,0) -> 235
A11: 513422200412104826 | B11: G513422200412104826 | C11: 1 | D11: 物理类 | E11: 呷绒拉姆 | F11: 559 | G11: 119 | H11: 周菊明 | I11: =IF(OR(G11=0,K11=0),100,(((N11-J11)/COUNTIF(D:D,D11))*100)+100) -> 102.54237 | J11: =RANK(G11,$G$3:$G$356,0) -> 3 | K11: =VLOOKUP(B11,[1]高三上!$B:$H,6,0) -> 111 | L11: =VLOOKUP(B11,[1]高三上!$B:$H,7,0) -> 周菊明 | M11: =IF(OR(O11=0,K11=0),100,(((R11-N11)/COUNTIF(D:D,D11))*100)+100) -> 116.38418 | N11: =RANK(K11,$K$3:$K$356,0) -> 12 | O11: =VLOOKUP(B11,[1]高二下!$B:$H,6,0) -> 93 | P11: =VLOOKUP(B11,[1]高二下!$B:$H,7,0) -> 周菊明 | Q11: =IF(OR(O11=0,S11=0),100,(((V11-R11)/COUNTIF(D:D,D11))*100)+100) -> 85.59322 | R11: =RANK(O11,$O$3:$O$356,0) -> 70 | S11: =VLOOKUP(B11,[1]高二上!$B:$H,6,0) -> 108 | T11: =VLOOKUP(B11,[1]高二上!$B:$H,7,0) -> 周菊明 | U11: =IF(OR(W11=0,S11=0),100,(((Z11-V11)/COUNTIF(D:D,D11))*100)+100) -> 97.740113 | V11: =RANK(S11,$S$3:$S$356,0) -> 19 | W11: =VLOOKUP(B11,[1]高一下!$B:$H,6,0) -> 103 | X11: =VLOOKUP(B11,[1]高一下!$B:$H,7,0) -> 周菊明 | Y11: =IF(OR(W11=0,AA11=0),100,(((AD11-Z11)/COUNTIF(D:D,D11))*100)+100) -> 101.69492 | Z11: =RANK(W11,$W$3:$W$356,0) -> 11 | AA11: =VLOOKUP(B11,[1]高一上!$B:$G,5,0) -> 99 | AB11: =VLOOKUP(B11,[1]高一上!$B:$G,6,0) -> 周菊明 | AC11: =IF(OR(AE11=0,AA11=0),100,(((AF11-AD11)/COUNTIF(D:D,D11))*100)+100) -> 96.045198 | AD11: =RANK(AA11,$AA$3:$AA$356,0) -> 17 | AE11: =VLOOKUP(B11,[1]中考!$B:$G,6,0) -> 128 | AF11: =RANK(AE11,AE11:AE364,0) -> 3
A12: 513422200506017010 | B12: G513422200506017010 | C12: 1 | D12: 物理类 | E12: 鲁绒卓西 | F12: 558 | G12: 113 | H12: 周菊明 | I12: =IF(OR(G12=0,K12=0),100,(((N12-J12)/COUNTIF(D:D,D12))*100)+100) -> 122.88136 | J12: =RANK(G12,$G$3:$G$356,0) -> 19 | K12: =VLOOKUP(B12,[1]高三上!$B:$H,6,0) -> 99 | L12: =VLOOKUP(B12,[1]高三上!$B:$H,7,0) -> 周菊明 | M12: =IF(OR(O12=0,K12=0),100,(((R12-N12)/COUNTIF(D:D,D12))*100)+100) -> 91.525424 | N12: =RANK(K12,$K$3:$K$356,0) -> 100 | O12: =VLOOKUP(B12,[1]高二下!$B:$H,6,0) -> 93 | P12: =VLOOKUP(B12,[1]高二下!$B:$H,7,0) -> 周菊明 | Q12: =IF(OR(O12=0,S12=0),100,(((V12-R12)/COUNTIF(D:D,D12))*100)+100) -> 86.723164 | R12: =RANK(O12,$O$3:$O$356,0) -> 70 | S12: =VLOOKUP(B12,[1]高二上!$B:$H,6,0) -> 107 | T12: =VLOOKUP(B12,[1]高二上!$B:$H,7,0) -> 周菊明 | U12: =IF(OR(W12=0,S12=0),100,(((Z12-V12)/COUNTIF(D:D,D12))*100)+100) -> 111.01695 | V12: =RANK(S12,$S$3:$S$356,0) -> 23 | W12: =VLOOKUP(B12,[1]高一下!$B:$H,6,0) -> 94 | X12: =VLOOKUP(B12,[1]高一下!$B:$H,7,0) -> 周菊明 | Y12: =IF(OR(W12=0,AA12=0),100,(((AD12-Z12)/COUNTIF(D:D,D12))*100)+100) -> 85.310734 | Z12: =RANK(W12,$W$3:$W$356,0) -> 62 | AA12: =VLOOKUP(B12,[1]高一上!$B:$G,5,0) -> 102 | AB12: =VLOOKUP(B12,[1]高一上!$B:$G,6,0) -> 周菊明 | AC12: =IF(OR(AE12=0,AA12=0),100,(((AF12-AD12)/COUNTIF(D:D,D12))*100)+100) -> 127.11864 | AD12: =RANK(AA12,$AA$3:$AA$356,0) -> 10 | AE12: =VLOOKUP(B12,[1]中考!$B:$G,6,0) -> 110 | AF12: =RANK(AE12,AE12:AE365,0) -> 106
A13: 513422200405285016 | B13: G513422200405285016 | C13: 1 | D13: 物理类 | E13: 英扎次里 | F13: 552 | G13: 110 | H13: 周菊明 | I13: =IF(OR(G13=0,K13=0),100,(((N13-J13)/COUNTIF(D:D,D13))*100)+100) -> 108.75706 | J13: =RANK(G13,$G$3:$G$356,0) -> 39 | K13: =VLOOKUP(B13,[1]高三上!$B:$H,6,0) -> 102 | L13: =VLOOKUP(B13,[1]高三上!$B:$H,7,0) -> 周菊明 | M13: =IF(OR(O13=0,K13=0),100,(((R13-N13)/COUNTIF(D:D,D13))*100)+100) -> 90.677966 | N13: =RANK(K13,$K$3:$K$356,0) -> 70 | O13: =VLOOKUP(B13,[1]高二下!$B:$H,6,0) -> 96 | P13: =VLOOKUP(B13,[1]高二下!$B:$H,7,0) -> 周菊明 | Q13: =IF(OR(O13=0,S13=0),100,(((V13-R13)/COUNTIF(D:D,D13))*100)+100) -> 90.960452 | R13: =RANK(O13,$O$3:$O$356,0) -> 37 | S13: =VLOOKUP(B13,[1]高二上!$B:$H,6,0) -> 114 | T13: =VLOOKUP(B13,[1]高二上!$B:$H,7,0) -> 周菊明 | U13: =IF(OR(W13=0,S13=0),100,(((Z13-V13)/COUNTIF(D:D,D13))*100)+100) -> 100.56497 | V13: =RANK(S13,$S$3:$S$356,0) -> 5 | W13: =VLOOKUP(B13,[1]高一下!$B:$H,6,0) -> 104 | X13: =VLOOKUP(B13,[1]高一下!$B:$H,7,0) -> 周菊明 | Y13: =IF(OR(W13=0,AA13=0),100,(((AD13-Z13)/COUNTIF(D:D,D13))*100)+100) -> 102.82486 | Z13: =RANK(W13,$W$3:$W$356,0) -> 7 | AA13: =VLOOKUP(B13,[1]高一上!$B:$G,5,0) -> 99 | AB13: =VLOOKUP(B13,[1]高一上!$B:$G,6,0) -> 周菊明 | AC13: =IF(OR(AE13=0,AA13=0),100,(((AF13-AD13)/COUNTIF(D:D,D13))*100)+100) -> 102.54237 | AD13: =RANK(AA13,$AA$3:$AA$356,0) -> 17 | AE13: =VLOOKUP(B13,[1]中考!$B:$G,6,0) -> 118 | AF13: =RANK(AE13,AE13:AE366,0) -> 26
A14: 513422200607081521 | B14: G513422200607081521 | C14: 1 | D14: 物理类 | E14: 马金秀 | F14: 550 | G14: 114 | H14: 周菊明 | I14: =IF(OR(G14=0,K14=0),100,(((N14-J14)/COUNTIF(D:D,D14))*100)+100) -> 99.717514 | J14: =RANK(G14,$G$3:$G$356,0) -> 13 | K14: =VLOOKUP(B14,[1]高三上!$B:$H,6,0) -> 111 | L14: =VLOOKUP(B14,[1]高三上!$B:$H,7,0) -> 周菊明 | M14: =IF(OR(O14=0,K14=0),100,(((R14-N14)/COUNTIF(D:D,D14))*100)+100) -> 105.08475 | N14: =RANK(K14,$K$3:$K$356,0) -> 12 | O14: =VLOOKUP(B14,[1]高二下!$B:$H,6,0) -> 97 | P14: =VLOOKUP(B14,[1]高二下!$B:$H,7,0) -> 周菊明 | Q14: =IF(OR(O14=0,S14=0),100,(((V14-R14)/COUNTIF(D:D,D14))*100)+100) -> 114.12429 | R14: =RANK(O14,$O$3:$O$356,0) -> 30 | S14: =VLOOKUP(B14,[1]高二上!$B:$H,6,0) -> 99 | T14: =VLOOKUP(B14,[1]高二上!$B:$H,7,0) -> 周菊明 | U14: =IF(OR(W14=0,S14=0),100,(((Z14-V14)/COUNTIF(D:D,D14))*100)+100) -> 80.508475 | V14: =RANK(S14,$S$3:$S$356,0) -> 80 | W14: =VLOOKUP(B14,[1]高一下!$B:$H,6,0) -> 103 | X14: =VLOOKUP(B14,[1]高一下!$B:$H,7,0) -> 周菊明 | Y14: =IF(OR(W14=0,AA14=0),100,(((AD14-Z14)/COUNTIF(D:D,D14))*100)+100) -> 103.10734 | Z14: =RANK(W14,$W$3:$W$356,0) -> 11 | AA14: =VLOOKUP(B14,[1]高一上!$B:$G,5,0) -> 98 | AB14: =VLOOKUP(B14,[1]高一上!$B:$G,6,0) -> 周菊明 | AC14: =IF(OR(AE14=0,AA14=0),100,(((AF14-AD14)/COUNTIF(D:D,D14))*100)+100) -> 95.480226 | AD14: =RANK(AA14,$AA$3:$AA$356,0) -> 22 | AE14: =VLOOKUP(B14,[1]中考!$B:$G,6,0) -> 124 | AF14: =RANK(AE14,AE14:AE367,0) -> 6
... A107: 513422200502102111 | B107: G513422200502102111 | C107: 3 | D107: 物理类 | E107: 吕神发 | F107: 472 | G107: 90 | H107: 易涛 | I107: =IF(OR(G107=0,K107=0),100,(((N107-J107)/COUNTIF(D:D,D107))*100)+100) -> 71.751412 | J107: =RANK(G107,$G$3:$G$356,0) -> 289 | K107: =VLOOKUP(B107,[1]高三上!$B:$H,6,0) -> 91 | L107: =VLOOKUP(B107,[1]高三上!$B:$H,7,0) -> 易涛 | M107: =IF(OR(O107=0,K107=0),100,(((R107-N107)/COUNTIF(D:D,D107))*100)+100) -> 139.26554 | N107: =RANK(K107,$K$3:$K$356,0) -> 189 | O107: =VLOOKUP(B107,[1]高二下!$B:$H,6,0) -> 72 | P107: =VLOOKUP(B107,[1]高二下!$B:$H,7,0) -> 易涛 | Q107: =IF(OR(O107=0,S107=0),100,(((V107-R107)/COUNTIF(D:D,D107))*100)+100) -> 29.943503 | R107: =RANK(O107,$O$3:$O$356,0) -> 328 | S107: =VLOOKUP(B107,[1]高二上!$B:$H,6,0) -> 99 | T107: =VLOOKUP(B107,[1]高二上!$B:$H,7,0) -> 易涛 | U107: =IF(OR(W107=0,S107=0),100,(((Z107-V107)/COUNTIF(D:D,D107))*100)+100) -> 146.0452 | V107: =RANK(S107,$S$3:$S$356,0) -> 80 | W107: =VLOOKUP(B107,[1]高一下!$B:$H,6,0) -> 82 | X107: =VLOOKUP(B107,[1]高一下!$B:$H,7,0) -> 易涛 | Y107: =IF(OR(W107=0,AA107=0),100,(((AD107-Z107)/COUNTIF(D:D,D107))*100)+100) -> 95.19774 | Z107: =RANK(W107,$W$3:$W$356,0) -> 243 | AA107: =VLOOKUP(B107,[1]高一上!$B:$G,5,0) -> 76 | AB107: =VLOOKUP(B107,[1]高一上!$B:$G,6,0) -> 易涛 | AC107: =IF(OR(AE107=0,AA107=0),100,(((AF107-AD107)/COUNTIF(D:D,D107))*100)+100) -> 109.32203 | AD107: =RANK(AA107,$AA$3:$AA$356,0) -> 226 | AE107: =VLOOKUP(B107,[1]中考!$B:$G,6,0) -> 98 | AF107: =RANK(AE107,AE107:AE460,0) -> 259
A108: 513422200511080022 | B108: G513422200511080022 | C108: 3 | D108: 物理类 | E108: 严高倩 | F108: 471 | G108: 94 | H108: 易涛 | I108: =IF(OR(G108=0,K108=0),100,(((N108-J108)/COUNTIF(D:D,D108))*100)+100) -> 40.112994 | J108: =RANK(G108,$G$3:$G$356,0) -> 242 | K108: =VLOOKUP(B108,[1]高三上!$B:$H,6,0) -> 106 | L108: =VLOOKUP(B108,[1]高三上!$B:$H,7,0) -> 易涛 | M108: =IF(OR(O108=0,K108=0),100,(((R108-N108)/COUNTIF(D:D,D108))*100)+100) -> 115.53672 | N108: =RANK(K108,$K$3:$K$356,0) -> 30 | O108: =VLOOKUP(B108,[1]高二下!$B:$H,6,0) -> 92 | P108: =VLOOKUP(B108,[1]高二下!$B:$H,7,0) -> 易涛 | Q108: =IF(OR(O108=0,S108=0),100,(((V108-R108)/COUNTIF(D:D,D108))*100)+100) -> 100 | R108: =RANK(O108,$O$3:$O$356,0) -> 85 | S108: =VLOOKUP(B108,[1]高二上!$B:$H,6,0) -> 0 | T108: =VLOOKUP(B108,[1]高二上!$B:$H,7,0) -> 易涛 | U108: =IF(OR(W108=0,S108=0),100,(((Z108-V108)/COUNTIF(D:D,D108))*100)+100) -> 100 | V108: =RANK(S108,$S$3:$S$356,0) -> 350 | W108: 0 | X108: 易涛 | Y108: =IF(OR(W108=0,AA108=0),100,(((AD108-Z108)/COUNTIF(D:D,D108))*100)+100) -> 100 | Z108: =RANK(W108,$W$3:$W$356,0) -> 352 | AA108: 0 | AB108: 易涛 | AC108: =IF(OR(AE108=0,AA108=0),100,(((AF108-AD108)/COUNTIF(D:D,D108))*100)+100) -> 100 | AD108: =RANK(AA108,$AA$3:$AA$356,0) -> 354 | AE108: 0 | AF108: =RANK(AE108,AE108:AE461,0) -> 346
A109: 513422200712152512 | B109: G513422200712152512 | C109: 3 | D109: 物理类 | E109: 吴学康 | F109: 467 | G109: 97 | H109: 易涛 | I109: =IF(OR(G109=0,K109=0),100,(((N109-J109)/COUNTIF(D:D,D109))*100)+100) -> 110.16949 | J109: =RANK(G109,$G$3:$G$356,0) -> 195 | K109: =VLOOKUP(B109,[1]高三上!$B:$H,6,0) -> 88 | L109: =VLOOKUP(B109,[1]高三上!$B:$H,7,0) -> 易涛 | M109: =IF(OR(O109=0,K109=0),100,(((R109-N109)/COUNTIF(D:D,D109))*100)+100) -> 64.124294 | N109: =RANK(K109,$K$3:$K$356,0) -> 231 | O109: =VLOOKUP(B109,[1]高二下!$B:$H,6,0) -> 91 | P109: =VLOOKUP(B109,[1]高二下!$B:$H,7,0) -> 易涛 | Q109: =IF(OR(O109=0,S109=0),100,(((V109-R109)/COUNTIF(D:D,D109))*100)+100) -> 125.14124 | R109: =RANK(O109,$O$3:$O$356,0) -> 104 | S109: =VLOOKUP(B109,[1]高二上!$B:$H,6,0) -> 91 | T109: =VLOOKUP(B109,[1]高二上!$B:$H,7,0) -> 易涛 | U109: =IF(OR(W109=0,S109=0),100,(((Z109-V109)/COUNTIF(D:D,D109))*100)+100) -> 117.23164 | V109: =RANK(S109,$S$3:$S$356,0) -> 193 | W109: =VLOOKUP(B109,[1]高一下!$B:$H,6,0) -> 81 | X109: =VLOOKUP(B109,[1]高一下!$B:$H,7,0) -> 易涛 | Y109: =IF(OR(W109=0,AA109=0),100,(((AD109-Z109)/COUNTIF(D:D,D109))*100)+100) -> 80.225989 | Z109: =RANK(W109,$W$3:$W$356,0) -> 254 | AA109: =VLOOKUP(B109,[1]高一上!$B:$G,5,0) -> 79 | AB109: =VLOOKUP(B109,[1]高一上!$B:$G,6,0) -> 肖锐 | AC109: =IF(OR(AE109=0,AA109=0),100,(((AF109-AD109)/COUNTIF(D:D,D109))*100)+100) -> 141.52542 | AD109: =RANK(AA109,$AA$3:$AA$356,0) -> 184 | AE109: =VLOOKUP(B109,[1]中考!$B:$G,6,0) -> 87 | AF109: =RANK(AE109,AE109:AE462,0) -> 331
A110: 513422200704242323 | B110: G513422200704242323 | C110: 3 | D110: 物理类 | E110: 熊芹芹 | F110: 467 | G110: 95 | H110: 易涛 | I110: =IF(OR(G110=0,K110=0),100,(((N110-J110)/COUNTIF(D:D,D110))*100)+100) -> 47.740113 | J110: =RANK(G110,$G$3:$G$356,0) -> 224 | K110: =VLOOKUP(B110,[1]高三上!$B:$H,6,0) -> 105 | L110: =VLOOKUP(B110,[1]高三上!$B:$H,7,0) -> 易涛 | M110: =IF(OR(O110=0,K110=0),100,(((R110-N110)/COUNTIF(D:D,D110))*100)+100) -> 112.99435 | N110: =RANK(K110,$K$3:$K$356,0) -> 39 | O110: =VLOOKUP(B110,[1]高二下!$B:$H,6,0) -> 92 | P110: =VLOOKUP(B110,[1]高二下!$B:$H,7,0) -> 易涛 | Q110: =IF(OR(O110=0,S110=0),100,(((V110-R110)/COUNTIF(D:D,D110))*100)+100) -> 80.508475 | R110: =RANK(O110,$O$3:$O$356,0) -> 85 | S110: =VLOOKUP(B110,[1]高二上!$B:$H,6,0) -> 109 | T110: =VLOOKUP(B110,[1]高二上!$B:$H,7,0) -> 易涛 | U110: =IF(OR(W110=0,S110=0),100,(((Z110-V110)/COUNTIF(D:D,D110))*100)+100) -> 155.08475 | V110: =RANK(S110,$S$3:$S$356,0) -> 16 | W110: =VLOOKUP(B110,[1]高一下!$B:$H,6,0) -> 84 | X110: =VLOOKUP(B110,[1]高一下!$B:$H,7,0) -> 易涛 | Y110: =IF(OR(W110=0,AA110=0),100,(((AD110-Z110)/COUNTIF(D:D,D110))*100)+100) -> 72.59887 | Z110: =RANK(W110,$W$3:$W$356,0) -> 211 | AA110: =VLOOKUP(B110,[1]高一上!$B:$G,5,0) -> 84 | AB110: =VLOOKUP(B110,[1]高一上!$B:$G,6,0) -> 易涛 | AC110: =IF(OR(AE110=0,AA110=0),100,(((AF110-AD110)/COUNTIF(D:D,D110))*100)+100) -> 82.20339 | AD110: =RANK(AA110,$AA$3:$AA$356,0) -> 114 | AE110: =VLOOKUP(B110,[1]中考!$B:$G,6,0) -> 114 | AF110: =RANK(AE110,AE110:AE463,0) -> 51
A111: 51342220070125154X | B111: G51342220070125154X | C111: 3 | D111: 物理类 | E111: 乔建英 | F111: 465 | G111: 91 | H111: 易涛 | I111: =IF(OR(G111=0,K111=0),100,(((N111-J111)/COUNTIF(D:D,D111))*100)+100) -> 71.186441 | J111: =RANK(G111,$G$3:$G$356,0) -> 274 | K111: =VLOOKUP(B111,[1]高三上!$B:$H,6,0) -> 92 | L111: =VLOOKUP(B111,[1]高三上!$B:$H,7,0) -> 易涛 | M111: =IF(OR(O111=0,K111=0),100,(((R111-N111)/COUNTIF(D:D,D111))*100)+100) -> 61.864407 | N111: =RANK(K111,$K$3:$K$356,0) -> 172 | O111: =VLOOKUP(B111,[1]高二下!$B:$H,6,0) -> 96 | P111: =VLOOKUP(B111,[1]高二下!$B:$H,7,0) -> 易涛 | Q111: =IF(OR(O111=0,S111=0),100,(((V111-R111)/COUNTIF(D:D,D111))*100)+100) -> 157.34463 | R111: =RANK(O111,$O$3:$O$356,0) -> 37 | S111: =VLOOKUP(B111,[1]高二上!$B:$H,6,0) -> 87 | T111: =VLOOKUP(B111,[1]高二上!$B:$H,7,0) -> 易涛 | U111: =IF(OR(W111=0,S111=0),100,(((Z111-V111)/COUNTIF(D:D,D111))*100)+100) -> 46.045198 | V111: =RANK(S111,$S$3:$S$356,0) -> 240 | W111: =VLOOKUP(B111,[1]高一下!$B:$H,6,0) -> 95 | X111: =VLOOKUP(B111,[1]高一下!$B:$H,7,0) -> 易涛 | Y111: =IF(OR(W111=0,AA111=0),100,(((AD111-Z111)/COUNTIF(D:D,D111))*100)+100) -> 121.18644 | Z111: =RANK(W111,$W$3:$W$356,0) -> 49 | AA111: =VLOOKUP(B111,[1]高一上!$B:$G,5,0) -> 83 | AB111: =VLOOKUP(B111,[1]高一上!$B:$G,6,0) -> 易涛 | AC111: =IF(OR(AE111=0,AA111=0),100,(((AF111-AD111)/COUNTIF(D:D,D111))*100)+100) -> 102.82486 | AD111: =RANK(AA111,$AA$3:$AA$356,0) -> 124 | AE111: =VLOOKUP(B111,[1]中考!$B:$G,6,0) -> 107 | AF111: =RANK(AE111,AE111:AE464,0) -> 134
A112: 513422200301156818 | B112: G513422200301156818 | C112: 3 | D112: 物理类 | E112: 马志雄 | F112: 464 | G112: 104 | H112: 易涛 | I112: =IF(OR(G112=0,K112=0),100,(((N112-J112)/COUNTIF(D:D,D112))*100)+100) -> 116.10169 | J112: =RANK(G112,$G$3:$G$356,0) -> 92 | K112: =VLOOKUP(B112,[1]高三上!$B:$H,6,0) -> 94 | L112: =VLOOKUP(B112,[1]高三上!$B:$H,7,0) -> 易涛 | M112: =IF(OR(O112=0,K112=0),100,(((R112-N112)/COUNTIF(D:D,D112))*100)+100) -> 59.60452 | N112: =RANK(K112,$K$3:$K$356,0) -> 149 | O112: =VLOOKUP(B112,[1]高二下!$B:$H,6,0) -> 104 | P112: =VLOOKUP(B112,[1]高二下!$B:$H,7,0) -> 易涛 | Q112: =IF(OR(O112=0,S112=0),100,(((V112-R112)/COUNTIF(D:D,D112))*100)+100) -> 132.20339 | R112: =RANK(O112,$O$3:$O$356,0) -> 6 | S112: =VLOOKUP(B112,[1]高二上!$B:$H,6,0) -> 96 | T112: =VLOOKUP(B112,[1]高二上!$B:$H,7,0) -> 易涛 | U112: =IF(OR(W112=0,S112=0),100,(((Z112-V112)/COUNTIF(D:D,D112))*100)+100) -> 77.40113 | V112: =RANK(S112,$S$3:$S$356,0) -> 120 | W112: =VLOOKUP(B112,[1]高一下!$B:$H,6,0) -> 96 | X112: =VLOOKUP(B112,[1]高一下!$B:$H,7,0) -> 易涛 | Y112: =IF(OR(W112=0,AA112=0),100,(((AD112-Z112)/COUNTIF(D:D,D112))*100)+100) -> 131.9209 | Z112: =RANK(W112,$W$3:$W$356,0) -> 40 | AA112: =VLOOKUP(B112,[1]高一上!$B:$G,5,0) -> 81 | AB112: =VLOOKUP(B112,[1]高一上!$B:$G,6,0) -> 易涛 | AC112: =IF(OR(AE112=0,AA112=0),100,(((AF112-AD112)/COUNTIF(D:D,D112))*100)+100) -> 85.875706 | AD112: =RANK(AA112,$AA$3:$AA$356,0) -> 153 | AE112: =VLOOKUP(B112,[1]中考!$B:$G,6,0) -> 109 | AF112: =RANK(AE112,AE112:AE465,0) -> 103
A113: 513422200809063815 | B113: G513422200809063815 | C113: 3 | D113: 物理类 | E113: 尼玛扎西 | F113: 460 | G113: 102 | H113: 易涛 | I113: =IF(OR(G113=0,K113=0),100,(((N113-J113)/COUNTIF(D:D,D113))*100)+100) -> 104.51977 | J113: =RANK(G113,$G$3:$G$356,0) -> 114 | K113: =VLOOKUP(B113,[1]高三上!$B:$H,6,0) -> 96 | L113: =VLOOKUP(B113,[1]高三上!$B:$H,7,0) -> 易涛 | M113: =IF(OR(O113=0,K113=0),100,(((R113-N113)/COUNTIF(D:D,D113))*100)+100) -> 69.20904 | N113: =RANK(K113,$K$3:$K$356,0) -> 130 | O113: =VLOOKUP(B113,[1]高二下!$B:$H,6,0) -> 99 | P113: =VLOOKUP(B113,[1]高二下!$B:$H,7,0) -> 易涛 | Q113: =IF(OR(O113=0,S113=0),100,(((V113-R113)/COUNTIF(D:D,D113))*100)+100) -> 104.80226 | R113: =RANK(O113,$O$3:$O$356,0) -> 21 | S113: =VLOOKUP(B113,[1]高二上!$B:$H,6,0) -> 104 | T113: =VLOOKUP(B113,[1]高二上!$B:$H,7,0) -> 易涛 | U113: =IF(OR(W113=0,S113=0),100,(((Z113-V113)/COUNTIF(D:D,D113))*100)+100) -> 127.11864 | V113: =RANK(S113,$S$3:$S$356,0) -> 38 | W113: =VLOOKUP(B113,[1]高一下!$B:$H,6,0) -> 89 | X113: =VLOOKUP(B113,[1]高一下!$B:$H,7,0) -> 易涛 | Y113: =IF(OR(W113=0,AA113=0),100,(((AD113-Z113)/COUNTIF(D:D,D113))*100)+100) -> 122.31638 | Z113: =RANK(W113,$W$3:$W$356,0) -> 134 | AA113: =VLOOKUP(B113,[1]高一上!$B:$G,5,0) -> 77 | AB113: =VLOOKUP(B113,[1]高一上!$B:$G,6,0) -> 肖锐 | AC113: =IF(OR(AE113=0,AA113=0),100,(((AF113-AD113)/COUNTIF(D:D,D113))*100)+100) -> 47.740113 | AD113: =RANK(AA113,$AA$3:$AA$356,0) -> 213 | AE113: =VLOOKUP(B113,[1]中考!$B:$G,6,0) -> 117 | AF113: =RANK(AE113,AE113:AE466,0) -> 28
A114: 51342220060621031X | B114: G51342220060621031X | C114: 3 | D114: 物理类 | E114: 仁争龙布 | F114: 460 | G114: 98 | H114: 易涛 | I114: =IF(OR(G114=0,K114=0),100,(((N114-J114)/COUNTIF(D:D,D114))*100)+100) -> 82.768362 | J114: =RANK(G114,$G$3:$G$356,0) -> 182 | K114: =VLOOKUP(B114,[1]高三上!$B:$H,6,0) -> 97 | L114: =VLOOKUP(B114,[1]高三上!$B:$H,7,0) -> 易涛 | M114: =IF(OR(O114=0,K114=0),100,(((R114-N114)/COUNTIF(D:D,D114))*100)+100) -> 99.152542 | N114: =RANK(K114,$K$3:$K$356,0) -> 121 | O114: =VLOOKUP(B114,[1]高二下!$B:$H,6,0) -> 90 | P114: =VLOOKUP(B114,[1]高二下!$B:$H,7,0) -> 易涛 | Q114: =IF(OR(O114=0,S114=0),100,(((V114-R114)/COUNTIF(D:D,D114))*100)+100) -> 72.033898 | R114: =RANK(O114,$O$3:$O$356,0) -> 118 | S114: =VLOOKUP(B114,[1]高二上!$B:$H,6,0) -> 108 | T114: =VLOOKUP(B114,[1]高二上!$B:$H,7,0) -> 易涛 | U114: =IF(OR(W114=0,S114=0),100,(((Z114-V114)/COUNTIF(D:D,D114))*100)+100) -> 139.83051 | V114: =RANK(S114,$S$3:$S$356,0) -> 19 | W114: =VLOOKUP(B114,[1]高一下!$B:$H,6,0) -> 87 | X114: =VLOOKUP(B114,[1]高一下!$B:$H,7,0) -> 易涛 | Y114: =IF(OR(W114=0,AA114=0),100,(((AD114-Z114)/COUNTIF(D:D,D114))*100)+100) -> 106.77966 | Z114: =RANK(W114,$W$3:$W$356,0) -> 160 | AA114: =VLOOKUP(B114,[1]高一上!$B:$G,5,0) -> 79 | AB114: =VLOOKUP(B114,[1]高一上!$B:$G,6,0) -> 易涛 | AC114: =IF(OR(AE114=0,AA114=0),100,(((AF114-AD114)/COUNTIF(D:D,D114))*100)+100) -> 77.118644 | AD114: =RANK(AA114,$AA$3:$AA$356,0) -> 184 | AE114: =VLOOKUP(B114,[1]中考!$B:$G,6,0) -> 109 | AF114: =RANK(AE114,AE114:AE467,0) -> 103
A115: 513422200801254211 | B115: G513422200801254211 | C115: 3 | D115: 物理类 | E115: 扎拉 | F115: 458 | G115: 95 | H115: 易涛 | I115: =IF(OR(G115=0,K115=0),100,(((N115-J115)/COUNTIF(D:D,D115))*100)+100) -> 98.870056 | J115: =RANK(G115,$G$3:$G$356,0) -> 224 | K115: =VLOOKUP(B115,[1]高三上!$B:$H,6,0) -> 89 | L115: =VLOOKUP(B115,[1]高三上!$B:$H,7,0) -> 易涛 | M115: =IF(OR(O115=0,K115=0),100,(((R115-N115)/COUNTIF(D:D,D115))*100)+100) -> 107.06215 | N115: =RANK(K115,$K$3:$K$356,0) -> 220 | O115: =VLOOKUP(B115,[1]高二下!$B:$H,6,0) -> 83 | P115: =VLOOKUP(B115,[1]高二下!$B:$H,7,0) -> 易涛 | Q115: =IF(OR(O115=0,S115=0),100,(((V115-R115)/COUNTIF(D:D,D115))*100)+100) -> 73.446328 | R115: =RANK(O115,$O$3:$O$356,0) -> 245 | S115: =VLOOKUP(B115,[1]高二上!$B:$H,6,0) -> 94 | T115: =VLOOKUP(B115,[1]高二上!$B:$H,7,0) -> 易涛 | U115: =IF(OR(W115=0,S115=0),100,(((Z115-V115)/COUNTIF(D:D,D115))*100)+100) -> 129.09605 | V115: =RANK(S115,$S$3:$S$356,0) -> 151 | W115: =VLOOKUP(B115,[1]高一下!$B:$H,6,0) -> 81 | X115: =VLOOKUP(B115,[1]高一下!$B:$H,7,0) -> 易涛 | Y115: =IF(OR(W115=0,AA115=0),100,(((AD115-Z115)/COUNTIF(D:D,D115))*100)+100) -> 111.29944 | Z115: =RANK(W115,$W$3:$W$356,0) -> 254 | AA115: =VLOOKUP(B115,[1]高一上!$B:$G,5,0) -> 71 | AB115: =VLOOKUP(B115,[1]高一上!$B:$G,6,0) -> 易涛 | AC115: =IF(OR(AE115=0,AA115=0),100,(((AF115-AD115)/COUNTIF(D:D,D115))*100)+100) -> 67.79661 | AD115: =RANK(AA115,$AA$3:$AA$356,0) -> 294 | AE115: =VLOOKUP(B115,[1]中考!$B:$G,6,0) -> 104 | AF115: =RANK(AE115,AE115:AE468,0) -> 180
A116: 511602200707173507 | B116: G511602200707173507 | C116: 3 | D116: 物理类 | E116: 黄诗韵 | F116: 457 | G116: 99 | H116: 易涛 | I116: =IF(OR(G116=0,K116=0),100,(((N116-J116)/COUNTIF(D:D,D116))*100)+100) -> 71.186441 | J116: =RANK(G116,$G$3:$G$356,0) -> 158 | K116: =VLOOKUP(B116,[1]高三上!$B:$H,6,0) -> 103 | L116: =VLOOKUP(B116,[1]高三上!$B:$H,7,0) -> 易涛 | M116: =IF(OR(O116=0,K116=0),100,(((R116-N116)/COUNTIF(D:D,D116))*100)+100) -> 126.27119 | N116: =RANK(K116,$K$3:$K$356,0) -> 56 | O116: =VLOOKUP(B116,[1]高二下!$B:$H,6,0) -> 88 | P116: =VLOOKUP(B116,[1]高二下!$B:$H,7,0) -> 易涛 | Q116: =IF(OR(O116=0,S116=0),100,(((V116-R116)/COUNTIF(D:D,D116))*100)+100) -> 70.338983 | R116: =RANK(O116,$O$3:$O$356,0) -> 149 | S116: =VLOOKUP(B116,[1]高二上!$B:$H,6,0) -> 103 | T116: =VLOOKUP(B116,[1]高二上!$B:$H,7,0) -> 易涛 | U116: =IF(OR(W116=0,S116=0),100,(((Z116-V116)/COUNTIF(D:D,D116))*100)+100) -> 105.08475 | V116: =RANK(S116,$S$3:$S$356,0) -> 44 | W116: =VLOOKUP(B116,[1]高一下!$B:$H,6,0) -> 94 | X116: =VLOOKUP(B116,[1]高一下!$B:$H,7,0) -> 易涛 | Y116: =IF(OR(W116=0,AA116=0),100,(((AD116-Z116)/COUNTIF(D:D,D116))*100)+100) -> 110.45198 | Z116: =RANK(W116,$W$3:$W$356,0) -> 62 | AA116: =VLOOKUP(B116,[1]高一上!$B:$G,5,0) -> 86 | AB116: =VLOOKUP(B116,[1]高一上!$B:$G,6,0) -> 刘云菊 | AC116: =IF(OR(AE116=0,AA116=0),100,(((AF116-AD116)/COUNTIF(D:D,D116))*100)+100) -> 101.12994 | AD116: =RANK(AA116,$AA$3:$AA$356,0) -> 99 | AE116: =VLOOKUP(B116,[1]中考!$B:$G,6,0) -> 109 | AF116: =RANK(AE116,AE116:AE469,0) -> 103
A117: 513422200510260910 | B117: G513422200510260910 | C117: 3 | D117: 物理类 | E117: 陈小龙 | F117: 457 | G117: 96 | H117: 易涛 | I117: =IF(OR(G117=0,K117=0),100,(((N117-J117)/COUNTIF(D:D,D117))*100)+100) -> 88.983051 | J117: =RANK(G117,$G$3:$G$356,0) -> 211 | K117: =VLOOKUP(B117,[1]高三上!$B:$H,6,0) -> 92 | L117: =VLOOKUP(B117,[1]高三上!$B:$H,7,0) -> 易涛 | M117: =IF(OR(O117=0,K117=0),100,(((R117-N117)/COUNTIF(D:D,D117))*100)+100) -> 75.423729 | N117: =RANK(K117,$K$3:$K$356,0) -> 172 | O117: =VLOOKUP(B117,[1]高二下!$B:$H,6,0) -> 92 | P117: =VLOOKUP(B117,[1]高二下!$B:$H,7,0) -> 易涛 | Q117: =IF(OR(O117=0,S117=0),100,(((V117-R117)/COUNTIF(D:D,D117))*100)+100) -> 159.03955 | R117: =RANK(O117,$O$3:$O$356,0) -> 85 | S117: =VLOOKUP(B117,[1]高二上!$B:$H,6,0) -> 82 | T117: =VLOOKUP(B117,[1]高二上!$B:$H,7,0) -> 易涛 | U117: =IF(OR(W117=0,S117=0),100,(((Z117-V117)/COUNTIF(D:D,D117))*100)+100) -> 76.553672 | V117: =RANK(S117,$S$3:$S$356,0) -> 294 | W117: =VLOOKUP(B117,[1]高一下!$B:$H,6,0) -> 84 | X117: =VLOOKUP(B117,[1]高一下!$B:$H,7,0) -> 易涛 | Y117: =IF(OR(W117=0,AA117=0),100,(((AD117-Z117)/COUNTIF(D:D,D117))*100)+100) -> 83.615819 | Z117: =RANK(W117,$W$3:$W$356,0) -> 211 | AA117: =VLOOKUP(B117,[1]高一上!$B:$G,5,0) -> 81 | AB117: =VLOOKUP(B117,[1]高一上!$B:$G,6,0) -> 易涛 | AC117: =IF(OR(AE117=0,AA117=0),100,(((AF117-AD117)/COUNTIF(D:D,D117))*100)+100) -> 123.44633 | AD117: =RANK(AA117,$AA$3:$AA$356,0) -> 153 | AE117: =VLOOKUP(B117,[1]中考!$B:$G,6,0) -> 100 | AF117: =RANK(AE117,AE117:AE470,0) -> 236
A118: 513422200710285629 | B118: G513422200710285629 | C118: 3 | D118: 物理类 | E118: 伍金祝玛 | F118: 454 | G118: 95 | H118: 易涛 | I118: =IF(OR(G118=0,K118=0),100,(((N118-J118)/COUNTIF(D:D,D118))*100)+100) -> 93.502825 | J118: =RANK(G118,$G$3:$G$356,0) -> 224 | K118: =VLOOKUP(B118,[1]高三上!$B:$H,6,0) -> 90 | L118: =VLOOKUP(B118,[1]高三上!$B:$H,7,0) -> 易涛 | M118: =IF(OR(O118=0,K118=0),100,(((R118-N118)/COUNTIF(D:D,D118))*100)+100) -> 46.610169 | N118: =RANK(K118,$K$3:$K$356,0) -> 201 | O118: =VLOOKUP(B118,[1]高二下!$B:$H,6,0) -> 101 | P118: =VLOOKUP(B118,[1]高二下!$B:$H,7,0) -> 易涛 | Q118: =IF(OR(O118=0,S118=0),100,(((V118-R118)/COUNTIF(D:D,D118))*100)+100) -> 139.26554 | R118: =RANK(O118,$O$3:$O$356,0) -> 12 | S118: =VLOOKUP(B118,[1]高二上!$B:$H,6,0) -> 94 | T118: =VLOOKUP(B118,[1]高二上!$B:$H,7,0) -> 易涛 | U118: =IF(OR(W118=0,S118=0),100,(((Z118-V118)/COUNTIF(D:D,D118))*100)+100) -> 102.54237 | V118: =RANK(S118,$S$3:$S$356,0) -> 151 | W118: =VLOOKUP(B118,[1]高一下!$B:$H,6,0) -> 87 | X118: =VLOOKUP(B118,[1]高一下!$B:$H,7,0) -> 易涛 | Y118: =IF(OR(W118=0,AA118=0),100,(((AD118-Z118)/COUNTIF(D:D,D118))*100)+100) -> 118.64407 | Z118: =RANK(W118,$W$3:$W$356,0) -> 160 | AA118: =VLOOKUP(B118,[1]高一上!$B:$G,5,0) -> 76 | AB118: =VLOOKUP(B118,[1]高一上!$B:$G,6,0) -> 张镇棚 | AC118: =IF(OR(AE118=0,AA118=0),100,(((AF118-AD118)/COUNTIF(D:D,D118))*100)+100) -> 115.25424 | AD118: =RANK(AA118,$AA$3:$AA$356,0) -> 226 | AE118: =VLOOKUP(B118,[1]中考!$B:$G,6,0) -> 96 | AF118: =RANK(AE118,AE118:AE471,0) -> 280
A119: 513422200703201327 | B119: G513422200703201327 | C119: 3 | D119: 物理类 | E119: 李小美 | F119: 452 | G119: 91 | H119: 易涛 | I119: =IF(OR(G119=0,K119=0),100,(((N119-J119)/COUNTIF(D:D,D119))*100)+100) -> 75.988701 | J119: =RANK(G119,$G$3:$G$356,0) -> 274 | K119: =VLOOKUP(B119,[1]高三上!$B:$H,6,0) -> 91 | L119: =VLOOKUP(B119,[1]高三上!$B:$H,7,0) -> 易涛 | M119: =IF(OR(O119=0,K119=0),100,(((R119-N119)/COUNTIF(D:D,D119))*100)+100) -> 88.700565 | N119: =RANK(K119,$K$3:$K$356,0) -> 189 | O119: =VLOOKUP(B119,[1]高二下!$B:$H,6,0) -> 88 | P119: =VLOOKUP(B119,[1]高二下!$B:$H,7,0) -> 易涛 | Q119: =IF(OR(O119=0,S119=0),100,(((V119-R119)/COUNTIF(D:D,D119))*100)+100) -> 78.248588 | R119: =RANK(O119,$O$3:$O$356,0) -> 149 | S119: =VLOOKUP(B119,[1]高二上!$B:$H,6,0) -> 100 | T119: =VLOOKUP(B119,[1]高二上!$B:$H,7,0) -> 易涛 | U119: =IF(OR(W119=0,S119=0),100,(((Z119-V119)/COUNTIF(D:D,D119))*100)+100) -> 144.91525 | V119: =RANK(S119,$S$3:$S$356,0) -> 72 | W119: =VLOOKUP(B119,[1]高一下!$B:$H,6,0) -> 83 | X119: =VLOOKUP(B119,[1]高一下!$B:$H,7,0) -> 易涛 | Y119: =IF(OR(W119=0,AA119=0),100,(((AD119-Z119)/COUNTIF(D:D,D119))*100)+100) -> 90.112994 | Z119: =RANK(W119,$W$3:$W$356,0) -> 231 | AA119: =VLOOKUP(B119,[1]高一上!$B:$G,5,0) -> 78 | AB119: =VLOOKUP(B119,[1]高一上!$B:$G,6,0) -> 肖锐 | AC119: =IF(OR(AE119=0,AA119=0),100,(((AF119-AD119)/COUNTIF(D:D,D119))*100)+100) -> 74.011299 | AD119: =RANK(AA119,$AA$3:$AA$356,0) -> 196 | AE119: =VLOOKUP(B119,[1]中考!$B:$G,6,0) -> 109 | AF119: =RANK(AE119,AE119:AE472,0) -> 104
A120: 513422200606123814 | B120: G513422200606123814 | C120: 3 | D120: 物理类 | E120: 马军 | F120: 451 | G120: 93 | H120: 易涛 | I120: =IF(OR(G120=0,K120=0),100,(((N120-J120)/COUNTIF(D:D,D120))*100)+100) -> 82.768362 | J120: =RANK(G120,$G$3:$G$356,0) -> 250 | K120: =VLOOKUP(B120,[1]高三上!$B:$H,6,0) -> 91 | L120: =VLOOKUP(B120,[1]高三上!$B:$H,7,0) -> 易涛 | M120: =IF(OR(O120=0,K120=0),100,(((R120-N120)/COUNTIF(D:D,D120))*100)+100) -> 83.898305 | N120: =RANK(K120,$K$3:$K$356,0) -> 189 | O120: =VLOOKUP(B120,[1]高二下!$B:$H,6,0) -> 89 | P120: =VLOOKUP(B120,[1]高二下!$B:$H,7,0) -> 易涛 | Q120: =IF(OR(O120=0,S120=0),100,(((V120-R120)/COUNTIF(D:D,D120))*100)+100) -> 137.00565 | R120: =RANK(O120,$O$3:$O$356,0) -> 132 | S120: =VLOOKUP(B120,[1]高二上!$B:$H,6,0) -> 85 | T120: =VLOOKUP(B120,[1]高二上!$B:$H,7,0) -> 易涛 | U120: =IF(OR(W120=0,S120=0),100,(((Z120-V120)/COUNTIF(D:D,D120))*100)+100) -> 66.384181 | V120: =RANK(S120,$S$3:$S$356,0) -> 263 | W120: =VLOOKUP(B120,[1]高一下!$B:$H,6,0) -> 88 | X120: =VLOOKUP(B120,[1]高一下!$B:$H,7,0) -> 易涛 | Y120: =IF(OR(W120=0,AA120=0),100,(((AD120-Z120)/COUNTIF(D:D,D120))*100)+100) -> 111.29944 | Z120: =RANK(W120,$W$3:$W$356,0) -> 144 | AA120: =VLOOKUP(B120,[1]高一上!$B:$G,5,0) -> 79 | AB120: =VLOOKUP(B120,[1]高一上!$B:$G,6,0) -> 张镇棚 | AC120: =IF(OR(AE120=0,AA120=0),100,(((AF120-AD120)/COUNTIF(D:D,D120))*100)+100) -> 134.74576 | AD120: =RANK(AA120,$AA$3:$AA$356,0) -> 184 | AE120: =VLOOKUP(B120,[1]中考!$B:$G,6,0) -> 91 | AF120: =RANK(AE120,AE120:AE473,0) -> 307
A121: 513422200511080911 | B121: G513422200511080911 | C121: 3 | D121: 物理类 | E121: 尼玛扎西 | F121: 449 | G121: 99 | H121: 易涛 | I121: =IF(OR(G121=0,K121=0),100,(((N121-J121)/COUNTIF(D:D,D121))*100)+100) -> 100 | J121: =RANK(G121,$G$3:$G$356,0) -> 158 | K121: 0 | L121: 易涛 | M121: =IF(OR(O121=0,K121=0),100,(((R121-N121)/COUNTIF(D:D,D121))*100)+100) -> 100 | N121: =RANK(K121,$K$3:$K$356,0) -> 344 | O121: 0 | P121: =H121 -> 易涛 | Q121: =IF(OR(O121=0,S121=0),100,(((V121-R121)/COUNTIF(D:D,D121))*100)+100) -> 100 | R121: =RANK(O121,$O$3:$O$356,0) -> 348 | S121: 0 | T121: =H121 -> 易涛 | U121: =IF(OR(W121=0,S121=0),100,(((Z121-V121)/COUNTIF(D:D,D121))*100)+100) -> 100 | V121: =RANK(S121,$S$3:$S$356,0) -> 350 | W121: =VLOOKUP(B121,[1]高一下!$B:$H,6,0) -> 83 | X121: =VLOOKUP(B121,[1]高一下!$B:$H,7,0) -> 易涛 | Y121: =IF(OR(W121=0,AA121=0),100,(((AD121-Z121)/COUNTIF(D:D,D121))*100)+100) -> 82.20339 | Z121: =RANK(W121,$W$3:$W$356,0) -> 231 | AA121: =VLOOKUP(B121,[1]高一上!$B:$G,5,0) -> 80 | AB121: =VLOOKUP(B121,[1]高一上!$B:$G,6,0) -> 易涛 | AC121: =IF(OR(AE121=0,AA121=0),100,(((AF121-AD121)/COUNTIF(D:D,D121))*100)+100) -> 79.378531 | AD121: =RANK(AA121,$AA$3:$AA$356,0) -> 168 | AE121: =VLOOKUP(B121,[1]中考!$B:$G,6,0) -> 110 | AF121: =RANK(AE121,AE121:AE474,0) -> 95
A122: 513422200610101546 | B122: G513422200610101546 | C122: 3 | D122: 物理类 | E122: 杨几几 | F122: 448 | G122: 93 | H122: 易涛 | I122: =IF(OR(G122=0,K122=0),100,(((N122-J122)/COUNTIF(D:D,D122))*100)+100) -> 68.644068 | J122: =RANK(G122,$G$3:$G$356,0) -> 250 | K122: =VLOOKUP(B122,[1]高三上!$B:$H,6,0) -> 95 | L122: =VLOOKUP(B122,[1]高三上!$B:$H,7,0) -> 易涛 | M122: =IF(OR(O122=0,K122=0),100,(((R122-N122)/COUNTIF(D:D,D122))*100)+100) -> 141.52542 | N122: =RANK(K122,$K$3:$K$356,0) -> 139 | O122: =VLOOKUP(B122,[1]高二下!$B:$H,6,0) -> 80 | P122: =VLOOKUP(B122,[1]高二下!$B:$H,7,0) -> 易涛 | Q122: =IF(OR(O122=0,S122=0),100,(((V122-R122)/COUNTIF(D:D,D122))*100)+100) -> 64.689266 | R122: =RANK(O122,$O$3:$O$356,0) -> 286 | S122: =VLOOKUP(B122,[1]高二上!$B:$H,6,0) -> 93 | T122: =VLOOKUP(B122,[1]高二上!$B:$H,7,0) -> 易涛 | U122: =IF(OR(W122=0,S122=0),100,(((Z122-V122)/COUNTIF(D:D,D122))*100)+100) -> 126.27119 | V122: =RANK(S122,$S$3:$S$356,0) -> 161 | W122: =VLOOKUP(B122,[1]高一下!$B:$H,6,0) -> 81 | X122: =VLOOKUP(B122,[1]高一下!$B:$H,7,0) -> 易涛 | Y122: =IF(OR(W122=0,AA122=0),100,(((AD122-Z122)/COUNTIF(D:D,D122))*100)+100) -> 111.29944 | Z122: =RANK(W122,$W$3:$W$356,0) -> 254 | AA122: =VLOOKUP(B122,[1]高一上!$B:$G,5,0) -> 71 | AB122: =VLOOKUP(B122,[1]高一上!$B:$G,6,0) -> 杨翁基之玛 | AC122: =IF(OR(AE122=0,AA122=0),100,(((AF122-AD122)/COUNTIF(D:D,D122))*100)+100) -> 90.112994 | AD122: =RANK(AA122,$AA$3:$AA$356,0) -> 294 | AE122: =VLOOKUP(B122,[1]中考!$B:$G,6,0) -> 98 | AF122: =RANK(AE122,AE122:AE475,0) -> 259
A123: 513422200602130320 | B123: G513422200602130320 | C123: 3 | D123: 物理类 | E123: 沈梅 | F123: 446 | G123: 95 | H123: 易涛 | I123: =IF(OR(G123=0,K123=0),100,(((N123-J123)/COUNTIF(D:D,D123))*100)+100) -> 41.525424 | J123: =RANK(G123,$G$3:$G$356,0) -> 224 | K123: =VLOOKUP(B123,[1]高三上!$B:$H,6,0) -> 110 | L123: =VLOOKUP(B123,[1]高三上!$B:$H,7,0) -> 易涛 | M123: =IF(OR(O123=0,K123=0),100,(((R123-N123)/COUNTIF(D:D,D123))*100)+100) -> 132.48588 | N123: =RANK(K123,$K$3:$K$356,0) -> 17 | O123: =VLOOKUP(B123,[1]高二下!$B:$H,6,0) -> 89 | P123: =VLOOKUP(B123,[1]高二下!$B:$H,7,0) -> 易涛 | Q123: =IF(OR(O123=0,S123=0),100,(((V123-R123)/COUNTIF(D:D,D123))*100)+100) -> 71.186441 | R123: =RANK(O123,$O$3:$O$356,0) -> 132 | S123: =VLOOKUP(B123,[1]高二上!$B:$H,6,0) -> 106 | T123: =VLOOKUP(B123,[1]高二上!$B:$H,7,0) -> 易涛 | U123: =IF(OR(W123=0,S123=0),100,(((Z123-V123)/COUNTIF(D:D,D123))*100)+100) -> 95.480226 | V123: =RANK(S123,$S$3:$S$356,0) -> 30 | W123: =VLOOKUP(B123,[1]高一下!$B:$H,6,0) -> 102 | X123: =VLOOKUP(B123,[1]高一下!$B:$H,7,0) -> 易涛 | Y123: =IF(OR(W123=0,AA123=0),100,(((AD123-Z123)/COUNTIF(D:D,D123))*100)+100) -> 112.99435 | Z123: =RANK(W123,$W$3:$W$356,0) -> 14 | AA123: =VLOOKUP(B123,[1]高一上!$B:$G,5,0) -> 91 | AB123: =VLOOKUP(B123,[1]高一上!$B:$G,6,0) -> 易涛 | AC123: =IF(OR(AE123=0,AA123=0),100,(((AF123-AD123)/COUNTIF(D:D,D123))*100)+100) -> 95.19774 | AD123: =RANK(AA123,$AA$3:$AA$356,0) -> 60 | AE123: =VLOOKUP(B123,[1]中考!$B:$G,6,0) -> 115 | AF123: =RANK(AE123,AE123:AE476,0) -> 43
A124: 513422200410126423 | B124: G513422200410126423 | C124: 3 | D124: 物理类 | E124: 崩秋 | F124: 445 | G124: 96 | H124: 易涛 | I124: =IF(OR(G124=0,K124=0),100,(((N124-J124)/COUNTIF(D:D,D124))*100)+100) -> 68.644068 | J124: =RANK(G124,$G$3:$G$356,0) -> 211 | K124: =VLOOKUP(B124,[1]高三上!$B:$H,6,0) -> 99 | L124: =VLOOKUP(B124,[1]高三上!$B:$H,7,0) -> 易涛 | M124: =IF(OR(O124=0,K124=0),100,(((R124-N124)/COUNTIF(D:D,D124))*100)+100) -> 100 | N124: =RANK(K124,$K$3:$K$356,0) -> 100 | O124: 0 | P124: 易涛 | Q124: =IF(OR(O124=0,S124=0),100,(((V124-R124)/COUNTIF(D:D,D124))*100)+100) -> 100 | R124: =RANK(O124,$O$3:$O$356,0) -> 348 | S124: =VLOOKUP(B124,[1]高二上!$B:$H,6,0) -> 107 | T124: =VLOOKUP(B124,[1]高二上!$B:$H,7,0) -> 易涛 | U124: =IF(OR(W124=0,S124=0),100,(((Z124-V124)/COUNTIF(D:D,D124))*100)+100) -> 111.01695 | V124: =RANK(S124,$S$3:$S$356,0) -> 23 | W124: =VLOOKUP(B124,[1]高一下!$B:$H,6,0) -> 94 | X124: =VLOOKUP(B124,[1]高一下!$B:$H,7,0) -> 易涛 | Y124: =IF(OR(W124=0,AA124=0),100,(((AD124-Z124)/COUNTIF(D:D,D124))*100)+100) -> 99.435028 | Z124: =RANK(W124,$W$3:$W$356,0) -> 62 | AA124: =VLOOKUP(B124,[1]高一上!$B:$G,5,0) -> 91 | AB124: =VLOOKUP(B124,[1]高一上!$B:$G,6,0) -> 肖锐 | AC124: =IF(OR(AE124=0,AA124=0),100,(((AF124-AD124)/COUNTIF(D:D,D124))*100)+100) -> 100 | AD124: =RANK(AA124,$AA$3:$AA$356,0) -> 60 | AE124: =VLOOKUP(B124,[1]中考!$B:$G,6,0) -> 0 | AF124: =RANK(AE124,AE124:AE477,0) -> 347
A125: 513422200605072111 | B125: G513422200605072111 | C125: 3 | D125: 物理类 | E125: 杜基扎西 | F125: 438 | G125: 99 | H125: 易涛 | I125: =IF(OR(G125=0,K125=0),100,(((N125-J125)/COUNTIF(D:D,D125))*100)+100) -> 71.186441 | J125: =RANK(G125,$G$3:$G$356,0) -> 158 | K125: =VLOOKUP(B125,[1]高三上!$B:$H,6,0) -> 103 | L125: =VLOOKUP(B125,[1]高三上!$B:$H,7,0) -> 易涛 | M125: =IF(OR(O125=0,K125=0),100,(((R125-N125)/COUNTIF(D:D,D125))*100)+100) -> 172.59887 | N125: =RANK(K125,$K$3:$K$356,0) -> 56 | O125: =VLOOKUP(B125,[1]高二下!$B:$H,6,0) -> 77 | P125: =VLOOKUP(B125,[1]高二下!$B:$H,7,0) -> 易涛 | Q125: =IF(OR(O125=0,S125=0),100,(((V125-R125)/COUNTIF(D:D,D125))*100)+100) -> 82.20339 | R125: =RANK(O125,$O$3:$O$356,0) -> 313 | S125: =VLOOKUP(B125,[1]高二上!$B:$H,6,0) -> 86 | T125: =VLOOKUP(B125,[1]高二上!$B:$H,7,0) -> 易涛 | U125: =IF(OR(W125=0,S125=0),100,(((Z125-V125)/COUNTIF(D:D,D125))*100)+100) -> 50.564972 | V125: =RANK(S125,$S$3:$S$356,0) -> 250 | W125: =VLOOKUP(B125,[1]高一下!$B:$H,6,0) -> 93 | X125: =VLOOKUP(B125,[1]高一下!$B:$H,7,0) -> 易涛 | Y125: =IF(OR(W125=0,AA125=0),100,(((AD125-Z125)/COUNTIF(D:D,D125))*100)+100) -> 111.01695 | Z125: =RANK(W125,$W$3:$W$356,0) -> 75 | AA125: =VLOOKUP(B125,[1]高一上!$B:$G,5,0) -> 84 | AB125: =VLOOKUP(B125,[1]高一上!$B:$G,6,0) -> 肖锐 | AC125: =IF(OR(AE125=0,AA125=0),100,(((AF125-AD125)/COUNTIF(D:D,D125))*100)+100) -> 89.548023 | AD125: =RANK(AA125,$AA$3:$AA$356,0) -> 114 | AE125: =VLOOKUP(B125,[1]中考!$B:$G,6,0) -> 111 | AF125: =RANK(AE125,AE125:AE478,0) -> 77
A126: 51342220070205381X | B126: G51342220070205381X | C126: 3 | D126: 物理类 | E126: 苏朗杜基 | F126: 435 | G126: 99 | H126: 易涛 | I126: =IF(OR(G126=0,K126=0),100,(((N126-J126)/COUNTIF(D:D,D126))*100)+100) -> 120.62147 | J126: =RANK(G126,$G$3:$G$356,0) -> 158 | K126: =VLOOKUP(B126,[1]高三上!$B:$H,6,0) -> 88 | L126: =VLOOKUP(B126,[1]高三上!$B:$H,7,0) -> 易涛 | M126: =IF(OR(O126=0,K126=0),100,(((R126-N126)/COUNTIF(D:D,D126))*100)+100) -> 112.71186 | N126: =RANK(K126,$K$3:$K$356,0) -> 231 | O126: =VLOOKUP(B126,[1]高二下!$B:$H,6,0) -> 81 | P126: =VLOOKUP(B126,[1]高二下!$B:$H,7,0) -> 易涛 | Q126: =IF(OR(O126=0,S126=0),100,(((V126-R126)/COUNTIF(D:D,D126))*100)+100) -> 108.19209 | R126: =RANK(O126,$O$3:$O$356,0) -> 276 | S126: =VLOOKUP(B126,[1]高二上!$B:$H,6,0) -> 81 | T126: =VLOOKUP(B126,[1]高二上!$B:$H,7,0) -> 易涛 | U126: =IF(OR(W126=0,S126=0),100,(((Z126-V126)/COUNTIF(D:D,D126))*100)+100) -> 102.54237 | V126: =RANK(S126,$S$3:$S$356,0) -> 305 | W126: =VLOOKUP(B126,[1]高一下!$B:$H,6,0) -> 74 | X126: =VLOOKUP(B126,[1]高一下!$B:$H,7,0) -> 易涛 | Y126: =IF(OR(W126=0,AA126=0),100,(((AD126-Z126)/COUNTIF(D:D,D126))*100)+100) -> 91.242938 | Z126: =RANK(W126,$W$3:$W$356,0) -> 314 | AA126: =VLOOKUP(B126,[1]高一上!$B:$G,5,0) -> 72 | AB126: =VLOOKUP(B126,[1]高一上!$B:$G,6,0) -> 易涛 | AC126: =IF(OR(AE126=0,AA126=0),100,(((AF126-AD126)/COUNTIF(D:D,D126))*100)+100) -> 115.25424 | AD126: =RANK(AA126,$AA$3:$AA$356,0) -> 283 | AE126: =VLOOKUP(B126,[1]中考!$B:$G,6,0) -> 86 | AF126: =RANK(AE126,AE126:AE479,0) -> 337
A127: 513422200609066413 | B127: G513422200609066413 | C127: 3 | D127: 物理类 | E127: 偏初次仁 | F127: 432 | G127: 108 | H127: 易涛 | I127: =IF(OR(G127=0,K127=0),100,(((N127-J127)/COUNTIF(D:D,D127))*100)+100) -> 115.81921 | J127: =RANK(G127,$G$3:$G$356,0) -> 53 | K127: =VLOOKUP(B127,[1]高三上!$B:$H,6,0) -> 98 | L127: =VLOOKUP(B127,[1]高三上!$B:$H,7,0) -> 易涛 | M127: =IF(OR(O127=0,K127=0),100,(((R127-N127)/COUNTIF(D:D,D127))*100)+100) -> 93.220339 | N127: =RANK(K127,$K$3:$K$356,0) -> 109 | O127: =VLOOKUP(B127,[1]高二下!$B:$H,6,0) -> 92 | P127: =VLOOKUP(B127,[1]高二下!$B:$H,7,0) -> 易涛 | Q127: =IF(OR(O127=0,S127=0),100,(((V127-R127)/COUNTIF(D:D,D127))*100)+100) -> 85.59322 | R127: =RANK(O127,$O$3:$O$356,0) -> 85 | S127: =VLOOKUP(B127,[1]高二上!$B:$H,6,0) -> 105 | T127: =VLOOKUP(B127,[1]高二上!$B:$H,7,0) -> 易涛 | U127: =IF(OR(W127=0,S127=0),100,(((Z127-V127)/COUNTIF(D:D,D127))*100)+100) -> 107.9096 | V127: =RANK(S127,$S$3:$S$356,0) -> 34 | W127: =VLOOKUP(B127,[1]高一下!$B:$H,6,0) -> 94 | X127: =VLOOKUP(B127,[1]高一下!$B:$H,7,0) -> 易涛 | Y127: =IF(OR(W127=0,AA127=0),100,(((AD127-Z127)/COUNTIF(D:D,D127))*100)+100) -> 129.9435 | Z127: =RANK(W127,$W$3:$W$356,0) -> 62 | AA127: =VLOOKUP(B127,[1]高一上!$B:$G,5,0) -> 80 | AB127: =VLOOKUP(B127,[1]高一上!$B:$G,6,0) -> 张镇棚 | AC127: =IF(OR(AE127=0,AA127=0),100,(((AF127-AD127)/COUNTIF(D:D,D127))*100)+100) -> 103.9548 | AD127: =RANK(AA127,$AA$3:$AA$356,0) -> 168 | AE127: =VLOOKUP(B127,[1]中考!$B:$G,6,0) -> 104 | AF127: =RANK(AE127,AE127:AE480,0) -> 182
A128: 513422200510017021 | B128: G513422200510017021 | C128: 3 | D128: 物理类 | E128: 仁青拉初 | F128: 428 | G128: 91 | H128: 易涛 | I128: =IF(OR(G128=0,K128=0),100,(((N128-J128)/COUNTIF(D:D,D128))*100)+100) -> 87.853107 | J128: =RANK(G128,$G$3:$G$356,0) -> 274 | K128: =VLOOKUP(B128,[1]高三上!$B:$H,6,0) -> 88 | L128: =VLOOKUP(B128,[1]高三上!$B:$H,7,0) -> 易涛 | M128: =IF(OR(O128=0,K128=0),100,(((R128-N128)/COUNTIF(D:D,D128))*100)+100) -> 118.64407 | N128: =RANK(K128,$K$3:$K$356,0) -> 231 | O128: =VLOOKUP(B128,[1]高二下!$B:$H,6,0) -> 79 | P128: =VLOOKUP(B128,[1]高二下!$B:$H,7,0) -> 易涛 | Q128: =IF(OR(O128=0,S128=0),100,(((V128-R128)/COUNTIF(D:D,D128))*100)+100) -> 102.25989 | R128: =RANK(O128,$O$3:$O$356,0) -> 297 | S128: =VLOOKUP(B128,[1]高二上!$B:$H,6,0) -> 81 | T128: =VLOOKUP(B128,[1]高二上!$B:$H,7,0) -> 易涛 | U128: =IF(OR(W128=0,S128=0),100,(((Z128-V128)/COUNTIF(D:D,D128))*100)+100) -> 95.480226 | V128: =RANK(S128,$S$3:$S$356,0) -> 305 | W128: =VLOOKUP(B128,[1]高一下!$B:$H,6,0) -> 79 | X128: =VLOOKUP(B128,[1]高一下!$B:$H,7,0) -> 易涛 | Y128: =IF(OR(W128=0,AA128=0),100,(((AD128-Z128)/COUNTIF(D:D,D128))*100)+100) -> 65.819209 | Z128: =RANK(W128,$W$3:$W$356,0) -> 289 | AA128: =VLOOKUP(B128,[1]高一上!$B:$G,5,0) -> 80 | AB128: =VLOOKUP(B128,[1]高一上!$B:$G,6,0) -> 格绒燚西 | AC128: =IF(OR(AE128=0,AA128=0),100,(((AF128-AD128)/COUNTIF(D:D,D128))*100)+100) -> 148.30508 | AD128: =RANK(AA128,$AA$3:$AA$356,0) -> 168 | AE128: =VLOOKUP(B128,[1]中考!$B:$G,6,0) -> 85 | AF128: =RANK(AE128,AE128:AE481,0) -> 339
A129: 513422200903176621 | B129: G513422200903176621 | C129: 3 | D129: 物理类 | E129: 杜吉萍 | F129: 426 | G129: 86 | H129: 易涛 | I129: =IF(OR(G129=0,K129=0),100,(((N129-J129)/COUNTIF(D:D,D129))*100)+100) -> 38.700565 | J129: =RANK(G129,$G$3:$G$356,0) -> 326 | K129: =VLOOKUP(B129,[1]高三上!$B:$H,6,0) -> 98 | L129: =VLOOKUP(B129,[1]高三上!$B:$H,7,0) -> 易涛 | M129: =IF(OR(O129=0,K129=0),100,(((R129-N129)/COUNTIF(D:D,D129))*100)+100) -> 111.29944 | N129: =RANK(K129,$K$3:$K$356,0) -> 109 | O129: =VLOOKUP(B129,[1]高二下!$B:$H,6,0) -> 88 | P129: =VLOOKUP(B129,[1]高二下!$B:$H,7,0) -> 易涛 | Q129: =IF(OR(O129=0,S129=0),100,(((V129-R129)/COUNTIF(D:D,D129))*100)+100) -> 125.70621 | R129: =RANK(O129,$O$3:$O$356,0) -> 149 | S129: =VLOOKUP(B129,[1]高二上!$B:$H,6,0) -> 87 | T129: =VLOOKUP(B129,[1]高二上!$B:$H,7,0) -> 易涛 | U129: =IF(OR(W129=0,S129=0),100,(((Z129-V129)/COUNTIF(D:D,D129))*100)+100) -> 46.045198 | V129: =RANK(S129,$S$3:$S$356,0) -> 240 | W129: =VLOOKUP(B129,[1]高一下!$B:$H,6,0) -> 95 | X129: =VLOOKUP(B129,[1]高一下!$B:$H,7,0) -> 易涛 | Y129: =IF(OR(W129=0,AA129=0),100,(((AD129-Z129)/COUNTIF(D:D,D129))*100)+100) -> 162.99435 | Z129: =RANK(W129,$W$3:$W$356,0) -> 49 | AA129: =VLOOKUP(B129,[1]高一上!$B:$G,5,0) -> 73 | AB129: =VLOOKUP(B129,[1]高一上!$B:$G,6,0) -> 肖锐 | AC129: =IF(OR(AE129=0,AA129=0),100,(((AF129-AD129)/COUNTIF(D:D,D129))*100)+100) -> 60.169492 | AD129: =RANK(AA129,$AA$3:$AA$356,0) -> 272 | AE129: =VLOOKUP(B129,[1]中考!$B:$G,6,0) -> 107 | AF129: =RANK(AE129,AE129:AE482,0) -> 131
A130: 513422200601123620 | B130: G513422200601123620 | C130: 3 | D130: 物理类 | E130: 陈桂菲 | F130: 426 | G130: 95 | H130: 易涛 | I130: =IF(OR(G130=0,K130=0),100,(((N130-J130)/COUNTIF(D:D,D130))*100)+100) -> 110.45198 | J130: =RANK(G130,$G$3:$G$356,0) -> 224 | K130: =VLOOKUP(B130,[1]高三上!$B:$H,6,0) -> 86 | L130: =VLOOKUP(B130,[1]高三上!$B:$H,7,0) -> 易涛 | M130: =IF(OR(O130=0,K130=0),100,(((R130-N130)/COUNTIF(D:D,D130))*100)+100) -> 83.615819 | N130: =RANK(K130,$K$3:$K$356,0) -> 261 | O130: =VLOOKUP(B130,[1]高二下!$B:$H,6,0) -> 85 | P130: =VLOOKUP(B130,[1]高二下!$B:$H,7,0) -> 易涛 | Q130: =IF(OR(O130=0,S130=0),100,(((V130-R130)/COUNTIF(D:D,D130))*100)+100) -> 103.9548 | R130: =RANK(O130,$O$3:$O$356,0) -> 203 | S130: =VLOOKUP(B130,[1]高二上!$B:$H,6,0) -> 89 | T130: =VLOOKUP(B130,[1]高二上!$B:$H,7,0) -> 易涛 | U130: =IF(OR(W130=0,S130=0),100,(((Z130-V130)/COUNTIF(D:D,D130))*100)+100) -> 68.361582 | V130: =RANK(S130,$S$3:$S$356,0) -> 217 | W130: =VLOOKUP(B130,[1]高一下!$B:$H,6,0) -> 91 | X130: =VLOOKUP(B130,[1]高一下!$B:$H,7,0) -> 易涛 | Y130: =IF(OR(W130=0,AA130=0),100,(((AD130-Z130)/COUNTIF(D:D,D130))*100)+100) -> 95.762712 | Z130: =RANK(W130,$W$3:$W$356,0) -> 105 | AA130: =VLOOKUP(B130,[1]高一上!$B:$G,5,0) -> 87 | AB130: =VLOOKUP(B130,[1]高一上!$B:$G,6,0) -> 杨翁基之玛 | AC130: =IF(OR(AE130=0,AA130=0),100,(((AF130-AD130)/COUNTIF(D:D,D130))*100)+100) -> 168.92655 | AD130: =RANK(AA130,$AA$3:$AA$356,0) -> 90 | AE130: =VLOOKUP(B130,[1]中考!$B:$G,6,0) -> 87 | AF130: =RANK(AE130,AE130:AE483,0) -> 334
A131: 513422200602232124 | B131: G513422200602232124 | C131: 3 | D131: 物理类 | E131: 叶才美 | F131: 424 | G131: 103 | H131: 易涛 | I131: =IF(OR(G131=0,K131=0),100,(((N131-J131)/COUNTIF(D:D,D131))*100)+100) -> 110.73446 | J131: =RANK(G131,$G$3:$G$356,0) -> 101 | K131: =VLOOKUP(B131,[1]高三上!$B:$H,6,0) -> 95 | L131: =VLOOKUP(B131,[1]高三上!$B:$H,7,0) -> 易涛 | M131: =IF(OR(O131=0,K131=0),100,(((R131-N131)/COUNTIF(D:D,D131))*100)+100) -> 63.276836 | N131: =RANK(K131,$K$3:$K$356,0) -> 139 | O131: =VLOOKUP(B131,[1]高二下!$B:$H,6,0) -> 102 | P131: =VLOOKUP(B131,[1]高二下!$B:$H,7,0) -> 易涛 | Q131: =IF(OR(O131=0,S131=0),100,(((V131-R131)/COUNTIF(D:D,D131))*100)+100) -> 151.9774 | R131: =RANK(O131,$O$3:$O$356,0) -> 9 | S131: =VLOOKUP(B131,[1]高二上!$B:$H,6,0) -> 91 | T131: =VLOOKUP(B131,[1]高二上!$B:$H,7,0) -> 易涛 | U131: =IF(OR(W131=0,S131=0),100,(((Z131-V131)/COUNTIF(D:D,D131))*100)+100) -> 66.666667 | V131: =RANK(S131,$S$3:$S$356,0) -> 193 | W131: =VLOOKUP(B131,[1]高一下!$B:$H,6,0) -> 93 | X131: =VLOOKUP(B131,[1]高一下!$B:$H,7,0) -> 易涛 | Y131: =IF(OR(W131=0,AA131=0),100,(((AD131-Z131)/COUNTIF(D:D,D131))*100)+100) -> 142.65537 | Z131: =RANK(W131,$W$3:$W$356,0) -> 75 | AA131: =VLOOKUP(B131,[1]高一上!$B:$G,5,0) -> 76 | AB131: =VLOOKUP(B131,[1]高一上!$B:$G,6,0) -> 张镇棚 | AC131: =IF(OR(AE131=0,AA131=0),100,(((AF131-AD131)/COUNTIF(D:D,D131))*100)+100) -> 107.06215 | AD131: =RANK(AA131,$AA$3:$AA$356,0) -> 226 | AE131: =VLOOKUP(B131,[1]中考!$B:$G,6,0) -> 99 | AF131: =RANK(AE131,AE131:AE484,0) -> 251
A132: 513422200301111310 | B132: G513422200301111310 | C132: 3 | D132: 物理类 | E132: 王伍斤 | F132: 420 | G132: 90 | H132: 易涛 | I132: =IF(OR(G132=0,K132=0),100,(((N132-J132)/COUNTIF(D:D,D132))*100)+100) -> 110.16949 | J132: =RANK(G132,$G$3:$G$356,0) -> 289 | K132: =VLOOKUP(B132,[1]高三上!$B:$H,6,0) -> 78 | L132: =VLOOKUP(B132,[1]高三上!$B:$H,7,0) -> 易涛 | M132: =IF(OR(O132=0,K132=0),100,(((R132-N132)/COUNTIF(D:D,D132))*100)+100) -> 82.20339 | N132: =RANK(K132,$K$3:$K$356,0) -> 325 | O132: =VLOOKUP(B132,[1]高二下!$B:$H,6,0) -> 82 | P132: =VLOOKUP(B132,[1]高二下!$B:$H,7,0) -> 易涛 | Q132: =IF(OR(O132=0,S132=0),100,(((V132-R132)/COUNTIF(D:D,D132))*100)+100) -> 75.423729 | R132: =RANK(O132,$O$3:$O$356,0) -> 262 | S132: =VLOOKUP(B132,[1]高二上!$B:$H,6,0) -> 92 | T132: =VLOOKUP(B132,[1]高二上!$B:$H,7,0) -> 易涛 | U132: =IF(OR(W132=0,S132=0),100,(((Z132-V132)/COUNTIF(D:D,D132))*100)+100) -> 104.80226 | V132: =RANK(S132,$S$3:$S$356,0) -> 175 | W132: =VLOOKUP(B132,[1]高一下!$B:$H,6,0) -> 85 | X132: =VLOOKUP(B132,[1]高一下!$B:$H,7,0) -> 易涛 | Y132: =IF(OR(W132=0,AA132=0),100,(((AD132-Z132)/COUNTIF(D:D,D132))*100)+100) -> 142.37288 | Z132: =RANK(W132,$W$3:$W$356,0) -> 192 | AA132: =VLOOKUP(B132,[1]高一上!$B:$G,5,0) -> 64 | AB132: =VLOOKUP(B132,[1]高一上!$B:$G,6,0) -> 易涛 | AC132: =IF(OR(AE132=0,AA132=0),100,(((AF132-AD132)/COUNTIF(D:D,D132))*100)+100) -> 36.440678 | AD132: =RANK(AA132,$AA$3:$AA$356,0) -> 342 | AE132: =VLOOKUP(B132,[1]中考!$B:$G,6,0) -> 108 | AF132: =RANK(AE132,AE132:AE485,0) -> 117
A133: 513422200706181528 | B133: G513422200706181528 | C133: 3 | D133: 物理类 | E133: 杨巫支 | F133: 417 | G133: 103 | H133: 易涛 | I133: =IF(OR(G133=0,K133=0),100,(((N133-J133)/COUNTIF(D:D,D133))*100)+100) -> 136.72316 | J133: =RANK(G133,$G$3:$G$356,0) -> 101 | K133: =VLOOKUP(B133,[1]高三上!$B:$H,6,0) -> 88 | L133: =VLOOKUP(B133,[1]高三上!$B:$H,7,0) -> 易涛 | M133: =IF(OR(O133=0,K133=0),100,(((R133-N133)/COUNTIF(D:D,D133))*100)+100) -> 87.288136 | N133: =RANK(K133,$K$3:$K$356,0) -> 231 | O133: =VLOOKUP(B133,[1]高二下!$B:$H,6,0) -> 86 | P133: =VLOOKUP(B133,[1]高二下!$B:$H,7,0) -> 易涛 | Q133: =IF(OR(O133=0,S133=0),100,(((V133-R133)/COUNTIF(D:D,D133))*100)+100) -> 115.25424 | R133: =RANK(O133,$O$3:$O$356,0) -> 186 | S133: =VLOOKUP(B133,[1]高二上!$B:$H,6,0) -> 87 | T133: =VLOOKUP(B133,[1]高二上!$B:$H,7,0) -> 易涛 | U133: =IF(OR(W133=0,S133=0),100,(((Z133-V133)/COUNTIF(D:D,D133))*100)+100) -> 41.525424 | V133: =RANK(S133,$S$3:$S$356,0) -> 240 | W133: =VLOOKUP(B133,[1]高一下!$B:$H,6,0) -> 97 | X133: =VLOOKUP(B133,[1]高一下!$B:$H,7,0) -> 易涛 | Y133: =IF(OR(W133=0,AA133=0),100,(((AD133-Z133)/COUNTIF(D:D,D133))*100)+100) -> 150.84746 | Z133: =RANK(W133,$W$3:$W$356,0) -> 33 | AA133: =VLOOKUP(B133,[1]高一上!$B:$G,5,0) -> 77 | AB133: =VLOOKUP(B133,[1]高一上!$B:$G,6,0) -> 易涛 | AC133: =IF(OR(AE133=0,AA133=0),100,(((AF133-AD133)/COUNTIF(D:D,D133))*100)+100) -> 91.242938 | AD133: =RANK(AA133,$AA$3:$AA$356,0) -> 213 | AE133: =VLOOKUP(B133,[1]中考!$B:$G,6,0) -> 104 | AF133: =RANK(AE133,AE133:AE486,0) -> 182
A134: 51343020050812061X | B134: G51343020050812061X | C134: 3 | D134: 物理类 | E134: 花只发 | F134: 415 | G134: 91 | H134: 易涛 | I134: =IF(OR(G134=0,K134=0),100,(((N134-J134)/COUNTIF(D:D,D134))*100)+100) -> 105.64972 | J134: =RANK(G134,$G$3:$G$356,0) -> 274 | K134: =VLOOKUP(B134,[1]高三上!$B:$H,6,0) -> 83 | L134: =VLOOKUP(B134,[1]高三上!$B:$H,7,0) -> 易涛 | M134: =IF(OR(O134=0,K134=0),100,(((R134-N134)/COUNTIF(D:D,D134))*100)+100) -> 64.124294 | N134: =RANK(K134,$K$3:$K$356,0) -> 294 | O134: =VLOOKUP(B134,[1]高二下!$B:$H,6,0) -> 87 | P134: =VLOOKUP(B134,[1]高二下!$B:$H,7,0) -> 易涛 | Q134: =IF(OR(O134=0,S134=0),100,(((V134-R134)/COUNTIF(D:D,D134))*100)+100) -> 130.22599 | R134: =RANK(O134,$O$3:$O$356,0) -> 167 | S134: =VLOOKUP(B134,[1]高二上!$B:$H,6,0) -> 84 | T134: =VLOOKUP(B134,[1]高二上!$B:$H,7,0) -> 易涛 | U134: =IF(OR(W134=0,S134=0),100,(((Z134-V134)/COUNTIF(D:D,D134))*100)+100) -> 99.152542 | V134: =RANK(S134,$S$3:$S$356,0) -> 274 | W134: =VLOOKUP(B134,[1]高一下!$B:$H,6,0) -> 80 | X134: =VLOOKUP(B134,[1]高一下!$B:$H,7,0) -> 易涛 | Y134: =IF(OR(W134=0,AA134=0),100,(((AD134-Z134)/COUNTIF(D:D,D134))*100)+100) -> 100.28249 | Z134: =RANK(W134,$W$3:$W$356,0) -> 271 | AA134: =VLOOKUP(B134,[1]高一上!$B:$G,5,0) -> 73 | AB134: =VLOOKUP(B134,[1]高一上!$B:$G,6,0) -> 刘云菊 | AC134: =IF(OR(AE134=0,AA134=0),100,(((AF134-AD134)/COUNTIF(D:D,D134))*100)+100) -> 60.451977 | AD134: =RANK(AA134,$AA$3:$AA$356,0) -> 272 | AE134: =VLOOKUP(B134,[1]中考!$B:$G,6,0) -> 107 | AF134: =RANK(AE134,AE134:AE487,0) -> 132
A135: 513422200610231316 | B135: G513422200610231316 | C135: 3 | D135: 物理类 | E135: 邓勇 | F135: 410 | G135: 93 | H135: 易涛 | I135: =IF(OR(G135=0,K135=0),100,(((N135-J135)/COUNTIF(D:D,D135))*100)+100) -> 77.966102 | J135: =RANK(G135,$G$3:$G$356,0) -> 250 | K135: =VLOOKUP(B135,[1]高三上!$B:$H,6,0) -> 92 | L135: =VLOOKUP(B135,[1]高三上!$B:$H,7,0) -> 易涛 | M135: =IF(OR(O135=0,K135=0),100,(((R135-N135)/COUNTIF(D:D,D135))*100)+100) -> 103.9548 | N135: =RANK(K135,$K$3:$K$356,0) -> 172 | O135: =VLOOKUP(B135,[1]高二下!$B:$H,6,0) -> 86 | P135: =VLOOKUP(B135,[1]高二下!$B:$H,7,0) -> 易涛 | Q135: =IF(OR(O135=0,S135=0),100,(((V135-R135)/COUNTIF(D:D,D135))*100)+100) -> 115.25424 | R135: =RANK(O135,$O$3:$O$356,0) -> 186 | S135: =VLOOKUP(B135,[1]高二上!$B:$H,6,0) -> 87 | T135: =VLOOKUP(B135,[1]高二上!$B:$H,7,0) -> 易涛 | U135: =IF(OR(W135=0,S135=0),100,(((Z135-V135)/COUNTIF(D:D,D135))*100)+100) -> 108.75706 | V135: =RANK(S135,$S$3:$S$356,0) -> 240 | W135: =VLOOKUP(B135,[1]高一下!$B:$H,6,0) -> 80 | X135: =VLOOKUP(B135,[1]高一下!$B:$H,7,0) -> 易涛 | Y135: =IF(OR(W135=0,AA135=0),100,(((AD135-Z135)/COUNTIF(D:D,D135))*100)+100) -> 112.71186 | Z135: =RANK(W135,$W$3:$W$356,0) -> 271 | AA135: =VLOOKUP(B135,[1]高一上!$B:$G,5,0) -> 69 | AB135: =VLOOKUP(B135,[1]高一上!$B:$G,6,0) -> 肖锐 | AC135: =IF(OR(AE135=0,AA135=0),100,(((AF135-AD135)/COUNTIF(D:D,D135))*100)+100) -> 66.101695 | AD135: =RANK(AA135,$AA$3:$AA$356,0) -> 316 | AE135: =VLOOKUP(B135,[1]中考!$B:$G,6,0) -> 103 | AF135: =RANK(AE135,AE135:AE488,0) -> 196
A136: 513422200604176218 | B136: G513422200604176218 | C136: 3 | D136: 物理类 | E136: 杨开文 | F136: 404 | G136: 91 | H136: 易涛 | I136: =IF(OR(G136=0,K136=0),100,(((N136-J136)/COUNTIF(D:D,D136))*100)+100) -> 71.186441 | J136: =RANK(G136,$G$3:$G$356,0) -> 274 | K136: =VLOOKUP(B136,[1]高三上!$B:$H,6,0) -> 92 | L136: =VLOOKUP(B136,[1]高三上!$B:$H,7,0) -> 易涛 | M136: =IF(OR(O136=0,K136=0),100,(((R136-N136)/COUNTIF(D:D,D136))*100)+100) -> 98.587571 | N136: =RANK(K136,$K$3:$K$356,0) -> 172 | O136: =VLOOKUP(B136,[1]高二下!$B:$H,6,0) -> 87 | P136: =VLOOKUP(B136,[1]高二下!$B:$H,7,0) -> 易涛 | Q136: =IF(OR(O136=0,S136=0),100,(((V136-R136)/COUNTIF(D:D,D136))*100)+100) -> 110.73446 | R136: =RANK(O136,$O$3:$O$356,0) -> 167 | S136: =VLOOKUP(B136,[1]高二上!$B:$H,6,0) -> 90 | T136: =VLOOKUP(B136,[1]高二上!$B:$H,7,0) -> 易涛 | U136: =IF(OR(W136=0,S136=0),100,(((Z136-V136)/COUNTIF(D:D,D136))*100)+100) -> 82.768362 | V136: =RANK(S136,$S$3:$S$356,0) -> 205 | W136: =VLOOKUP(B136,[1]高一下!$B:$H,6,0) -> 88 | X136: =VLOOKUP(B136,[1]高一下!$B:$H,7,0) -> 易涛 | Y136: =IF(OR(W136=0,AA136=0),100,(((AD136-Z136)/COUNTIF(D:D,D136))*100)+100) -> 128.81356 | Z136: =RANK(W136,$W$3:$W$356,0) -> 144 | AA136: =VLOOKUP(B136,[1]高一上!$B:$G,5,0) -> 75 | AB136: =VLOOKUP(B136,[1]高一上!$B:$G,6,0) -> 易涛 | AC136: =IF(OR(AE136=0,AA136=0),100,(((AF136-AD136)/COUNTIF(D:D,D136))*100)+100) -> 40.960452 | AD136: =RANK(AA136,$AA$3:$AA$356,0) -> 246 | AE136: =VLOOKUP(B136,[1]中考!$B:$G,6,0) -> 116 | AF136: =RANK(AE136,AE136:AE489,0) -> 37
... A138: 513422200710035419 | B138: G513422200710035419 | C138: 3 | D138: 物理类 | E138: 鲁绒尼玛 | F138: 319 | G138: 90 | H138: 易涛 | I138: =IF(OR(G138=0,K138=0),100,(((N138-J138)/COUNTIF(D:D,D138))*100)+100) -> 88.135593 | J138: =RANK(G138,$G$3:$G$356,0) -> 289 | K138: =VLOOKUP(B138,[1]高三上!$B:$H,6,0) -> 87 | L138: =VLOOKUP(B138,[1]高三上!$B:$H,7,0) -> 易涛 | M138: =IF(OR(O138=0,K138=0),100,(((R138-N138)/COUNTIF(D:D,D138))*100)+100) -> 108.19209 | N138: =RANK(K138,$K$3:$K$356,0) -> 247 | O138: =VLOOKUP(B138,[1]高二下!$B:$H,6,0) -> 81 | P138: =VLOOKUP(B138,[1]高二下!$B:$H,7,0) -> 易涛 | Q138: =IF(OR(O138=0,S138=0),100,(((V138-R138)/COUNTIF(D:D,D138))*100)+100) -> 99.435028 | R138: =RANK(O138,$O$3:$O$356,0) -> 276 | S138: =VLOOKUP(B138,[1]高二上!$B:$H,6,0) -> 84 | T138: =VLOOKUP(B138,[1]高二上!$B:$H,7,0) -> 易涛 | U138: =IF(OR(W138=0,S138=0),100,(((Z138-V138)/COUNTIF(D:D,D138))*100)+100) -> 55.649718 | V138: =RANK(S138,$S$3:$S$356,0) -> 274 | W138: =VLOOKUP(B138,[1]高一下!$B:$H,6,0) -> 90 | X138: =VLOOKUP(B138,[1]高一下!$B:$H,7,0) -> 易涛 | Y138: =IF(OR(W138=0,AA138=0),100,(((AD138-Z138)/COUNTIF(D:D,D138))*100)+100) -> 136.44068 | Z138: =RANK(W138,$W$3:$W$356,0) -> 117 | AA138: =VLOOKUP(B138,[1]高一上!$B:$G,5,0) -> 75 | AB138: =VLOOKUP(B138,[1]高一上!$B:$G,6,0) -> 易涛 | AC138: =IF(OR(AE138=0,AA138=0),100,(((AF138-AD138)/COUNTIF(D:D,D138))*100)+100) -> 89.265537 | AD138: =RANK(AA138,$AA$3:$AA$356,0) -> 246 | AE138: =VLOOKUP(B138,[1]中考!$B:$G,6,0) -> 102 | AF138: =RANK(AE138,AE138:AE491,0) -> 208
A139: 513422200609216223 | B139: G513422200609216223 | C139: 4 | D139: 物理类 | E139: 王燕飞 | F139: 533 | G139: 121 | H139: 肖锐 | I139: =IF(OR(G139=0,K139=0),100,(((N139-J139)/COUNTIF(D:D,D139))*100)+100) -> 110.45198 | J139: =RANK(G139,$G$3:$G$356,0) -> 2 | K139: =VLOOKUP(B139,[1]高三上!$B:$H,6,0) -> 105 | L139: 格绒燚西 | M139: =IF(OR(O139=0,K139=0),100,(((R139-N139)/COUNTIF(D:D,D139))*100)+100) -> 99.435028 | N139: =RANK(K139,$K$3:$K$356,0) -> 39 | O139: =VLOOKUP(B139,[1]高二下!$B:$H,6,0) -> 96 | P139: =VLOOKUP(B139,[1]高二下!$B:$H,7,0) -> 肖锐 | Q139: =IF(OR(O139=0,S139=0),100,(((V139-R139)/COUNTIF(D:D,D139))*100)+100) -> 106.49718 | R139: =RANK(O139,$O$3:$O$356,0) -> 37 | S139: =VLOOKUP(B139,[1]高二上!$B:$H,6,0) -> 101 | T139: =VLOOKUP(B139,[1]高二上!$B:$H,7,0) -> 肖锐 | U139: =IF(OR(W139=0,S139=0),100,(((Z139-V139)/COUNTIF(D:D,D139))*100)+100) -> 94.350282 | V139: =RANK(S139,$S$3:$S$356,0) -> 60 | W139: =VLOOKUP(B139,[1]高一下!$B:$H,6,0) -> 96 | X139: =VLOOKUP(B139,[1]高一下!$B:$H,7,0) -> 肖锐 | Y139: =IF(OR(W139=0,AA139=0),100,(((AD139-Z139)/COUNTIF(D:D,D139))*100)+100) -> 92.090395 | Z139: =RANK(W139,$W$3:$W$356,0) -> 40 | AA139: =VLOOKUP(B139,[1]高一上!$B:$G,5,0) -> 101 | AB139: =VLOOKUP(B139,[1]高一上!$B:$G,6,0) -> 岳子琦 | AC139: =IF(OR(AE139=0,AA139=0),100,(((AF139-AD139)/COUNTIF(D:D,D139))*100)+100) -> 108.47458 | AD139: =RANK(AA139,$AA$3:$AA$356,0) -> 12 | AE139: =VLOOKUP(B139,[1]中考!$B:$G,6,0) -> 115 | AF139: =RANK(AE139,AE139:AE492,0) -> 42
A140: 513422200708185418 | B140: G513422200708185418 | C140: 4 | D140: 物理类 | E140: 杜基扎西 | F140: 518 | G140: 103 | H140: 肖锐 | I140: =IF(OR(G140=0,K140=0),100,(((N140-J140)/COUNTIF(D:D,D140))*100)+100) -> 93.785311 | J140: =RANK(G140,$G$3:$G$356,0) -> 101 | K140: =VLOOKUP(B140,[1]高三上!$B:$H,6,0) -> 101 | L140: 格绒燚西 | M140: =IF(OR(O140=0,K140=0),100,(((R140-N140)/COUNTIF(D:D,D140))*100)+100) -> 90.960452 | N140: =RANK(K140,$K$3:$K$356,0) -> 79 | O140: =VLOOKUP(B140,[1]高二下!$B:$H,6,0) -> 95 | P140: =VLOOKUP(B140,[1]高二下!$B:$H,7,0) -> 肖锐 | Q140: =IF(OR(O140=0,S140=0),100,(((V140-R140)/COUNTIF(D:D,D140))*100)+100) -> 97.457627 | R140: =RANK(O140,$O$3:$O$356,0) -> 47 | S140: =VLOOKUP(B140,[1]高二上!$B:$H,6,0) -> 104 | T140: =VLOOKUP(B140,[1]高二上!$B:$H,7,0) -> 肖锐 | U140: =IF(OR(W140=0,S140=0),100,(((Z140-V140)/COUNTIF(D:D,D140))*100)+100) -> 116.38418 | V140: =RANK(S140,$S$3:$S$356,0) -> 38 | W140: =VLOOKUP(B140,[1]高一下!$B:$H,6,0) -> 92 | X140: =VLOOKUP(B140,[1]高一下!$B:$H,7,0) -> 肖锐 | Y140: =IF(OR(W140=0,AA140=0),100,(((AD140-Z140)/COUNTIF(D:D,D140))*100)+100) -> 98.305085 | Z140: =RANK(W140,$W$3:$W$356,0) -> 96 | AA140: =VLOOKUP(B140,[1]高一上!$B:$G,5,0) -> 87 | AB140: =VLOOKUP(B140,[1]高一上!$B:$G,6,0) -> 易涛 | AC140: =IF(OR(AE140=0,AA140=0),100,(((AF140-AD140)/COUNTIF(D:D,D140))*100)+100) -> 75.988701 | AD140: =RANK(AA140,$AA$3:$AA$356,0) -> 90 | AE140: =VLOOKUP(B140,[1]中考!$B:$G,6,0) -> 123 | AF140: =RANK(AE140,AE140:AE493,0) -> 5
A141: 513422200711202928 | B141: G513422200711202928 | C141: 4 | D141: 物理类 | E141: 苟英 | F141: 506 | G141: 109 | H141: 肖锐 | I141: =IF(OR(G141=0,K141=0),100,(((N141-J141)/COUNTIF(D:D,D141))*100)+100) -> 96.045198 | J141: =RANK(G141,$G$3:$G$356,0) -> 44 | K141: =VLOOKUP(B141,[1]高三上!$B:$H,6,0) -> 106 | L141: 格绒燚西 | M141: =IF(OR(O141=0,K141=0),100,(((R141-N141)/COUNTIF(D:D,D141))*100)+100) -> 124.85876 | N141: =RANK(K141,$K$3:$K$356,0) -> 30 | O141: =VLOOKUP(B141,[1]高二下!$B:$H,6,0) -> 90 | P141: =VLOOKUP(B141,[1]高二下!$B:$H,7,0) -> 肖锐 | Q141: =IF(OR(O141=0,S141=0),100,(((V141-R141)/COUNTIF(D:D,D141))*100)+100) -> 89.265537 | R141: =RANK(O141,$O$3:$O$356,0) -> 118 | S141: =VLOOKUP(B141,[1]高二上!$B:$H,6,0) -> 99 | T141: =VLOOKUP(B141,[1]高二上!$B:$H,7,0) -> 肖锐 | U141: =IF(OR(W141=0,S141=0),100,(((Z141-V141)/COUNTIF(D:D,D141))*100)+100) -> 131.63842 | V141: =RANK(S141,$S$3:$S$356,0) -> 80 | W141: =VLOOKUP(B141,[1]高一下!$B:$H,6,0) -> 85 | X141: =VLOOKUP(B141,[1]高一下!$B:$H,7,0) -> 肖锐 | Y141: =IF(OR(W141=0,AA141=0),100,(((AD141-Z141)/COUNTIF(D:D,D141))*100)+100) -> 101.12994 | Z141: =RANK(W141,$W$3:$W$356,0) -> 192 | AA141: =VLOOKUP(B141,[1]高一上!$B:$G,5,0) -> 78 | AB141: =VLOOKUP(B141,[1]高一上!$B:$G,6,0) -> 刘权芳 | AC141: =IF(OR(AE141=0,AA141=0),100,(((AF141-AD141)/COUNTIF(D:D,D141))*100)+100) -> 92.655367 | AD141: =RANK(AA141,$AA$3:$AA$356,0) -> 196 | AE141: =VLOOKUP(B141,[1]中考!$B:$G,6,0) -> 105 | AF141: =RANK(AE141,AE141:AE494,0) -> 170
A142: 513422200401027036 | B142: G513422200401027036 | C142: 4 | D142: 物理类 | E142: 鲁绒根戈 | F142: 500 | G142: 103 | H142: 肖锐 | I142: =IF(OR(G142=0,K142=0),100,(((N142-J142)/COUNTIF(D:D,D142))*100)+100) -> 148.87006 | J142: =RANK(G142,$G$3:$G$356,0) -> 101 | K142: =VLOOKUP(B142,[1]高三上!$B:$H,6,0) -> 85 | L142: 格绒燚西 | M142: =IF(OR(O142=0,K142=0),100,(((R142-N142)/COUNTIF(D:D,D142))*100)+100) -> 75.141243 | N142: =RANK(K142,$K$3:$K$356,0) -> 274 | O142: =VLOOKUP(B142,[1]高二下!$B:$H,6,0) -> 86 | P142: =VLOOKUP(B142,[1]高二下!$B:$H,7,0) -> 肖锐 | Q142: =IF(OR(O142=0,S142=0),100,(((V142-R142)/COUNTIF(D:D,D142))*100)+100) -> 61.864407 | R142: =RANK(O142,$O$3:$O$356,0) -> 186 | S142: =VLOOKUP(B142,[1]高二上!$B:$H,6,0) -> 102 | T142: =VLOOKUP(B142,[1]高二上!$B:$H,7,0) -> 肖锐 | U142: =IF(OR(W142=0,S142=0),100,(((Z142-V142)/COUNTIF(D:D,D142))*100)+100) -> 139.83051 | V142: =RANK(S142,$S$3:$S$356,0) -> 51 | W142: =VLOOKUP(B142,[1]高一下!$B:$H,6,0) -> 85 | X142: =VLOOKUP(B142,[1]高一下!$B:$H,7,0) -> 肖锐 | Y142: =IF(OR(W142=0,AA142=0),100,(((AD142-Z142)/COUNTIF(D:D,D142))*100)+100) -> 64.689266 | Z142: =RANK(W142,$W$3:$W$356,0) -> 192 | AA142: =VLOOKUP(B142,[1]高一上!$B:$G,5,0) -> 90 | AB142: =VLOOKUP(B142,[1]高一上!$B:$G,6,0) -> 周菊明 | AC142: =IF(OR(AE142=0,AA142=0),100,(((AF142-AD142)/COUNTIF(D:D,D142))*100)+100) -> 129.09605 | AD142: =RANK(AA142,$AA$3:$AA$356,0) -> 67 | AE142: =VLOOKUP(B142,[1]中考!$B:$G,6,0) -> 105 | AF142: =RANK(AE142,AE142:AE495,0) -> 170
A143: 513422200805121926 | B143: G513422200805121926 | C143: 4 | D143: 物理类 | E143: 李心兰 | F143: 491 | G143: 109 | H143: 肖锐 | I143: =IF(OR(G143=0,K143=0),100,(((N143-J143)/COUNTIF(D:D,D143))*100)+100) -> 107.34463 | J143: =RANK(G143,$G$3:$G$356,0) -> 44 | K143: =VLOOKUP(B143,[1]高三上!$B:$H,6,0) -> 102 | L143: 格绒燚西 | M143: =IF(OR(O143=0,K143=0),100,(((R143-N143)/COUNTIF(D:D,D143))*100)+100) -> 109.60452 | N143: =RANK(K143,$K$3:$K$356,0) -> 70 | O143: =VLOOKUP(B143,[1]高二下!$B:$H,6,0) -> 91 | P143: =VLOOKUP(B143,[1]高二下!$B:$H,7,0) -> 肖锐 | Q143: =IF(OR(O143=0,S143=0),100,(((V143-R143)/COUNTIF(D:D,D143))*100)+100) -> 93.220339 | R143: =RANK(O143,$O$3:$O$356,0) -> 104 | S143: =VLOOKUP(B143,[1]高二上!$B:$H,6,0) -> 99 | T143: =VLOOKUP(B143,[1]高二上!$B:$H,7,0) -> 肖锐 | U143: =IF(OR(W143=0,S143=0),100,(((Z143-V143)/COUNTIF(D:D,D143))*100)+100) -> 131.63842 | V143: =RANK(S143,$S$3:$S$356,0) -> 80 | W143: =VLOOKUP(B143,[1]高一下!$B:$H,6,0) -> 85 | X143: =VLOOKUP(B143,[1]高一下!$B:$H,7,0) -> 肖锐 | Y143: =IF(OR(W143=0,AA143=0),100,(((AD143-Z143)/COUNTIF(D:D,D143))*100)+100) -> 55.932203 | Z143: =RANK(W143,$W$3:$W$356,0) -> 192 | AA143: =VLOOKUP(B143,[1]高一上!$B:$G,5,0) -> 95 | AB143: =VLOOKUP(B143,[1]高一上!$B:$G,6,0) -> 刘云菊 | AC143: =IF(OR(AE143=0,AA143=0),100,(((AF143-AD143)/COUNTIF(D:D,D143))*100)+100) -> 148.87006 | AD143: =RANK(AA143,$AA$3:$AA$356,0) -> 36 | AE143: =VLOOKUP(B143,[1]中考!$B:$G,6,0) -> 102 | AF143: =RANK(AE143,AE143:AE496,0) -> 209
A144: 513422200801016846 | B144: G513422200801016846 | C144: 4 | D144: 物理类 | E144: 邱晓英 | F144: 487 | G144: 112 | H144: 肖锐 | I144: =IF(OR(G144=0,K144=0),100,(((N144-J144)/COUNTIF(D:D,D144))*100)+100) -> 109.03955 | J144: =RANK(G144,$G$3:$G$356,0) -> 24 | K144: =VLOOKUP(B144,[1]高三上!$B:$H,6,0) -> 103 | L144: 何东霖 | M144: =IF(OR(O144=0,K144=0),100,(((R144-N144)/COUNTIF(D:D,D144))*100)+100) -> 136.72316 | N144: =RANK(K144,$K$3:$K$356,0) -> 56 | O144: =VLOOKUP(B144,[1]高二下!$B:$H,6,0) -> 86 | P144: =VLOOKUP(B144,[1]高二下!$B:$H,7,0) -> 肖锐 | Q144: =IF(OR(O144=0,S144=0),100,(((V144-R144)/COUNTIF(D:D,D144))*100)+100) -> 78.248588 | R144: =RANK(O144,$O$3:$O$356,0) -> 186 | S144: =VLOOKUP(B144,[1]高二上!$B:$H,6,0) -> 97 | T144: =VLOOKUP(B144,[1]高二上!$B:$H,7,0) -> 肖锐 | U144: =IF(OR(W144=0,S144=0),100,(((Z144-V144)/COUNTIF(D:D,D144))*100)+100) -> 90.39548 | V144: =RANK(S144,$S$3:$S$356,0) -> 109 | W144: =VLOOKUP(B144,[1]高一下!$B:$H,6,0) -> 93 | X144: =VLOOKUP(B144,[1]高一下!$B:$H,7,0) -> 肖锐 | Y144: =IF(OR(W144=0,AA144=0),100,(((AD144-Z144)/COUNTIF(D:D,D144))*100)+100) -> 82.485876 | Z144: =RANK(W144,$W$3:$W$356,0) -> 75 | AA144: =VLOOKUP(B144,[1]高一上!$B:$G,5,0) -> 100 | AB144: =VLOOKUP(B144,[1]高一上!$B:$G,6,0) -> 岳子琦 | AC144: =IF(OR(AE144=0,AA144=0),100,(((AF144-AD144)/COUNTIF(D:D,D144))*100)+100) -> 100 | AD144: =RANK(AA144,$AA$3:$AA$356,0) -> 13 | AE144: =VLOOKUP(B144,[1]中考!$B:$G,6,0) -> 120 | AF144: =RANK(AE144,AE144:AE497,0) -> 13
A145: 513422200703262322 | B145: G513422200703262322 | C145: 4 | D145: 物理类 | E145: 张春霞 | F145: 482 | G145: 112 | H145: 肖锐 | I145: =IF(OR(G145=0,K145=0),100,(((N145-J145)/COUNTIF(D:D,D145))*100)+100) -> 115.53672 | J145: =RANK(G145,$G$3:$G$356,0) -> 24 | K145: =VLOOKUP(B145,[1]高三上!$B:$H,6,0) -> 101 | L145: 何东霖 | M145: =IF(OR(O145=0,K145=0),100,(((R145-N145)/COUNTIF(D:D,D145))*100)+100) -> 107.06215 | N145: =RANK(K145,$K$3:$K$356,0) -> 79 | O145: =VLOOKUP(B145,[1]高二下!$B:$H,6,0) -> 91 | P145: =VLOOKUP(B145,[1]高二下!$B:$H,7,0) -> 肖锐 | Q145: =IF(OR(O145=0,S145=0),100,(((V145-R145)/COUNTIF(D:D,D145))*100)+100) -> 90.960452 | R145: =RANK(O145,$O$3:$O$356,0) -> 104 | S145: =VLOOKUP(B145,[1]高二上!$B:$H,6,0) -> 100 | T145: =VLOOKUP(B145,[1]高二上!$B:$H,7,0) -> 肖锐 | U145: =IF(OR(W145=0,S145=0),100,(((Z145-V145)/COUNTIF(D:D,D145))*100)+100) -> 90.960452 | V145: =RANK(S145,$S$3:$S$356,0) -> 72 | W145: =VLOOKUP(B145,[1]高一下!$B:$H,6,0) -> 96 | X145: =VLOOKUP(B145,[1]高一下!$B:$H,7,0) -> 肖锐 | Y145: =IF(OR(W145=0,AA145=0),100,(((AD145-Z145)/COUNTIF(D:D,D145))*100)+100) -> 100.56497 | Z145: =RANK(W145,$W$3:$W$356,0) -> 40 | AA145: =VLOOKUP(B145,[1]高一上!$B:$G,5,0) -> 94 | AB145: =VLOOKUP(B145,[1]高一上!$B:$G,6,0) -> 岳子琦 | AC145: =IF(OR(AE145=0,AA145=0),100,(((AF145-AD145)/COUNTIF(D:D,D145))*100)+100) -> 109.88701 | AD145: =RANK(AA145,$AA$3:$AA$356,0) -> 42 | AE145: =VLOOKUP(B145,[1]中考!$B:$G,6,0) -> 111 | AF145: =RANK(AE145,AE145:AE498,0) -> 77
A146: 513422200702090020 | B146: G513422200702090020 | C146: 4 | D146: 物理类 | E146: 杨淑芸 | F146: 482 | G146: 101 | H146: 肖锐 | I146: =IF(OR(G146=0,K146=0),100,(((N146-J146)/COUNTIF(D:D,D146))*100)+100) -> 86.723164 | J146: =RANK(G146,$G$3:$G$356,0) -> 126 | K146: =VLOOKUP(B146,[1]高三上!$B:$H,6,0) -> 101 | L146: 何东霖 | M146: =IF(OR(O146=0,K146=0),100,(((R146-N146)/COUNTIF(D:D,D146))*100)+100) -> 97.457627 | N146: =RANK(K146,$K$3:$K$356,0) -> 79 | O146: =VLOOKUP(B146,[1]高二下!$B:$H,6,0) -> 93 | P146: =VLOOKUP(B146,[1]高二下!$B:$H,7,0) -> 肖锐 | Q146: =IF(OR(O146=0,S146=0),100,(((V146-R146)/COUNTIF(D:D,D146))*100)+100) -> 129.66102 | R146: =RANK(O146,$O$3:$O$356,0) -> 70 | S146: =VLOOKUP(B146,[1]高二上!$B:$H,6,0) -> 92 | T146: =VLOOKUP(B146,[1]高二上!$B:$H,7,0) -> 肖锐 | U146: =IF(OR(W146=0,S146=0),100,(((Z146-V146)/COUNTIF(D:D,D146))*100)+100) -> 110.16949 | V146: =RANK(S146,$S$3:$S$356,0) -> 175 | W146: =VLOOKUP(B146,[1]高一下!$B:$H,6,0) -> 84 | X146: =VLOOKUP(B146,[1]高一下!$B:$H,7,0) -> 肖锐 | Y146: =IF(OR(W146=0,AA146=0),100,(((AD146-Z146)/COUNTIF(D:D,D146))*100)+100) -> 65.819209 | Z146: =RANK(W146,$W$3:$W$356,0) -> 211 | AA146: =VLOOKUP(B146,[1]高一上!$B:$G,5,0) -> 87 | AB146: =VLOOKUP(B146,[1]高一上!$B:$G,6,0) -> 刘权芳 | AC146: =IF(OR(AE146=0,AA146=0),100,(((AF146-AD146)/COUNTIF(D:D,D146))*100)+100) -> 93.220339 | AD146: =RANK(AA146,$AA$3:$AA$356,0) -> 90 | AE146: =VLOOKUP(B146,[1]中考!$B:$G,6,0) -> 112 | AF146: =RANK(AE146,AE146:AE499,0) -> 66
A147: 513422200708111128 | B147: G513422200708111128 | C147: 4 | D147: 物理类 | E147: 沙秀婷 | F147: 478 | G147: 112 | H147: 肖锐 | I147: =IF(OR(G147=0,K147=0),100,(((N147-J147)/COUNTIF(D:D,D147))*100)+100) -> 109.03955 | J147: =RANK(G147,$G$3:$G$356,0) -> 24 | K147: =VLOOKUP(B147,[1]高三上!$B:$H,6,0) -> 103 | L147: 何东霖 | M147: =IF(OR(O147=0,K147=0),100,(((R147-N147)/COUNTIF(D:D,D147))*100)+100) -> 100.84746 | N147: =RANK(K147,$K$3:$K$356,0) -> 56 | O147: =VLOOKUP(B147,[1]高二下!$B:$H,6,0) -> 94 | P147: =VLOOKUP(B147,[1]高二下!$B:$H,7,0) -> 肖锐 | Q147: =IF(OR(O147=0,S147=0),100,(((V147-R147)/COUNTIF(D:D,D147))*100)+100) -> 125.9887 | R147: =RANK(O147,$O$3:$O$356,0) -> 59 | S147: =VLOOKUP(B147,[1]高二上!$B:$H,6,0) -> 94 | T147: =VLOOKUP(B147,[1]高二上!$B:$H,7,0) -> 肖锐 | U147: =IF(OR(W147=0,S147=0),100,(((Z147-V147)/COUNTIF(D:D,D147))*100)+100) -> 95.19774 | V147: =RANK(S147,$S$3:$S$356,0) -> 151 | W147: =VLOOKUP(B147,[1]高一下!$B:$H,6,0) -> 89 | X147: =VLOOKUP(B147,[1]高一下!$B:$H,7,0) -> 肖锐 | Y147: =IF(OR(W147=0,AA147=0),100,(((AD147-Z147)/COUNTIF(D:D,D147))*100)+100) -> 100.28249 | Z147: =RANK(W147,$W$3:$W$356,0) -> 134 | AA147: =VLOOKUP(B147,[1]高一上!$B:$G,5,0) -> 82 | AB147: =VLOOKUP(B147,[1]高一上!$B:$G,6,0) -> 易涛 | AC147: =IF(OR(AE147=0,AA147=0),100,(((AF147-AD147)/COUNTIF(D:D,D147))*100)+100) -> 87.570621 | AD147: =RANK(AA147,$AA$3:$AA$356,0) -> 135 | AE147: =VLOOKUP(B147,[1]中考!$B:$G,6,0) -> 110 | AF147: =RANK(AE147,AE147:AE500,0) -> 91
A148: 513422200612162924 | B148: G513422200612162924 | C148: 4 | D148: 物理类 | E148: 苏燕 | F148: 477 | G148: 98 | H148: 肖锐 | I148: =IF(OR(G148=0,K148=0),100,(((N148-J148)/COUNTIF(D:D,D148))*100)+100) -> 90.677966 | J148: =RANK(G148,$G$3:$G$356,0) -> 182 | K148: =VLOOKUP(B148,[1]高三上!$B:$H,6,0) -> 94 | L148: 何东霖 | M148: =IF(OR(O148=0,K148=0),100,(((R148-N148)/COUNTIF(D:D,D148))*100)+100) -> 105.08475 | N148: =RANK(K148,$K$3:$K$356,0) -> 149 | O148: =VLOOKUP(B148,[1]高二下!$B:$H,6,0) -> 87 | P148: =VLOOKUP(B148,[1]高二下!$B:$H,7,0) -> 肖锐 | Q148: =IF(OR(O148=0,S148=0),100,(((V148-R148)/COUNTIF(D:D,D148))*100)+100) -> 80.79096 | R148: =RANK(O148,$O$3:$O$356,0) -> 167 | S148: =VLOOKUP(B148,[1]高二上!$B:$H,6,0) -> 98 | T148: =VLOOKUP(B148,[1]高二上!$B:$H,7,0) -> 肖锐 | U148: =IF(OR(W148=0,S148=0),100,(((Z148-V148)/COUNTIF(D:D,D148))*100)+100) -> 117.23164 | V148: =RANK(S148,$S$3:$S$356,0) -> 99 | W148: =VLOOKUP(B148,[1]高一下!$B:$H,6,0) -> 87 | X148: =VLOOKUP(B148,[1]高一下!$B:$H,7,0) -> 肖锐 | Y148: =IF(OR(W148=0,AA148=0),100,(((AD148-Z148)/COUNTIF(D:D,D148))*100)+100) -> 102.25989 | Z148: =RANK(W148,$W$3:$W$356,0) -> 160 | AA148: =VLOOKUP(B148,[1]高一上!$B:$G,5,0) -> 80 | AB148: =VLOOKUP(B148,[1]高一上!$B:$G,6,0) -> 刘云菊 | AC148: =IF(OR(AE148=0,AA148=0),100,(((AF148-AD148)/COUNTIF(D:D,D148))*100)+100) -> 131.9209 | AD148: =RANK(AA148,$AA$3:$AA$356,0) -> 168 | AE148: =VLOOKUP(B148,[1]中考!$B:$G,6,0) -> 96 | AF148: =RANK(AE148,AE148:AE501,0) -> 281
A149: 513422200601064616 | B149: G513422200601064616 | C149: 4 | D149: 物理类 | E149: 罗京 | F149: 476 | G149: 110 | H149: 肖锐 | I149: =IF(OR(G149=0,K149=0),100,(((N149-J149)/COUNTIF(D:D,D149))*100)+100) -> 102.54237 | J149: =RANK(G149,$G$3:$G$356,0) -> 39 | K149: =VLOOKUP(B149,[1]高三上!$B:$H,6,0) -> 104 | L149: 何东霖 | M149: =IF(OR(O149=0,K149=0),100,(((R149-N149)/COUNTIF(D:D,D149))*100)+100) -> 99.717514 | N149: =RANK(K149,$K$3:$K$356,0) -> 48 | O149: =VLOOKUP(B149,[1]高二下!$B:$H,6,0) -> 95 | P149: =VLOOKUP(B149,[1]高二下!$B:$H,7,0) -> 肖锐 | Q149: =IF(OR(O149=0,S149=0),100,(((V149-R149)/COUNTIF(D:D,D149))*100)+100) -> 96.327684 | R149: =RANK(O149,$O$3:$O$356,0) -> 47 | S149: =VLOOKUP(B149,[1]高二上!$B:$H,6,0) -> 105 | T149: =VLOOKUP(B149,[1]高二上!$B:$H,7,0) -> 肖锐 | U149: =IF(OR(W149=0,S149=0),100,(((Z149-V149)/COUNTIF(D:D,D149))*100)+100) -> 172.0339 | V149: =RANK(S149,$S$3:$S$356,0) -> 34 | W149: =VLOOKUP(B149,[1]高一下!$B:$H,6,0) -> 79 | X149: =VLOOKUP(B149,[1]高一下!$B:$H,7,0) -> 肖锐 | Y149: =IF(OR(W149=0,AA149=0),100,(((AD149-Z149)/COUNTIF(D:D,D149))*100)+100) -> 33.615819 | Z149: =RANK(W149,$W$3:$W$356,0) -> 289 | AA149: =VLOOKUP(B149,[1]高一上!$B:$G,5,0) -> 92 | AB149: =VLOOKUP(B149,[1]高一上!$B:$G,6,0) -> 周菊明 | AC149: =IF(OR(AE149=0,AA149=0),100,(((AF149-AD149)/COUNTIF(D:D,D149))*100)+100) -> 89.830508 | AD149: =RANK(AA149,$AA$3:$AA$356,0) -> 54 | AE149: =VLOOKUP(B149,[1]中考!$B:$G,6,0) -> 118 | AF149: =RANK(AE149,AE149:AE502,0) -> 18
A150: 513422200701184025 | B150: G513422200701184025 | C150: 4 | D150: 物理类 | E150: 宋加祝玛 | F150: 475 | G150: 97 | H150: 肖锐 | I150: =IF(OR(G150=0,K150=0),100,(((N150-J150)/COUNTIF(D:D,D150))*100)+100) -> 81.638418 | J150: =RANK(G150,$G$3:$G$356,0) -> 195 | K150: =VLOOKUP(B150,[1]高三上!$B:$H,6,0) -> 96 | L150: 何东霖 | M150: =IF(OR(O150=0,K150=0),100,(((R150-N150)/COUNTIF(D:D,D150))*100)+100) -> 105.36723 | N150: =RANK(K150,$K$3:$K$356,0) -> 130 | O150: =VLOOKUP(B150,[1]高二下!$B:$H,6,0) -> 88 | P150: =VLOOKUP(B150,[1]高二下!$B:$H,7,0) -> 肖锐 | Q150: =IF(OR(O150=0,S150=0),100,(((V150-R150)/COUNTIF(D:D,D150))*100)+100) -> 72.316384 | R150: =RANK(O150,$O$3:$O$356,0) -> 149 | S150: =VLOOKUP(B150,[1]高二上!$B:$H,6,0) -> 102 | T150: =VLOOKUP(B150,[1]高二上!$B:$H,7,0) -> 肖锐 | U150: =IF(OR(W150=0,S150=0),100,(((Z150-V150)/COUNTIF(D:D,D150))*100)+100) -> 139.83051 | V150: =RANK(S150,$S$3:$S$356,0) -> 51 | W150: =VLOOKUP(B150,[1]高一下!$B:$H,6,0) -> 85 | X150: =VLOOKUP(B150,[1]高一下!$B:$H,7,0) -> 肖锐 | Y150: =IF(OR(W150=0,AA150=0),100,(((AD150-Z150)/COUNTIF(D:D,D150))*100)+100) -> 61.016949 | Z150: =RANK(W150,$W$3:$W$356,0) -> 192 | AA150: =VLOOKUP(B150,[1]高一上!$B:$G,5,0) -> 92 | AB150: =VLOOKUP(B150,[1]高一上!$B:$G,6,0) -> 易涛 | AC150: =IF(OR(AE150=0,AA150=0),100,(((AF150-AD150)/COUNTIF(D:D,D150))*100)+100) -> 87.288136 | AD150: =RANK(AA150,$AA$3:$AA$356,0) -> 54 | AE150: =VLOOKUP(B150,[1]中考!$B:$G,6,0) -> 121 | AF150: =RANK(AE150,AE150:AE503,0) -> 9
A151: 513422200607182728 | B151: G513422200607182728 | C151: 4 | D151: 物理类 | E151: 韩顺珍 | F151: 475 | G151: 96 | H151: 肖锐 | I151: =IF(OR(G151=0,K151=0),100,(((N151-J151)/COUNTIF(D:D,D151))*100)+100) -> 53.954802 | J151: =RANK(G151,$G$3:$G$356,0) -> 211 | K151: =VLOOKUP(B151,[1]高三上!$B:$H,6,0) -> 104 | L151: 何东霖 | M151: =IF(OR(O151=0,K151=0),100,(((R151-N151)/COUNTIF(D:D,D151))*100)+100) -> 143.78531 | N151: =RANK(K151,$K$3:$K$356,0) -> 48 | O151: =VLOOKUP(B151,[1]高二下!$B:$H,6,0) -> 85 | P151: =VLOOKUP(B151,[1]高二下!$B:$H,7,0) -> 肖锐 | Q151: =IF(OR(O151=0,S151=0),100,(((V151-R151)/COUNTIF(D:D,D151))*100)+100) -> 113.27684 | R151: =RANK(O151,$O$3:$O$356,0) -> 203 | S151: =VLOOKUP(B151,[1]高二上!$B:$H,6,0) -> 86 | T151: =VLOOKUP(B151,[1]高二上!$B:$H,7,0) -> 肖锐 | U151: =IF(OR(W151=0,S151=0),100,(((Z151-V151)/COUNTIF(D:D,D151))*100)+100) -> 67.231638 | V151: =RANK(S151,$S$3:$S$356,0) -> 250 | W151: =VLOOKUP(B151,[1]高一下!$B:$H,6,0) -> 89 | X151: =VLOOKUP(B151,[1]高一下!$B:$H,7,0) -> 肖锐 | Y151: =IF(OR(W151=0,AA151=0),100,(((AD151-Z151)/COUNTIF(D:D,D151))*100)+100) -> 125.9887 | Z151: =RANK(W151,$W$3:$W$356,0) -> 134 | AA151: =VLOOKUP(B151,[1]高一上!$B:$G,5,0) -> 76 | AB151: =VLOOKUP(B151,[1]高一上!$B:$G,6,0) -> 刘权芳 | AC151: =IF(OR(AE151=0,AA151=0),100,(((AF151-AD151)/COUNTIF(D:D,D151))*100)+100) -> 103.10734 | AD151: =RANK(AA151,$AA$3:$AA$356,0) -> 226 | AE151: =VLOOKUP(B151,[1]中考!$B:$G,6,0) -> 100 | AF151: =RANK(AE151,AE151:AE504,0) -> 237
A152: 513422200611102911 | B152: G513422200611102911 | C152: 4 | D152: 物理类 | E152: 苟里达 | F152: 473 | G152: 106 | H152: 肖锐 | I152: =IF(OR(G152=0,K152=0),100,(((N152-J152)/COUNTIF(D:D,D152))*100)+100) -> 161.58192 | J152: =RANK(G152,$G$3:$G$356,0) -> 76 | K152: =VLOOKUP(B152,[1]高三上!$B:$H,6,0) -> 83 | L152: =VLOOKUP(B152,[1]高三上!$B:$H,7,0) -> 肖锐 | M152: =IF(OR(O152=0,K152=0),100,(((R152-N152)/COUNTIF(D:D,D152))*100)+100) -> 97.740113 | N152: =RANK(K152,$K$3:$K$356,0) -> 294 | O152: =VLOOKUP(B152,[1]高二下!$B:$H,6,0) -> 80 | P152: =VLOOKUP(B152,[1]高二下!$B:$H,7,0) -> 肖锐 | Q152: =IF(OR(O152=0,S152=0),100,(((V152-R152)/COUNTIF(D:D,D152))*100)+100) -> 68.644068 | R152: =RANK(O152,$O$3:$O$356,0) -> 286 | S152: =VLOOKUP(B152,[1]高二上!$B:$H,6,0) -> 92 | T152: =VLOOKUP(B152,[1]高二上!$B:$H,7,0) -> 肖锐 | U152: =IF(OR(W152=0,S152=0),100,(((Z152-V152)/COUNTIF(D:D,D152))*100)+100) -> 100.56497 | V152: =RANK(S152,$S$3:$S$356,0) -> 175 | W152: =VLOOKUP(B152,[1]高一下!$B:$H,6,0) -> 86 | X152: =VLOOKUP(B152,[1]高一下!$B:$H,7,0) -> 肖锐 | Y152: =IF(OR(W152=0,AA152=0),100,(((AD152-Z152)/COUNTIF(D:D,D152))*100)+100) -> 71.468927 | Z152: =RANK(W152,$W$3:$W$356,0) -> 177 | AA152: =VLOOKUP(B152,[1]高一上!$B:$G,5,0) -> 89 | AB152: =VLOOKUP(B152,[1]高一上!$B:$G,6,0) -> 刘权芳 | AC152: =IF(OR(AE152=0,AA152=0),100,(((AF152-AD152)/COUNTIF(D:D,D152))*100)+100) -> 110.16949 | AD152: =RANK(AA152,$AA$3:$AA$356,0) -> 76 | AE152: =VLOOKUP(B152,[1]中考!$B:$G,6,0) -> 108 | AF152: =RANK(AE152,AE152:AE505,0) -> 112
A153: 513422200402182927 | B153: G513422200402182927 | C153: 4 | D153: 物理类 | E153: 扎史祝玛 | F153: 470 | G153: 89 | H153: 肖锐 | I153: =IF(OR(G153=0,K153=0),100,(((N153-J153)/COUNTIF(D:D,D153))*100)+100) -> 71.468927 | J153: =RANK(G153,$G$3:$G$356,0) -> 302 | K153: =VLOOKUP(B153,[1]高三上!$B:$H,6,0) -> 90 | L153: =VLOOKUP(B153,[1]高三上!$B:$H,7,0) -> 肖锐 | M153: =IF(OR(O153=0,K153=0),100,(((R153-N153)/COUNTIF(D:D,D153))*100)+100) -> 76.553672 | N153: =RANK(K153,$K$3:$K$356,0) -> 201 | O153: =VLOOKUP(B153,[1]高二下!$B:$H,6,0) -> 90 | P153: =VLOOKUP(B153,[1]高二下!$B:$H,7,0) -> 肖锐 | Q153: =IF(OR(O153=0,S153=0),100,(((V153-R153)/COUNTIF(D:D,D153))*100)+100) -> 89.265537 | R153: =RANK(O153,$O$3:$O$356,0) -> 118 | S153: =VLOOKUP(B153,[1]高二上!$B:$H,6,0) -> 99 | T153: =VLOOKUP(B153,[1]高二上!$B:$H,7,0) -> 肖锐 | U153: =IF(OR(W153=0,S153=0),100,(((Z153-V153)/COUNTIF(D:D,D153))*100)+100) -> 131.63842 | V153: =RANK(S153,$S$3:$S$356,0) -> 80 | W153: =VLOOKUP(B153,[1]高一下!$B:$H,6,0) -> 85 | X153: =VLOOKUP(B153,[1]高一下!$B:$H,7,0) -> 肖锐 | Y153: =IF(OR(W153=0,AA153=0),100,(((AD153-Z153)/COUNTIF(D:D,D153))*100)+100) -> 77.966102 | Z153: =RANK(W153,$W$3:$W$356,0) -> 192 | AA153: =VLOOKUP(B153,[1]高一上!$B:$G,5,0) -> 84 | AB153: =VLOOKUP(B153,[1]高一上!$B:$G,6,0) -> 岳子琦 | AC153: =IF(OR(AE153=0,AA153=0),100,(((AF153-AD153)/COUNTIF(D:D,D153))*100)+100) -> 133.05085 | AD153: =RANK(AA153,$AA$3:$AA$356,0) -> 114 | AE153: =VLOOKUP(B153,[1]中考!$B:$G,6,0) -> 101 | AF153: =RANK(AE153,AE153:AE506,0) -> 231
A154: 513422200608242112 | B154: G513422200608242112 | C154: 4 | D154: 物理类 | E154: 马健军 | F154: 470 | G154: 101 | H154: 肖锐 | I154: =IF(OR(G154=0,K154=0),100,(((N154-J154)/COUNTIF(D:D,D154))*100)+100) -> 103.67232 | J154: =RANK(G154,$G$3:$G$356,0) -> 126 | K154: =VLOOKUP(B154,[1]高三上!$B:$H,6,0) -> 95 | L154: =VLOOKUP(B154,[1]高三上!$B:$H,7,0) -> 肖锐 | M154: =IF(OR(O154=0,K154=0),100,(((R154-N154)/COUNTIF(D:D,D154))*100)+100) -> 118.0791 | N154: =RANK(K154,$K$3:$K$356,0) -> 139 | O154: =VLOOKUP(B154,[1]高二下!$B:$H,6,0) -> 85 | P154: =VLOOKUP(B154,[1]高二下!$B:$H,7,0) -> 肖锐 | Q154: =IF(OR(O154=0,S154=0),100,(((V154-R154)/COUNTIF(D:D,D154))*100)+100) -> 103.9548 | R154: =RANK(O154,$O$3:$O$356,0) -> 203 | S154: =VLOOKUP(B154,[1]高二上!$B:$H,6,0) -> 89 | T154: =VLOOKUP(B154,[1]高二上!$B:$H,7,0) -> 肖锐 | U154: =IF(OR(W154=0,S154=0),100,(((Z154-V154)/COUNTIF(D:D,D154))*100)+100) -> 71.751412 | V154: =RANK(S154,$S$3:$S$356,0) -> 217 | W154: =VLOOKUP(B154,[1]高一下!$B:$H,6,0) -> 90 | X154: =VLOOKUP(B154,[1]高一下!$B:$H,7,0) -> 肖锐 | Y154: =IF(OR(W154=0,AA154=0),100,(((AD154-Z154)/COUNTIF(D:D,D154))*100)+100) -> 89.830508 | Z154: =RANK(W154,$W$3:$W$356,0) -> 117 | AA154: =VLOOKUP(B154,[1]高一上!$B:$G,5,0) -> 88 | AB154: =VLOOKUP(B154,[1]高一上!$B:$G,6,0) -> 岳子琦 | AC154: =IF(OR(AE154=0,AA154=0),100,(((AF154-AD154)/COUNTIF(D:D,D154))*100)+100) -> 124.57627 | AD154: =RANK(AA154,$AA$3:$AA$356,0) -> 81 | AE154: =VLOOKUP(B154,[1]中考!$B:$G,6,0) -> 105 | AF154: =RANK(AE154,AE154:AE507,0) -> 168
A155: 513422200611251124 | B155: G513422200611251124 | C155: 4 | D155: 物理类 | E155: 马雪芳 | F155: 469 | G155: 101 | H155: 肖锐 | I155: =IF(OR(G155=0,K155=0),100,(((N155-J155)/COUNTIF(D:D,D155))*100)+100) -> 121.18644 | J155: =RANK(G155,$G$3:$G$356,0) -> 126 | K155: =VLOOKUP(B155,[1]高三上!$B:$H,6,0) -> 90 | L155: =VLOOKUP(B155,[1]高三上!$B:$H,7,0) -> 肖锐 | M155: =IF(OR(O155=0,K155=0),100,(((R155-N155)/COUNTIF(D:D,D155))*100)+100) -> 112.42938 | N155: =RANK(K155,$K$3:$K$356,0) -> 201 | O155: =VLOOKUP(B155,[1]高二下!$B:$H,6,0) -> 83 | P155: =VLOOKUP(B155,[1]高二下!$B:$H,7,0) -> 肖锐 | Q155: =IF(OR(O155=0,S155=0),100,(((V155-R155)/COUNTIF(D:D,D155))*100)+100) -> 92.090395 | R155: =RANK(O155,$O$3:$O$356,0) -> 245 | S155: =VLOOKUP(B155,[1]高二上!$B:$H,6,0) -> 89 | T155: =VLOOKUP(B155,[1]高二上!$B:$H,7,0) -> 肖锐 | U155: =IF(OR(W155=0,S155=0),100,(((Z155-V155)/COUNTIF(D:D,D155))*100)+100) -> 110.45198 | V155: =RANK(S155,$S$3:$S$356,0) -> 217 | W155: =VLOOKUP(B155,[1]高一下!$B:$H,6,0) -> 81 | X155: =VLOOKUP(B155,[1]高一下!$B:$H,7,0) -> 肖锐 | Y155: =IF(OR(W155=0,AA155=0),100,(((AD155-Z155)/COUNTIF(D:D,D155))*100)+100) -> 75.706215 | Z155: =RANK(W155,$W$3:$W$356,0) -> 254 | AA155: =VLOOKUP(B155,[1]高一上!$B:$G,5,0) -> 80 | AB155: =VLOOKUP(B155,[1]高一上!$B:$G,6,0) -> 肖锐 | AC155: =IF(OR(AE155=0,AA155=0),100,(((AF155-AD155)/COUNTIF(D:D,D155))*100)+100) -> 65.819209 | AD155: =RANK(AA155,$AA$3:$AA$356,0) -> 168 | AE155: =VLOOKUP(B155,[1]中考!$B:$G,6,0) -> 114 | AF155: =RANK(AE155,AE155:AE508,0) -> 47
A156: 513422200608232918 | B156: G513422200608232918 | C156: 4 | D156: 物理类 | E156: 韩小芳 | F156: 469 | G156: 108 | H156: 肖锐 | I156: =IF(OR(G156=0,K156=0),100,(((N156-J156)/COUNTIF(D:D,D156))*100)+100) -> 100.84746 | J156: =RANK(G156,$G$3:$G$356,0) -> 53 | K156: =VLOOKUP(B156,[1]高三上!$B:$H,6,0) -> 103 | L156: =VLOOKUP(B156,[1]高三上!$B:$H,7,0) -> 肖锐 | M156: =IF(OR(O156=0,K156=0),100,(((R156-N156)/COUNTIF(D:D,D156))*100)+100) -> 141.52542 | N156: =RANK(K156,$K$3:$K$356,0) -> 56 | O156: =VLOOKUP(B156,[1]高二下!$B:$H,6,0) -> 85 | P156: =VLOOKUP(B156,[1]高二下!$B:$H,7,0) -> 肖锐 | Q156: =IF(OR(O156=0,S156=0),100,(((V156-R156)/COUNTIF(D:D,D156))*100)+100) -> 92.090395 | R156: =RANK(O156,$O$3:$O$356,0) -> 203 | S156: =VLOOKUP(B156,[1]高二上!$B:$H,6,0) -> 92 | T156: =VLOOKUP(B156,[1]高二上!$B:$H,7,0) -> 肖锐 | U156: =IF(OR(W156=0,S156=0),100,(((Z156-V156)/COUNTIF(D:D,D156))*100)+100) -> 95.762712 | V156: =RANK(S156,$S$3:$S$356,0) -> 175 | W156: =VLOOKUP(B156,[1]高一下!$B:$H,6,0) -> 87 | X156: =VLOOKUP(B156,[1]高一下!$B:$H,7,0) -> 肖锐 | Y156: =IF(OR(W156=0,AA156=0),100,(((AD156-Z156)/COUNTIF(D:D,D156))*100)+100) -> 92.937853 | Z156: =RANK(W156,$W$3:$W$356,0) -> 160 | AA156: =VLOOKUP(B156,[1]高一上!$B:$G,5,0) -> 82 | AB156: =VLOOKUP(B156,[1]高一上!$B:$G,6,0) -> 岳子琦 | AC156: =IF(OR(AE156=0,AA156=0),100,(((AF156-AD156)/COUNTIF(D:D,D156))*100)+100) -> 109.32203 | AD156: =RANK(AA156,$AA$3:$AA$356,0) -> 135 | AE156: =VLOOKUP(B156,[1]中考!$B:$G,6,0) -> 105 | AF156: =RANK(AE156,AE156:AE509,0) -> 168
A157: 513422200702085424 | B157: G513422200702085424 | C157: 4 | D157: 物理类 | E157: 次尔央宗 | F157: 469 | G157: 100 | H157: 肖锐 | I157: =IF(OR(G157=0,K157=0),100,(((N157-J157)/COUNTIF(D:D,D157))*100)+100) -> 125.42373 | J157: =RANK(G157,$G$3:$G$356,0) -> 141 | K157: =VLOOKUP(B157,[1]高三上!$B:$H,6,0) -> 88 | L157: =VLOOKUP(B157,[1]高三上!$B:$H,7,0) -> 肖锐 | M157: =IF(OR(O157=0,K157=0),100,(((R157-N157)/COUNTIF(D:D,D157))*100)+100) -> 64.124294 | N157: =RANK(K157,$K$3:$K$356,0) -> 231 | O157: =VLOOKUP(B157,[1]高二下!$B:$H,6,0) -> 91 | P157: =VLOOKUP(B157,[1]高二下!$B:$H,7,0) -> 肖锐 | Q157: =IF(OR(O157=0,S157=0),100,(((V157-R157)/COUNTIF(D:D,D157))*100)+100) -> 107.9096 | R157: =RANK(O157,$O$3:$O$356,0) -> 104 | S157: =VLOOKUP(B157,[1]高二上!$B:$H,6,0) -> 95 | T157: =VLOOKUP(B157,[1]高二上!$B:$H,7,0) -> 肖锐 | U157: =IF(OR(W157=0,S157=0),100,(((Z157-V157)/COUNTIF(D:D,D157))*100)+100) -> 107.9096 | V157: =RANK(S157,$S$3:$S$356,0) -> 132 | W157: =VLOOKUP(B157,[1]高一下!$B:$H,6,0) -> 87 | X157: =VLOOKUP(B157,[1]高一下!$B:$H,7,0) -> 肖锐 | Y157: =IF(OR(W157=0,AA157=0),100,(((AD157-Z157)/COUNTIF(D:D,D157))*100)+100) -> 77.683616 | Z157: =RANK(W157,$W$3:$W$356,0) -> 160 | AA157: =VLOOKUP(B157,[1]高一上!$B:$G,5,0) -> 88 | AB157: =VLOOKUP(B157,[1]高一上!$B:$G,6,0) -> 易涛 | AC157: =IF(OR(AE157=0,AA157=0),100,(((AF157-AD157)/COUNTIF(D:D,D157))*100)+100) -> 86.440678 | AD157: =RANK(AA157,$AA$3:$AA$356,0) -> 81 | AE157: =VLOOKUP(B157,[1]中考!$B:$G,6,0) -> 116 | AF157: =RANK(AE157,AE157:AE510,0) -> 33
A158: 513422200706042528 | B158: G513422200706042528 | C158: 4 | D158: 物理类 | E158: 陶梦花 | F158: 468 | G158: 92 | H158: 肖锐 | I158: =IF(OR(G158=0,K158=0),100,(((N158-J158)/COUNTIF(D:D,D158))*100)+100) -> 47.457627 | J158: =RANK(G158,$G$3:$G$356,0) -> 265 | K158: =VLOOKUP(B158,[1]高三上!$B:$H,6,0) -> 101 | L158: =VLOOKUP(B158,[1]高三上!$B:$H,7,0) -> 肖锐 | M158: =IF(OR(O158=0,K158=0),100,(((R158-N158)/COUNTIF(D:D,D158))*100)+100) -> 114.97175 | N158: =RANK(K158,$K$3:$K$356,0) -> 79 | O158: =VLOOKUP(B158,[1]高二下!$B:$H,6,0) -> 89 | P158: =VLOOKUP(B158,[1]高二下!$B:$H,7,0) -> 肖锐 | Q158: =IF(OR(O158=0,S158=0),100,(((V158-R158)/COUNTIF(D:D,D158))*100)+100) -> 120.62147 | R158: =RANK(O158,$O$3:$O$356,0) -> 132 | S158: =VLOOKUP(B158,[1]高二上!$B:$H,6,0) -> 90 | T158: =VLOOKUP(B158,[1]高二上!$B:$H,7,0) -> 肖锐 | U158: =IF(OR(W158=0,S158=0),100,(((Z158-V158)/COUNTIF(D:D,D158))*100)+100) -> 96.327684 | V158: =RANK(S158,$S$3:$S$356,0) -> 205 | W158: =VLOOKUP(B158,[1]高一下!$B:$H,6,0) -> 85 | X158: =VLOOKUP(B158,[1]高一下!$B:$H,7,0) -> 肖锐 | Y158: =IF(OR(W158=0,AA158=0),100,(((AD158-Z158)/COUNTIF(D:D,D158))*100)+100) -> 68.644068 | Z158: =RANK(W158,$W$3:$W$356,0) -> 192 | AA158: =VLOOKUP(B158,[1]高一上!$B:$G,5,0) -> 88 | AB158: =VLOOKUP(B158,[1]高一上!$B:$G,6,0) -> 肖锐 | AC158: =IF(OR(AE158=0,AA158=0),100,(((AF158-AD158)/COUNTIF(D:D,D158))*100)+100) -> 118.0791 | AD158: =RANK(AA158,$AA$3:$AA$356,0) -> 81 | AE158: =VLOOKUP(B158,[1]中考!$B:$G,6,0) -> 106 | AF158: =RANK(AE158,AE158:AE511,0) -> 145
A159: 513422200607031727 | B159: G513422200607031727 | C159: 4 | D159: 物理类 | E159: 兰小群 | F159: 467 | G159: 98 | H159: 肖锐 | I159: =IF(OR(G159=0,K159=0),100,(((N159-J159)/COUNTIF(D:D,D159))*100)+100) -> 101.9774 | J159: =RANK(G159,$G$3:$G$356,0) -> 182 | K159: =VLOOKUP(B159,[1]高三上!$B:$H,6,0) -> 91 | L159: =VLOOKUP(B159,[1]高三上!$B:$H,7,0) -> 肖锐 | M159: =IF(OR(O159=0,K159=0),100,(((R159-N159)/COUNTIF(D:D,D159))*100)+100) -> 70.621469 | N159: =RANK(K159,$K$3:$K$356,0) -> 189 | O159: =VLOOKUP(B159,[1]高二下!$B:$H,6,0) -> 92 | P159: =VLOOKUP(B159,[1]高二下!$B:$H,7,0) -> 肖锐 | Q159: =IF(OR(O159=0,S159=0),100,(((V159-R159)/COUNTIF(D:D,D159))*100)+100) -> 137.28814 | R159: =RANK(O159,$O$3:$O$356,0) -> 85 | S159: =VLOOKUP(B159,[1]高二上!$B:$H,6,0) -> 89 | T159: =VLOOKUP(B159,[1]高二上!$B:$H,7,0) -> 肖锐 | U159: =IF(OR(W159=0,S159=0),100,(((Z159-V159)/COUNTIF(D:D,D159))*100)+100) -> 79.378531 | V159: =RANK(S159,$S$3:$S$356,0) -> 217 | W159: =VLOOKUP(B159,[1]高一下!$B:$H,6,0) -> 88 | X159: =VLOOKUP(B159,[1]高一下!$B:$H,7,0) -> 肖锐 | Y159: =IF(OR(W159=0,AA159=0),100,(((AD159-Z159)/COUNTIF(D:D,D159))*100)+100) -> 123.16384 | Z159: =RANK(W159,$W$3:$W$356,0) -> 144 | AA159: =VLOOKUP(B159,[1]高一上!$B:$G,5,0) -> 76 | AB159: =VLOOKUP(B159,[1]高一上!$B:$G,6,0) -> 刘权芳 | AC159: =IF(OR(AE159=0,AA159=0),100,(((AF159-AD159)/COUNTIF(D:D,D159))*100)+100) -> 56.779661 | AD159: =RANK(AA159,$AA$3:$AA$356,0) -> 226 | AE159: =VLOOKUP(B159,[1]中考!$B:$G,6,0) -> 111 | AF159: =RANK(AE159,AE159:AE512,0) -> 73
A160: 513422200712086818 | B160: G513422200712086818 | C160: 4 | D160: 物理类 | E160: 沈克古 | F160: 466 | G160: 112 | H160: 肖锐 | I160: =IF(OR(G160=0,K160=0),100,(((N160-J160)/COUNTIF(D:D,D160))*100)+100) -> 109.03955 | J160: =RANK(G160,$G$3:$G$356,0) -> 24 | K160: =VLOOKUP(B160,[1]高三上!$B:$H,6,0) -> 103 | L160: =VLOOKUP(B160,[1]高三上!$B:$H,7,0) -> 肖锐 | M160: =IF(OR(O160=0,K160=0),100,(((R160-N160)/COUNTIF(D:D,D160))*100)+100) -> 158.19209 | N160: =RANK(K160,$K$3:$K$356,0) -> 56 | O160: =VLOOKUP(B160,[1]高二下!$B:$H,6,0) -> 82 | P160: =VLOOKUP(B160,[1]高二下!$B:$H,7,0) -> 肖锐 | Q160: =IF(OR(O160=0,S160=0),100,(((V160-R160)/COUNTIF(D:D,D160))*100)+100) -> 68.644068 | R160: =RANK(O160,$O$3:$O$356,0) -> 262 | S160: =VLOOKUP(B160,[1]高二上!$B:$H,6,0) -> 94 | T160: =VLOOKUP(B160,[1]高二上!$B:$H,7,0) -> 肖锐 | U160: =IF(OR(W160=0,S160=0),100,(((Z160-V160)/COUNTIF(D:D,D160))*100)+100) -> 98.022599 | V160: =RANK(S160,$S$3:$S$356,0) -> 151 | W160: =VLOOKUP(B160,[1]高一下!$B:$H,6,0) -> 88 | X160: =VLOOKUP(B160,[1]高一下!$B:$H,7,0) -> 肖锐 | Y160: =IF(OR(W160=0,AA160=0),100,(((AD160-Z160)/COUNTIF(D:D,D160))*100)+100) -> 87.288136 | Z160: =RANK(W160,$W$3:$W$356,0) -> 144 | AA160: =VLOOKUP(B160,[1]高一上!$B:$G,5,0) -> 86 | AB160: =VLOOKUP(B160,[1]高一上!$B:$G,6,0) -> 岳子琦 | AC160: =IF(OR(AE160=0,AA160=0),100,(((AF160-AD160)/COUNTIF(D:D,D160))*100)+100) -> 85.028249 | AD160: =RANK(AA160,$AA$3:$AA$356,0) -> 99 | AE160: =VLOOKUP(B160,[1]中考!$B:$G,6,0) -> 114 | AF160: =RANK(AE160,AE160:AE513,0) -> 46
A161: 513422200704230920 | B161: G513422200704230920 | C161: 4 | D161: 物理类 | E161: 王龙芳 | F161: 465 | G161: 105 | H161: 肖锐 | I161: =IF(OR(G161=0,K161=0),100,(((N161-J161)/COUNTIF(D:D,D161))*100)+100) -> 103.67232 | J161: =RANK(G161,$G$3:$G$356,0) -> 82 | K161: =VLOOKUP(B161,[1]高三上!$B:$H,6,0) -> 100 | L161: =VLOOKUP(B161,[1]高三上!$B:$H,7,0) -> 肖锐 | M161: =IF(OR(O161=0,K161=0),100,(((R161-N161)/COUNTIF(D:D,D161))*100)+100) -> 125.70621 | N161: =RANK(K161,$K$3:$K$356,0) -> 95 | O161: =VLOOKUP(B161,[1]高二下!$B:$H,6,0) -> 86 | P161: =VLOOKUP(B161,[1]高二下!$B:$H,7,0) -> 肖锐 | Q161: =IF(OR(O161=0,S161=0),100,(((V161-R161)/COUNTIF(D:D,D161))*100)+100) -> 115.25424 | R161: =RANK(O161,$O$3:$O$356,0) -> 186 | S161: =VLOOKUP(B161,[1]高二上!$B:$H,6,0) -> 87 | T161: =VLOOKUP(B161,[1]高二上!$B:$H,7,0) -> 肖锐 | U161: =IF(OR(W161=0,S161=0),100,(((Z161-V161)/COUNTIF(D:D,D161))*100)+100) -> 77.40113 | V161: =RANK(S161,$S$3:$S$356,0) -> 240 | W161: =VLOOKUP(B161,[1]高一下!$B:$H,6,0) -> 87 | X161: =VLOOKUP(B161,[1]高一下!$B:$H,7,0) -> 肖锐 | Y161: =IF(OR(W161=0,AA161=0),100,(((AD161-Z161)/COUNTIF(D:D,D161))*100)+100) -> 114.97175 | Z161: =RANK(W161,$W$3:$W$356,0) -> 160 | AA161: =VLOOKUP(B161,[1]高一上!$B:$G,5,0) -> 77 | AB161: =VLOOKUP(B161,[1]高一上!$B:$G,6,0) -> 肖锐 | AC161: =IF(OR(AE161=0,AA161=0),100,(((AF161-AD161)/COUNTIF(D:D,D161))*100)+100) -> 130.79096 | AD161: =RANK(AA161,$AA$3:$AA$356,0) -> 213 | AE161: =VLOOKUP(B161,[1]中考!$B:$G,6,0) -> 89 | AF161: =RANK(AE161,AE161:AE514,0) -> 322
A162: 513422200705063626 | B162: G513422200705063626 | C162: 4 | D162: 物理类 | E162: 杜基祝玛 | F162: 463 | G162: 108 | H162: 肖锐 | I162: =IF(OR(G162=0,K162=0),100,(((N162-J162)/COUNTIF(D:D,D162))*100)+100) -> 138.41808 | J162: =RANK(G162,$G$3:$G$356,0) -> 53 | K162: =VLOOKUP(B162,[1]高三上!$B:$H,6,0) -> 91 | L162: =VLOOKUP(B162,[1]高三上!$B:$H,7,0) -> 肖锐 | M162: =IF(OR(O162=0,K162=0),100,(((R162-N162)/COUNTIF(D:D,D162))*100)+100) -> 111.86441 | N162: =RANK(K162,$K$3:$K$356,0) -> 189 | O162: =VLOOKUP(B162,[1]高二下!$B:$H,6,0) -> 84 | P162: =VLOOKUP(B162,[1]高二下!$B:$H,7,0) -> 肖锐 | Q162: =IF(OR(O162=0,S162=0),100,(((V162-R162)/COUNTIF(D:D,D162))*100)+100) -> 40.112994 | R162: =RANK(O162,$O$3:$O$356,0) -> 231 | S162: =VLOOKUP(B162,[1]高二上!$B:$H,6,0) -> 108 | T162: =VLOOKUP(B162,[1]高二上!$B:$H,7,0) -> 肖锐 | U162: =IF(OR(W162=0,S162=0),100,(((Z162-V162)/COUNTIF(D:D,D162))*100)+100) -> 127.68362 | V162: =RANK(S162,$S$3:$S$356,0) -> 19 | W162: =VLOOKUP(B162,[1]高一下!$B:$H,6,0) -> 90 | X162: =VLOOKUP(B162,[1]高一下!$B:$H,7,0) -> 肖锐 | Y162: =IF(OR(W162=0,AA162=0),100,(((AD162-Z162)/COUNTIF(D:D,D162))*100)+100) -> 75.423729 | Z162: =RANK(W162,$W$3:$W$356,0) -> 117 | AA162: =VLOOKUP(B162,[1]高一上!$B:$G,5,0) -> 96 | AB162: =VLOOKUP(B162,[1]高一上!$B:$G,6,0) -> 刘权芳 | AC162: =IF(OR(AE162=0,AA162=0),100,(((AF162-AD162)/COUNTIF(D:D,D162))*100)+100) -> 118.64407 | AD162: =RANK(AA162,$AA$3:$AA$356,0) -> 30 | AE162: =VLOOKUP(B162,[1]中考!$B:$G,6,0) -> 109 | AF162: =RANK(AE162,AE162:AE515,0) -> 96
A163: 513422200611302518 | B163: G513422200611302518 | C163: 4 | D163: 物理类 | E163: 扎西旦珠 | F163: 462 | G163: 101 | H163: 肖锐 | I163: =IF(OR(G163=0,K163=0),100,(((N163-J163)/COUNTIF(D:D,D163))*100)+100) -> 84.180791 | J163: =RANK(G163,$G$3:$G$356,0) -> 126 | K163: =VLOOKUP(B163,[1]高三上!$B:$H,6,0) -> 102 | L163: =VLOOKUP(B163,[1]高三上!$B:$H,7,0) -> 肖锐 | M163: =IF(OR(O163=0,K163=0),100,(((R163-N163)/COUNTIF(D:D,D163))*100)+100) -> 149.43503 | N163: =RANK(K163,$K$3:$K$356,0) -> 70 | O163: =VLOOKUP(B163,[1]高二下!$B:$H,6,0) -> 83 | P163: =VLOOKUP(B163,[1]高二下!$B:$H,7,0) -> 肖锐 | Q163: =IF(OR(O163=0,S163=0),100,(((V163-R163)/COUNTIF(D:D,D163))*100)+100) -> 41.525424 | R163: =RANK(O163,$O$3:$O$356,0) -> 245 | S163: =VLOOKUP(B163,[1]高二上!$B:$H,6,0) -> 104 | T163: =VLOOKUP(B163,[1]高二上!$B:$H,7,0) -> 肖锐 | U163: =IF(OR(W163=0,S163=0),100,(((Z163-V163)/COUNTIF(D:D,D163))*100)+100) -> 134.46328 | V163: =RANK(S163,$S$3:$S$356,0) -> 38 | W163: =VLOOKUP(B163,[1]高一下!$B:$H,6,0) -> 87 | X163: =VLOOKUP(B163,[1]高一下!$B:$H,7,0) -> 肖锐 | Y163: =IF(OR(W163=0,AA163=0),100,(((AD163-Z163)/COUNTIF(D:D,D163))*100)+100) -> 131.63842 | Z163: =RANK(W163,$W$3:$W$356,0) -> 160 | AA163: =VLOOKUP(B163,[1]高一上!$B:$G,5,0) -> 73 | AB163: =VLOOKUP(B163,[1]高一上!$B:$G,6,0) -> 刘权芳 | AC163: =IF(OR(AE163=0,AA163=0),100,(((AF163-AD163)/COUNTIF(D:D,D163))*100)+100) -> 40.677966 | AD163: =RANK(AA163,$AA$3:$AA$356,0) -> 272 | AE163: =VLOOKUP(B163,[1]中考!$B:$G,6,0) -> 112 | AF163: =RANK(AE163,AE163:AE516,0) -> 62
... A178: 513422200605015627 | B178: G513422200605015627 | C178: 4 | D178: 物理类 | E178: 格绒拉姆 | F178: 420 | G178: 101 | H178: 肖锐 | I178: =IF(OR(G178=0,K178=0),100,(((N178-J178)/COUNTIF(D:D,D178))*100)+100) -> 101.12994 | J178: =RANK(G178,$G$3:$G$356,0) -> 126 | K178: =VLOOKUP(B178,[1]高三上!$B:$H,6,0) -> 96 | L178: =VLOOKUP(B178,[1]高三上!$B:$H,7,0) -> 肖锐 | M178: =IF(OR(O178=0,K178=0),100,(((R178-N178)/COUNTIF(D:D,D178))*100)+100) -> 120.62147 | N178: =RANK(K178,$K$3:$K$356,0) -> 130 | O178: =VLOOKUP(B178,[1]高二下!$B:$H,6,0) -> 85 | P178: =VLOOKUP(B178,[1]高二下!$B:$H,7,0) -> 肖锐 | Q178: =IF(OR(O178=0,S178=0),100,(((V178-R178)/COUNTIF(D:D,D178))*100)+100) -> 97.175141 | R178: =RANK(O178,$O$3:$O$356,0) -> 203 | S178: =VLOOKUP(B178,[1]高二上!$B:$H,6,0) -> 91 | T178: =VLOOKUP(B178,[1]高二上!$B:$H,7,0) -> 肖锐 | U178: =IF(OR(W178=0,S178=0),100,(((Z178-V178)/COUNTIF(D:D,D178))*100)+100) -> 62.99435 | V178: =RANK(S178,$S$3:$S$356,0) -> 193 | W178: =VLOOKUP(B178,[1]高一下!$B:$H,6,0) -> 94 | X178: =VLOOKUP(B178,[1]高一下!$B:$H,7,0) -> 肖锐 | Y178: =IF(OR(W178=0,AA178=0),100,(((AD178-Z178)/COUNTIF(D:D,D178))*100)+100) -> 110.45198 | Z178: =RANK(W178,$W$3:$W$356,0) -> 62 | AA178: =VLOOKUP(B178,[1]高一上!$B:$G,5,0) -> 86 | AB178: =VLOOKUP(B178,[1]高一上!$B:$G,6,0) -> 陈光汇 | AC178: =IF(OR(AE178=0,AA178=0),100,(((AF178-AD178)/COUNTIF(D:D,D178))*100)+100) -> 96.327684 | AD178: =RANK(AA178,$AA$3:$AA$356,0) -> 99 | AE178: =VLOOKUP(B178,[1]中考!$B:$G,6,0) -> 110 | AF178: =RANK(AE178,AE178:AE531,0) -> 86
A179: 513422200610080028 | B179: G513422200610080028 | C179: 4 | D179: 物理类 | E179: 卓雅 | F179: 415 | G179: 91 | H179: 肖锐 | I179: =IF(OR(G179=0,K179=0),100,(((N179-J179)/COUNTIF(D:D,D179))*100)+100) -> 100 | J179: =RANK(G179,$G$3:$G$356,0) -> 274 | K179: 0 | L179: =H179 -> 肖锐 | M179: =IF(OR(O179=0,K179=0),100,(((R179-N179)/COUNTIF(D:D,D179))*100)+100) -> 100 | N179: =RANK(K179,$K$3:$K$356,0) -> 344 | O179: =VLOOKUP(B179,[1]高二下!$B:$H,6,0) -> 77 | P179: =H179 -> 肖锐 | Q179: =IF(OR(O179=0,S179=0),100,(((V179-R179)/COUNTIF(D:D,D179))*100)+100) -> 85.875706 | R179: =RANK(O179,$O$3:$O$356,0) -> 313 | S179: =VLOOKUP(B179,[1]高二上!$B:$H,6,0) -> 85 | T179: =VLOOKUP(B179,[1]高二上!$B:$H,7,0) -> 肖锐 | U179: =IF(OR(W179=0,S179=0),100,(((Z179-V179)/COUNTIF(D:D,D179))*100)+100) -> 55.367232 | V179: =RANK(S179,$S$3:$S$356,0) -> 263 | W179: =VLOOKUP(B179,[1]高一下!$B:$H,6,0) -> 91 | X179: =VLOOKUP(B179,[1]高一下!$B:$H,7,0) -> 肖锐 | Y179: =IF(OR(W179=0,AA179=0),100,(((AD179-Z179)/COUNTIF(D:D,D179))*100)+100) -> 113.55932 | Z179: =RANK(W179,$W$3:$W$356,0) -> 105 | AA179: =VLOOKUP(B179,[1]高一上!$B:$G,5,0) -> 81 | AB179: =VLOOKUP(B179,[1]高一上!$B:$G,6,0) -> 刘权芳 | AC179: =IF(OR(AE179=0,AA179=0),100,(((AF179-AD179)/COUNTIF(D:D,D179))*100)+100) -> 125.9887 | AD179: =RANK(AA179,$AA$3:$AA$356,0) -> 153 | AE179: =VLOOKUP(B179,[1]中考!$B:$G,6,0) -> 99 | AF179: =RANK(AE179,AE179:AE532,0) -> 245
A180: 513422200604114228 | B180: G513422200604114228 | C180: 4 | D180: 物理类 | E180: 帮志美 | F180: 398 | G180: 102 | H180: 肖锐 | I180: =IF(OR(G180=0,K180=0),100,(((N180-J180)/COUNTIF(D:D,D180))*100)+100) -> 162.71186 | J180: =RANK(G180,$G$3:$G$356,0) -> 114 | K180: =VLOOKUP(B180,[1]高三上!$B:$H,6,0) -> 73 | L180: =VLOOKUP(B180,[1]高三上!$B:$H,7,0) -> 肖锐 | M180: =IF(OR(O180=0,K180=0),100,(((R180-N180)/COUNTIF(D:D,D180))*100)+100) -> 18.361582 | N180: =RANK(K180,$K$3:$K$356,0) -> 336 | O180: =VLOOKUP(B180,[1]高二下!$B:$H,6,0) -> 95 | P180: =VLOOKUP(B180,[1]高二下!$B:$H,7,0) -> 肖锐 | Q180: =IF(OR(O180=0,S180=0),100,(((V180-R180)/COUNTIF(D:D,D180))*100)+100) -> 132.20339 | R180: =RANK(O180,$O$3:$O$356,0) -> 47 | S180: =VLOOKUP(B180,[1]高二上!$B:$H,6,0) -> 93 | T180: =VLOOKUP(B180,[1]高二上!$B:$H,7,0) -> 肖锐 | U180: =IF(OR(W180=0,S180=0),100,(((Z180-V180)/COUNTIF(D:D,D180))*100)+100) -> 114.12429 | V180: =RANK(S180,$S$3:$S$356,0) -> 161 | W180: =VLOOKUP(B180,[1]高一下!$B:$H,6,0) -> 84 | X180: =VLOOKUP(B180,[1]高一下!$B:$H,7,0) -> 肖锐 | Y180: =IF(OR(W180=0,AA180=0),100,(((AD180-Z180)/COUNTIF(D:D,D180))*100)+100) -> 72.59887 | Z180: =RANK(W180,$W$3:$W$356,0) -> 211 | AA180: =VLOOKUP(B180,[1]高一上!$B:$G,5,0) -> 84 | AB180: =VLOOKUP(B180,[1]高一上!$B:$G,6,0) -> 刘权芳 | AC180: =IF(OR(AE180=0,AA180=0),100,(((AF180-AD180)/COUNTIF(D:D,D180))*100)+100) -> 116.94915 | AD180: =RANK(AA180,$AA$3:$AA$356,0) -> 114 | AE180: =VLOOKUP(B180,[1]中考!$B:$G,6,0) -> 104 | AF180: =RANK(AE180,AE180:AE533,0) -> 174
A181: 513422200603032714 | B181: G513422200603032714 | C181: 4 | D181: 物理类 | E181: 张安平 | F181: 397 | G181: 100 | H181: 肖锐 | I181: =IF(OR(G181=0,K181=0),100,(((N181-J181)/COUNTIF(D:D,D181))*100)+100) -> 96.892655 | J181: =RANK(G181,$G$3:$G$356,0) -> 141 | K181: =VLOOKUP(B181,[1]高三上!$B:$H,6,0) -> 96 | L181: =VLOOKUP(B181,[1]高三上!$B:$H,7,0) -> 肖锐 | M181: =IF(OR(O181=0,K181=0),100,(((R181-N181)/COUNTIF(D:D,D181))*100)+100) -> 100 | N181: =RANK(K181,$K$3:$K$356,0) -> 130 | O181: 0 | P181: 肖锐 | Q181: =IF(OR(O181=0,S181=0),100,(((V181-R181)/COUNTIF(D:D,D181))*100)+100) -> 100 | R181: =RANK(O181,$O$3:$O$356,0) -> 348 | S181: =VLOOKUP(B181,[1]高二上!$B:$H,6,0) -> 93 | T181: =VLOOKUP(B181,[1]高二上!$B:$H,7,0) -> 肖锐 | U181: =IF(OR(W181=0,S181=0),100,(((Z181-V181)/COUNTIF(D:D,D181))*100)+100) -> 95.19774 | V181: =RANK(S181,$S$3:$S$356,0) -> 161 | W181: =VLOOKUP(B181,[1]高一下!$B:$H,6,0) -> 88 | X181: =VLOOKUP(B181,[1]高一下!$B:$H,7,0) -> 肖锐 | Y181: =IF(OR(W181=0,AA181=0),100,(((AD181-Z181)/COUNTIF(D:D,D181))*100)+100) -> 91.525424 | Z181: =RANK(W181,$W$3:$W$356,0) -> 144 | AA181: =VLOOKUP(B181,[1]高一上!$B:$G,5,0) -> 84 | AB181: =VLOOKUP(B181,[1]高一上!$B:$G,6,0) -> 易涛 | AC181: =IF(OR(AE181=0,AA181=0),100,(((AF181-AD181)/COUNTIF(D:D,D181))*100)+100) -> 132.76836 | AD181: =RANK(AA181,$AA$3:$AA$356,0) -> 114 | AE181: =VLOOKUP(B181,[1]中考!$B:$G,6,0) -> 100 | AF181: =RANK(AE181,AE181:AE534,0) -> 230
A182: 513422200404261725 | B182: G513422200404261725 | C182: 4 | D182: 物理类 | E182: 米小春 | F182: 391 | G182: 88 | H182: 肖锐 | I182: =IF(OR(G182=0,K182=0),100,(((N182-J182)/COUNTIF(D:D,D182))*100)+100) -> 81.073446 | J182: =RANK(G182,$G$3:$G$356,0) -> 314 | K182: =VLOOKUP(B182,[1]高三上!$B:$H,6,0) -> 87 | L182: =VLOOKUP(B182,[1]高三上!$B:$H,7,0) -> 肖锐 | M182: =IF(OR(O182=0,K182=0),100,(((R182-N182)/COUNTIF(D:D,D182))*100)+100) -> 40.677966 | N182: =RANK(K182,$K$3:$K$356,0) -> 247 | O182: =VLOOKUP(B182,[1]高二下!$B:$H,6,0) -> 96 | P182: =VLOOKUP(B182,[1]高二下!$B:$H,7,0) -> 肖锐 | Q182: =IF(OR(O182=0,S182=0),100,(((V182-R182)/COUNTIF(D:D,D182))*100)+100) -> 123.44633 | R182: =RANK(O182,$O$3:$O$356,0) -> 37 | S182: =VLOOKUP(B182,[1]高二上!$B:$H,6,0) -> 96 | T182: =VLOOKUP(B182,[1]高二上!$B:$H,7,0) -> 肖锐 | U182: =IF(OR(W182=0,S182=0),100,(((Z182-V182)/COUNTIF(D:D,D182))*100)+100) -> 95.762712 | V182: =RANK(S182,$S$3:$S$356,0) -> 120 | W182: =VLOOKUP(B182,[1]高一下!$B:$H,6,0) -> 91 | X182: =VLOOKUP(B182,[1]高一下!$B:$H,7,0) -> 肖锐 | Y182: =IF(OR(W182=0,AA182=0),100,(((AD182-Z182)/COUNTIF(D:D,D182))*100)+100) -> 130.50847 | Z182: =RANK(W182,$W$3:$W$356,0) -> 105 | AA182: =VLOOKUP(B182,[1]高一上!$B:$G,5,0) -> 77 | AB182: =VLOOKUP(B182,[1]高一上!$B:$G,6,0) -> 岳子琦 | AC182: =IF(OR(AE182=0,AA182=0),100,(((AF182-AD182)/COUNTIF(D:D,D182))*100)+100) -> 89.265537 | AD182: =RANK(AA182,$AA$3:$AA$356,0) -> 213 | AE182: =VLOOKUP(B182,[1]中考!$B:$G,6,0) -> 104 | AF182: =RANK(AE182,AE182:AE535,0) -> 175
A183: 513422200611177016 | B183: G513422200611177016 | C183: 4 | D183: 物理类 | E183: 鲁绒次真 | F183: 389 | G183: 99 | H183: 肖锐 | I183: =IF(OR(G183=0,K183=0),100,(((N183-J183)/COUNTIF(D:D,D183))*100)+100) -> 150.56497 | J183: =RANK(G183,$G$3:$G$356,0) -> 158 | K183: =VLOOKUP(B183,[1]高三上!$B:$H,6,0) -> 72 | L183: =VLOOKUP(B183,[1]高三上!$B:$H,7,0) -> 肖锐 | M183: =IF(OR(O183=0,K183=0),100,(((R183-N183)/COUNTIF(D:D,D183))*100)+100) -> 97.457627 | N183: =RANK(K183,$K$3:$K$356,0) -> 337 | O183: =VLOOKUP(B183,[1]高二下!$B:$H,6,0) -> 72 | P183: =VLOOKUP(B183,[1]高二下!$B:$H,7,0) -> 肖锐 | Q183: =IF(OR(O183=0,S183=0),100,(((V183-R183)/COUNTIF(D:D,D183))*100)+100) -> 77.966102 | R183: =RANK(O183,$O$3:$O$356,0) -> 328 | S183: =VLOOKUP(B183,[1]高二上!$B:$H,6,0) -> 86 | T183: =VLOOKUP(B183,[1]高二上!$B:$H,7,0) -> 肖锐 | U183: =IF(OR(W183=0,S183=0),100,(((Z183-V183)/COUNTIF(D:D,D183))*100)+100) -> 118.0791 | V183: =RANK(S183,$S$3:$S$356,0) -> 250 | W183: =VLOOKUP(B183,[1]高一下!$B:$H,6,0) -> 74 | X183: =VLOOKUP(B183,[1]高一下!$B:$H,7,0) -> 肖锐 | Y183: =IF(OR(W183=0,AA183=0),100,(((AD183-Z183)/COUNTIF(D:D,D183))*100)+100) -> 63.276836 | Z183: =RANK(W183,$W$3:$W$356,0) -> 314 | AA183: =VLOOKUP(B183,[1]高一上!$B:$G,5,0) -> 79 | AB183: =VLOOKUP(B183,[1]高一上!$B:$G,6,0) -> 杨翁基之玛 | AC183: =IF(OR(AE183=0,AA183=0),100,(((AF183-AD183)/COUNTIF(D:D,D183))*100)+100) -> 136.44068 | AD183: =RANK(AA183,$AA$3:$AA$356,0) -> 184 | AE183: =VLOOKUP(B183,[1]中考!$B:$G,6,0) -> 90 | AF183: =RANK(AE183,AE183:AE536,0) -> 313
A184: 513422200604074414 | B184: G513422200604074414 | C184: 4 | D184: 物理类 | E184: 李海龙 | F184: 381 | G184: 99 | H184: 肖锐 | I184: =IF(OR(G184=0,K184=0),100,(((N184-J184)/COUNTIF(D:D,D184))*100)+100) -> 140.96045 | J184: =RANK(G184,$G$3:$G$356,0) -> 158 | K184: =VLOOKUP(B184,[1]高三上!$B:$H,6,0) -> 82 | L184: =VLOOKUP(B184,[1]高三上!$B:$H,7,0) -> 肖锐 | M184: =IF(OR(O184=0,K184=0),100,(((R184-N184)/COUNTIF(D:D,D184))*100)+100) -> 61.581921 | N184: =RANK(K184,$K$3:$K$356,0) -> 303 | O184: =VLOOKUP(B184,[1]高二下!$B:$H,6,0) -> 87 | P184: =VLOOKUP(B184,[1]高二下!$B:$H,7,0) -> 肖锐 | Q184: =IF(OR(O184=0,S184=0),100,(((V184-R184)/COUNTIF(D:D,D184))*100)+100) -> 102.25989 | R184: =RANK(O184,$O$3:$O$356,0) -> 167 | S184: =VLOOKUP(B184,[1]高二上!$B:$H,6,0) -> 92 | T184: =VLOOKUP(B184,[1]高二上!$B:$H,7,0) -> 肖锐 | U184: =IF(OR(W184=0,S184=0),100,(((Z184-V184)/COUNTIF(D:D,D184))*100)+100) -> 91.242938 | V184: =RANK(S184,$S$3:$S$356,0) -> 175 | W184: =VLOOKUP(B184,[1]高一下!$B:$H,6,0) -> 88 | X184: =VLOOKUP(B184,[1]高一下!$B:$H,7,0) -> 肖锐 | Y184: =IF(OR(W184=0,AA184=0),100,(((AD184-Z184)/COUNTIF(D:D,D184))*100)+100) -> 123.16384 | Z184: =RANK(W184,$W$3:$W$356,0) -> 144 | AA184: =VLOOKUP(B184,[1]高一上!$B:$G,5,0) -> 76 | AB184: =VLOOKUP(B184,[1]高一上!$B:$G,6,0) -> 杨翁基之玛 | AC184: =IF(OR(AE184=0,AA184=0),100,(((AF184-AD184)/COUNTIF(D:D,D184))*100)+100) -> 133.89831 | AD184: =RANK(AA184,$AA$3:$AA$356,0) -> 226 | AE184: =VLOOKUP(B184,[1]中考!$B:$G,6,0) -> 79 | AF184: =RANK(AE184,AE184:AE537,0) -> 346
A185: 513422200305216013 | B185: G513422200305216013 | C185: 4 | D185: 物理类 | E185: 扎西巴丁 | F185: 380 | G185: 90 | H185: 肖锐 | I185: =IF(OR(G185=0,K185=0),100,(((N185-J185)/COUNTIF(D:D,D185))*100)+100) -> 95.762712 | J185: =RANK(G185,$G$3:$G$356,0) -> 289 | K185: =VLOOKUP(B185,[1]高三上!$B:$H,6,0) -> 85 | L185: =VLOOKUP(B185,[1]高三上!$B:$H,7,0) -> 肖锐 | M185: =IF(OR(O185=0,K185=0),100,(((R185-N185)/COUNTIF(D:D,D185))*100)+100) -> 91.80791 | N185: =RANK(K185,$K$3:$K$356,0) -> 274 | O185: =VLOOKUP(B185,[1]高二下!$B:$H,6,0) -> 83 | P185: =VLOOKUP(B185,[1]高二下!$B:$H,7,0) -> 肖锐 | Q185: =IF(OR(O185=0,S185=0),100,(((V185-R185)/COUNTIF(D:D,D185))*100)+100) -> 53.389831 | R185: =RANK(O185,$O$3:$O$356,0) -> 245 | S185: =VLOOKUP(B185,[1]高二上!$B:$H,6,0) -> 99 | T185: =VLOOKUP(B185,[1]高二上!$B:$H,7,0) -> 肖锐 | U185: =IF(OR(W185=0,S185=0),100,(((Z185-V185)/COUNTIF(D:D,D185))*100)+100) -> 81.638418 | V185: =RANK(S185,$S$3:$S$356,0) -> 80 | W185: =VLOOKUP(B185,[1]高一下!$B:$H,6,0) -> 101 | X185: =VLOOKUP(B185,[1]高一下!$B:$H,7,0) -> 肖锐 | Y185: =IF(OR(W185=0,AA185=0),100,(((AD185-Z185)/COUNTIF(D:D,D185))*100)+100) -> 121.18644 | Z185: =RANK(W185,$W$3:$W$356,0) -> 15 | AA185: =VLOOKUP(B185,[1]高一上!$B:$G,5,0) -> 87 | AB185: =VLOOKUP(B185,[1]高一上!$B:$G,6,0) -> 杨翁基之玛 | AC185: =IF(OR(AE185=0,AA185=0),100,(((AF185-AD185)/COUNTIF(D:D,D185))*100)+100) -> 104.80226 | AD185: =RANK(AA185,$AA$3:$AA$356,0) -> 90 | AE185: =VLOOKUP(B185,[1]中考!$B:$G,6,0) -> 108 | AF185: =RANK(AE185,AE185:AE538,0) -> 107
A186: 513422200510222113 | B186: G513422200510222113 | C186: 4 | D186: 物理类 | E186: 邓顺杰 | F186: 378 | G186: 96 | H186: 肖锐 | I186: =IF(OR(G186=0,K186=0),100,(((N186-J186)/COUNTIF(D:D,D186))*100)+100) -> 130.22599 | J186: =RANK(G186,$G$3:$G$356,0) -> 211 | K186: =VLOOKUP(B186,[1]高三上!$B:$H,6,0) -> 79 | L186: =VLOOKUP(B186,[1]高三上!$B:$H,7,0) -> 肖锐 | M186: =IF(OR(O186=0,K186=0),100,(((R186-N186)/COUNTIF(D:D,D186))*100)+100) -> 90.960452 | N186: =RANK(K186,$K$3:$K$356,0) -> 318 | O186: =VLOOKUP(B186,[1]高二下!$B:$H,6,0) -> 80 | P186: =VLOOKUP(B186,[1]高二下!$B:$H,7,0) -> 肖锐 | Q186: =IF(OR(O186=0,S186=0),100,(((V186-R186)/COUNTIF(D:D,D186))*100)+100) -> 100.28249 | R186: =RANK(O186,$O$3:$O$356,0) -> 286 | S186: =VLOOKUP(B186,[1]高二上!$B:$H,6,0) -> 83 | T186: =VLOOKUP(B186,[1]高二上!$B:$H,7,0) -> 肖锐 | U186: =IF(OR(W186=0,S186=0),100,(((Z186-V186)/COUNTIF(D:D,D186))*100)+100) -> 32.768362 | V186: =RANK(S186,$S$3:$S$356,0) -> 287 | W186: =VLOOKUP(B186,[1]高一下!$B:$H,6,0) -> 95 | X186: =VLOOKUP(B186,[1]高一下!$B:$H,7,0) -> 肖锐 | Y186: =IF(OR(W186=0,AA186=0),100,(((AD186-Z186)/COUNTIF(D:D,D186))*100)+100) -> 166.10169 | Z186: =RANK(W186,$W$3:$W$356,0) -> 49 | AA186: =VLOOKUP(B186,[1]高一上!$B:$G,5,0) -> 72 | AB186: =VLOOKUP(B186,[1]高一上!$B:$G,6,0) -> 李正琪 | AC186: =IF(OR(AE186=0,AA186=0),100,(((AF186-AD186)/COUNTIF(D:D,D186))*100)+100) -> 54.519774 | AD186: =RANK(AA186,$AA$3:$AA$356,0) -> 283 | AE186: =VLOOKUP(B186,[1]中考!$B:$G,6,0) -> 107 | AF186: =RANK(AE186,AE186:AE539,0) -> 122
A187: 513422200701100012 | B187: G513422200701100012 | C187: 5 | D187: 物理类 | E187: 王鑫 | F187: 519 | G187: 102 | H187: 格绒燚西 | I187: =IF(OR(G187=0,K187=0),100,(((N187-J187)/COUNTIF(D:D,D187))*100)+100) -> 109.88701 | J187: =RANK(G187,$G$3:$G$356,0) -> 114 | K187: =VLOOKUP(B187,[1]高三上!$B:$H,6,0) -> 94 | L187: =VLOOKUP(B187,[1]高三上!$B:$H,7,0) -> 格绒燚西 | M187: =IF(OR(O187=0,K187=0),100,(((R187-N187)/COUNTIF(D:D,D187))*100)+100) -> 95.19774 | N187: =RANK(K187,$K$3:$K$356,0) -> 149 | O187: =VLOOKUP(B187,[1]高二下!$B:$H,6,0) -> 89 | P187: =VLOOKUP(B187,[1]高二下!$B:$H,7,0) -> 格绒燚西 | Q187: =IF(OR(O187=0,S187=0),100,(((V187-R187)/COUNTIF(D:D,D187))*100)+100) -> 112.14689 | R187: =RANK(O187,$O$3:$O$356,0) -> 132 | S187: =VLOOKUP(B187,[1]高二上!$B:$H,6,0) -> 92 | T187: =VLOOKUP(B187,[1]高二上!$B:$H,7,0) -> 格绒燚西 | U187: =IF(OR(W187=0,S187=0),100,(((Z187-V187)/COUNTIF(D:D,D187))*100)+100) -> 110.16949 | V187: =RANK(S187,$S$3:$S$356,0) -> 175 | W187: =VLOOKUP(B187,[1]高一下!$B:$H,6,0) -> 84 | X187: =VLOOKUP(B187,[1]高一下!$B:$H,7,0) -> 格绒燚西 | Y187: =IF(OR(W187=0,AA187=0),100,(((AD187-Z187)/COUNTIF(D:D,D187))*100)+100) -> 95.762712 | Z187: =RANK(W187,$W$3:$W$356,0) -> 211 | AA187: =VLOOKUP(B187,[1]高一上!$B:$G,5,0) -> 78 | AB187: =VLOOKUP(B187,[1]高一上!$B:$G,6,0) -> 刘权芳 | AC187: =IF(OR(AE187=0,AA187=0),100,(((AF187-AD187)/COUNTIF(D:D,D187))*100)+100) -> 79.096045 | AD187: =RANK(AA187,$AA$3:$AA$356,0) -> 196 | AE187: =VLOOKUP(B187,[1]中考!$B:$G,6,0) -> 107 | AF187: =RANK(AE187,AE187:AE540,0) -> 122
A188: 513422200510094430 | B188: G513422200510094430 | C188: 5 | D188: 物理类 | E188: 尔地子 | F188: 511 | G188: 108 | H188: 格绒燚西 | I188: =IF(OR(G188=0,K188=0),100,(((N188-J188)/COUNTIF(D:D,D188))*100)+100) -> 124.29379 | J188: =RANK(G188,$G$3:$G$356,0) -> 53 | K188: =VLOOKUP(B188,[1]高三上!$B:$H,6,0) -> 95 | L188: =VLOOKUP(B188,[1]高三上!$B:$H,7,0) -> 格绒燚西 | M188: =IF(OR(O188=0,K188=0),100,(((R188-N188)/COUNTIF(D:D,D188))*100)+100) -> 107.9096 | N188: =RANK(K188,$K$3:$K$356,0) -> 139 | O188: =VLOOKUP(B188,[1]高二下!$B:$H,6,0) -> 87 | P188: =VLOOKUP(B188,[1]高二下!$B:$H,7,0) -> 格绒燚西 | Q188: =IF(OR(O188=0,S188=0),100,(((V188-R188)/COUNTIF(D:D,D188))*100)+100) -> 114.12429 | R188: =RANK(O188,$O$3:$O$356,0) -> 167 | S188: =VLOOKUP(B188,[1]高二上!$B:$H,6,0) -> 89 | T188: =VLOOKUP(B188,[1]高二上!$B:$H,7,0) -> 格绒燚西 | U188: =IF(OR(W188=0,S188=0),100,(((Z188-V188)/COUNTIF(D:D,D188))*100)+100) -> 103.9548 | V188: =RANK(S188,$S$3:$S$356,0) -> 217 | W188: =VLOOKUP(B188,[1]高一下!$B:$H,6,0) -> 83 | X188: =VLOOKUP(B188,[1]高一下!$B:$H,7,0) -> 格绒燚西 | Y188: =IF(OR(W188=0,AA188=0),100,(((AD188-Z188)/COUNTIF(D:D,D188))*100)+100) -> 107.9096 | Z188: =RANK(W188,$W$3:$W$356,0) -> 231 | AA188: =VLOOKUP(B188,[1]高一上!$B:$G,5,0) -> 74 | AB188: =VLOOKUP(B188,[1]高一上!$B:$G,6,0) -> 易涛 | AC188: =IF(OR(AE188=0,AA188=0),100,(((AF188-AD188)/COUNTIF(D:D,D188))*100)+100) -> 118.64407 | AD188: =RANK(AA188,$AA$3:$AA$356,0) -> 259 | AE188: =VLOOKUP(B188,[1]中考!$B:$G,6,0) -> 88 | AF188: =RANK(AE188,AE188:AE541,0) -> 325
A189: 513422200609091918 | B189: G513422200609091918 | C189: 5 | D189: 物理类 | E189: 何洋兵 | F189: 504 | G189: 113 | H189: 格绒燚西 | I189: =IF(OR(G189=0,K189=0),100,(((N189-J189)/COUNTIF(D:D,D189))*100)+100) -> 101.69492 | J189: =RANK(G189,$G$3:$G$356,0) -> 19 | K189: =VLOOKUP(B189,[1]高三上!$B:$H,6,0) -> 107 | L189: =VLOOKUP(B189,[1]高三上!$B:$H,7,0) -> 格绒燚西 | M189: =IF(OR(O189=0,K189=0),100,(((R189-N189)/COUNTIF(D:D,D189))*100)+100) -> 103.38983 | N189: =RANK(K189,$K$3:$K$356,0) -> 25 | O189: =VLOOKUP(B189,[1]高二下!$B:$H,6,0) -> 96 | P189: =VLOOKUP(B189,[1]高二下!$B:$H,7,0) -> 格绒燚西 | Q189: =IF(OR(O189=0,S189=0),100,(((V189-R189)/COUNTIF(D:D,D189))*100)+100) -> 109.88701 | R189: =RANK(O189,$O$3:$O$356,0) -> 37 | S189: =VLOOKUP(B189,[1]高二上!$B:$H,6,0) -> 100 | T189: =VLOOKUP(B189,[1]高二上!$B:$H,7,0) -> 格绒燚西 | U189: =IF(OR(W189=0,S189=0),100,(((Z189-V189)/COUNTIF(D:D,D189))*100)+100) -> 79.943503 | V189: =RANK(S189,$S$3:$S$356,0) -> 72 | W189: =VLOOKUP(B189,[1]高一下!$B:$H,6,0) -> 108 | X189: =VLOOKUP(B189,[1]高一下!$B:$H,7,0) -> 格绒燚西 | Y189: =IF(OR(W189=0,AA189=0),100,(((AD189-Z189)/COUNTIF(D:D,D189))*100)+100) -> 129.9435 | Z189: =RANK(W189,$W$3:$W$356,0) -> 1 | AA189: =VLOOKUP(B189,[1]高一上!$B:$G,5,0) -> 85 | AB189: =VLOOKUP(B189,[1]高一上!$B:$G,6,0) -> 肖锐 | AC189: =IF(OR(AE189=0,AA189=0),100,(((AF189-AD189)/COUNTIF(D:D,D189))*100)+100) -> 109.88701 | AD189: =RANK(AA189,$AA$3:$AA$356,0) -> 107 | AE189: =VLOOKUP(B189,[1]中考!$B:$G,6,0) -> 106 | AF189: =RANK(AE189,AE189:AE542,0) -> 142
A190: 513422200606074629 | B190: G513422200606074629 | C190: 5 | D190: 物理类 | E190: 毛晓珍 | F190: 490 | G190: 107 | H190: 格绒燚西 | I190: =IF(OR(G190=0,K190=0),100,(((N190-J190)/COUNTIF(D:D,D190))*100)+100) -> 151.69492 | J190: =RANK(G190,$G$3:$G$356,0) -> 64 | K190: =VLOOKUP(B190,[1]高三上!$B:$H,6,0) -> 87 | L190: =VLOOKUP(B190,[1]高三上!$B:$H,7,0) -> 格绒燚西 | M190: =IF(OR(O190=0,K190=0),100,(((R190-N190)/COUNTIF(D:D,D190))*100)+100) -> 67.514124 | N190: =RANK(K190,$K$3:$K$356,0) -> 247 | O190: =VLOOKUP(B190,[1]高二下!$B:$H,6,0) -> 89 | P190: =VLOOKUP(B190,[1]高二下!$B:$H,7,0) -> 格绒燚西 | Q190: =IF(OR(O190=0,S190=0),100,(((V190-R190)/COUNTIF(D:D,D190))*100)+100) -> 100 | R190: =RANK(O190,$O$3:$O$356,0) -> 132 | S190: =VLOOKUP(B190,[1]高二上!$B:$H,6,0) -> 95 | T190: =VLOOKUP(B190,[1]高二上!$B:$H,7,0) -> 格绒燚西 | U190: =IF(OR(W190=0,S190=0),100,(((Z190-V190)/COUNTIF(D:D,D190))*100)+100) -> 112.71186 | V190: =RANK(S190,$S$3:$S$356,0) -> 132 | W190: =VLOOKUP(B190,[1]高一下!$B:$H,6,0) -> 86 | X190: =VLOOKUP(B190,[1]高一下!$B:$H,7,0) -> 格绒燚西 | Y190: =IF(OR(W190=0,AA190=0),100,(((AD190-Z190)/COUNTIF(D:D,D190))*100)+100) -> 101.9774 | Z190: =RANK(W190,$W$3:$W$356,0) -> 177 | AA190: =VLOOKUP(B190,[1]高一上!$B:$G,5,0) -> 79 | AB190: =VLOOKUP(B190,[1]高一上!$B:$G,6,0) -> 易涛 | AC190: =IF(OR(AE190=0,AA190=0),100,(((AF190-AD190)/COUNTIF(D:D,D190))*100)+100) -> 97.457627 | AD190: =RANK(AA190,$AA$3:$AA$356,0) -> 184 | AE190: =VLOOKUP(B190,[1]中考!$B:$G,6,0) -> 104 | AF190: =RANK(AE190,AE190:AE543,0) -> 175
A191: 513422200712020026 | B191: G513422200712020026 | C191: 5 | D191: 物理类 | E191: 仁青布池 | F191: 483 | G191: 107 | H191: 格绒燚西 | I191: =IF(OR(G191=0,K191=0),100,(((N191-J191)/COUNTIF(D:D,D191))*100)+100) -> 130.50847 | J191: =RANK(G191,$G$3:$G$356,0) -> 64 | K191: =VLOOKUP(B191,[1]高三上!$B:$H,6,0) -> 92 | L191: =VLOOKUP(B191,[1]高三上!$B:$H,7,0) -> 格绒燚西 | M191: =IF(OR(O191=0,K191=0),100,(((R191-N191)/COUNTIF(D:D,D191))*100)+100) -> 52.824859 | N191: =RANK(K191,$K$3:$K$356,0) -> 172 | O191: =VLOOKUP(B191,[1]高二下!$B:$H,6,0) -> 105 | P191: =VLOOKUP(B191,[1]高二下!$B:$H,7,0) -> 格绒燚西 | Q191: =IF(OR(O191=0,S191=0),100,(((V191-R191)/COUNTIF(D:D,D191))*100)+100) -> 153.10734 | R191: =RANK(O191,$O$3:$O$356,0) -> 5 | S191: =VLOOKUP(B191,[1]高二上!$B:$H,6,0) -> 91 | T191: =VLOOKUP(B191,[1]高二上!$B:$H,7,0) -> 格绒燚西 | U191: =IF(OR(W191=0,S191=0),100,(((Z191-V191)/COUNTIF(D:D,D191))*100)+100) -> 83.333333 | V191: =RANK(S191,$S$3:$S$356,0) -> 193 | W191: =VLOOKUP(B191,[1]高一下!$B:$H,6,0) -> 89 | X191: =VLOOKUP(B191,[1]高一下!$B:$H,7,0) -> 格绒燚西 | Y191: =IF(OR(W191=0,AA191=0),100,(((AD191-Z191)/COUNTIF(D:D,D191))*100)+100) -> 90.112994 | Z191: =RANK(W191,$W$3:$W$356,0) -> 134 | AA191: =VLOOKUP(B191,[1]高一上!$B:$G,5,0) -> 86 | AB191: =VLOOKUP(B191,[1]高一上!$B:$G,6,0) -> 肖锐 | AC191: =IF(OR(AE191=0,AA191=0),100,(((AF191-AD191)/COUNTIF(D:D,D191))*100)+100) -> 75.423729 | AD191: =RANK(AA191,$AA$3:$AA$356,0) -> 99 | AE191: =VLOOKUP(B191,[1]中考!$B:$G,6,0) -> 120 | AF191: =RANK(AE191,AE191:AE544,0) -> 12
A192: 513422200404045029 | B192: G513422200404045029 | C192: 5 | D192: 物理类 | E192: 次尔竹玛 | F192: 479 | G192: 96 | H192: 格绒燚西 | I192: =IF(OR(G192=0,K192=0),100,(((N192-J192)/COUNTIF(D:D,D192))*100)+100) -> 102.54237 | J192: =RANK(G192,$G$3:$G$356,0) -> 211 | K192: =VLOOKUP(B192,[1]高三上!$B:$H,6,0) -> 89 | L192: =VLOOKUP(B192,[1]高三上!$B:$H,7,0) -> 格绒燚西 | M192: =IF(OR(O192=0,K192=0),100,(((R192-N192)/COUNTIF(D:D,D192))*100)+100) -> 75.141243 | N192: =RANK(K192,$K$3:$K$356,0) -> 220 | O192: =VLOOKUP(B192,[1]高二下!$B:$H,6,0) -> 89 | P192: =VLOOKUP(B192,[1]高二下!$B:$H,7,0) -> 格绒燚西 | Q192: =IF(OR(O192=0,S192=0),100,(((V192-R192)/COUNTIF(D:D,D192))*100)+100) -> 140.11299 | R192: =RANK(O192,$O$3:$O$356,0) -> 132 | S192: =VLOOKUP(B192,[1]高二上!$B:$H,6,0) -> 84 | T192: =VLOOKUP(B192,[1]高二上!$B:$H,7,0) -> 格绒燚西 | U192: =IF(OR(W192=0,S192=0),100,(((Z192-V192)/COUNTIF(D:D,D192))*100)+100) -> 99.152542 | V192: =RANK(S192,$S$3:$S$356,0) -> 274 | W192: =VLOOKUP(B192,[1]高一下!$B:$H,6,0) -> 80 | X192: =VLOOKUP(B192,[1]高一下!$B:$H,7,0) -> 格绒燚西 | Y192: =IF(OR(W192=0,AA192=0),100,(((AD192-Z192)/COUNTIF(D:D,D192))*100)+100) -> 78.813559 | Z192: =RANK(W192,$W$3:$W$356,0) -> 271 | AA192: =VLOOKUP(B192,[1]高一上!$B:$G,5,0) -> 78 | AB192: =VLOOKUP(B192,[1]高一上!$B:$G,6,0) -> 易涛 | AC192: =IF(OR(AE192=0,AA192=0),100,(((AF192-AD192)/COUNTIF(D:D,D192))*100)+100) -> 110.16949 | AD192: =RANK(AA192,$AA$3:$AA$356,0) -> 196 | AE192: =VLOOKUP(B192,[1]中考!$B:$G,6,0) -> 100 | AF192: =RANK(AE192,AE192:AE545,0) -> 232
A193: 513422200610023613 | B193: G513422200610023613 | C193: 5 | D193: 物理类 | E193: 易争扎西 | F193: 474 | G193: 102 | H193: 格绒燚西 | I193: =IF(OR(G193=0,K193=0),100,(((N193-J193)/COUNTIF(D:D,D193))*100)+100) -> 150.84746 | J193: =RANK(G193,$G$3:$G$356,0) -> 114 | K193: =VLOOKUP(B193,[1]高三上!$B:$H,6,0) -> 83 | L193: =VLOOKUP(B193,[1]高三上!$B:$H,7,0) -> 格绒燚西 | M193: =IF(OR(O193=0,K193=0),100,(((R193-N193)/COUNTIF(D:D,D193))*100)+100) -> 74.293785 | N193: =RANK(K193,$K$3:$K$356,0) -> 294 | O193: =VLOOKUP(B193,[1]高二下!$B:$H,6,0) -> 85 | P193: =VLOOKUP(B193,[1]高二下!$B:$H,7,0) -> 格绒燚西 | Q193: =IF(OR(O193=0,S193=0),100,(((V193-R193)/COUNTIF(D:D,D193))*100)+100) -> 79.943503 | R193: =RANK(O193,$O$3:$O$356,0) -> 203 | S193: =VLOOKUP(B193,[1]高二上!$B:$H,6,0) -> 95 | T193: =VLOOKUP(B193,[1]高二上!$B:$H,7,0) -> 格绒燚西 | U193: =IF(OR(W193=0,S193=0),100,(((Z193-V193)/COUNTIF(D:D,D193))*100)+100) -> 134.46328 | V193: =RANK(S193,$S$3:$S$356,0) -> 132 | W193: =VLOOKUP(B193,[1]高一下!$B:$H,6,0) -> 81 | X193: =VLOOKUP(B193,[1]高一下!$B:$H,7,0) -> 格绒燚西 | Y193: =IF(OR(W193=0,AA193=0),100,(((AD193-Z193)/COUNTIF(D:D,D193))*100)+100) -> 53.672316 | Z193: =RANK(W193,$W$3:$W$356,0) -> 254 | AA193: =VLOOKUP(B193,[1]高一上!$B:$G,5,0) -> 87 | AB193: =VLOOKUP(B193,[1]高一上!$B:$G,6,0) -> 刘云菊 | AC193: =IF(OR(AE193=0,AA193=0),100,(((AF193-AD193)/COUNTIF(D:D,D193))*100)+100) -> 76.271186 | AD193: =RANK(AA193,$AA$3:$AA$356,0) -> 90 | AE193: =VLOOKUP(B193,[1]中考!$B:$G,6,0) -> 122 | AF193: =RANK(AE193,AE193:AE546,0) -> 6
... A282: 513422200703041917 | B282: G513422200703041917 | C282: 7 | D282: 物理类 | E282: 马甲哈 | F282: 443 | G282: 112 | H282: 何东霖 | I282: =IF(OR(G282=0,K282=0),100,(((N282-J282)/COUNTIF(D:D,D282))*100)+100) -> 135.31073 | J282: =RANK(G282,$G$3:$G$356,0) -> 24 | K282: =VLOOKUP(B282,[1]高三上!$B:$H,6,0) -> 94 | L282: =VLOOKUP(B282,[1]高三上!$B:$H,7,0) -> 何东霖 | M282: =IF(OR(O282=0,K282=0),100,(((R282-N282)/COUNTIF(D:D,D282))*100)+100) -> 115.25424 | N282: =RANK(K282,$K$3:$K$356,0) -> 149 | O282: =VLOOKUP(B282,[1]高二下!$B:$H,6,0) -> 85 | P282: =VLOOKUP(B282,[1]高二下!$B:$H,7,0) -> 杨翁基之玛 | Q282: =IF(OR(O282=0,S282=0),100,(((V282-R282)/COUNTIF(D:D,D282))*100)+100) -> 85.310734 | R282: =RANK(O282,$O$3:$O$356,0) -> 203 | S282: =VLOOKUP(B282,[1]高二上!$B:$H,6,0) -> 94 | T282: =VLOOKUP(B282,[1]高二上!$B:$H,7,0) -> 李正琪 | U282: =IF(OR(W282=0,S282=0),100,(((Z282-V282)/COUNTIF(D:D,D282))*100)+100) -> 138.98305 | V282: =RANK(S282,$S$3:$S$356,0) -> 151 | W282: =VLOOKUP(B282,[1]高一下!$B:$H,6,0) -> 79 | X282: =VLOOKUP(B282,[1]高一下!$B:$H,7,0) -> 李正琪 | Y282: =IF(OR(W282=0,AA282=0),100,(((AD282-Z282)/COUNTIF(D:D,D282))*100)+100) -> 73.728814 | Z282: =RANK(W282,$W$3:$W$356,0) -> 289 | AA282: =VLOOKUP(B282,[1]高一上!$B:$G,5,0) -> 78 | AB282: =VLOOKUP(B282,[1]高一上!$B:$G,6,0) -> 李正琪 | AC282: =IF(OR(AE282=0,AA282=0),100,(((AF282-AD282)/COUNTIF(D:D,D282))*100)+100) -> 112.42938 | AD282: =RANK(AA282,$AA$3:$AA$356,0) -> 196 | AE282: =VLOOKUP(B282,[1]中考!$B:$G,6,0) -> 98 | AF282: =RANK(AE282,AE282:AE635,0) -> 240
A283: 513422200601310012 | B283: G513422200601310012 | C283: 7 | D283: 物理类 | E283: 赵星俊 | F283: 398 | G283: 101 | H283: 何东霖 | I283: =IF(OR(G283=0,K283=0),100,(((N283-J283)/COUNTIF(D:D,D283))*100)+100) -> 134.18079 | J283: =RANK(G283,$G$3:$G$356,0) -> 126 | K283: =VLOOKUP(B283,[1]高三上!$B:$H,6,0) -> 87 | L283: =VLOOKUP(B283,[1]高三上!$B:$H,7,0) -> 何东霖 | M283: =IF(OR(O283=0,K283=0),100,(((R283-N283)/COUNTIF(D:D,D283))*100)+100) -> 99.435028 | N283: =RANK(K283,$K$3:$K$356,0) -> 247 | O283: =VLOOKUP(B283,[1]高二下!$B:$H,6,0) -> 83 | P283: =VLOOKUP(B283,[1]高二下!$B:$H,7,0) -> 杨翁基之玛 | Q283: =IF(OR(O283=0,S283=0),100,(((V283-R283)/COUNTIF(D:D,D283))*100)+100) -> 76.271186 | R283: =RANK(O283,$O$3:$O$356,0) -> 245 | S283: =VLOOKUP(B283,[1]高二上!$B:$H,6,0) -> 93 | T283: =VLOOKUP(B283,[1]高二上!$B:$H,7,0) -> 李正琪 | U283: =IF(OR(W283=0,S283=0),100,(((Z283-V283)/COUNTIF(D:D,D283))*100)+100) -> 87.570621 | V283: =RANK(S283,$S$3:$S$356,0) -> 161 | W283: =VLOOKUP(B283,[1]高一下!$B:$H,6,0) -> 90 | X283: =VLOOKUP(B283,[1]高一下!$B:$H,7,0) -> 李正琪 | Y283: =IF(OR(W283=0,AA283=0),100,(((AD283-Z283)/COUNTIF(D:D,D283))*100)+100) -> 156.21469 | Z283: =RANK(W283,$W$3:$W$356,0) -> 117 | AA283: =VLOOKUP(B283,[1]高一上!$B:$G,5,0) -> 69 | AB283: =VLOOKUP(B283,[1]高一上!$B:$G,6,0) -> 李正琪 | AC283: =IF(OR(AE283=0,AA283=0),100,(((AF283-AD283)/COUNTIF(D:D,D283))*100)+100) -> 97.740113 | AD283: =RANK(AA283,$AA$3:$AA$356,0) -> 316 | AE283: =VLOOKUP(B283,[1]中考!$B:$G,6,0) -> 90 | AF283: =RANK(AE283,AE283:AE635,0) -> 308
A284: 513422200803011512 | B284: G513422200803011512 | C284: 7 | D284: 物理类 | E284: 安左所 | F284: 409 | G284: 95 | H284: 何东霖 | I284: =IF(OR(G284=0,K284=0),100,(((N284-J284)/COUNTIF(D:D,D284))*100)+100) -> 93.502825 | J284: =RANK(G284,$G$3:$G$356,0) -> 224 | K284: =VLOOKUP(B284,[1]高三上!$B:$H,6,0) -> 90 | L284: =VLOOKUP(B284,[1]高三上!$B:$H,7,0) -> 何东霖 | M284: =IF(OR(O284=0,K284=0),100,(((R284-N284)/COUNTIF(D:D,D284))*100)+100) -> 62.99435 | N284: =RANK(K284,$K$3:$K$356,0) -> 201 | O284: =VLOOKUP(B284,[1]高二下!$B:$H,6,0) -> 93 | P284: =VLOOKUP(B284,[1]高二下!$B:$H,7,0) -> 杨翁基之玛 | Q284: =IF(OR(O284=0,S284=0),100,(((V284-R284)/COUNTIF(D:D,D284))*100)+100) -> 171.75141 | R284: =RANK(O284,$O$3:$O$356,0) -> 70 | S284: =VLOOKUP(B284,[1]高二上!$B:$H,6,0) -> 78 | T284: =VLOOKUP(B284,[1]高二上!$B:$H,7,0) -> 李正琪 | U284: =IF(OR(W284=0,S284=0),100,(((Z284-V284)/COUNTIF(D:D,D284))*100)+100) -> 97.175141 | V284: =RANK(S284,$S$3:$S$356,0) -> 324 | W284: =VLOOKUP(B284,[1]高一下!$B:$H,6,0) -> 74 | X284: =VLOOKUP(B284,[1]高一下!$B:$H,7,0) -> 李正琪 | Y284: =IF(OR(W284=0,AA284=0),100,(((AD284-Z284)/COUNTIF(D:D,D284))*100)+100) -> 84.463277 | Z284: =RANK(W284,$W$3:$W$356,0) -> 314 | AA284: =VLOOKUP(B284,[1]高一上!$B:$G,5,0) -> 74 | AB284: =VLOOKUP(B284,[1]高一上!$B:$G,6,0) -> 张镇棚 | AC284: =IF(OR(AE284=0,AA284=0),100,(((AF284-AD284)/COUNTIF(D:D,D284))*100)+100) -> 66.949153 | AD284: =RANK(AA284,$AA$3:$AA$356,0) -> 259 | AE284: =VLOOKUP(B284,[1]中考!$B:$G,6,0) -> 105 | AF284: =RANK(AE284,AE284:AE636,0) -> 142
A285: 513422200511142115 | B285: G513422200511142115 | C285: 7 | D285: 物理类 | E285: 杨尔康 | F285: 398 | G285: 100 | H285: 何东霖 | I285: =IF(OR(G285=0,K285=0),100,(((N285-J285)/COUNTIF(D:D,D285))*100)+100) -> 133.89831 | J285: =RANK(G285,$G$3:$G$356,0) -> 141 | K285: =VLOOKUP(B285,[1]高三上!$B:$H,6,0) -> 86 | L285: =VLOOKUP(B285,[1]高三上!$B:$H,7,0) -> 何东霖 | M285: =IF(OR(O285=0,K285=0),100,(((R285-N285)/COUNTIF(D:D,D285))*100)+100) -> 107.06215 | N285: =RANK(K285,$K$3:$K$356,0) -> 261 | O285: =VLOOKUP(B285,[1]高二下!$B:$H,6,0) -> 80 | P285: =VLOOKUP(B285,[1]高二下!$B:$H,7,0) -> 杨翁基之玛 | Q285: =IF(OR(O285=0,S285=0),100,(((V285-R285)/COUNTIF(D:D,D285))*100)+100) -> 89.830508 | R285: =RANK(O285,$O$3:$O$356,0) -> 286 | S285: =VLOOKUP(B285,[1]高二上!$B:$H,6,0) -> 86 | T285: =VLOOKUP(B285,[1]高二上!$B:$H,7,0) -> 李正琪 | U285: =IF(OR(W285=0,S285=0),100,(((Z285-V285)/COUNTIF(D:D,D285))*100)+100) -> 123.72881 | V285: =RANK(S285,$S$3:$S$356,0) -> 250 | W285: =VLOOKUP(B285,[1]高一下!$B:$H,6,0) -> 70 | X285: =VLOOKUP(B285,[1]高一下!$B:$H,7,0) -> 李正琪 | Y285: =IF(OR(W285=0,AA285=0),100,(((AD285-Z285)/COUNTIF(D:D,D285))*100)+100) -> 91.80791 | Z285: =RANK(W285,$W$3:$W$356,0) -> 334 | AA285: =VLOOKUP(B285,[1]高一上!$B:$G,5,0) -> 70 | AB285: =VLOOKUP(B285,[1]高一上!$B:$G,6,0) -> 杨翁基之玛 | AC285: =IF(OR(AE285=0,AA285=0),100,(((AF285-AD285)/COUNTIF(D:D,D285))*100)+100) -> 88.983051 | AD285: =RANK(AA285,$AA$3:$AA$356,0) -> 305 | AE285: =VLOOKUP(B285,[1]中考!$B:$G,6,0) -> 96 | AF285: =RANK(AE285,AE285:AE637,0) -> 266
A286: 513422200601104227 | B286: G513422200601104227 | C286: 7 | D286: 物理类 | E286: 苏朗祝玛 | F286: 397 | G286: 80 | H286: 何东霖 | I286: =IF(OR(G286=0,K286=0),100,(((N286-J286)/COUNTIF(D:D,D286))*100)+100) -> 66.666667 | J286: =RANK(G286,$G$3:$G$356,0) -> 349 | K286: =VLOOKUP(B286,[1]高三上!$B:$H,6,0) -> 88 | L286: =VLOOKUP(B286,[1]高三上!$B:$H,7,0) -> 何东霖 | M286: =IF(OR(O286=0,K286=0),100,(((R286-N286)/COUNTIF(D:D,D286))*100)+100) -> 81.920904 | N286: =RANK(K286,$K$3:$K$356,0) -> 231 | O286: =VLOOKUP(B286,[1]高二下!$B:$H,6,0) -> 87 | P286: =VLOOKUP(B286,[1]高二下!$B:$H,7,0) -> 杨翁基之玛 | Q286: =IF(OR(O286=0,S286=0),100,(((V286-R286)/COUNTIF(D:D,D286))*100)+100) -> 151.12994 | R286: =RANK(O286,$O$3:$O$356,0) -> 167 | S286: =VLOOKUP(B286,[1]高二上!$B:$H,6,0) -> 68 | T286: =VLOOKUP(B286,[1]高二上!$B:$H,7,0) -> 李正琪 | U286: =IF(OR(W286=0,S286=0),100,(((Z286-V286)/COUNTIF(D:D,D286))*100)+100) -> 90.39548 | V286: =RANK(S286,$S$3:$S$356,0) -> 348 | W286: =VLOOKUP(B286,[1]高一下!$B:$H,6,0) -> 74 | X286: =VLOOKUP(B286,[1]高一下!$B:$H,7,0) -> 李正琪 | Y286: =IF(OR(W286=0,AA286=0),100,(((AD286-Z286)/COUNTIF(D:D,D286))*100)+100) -> 94.350282 | Z286: =RANK(W286,$W$3:$W$356,0) -> 314 | AA286: =VLOOKUP(B286,[1]高一上!$B:$G,5,0) -> 71 | AB286: =VLOOKUP(B286,[1]高一上!$B:$G,6,0) -> 陈光汇 | AC286: =IF(OR(AE286=0,AA286=0),100,(((AF286-AD286)/COUNTIF(D:D,D286))*100)+100) -> 112.71186 | AD286: =RANK(AA286,$AA$3:$AA$356,0) -> 294 | AE286: =VLOOKUP(B286,[1]中考!$B:$G,6,0) -> 82 | AF286: =RANK(AE286,AE286:AE638,0) -> 339
A287: 513422200509140014 | B287: G513422200509140014 | C287: 7 | D287: 物理类 | E287: 伍希 | F287: 394 | G287: 98 | H287: 何东霖 | I287: =IF(OR(G287=0,K287=0),100,(((N287-J287)/COUNTIF(D:D,D287))*100)+100) -> 100 | J287: =RANK(G287,$G$3:$G$356,0) -> 182 | K287: =VLOOKUP(B287,[1]高三上!$B:$H,6,0) -> 0 | L287: =VLOOKUP(B287,[1]高三上!$B:$H,7,0) -> 何东霖 | M287: =IF(OR(O287=0,K287=0),100,(((R287-N287)/COUNTIF(D:D,D287))*100)+100) -> 100 | N287: =RANK(K287,$K$3:$K$356,0) -> 344 | O287: =VLOOKUP(B287,[1]高二下!$B:$H,6,0) -> 63 | P287: =VLOOKUP(B287,[1]高二下!$B:$H,7,0) -> 杨翁基之玛 | Q287: =IF(OR(O287=0,S287=0),100,(((V287-R287)/COUNTIF(D:D,D287))*100)+100) -> 67.231638 | R287: =RANK(O287,$O$3:$O$356,0) -> 346 | S287: =VLOOKUP(B287,[1]高二上!$B:$H,6,0) -> 88 | T287: =VLOOKUP(B287,[1]高二上!$B:$H,7,0) -> 李正琪 | U287: =IF(OR(W287=0,S287=0),100,(((Z287-V287)/COUNTIF(D:D,D287))*100)+100) -> 111.58192 | V287: =RANK(S287,$S$3:$S$356,0) -> 230 | W287: =VLOOKUP(B287,[1]高一下!$B:$H,6,0) -> 80 | X287: =VLOOKUP(B287,[1]高一下!$B:$H,7,0) -> 李正琪 | Y287: =IF(OR(W287=0,AA287=0),100,(((AD287-Z287)/COUNTIF(D:D,D287))*100)+100) -> 58.474576 | Z287: =RANK(W287,$W$3:$W$356,0) -> 271 | AA287: =VLOOKUP(B287,[1]高一上!$B:$G,5,0) -> 83 | AB287: =VLOOKUP(B287,[1]高一上!$B:$G,6,0) -> 格绒燚西 | AC287: =IF(OR(AE287=0,AA287=0),100,(((AF287-AD287)/COUNTIF(D:D,D287))*100)+100) -> 100 | AD287: =RANK(AA287,$AA$3:$AA$356,0) -> 124 | AE287: =VLOOKUP(B287,[1]中考!$B:$G,6,0) -> 0 | AF287: =RANK(AE287,AE287:AE639,0) -> 345
A288: 513422200705016619 | B288: G513422200705016619 | C288: 7 | D288: 物理类 | E288: 陈华健 | F288: 382 | G288: 99 | H288: 何东霖 | I288: =IF(OR(G288=0,K288=0),100,(((N288-J288)/COUNTIF(D:D,D288))*100)+100) -> 132.76836 | J288: =RANK(G288,$G$3:$G$356,0) -> 158 | K288: =VLOOKUP(B288,[1]高三上!$B:$H,6,0) -> 85 | L288: =VLOOKUP(B288,[1]高三上!$B:$H,7,0) -> 何东霖 | M288: =IF(OR(O288=0,K288=0),100,(((R288-N288)/COUNTIF(D:D,D288))*100)+100) -> 100.56497 | N288: =RANK(K288,$K$3:$K$356,0) -> 274 | O288: =VLOOKUP(B288,[1]高二下!$B:$H,6,0) -> 81 | P288: =VLOOKUP(B288,[1]高二下!$B:$H,7,0) -> 杨翁基之玛 | Q288: =IF(OR(O288=0,S288=0),100,(((V288-R288)/COUNTIF(D:D,D288))*100)+100) -> 96.327684 | R288: =RANK(O288,$O$3:$O$356,0) -> 276 | S288: =VLOOKUP(B288,[1]高二上!$B:$H,6,0) -> 85 | T288: =VLOOKUP(B288,[1]高二上!$B:$H,7,0) -> 李正琪 | U288: =IF(OR(W288=0,S288=0),100,(((Z288-V288)/COUNTIF(D:D,D288))*100)+100) -> 120.0565 | V288: =RANK(S288,$S$3:$S$356,0) -> 263 | W288: =VLOOKUP(B288,[1]高一下!$B:$H,6,0) -> 70 | X288: =VLOOKUP(B288,[1]高一下!$B:$H,7,0) -> 李正琪 | Y288: =IF(OR(W288=0,AA288=0),100,(((AD288-Z288)/COUNTIF(D:D,D288))*100)+100) -> 91.80791 | Z288: =RANK(W288,$W$3:$W$356,0) -> 334 | AA288: =VLOOKUP(B288,[1]高一上!$B:$G,5,0) -> 70 | AB288: =VLOOKUP(B288,[1]高一上!$B:$G,6,0) -> 张镇棚 | AC288: =IF(OR(AE288=0,AA288=0),100,(((AF288-AD288)/COUNTIF(D:D,D288))*100)+100) -> 103.9548 | AD288: =RANK(AA288,$AA$3:$AA$356,0) -> 305 | AE288: =VLOOKUP(B288,[1]中考!$B:$G,6,0) -> 88 | AF288: =RANK(AE288,AE288:AE640,0) -> 319
A289: 513422200512062512 | B289: G513422200512062512 | C289: 7 | D289: 物理类 | E289: 鲁绒偏初 | F289: 381 | G289: 100 | H289: 何东霖 | I289: =IF(OR(G289=0,K289=0),100,(((N289-J289)/COUNTIF(D:D,D289))*100)+100) -> 154.23729 | J289: =RANK(G289,$G$3:$G$356,0) -> 141 | K289: =VLOOKUP(B289,[1]高三上!$B:$H,6,0) -> 74 | L289: =VLOOKUP(B289,[1]高三上!$B:$H,7,0) -> 何东霖 | M289: =IF(OR(O289=0,K289=0),100,(((R289-N289)/COUNTIF(D:D,D289))*100)+100) -> 11.864407 | N289: =RANK(K289,$K$3:$K$356,0) -> 333 | O289: =VLOOKUP(B289,[1]高二下!$B:$H,6,0) -> 99 | P289: =VLOOKUP(B289,[1]高二下!$B:$H,7,0) -> 杨翁基之玛 | Q289: =IF(OR(O289=0,S289=0),100,(((V289-R289)/COUNTIF(D:D,D289))*100)+100) -> 177.11864 | R289: =RANK(O289,$O$3:$O$356,0) -> 21 | S289: =VLOOKUP(B289,[1]高二上!$B:$H,6,0) -> 82 | T289: =VLOOKUP(B289,[1]高二上!$B:$H,7,0) -> 李正琪 | U289: =IF(OR(W289=0,S289=0),100,(((Z289-V289)/COUNTIF(D:D,D289))*100)+100) -> 104.80226 | V289: =RANK(S289,$S$3:$S$356,0) -> 294 | W289: =VLOOKUP(B289,[1]高一下!$B:$H,6,0) -> 75 | X289: =VLOOKUP(B289,[1]高一下!$B:$H,7,0) -> 李正琪 | Y289: =IF(OR(W289=0,AA289=0),100,(((AD289-Z289)/COUNTIF(D:D,D289))*100)+100) -> 59.60452 | Z289: =RANK(W289,$W$3:$W$356,0) -> 311 | AA289: =VLOOKUP(B289,[1]高一上!$B:$G,5,0) -> 80 | AB289: =VLOOKUP(B289,[1]高一上!$B:$G,6,0) -> 张镇棚 | AC289: =IF(OR(AE289=0,AA289=0),100,(((AF289-AD289)/COUNTIF(D:D,D289))*100)+100) -> 114.40678 | AD289: =RANK(AA289,$AA$3:$AA$356,0) -> 168 | AE289: =VLOOKUP(B289,[1]中考!$B:$G,6,0) -> 100 | AF289: =RANK(AE289,AE289:AE641,0) -> 219
A290: 513422200701122318 | B290: G513422200701122318 | C290: 7 | D290: 物理类 | E290: 杨关保 | F290: 355 | G290: 88 | H290: 何东霖 | I290: =IF(OR(G290=0,K290=0),100,(((N290-J290)/COUNTIF(D:D,D290))*100)+100) -> 96.892655 | J290: =RANK(G290,$G$3:$G$356,0) -> 314 | K290: =VLOOKUP(B290,[1]高三上!$B:$H,6,0) -> 82 | L290: =VLOOKUP(B290,[1]高三上!$B:$H,7,0) -> 何东霖 | M290: =IF(OR(O290=0,K290=0),100,(((R290-N290)/COUNTIF(D:D,D290))*100)+100) -> 88.418079 | N290: =RANK(K290,$K$3:$K$356,0) -> 303 | O290: =VLOOKUP(B290,[1]高二下!$B:$H,6,0) -> 82 | P290: =VLOOKUP(B290,[1]高二下!$B:$H,7,0) -> 杨翁基之玛 | Q290: =IF(OR(O290=0,S290=0),100,(((V290-R290)/COUNTIF(D:D,D290))*100)+100) -> 120.90395 | R290: =RANK(O290,$O$3:$O$356,0) -> 262 | S290: =VLOOKUP(B290,[1]高二上!$B:$H,6,0) -> 75 | T290: =VLOOKUP(B290,[1]高二上!$B:$H,7,0) -> 李正琪 | U290: =IF(OR(W290=0,S290=0),100,(((Z290-V290)/COUNTIF(D:D,D290))*100)+100) -> 89.265537 | V290: =RANK(S290,$S$3:$S$356,0) -> 336 | W290: =VLOOKUP(B290,[1]高一下!$B:$H,6,0) -> 77 | X290: =VLOOKUP(B290,[1]高一下!$B:$H,7,0) -> 李正琪 | Y290: =IF(OR(W290=0,AA290=0),100,(((AD290-Z290)/COUNTIF(D:D,D290))*100)+100) -> 71.186441 | Z290: =RANK(W290,$W$3:$W$356,0) -> 298 | AA290: =VLOOKUP(B290,[1]高一上!$B:$G,5,0) -> 78 | AB290: =VLOOKUP(B290,[1]高一上!$B:$G,6,0) -> 张镇棚 | AC290: =IF(OR(AE290=0,AA290=0),100,(((AF290-AD290)/COUNTIF(D:D,D290))*100)+100) -> 110.16949 | AD290: =RANK(AA290,$AA$3:$AA$356,0) -> 196 | AE290: =VLOOKUP(B290,[1]中考!$B:$G,6,0) -> 99 | AF290: =RANK(AE290,AE290:AE642,0) -> 232
A291: 513422200602032114 | B291: G513422200602032114 | C291: 7 | D291: 物理类 | E291: 罗小顺 | F291: 387 | G291: 100 | H291: 何东霖 | I291: =IF(OR(G291=0,K291=0),100,(((N291-J291)/COUNTIF(D:D,D291))*100)+100) -> 137.57062 | J291: =RANK(G291,$G$3:$G$356,0) -> 141 | K291: =VLOOKUP(B291,[1]高三上!$B:$H,6,0) -> 85 | L291: =VLOOKUP(B291,[1]高三上!$B:$H,7,0) -> 何东霖 | M291: =IF(OR(O291=0,K291=0),100,(((R291-N291)/COUNTIF(D:D,D291))*100)+100) -> 120.33898 | N291: =RANK(K291,$K$3:$K$356,0) -> 274 | O291: =VLOOKUP(B291,[1]高二下!$B:$H,6,0) -> 63 | P291: =VLOOKUP(B291,[1]高二下!$B:$H,7,0) -> 杨翁基之玛 | Q291: =IF(OR(O291=0,S291=0),100,(((V291-R291)/COUNTIF(D:D,D291))*100)+100) -> 93.785311 | R291: =RANK(O291,$O$3:$O$356,0) -> 346 | S291: =VLOOKUP(B291,[1]高二上!$B:$H,6,0) -> 78 | T291: =VLOOKUP(B291,[1]高二上!$B:$H,7,0) -> 李正琪 | U291: =IF(OR(W291=0,S291=0),100,(((Z291-V291)/COUNTIF(D:D,D291))*100)+100) -> 96.327684 | V291: =RANK(S291,$S$3:$S$356,0) -> 324 | W291: =VLOOKUP(B291,[1]高一下!$B:$H,6,0) -> 75 | X291: =VLOOKUP(B291,[1]高一下!$B:$H,7,0) -> 李正琪 | Y291: =IF(OR(W291=0,AA291=0),100,(((AD291-Z291)/COUNTIF(D:D,D291))*100)+100) -> 110.16949 | Z291: =RANK(W291,$W$3:$W$356,0) -> 311 | AA291: =VLOOKUP(B291,[1]高一上!$B:$G,5,0) -> 63 | AB291: =VLOOKUP(B291,[1]高一上!$B:$G,6,0) -> 张镇棚 | AC291: =IF(OR(AE291=0,AA291=0),100,(((AF291-AD291)/COUNTIF(D:D,D291))*100)+100) -> 46.892655 | AD291: =RANK(AA291,$AA$3:$AA$356,0) -> 347 | AE291: =VLOOKUP(B291,[1]中考!$B:$G,6,0) -> 104 | AF291: =RANK(AE291,AE291:AE643,0) -> 159
A292: 513422200704012528 | B292: G513422200704012528 | C292: 7 | D292: 物理类 | E292: 徐如梅 | F292: 440 | G292: 96 | H292: 何东霖 | I292: =IF(OR(G292=0,K292=0),100,(((N292-J292)/COUNTIF(D:D,D292))*100)+100) -> 97.175141 | J292: =RANK(G292,$G$3:$G$356,0) -> 211 | K292: =VLOOKUP(B292,[1]高三上!$B:$H,6,0) -> 90 | L292: =VLOOKUP(B292,[1]高三上!$B:$H,7,0) -> 何东霖 | M292: =IF(OR(O292=0,K292=0),100,(((R292-N292)/COUNTIF(D:D,D292))*100)+100) -> 50 | N292: =RANK(K292,$K$3:$K$356,0) -> 201 | O292: =VLOOKUP(B292,[1]高二下!$B:$H,6,0) -> 98 | P292: =VLOOKUP(B292,[1]高二下!$B:$H,7,0) -> 杨翁基之玛 | Q292: =IF(OR(O292=0,S292=0),100,(((V292-R292)/COUNTIF(D:D,D292))*100)+100) -> 142.65537 | R292: =RANK(O292,$O$3:$O$356,0) -> 24 | S292: =VLOOKUP(B292,[1]高二上!$B:$H,6,0) -> 92 | T292: =VLOOKUP(B292,[1]高二上!$B:$H,7,0) -> 李正琪 | U292: =IF(OR(W292=0,S292=0),100,(((Z292-V292)/COUNTIF(D:D,D292))*100)+100) -> 122.31638 | V292: =RANK(S292,$S$3:$S$356,0) -> 175 | W292: =VLOOKUP(B292,[1]高一下!$B:$H,6,0) -> 81 | X292: =VLOOKUP(B292,[1]高一下!$B:$H,7,0) -> 李正琪 | Y292: =IF(OR(W292=0,AA292=0),100,(((AD292-Z292)/COUNTIF(D:D,D292))*100)+100) -> 88.418079 | Z292: =RANK(W292,$W$3:$W$356,0) -> 254 | AA292: =VLOOKUP(B292,[1]高一上!$B:$G,5,0) -> 77 | AB292: =VLOOKUP(B292,[1]高一上!$B:$G,6,0) -> 杨翁基之玛 | AC292: =IF(OR(AE292=0,AA292=0),100,(((AF292-AD292)/COUNTIF(D:D,D292))*100)+100) -> 94.067797 | AD292: =RANK(AA292,$AA$3:$AA$356,0) -> 213 | AE292: =VLOOKUP(B292,[1]中考!$B:$G,6,0) -> 102 | AF292: =RANK(AE292,AE292:AE644,0) -> 192
A293: 513422200403107013 | B293: G513422200403107013 | C293: 7 | D293: 物理类 | E293: 打珍次尔 | F293: 415 | G293: 98 | H293: 何东霖 | I293: =IF(OR(G293=0,K293=0),100,(((N293-J293)/COUNTIF(D:D,D293))*100)+100) -> 101.9774 | J293: =RANK(G293,$G$3:$G$356,0) -> 182 | K293: =VLOOKUP(B293,[1]高三上!$B:$H,6,0) -> 91 | L293: =VLOOKUP(B293,[1]高三上!$B:$H,7,0) -> 何东霖 | M293: =IF(OR(O293=0,K293=0),100,(((R293-N293)/COUNTIF(D:D,D293))*100)+100) -> 111.86441 | N293: =RANK(K293,$K$3:$K$356,0) -> 189 | O293: =VLOOKUP(B293,[1]高二下!$B:$H,6,0) -> 84 | P293: =VLOOKUP(B293,[1]高二下!$B:$H,7,0) -> 杨翁基之玛 | Q293: =IF(OR(O293=0,S293=0),100,(((V293-R293)/COUNTIF(D:D,D293))*100)+100) -> 124.57627 | R293: =RANK(O293,$O$3:$O$356,0) -> 231 | S293: =VLOOKUP(B293,[1]高二上!$B:$H,6,0) -> 79 | T293: =VLOOKUP(B293,[1]高二上!$B:$H,7,0) -> 李正琪 | U293: =IF(OR(W293=0,S293=0),100,(((Z293-V293)/COUNTIF(D:D,D293))*100)+100) -> 103.10734 | V293: =RANK(S293,$S$3:$S$356,0) -> 318 | W293: =VLOOKUP(B293,[1]高一下!$B:$H,6,0) -> 71 | X293: =VLOOKUP(B293,[1]高一下!$B:$H,7,0) -> 李正琪 | Y293: =IF(OR(W293=0,AA293=0),100,(((AD293-Z293)/COUNTIF(D:D,D293))*100)+100) -> 99.435028 | Z293: =RANK(W293,$W$3:$W$356,0) -> 329 | AA293: =VLOOKUP(B293,[1]高一上!$B:$G,5,0) -> 67 | AB293: =VLOOKUP(B293,[1]高一上!$B:$G,6,0) -> 李正琪 | AC293: =IF(OR(AE293=0,AA293=0),100,(((AF293-AD293)/COUNTIF(D:D,D293))*100)+100) -> 98.305085 | AD293: =RANK(AA293,$AA$3:$AA$356,0) -> 327 | AE293: =VLOOKUP(B293,[1]中考!$B:$G,6,0) -> 87 | AF293: =RANK(AE293,AE293:AE645,0) -> 321
A294: 513422200802080719 | B294: G513422200802080719 | C294: 7 | D294: 物理类 | E294: 王金兵 | F294: 377 | G294: 84 | H294: 何东霖 | I294: =IF(OR(G294=0,K294=0),100,(((N294-J294)/COUNTIF(D:D,D294))*100)+100) -> 58.474576 | J294: =RANK(G294,$G$3:$G$356,0) -> 336 | K294: =VLOOKUP(B294,[1]高三上!$B:$H,6,0) -> 91 | L294: =VLOOKUP(B294,[1]高三上!$B:$H,7,0) -> 何东霖 | M294: =IF(OR(O294=0,K294=0),100,(((R294-N294)/COUNTIF(D:D,D294))*100)+100) -> 88.700565 | N294: =RANK(K294,$K$3:$K$356,0) -> 189 | O294: =VLOOKUP(B294,[1]高二下!$B:$H,6,0) -> 88 | P294: =VLOOKUP(B294,[1]高二下!$B:$H,7,0) -> 杨翁基之玛 | Q294: =IF(OR(O294=0,S294=0),100,(((V294-R294)/COUNTIF(D:D,D294))*100)+100) -> 122.88136 | R294: =RANK(O294,$O$3:$O$356,0) -> 149 | S294: =VLOOKUP(B294,[1]高二上!$B:$H,6,0) -> 88 | T294: =VLOOKUP(B294,[1]高二上!$B:$H,7,0) -> 李正琪 | U294: =IF(OR(W294=0,S294=0),100,(((Z294-V294)/COUNTIF(D:D,D294))*100)+100) -> 106.77966 | V294: =RANK(S294,$S$3:$S$356,0) -> 230 | W294: =VLOOKUP(B294,[1]高一下!$B:$H,6,0) -> 81 | X294: =VLOOKUP(B294,[1]高一下!$B:$H,7,0) -> 李正琪 | Y294: =IF(OR(W294=0,AA294=0),100,(((AD294-Z294)/COUNTIF(D:D,D294))*100)+100) -> 119.49153 | Z294: =RANK(W294,$W$3:$W$356,0) -> 254 | AA294: =VLOOKUP(B294,[1]高一上!$B:$G,5,0) -> 68 | AB294: =VLOOKUP(B294,[1]高一上!$B:$G,6,0) -> 格绒燚西 | AC294: =IF(OR(AE294=0,AA294=0),100,(((AF294-AD294)/COUNTIF(D:D,D294))*100)+100) -> 92.655367 | AD294: =RANK(AA294,$AA$3:$AA$356,0) -> 323 | AE294: =VLOOKUP(B294,[1]中考!$B:$G,6,0) -> 91 | AF294: =RANK(AE294,AE294:AE646,0) -> 297
... A300: 513422200610084627 | B300: G513422200610084627 | C300: 7 | D300: 物理类 | E300: 毛小英 | F300: 375 | G300: 93 | H300: 何东霖 | I300: =IF(OR(G300=0,K300=0),100,(((N300-J300)/COUNTIF(D:D,D300))*100)+100) -> 45.19774 | J300: =RANK(G300,$G$3:$G$356,0) -> 250 | K300: =VLOOKUP(B300,[1]高三上!$B:$H,6,0) -> 103 | L300: =VLOOKUP(B300,[1]高三上!$B:$H,7,0) -> 何东霖 | M300: =IF(OR(O300=0,K300=0),100,(((R300-N300)/COUNTIF(D:D,D300))*100)+100) -> 149.43503 | N300: =RANK(K300,$K$3:$K$356,0) -> 56 | O300: =VLOOKUP(B300,[1]高二下!$B:$H,6,0) -> 84 | P300: =VLOOKUP(B300,[1]高二下!$B:$H,7,0) -> 杨翁基之玛 | Q300: =IF(OR(O300=0,S300=0),100,(((V300-R300)/COUNTIF(D:D,D300))*100)+100) -> 49.152542 | R300: =RANK(O300,$O$3:$O$356,0) -> 231 | S300: =VLOOKUP(B300,[1]高二上!$B:$H,6,0) -> 102 | T300: =VLOOKUP(B300,[1]高二上!$B:$H,7,0) -> 李正琪 | U300: =IF(OR(W300=0,S300=0),100,(((Z300-V300)/COUNTIF(D:D,D300))*100)+100) -> 115.25424 | V300: =RANK(S300,$S$3:$S$356,0) -> 51 | W300: =VLOOKUP(B300,[1]高一下!$B:$H,6,0) -> 91 | X300: =VLOOKUP(B300,[1]高一下!$B:$H,7,0) -> 李正琪 | Y300: =IF(OR(W300=0,AA300=0),100,(((AD300-Z300)/COUNTIF(D:D,D300))*100)+100) -> 125.70621 | Z300: =RANK(W300,$W$3:$W$356,0) -> 105 | AA300: =VLOOKUP(B300,[1]高一上!$B:$G,5,0) -> 78 | AB300: =VLOOKUP(B300,[1]高一上!$B:$G,6,0) -> 李正琪 | AC300: =IF(OR(AE300=0,AA300=0),100,(((AF300-AD300)/COUNTIF(D:D,D300))*100)+100) -> 60.169492 | AD300: =RANK(AA300,$AA$3:$AA$356,0) -> 196 | AE300: =VLOOKUP(B300,[1]中考!$B:$G,6,0) -> 112 | AF300: =RANK(AE300,AE300:AE652,0) -> 55
...

Sheet 语文老师汇总得分
A1: 高考 | B1: 行标签 | C1: 平均值项:得分 | F1: 陈光汇 | G1: =SUMIF(B1:C83,F1,C1:C83) -> 603.08721
B2: 陈光汇 | C2: 99.247495 | F2: 格绒燚西 | G2: =SUMIF(B2:C84,F2,C2:C84) -> 597.22921
B3: 格绒燚西 | C3: 104.15032 | F3: 何东霖 | G3: =SUMIF(B3:C85,F3,C3:C85) -> 198.29004
B4: 何东霖 | C4: 100.2248 | F4: 肖锐 | G4: =SUMIF(B4:C86,F4,C4:C86) -> 586.13724
B5: 肖锐 | C5: 101.54165 | F5: 杨翁基之玛 | G5: =SUMIF(B5:C87,F5,C5:C87) -> 595.97669
B6: 杨翁基之玛 | C6: 92.361384 | F6: 易涛 | G6: =SUMIF(B6:C88,F6,C6:C88) -> 585.33056
B7: 易涛 | C7: 91.287107 | F7: 岳子琦 | G7: =SUMIF(B7:C89,F7,C7:C89) -> 605.43429
B8: 岳子琦 | C8: 100.59701 | F8: 周菊明 | G8: =SUMIF(B8:C90,F8,C8:C90) -> 606.06229
B9: 周菊明 | C9: 100.12482 | F9: 甲阿祝玛 | G9: =SUMIF(B9:C91,F9,C9:C91) -> 209.7561
B10: (空白) | F10: 李正琪 | G10: =SUMIF(B10:C92,F10,C10:C92) -> 296.61766
B11: 总计 | C11: 98.688039 | F11: 刘权芳 | G11: =SUMIF(B11:C93,F11,C11:C93) -> 186.06661
F12: 刘云菊 | G12: =SUMIF(B12:C94,F12,C12:C94) -> 194.39678
F13: 张镇棚 | G13: =SUMIF(B13:C95,F13,C13:C95) -> 206.7053
B14: 行标签 | C14: 平均值项:得分
B15: 陈光汇 | C15: 102.40735
B16: 格绒燚西 | C16: 98.907757
B17: 何东霖 | C17: 98.065242
B18: 肖锐 | C18: 102.02908
B19: 杨翁基之玛 | C19: 98.454836
B20: 易涛 | C20: 100.38681
B21: 岳子琦 | C21: 98.600824
B22: 周菊明 | C22: 101.5898
B23: (空白)
B24: 总计 | C24: 99.949392
B26: 高二下
B27: 行标签 | C27: 平均值项:得分
B28: 陈光汇 | C28: 97.09143
B29: 格绒燚西 | C29: 98.847593
B30: 甲阿祝玛 | C30: 104.14288
B31: 肖锐 | C31: 98.211925
B32: 杨翁基之玛 | C32: 109.66659
B33: 易涛 | C33: 100.81756
B34: 岳子琦 | C34: 103.53514
B35: 周菊明 | C35: 94.777296
B36: (空白)
B37: 总计 | C37: 101.45737
B39: 高二上
B40: 行标签 | C40: 平均值项:得分
B41: 陈光汇 | C41: 108.61626
B42: 格绒燚西 | C42: 93.999608
B43: 甲阿祝玛 | C43: 105.61322
B44: 李正琪 | C44: 99.807123
B45: 肖锐 | C45: 97.646953
B46: 杨翁基之玛 | C46: 99.671986
B47: 易涛 | C47: 94.854475
B48: 岳子琦 | C48: 99.147942
B49: 周菊明 | C49: 107.2658
B50: (空白)
B51: 总计 | C51: 100.1082
B53: 高一下
B54: 行标签 | C54: 平均值项:得分
B55: 陈光汇 | C55: 101.33218
B56: 格绒燚西 | C56: 106.59713
B57: 李正琪 | C57: 93.923002
B58: 刘权芳 | C58: 97.587571
B59: 刘云菊 | C59: 96.769835
B60: 肖锐 | C60: 96.498352
B61: 杨翁基之玛 | C61: 99.571169
B62: 易涛 | C62: 106.0839
B63: 岳子琦 | C63: 97.785228
B64: 张镇棚 | C64: 98.481542
B65: 周菊明 | C65: 97.6135
B66: (空白)
B67: 总计 | C67: 99.993281
B69: 高一上
B70: 行标签 | C70: 平均值项:得分
B71: 陈光汇 | C71: 94.392495
B72: 格绒燚西 | C72: 94.726792
B73: 李正琪 | C73: 102.88754
B74: 刘权芳 | C74: 88.479041
B75: 刘云菊 | C75: 97.62694
B76: 肖锐 | C76: 90.20928
B77: 杨翁基之玛 | C77: 96.250724
B78: 易涛 | C78: 91.900714
B79: 岳子琦 | C79: 105.76813
B80: 张镇棚 | C80: 108.22375
B81: 周菊明 | C81: 104.69107
B82: (空白)
B83: 总计 | C83: 96.88553

Sheet 数学
A1: 身份证号码 | B1: 辅助学籍号 | C1: 班级 | D1: 科类 | E1: 姓名 | F1: 总分 | G1: 高考 | K1: 高三上 | O1: 高二下 | S1: 高二上 | W1: 高一下 | AA1: 高一上 | AE1: 中考
G2: 成绩 | H2: 教师 | I2: 得分 | J2: 排名 | K2: 成绩 | L2: 教师 | M2: 得分 | N2: 排名 | O2: 成绩 | P2: 教师 | Q2: 得分 | R2: 排名 | S2: 成绩 | T2: 教师 | U2: 得分 | V2: 排名 | W2: 成绩 | X2: 教师 | Y2: 得分 | Z2: 排名 | AA2: 成绩 | AB2: 教师 | AC2: 得分 | AD2: 排名 | AE2: 成绩 | AF2: 排名
A3: 513422200609206017 | B3: G513422200609206017 | C3: 1 | D3: 物理类 | E3: 仁青杜基 | F3: 624 | G3: =VLOOKUP(B3,'[1]高三下(高考)'!$B:$J,8,0) -> 125 | H3: =VLOOKUP(B3,'[1]高三下(高考)'!$B:$J,9,0) -> 赵云川 | I3: =IF(OR(G3=0,K3=0),100,(((N3-J3)/COUNTIF(D:D,D3))*100)+100) -> 100.28249 | J3: =RANK(G3,$G$3:$G$356,0) -> 1 | K3: =VLOOKUP(B3,[1]高三上!$B:$J,8,0) -> 108 | L3: =VLOOKUP(B3,[1]高三上!$B:$J,9,0) -> 赵云川 | M3: =IF(OR(O3=0,K3=0),100,(((R3-N3)/COUNTIF(D:D,D3))*100)+100) -> 103.10734 | N3: =RANK(K3,$K$3:$K$356,0) -> 2 | O3: =VLOOKUP(B3,[1]高二下!$B:$J,8,0) -> 99 | P3: =VLOOKUP(B3,[1]高二下!$B:$J,9,0) -> 赵云川 | Q3: =IF(OR(O3=0,S3=0),100,(((V3-R3)/COUNTIF(D:D,D3))*100)+100) -> 96.610169 | R3: =RANK(O3,$O$3:$O$356,0) -> 13 | S3: =VLOOKUP(B3,[1]高二上!$B:$J,8,0) -> 146 | T3: =VLOOKUP(B3,[1]高二上!$B:$J,9,0) -> 赵云川 | U3: =IF(OR(W3=0,S3=0),100,(((Z3-V3)/COUNTIF(D:D,D3))*100)+100) -> 100 | V3: =RANK(S3,$S$3:$S$356,0) -> 1 | W3: =VLOOKUP(B3,[1]高一下!$B:$J,8,0) -> 132 | X3: =VLOOKUP(B3,[1]高一下!$B:$J,9,0) -> 赵云川 | Y3: =IF(OR(W3=0,AA3=0),100,(((AD3-Z3)/COUNTIF(D:D,D3))*100)+100) -> 100.56497 | Z3: =RANK(W3,$W$3:$W$356,0) -> 1 | AA3: =VLOOKUP(B3,[1]高一上!$B:$I,7,0) -> 117 | AB3: =VLOOKUP(B3,[1]高一上!$B:$I,8,0) -> 赵云川 | AC3: =IF(OR(AE3=0,AA3=0),100,(((AF3-AD3)/COUNTIF(D:D,D3))*100)+100) -> 99.435028 | AD3: =RANK(AA3,$AA$3:$AA$356,0) -> 3 | AE3: =VLOOKUP(B3,[1]中考!$B:$H,7,0) -> 138 | AF3: =RANK(AE3,AE3:AE356,0) -> 1
A4: 51342220070812341X | B4: G51342220070812341X | C4: 1 | D4: 物理类 | E4: 潘路阳 | F4: 607 | G4: =VLOOKUP(B4,'[1]高三下(高考)'!$B:$J,8,0) -> 123 | H4: =VLOOKUP(B4,'[1]高三下(高考)'!$B:$J,9,0) -> 赵云川 | I4: =IF(OR(G4=0,K4=0),100,(((N4-J4)/COUNTIF(D:D,D4))*100)+100) -> 101.41243 | J4: =RANK(G4,$G$3:$G$356,0) -> 2 | K4: =VLOOKUP(B4,[1]高三上!$B:$J,8,0) -> 100 | L4: =VLOOKUP(B4,[1]高三上!$B:$J,9,0) -> 赵云川 | M4: =IF(OR(O4=0,K4=0),100,(((R4-N4)/COUNTIF(D:D,D4))*100)+100) -> 100.84746 | N4: =RANK(K4,$K$3:$K$356,0) -> 7 | O4: =VLOOKUP(B4,[1]高二下!$B:$J,8,0) -> 101 | P4: =VLOOKUP(B4,[1]高二下!$B:$J,9,0) -> 赵云川 | Q4: =IF(OR(O4=0,S4=0),100,(((V4-R4)/COUNTIF(D:D,D4))*100)+100) -> 98.305085 | R4: =RANK(O4,$O$3:$O$356,0) -> 10 | S4: =VLOOKUP(B4,[1]高二上!$B:$J,8,0) -> 115 | T4: =VLOOKUP(B4,[1]高二上!$B:$J,9,0) -> 赵云川 | U4: =IF(OR(W4=0,S4=0),100,(((Z4-V4)/COUNTIF(D:D,D4))*100)+100) -> 101.69492 | V4: =RANK(S4,$S$3:$S$356,0) -> 4 | W4: =VLOOKUP(B4,[1]高一下!$B:$J,8,0) -> 114 | X4: =VLOOKUP(B4,[1]高一下!$B:$J,9,0) -> 赵云川 | Y4: =IF(OR(W4=0,AA4=0),100,(((AD4-Z4)/COUNTIF(D:D,D4))*100)+100) -> 97.740113 | Z4: =RANK(W4,$W$3:$W$356,0) -> 10 | AA4: =VLOOKUP(B4,[1]高一上!$B:$I,7,0) -> 118 | AB4: =VLOOKUP(B4,[1]高一上!$B:$I,8,0) -> 赵云川 | AC4: =IF(OR(AE4=0,AA4=0),100,(((AF4-AD4)/COUNTIF(D:D,D4))*100)+100) -> 101.9774 | AD4: =RANK(AA4,$AA$3:$AA$356,0) -> 2 | AE4: =VLOOKUP(B4,[1]中考!$B:$H,7,0) -> 132 | AF4: =RANK(AE4,AE4:AE357,0) -> 9
A5: 513422200708114417 | B5: G513422200708114417 | C5: 1 | D5: 物理类 | E5: 杨东生 | F5: 603 | G5: =VLOOKUP(B5,'[1]高三下(高考)'!$B:$J,8,0) -> 118 | H5: =VLOOKUP(B5,'[1]高三下(高考)'!$B:$J,9,0) -> 赵云川 | I5: =IF(OR(G5=0,K5=0),100,(((N5-J5)/COUNTIF(D:D,D5))*100)+100) -> 99.435028 | J5: =RANK(G5,$G$3:$G$356,0) -> 3 | K5: =VLOOKUP(B5,[1]高三上!$B:$J,8,0) -> 123 | L5: =VLOOKUP(B5,[1]高三上!$B:$J,9,0) -> 赵云川 | M5: =IF(OR(O5=0,K5=0),100,(((R5-N5)/COUNTIF(D:D,D5))*100)+100) -> 100.56497 | N5: =RANK(K5,$K$3:$K$356,0) -> 1 | O5: =VLOOKUP(B5,[1]高二下!$B:$J,8,0) -> 109 | P5: =VLOOKUP(B5,[1]高二下!$B:$J,9,0) -> 赵云川 | Q5: =IF(OR(O5=0,S5=0),100,(((V5-R5)/COUNTIF(D:D,D5))*100)+100) -> 99.717514 | R5: =RANK(O5,$O$3:$O$356,0) -> 3 | S5: =VLOOKUP(B5,[1]高二上!$B:$J,8,0) -> 132 | T5: =VLOOKUP(B5,[1]高二上!$B:$J,9,0) -> 赵云川 | U5: =IF(OR(W5=0,S5=0),100,(((Z5-V5)/COUNTIF(D:D,D5))*100)+100) -> 100.84746 | V5: =RANK(S5,$S$3:$S$356,0) -> 2 | W5: =VLOOKUP(B5,[1]高一下!$B:$J,8,0) -> 118 | X5: =VLOOKUP(B5,[1]高一下!$B:$J,9,0) -> 赵云川 | Y5: =IF(OR(W5=0,AA5=0),100,(((AD5-Z5)/COUNTIF(D:D,D5))*100)+100) -> 107.9096 | Z5: =RANK(W5,$W$3:$W$356,0) -> 5 | AA5: =VLOOKUP(B5,[1]高一上!$B:$I,7,0) -> 92 | AB5: =VLOOKUP(B5,[1]高一上!$B:$I,8,0) -> 赵云川 | AC5: =IF(OR(AE5=0,AA5=0),100,(((AF5-AD5)/COUNTIF(D:D,D5))*100)+100) -> 93.220339 | AD5: =RANK(AA5,$AA$3:$AA$356,0) -> 33 | AE5: =VLOOKUP(B5,[1]中考!$B:$H,7,0) -> 132 | AF5: =RANK(AE5,AE5:AE358,0) -> 9
A6: 513422200701205025 | B6: G513422200701205025 | C6: 1 | D6: 物理类 | E6: 次里拉姆 | F6: 594 | G6: =VLOOKUP(B6,'[1]高三下(高考)'!$B:$J,8,0) -> 117 | H6: =VLOOKUP(B6,'[1]高三下(高考)'!$B:$J,9,0) -> 赵云川 | I6: =IF(OR(G6=0,K6=0),100,(((N6-J6)/COUNTIF(D:D,D6))*100)+100) -> 99.717514 | J6: =RANK(G6,$G$3:$G$356,0) -> 4 | K6: =VLOOKUP(B6,[1]高三上!$B:$J,8,0) -> 105 | L6: =VLOOKUP(B6,[1]高三上!$B:$J,9,0) -> 赵云川 | M6: =IF(OR(O6=0,K6=0),100,(((R6-N6)/COUNTIF(D:D,D6))*100)+100) -> 99.435028 | N6: =RANK(K6,$K$3:$K$356,0) -> 3 | O6: =VLOOKUP(B6,[1]高二下!$B:$J,8,0) -> 118 | P6: =VLOOKUP(B6,[1]高二下!$B:$J,9,0) -> 赵云川 | Q6: =IF(OR(O6=0,S6=0),100,(((V6-R6)/COUNTIF(D:D,D6))*100)+100) -> 104.23729 | R6: =RANK(O6,$O$3:$O$356,0) -> 1 | S6: =VLOOKUP(B6,[1]高二上!$B:$J,8,0) -> 106 | T6: =VLOOKUP(B6,[1]高二上!$B:$J,9,0) -> 赵云川 | U6: =IF(OR(W6=0,S6=0),100,(((Z6-V6)/COUNTIF(D:D,D6))*100)+100) -> 96.327684 | V6: =RANK(S6,$S$3:$S$356,0) -> 16 | W6: =VLOOKUP(B6,[1]高一下!$B:$J,8,0) -> 119 | X6: =VLOOKUP(B6,[1]高一下!$B:$J,9,0) -> 赵云川 | Y6: =IF(OR(W6=0,AA6=0),100,(((AD6-Z6)/COUNTIF(D:D,D6))*100)+100) -> 102.25989 | Z6: =RANK(W6,$W$3:$W$356,0) -> 3 | AA6: =VLOOKUP(B6,[1]高一上!$B:$I,7,0) -> 103 | AB6: =VLOOKUP(B6,[1]高一上!$B:$I,8,0) -> 赵云川 | AC6: =IF(OR(AE6=0,AA6=0),100,(((AF6-AD6)/COUNTIF(D:D,D6))*100)+100) -> 100 | AD6: =RANK(AA6,$AA$3:$AA$356,0) -> 11 | AE6: =VLOOKUP(B6,[1]中考!$B:$H,7,0) -> 131 | AF6: =RANK(AE6,AE6:AE359,0) -> 11
A7: 513422200605053818 | B7: G513422200605053818 | C7: 1 | D7: 物理类 | E7: 马文海 | F7: 585 | G7: =VLOOKUP(B7,'[1]高三下(高考)'!$B:$J,8,0) -> 117 | H7: =VLOOKUP(B7,'[1]高三下(高考)'!$B:$J,9,0) -> 赵云川 | I7: =IF(OR(G7=0,K7=0),100,(((N7-J7)/COUNTIF(D:D,D7))*100)+100) -> 100.28249 | J7: =RANK(G7,$G$3:$G$356,0) -> 4 | K7: =VLOOKUP(B7,[1]高三上!$B:$J,8,0) -> 102 | L7: =VLOOKUP(B7,[1]高三上!$B:$J,9,0) -> 赵云川 | M7: =IF(OR(O7=0,K7=0),100,(((R7-N7)/COUNTIF(D:D,D7))*100)+100) -> 101.69492 | N7: =RANK(K7,$K$3:$K$356,0) -> 5 | O7: =VLOOKUP(B7,[1]高二下!$B:$J,8,0) -> 100 | P7: =VLOOKUP(B7,[1]高二下!$B:$J,9,0) -> 赵云川 | Q7: =IF(OR(O7=0,S7=0),100,(((V7-R7)/COUNTIF(D:D,D7))*100)+100) -> 99.435028 | R7: =RANK(O7,$O$3:$O$356,0) -> 11 | S7: =VLOOKUP(B7,[1]高二上!$B:$J,8,0) -> 108 | T7: =VLOOKUP(B7,[1]高二上!$B:$J,9,0) -> 赵云川 | U7: =IF(OR(W7=0,S7=0),100,(((Z7-V7)/COUNTIF(D:D,D7))*100)+100) -> 108.47458 | V7: =RANK(S7,$S$3:$S$356,0) -> 9 | W7: =VLOOKUP(B7,[1]高一下!$B:$J,8,0) -> 98 | X7: =VLOOKUP(B7,[1]高一下!$B:$J,9,0) -> 赵云川 | Y7: =IF(OR(W7=0,AA7=0),100,(((AD7-Z7)/COUNTIF(D:D,D7))*100)+100) -> 96.610169 | Z7: =RANK(W7,$W$3:$W$356,0) -> 39 | AA7: =VLOOKUP(B7,[1]高一上!$B:$I,7,0) -> 94 | AB7: =VLOOKUP(B7,[1]高一上!$B:$I,8,0) -> 赵云川 | AC7: =IF(OR(AE7=0,AA7=0),100,(((AF7-AD7)/COUNTIF(D:D,D7))*100)+100) -> 100.56497 | AD7: =RANK(AA7,$AA$3:$AA$356,0) -> 27 | AE7: =VLOOKUP(B7,[1]中考!$B:$H,7,0) -> 125 | AF7: =RANK(AE7,AE7:AE360,0) -> 29
A8: 513422200705272727 | B8: G513422200705272727 | C8: 1 | D8: 物理类 | E8: 周静 | F8: 575 | G8: =VLOOKUP(B8,'[1]高三下(高考)'!$B:$J,8,0) -> 105 | H8: =VLOOKUP(B8,'[1]高三下(高考)'!$B:$J,9,0) -> 赵云川 | I8: =IF(OR(G8=0,K8=0),100,(((N8-J8)/COUNTIF(D:D,D8))*100)+100) -> 94.632768 | J8: =RANK(G8,$G$3:$G$356,0) -> 28 | K8: =VLOOKUP(B8,[1]高三上!$B:$J,8,0) -> 99 | L8: =VLOOKUP(B8,[1]高三上!$B:$J,9,0) -> 赵云川 | M8: =IF(OR(O8=0,K8=0),100,(((R8-N8)/COUNTIF(D:D,D8))*100)+100) -> 98.305085 | N8: =RANK(K8,$K$3:$K$356,0) -> 9 | O8: =VLOOKUP(B8,[1]高二下!$B:$J,8,0) -> 109 | P8: =VLOOKUP(B8,[1]高二下!$B:$J,9,0) -> 赵云川 | Q8: =IF(OR(O8=0,S8=0),100,(((V8-R8)/COUNTIF(D:D,D8))*100)+100) -> 120.0565 | R8: =RANK(O8,$O$3:$O$356,0) -> 3 | S8: =VLOOKUP(B8,[1]高二上!$B:$J,8,0) -> 80 | T8: =VLOOKUP(B8,[1]高二上!$B:$J,9,0) -> 赵云川 | U8: =IF(OR(W8=0,S8=0),100,(((Z8-V8)/COUNTIF(D:D,D8))*100)+100) -> 90.112994 | V8: =RANK(S8,$S$3:$S$356,0) -> 74 | W8: =VLOOKUP(B8,[1]高一下!$B:$J,8,0) -> 98 | X8: =VLOOKUP(B8,[1]高一下!$B:$J,9,0) -> 赵云川 | Y8: =IF(OR(W8=0,AA8=0),100,(((AD8-Z8)/COUNTIF(D:D,D8))*100)+100) -> 101.69492 | Z8: =RANK(W8,$W$3:$W$356,0) -> 39 | AA8: =VLOOKUP(B8,[1]高一上!$B:$I,7,0) -> 84 | AB8: =VLOOKUP(B8,[1]高一上!$B:$I,8,0) -> 赵云川 | AC8: =IF(OR(AE8=0,AA8=0),100,(((AF8-AD8)/COUNTIF(D:D,D8))*100)+100) -> 103.10734 | AD8: =RANK(AA8,$AA$3:$AA$356,0) -> 45 | AE8: =VLOOKUP(B8,[1]中考!$B:$H,7,0) -> 121 | AF8: =RANK(AE8,AE8:AE361,0) -> 56
A9: 51342220070426002X | B9: G51342220070426002X | C9: 1 | D9: 物理类 | E9: 杨语曦 | F9: 568 | G9: =VLOOKUP(B9,'[1]高三下(高考)'!$B:$J,8,0) -> 105 | H9: =VLOOKUP(B9,'[1]高三下(高考)'!$B:$J,9,0) -> 赵云川 | I9: =IF(OR(G9=0,K9=0),100,(((N9-J9)/COUNTIF(D:D,D9))*100)+100) -> 100 | J9: =RANK(G9,$G$3:$G$356,0) -> 28 | K9: =VLOOKUP(B9,[1]高三上!$B:$J,8,0) -> 86 | L9: =VLOOKUP(B9,[1]高三上!$B:$J,9,0) -> 赵云川 | M9: =IF(OR(O9=0,K9=0),100,(((R9-N9)/COUNTIF(D:D,D9))*100)+100) -> 95.762712 | N9: =RANK(K9,$K$3:$K$356,0) -> 28 | O9: =VLOOKUP(B9,[1]高二下!$B:$J,8,0) -> 99 | P9: =VLOOKUP(B9,[1]高二下!$B:$J,9,0) -> 赵云川 | Q9: =IF(OR(O9=0,S9=0),100,(((V9-R9)/COUNTIF(D:D,D9))*100)+100) -> 100.84746 | R9: =RANK(O9,$O$3:$O$356,0) -> 13 | S9: =VLOOKUP(B9,[1]高二上!$B:$J,8,0) -> 106 | T9: =VLOOKUP(B9,[1]高二上!$B:$J,9,0) -> 赵云川 | U9: =IF(OR(W9=0,S9=0),100,(((Z9-V9)/COUNTIF(D:D,D9))*100)+100) -> 122.59887 | V9: =RANK(S9,$S$3:$S$356,0) -> 16 | W9: =VLOOKUP(B9,[1]高一下!$B:$J,8,0) -> 88 | X9: =VLOOKUP(B9,[1]高一下!$B:$J,9,0) -> 赵云川 | Y9: =IF(OR(W9=0,AA9=0),100,(((AD9-Z9)/COUNTIF(D:D,D9))*100)+100) -> 73.163842 | Z9: =RANK(W9,$W$3:$W$356,0) -> 96 | AA9: =VLOOKUP(B9,[1]高一上!$B:$I,7,0) -> 121 | AB9: =VLOOKUP(B9,[1]高一上!$B:$I,8,0) -> 赵云川 | AC9: =IF(OR(AE9=0,AA9=0),100,(((AF9-AD9)/COUNTIF(D:D,D9))*100)+100) -> 100 | AD9: =RANK(AA9,$AA$3:$AA$356,0) -> 1 | AE9: =VLOOKUP(B9,[1]中考!$B:$H,7,0) -> 137 | AF9: =RANK(AE9,AE9:AE362,0) -> 1
A10: 513422200506044430 | B10: G513422200506044430 | C10: 1 | D10: 物理类 | E10: 邱波 | F10: 565 | G10: =VLOOKUP(B10,'[1]高三下(高考)'!$B:$J,8,0) -> 113 | H10: =VLOOKUP(B10,'[1]高三下(高考)'!$B:$J,9,0) -> 赵云川 | I10: =IF(OR(G10=0,K10=0),100,(((N10-J10)/COUNTIF(D:D,D10))*100)+100) -> 115.53672 | J10: =RANK(G10,$G$3:$G$356,0) -> 7 | K10: =VLOOKUP(B10,[1]高三上!$B:$J,8,0) -> 74 | L10: =VLOOKUP(B10,[1]高三上!$B:$J,9,0) -> 赵云川 | M10: =IF(OR(O10=0,K10=0),100,(((R10-N10)/COUNTIF(D:D,D10))*100)+100) -> 104.51977 | N10: =RANK(K10,$K$3:$K$356,0) -> 62 | O10: =VLOOKUP(B10,[1]高二下!$B:$J,8,0) -> 77 | P10: =VLOOKUP(B10,[1]高二下!$B:$J,9,0) -> 赵云川 | Q10: =IF(OR(O10=0,S10=0),100,(((V10-R10)/COUNTIF(D:D,D10))*100)+100) -> 84.463277 | R10: =RANK(O10,$O$3:$O$356,0) -> 78 | S10: =VLOOKUP(B10,[1]高二上!$B:$J,8,0) -> 101 | T10: =VLOOKUP(B10,[1]高二上!$B:$J,9,0) -> 赵云川 | U10: =IF(OR(W10=0,S10=0),100,(((Z10-V10)/COUNTIF(D:D,D10))*100)+100) -> 94.350282 | V10: =RANK(S10,$S$3:$S$356,0) -> 23 | W10: =VLOOKUP(B10,[1]高一下!$B:$J,8,0) -> 119 | X10: =VLOOKUP(B10,[1]高一下!$B:$J,9,0) -> 赵云川 | Y10: =IF(OR(W10=0,AA10=0),100,(((AD10-Z10)/COUNTIF(D:D,D10))*100)+100) -> 120.62147 | Z10: =RANK(W10,$W$3:$W$356,0) -> 3 | AA10: =VLOOKUP(B10,[1]高一上!$B:$I,7,0) -> 74 | AB10: =VLOOKUP(B10,[1]高一上!$B:$I,8,0) -> 喇燕 | AC10: =IF(OR(AE10=0,AA10=0),100,(((AF10-AD10)/COUNTIF(D:D,D10))*100)+100) -> 86.723164 | AD10: =RANK(AA10,$AA$3:$AA$356,0) -> 76 | AE10: =VLOOKUP(B10,[1]中考!$B:$H,7,0) -> 125 | AF10: =RANK(AE10,AE10:AE363,0) -> 29
A11: 513422200412104826 | B11: G513422200412104826 | C11: 1 | D11: 物理类 | E11: 呷绒拉姆 | F11: 559 | G11: =VLOOKUP(B11,'[1]高三下(高考)'!$B:$J,8,0) -> 102 | H11: =VLOOKUP(B11,'[1]高三下(高考)'!$B:$J,9,0) -> 赵云川 | I11: =IF(OR(G11=0,K11=0),100,(((N11-J11)/COUNTIF(D:D,D11))*100)+100) -> 94.067797 | J11: =RANK(G11,$G$3:$G$356,0) -> 41 | K11: =VLOOKUP(B11,[1]高三上!$B:$J,8,0) -> 89 | L11: =VLOOKUP(B11,[1]高三上!$B:$J,9,0) -> 赵云川 | M11: =IF(OR(O11=0,K11=0),100,(((R11-N11)/COUNTIF(D:D,D11))*100)+100) -> 100.56497 | N11: =RANK(K11,$K$3:$K$356,0) -> 20 | O11: =VLOOKUP(B11,[1]高二下!$B:$J,8,0) -> 94 | P11: =VLOOKUP(B11,[1]高二下!$B:$J,9,0) -> 赵云川 | Q11: =IF(OR(O11=0,S11=0),100,(((V11-R11)/COUNTIF(D:D,D11))*100)+100) -> 128.53107 | R11: =RANK(O11,$O$3:$O$356,0) -> 22 | S11: =VLOOKUP(B11,[1]高二上!$B:$J,8,0) -> 69 | T11: =VLOOKUP(B11,[1]高二上!$B:$J,9,0) -> 赵云川 | U11: =IF(OR(W11=0,S11=0),100,(((Z11-V11)/COUNTIF(D:D,D11))*100)+100) -> 77.683616 | V11: =RANK(S11,$S$3:$S$356,0) -> 123 | W11: =VLOOKUP(B11,[1]高一下!$B:$J,8,0) -> 96 | X11: =VLOOKUP(B11,[1]高一下!$B:$J,9,0) -> 赵云川 | Y11: =IF(OR(W11=0,AA11=0),100,(((AD11-Z11)/COUNTIF(D:D,D11))*100)+100) -> 96.892655 | Z11: =RANK(W11,$W$3:$W$356,0) -> 44 | AA11: =VLOOKUP(B11,[1]高一上!$B:$I,7,0) -> 92 | AB11: =VLOOKUP(B11,[1]高一上!$B:$I,8,0) -> 赵云川 | AC11: =IF(OR(AE11=0,AA11=0),100,(((AF11-AD11)/COUNTIF(D:D,D11))*100)+100) -> 90.960452 | AD11: =RANK(AA11,$AA$3:$AA$356,0) -> 33 | AE11: =VLOOKUP(B11,[1]中考!$B:$H,7,0) -> 137 | AF11: =RANK(AE11,AE11:AE364,0) -> 1
A12: 513422200506017010 | B12: G513422200506017010 | C12: 1 | D12: 物理类 | E12: 鲁绒卓西 | F12: 558 | G12: =VLOOKUP(B12,'[1]高三下(高考)'!$B:$J,8,0) -> 107 | H12: =VLOOKUP(B12,'[1]高三下(高考)'!$B:$J,9,0) -> 赵云川 | I12: =IF(OR(G12=0,K12=0),100,(((N12-J12)/COUNTIF(D:D,D12))*100)+100) -> 116.38418 | J12: =RANK(G12,$G$3:$G$356,0) -> 21 | K12: =VLOOKUP(B12,[1]高三上!$B:$J,8,0) -> 71 | L12: =VLOOKUP(B12,[1]高三上!$B:$J,9,0) -> 赵云川 | M12: =IF(OR(O12=0,K12=0),100,(((R12-N12)/COUNTIF(D:D,D12))*100)+100) -> 102.25989 | N12: =RANK(K12,$K$3:$K$356,0) -> 79 | O12: =VLOOKUP(B12,[1]高二下!$B:$J,8,0) -> 75 | P12: =VLOOKUP(B12,[1]高二下!$B:$J,9,0) -> 赵云川 | Q12: =IF(OR(O12=0,S12=0),100,(((V12-R12)/COUNTIF(D:D,D12))*100)+100) -> 92.372881 | R12: =RANK(O12,$O$3:$O$356,0) -> 87 | S12: =VLOOKUP(B12,[1]高二上!$B:$J,8,0) -> 85 | T12: =VLOOKUP(B12,[1]高二上!$B:$J,9,0) -> 赵云川 | U12: =IF(OR(W12=0,S12=0),100,(((Z12-V12)/COUNTIF(D:D,D12))*100)+100) -> 103.10734 | V12: =RANK(S12,$S$3:$S$356,0) -> 60 | W12: =VLOOKUP(B12,[1]高一下!$B:$J,8,0) -> 92 | X12: =VLOOKUP(B12,[1]高一下!$B:$J,9,0) -> 赵云川 | Y12: =IF(OR(W12=0,AA12=0),100,(((AD12-Z12)/COUNTIF(D:D,D12))*100)+100) -> 81.638418 | Z12: =RANK(W12,$W$3:$W$356,0) -> 71 | AA12: =VLOOKUP(B12,[1]高一上!$B:$I,7,0) -> 108 | AB12: =VLOOKUP(B12,[1]高一上!$B:$I,8,0) -> 赵云川 | AC12: =IF(OR(AE12=0,AA12=0),100,(((AF12-AD12)/COUNTIF(D:D,D12))*100)+100) -> 134.18079 | AD12: =RANK(AA12,$AA$3:$AA$356,0) -> 6 | AE12: =VLOOKUP(B12,[1]中考!$B:$H,7,0) -> 112 | AF12: =RANK(AE12,AE12:AE365,0) -> 127
A13: 513422200405285016 | B13: G513422200405285016 | C13: 1 | D13: 物理类 | E13: 英扎次里 | F13: 552 | G13: =VLOOKUP(B13,'[1]高三下(高考)'!$B:$J,8,0) -> 106 | H13: =VLOOKUP(B13,'[1]高三下(高考)'!$B:$J,9,0) -> 赵云川 | I13: =IF(OR(G13=0,K13=0),100,(((N13-J13)/COUNTIF(D:D,D13))*100)+100) -> 93.785311 | J13: =RANK(G13,$G$3:$G$356,0) -> 26 | K13: =VLOOKUP(B13,[1]高三上!$B:$J,8,0) -> 103 | L13: =VLOOKUP(B13,[1]高三上!$B:$J,9,0) -> 赵云川 | M13: =IF(OR(O13=0,K13=0),100,(((R13-N13)/COUNTIF(D:D,D13))*100)+100) -> 127.40113 | N13: =RANK(K13,$K$3:$K$356,0) -> 4 | O13: =VLOOKUP(B13,[1]高二下!$B:$J,8,0) -> 73 | P13: =VLOOKUP(B13,[1]高二下!$B:$J,9,0) -> 赵云川 | Q13: =IF(OR(O13=0,S13=0),100,(((V13-R13)/COUNTIF(D:D,D13))*100)+100) -> 74.011299 | R13: =RANK(O13,$O$3:$O$356,0) -> 101 | S13: =VLOOKUP(B13,[1]高二上!$B:$J,8,0) -> 108 | T13: =VLOOKUP(B13,[1]高二上!$B:$J,9,0) -> 赵云川 | U13: =IF(OR(W13=0,S13=0),100,(((Z13-V13)/COUNTIF(D:D,D13))*100)+100) -> 107.34463 | V13: =RANK(S13,$S$3:$S$356,0) -> 9 | W13: =VLOOKUP(B13,[1]高一下!$B:$J,8,0) -> 100 | X13: =VLOOKUP(B13,[1]高一下!$B:$J,9,0) -> 赵云川 | Y13: =IF(OR(W13=0,AA13=0),100,(((AD13-Z13)/COUNTIF(D:D,D13))*100)+100) -> 92.090395 | Z13: =RANK(W13,$W$3:$W$356,0) -> 35 | AA13: =VLOOKUP(B13,[1]高一上!$B:$I,7,0) -> 107 | AB13: =VLOOKUP(B13,[1]高一上!$B:$I,8,0) -> 赵云川 | AC13: =IF(OR(AE13=0,AA13=0),100,(((AF13-AD13)/COUNTIF(D:D,D13))*100)+100) -> 109.88701 | AD13: =RANK(AA13,$AA$3:$AA$356,0) -> 7 | AE13: =VLOOKUP(B13,[1]中考!$B:$H,7,0) -> 122 | AF13: =RANK(AE13,AE13:AE366,0) -> 42
A14: 513422200607081521 | B14: G513422200607081521 | C14: 1 | D14: 物理类 | E14: 马金秀 | F14: 550 | G14: =VLOOKUP(B14,'[1]高三下(高考)'!$B:$J,8,0) -> 109 | H14: =VLOOKUP(B14,'[1]高三下(高考)'!$B:$J,9,0) -> 赵云川 | I14: =IF(OR(G14=0,K14=0),100,(((N14-J14)/COUNTIF(D:D,D14))*100)+100) -> 97.457627 | J14: =RANK(G14,$G$3:$G$356,0) -> 15 | K14: =VLOOKUP(B14,[1]高三上!$B:$J,8,0) -> 101 | L14: =VLOOKUP(B14,[1]高三上!$B:$J,9,0) -> 赵云川 | M14: =IF(OR(O14=0,K14=0),100,(((R14-N14)/COUNTIF(D:D,D14))*100)+100) -> 109.03955 | N14: =RANK(K14,$K$3:$K$356,0) -> 6 | O14: =VLOOKUP(B14,[1]高二下!$B:$J,8,0) -> 87 | P14: =VLOOKUP(B14,[1]高二下!$B:$J,9,0) -> 赵云川 | Q14: =IF(OR(O14=0,S14=0),100,(((V14-R14)/COUNTIF(D:D,D14))*100)+100) -> 90.960452 | R14: =RANK(O14,$O$3:$O$356,0) -> 38 | S14: =VLOOKUP(B14,[1]高二上!$B:$J,8,0) -> 112 | T14: =VLOOKUP(B14,[1]高二上!$B:$J,9,0) -> 赵云川 | U14: =IF(OR(W14=0,S14=0),100,(((Z14-V14)/COUNTIF(D:D,D14))*100)+100) -> 101.9774 | V14: =RANK(S14,$S$3:$S$356,0) -> 6 | W14: =VLOOKUP(B14,[1]高一下!$B:$J,8,0) -> 108 | X14: =VLOOKUP(B14,[1]高一下!$B:$J,9,0) -> 赵云川 | Y14: =IF(OR(W14=0,AA14=0),100,(((AD14-Z14)/COUNTIF(D:D,D14))*100)+100) -> 97.457627 | Z14: =RANK(W14,$W$3:$W$356,0) -> 13 | AA14: =VLOOKUP(B14,[1]高一上!$B:$I,7,0) -> 114 | AB14: =VLOOKUP(B14,[1]高一上!$B:$I,8,0) -> 赵云川 | AC14: =IF(OR(AE14=0,AA14=0),100,(((AF14-AD14)/COUNTIF(D:D,D14))*100)+100) -> 105.64972 | AD14: =RANK(AA14,$AA$3:$AA$356,0) -> 4 | AE14: =VLOOKUP(B14,[1]中考!$B:$H,7,0) -> 126 | AF14: =RANK(AE14,AE14:AE367,0) -> 24
... A107: 513422200502102111 | B107: G513422200502102111 | C107: 3 | D107: 物理类 | E107: 吕神发 | F107: 472 | G107: =VLOOKUP(B107,'[1]高三下(高考)'!$B:$J,8,0) -> 98 | H107: =VLOOKUP(B107,'[1]高三下(高考)'!$B:$J,9,0) -> 央宗娜姆 | I107: =IF(OR(G107=0,K107=0),100,(((N107-J107)/COUNTIF(D:D,D107))*100)+100) -> 94.067797 | J107: =RANK(G107,$G$3:$G$356,0) -> 52 | K107: =VLOOKUP(B107,[1]高三上!$B:$J,8,0) -> 85 | L107: =VLOOKUP(B107,[1]高三上!$B:$J,9,0) -> 央宗娜姆 | M107: =IF(OR(O107=0,K107=0),100,(((R107-N107)/COUNTIF(D:D,D107))*100)+100) -> 101.9774 | N107: =RANK(K107,$K$3:$K$356,0) -> 31 | O107: =VLOOKUP(B107,[1]高二下!$B:$J,8,0) -> 87 | P107: =VLOOKUP(B107,[1]高二下!$B:$J,9,0) -> 央宗娜姆 | Q107: =IF(OR(O107=0,S107=0),100,(((V107-R107)/COUNTIF(D:D,D107))*100)+100) -> 102.25989 | R107: =RANK(O107,$O$3:$O$356,0) -> 38 | S107: =VLOOKUP(B107,[1]高二上!$B:$J,8,0) -> 90 | T107: =VLOOKUP(B107,[1]高二上!$B:$J,9,0) -> 央宗娜姆 | U107: =IF(OR(W107=0,S107=0),100,(((Z107-V107)/COUNTIF(D:D,D107))*100)+100) -> 93.502825 | V107: =RANK(S107,$S$3:$S$356,0) -> 46 | W107: =VLOOKUP(B107,[1]高一下!$B:$J,8,0) -> 103 | X107: =VLOOKUP(B107,[1]高一下!$B:$J,9,0) -> 央宗娜姆 | Y107: =IF(OR(W107=0,AA107=0),100,(((AD107-Z107)/COUNTIF(D:D,D107))*100)+100) -> 139.54802 | Z107: =RANK(W107,$W$3:$W$356,0) -> 23 | AA107: =VLOOKUP(B107,[1]高一上!$B:$I,7,0) -> 61 | AB107: =VLOOKUP(B107,[1]高一上!$B:$I,8,0) -> 央宗娜姆 | AC107: =IF(OR(AE107=0,AA107=0),100,(((AF107-AD107)/COUNTIF(D:D,D107))*100)+100) -> 55.649718 | AD107: =RANK(AA107,$AA$3:$AA$356,0) -> 163 | AE107: =VLOOKUP(B107,[1]中考!$B:$H,7,0) -> 128 | AF107: =RANK(AE107,AE107:AE460,0) -> 6
A108: 513422200511080022 | B108: G513422200511080022 | C108: 3 | D108: 物理类 | E108: 严高倩 | F108: 471 | G108: =VLOOKUP(B108,'[1]高三下(高考)'!$B:$J,8,0) -> 85 | H108: =VLOOKUP(B108,'[1]高三下(高考)'!$B:$J,9,0) -> 央宗娜姆 | I108: =IF(OR(G108=0,K108=0),100,(((N108-J108)/COUNTIF(D:D,D108))*100)+100) -> 67.514124 | J108: =RANK(G108,$G$3:$G$356,0) -> 168 | K108: =VLOOKUP(B108,[1]高三上!$B:$J,8,0) -> 75 | L108: =VLOOKUP(B108,[1]高三上!$B:$J,9,0) -> 央宗娜姆 | M108: =IF(OR(O108=0,K108=0),100,(((R108-N108)/COUNTIF(D:D,D108))*100)+100) -> 116.10169 | N108: =RANK(K108,$K$3:$K$356,0) -> 53 | O108: =VLOOKUP(B108,[1]高二下!$B:$J,8,0) -> 72 | P108: =VLOOKUP(B108,[1]高二下!$B:$J,9,0) -> 央宗娜姆 | Q108: =IF(OR(O108=0,S108=0),100,(((V108-R108)/COUNTIF(D:D,D108))*100)+100) -> 100 | R108: =RANK(O108,$O$3:$O$356,0) -> 110 | S108: =VLOOKUP(B108,[1]高二上!$B:$J,8,0) -> 0 | T108: =VLOOKUP(B108,[1]高二上!$B:$J,9,0) -> 央宗娜姆 | U108: =IF(OR(W108=0,S108=0),100,(((Z108-V108)/COUNTIF(D:D,D108))*100)+100) -> 100 | V108: =RANK(S108,$S$3:$S$356,0) -> 350 | W108: 0 | X108: =T108 -> 央宗娜姆 | Y108: =IF(OR(W108=0,AA108=0),100,(((AD108-Z108)/COUNTIF(D:D,D108))*100)+100) -> 100 | Z108: =RANK(W108,$W$3:$W$356,0) -> 351 | AA108: 0 | AB108: =X108 -> 央宗娜姆 | AC108: =IF(OR(AE108=0,AA108=0),100,(((AF108-AD108)/COUNTIF(D:D,D108))*100)+100) -> 100 | AD108: =RANK(AA108,$AA$3:$AA$356,0) -> 354 | AE108: 0 | AF108: =RANK(AE108,AE108:AE461,0) -> 346
A109: 513422200712152512 | B109: G513422200712152512 | C109: 3 | D109: 物理类 | E109: 吴学康 | F109: 467 | G109: =VLOOKUP(B109,'[1]高三下(高考)'!$B:$J,8,0) -> 83 | H109: =VLOOKUP(B109,'[1]高三下(高考)'!$B:$J,9,0) -> 央宗娜姆 | I109: =IF(OR(G109=0,K109=0),100,(((N109-J109)/COUNTIF(D:D,D109))*100)+100) -> 58.19209 | J109: =RANK(G109,$G$3:$G$356,0) -> 186 | K109: =VLOOKUP(B109,[1]高三上!$B:$J,8,0) -> 82 | L109: =VLOOKUP(B109,[1]高三上!$B:$J,9,0) -> 央宗娜姆 | M109: =IF(OR(O109=0,K109=0),100,(((R109-N109)/COUNTIF(D:D,D109))*100)+100) -> 138.70056 | N109: =RANK(K109,$K$3:$K$356,0) -> 38 | O109: =VLOOKUP(B109,[1]高二下!$B:$J,8,0) -> 63 | P109: =VLOOKUP(B109,[1]高二下!$B:$J,9,0) -> 央宗娜姆 | Q109: =IF(OR(O109=0,S109=0),100,(((V109-R109)/COUNTIF(D:D,D109))*100)+100) -> 93.785311 | R109: =RANK(O109,$O$3:$O$356,0) -> 175 | S109: =VLOOKUP(B109,[1]高二上!$B:$J,8,0) -> 65 | T109: =VLOOKUP(B109,[1]高二上!$B:$J,9,0) -> 央宗娜姆 | U109: =IF(OR(W109=0,S109=0),100,(((Z109-V109)/COUNTIF(D:D,D109))*100)+100) -> 60.169492 | V109: =RANK(S109,$S$3:$S$356,0) -> 153 | W109: =VLOOKUP(B109,[1]高一下!$B:$J,8,0) -> 109 | X109: =VLOOKUP(B109,[1]高一下!$B:$J,9,0) -> 央宗娜姆 | Y109: =IF(OR(W109=0,AA109=0),100,(((AD109-Z109)/COUNTIF(D:D,D109))*100)+100) -> 132.76836 | Z109: =RANK(W109,$W$3:$W$356,0) -> 12 | AA109: =VLOOKUP(B109,[1]高一上!$B:$I,7,0) -> 64 | AB109: =VLOOKUP(B109,[1]高一上!$B:$I,8,0) -> 喇燕 | AC109: =IF(OR(AE109=0,AA109=0),100,(((AF109-AD109)/COUNTIF(D:D,D109))*100)+100) -> 95.19774 | AD109: =RANK(AA109,$AA$3:$AA$356,0) -> 128 | AE109: =VLOOKUP(B109,[1]中考!$B:$H,7,0) -> 108 | AF109: =RANK(AE109,AE109:AE462,0) -> 111
A110: 513422200704242323 | B110: G513422200704242323 | C110: 3 | D110: 物理类 | E110: 熊芹芹 | F110: 467 | G110: =VLOOKUP(B110,'[1]高三下(高考)'!$B:$J,8,0) -> 95 | H110: =VLOOKUP(B110,'[1]高三下(高考)'!$B:$J,9,0) -> 央宗娜姆 | I110: =IF(OR(G110=0,K110=0),100,(((N110-J110)/COUNTIF(D:D,D110))*100)+100) -> 110.16949 | J110: =RANK(G110,$G$3:$G$356,0) -> 72 | K110: =VLOOKUP(B110,[1]高三上!$B:$J,8,0) -> 67 | L110: =VLOOKUP(B110,[1]高三上!$B:$J,9,0) -> 央宗娜姆 | M110: =IF(OR(O110=0,K110=0),100,(((R110-N110)/COUNTIF(D:D,D110))*100)+100) -> 100.56497 | N110: =RANK(K110,$K$3:$K$356,0) -> 108 | O110: =VLOOKUP(B110,[1]高二下!$B:$J,8,0) -> 72 | P110: =VLOOKUP(B110,[1]高二下!$B:$J,9,0) -> 央宗娜姆 | Q110: =IF(OR(O110=0,S110=0),100,(((V110-R110)/COUNTIF(D:D,D110))*100)+100) -> 106.21469 | R110: =RANK(O110,$O$3:$O$356,0) -> 110 | S110: =VLOOKUP(B110,[1]高二上!$B:$J,8,0) -> 68 | T110: =VLOOKUP(B110,[1]高二上!$B:$J,9,0) -> 央宗娜姆 | U110: =IF(OR(W110=0,S110=0),100,(((Z110-V110)/COUNTIF(D:D,D110))*100)+100) -> 68.644068 | V110: =RANK(S110,$S$3:$S$356,0) -> 132 | W110: =VLOOKUP(B110,[1]高一下!$B:$J,8,0) -> 104 | X110: =VLOOKUP(B110,[1]高一下!$B:$J,9,0) -> 央宗娜姆 | Y110: =IF(OR(W110=0,AA110=0),100,(((AD110-Z110)/COUNTIF(D:D,D110))*100)+100) -> 145.19774 | Z110: =RANK(W110,$W$3:$W$356,0) -> 21 | AA110: =VLOOKUP(B110,[1]高一上!$B:$I,7,0) -> 58 | AB110: =VLOOKUP(B110,[1]高一上!$B:$I,8,0) -> 央宗娜姆 | AC110: =IF(OR(AE110=0,AA110=0),100,(((AF110-AD110)/COUNTIF(D:D,D110))*100)+100) -> 56.214689 | AD110: =RANK(AA110,$AA$3:$AA$356,0) -> 181 | AE110: =VLOOKUP(B110,[1]中考!$B:$H,7,0) -> 120 | AF110: =RANK(AE110,AE110:AE463,0) -> 26
A111: 51342220070125154X | B111: G51342220070125154X | C111: 3 | D111: 物理类 | E111: 乔建英 | F111: 465 | G111: =VLOOKUP(B111,'[1]高三下(高考)'!$B:$J,8,0) -> 104 | H111: =VLOOKUP(B111,'[1]高三下(高考)'!$B:$J,9,0) -> 央宗娜姆 | I111: =IF(OR(G111=0,K111=0),100,(((N111-J111)/COUNTIF(D:D,D111))*100)+100) -> 99.152542 | J111: =RANK(G111,$G$3:$G$356,0) -> 31 | K111: =VLOOKUP(B111,[1]高三上!$B:$J,8,0) -> 86 | L111: =VLOOKUP(B111,[1]高三上!$B:$J,9,0) -> 央宗娜姆 | M111: =IF(OR(O111=0,K111=0),100,(((R111-N111)/COUNTIF(D:D,D111))*100)+100) -> 96.610169 | N111: =RANK(K111,$K$3:$K$356,0) -> 28 | O111: =VLOOKUP(B111,[1]高二下!$B:$J,8,0) -> 96 | P111: =VLOOKUP(B111,[1]高二下!$B:$J,9,0) -> 央宗娜姆 | Q111: =IF(OR(O111=0,S111=0),100,(((V111-R111)/COUNTIF(D:D,D111))*100)+100) -> 109.32203 | R111: =RANK(O111,$O$3:$O$356,0) -> 16 | S111: =VLOOKUP(B111,[1]高二上!$B:$J,8,0) -> 89 | T111: =VLOOKUP(B111,[1]高二上!$B:$J,9,0) -> 央宗娜姆 | U111: =IF(OR(W111=0,S111=0),100,(((Z111-V111)/COUNTIF(D:D,D111))*100)+100) -> 112.14689 | V111: =RANK(S111,$S$3:$S$356,0) -> 49 | W111: =VLOOKUP(B111,[1]高一下!$B:$J,8,0) -> 89 | X111: =VLOOKUP(B111,[1]高一下!$B:$J,9,0) -> 央宗娜姆 | Y111: =IF(OR(W111=0,AA111=0),100,(((AD111-Z111)/COUNTIF(D:D,D111))*100)+100) -> 94.632768 | Z111: =RANK(W111,$W$3:$W$356,0) -> 92 | AA111: =VLOOKUP(B111,[1]高一上!$B:$I,7,0) -> 75 | AB111: =VLOOKUP(B111,[1]高一上!$B:$I,8,0) -> 央宗娜姆 | AC111: =IF(OR(AE111=0,AA111=0),100,(((AF111-AD111)/COUNTIF(D:D,D111))*100)+100) -> 81.920904 | AD111: =RANK(AA111,$AA$3:$AA$356,0) -> 73 | AE111: =VLOOKUP(B111,[1]中考!$B:$H,7,0) -> 125 | AF111: =RANK(AE111,AE111:AE464,0) -> 9
A112: 513422200301156818 | B112: G513422200301156818 | C112: 3 | D112: 物理类 | E112: 马志雄 | F112: 464 | G112: =VLOOKUP(B112,'[1]高三下(高考)'!$B:$J,8,0) -> 96 | H112: =VLOOKUP(B112,'[1]高三下(高考)'!$B:$J,9,0) -> 央宗娜姆 | I112: =IF(OR(G112=0,K112=0),100,(((N112-J112)/COUNTIF(D:D,D112))*100)+100) -> 135.87571 | J112: =RANK(G112,$G$3:$G$356,0) -> 61 | K112: =VLOOKUP(B112,[1]高三上!$B:$J,8,0) -> 55 | L112: =VLOOKUP(B112,[1]高三上!$B:$J,9,0) -> 央宗娜姆 | M112: =IF(OR(O112=0,K112=0),100,(((R112-N112)/COUNTIF(D:D,D112))*100)+100) -> 66.949153 | N112: =RANK(K112,$K$3:$K$356,0) -> 188 | O112: =VLOOKUP(B112,[1]高二下!$B:$J,8,0) -> 79 | P112: =VLOOKUP(B112,[1]高二下!$B:$J,9,0) -> 央宗娜姆 | Q112: =IF(OR(O112=0,S112=0),100,(((V112-R112)/COUNTIF(D:D,D112))*100)+100) -> 103.10734 | R112: =RANK(O112,$O$3:$O$356,0) -> 71 | S112: =VLOOKUP(B112,[1]高二上!$B:$J,8,0) -> 78 | T112: =VLOOKUP(B112,[1]高二上!$B:$J,9,0) -> 央宗娜姆 | U112: =IF(OR(W112=0,S112=0),100,(((Z112-V112)/COUNTIF(D:D,D112))*100)+100) -> 112.99435 | V112: =RANK(S112,$S$3:$S$356,0) -> 82 | W112: =VLOOKUP(B112,[1]高一下!$B:$J,8,0) -> 82 | X112: =VLOOKUP(B112,[1]高一下!$B:$J,9,0) -> 央宗娜姆 | Y112: =IF(OR(W112=0,AA112=0),100,(((AD112-Z112)/COUNTIF(D:D,D112))*100)+100) -> 94.915254 | Z112: =RANK(W112,$W$3:$W$356,0) -> 128 | AA112: =VLOOKUP(B112,[1]高一上!$B:$I,7,0) -> 67 | AB112: =VLOOKUP(B112,[1]高一上!$B:$I,8,0) -> 央宗娜姆 | AC112: =IF(OR(AE112=0,AA112=0),100,(((AF112-AD112)/COUNTIF(D:D,D112))*100)+100) -> 99.717514 | AD112: =RANK(AA112,$AA$3:$AA$356,0) -> 110 | AE112: =VLOOKUP(B112,[1]中考!$B:$H,7,0) -> 108 | AF112: =RANK(AE112,AE112:AE465,0) -> 109
A113: 513422200809063815 | B113: G513422200809063815 | C113: 3 | D113: 物理类 | E113: 尼玛扎西 | F113: 460 | G113: =VLOOKUP(B113,'[1]高三下(高考)'!$B:$J,8,0) -> 83 | H113: =VLOOKUP(B113,'[1]高三下(高考)'!$B:$J,9,0) -> 央宗娜姆 | I113: =IF(OR(G113=0,K113=0),100,(((N113-J113)/COUNTIF(D:D,D113))*100)+100) -> 119.49153 | J113: =RANK(G113,$G$3:$G$356,0) -> 186 | K113: =VLOOKUP(B113,[1]高三上!$B:$J,8,0) -> 46 | L113: =VLOOKUP(B113,[1]高三上!$B:$J,9,0) -> 央宗娜姆 | M113: =IF(OR(O113=0,K113=0),100,(((R113-N113)/COUNTIF(D:D,D113))*100)+100) -> 56.497175 | N113: =RANK(K113,$K$3:$K$356,0) -> 255 | O113: =VLOOKUP(B113,[1]高二下!$B:$J,8,0) -> 73 | P113: =VLOOKUP(B113,[1]高二下!$B:$J,9,0) -> 央宗娜姆 | Q113: =IF(OR(O113=0,S113=0),100,(((V113-R113)/COUNTIF(D:D,D113))*100)+100) -> 103.67232 | R113: =RANK(O113,$O$3:$O$356,0) -> 101 | S113: =VLOOKUP(B113,[1]高二上!$B:$J,8,0) -> 70 | T113: =VLOOKUP(B113,[1]高二上!$B:$J,9,0) -> 央宗娜姆 | U113: =IF(OR(W113=0,S113=0),100,(((Z113-V113)/COUNTIF(D:D,D113))*100)+100) -> 142.37288 | V113: =RANK(S113,$S$3:$S$356,0) -> 114 | W113: =VLOOKUP(B113,[1]高一下!$B:$J,8,0) -> 62 | X113: =VLOOKUP(B113,[1]高一下!$B:$J,9,0) -> 央宗娜姆 | Y113: =IF(OR(W113=0,AA113=0),100,(((AD113-Z113)/COUNTIF(D:D,D113))*100)+100) -> 72.316384 | Z113: =RANK(W113,$W$3:$W$356,0) -> 264 | AA113: =VLOOKUP(B113,[1]高一上!$B:$I,7,0) -> 60 | AB113: =VLOOKUP(B113,[1]高一上!$B:$I,8,0) -> 喇燕 | AC113: =IF(OR(AE113=0,AA113=0),100,(((AF113-AD113)/COUNTIF(D:D,D113))*100)+100) -> 68.361582 | AD113: =RANK(AA113,$AA$3:$AA$356,0) -> 166 | AE113: =VLOOKUP(B113,[1]中考!$B:$H,7,0) -> 115 | AF113: =RANK(AE113,AE113:AE466,0) -> 54
A114: 51342220060621031X | B114: G51342220060621031X | C114: 3 | D114: 物理类 | E114: 仁争龙布 | F114: 460 | G114: =VLOOKUP(B114,'[1]高三下(高考)'!$B:$J,8,0) -> 86 | H114: =VLOOKUP(B114,'[1]高三下(高考)'!$B:$J,9,0) -> 央宗娜姆 | I114: =IF(OR(G114=0,K114=0),100,(((N114-J114)/COUNTIF(D:D,D114))*100)+100) -> 76.553672 | J114: =RANK(G114,$G$3:$G$356,0) -> 154 | K114: =VLOOKUP(B114,[1]高三上!$B:$J,8,0) -> 73 | L114: =VLOOKUP(B114,[1]高三上!$B:$J,9,0) -> 央宗娜姆 | M114: =IF(OR(O114=0,K114=0),100,(((R114-N114)/COUNTIF(D:D,D114))*100)+100) -> 140.11299 | N114: =RANK(K114,$K$3:$K$356,0) -> 71 | O114: =VLOOKUP(B114,[1]高二下!$B:$J,8,0) -> 58 | P114: =VLOOKUP(B114,[1]高二下!$B:$J,9,0) -> 央宗娜姆 | Q114: =IF(OR(O114=0,S114=0),100,(((V114-R114)/COUNTIF(D:D,D114))*100)+100) -> 96.610169 | R114: =RANK(O114,$O$3:$O$356,0) -> 213 | S114: =VLOOKUP(B114,[1]高二上!$B:$J,8,0) -> 56 | T114: =VLOOKUP(B114,[1]高二上!$B:$J,9,0) -> 央宗娜姆 | U114: =IF(OR(W114=0,S114=0),100,(((Z114-V114)/COUNTIF(D:D,D114))*100)+100) -> 91.80791 | V114: =RANK(S114,$S$3:$S$356,0) -> 201 | W114: =VLOOKUP(B114,[1]高一下!$B:$J,8,0) -> 76 | X114: =VLOOKUP(B114,[1]高一下!$B:$J,9,0) -> 央宗娜姆 | Y114: =IF(OR(W114=0,AA114=0),100,(((AD114-Z114)/COUNTIF(D:D,D114))*100)+100) -> 85.310734 | Z114: =RANK(W114,$W$3:$W$356,0) -> 172 | AA114: =VLOOKUP(B114,[1]高一上!$B:$I,7,0) -> 65 | AB114: =VLOOKUP(B114,[1]高一上!$B:$I,8,0) -> 央宗娜姆 | AC114: =IF(OR(AE114=0,AA114=0),100,(((AF114-AD114)/COUNTIF(D:D,D114))*100)+100) -> 85.028249 | AD114: =RANK(AA114,$AA$3:$AA$356,0) -> 120 | AE114: =VLOOKUP(B114,[1]中考!$B:$H,7,0) -> 113 | AF114: =RANK(AE114,AE114:AE467,0) -> 67
A115: 513422200801254211 | B115: G513422200801254211 | C115: 3 | D115: 物理类 | E115: 扎拉 | F115: 458 | G115: =VLOOKUP(B115,'[1]高三下(高考)'!$B:$J,8,0) -> 82 | H115: =VLOOKUP(B115,'[1]高三下(高考)'!$B:$J,9,0) -> 央宗娜姆 | I115: =IF(OR(G115=0,K115=0),100,(((N115-J115)/COUNTIF(D:D,D115))*100)+100) -> 50 | J115: =RANK(G115,$G$3:$G$356,0) -> 197 | K115: =VLOOKUP(B115,[1]高三上!$B:$J,8,0) -> 89 | L115: =VLOOKUP(B115,[1]高三上!$B:$J,9,0) -> 央宗娜姆 | M115: =IF(OR(O115=0,K115=0),100,(((R115-N115)/COUNTIF(D:D,D115))*100)+100) -> 127.9661 | N115: =RANK(K115,$K$3:$K$356,0) -> 20 | O115: =VLOOKUP(B115,[1]高二下!$B:$J,8,0) -> 71 | P115: =VLOOKUP(B115,[1]高二下!$B:$J,9,0) -> 央宗娜姆 | Q115: =IF(OR(O115=0,S115=0),100,(((V115-R115)/COUNTIF(D:D,D115))*100)+100) -> 144.35028 | R115: =RANK(O115,$O$3:$O$356,0) -> 119 | S115: =VLOOKUP(B115,[1]高二上!$B:$J,8,0) -> 44 | T115: =VLOOKUP(B115,[1]高二上!$B:$J,9,0) -> 央宗娜姆 | U115: =IF(OR(W115=0,S115=0),100,(((Z115-V115)/COUNTIF(D:D,D115))*100)+100) -> 85.310734 | V115: =RANK(S115,$S$3:$S$356,0) -> 276 | W115: =VLOOKUP(B115,[1]高一下!$B:$J,8,0) -> 68 | X115: =VLOOKUP(B115,[1]高一下!$B:$J,9,0) -> 央宗娜姆 | Y115: =IF(OR(W115=0,AA115=0),100,(((AD115-Z115)/COUNTIF(D:D,D115))*100)+100) -> 58.19209 | Z115: =RANK(W115,$W$3:$W$356,0) -> 224 | AA115: =VLOOKUP(B115,[1]高一上!$B:$I,7,0) -> 74 | AB115: =VLOOKUP(B115,[1]高一上!$B:$I,8,0) -> 央宗娜姆 | AC115: =IF(OR(AE115=0,AA115=0),100,(((AF115-AD115)/COUNTIF(D:D,D115))*100)+100) -> 101.41243 | AD115: =RANK(AA115,$AA$3:$AA$356,0) -> 76 | AE115: =VLOOKUP(B115,[1]中考!$B:$H,7,0) -> 111 | AF115: =RANK(AE115,AE115:AE468,0) -> 81
A116: 511602200707173507 | B116: G511602200707173507 | C116: 3 | D116: 物理类 | E116: 黄诗韵 | F116: 457 | G116: =VLOOKUP(B116,'[1]高三下(高考)'!$B:$J,8,0) -> 91 | H116: =VLOOKUP(B116,'[1]高三下(高考)'!$B:$J,9,0) -> 央宗娜姆 | I116: =IF(OR(G116=0,K116=0),100,(((N116-J116)/COUNTIF(D:D,D116))*100)+100) -> 98.870056 | J116: =RANK(G116,$G$3:$G$356,0) -> 112 | K116: =VLOOKUP(B116,[1]高三上!$B:$J,8,0) -> 67 | L116: =VLOOKUP(B116,[1]高三上!$B:$J,9,0) -> 央宗娜姆 | M116: =IF(OR(O116=0,K116=0),100,(((R116-N116)/COUNTIF(D:D,D116))*100)+100) -> 135.02825 | N116: =RANK(K116,$K$3:$K$356,0) -> 108 | O116: =VLOOKUP(B116,[1]高二下!$B:$J,8,0) -> 55 | P116: =VLOOKUP(B116,[1]高二下!$B:$J,9,0) -> 央宗娜姆 | Q116: =IF(OR(O116=0,S116=0),100,(((V116-R116)/COUNTIF(D:D,D116))*100)+100) -> 57.627119 | R116: =RANK(O116,$O$3:$O$356,0) -> 232 | S116: =VLOOKUP(B116,[1]高二上!$B:$J,8,0) -> 78 | T116: =VLOOKUP(B116,[1]高二上!$B:$J,9,0) -> 央宗娜姆 | U116: =IF(OR(W116=0,S116=0),100,(((Z116-V116)/COUNTIF(D:D,D116))*100)+100) -> 129.09605 | V116: =RANK(S116,$S$3:$S$356,0) -> 82 | W116: =VLOOKUP(B116,[1]高一下!$B:$J,8,0) -> 74 | X116: =VLOOKUP(B116,[1]高一下!$B:$J,9,0) -> 央宗娜姆 | Y116: =IF(OR(W116=0,AA116=0),100,(((AD116-Z116)/COUNTIF(D:D,D116))*100)+100) -> 64.689266 | Z116: =RANK(W116,$W$3:$W$356,0) -> 185 | AA116: =VLOOKUP(B116,[1]高一上!$B:$I,7,0) -> 78 | AB116: =VLOOKUP(B116,[1]高一上!$B:$I,8,0) -> 马俊 | AC116: =IF(OR(AE116=0,AA116=0),100,(((AF116-AD116)/COUNTIF(D:D,D116))*100)+100) -> 103.10734 | AD116: =RANK(AA116,$AA$3:$AA$356,0) -> 60 | AE116: =VLOOKUP(B116,[1]中考!$B:$H,7,0) -> 112 | AF116: =RANK(AE116,AE116:AE469,0) -> 71
A117: 513422200510260910 | B117: G513422200510260910 | C117: 3 | D117: 物理类 | E117: 陈小龙 | F117: 457 | G117: =VLOOKUP(B117,'[1]高三下(高考)'!$B:$J,8,0) -> 91 | H117: =VLOOKUP(B117,'[1]高三下(高考)'!$B:$J,9,0) -> 央宗娜姆 | I117: =IF(OR(G117=0,K117=0),100,(((N117-J117)/COUNTIF(D:D,D117))*100)+100) -> 111.58192 | J117: =RANK(G117,$G$3:$G$356,0) -> 112 | K117: =VLOOKUP(B117,[1]高三上!$B:$J,8,0) -> 60 | L117: =VLOOKUP(B117,[1]高三上!$B:$J,9,0) -> 央宗娜姆 | M117: =IF(OR(O117=0,K117=0),100,(((R117-N117)/COUNTIF(D:D,D117))*100)+100) -> 83.333333 | N117: =RANK(K117,$K$3:$K$356,0) -> 153 | O117: =VLOOKUP(B117,[1]高二下!$B:$J,8,0) -> 74 | P117: =VLOOKUP(B117,[1]高二下!$B:$J,9,0) -> 央宗娜姆 | Q117: =IF(OR(O117=0,S117=0),100,(((V117-R117)/COUNTIF(D:D,D117))*100)+100) -> 95.19774 | R117: =RANK(O117,$O$3:$O$356,0) -> 94 | S117: =VLOOKUP(B117,[1]高二上!$B:$J,8,0) -> 79 | T117: =VLOOKUP(B117,[1]高二上!$B:$J,9,0) -> 央宗娜姆 | U117: =IF(OR(W117=0,S117=0),100,(((Z117-V117)/COUNTIF(D:D,D117))*100)+100) -> 80.225989 | V117: =RANK(S117,$S$3:$S$356,0) -> 77 | W117: =VLOOKUP(B117,[1]高一下!$B:$J,8,0) -> 115 | X117: =VLOOKUP(B117,[1]高一下!$B:$J,9,0) -> 央宗娜姆 | Y117: =IF(OR(W117=0,AA117=0),100,(((AD117-Z117)/COUNTIF(D:D,D117))*100)+100) -> 111.58192 | Z117: =RANK(W117,$W$3:$W$356,0) -> 7 | AA117: =VLOOKUP(B117,[1]高一上!$B:$I,7,0) -> 83 | AB117: =VLOOKUP(B117,[1]高一上!$B:$I,8,0) -> 央宗娜姆 | AC117: =IF(OR(AE117=0,AA117=0),100,(((AF117-AD117)/COUNTIF(D:D,D117))*100)+100) -> 94.067797 | AD117: =RANK(AA117,$AA$3:$AA$356,0) -> 48 | AE117: =VLOOKUP(B117,[1]中考!$B:$H,7,0) -> 119 | AF117: =RANK(AE117,AE117:AE470,0) -> 27
A118: 513422200710285629 | B118: G513422200710285629 | C118: 3 | D118: 物理类 | E118: 伍金祝玛 | F118: 454 | G118: =VLOOKUP(B118,'[1]高三下(高考)'!$B:$J,8,0) -> 85 | H118: =VLOOKUP(B118,'[1]高三下(高考)'!$B:$J,9,0) -> 央宗娜姆 | I118: =IF(OR(G118=0,K118=0),100,(((N118-J118)/COUNTIF(D:D,D118))*100)+100) -> 89.265537 | J118: =RANK(G118,$G$3:$G$356,0) -> 168 | K118: =VLOOKUP(B118,[1]高三上!$B:$J,8,0) -> 63 | L118: =VLOOKUP(B118,[1]高三上!$B:$J,9,0) -> 央宗娜姆 | M118: =IF(OR(O118=0,K118=0),100,(((R118-N118)/COUNTIF(D:D,D118))*100)+100) -> 114.97175 | N118: =RANK(K118,$K$3:$K$356,0) -> 130 | O118: =VLOOKUP(B118,[1]高二下!$B:$J,8,0) -> 62 | P118: =VLOOKUP(B118,[1]高二下!$B:$J,9,0) -> 央宗娜姆 | Q118: =IF(OR(O118=0,S118=0),100,(((V118-R118)/COUNTIF(D:D,D118))*100)+100) -> 76.836158 | R118: =RANK(O118,$O$3:$O$356,0) -> 183 | S118: =VLOOKUP(B118,[1]高二上!$B:$J,8,0) -> 73 | T118: =VLOOKUP(B118,[1]高二上!$B:$J,9,0) -> 央宗娜姆 | U118: =IF(OR(W118=0,S118=0),100,(((Z118-V118)/COUNTIF(D:D,D118))*100)+100) -> 123.72881 | V118: =RANK(S118,$S$3:$S$356,0) -> 101 | W118: =VLOOKUP(B118,[1]高一下!$B:$J,8,0) -> 74 | X118: =VLOOKUP(B118,[1]高一下!$B:$J,9,0) -> 央宗娜姆 | Y118: =IF(OR(W118=0,AA118=0),100,(((AD118-Z118)/COUNTIF(D:D,D118))*100)+100) -> 121.18644 | Z118: =RANK(W118,$W$3:$W$356,0) -> 185 | AA118: =VLOOKUP(B118,[1]高一上!$B:$I,7,0) -> 46 | AB118: =VLOOKUP(B118,[1]高一上!$B:$I,8,0) -> 曹云萍 | AC118: =IF(OR(AE118=0,AA118=0),100,(((AF118-AD118)/COUNTIF(D:D,D118))*100)+100) -> 66.384181 | AD118: =RANK(AA118,$AA$3:$AA$356,0) -> 260 | AE118: =VLOOKUP(B118,[1]中考!$B:$H,7,0) -> 104 | AF118: =RANK(AE118,AE118:AE471,0) -> 141
A119: 513422200703201327 | B119: G513422200703201327 | C119: 3 | D119: 物理类 | E119: 李小美 | F119: 452 | G119: =VLOOKUP(B119,'[1]高三下(高考)'!$B:$J,8,0) -> 82 | H119: =VLOOKUP(B119,'[1]高三下(高考)'!$B:$J,9,0) -> 央宗娜姆 | I119: =IF(OR(G119=0,K119=0),100,(((N119-J119)/COUNTIF(D:D,D119))*100)+100) -> 110.16949 | J119: =RANK(G119,$G$3:$G$356,0) -> 197 | K119: =VLOOKUP(B119,[1]高三上!$B:$J,8,0) -> 49 | L119: =VLOOKUP(B119,[1]高三上!$B:$J,9,0) -> 央宗娜姆 | M119: =IF(OR(O119=0,K119=0),100,(((R119-N119)/COUNTIF(D:D,D119))*100)+100) -> 57.627119 | N119: =RANK(K119,$K$3:$K$356,0) -> 233 | O119: =VLOOKUP(B119,[1]高二下!$B:$J,8,0) -> 76 | P119: =VLOOKUP(B119,[1]高二下!$B:$J,9,0) -> 央宗娜姆 | Q119: =IF(OR(O119=0,S119=0),100,(((V119-R119)/COUNTIF(D:D,D119))*100)+100) -> 119.77401 | R119: =RANK(O119,$O$3:$O$356,0) -> 83 | S119: =VLOOKUP(B119,[1]高二上!$B:$J,8,0) -> 65 | T119: =VLOOKUP(B119,[1]高二上!$B:$J,9,0) -> 央宗娜姆 | U119: =IF(OR(W119=0,S119=0),100,(((Z119-V119)/COUNTIF(D:D,D119))*100)+100) -> 70.338983 | V119: =RANK(S119,$S$3:$S$356,0) -> 153 | W119: =VLOOKUP(B119,[1]高一下!$B:$J,8,0) -> 95 | X119: =VLOOKUP(B119,[1]高一下!$B:$J,9,0) -> 央宗娜姆 | Y119: =IF(OR(W119=0,AA119=0),100,(((AD119-Z119)/COUNTIF(D:D,D119))*100)+100) -> 148.0226 | Z119: =RANK(W119,$W$3:$W$356,0) -> 48 | AA119: =VLOOKUP(B119,[1]高一上!$B:$I,7,0) -> 52 | AB119: =VLOOKUP(B119,[1]高一上!$B:$I,8,0) -> 喇燕 | AC119: =IF(OR(AE119=0,AA119=0),100,(((AF119-AD119)/COUNTIF(D:D,D119))*100)+100) -> 74.576271 | AD119: =RANK(AA119,$AA$3:$AA$356,0) -> 218 | AE119: =VLOOKUP(B119,[1]中考!$B:$H,7,0) -> 105 | AF119: =RANK(AE119,AE119:AE472,0) -> 128
A120: 513422200606123814 | B120: G513422200606123814 | C120: 3 | D120: 物理类 | E120: 马军 | F120: 451 | G120: =VLOOKUP(B120,'[1]高三下(高考)'!$B:$J,8,0) -> 95 | H120: =VLOOKUP(B120,'[1]高三下(高考)'!$B:$J,9,0) -> 央宗娜姆 | I120: =IF(OR(G120=0,K120=0),100,(((N120-J120)/COUNTIF(D:D,D120))*100)+100) -> 97.175141 | J120: =RANK(G120,$G$3:$G$356,0) -> 72 | K120: =VLOOKUP(B120,[1]高三上!$B:$J,8,0) -> 74 | L120: =VLOOKUP(B120,[1]高三上!$B:$J,9,0) -> 央宗娜姆 | M120: =IF(OR(O120=0,K120=0),100,(((R120-N120)/COUNTIF(D:D,D120))*100)+100) -> 97.457627 | N120: =RANK(K120,$K$3:$K$356,0) -> 62 | O120: =VLOOKUP(B120,[1]高二下!$B:$J,8,0) -> 83 | P120: =VLOOKUP(B120,[1]高二下!$B:$J,9,0) -> 央宗娜姆 | Q120: =IF(OR(O120=0,S120=0),100,(((V120-R120)/COUNTIF(D:D,D120))*100)+100) -> 99.435028 | R120: =RANK(O120,$O$3:$O$356,0) -> 53 | S120: =VLOOKUP(B120,[1]高二上!$B:$J,8,0) -> 88 | T120: =VLOOKUP(B120,[1]高二上!$B:$J,9,0) -> 央宗娜姆 | U120: =IF(OR(W120=0,S120=0),100,(((Z120-V120)/COUNTIF(D:D,D120))*100)+100) -> 92.090395 | V120: =RANK(S120,$S$3:$S$356,0) -> 51 | W120: =VLOOKUP(B120,[1]高一下!$B:$J,8,0) -> 103 | X120: =VLOOKUP(B120,[1]高一下!$B:$J,9,0) -> 央宗娜姆 | Y120: =IF(OR(W120=0,AA120=0),100,(((AD120-Z120)/COUNTIF(D:D,D120))*100)+100) -> 159.60452 | Z120: =RANK(W120,$W$3:$W$356,0) -> 23 | AA120: =VLOOKUP(B120,[1]高一上!$B:$I,7,0) -> 50 | AB120: =VLOOKUP(B120,[1]高一上!$B:$I,8,0) -> 曹云萍 | AC120: =IF(OR(AE120=0,AA120=0),100,(((AF120-AD120)/COUNTIF(D:D,D120))*100)+100) -> 64.40678 | AD120: =RANK(AA120,$AA$3:$AA$356,0) -> 234 | AE120: =VLOOKUP(B120,[1]中考!$B:$H,7,0) -> 107 | AF120: =RANK(AE120,AE120:AE473,0) -> 108
A121: 513422200511080911 | B121: G513422200511080911 | C121: 3 | D121: 物理类 | E121: 尼玛扎西 | F121: 449 | G121: =VLOOKUP(B121,'[1]高三下(高考)'!$B:$J,8,0) -> 85 | H121: =VLOOKUP(B121,'[1]高三下(高考)'!$B:$J,9,0) -> 央宗娜姆 | I121: =IF(OR(G121=0,K121=0),100,(((N121-J121)/COUNTIF(D:D,D121))*100)+100) -> 100 | J121: =RANK(G121,$G$3:$G$356,0) -> 168 | K121: 0 | L121: =H121 -> 央宗娜姆 | M121: =IF(OR(O121=0,K121=0),100,(((R121-N121)/COUNTIF(D:D,D121))*100)+100) -> 100 | N121: =RANK(K121,$K$3:$K$356,0) -> 344 | O121: 0 | P121: =L121 -> 央宗娜姆 | Q121: =IF(OR(O121=0,S121=0),100,(((V121-R121)/COUNTIF(D:D,D121))*100)+100) -> 100 | R121: =RANK(O121,$O$3:$O$356,0) -> 348 | S121: 0 | T121: =P121 -> 央宗娜姆 | U121: =IF(OR(W121=0,S121=0),100,(((Z121-V121)/COUNTIF(D:D,D121))*100)+100) -> 100 | V121: =RANK(S121,$S$3:$S$356,0) -> 350 | W121: =VLOOKUP(B121,[1]高一下!$B:$J,8,0) -> 76 | X121: =VLOOKUP(B121,[1]高一下!$B:$J,9,0) -> 央宗娜姆 | Y121: =IF(OR(W121=0,AA121=0),100,(((AD121-Z121)/COUNTIF(D:D,D121))*100)+100) -> 70.056497 | Z121: =RANK(W121,$W$3:$W$356,0) -> 172 | AA121: =VLOOKUP(B121,[1]高一上!$B:$I,7,0) -> 76 | AB121: =VLOOKUP(B121,[1]高一上!$B:$I,8,0) -> 央宗娜姆 | AC121: =IF(OR(AE121=0,AA121=0),100,(((AF121-AD121)/COUNTIF(D:D,D121))*100)+100) -> 96.327684 | AD121: =RANK(AA121,$AA$3:$AA$356,0) -> 66 | AE121: =VLOOKUP(B121,[1]中考!$B:$H,7,0) -> 115 | AF121: =RANK(AE121,AE121:AE474,0) -> 53
A122: 513422200610101546 | B122: G513422200610101546 | C122: 3 | D122: 物理类 | E122: 杨几几 | F122: 448 | G122: =VLOOKUP(B122,'[1]高三下(高考)'!$B:$J,8,0) -> 95 | H122: =VLOOKUP(B122,'[1]高三下(高考)'!$B:$J,9,0) -> 央宗娜姆 | I122: =IF(OR(G122=0,K122=0),100,(((N122-J122)/COUNTIF(D:D,D122))*100)+100) -> 111.58192 | J122: =RANK(G122,$G$3:$G$356,0) -> 72 | K122: =VLOOKUP(B122,[1]高三上!$B:$J,8,0) -> 66 | L122: =VLOOKUP(B122,[1]高三上!$B:$J,9,0) -> 央宗娜姆 | M122: =IF(OR(O122=0,K122=0),100,(((R122-N122)/COUNTIF(D:D,D122))*100)+100) -> 77.683616 | N122: =RANK(K122,$K$3:$K$356,0) -> 113 | O122: =VLOOKUP(B122,[1]高二下!$B:$J,8,0) -> 88 | P122: =VLOOKUP(B122,[1]高二下!$B:$J,9,0) -> 央宗娜姆 | Q122: =IF(OR(O122=0,S122=0),100,(((V122-R122)/COUNTIF(D:D,D122))*100)+100) -> 120.90395 | R122: =RANK(O122,$O$3:$O$356,0) -> 34 | S122: =VLOOKUP(B122,[1]高二上!$B:$J,8,0) -> 72 | T122: =VLOOKUP(B122,[1]高二上!$B:$J,9,0) -> 央宗娜姆 | U122: =IF(OR(W122=0,S122=0),100,(((Z122-V122)/COUNTIF(D:D,D122))*100)+100) -> 100 | V122: =RANK(S122,$S$3:$S$356,0) -> 108 | W122: =VLOOKUP(B122,[1]高一下!$B:$J,8,0) -> 85 | X122: =VLOOKUP(B122,[1]高一下!$B:$J,9,0) -> 央宗娜姆 | Y122: =IF(OR(W122=0,AA122=0),100,(((AD122-Z122)/COUNTIF(D:D,D122))*100)+100) -> 83.050847 | Z122: =RANK(W122,$W$3:$W$356,0) -> 108 | AA122: =VLOOKUP(B122,[1]高一上!$B:$I,7,0) -> 83 | AB122: =VLOOKUP(B122,[1]高一上!$B:$I,8,0) -> 喇燕 | AC122: =IF(OR(AE122=0,AA122=0),100,(((AF122-AD122)/COUNTIF(D:D,D122))*100)+100) -> 126.55367 | AD122: =RANK(AA122,$AA$3:$AA$356,0) -> 48 | AE122: =VLOOKUP(B122,[1]中考!$B:$H,7,0) -> 103 | AF122: =RANK(AE122,AE122:AE475,0) -> 142
A123: 513422200602130320 | B123: G513422200602130320 | C123: 3 | D123: 物理类 | E123: 沈梅 | F123: 446 | G123: =VLOOKUP(B123,'[1]高三下(高考)'!$B:$J,8,0) -> 75 | H123: =VLOOKUP(B123,'[1]高三下(高考)'!$B:$J,9,0) -> 央宗娜姆 | I123: =IF(OR(G123=0,K123=0),100,(((N123-J123)/COUNTIF(D:D,D123))*100)+100) -> 39.265537 | J123: =RANK(G123,$G$3:$G$356,0) -> 250 | K123: =VLOOKUP(B123,[1]高三上!$B:$J,8,0) -> 84 | L123: =VLOOKUP(B123,[1]高三上!$B:$J,9,0) -> 央宗娜姆 | M123: =IF(OR(O123=0,K123=0),100,(((R123-N123)/COUNTIF(D:D,D123))*100)+100) -> 118.64407 | N123: =RANK(K123,$K$3:$K$356,0) -> 35 | O123: =VLOOKUP(B123,[1]高二下!$B:$J,8,0) -> 73 | P123: =VLOOKUP(B123,[1]高二下!$B:$J,9,0) -> 央宗娜姆 | Q123: =IF(OR(O123=0,S123=0),100,(((V123-R123)/COUNTIF(D:D,D123))*100)+100) -> 100 | R123: =RANK(O123,$O$3:$O$356,0) -> 101 | S123: =VLOOKUP(B123,[1]高二上!$B:$J,8,0) -> 73 | T123: =VLOOKUP(B123,[1]高二上!$B:$J,9,0) -> 央宗娜姆 | U123: =IF(OR(W123=0,S123=0),100,(((Z123-V123)/COUNTIF(D:D,D123))*100)+100) -> 99.717514 | V123: =RANK(S123,$S$3:$S$356,0) -> 101 | W123: =VLOOKUP(B123,[1]高一下!$B:$J,8,0) -> 87 | X123: =VLOOKUP(B123,[1]高一下!$B:$J,9,0) -> 央宗娜姆 | Y123: =IF(OR(W123=0,AA123=0),100,(((AD123-Z123)/COUNTIF(D:D,D123))*100)+100) -> 121.75141 | Z123: =RANK(W123,$W$3:$W$356,0) -> 100 | AA123: =VLOOKUP(B123,[1]高一上!$B:$I,7,0) -> 59 | AB123: =VLOOKUP(B123,[1]高一上!$B:$I,8,0) -> 央宗娜姆 | AC123: =IF(OR(AE123=0,AA123=0),100,(((AF123-AD123)/COUNTIF(D:D,D123))*100)+100) -> 74.011299 | AD123: =RANK(AA123,$AA$3:$AA$356,0) -> 177 | AE123: =VLOOKUP(B123,[1]中考!$B:$H,7,0) -> 110 | AF123: =RANK(AE123,AE123:AE476,0) -> 85
A124: 513422200410126423 | B124: G513422200410126423 | C124: 3 | D124: 物理类 | E124: 崩秋 | F124: 445 | G124: =VLOOKUP(B124,'[1]高三下(高考)'!$B:$J,8,0) -> 78 | H124: =VLOOKUP(B124,'[1]高三下(高考)'!$B:$J,9,0) -> 央宗娜姆 | I124: =IF(OR(G124=0,K124=0),100,(((N124-J124)/COUNTIF(D:D,D124))*100)+100) -> 73.446328 | J124: =RANK(G124,$G$3:$G$356,0) -> 224 | K124: =VLOOKUP(B124,[1]高三上!$B:$J,8,0) -> 63 | L124: =VLOOKUP(B124,[1]高三上!$B:$J,9,0) -> 央宗娜姆 | M124: =IF(OR(O124=0,K124=0),100,(((R124-N124)/COUNTIF(D:D,D124))*100)+100) -> 100 | N124: =RANK(K124,$K$3:$K$356,0) -> 130 | O124: 0 | P124: =L124 -> 央宗娜姆 | Q124: =IF(OR(O124=0,S124=0),100,(((V124-R124)/COUNTIF(D:D,D124))*100)+100) -> 100 | R124: =RANK(O124,$O$3:$O$356,0) -> 348 | S124: =VLOOKUP(B124,[1]高二上!$B:$J,8,0) -> 84 | T124: =VLOOKUP(B124,[1]高二上!$B:$J,9,0) -> 央宗娜姆 | U124: =IF(OR(W124=0,S124=0),100,(((Z124-V124)/COUNTIF(D:D,D124))*100)+100) -> 94.067797 | V124: =RANK(S124,$S$3:$S$356,0) -> 65 | W124: =VLOOKUP(B124,[1]高一下!$B:$J,8,0) -> 96 | X124: =VLOOKUP(B124,[1]高一下!$B:$J,9,0) -> 央宗娜姆 | Y124: =IF(OR(W124=0,AA124=0),100,(((AD124-Z124)/COUNTIF(D:D,D124))*100)+100) -> 118.64407 | Z124: =RANK(W124,$W$3:$W$356,0) -> 44 | AA124: =VLOOKUP(B124,[1]高一上!$B:$I,7,0) -> 67 | AB124: =VLOOKUP(B124,[1]高一上!$B:$I,8,0) -> 喇燕 | AC124: =IF(OR(AE124=0,AA124=0),100,(((AF124-AD124)/COUNTIF(D:D,D124))*100)+100) -> 100 | AD124: =RANK(AA124,$AA$3:$AA$356,0) -> 110 | AE124: =VLOOKUP(B124,[1]中考!$B:$H,7,0) -> 0 | AF124: =RANK(AE124,AE124:AE477,0) -> 347
A125: 513422200605072111 | B125: G513422200605072111 | C125: 3 | D125: 物理类 | E125: 杜基扎西 | F125: 438 | G125: =VLOOKUP(B125,'[1]高三下(高考)'!$B:$J,8,0) -> 78 | H125: =VLOOKUP(B125,'[1]高三下(高考)'!$B:$J,9,0) -> 央宗娜姆 | I125: =IF(OR(G125=0,K125=0),100,(((N125-J125)/COUNTIF(D:D,D125))*100)+100) -> 107.06215 | J125: =RANK(G125,$G$3:$G$356,0) -> 224 | K125: =VLOOKUP(B125,[1]高三上!$B:$J,8,0) -> 47 | L125: =VLOOKUP(B125,[1]高三上!$B:$J,9,0) -> 央宗娜姆 | M125: =IF(OR(O125=0,K125=0),100,(((R125-N125)/COUNTIF(D:D,D125))*100)+100) -> 95.19774 | N125: =RANK(K125,$K$3:$K$356,0) -> 249 | O125: =VLOOKUP(B125,[1]高二下!$B:$J,8,0) -> 55 | P125: =VLOOKUP(B125,[1]高二下!$B:$J,9,0) -> 央宗娜姆 | Q125: =IF(OR(O125=0,S125=0),100,(((V125-R125)/COUNTIF(D:D,D125))*100)+100) -> 109.88701 | R125: =RANK(O125,$O$3:$O$356,0) -> 232 | S125: =VLOOKUP(B125,[1]高二上!$B:$J,8,0) -> 46 | T125: =VLOOKUP(B125,[1]高二上!$B:$J,9,0) -> 央宗娜姆 | U125: =IF(OR(W125=0,S125=0),100,(((Z125-V125)/COUNTIF(D:D,D125))*100)+100) -> 62.146893 | V125: =RANK(S125,$S$3:$S$356,0) -> 267 | W125: =VLOOKUP(B125,[1]高一下!$B:$J,8,0) -> 81 | X125: =VLOOKUP(B125,[1]高一下!$B:$J,9,0) -> 央宗娜姆 | Y125: =IF(OR(W125=0,AA125=0),100,(((AD125-Z125)/COUNTIF(D:D,D125))*100)+100) -> 117.79661 | Z125: =RANK(W125,$W$3:$W$356,0) -> 133 | AA125: =VLOOKUP(B125,[1]高一上!$B:$I,7,0) -> 56 | AB125: =VLOOKUP(B125,[1]高一上!$B:$I,8,0) -> 喇燕 | AC125: =IF(OR(AE125=0,AA125=0),100,(((AF125-AD125)/COUNTIF(D:D,D125))*100)+100) -> 57.062147 | AD125: =RANK(AA125,$AA$3:$AA$356,0) -> 196 | AE125: =VLOOKUP(B125,[1]中考!$B:$H,7,0) -> 116 | AF125: =RANK(AE125,AE125:AE478,0) -> 44
A126: 51342220070205381X | B126: G51342220070205381X | C126: 3 | D126: 物理类 | E126: 苏朗杜基 | F126: 435 | G126: =VLOOKUP(B126,'[1]高三下(高考)'!$B:$J,8,0) -> 104 | H126: =VLOOKUP(B126,'[1]高三下(高考)'!$B:$J,9,0) -> 央宗娜姆 | I126: =IF(OR(G126=0,K126=0),100,(((N126-J126)/COUNTIF(D:D,D126))*100)+100) -> 140.67797 | J126: =RANK(G126,$G$3:$G$356,0) -> 31 | K126: =VLOOKUP(B126,[1]高三上!$B:$J,8,0) -> 57 | L126: =VLOOKUP(B126,[1]高三上!$B:$J,9,0) -> 央宗娜姆 | M126: =IF(OR(O126=0,K126=0),100,(((R126-N126)/COUNTIF(D:D,D126))*100)+100) -> 63.559322 | N126: =RANK(K126,$K$3:$K$356,0) -> 175 | O126: =VLOOKUP(B126,[1]高二下!$B:$J,8,0) -> 85 | P126: =VLOOKUP(B126,[1]高二下!$B:$J,9,0) -> 央宗娜姆 | Q126: =IF(OR(O126=0,S126=0),100,(((V126-R126)/COUNTIF(D:D,D126))*100)+100) -> 136.44068 | R126: =RANK(O126,$O$3:$O$356,0) -> 46 | S126: =VLOOKUP(B126,[1]高二上!$B:$J,8,0) -> 61 | T126: =VLOOKUP(B126,[1]高二上!$B:$J,9,0) -> 央宗娜姆 | U126: =IF(OR(W126=0,S126=0),100,(((Z126-V126)/COUNTIF(D:D,D126))*100)+100) -> 66.666667 | V126: =RANK(S126,$S$3:$S$356,0) -> 175 | W126: =VLOOKUP(B126,[1]高一下!$B:$J,8,0) -> 94 | X126: =VLOOKUP(B126,[1]高一下!$B:$J,9,0) -> 央宗娜姆 | Y126: =IF(OR(W126=0,AA126=0),100,(((AD126-Z126)/COUNTIF(D:D,D126))*100)+100) -> 116.66667 | Z126: =RANK(W126,$W$3:$W$356,0) -> 57 | AA126: =VLOOKUP(B126,[1]高一上!$B:$I,7,0) -> 66 | AB126: =VLOOKUP(B126,[1]高一上!$B:$I,8,0) -> 央宗娜姆 | AC126: =IF(OR(AE126=0,AA126=0),100,(((AF126-AD126)/COUNTIF(D:D,D126))*100)+100) -> 68.361582 | AD126: =RANK(AA126,$AA$3:$AA$356,0) -> 116 | AE126: =VLOOKUP(B126,[1]中考!$B:$H,7,0) -> 129 | AF126: =RANK(AE126,AE126:AE479,0) -> 4
A127: 513422200609066413 | B127: G513422200609066413 | C127: 3 | D127: 物理类 | E127: 偏初次仁 | F127: 432 | G127: =VLOOKUP(B127,'[1]高三下(高考)'!$B:$J,8,0) -> 84 | H127: =VLOOKUP(B127,'[1]高三下(高考)'!$B:$J,9,0) -> 央宗娜姆 | I127: =IF(OR(G127=0,K127=0),100,(((N127-J127)/COUNTIF(D:D,D127))*100)+100) -> 67.514124 | J127: =RANK(G127,$G$3:$G$356,0) -> 177 | K127: =VLOOKUP(B127,[1]高三上!$B:$J,8,0) -> 74 | L127: =VLOOKUP(B127,[1]高三上!$B:$J,9,0) -> 央宗娜姆 | M127: =IF(OR(O127=0,K127=0),100,(((R127-N127)/COUNTIF(D:D,D127))*100)+100) -> 125.14124 | N127: =RANK(K127,$K$3:$K$356,0) -> 62 | O127: =VLOOKUP(B127,[1]高二下!$B:$J,8,0) -> 67 | P127: =VLOOKUP(B127,[1]高二下!$B:$J,9,0) -> 央宗娜姆 | Q127: =IF(OR(O127=0,S127=0),100,(((V127-R127)/COUNTIF(D:D,D127))*100)+100) -> 88.418079 | R127: =RANK(O127,$O$3:$O$356,0) -> 151 | S127: =VLOOKUP(B127,[1]高二上!$B:$J,8,0) -> 71 | T127: =VLOOKUP(B127,[1]高二上!$B:$J,9,0) -> 央宗娜姆 | U127: =IF(OR(W127=0,S127=0),100,(((Z127-V127)/COUNTIF(D:D,D127))*100)+100) -> 119.49153 | V127: =RANK(S127,$S$3:$S$356,0) -> 110 | W127: =VLOOKUP(B127,[1]高一下!$B:$J,8,0) -> 75 | X127: =VLOOKUP(B127,[1]高一下!$B:$J,9,0) -> 央宗娜姆 | Y127: =IF(OR(W127=0,AA127=0),100,(((AD127-Z127)/COUNTIF(D:D,D127))*100)+100) -> 91.80791 | Z127: =RANK(W127,$W$3:$W$356,0) -> 179 | AA127: =VLOOKUP(B127,[1]高一上!$B:$I,7,0) -> 62 | AB127: =VLOOKUP(B127,[1]高一上!$B:$I,8,0) -> 曹云萍 | AC127: =IF(OR(AE127=0,AA127=0),100,(((AF127-AD127)/COUNTIF(D:D,D127))*100)+100) -> 98.305085 | AD127: =RANK(AA127,$AA$3:$AA$356,0) -> 150 | AE127: =VLOOKUP(B127,[1]中考!$B:$H,7,0) -> 102 | AF127: =RANK(AE127,AE127:AE480,0) -> 144
A128: 513422200510017021 | B128: G513422200510017021 | C128: 3 | D128: 物理类 | E128: 仁青拉初 | F128: 428 | G128: =VLOOKUP(B128,'[1]高三下(高考)'!$B:$J,8,0) -> 89 | H128: =VLOOKUP(B128,'[1]高三下(高考)'!$B:$J,9,0) -> 央宗娜姆 | I128: =IF(OR(G128=0,K128=0),100,(((N128-J128)/COUNTIF(D:D,D128))*100)+100) -> 108.75706 | J128: =RANK(G128,$G$3:$G$356,0) -> 127 | K128: =VLOOKUP(B128,[1]高三上!$B:$J,8,0) -> 59 | L128: =VLOOKUP(B128,[1]高三上!$B:$J,9,0) -> 央宗娜姆 | M128: =IF(OR(O128=0,K128=0),100,(((R128-N128)/COUNTIF(D:D,D128))*100)+100) -> 98.022599 | N128: =RANK(K128,$K$3:$K$356,0) -> 158 | O128: =VLOOKUP(B128,[1]高二下!$B:$J,8,0) -> 67 | P128: =VLOOKUP(B128,[1]高二下!$B:$J,9,0) -> 央宗娜姆 | Q128: =IF(OR(O128=0,S128=0),100,(((V128-R128)/COUNTIF(D:D,D128))*100)+100) -> 78.248588 | R128: =RANK(O128,$O$3:$O$356,0) -> 151 | S128: =VLOOKUP(B128,[1]高二上!$B:$J,8,0) -> 80 | T128: =VLOOKUP(B128,[1]高二上!$B:$J,9,0) -> 央宗娜姆 | U128: =IF(OR(W128=0,S128=0),100,(((Z128-V128)/COUNTIF(D:D,D128))*100)+100) -> 119.77401 | V128: =RANK(S128,$S$3:$S$356,0) -> 74 | W128: =VLOOKUP(B128,[1]高一下!$B:$J,8,0) -> 79 | X128: =VLOOKUP(B128,[1]高一下!$B:$J,9,0) -> 央宗娜姆 | Y128: =IF(OR(W128=0,AA128=0),100,(((AD128-Z128)/COUNTIF(D:D,D128))*100)+100) -> 120.90395 | Z128: =RANK(W128,$W$3:$W$356,0) -> 144 | AA128: =VLOOKUP(B128,[1]高一上!$B:$I,7,0) -> 52 | AB128: =VLOOKUP(B128,[1]高一上!$B:$I,8,0) -> 马俊 | AC128: =IF(OR(AE128=0,AA128=0),100,(((AF128-AD128)/COUNTIF(D:D,D128))*100)+100) -> 69.774011 | AD128: =RANK(AA128,$AA$3:$AA$356,0) -> 218 | AE128: =VLOOKUP(B128,[1]中考!$B:$H,7,0) -> 106 | AF128: =RANK(AE128,AE128:AE481,0) -> 111
A129: 513422200903176621 | B129: G513422200903176621 | C129: 3 | D129: 物理类 | E129: 杜吉萍 | F129: 426 | G129: =VLOOKUP(B129,'[1]高三下(高考)'!$B:$J,8,0) -> 84 | H129: =VLOOKUP(B129,'[1]高三下(高考)'!$B:$J,9,0) -> 央宗娜姆 | I129: =IF(OR(G129=0,K129=0),100,(((N129-J129)/COUNTIF(D:D,D129))*100)+100) -> 108.75706 | J129: =RANK(G129,$G$3:$G$356,0) -> 177 | K129: =VLOOKUP(B129,[1]高三上!$B:$J,8,0) -> 52 | L129: =VLOOKUP(B129,[1]高三上!$B:$J,9,0) -> 央宗娜姆 | M129: =IF(OR(O129=0,K129=0),100,(((R129-N129)/COUNTIF(D:D,D129))*100)+100) -> 79.943503 | N129: =RANK(K129,$K$3:$K$356,0) -> 208 | O129: =VLOOKUP(B129,[1]高二下!$B:$J,8,0) -> 69 | P129: =VLOOKUP(B129,[1]高二下!$B:$J,9,0) -> 央宗娜姆 | Q129: =IF(OR(O129=0,S129=0),100,(((V129-R129)/COUNTIF(D:D,D129))*100)+100) -> 133.61582 | R129: =RANK(O129,$O$3:$O$356,0) -> 137 | S129: =VLOOKUP(B129,[1]高二上!$B:$J,8,0) -> 48 | T129: =VLOOKUP(B129,[1]高二上!$B:$J,9,0) -> 央宗娜姆 | U129: =IF(OR(W129=0,S129=0),100,(((Z129-V129)/COUNTIF(D:D,D129))*100)+100) -> 90.960452 | V129: =RANK(S129,$S$3:$S$356,0) -> 256 | W129: =VLOOKUP(B129,[1]高一下!$B:$J,8,0) -> 68 | X129: =VLOOKUP(B129,[1]高一下!$B:$J,9,0) -> 央宗娜姆 | Y129: =IF(OR(W129=0,AA129=0),100,(((AD129-Z129)/COUNTIF(D:D,D129))*100)+100) -> 87.853107 | Z129: =RANK(W129,$W$3:$W$356,0) -> 224 | AA129: =VLOOKUP(B129,[1]高一上!$B:$I,7,0) -> 58 | AB129: =VLOOKUP(B129,[1]高一上!$B:$I,8,0) -> 喇燕 | AC129: =IF(OR(AE129=0,AA129=0),100,(((AF129-AD129)/COUNTIF(D:D,D129))*100)+100) -> 57.344633 | AD129: =RANK(AA129,$AA$3:$AA$356,0) -> 181 | AE129: =VLOOKUP(B129,[1]中考!$B:$H,7,0) -> 118 | AF129: =RANK(AE129,AE129:AE482,0) -> 30
A130: 513422200601123620 | B130: G513422200601123620 | C130: 3 | D130: 物理类 | E130: 陈桂菲 | F130: 426 | G130: =VLOOKUP(B130,'[1]高三下(高考)'!$B:$J,8,0) -> 86 | H130: =VLOOKUP(B130,'[1]高三下(高考)'!$B:$J,9,0) -> 央宗娜姆 | I130: =IF(OR(G130=0,K130=0),100,(((N130-J130)/COUNTIF(D:D,D130))*100)+100) -> 83.898305 | J130: =RANK(G130,$G$3:$G$356,0) -> 154 | K130: =VLOOKUP(B130,[1]高三上!$B:$J,8,0) -> 68 | L130: =VLOOKUP(B130,[1]高三上!$B:$J,9,0) -> 央宗娜姆 | M130: =IF(OR(O130=0,K130=0),100,(((R130-N130)/COUNTIF(D:D,D130))*100)+100) -> 99.152542 | N130: =RANK(K130,$K$3:$K$356,0) -> 97 | O130: =VLOOKUP(B130,[1]高二下!$B:$J,8,0) -> 74 | P130: =VLOOKUP(B130,[1]高二下!$B:$J,9,0) -> 央宗娜姆 | Q130: =IF(OR(O130=0,S130=0),100,(((V130-R130)/COUNTIF(D:D,D130))*100)+100) -> 147.45763 | R130: =RANK(O130,$O$3:$O$356,0) -> 94 | S130: =VLOOKUP(B130,[1]高二上!$B:$J,8,0) -> 47 | T130: =VLOOKUP(B130,[1]高二上!$B:$J,9,0) -> 央宗娜姆 | U130: =IF(OR(W130=0,S130=0),100,(((Z130-V130)/COUNTIF(D:D,D130))*100)+100) -> 68.644068 | V130: =RANK(S130,$S$3:$S$356,0) -> 262 | W130: =VLOOKUP(B130,[1]高一下!$B:$J,8,0) -> 78 | X130: =VLOOKUP(B130,[1]高一下!$B:$J,9,0) -> 央宗娜姆 | Y130: =IF(OR(W130=0,AA130=0),100,(((AD130-Z130)/COUNTIF(D:D,D130))*100)+100) -> 111.01695 | Z130: =RANK(W130,$W$3:$W$356,0) -> 151 | AA130: =VLOOKUP(B130,[1]高一上!$B:$I,7,0) -> 57 | AB130: =VLOOKUP(B130,[1]高一上!$B:$I,8,0) -> 吕开绒 | AC130: =IF(OR(AE130=0,AA130=0),100,(((AF130-AD130)/COUNTIF(D:D,D130))*100)+100) -> 94.632768 | AD130: =RANK(AA130,$AA$3:$AA$356,0) -> 190 | AE130: =VLOOKUP(B130,[1]中考!$B:$H,7,0) -> 99 | AF130: =RANK(AE130,AE130:AE483,0) -> 171
