Workbook
Name basicdata: '3.1总分上线'!$B$4:$CU$691
Name 班主任: #REF!,#REF!,#REF!,#REF!,#REF!,#REF!
Name 单双上线: #REF!
Name 高2016级质量奖: #REF!
Name 高2017级质量奖: #REF!
Name 高2018级质量奖: #REF!
Name 基本奖: #REF!
Name 文化贡献奖: #REF!
Name 学生教师总表: '3.1总分上线'!$B$4:$CU$691
Name 总分上线: '3.1总分上线'!$A$708:$B$754
Name 总分上线教师分数: '3.1总分上线'!$W$4:$AH$691,'3.1总分上线'!$AJ$4:$AU$691,'3.1总分上线'!$AW$4:$BH$691,'3.1总分上线'!$BJ$4:$BU$691,'3.1总分上线'!$BW$4:$CH$691,'3.1总分上线'!$CJ$4:$CU$691

Sheet 分数线
C1: 总分 | D1: 语文 | E1: 数学 | F1: 英语 | G1: 物理/政治 | H1: 化学/历史 | I1: 生物/地理
A2: 本科线 | B2: 物理类 | C2: 438
B3: 历史类 | C3: 467
C5: 总分 | D5: 语文 | E5: 数学 | F5: 英语 | G5: 物理/政治 | H5: 化学/历史 | I5: 生物/地理
A6: 重本线 | B6: 物理类 | C6: 518
B7: 历史类 | C7: 533
A9: 附：

Sheet 3.1总分上线
H1: 高考成绩 | Q1: 目标得分 | V1: 22-23学年上 | AI1: 22-23学年下 | AV1: 23-24学年上 | BI1: 23-24学年下 | BV1: 24-25学年上 | CI1: 24-25学年下
Q2: 本科：目标生上线+36分/生，目标生未上线-36分/生，目标外上线+72分/生； 重本：目标生上线+72分/生，目标生未上线-72分/生，目标外上线+144分。 | V2: 班级 | W2: 语文 | Y2: 数学 | AA2: 英语 | AC2: 物理/历史 | AE2: 选科一 | AG2: 选科二 | AI2: 班级 | AJ2: 语文 | AL2: 数学 | AN2: 英语 | AP2: 物理/历史 | AR2: 选科一 | AT2: 选科二 | AV2: 班级 | AW2: 语文 | AY2: 数学 | BA2: 英语 | BC2: 物理/历史 | BE2: 选科一 | BG2: 选科二 | BI2: 班级 | BJ2: 语文 | BL2: 数学 | BN2: 英语 | BP2: 物理/历史 | BR2: 选科一 | BT2: 选科二 | BV2: 班级 | BW2: 语文 | BY2: 数学 | CA2: 英语 | CC2: 物理/历史 | CE2: 选科一 | CG2: 选科二 | CI2: 班级 | CJ2: 语文 | CL2: 数学 | CN2: 英语 | CP2: 物理/历史 | CR2: 选科一 | CT2: 选科二
B3: 1 | C3: 2 | D3: 3 | E3: 4 | F3: 5 | G3: 6 | H3: 7 | I3: 8 | J3: 9 | N3: 10 | O3: 11 | P3: 13 | Q3: 14 | R3: 15 | S3: 16 | T3: 17 | U3: 18 | V3: 19 | W3: 20 | X3: 21 | Y3: 22 | Z3: 23 | AA3: 24 | AB3: 25 | AC3: 26 | AD3: 27 | AE3: 28 | AF3: 29 | AG3: 30 | AH3: 31 | AI3: 32 | AJ3: 33 | AK3: 34 | AL3: 35 | AM3: 36 | AN3: 37 | AO3: 38 | AP3: 39 | AQ3: 40 | AR3: 41 | AS3: 42 | AT3: 43 | AU3: 44 | AV3: 45 | AW3: 46 | AX3: 47 | AY3: 48 | AZ3: 49 | BA3: 50 | BB3: 51 | BC3: 52 | BD3: 53 | BE3: 54 | BF3: 55 | BG3: 56 | BH3: 57 | BI3: 58 | BJ3: 59 | BK3: 60 | BL3: 61 | BM3: 62 | BN3: 63 | BO3: 64 | BP3: 65 | BQ3: 66 | BR3: 67 | BS3: 68 | BT3: 69 | BU3: 70 | BV3: 71 | BW3: 72 | BX3: 73 | BY3: 74 | BZ3: 75 | CA3: 76 | CB3: 77 | CC3: 78 | CD3: 79 | CE3: 80 | CF3: 81 | CG3: 82 | CH3: 83 | CI3: 84 | CJ3: 85 | CK3: 86 | CL3: 87 | CM3: 88 | CN3: 89 | CO3: 90 | CP3: 91 | CQ3: 92 | CR3: 93 | CS3: 94 | CT3: 95 | CU3: 96
A4: 姓名 | B4: 身份证号码 | C4: 类别 | D4: 科类 | E4: 备注 | F4: 本科目标 | G4: 重本目标 | H4: 语文 | I4: 数学 | J4: 英语 | K4: 物理/历史 | L4: 化学 | M4: 生物 | N4: 政治 | O4: 地理 | P4: 总分 | Q4: 是否上本科 | R4: 本科 得分 | S4: 是否上重本 | T4: 重本 得分 | U4: 目标得分合计 | V4: 班级 | W4: 教师 姓名 | X4: 得分 | Y4: 教师 姓名 | Z4: 得分 | AA4: 教师 姓名 | AB4: 得分 | AC4: 教师 姓名 | AD4: 得分 | AE4: 教师 姓名 | AF4: 得分 | AG4: 教师 姓名 | AH4: 得分 | AI4: 班级 | AJ4: 教师 姓名 | AK4: 得分 | AL4: 教师 姓名 | AM4: 得分 | AN4: 教师 姓名 | AO4: 得分 | AP4: 教师 姓名 | AQ4: 得分 | AR4: 教师 姓名 | AS4: 得分 | AT4: 教师 姓名 | AU4: 得分 | AV4: 班级 | AW4: 教师 姓名 | AX4: 得分 | AY4: 教师 姓名 | AZ4: 得分 | BA4: 教师 姓名 | BB4: 得分 | BC4: 教师 姓名 | BD4: 得分 | BE4: 教师 姓名 | BF4: 得分 | BG4: 教师 姓名 | BH4: 得分 | BI4: 班级 | BJ4: 教师 姓名 | BK4: 得分 | BL4: 教师 姓名 | BM4: 得分 | BN4: 教师 姓名 | BO4: 得分 | BP4: 教师 姓名 | BQ4: 得分 | BR4: 教师 姓名 | BS4: 得分 | BT4: 教师 姓名 | BU4: 得分 | BV4: 班级 | BW4: 教师 姓名 | BX4: 得分 | BY4: 教师 姓名 | BZ4: 得分 | CA4: 教师 姓名 | CB4: 得分 | CC4: 教师 姓名 | CD4: 得分 | CE4: 教师 姓名 | CF4: 得分 | CG4: 教师 姓名 | CH4: 得分 | CI4: 班级 | CJ4: 教师 姓名 | CK4: 得分 | CL4: 教师 姓名 | CM4: 得分 | CN4: 教师 姓名 | CO4: 得分 | CP4: 教师 姓名 | CQ4: 得分 | CR4: 教师 姓名 | CS4: 得分 | CT4: 教师 姓名 | CU4: 得分
A5: 晓庆莫 | B5: 513422200602104026 | C5: 往届 | D5: 历史类 | F5: 0 | G5: 0 | H5: 106 | I5: 81 | J5: 106 | K5: 77 | L5: 0 | M5: 0 | N5: 75 | O5: 80 | P5: =ROUND(SUM(H5:O5),0) -> 525 | Q5: =IF(D5="物理类",IF(P5>=分数线!$C$2,"本科",""),IF(D5="历史类",IF(P5>=分数线!$C$3,"本科",""))) -> 本科 | R5: =IF(F5>0,IF(Q5="本科",(2-F5)*36,-(F5)*36),IF(Q5="本科",2*36,0)) -> 72 | S5: =IF(D5="物理类",IF(P5>=分数线!$C$6,"重本",""),IF(D5="历史类",IF(P5>=分数线!$C$7,"重本",""))) | T5: =IF(G5>0,IF(S5="重本",G5*72,-(G5)*72),IF(S5="重本",2*72,0)) -> 0 | U5: =R5+T5 -> 72 | V5: 9 | W5: #N/A | X5: =IF($C5="应届",($U5*0.1)/6,IF($C5="往届","","NULL")) | Y5: #N/A | Z5: =IF($C5="应届",($U5*0.1)/6,IF($C5="往届","","NULL")) | AA5: #N/A | AB5: =IF($C5="应届",($U5*0.1)/6,IF($C5="往届","","NULL")) | AC5: #N/A | AD5: =IF($C5="应届",($U5*0.1)/6,IF($C5="往届","","NULL")) | AE5: #N/A | AF5: =IF($C5="应届",($U5*0.1)/6,IF($C5="往届","","NULL")) | AG5: #N/A | AH5: =IF($C5="应届",($U5*0.1)/6,IF($C5="往届","","NULL")) | AI5: #N/A | AJ5: #N/A | AK5: =IF($C5="应届",($U5*0.1)/6,IF($C5="往届","","NULL")) | AL5: #N/A | AM5: =IF($C5="应届",($U5*0.1)/6,IF($C5="往届","","NULL")) | AN5: #N/A | AO5: =IF($C5="应届",($U5*0.1)/6,IF($C5="往届","","NULL")) | AP5: #N/A | AQ5: =IF($C5="应届",($U5*0.1)/6,IF($C5="往届","","NULL")) | AR5: #N/A | AS5: =IF($C5="应届",($U5*0.1)/6,IF($C5="往届","","NULL")) | AT5: #N/A | AU5: =IF($C5="应届",($U5*0.1)/6,IF($C5="往届","","NULL")) | AV5: #N/A | AW5: #N/A | AX5: =IF($C5="应届",($U5*0.15)/6,IF($C5="往届","","NULL")) | AY5: #N/A | AZ5: =IF($C5="应届",($U5*0.15)/6,IF($C5="往届","","NULL")) | BA5: #N/A | BB5: =IF($C5="应届",($U5*0.15)/6,IF($C5="往届","","NULL")) | BC5: #N/A | BD5: =IF($C5="应届",($U5*0.15)/6,IF($C5="往届","","NULL")) | BE5: #N/A | BF5: =IF($C5="应届",($U5*0.15)/6,IF($C5="往届","","NULL")) | BG5: #N/A | BH5: =IF($C5="应届",($U5*0.15)/6,IF($C5="往届","","NULL")) | BI5: #N/A | BJ5: #N/A | BK5: =IF($C5="应届",($U5*0.15)/6,IF($C5="往届","","NULL")) | BL5: #N/A | BM5: =IF($C5="应届",($U5*0.15)/6,IF($C5="往届","","NULL")) | BN5: #N/A | BO5: =IF($C5="应届",($U5*0.15)/6,IF($C5="往届","","NULL")) | BP5: #N/A | BQ5: =IF($C5="应届",($U5*0.15)/6,IF($C5="往届","","NULL")) | BR5: #N/A | BS5: =IF($C5="应届",($U5*0.15)/6,IF($C5="往届","","NULL")) | BT5: #N/A | BU5: =IF($C5="应届",($U5*0.15)/6,IF($C5="往届","","NULL")) | BV5: 9 | BW5: 岳子琦 | BX5: =IF($C5="应届",($U5*0.25)/6,IF($C5="往届",($U5*0.5)/6,"NULL")) -> 6 | BY5: 杜东洋 | BZ5: =IF($C5="应届",($U5*0.25)/6,IF($C5="往届",($U5*0.5)/6,"NULL")) -> 6 | CA5: 朱恩凡 | CB5: =IF($C5="应届",($U5*0.25)/6,IF($C5="往届",($U5*0.5)/6,"NULL")) -> 6 | CC5: 杨琴 | CD5: =IF($C5="应届",($U5*0.25)/6,IF($C5="往届",($U5*0.5)/6,"NULL")) -> 6 | CE5: 马巫各 | CF5: =IF($C5="应届",($U5*0.25)/6,IF($C5="往届",($U5*0.5)/6,"NULL")) -> 6 | CG5: 邓倩 | CH5: =IF($C5="应届",($U5*0.25)/6,IF($C5="往届",($U5*0.5)/6,"NULL")) -> 6 | CI5: 9 | CJ5: 岳子琦 | CK5: =IF($C5="应届",($U5*0.25)/6,IF($C5="往届",($U5*0.5)/6,"NULL")) -> 6 | CL5: 杜东洋 | CM5: =IF($C5="应届",($U5*0.25)/6,IF($C5="往届",($U5*0.5)/6,"NULL")) -> 6 | CN5: 朱恩凡 | CO5: =IF($C5="应届",($U5*0.25)/6,IF($C5="往届",($U5*0.5)/6,"NULL")) -> 6 | CP5: 杨琴 | CQ5: =IF($C5="应届",($U5*0.25)/6,IF($C5="往届",($U5*0.5)/6,"NULL")) -> 6 | CR5: 马巫各 | CS5: =IF($C5="应届",($U5*0.25)/6,IF($C5="往届",($U5*0.5)/6,"NULL")) -> 6 | CT5: 邓倩 | CU5: =IF($C5="应届",($U5*0.25)/6,IF($C5="往届",($U5*0.5)/6,"NULL")) -> 6
A6: 杜基娜姆 | B6: 513422200507255029 | C6: 往届 | D6: 历史类 | F6: 0 | G6: 0 | H6: 103 | I6: 69 | J6: 117 | K6: 70 | L6: 0 | M6: 0 | N6: 89 | O6: 76 | P6: =ROUND(SUM(H6:O6),0) -> 524 | Q6: =IF(D6="物理类",IF(P6>=分数线!$C$2,"本科",""),IF(D6="历史类",IF(P6>=分数线!$C$3,"本科",""))) -> 本科 | R6: =IF(F6>0,IF(Q6="本科",(2-F6)*36,-(F6)*36),IF(Q6="本科",2*36,0)) -> 72 | S6: =IF(D6="物理类",IF(P6>=分数线!$C$6,"重本",""),IF(D6="历史类",IF(P6>=分数线!$C$7,"重本",""))) | T6: =IF(G6>0,IF(S6="重本",G6*72,-(G6)*72),IF(S6="重本",2*72,0)) -> 0 | U6: =R6+T6 -> 72 | V6: 9 | W6: #N/A | X6: =IF($C6="应届",($U6*0.1)/6,IF($C6="往届","","NULL")) | Y6: #N/A | Z6: =IF($C6="应届",($U6*0.1)/6,IF($C6="往届","","NULL")) | AA6: #N/A | AB6: =IF($C6="应届",($U6*0.1)/6,IF($C6="往届","","NULL")) | AC6: #N/A | AD6: =IF($C6="应届",($U6*0.1)/6,IF($C6="往届","","NULL")) | AE6: #N/A | AF6: =IF($C6="应届",($U6*0.1)/6,IF($C6="往届","","NULL")) | AG6: #N/A | AH6: =IF($C6="应届",($U6*0.1)/6,IF($C6="往届","","NULL")) | AI6: #N/A | AJ6: #N/A | AK6: =IF($C6="应届",($U6*0.1)/6,IF($C6="往届","","NULL")) | AL6: #N/A | AM6: =IF($C6="应届",($U6*0.1)/6,IF($C6="往届","","NULL")) | AN6: #N/A | AO6: =IF($C6="应届",($U6*0.1)/6,IF($C6="往届","","NULL")) | AP6: #N/A | AQ6: =IF($C6="应届",($U6*0.1)/6,IF($C6="往届","","NULL")) | AR6: #N/A | AS6: =IF($C6="应届",($U6*0.1)/6,IF($C6="往届","","NULL")) | AT6: #N/A | AU6: =IF($C6="应届",($U6*0.1)/6,IF($C6="往届","","NULL")) | AV6: #N/A | AW6: #N/A | AX6: =IF($C6="应届",($U6*0.15)/6,IF($C6="往届","","NULL")) | AY6: #N/A | AZ6: =IF($C6="应届",($U6*0.15)/6,IF($C6="往届","","NULL")) | BA6: #N/A | BB6: =IF($C6="应届",($U6*0.15)/6,IF($C6="往届","","NULL")) | BC6: #N/A | BD6: =IF($C6="应届",($U6*0.15)/6,IF($C6="往届","","NULL")) | BE6: #N/A | BF6: =IF($C6="应届",($U6*0.15)/6,IF($C6="往届","","NULL")) | BG6: #N/A | BH6: =IF($C6="应届",($U6*0.15)/6,IF($C6="往届","","NULL")) | BI6: #N/A | BJ6: #N/A | BK6: =IF($C6="应届",($U6*0.15)/6,IF($C6="往届","","NULL")) | BL6: #N/A | BM6: =IF($C6="应届",($U6*0.15)/6,IF($C6="往届","","NULL")) | BN6: #N/A | BO6: =IF($C6="应届",($U6*0.15)/6,IF($C6="往届","","NULL")) | BP6: #N/A | BQ6: =IF($C6="应届",($U6*0.15)/6,IF($C6="往届","","NULL")) | BR6: #N/A | BS6: =IF($C6="应届",($U6*0.15)/6,IF($C6="往届","","NULL")) | BT6: #N/A | BU6: =IF($C6="应届",($U6*0.15)/6,IF($C6="往届","","NULL")) | BV6: 9 | BW6: 岳子琦 | BX6: =IF($C6="应届",($U6*0.25)/6,IF($C6="往届",($U6*0.5)/6,"NULL")) -> 6 | BY6: 杜东洋 | BZ6: =IF($C6="应届",($U6*0.25)/6,IF($C6="往届",($U6*0.5)/6,"NULL")) -> 6 | CA6: 朱恩凡 | CB6: =IF($C6="应届",($U6*0.25)/6,IF($C6="往届",($U6*0.5)/6,"NULL")) -> 6 | CC6: 杨琴 | CD6: =IF($C6="应届",($U6*0.25)/6,IF($C6="往届",($U6*0.5)/6,"NULL")) -> 6 | CE6: 马巫各 | CF6: =IF($C6="应届",($U6*0.25)/6,IF($C6="往届",($U6*0.5)/6,"NULL")) -> 6 | CG6: 邓倩 | CH6: =IF($C6="应届",($U6*0.25)/6,IF($C6="往届",($U6*0.5)/6,"NULL")) -> 6 | CI6: 9 | CJ6: 岳子琦 | CK6: =IF($C6="应届",($U6*0.25)/6,IF($C6="往届",($U6*0.5)/6,"NULL")) -> 6 | CL6: 杜东洋 | CM6: =IF($C6="应届",($U6*0.25)/6,IF($C6="往届",($U6*0.5)/6,"NULL")) -> 6 | CN6: 朱恩凡 | CO6: =IF($C6="应届",($U6*0.25)/6,IF($C6="往届",($U6*0.5)/6,"NULL")) -> 6 | CP6: 杨琴 | CQ6: =IF($C6="应届",($U6*0.25)/6,IF($C6="往届",($U6*0.5)/6,"NULL")) -> 6 | CR6: 马巫各 | CS6: =IF($C6="应届",($U6*0.25)/6,IF($C6="往届",($U6*0.5)/6,"NULL")) -> 6 | CT6: 邓倩 | CU6: =IF($C6="应届",($U6*0.25)/6,IF($C6="往届",($U6*0.5)/6,"NULL")) -> 6
A7: 扎西拉姆 | B7: 513422200704195029 | C7: 往届 | D7: 历史类 | F7: 0 | G7: 0 | H7: 112 | I7: 69 | J7: 104 | K7: 72 | L7: 0 | M7: 0 | N7: 76 | O7: 65 | P7: =ROUND(SUM(H7:O7),0) -> 498 | Q7: =IF(D7="物理类",IF(P7>=分数线!$C$2,"本科",""),IF(D7="历史类",IF(P7>=分数线!$C$3,"本科",""))) -> 本科 | R7: =IF(F7>0,IF(Q7="本科",(2-F7)*36,-(F7)*36),IF(Q7="本科",2*36,0)) -> 72 | S7: =IF(D7="物理类",IF(P7>=分数线!$C$6,"重本",""),IF(D7="历史类",IF(P7>=分数线!$C$7,"重本",""))) | T7: =IF(G7>0,IF(S7="重本",G7*72,-(G7)*72),IF(S7="重本",2*72,0)) -> 0 | U7: =R7+T7 -> 72 | V7: 9 | W7: #N/A | X7: =IF($C7="应届",($U7*0.1)/6,IF($C7="往届","","NULL")) | Y7: #N/A | Z7: =IF($C7="应届",($U7*0.1)/6,IF($C7="往届","","NULL")) | AA7: #N/A | AB7: =IF($C7="应届",($U7*0.1)/6,IF($C7="往届","","NULL")) | AC7: #N/A | AD7: =IF($C7="应届",($U7*0.1)/6,IF($C7="往届","","NULL")) | AE7: #N/A | AF7: =IF($C7="应届",($U7*0.1)/6,IF($C7="往届","","NULL")) | AG7: #N/A | AH7: =IF($C7="应届",($U7*0.1)/6,IF($C7="往届","","NULL")) | AI7: #N/A | AJ7: #N/A | AK7: =IF($C7="应届",($U7*0.1)/6,IF($C7="往届","","NULL")) | AL7: #N/A | AM7: =IF($C7="应届",($U7*0.1)/6,IF($C7="往届","","NULL")) | AN7: #N/A | AO7: =IF($C7="应届",($U7*0.1)/6,IF($C7="往届","","NULL")) | AP7: #N/A | AQ7: =IF($C7="应届",($U7*0.1)/6,IF($C7="往届","","NULL")) | AR7: #N/A | AS7: =IF($C7="应届",($U7*0.1)/6,IF($C7="往届","","NULL")) | AT7: #N/A | AU7: =IF($C7="应届",($U7*0.1)/6,IF($C7="往届","","NULL")) | AV7: #N/A | AW7: #N/A | AX7: =IF($C7="应届",($U7*0.15)/6,IF($C7="往届","","NULL")) | AY7: #N/A | AZ7: =IF($C7="应届",($U7*0.15)/6,IF($C7="往届","","NULL")) | BA7: #N/A | BB7: =IF($C7="应届",($U7*0.15)/6,IF($C7="往届","","NULL")) | BC7: #N/A | BD7: =IF($C7="应届",($U7*0.15)/6,IF($C7="往届","","NULL")) | BE7: #N/A | BF7: =IF($C7="应届",($U7*0.15)/6,IF($C7="往届","","NULL")) | BG7: #N/A | BH7: =IF($C7="应届",($U7*0.15)/6,IF($C7="往届","","NULL")) | BI7: #N/A | BJ7: #N/A | BK7: =IF($C7="应届",($U7*0.15)/6,IF($C7="往届","","NULL")) | BL7: #N/A | BM7: =IF($C7="应届",($U7*0.15)/6,IF($C7="往届","","NULL")) | BN7: #N/A | BO7: =IF($C7="应届",($U7*0.15)/6,IF($C7="往届","","NULL")) | BP7: #N/A | BQ7: =IF($C7="应届",($U7*0.15)/6,IF($C7="往届","","NULL")) | BR7: #N/A | BS7: =IF($C7="应届",($U7*0.15)/6,IF($C7="往届","","NULL")) | BT7: #N/A | BU7: =IF($C7="应届",($U7*0.15)/6,IF($C7="往届","","NULL")) | BV7: 9 | BW7: 岳子琦 | BX7: =IF($C7="应届",($U7*0.25)/6,IF($C7="往届",($U7*0.5)/6,"NULL")) -> 6 | BY7: 杜东洋 | BZ7: =IF($C7="应届",($U7*0.25)/6,IF($C7="往届",($U7*0.5)/6,"NULL")) -> 6 | CA7: 朱恩凡 | CB7: =IF($C7="应届",($U7*0.25)/6,IF($C7="往届",($U7*0.5)/6,"NULL")) -> 6 | CC7: 杨琴 | CD7: =IF($C7="应届",($U7*0.25)/6,IF($C7="往届",($U7*0.5)/6,"NULL")) -> 6 | CE7: 马巫各 | CF7: =IF($C7="应届",($U7*0.25)/6,IF($C7="往届",($U7*0.5)/6,"NULL")) -> 6 | CG7: 邓倩 | CH7: =IF($C7="应届",($U7*0.25)/6,IF($C7="往届",($U7*0.5)/6,"NULL")) -> 6 | CI7: 9 | CJ7: 岳子琦 | CK7: =IF($C7="应届",($U7*0.25)/6,IF($C7="往届",($U7*0.5)/6,"NULL")) -> 6 | CL7: 杜东洋 | CM7: =IF($C7="应届",($U7*0.25)/6,IF($C7="往届",($U7*0.5)/6,"NULL")) -> 6 | CN7: 朱恩凡 | CO7: =IF($C7="应届",($U7*0.25)/6,IF($C7="往届",($U7*0.5)/6,"NULL")) -> 6 | CP7: 杨琴 | CQ7: =IF($C7="应届",($U7*0.25)/6,IF($C7="往届",($U7*0.5)/6,"NULL")) -> 6 | CR7: 马巫各 | CS7: =IF($C7="应届",($U7*0.25)/6,IF($C7="往届",($U7*0.5)/6,"NULL")) -> 6 | CT7: 邓倩 | CU7: =IF($C7="应届",($U7*0.25)/6,IF($C7="往届",($U7*0.5)/6,"NULL")) -> 6
A8: 向海英 | B8: 513422200212171522 | C8: 往届 | D8: 历史类 | F8: 1 | G8: 0 | H8: 96 | I8: 71 | J8: 94 | K8: 76 | L8: 0 | M8: 0 | N8: 81 | O8: 61 | P8: =ROUND(SUM(H8:O8),0) -> 479 | Q8: =IF(D8="物理类",IF(P8>=分数线!$C$2,"本科",""),IF(D8="历史类",IF(P8>=分数线!$C$3,"本科",""))) -> 本科 | R8: =IF(F8>0,IF(Q8="本科",(2-F8)*36,-(F8)*36),IF(Q8="本科",2*36,0)) -> 36 | S8: =IF(D8="物理类",IF(P8>=分数线!$C$6,"重本",""),IF(D8="历史类",IF(P8>=分数线!$C$7,"重本",""))) | T8: =IF(G8>0,IF(S8="重本",G8*72,-(G8)*72),IF(S8="重本",2*72,0)) -> 0 | U8: =R8+T8 -> 36 | V8: 9 | W8: #N/A | X8: =IF($C8="应届",($U8*0.1)/6,IF($C8="往届","","NULL")) | Y8: #N/A | Z8: =IF($C8="应届",($U8*0.1)/6,IF($C8="往届","","NULL")) | AA8: #N/A | AB8: =IF($C8="应届",($U8*0.1)/6,IF($C8="往届","","NULL")) | AC8: #N/A | AD8: =IF($C8="应届",($U8*0.1)/6,IF($C8="往届","","NULL")) | AE8: #N/A | AF8: =IF($C8="应届",($U8*0.1)/6,IF($C8="往届","","NULL")) | AG8: #N/A | AH8: =IF($C8="应届",($U8*0.1)/6,IF($C8="往届","","NULL")) | AI8: #N/A | AJ8: #N/A | AK8: =IF($C8="应届",($U8*0.1)/6,IF($C8="往届","","NULL")) | AL8: #N/A | AM8: =IF($C8="应届",($U8*0.1)/6,IF($C8="往届","","NULL")) | AN8: #N/A | AO8: =IF($C8="应届",($U8*0.1)/6,IF($C8="往届","","NULL")) | AP8: #N/A | AQ8: =IF($C8="应届",($U8*0.1)/6,IF($C8="往届","","NULL")) | AR8: #N/A | AS8: =IF($C8="应届",($U8*0.1)/6,IF($C8="往届","","NULL")) | AT8: #N/A | AU8: =IF($C8="应届",($U8*0.1)/6,IF($C8="往届","","NULL")) | AV8: #N/A | AW8: #N/A | AX8: =IF($C8="应届",($U8*0.15)/6,IF($C8="往届","","NULL")) | AY8: #N/A | AZ8: =IF($C8="应届",($U8*0.15)/6,IF($C8="往届","","NULL")) | BA8: #N/A | BB8: =IF($C8="应届",($U8*0.15)/6,IF($C8="往届","","NULL")) | BC8: #N/A | BD8: =IF($C8="应届",($U8*0.15)/6,IF($C8="往届","","NULL")) | BE8: #N/A | BF8: =IF($C8="应届",($U8*0.15)/6,IF($C8="往届","","NULL")) | BG8: #N/A | BI8: #N/A | BJ8: #N/A | BK8: =IF($C8="应届",($U8*0.15)/6,IF($C8="往届","","NULL")) | BL8: #N/A | BM8: =IF($C8="应届",($U8*0.15)/6,IF($C8="往届","","NULL")) | BN8: #N/A | BO8: =IF($C8="应届",($U8*0.15)/6,IF($C8="往届","","NULL")) | BP8: #N/A | BQ8: =IF($C8="应届",($U8*0.15)/6,IF($C8="往届","","NULL")) | BR8: #N/A | BS8: =IF($C8="应届",($U8*0.15)/6,IF($C8="往届","","NULL")) | BT8: #N/A | BU8: =IF($C8="应届",($U8*0.15)/6,IF($C8="往届","","NULL")) | BV8: 9 | BW8: 岳子琦 | BX8: =IF($C8="应届",($U8*0.25)/6,IF($C8="往届",($U8*0.5)/6,"NULL")) -> 3 | BY8: 杜东洋 | BZ8: =IF($C8="应届",($U8*0.25)/6,IF($C8="往届",($U8*0.5)/6,"NULL")) -> 3 | CA8: 朱恩凡 | CB8: =IF($C8="应届",($U8*0.25)/6,IF($C8="往届",($U8*0.5)/6,"NULL")) -> 3 | CC8: 杨琴 | CD8: =IF($C8="应届",($U8*0.25)/6,IF($C8="往届",($U8*0.5)/6,"NULL")) -> 3 | CE8: 马巫各 | CF8: =IF($C8="应届",($U8*0.25)/6,IF($C8="往届",($U8*0.5)/6,"NULL")) -> 3 | CG8: 邓倩 | CH8: =IF($C8="应届",($U8*0.25)/6,IF($C8="往届",($U8*0.5)/6,"NULL")) -> 3 | CI8: 9 | CJ8: 岳子琦 | CK8: =IF($C8="应届",($U8*0.25)/6,IF($C8="往届",($U8*0.5)/6,"NULL")) -> 3 | CL8: 杜东洋 | CM8: =IF($C8="应届",($U8*0.25)/6,IF($C8="往届",($U8*0.5)/6,"NULL")) -> 3 | CN8: 朱恩凡 | CO8: =IF($C8="应届",($U8*0.25)/6,IF($C8="往届",($U8*0.5)/6,"NULL")) -> 3 | CP8: 杨琴 | CQ8: =IF($C8="应届",($U8*0.25)/6,IF($C8="往届",($U8*0.5)/6,"NULL")) -> 3 | CR8: 马巫各 | CS8: =IF($C8="应届",($U8*0.25)/6,IF($C8="往届",($U8*0.5)/6,"NULL")) -> 3 | CT8: 邓倩 | CU8: =IF($C8="应届",($U8*0.25)/6,IF($C8="往届",($U8*0.5)/6,"NULL")) -> 3
A9: 朱洁 | B9: 513422200502261120 | C9: 往届 | D9: 历史类 | F9: 0 | G9: 0 | H9: 97 | I9: 79 | J9: 100 | K9: 70 | L9: 0 | M9: 0 | N9: 69 | O9: 63 | P9: =ROUND(SUM(H9:O9),0) -> 478 | Q9: =IF(D9="物理类",IF(P9>=分数线!$C$2,"本科",""),IF(D9="历史类",IF(P9>=分数线!$C$3,"本科",""))) -> 本科 | R9: =IF(F9>0,IF(Q9="本科",(2-F9)*36,-(F9)*36),IF(Q9="本科",2*36,0)) -> 72 | S9: =IF(D9="物理类",IF(P9>=分数线!$C$6,"重本",""),IF(D9="历史类",IF(P9>=分数线!$C$7,"重本",""))) | T9: =IF(G9>0,IF(S9="重本",G9*72,-(G9)*72),IF(S9="重本",2*72,0)) -> 0 | U9: =R9+T9 -> 72 | V9: 9 | W9: #N/A | X9: =IF($C9="应届",($U9*0.1)/6,IF($C9="往届","","NULL")) | Y9: #N/A | Z9: =IF($C9="应届",($U9*0.1)/6,IF($C9="往届","","NULL")) | AA9: #N/A | AB9: =IF($C9="应届",($U9*0.1)/6,IF($C9="往届","","NULL")) | AC9: #N/A | AD9: =IF($C9="应届",($U9*0.1)/6,IF($C9="往届","","NULL")) | AE9: #N/A | AF9: =IF($C9="应届",($U9*0.1)/6,IF($C9="往届","","NULL")) | AG9: #N/A | AH9: =IF($C9="应届",($U9*0.1)/6,IF($C9="往届","","NULL")) | AI9: #N/A | AJ9: #N/A | AK9: =IF($C9="应届",($U9*0.1)/6,IF($C9="往届","","NULL")) | AL9: #N/A | AM9: =IF($C9="应届",($U9*0.1)/6,IF($C9="往届","","NULL")) | AN9: #N/A | AO9: =IF($C9="应届",($U9*0.1)/6,IF($C9="往届","","NULL")) | AP9: #N/A | AQ9: =IF($C9="应届",($U9*0.1)/6,IF($C9="往届","","NULL")) | AR9: #N/A | AS9: =IF($C9="应届",($U9*0.1)/6,IF($C9="往届","","NULL")) | AT9: #N/A | AU9: =IF($C9="应届",($U9*0.1)/6,IF($C9="往届","","NULL")) | AV9: #N/A | AW9: #N/A | AX9: =IF($C9="应届",($U9*0.15)/6,IF($C9="往届","","NULL")) | AY9: #N/A | AZ9: =IF($C9="应届",($U9*0.15)/6,IF($C9="往届","","NULL")) | BA9: #N/A | BB9: =IF($C9="应届",($U9*0.15)/6,IF($C9="往届","","NULL")) | BC9: #N/A | BD9: =IF($C9="应届",($U9*0.15)/6,IF($C9="往届","","NULL")) | BE9: #N/A | BF9: =IF($C9="应届",($U9*0.15)/6,IF($C9="往届","","NULL")) | BG9: #N/A | BH9: =IF($C9="应届",($U9*0.15)/6,IF($C9="往届","","NULL")) | BI9: #N/A | BJ9: #N/A | BK9: =IF($C9="应届",($U9*0.15)/6,IF($C9="往届","","NULL")) | BL9: #N/A | BM9: =IF($C9="应届",($U9*0.15)/6,IF($C9="往届","","NULL")) | BN9: #N/A | BO9: =IF($C9="应届",($U9*0.15)/6,IF($C9="往届","","NULL")) | BP9: #N/A | BQ9: =IF($C9="应届",($U9*0.15)/6,IF($C9="往届","","NULL")) | BR9: #N/A | BS9: =IF($C9="应届",($U9*0.15)/6,IF($C9="往届","","NULL")) | BT9: #N/A | BU9: =IF($C9="应届",($U9*0.15)/6,IF($C9="往届","","NULL")) | BV9: 9 | BW9: 岳子琦 | BX9: =IF($C9="应届",($U9*0.25)/6,IF($C9="往届",($U9*0.5)/6,"NULL")) -> 6 | BY9: 杜东洋 | BZ9: =IF($C9="应届",($U9*0.25)/6,IF($C9="往届",($U9*0.5)/6,"NULL")) -> 6 | CA9: 朱恩凡 | CB9: =IF($C9="应届",($U9*0.25)/6,IF($C9="往届",($U9*0.5)/6,"NULL")) -> 6 | CC9: 杨琴 | CD9: =IF($C9="应届",($U9*0.25)/6,IF($C9="往届",($U9*0.5)/6,"NULL")) -> 6 | CE9: 马巫各 | CF9: =IF($C9="应届",($U9*0.25)/6,IF($C9="往届",($U9*0.5)/6,"NULL")) -> 6 | CG9: 邓倩 | CH9: =IF($C9="应届",($U9*0.25)/6,IF($C9="往届",($U9*0.5)/6,"NULL")) -> 6 | CI9: 9 | CJ9: 岳子琦 | CK9: =IF($C9="应届",($U9*0.25)/6,IF($C9="往届",($U9*0.5)/6,"NULL")) -> 6 | CL9: 杜东洋 | CM9: =IF($C9="应届",($U9*0.25)/6,IF($C9="往届",($U9*0.5)/6,"NULL")) -> 6 | CN9: 朱恩凡 | CO9: =IF($C9="应届",($U9*0.25)/6,IF($C9="往届",($U9*0.5)/6,"NULL")) -> 6 | CP9: 杨琴 | CQ9: =IF($C9="应届",($U9*0.25)/6,IF($C9="往届",($U9*0.5)/6,"NULL")) -> 6 | CR9: 马巫各 | CS9: =IF($C9="应届",($U9*0.25)/6,IF($C9="往届",($U9*0.5)/6,"NULL")) -> 6 | CT9: 邓倩 | CU9: =IF($C9="应届",($U9*0.25)/6,IF($C9="往届",($U9*0.5)/6,"NULL")) -> 6
A10: 吕发英 | B10: 513422200607124026 | C10: 往届 | D10: 历史类 | F10: 0 | G10: 0 | H10: 97 | I10: 80 | J10: 35 | K10: 53 | L10: 0 | M10: 0 | N10: 73 | O10: 83 | P10: =ROUND(SUM(H10:O10),0) -> 421 | Q10: =IF(D10="物理类",IF(P10>=分数线!$C$2,"本科",""),IF(D10="历史类",IF(P10>=分数线!$C$3,"本科",""))) | R10: =IF(F10>0,IF(Q10="本科",(2-F10)*36,-(F10)*36),IF(Q10="本科",2*36,0)) -> 0 | S10: =IF(D10="物理类",IF(P10>=分数线!$C$6,"重本",""),IF(D10="历史类",IF(P10>=分数线!$C$7,"重本",""))) | T10: =IF(G10>0,IF(S10="重本",G10*72,-(G10)*72),IF(S10="重本",2*72,0)) -> 0 | U10: =R10+T10 -> 0 | V10: 11 | W10: #N/A | X10: =IF($C10="应届",($U10*0.1)/6,IF($C10="往届","","NULL")) | Y10: #N/A | Z10: =IF($C10="应届",($U10*0.1)/6,IF($C10="往届","","NULL")) | AA10: #N/A | AB10: =IF($C10="应届",($U10*0.1)/6,IF($C10="往届","","NULL")) | AC10: #N/A | AD10: =IF($C10="应届",($U10*0.1)/6,IF($C10="往届","","NULL")) | AE10: #N/A | AF10: =IF($C10="应届",($U10*0.1)/6,IF($C10="往届","","NULL")) | AG10: #N/A | AH10: =IF($C10="应届",($U10*0.1)/6,IF($C10="往届","","NULL")) | AI10: #N/A | AJ10: #N/A | AK10: =IF($C10="应届",($U10*0.1)/6,IF($C10="往届","","NULL")) | AL10: #N/A | AM10: =IF($C10="应届",($U10*0.1)/6,IF($C10="往届","","NULL")) | AN10: #N/A | AO10: =IF($C10="应届",($U10*0.1)/6,IF($C10="往届","","NULL")) | AP10: #N/A | AQ10: =IF($C10="应届",($U10*0.1)/6,IF($C10="往届","","NULL")) | AR10: #N/A | AS10: =IF($C10="应届",($U10*0.1)/6,IF($C10="往届","","NULL")) | AT10: #N/A | AU10: =IF($C10="应届",($U10*0.1)/6,IF($C10="往届","","NULL")) | AV10: #N/A | AW10: #N/A | AX10: =IF($C10="应届",($U10*0.15)/6,IF($C10="往届","","NULL")) | AY10: #N/A | AZ10: =IF($C10="应届",($U10*0.15)/6,IF($C10="往届","","NULL")) | BA10: #N/A | BB10: =IF($C10="应届",($U10*0.15)/6,IF($C10="往届","","NULL")) | BC10: #N/A | BD10: =IF($C10="应届",($U10*0.15)/6,IF($C10="往届","","NULL")) | BE10: #N/A | BF10: =IF($C10="应届",($U10*0.15)/6,IF($C10="往届","","NULL")) | BG10: #N/A | BH10: =IF($C10="应届",($U10*0.15)/6,IF($C10="往届","","NULL")) | BI10: #N/A | BJ10: #N/A | BK10: =IF($C10="应届",($U10*0.15)/6,IF($C10="往届","","NULL")) | BL10: #N/A | BM10: =IF($C10="应届",($U10*0.15)/6,IF($C10="往届","","NULL")) | BN10: #N/A | BO10: =IF($C10="应届",($U10*0.15)/6,IF($C10="往届","","NULL")) | BP10: #N/A | BQ10: =IF($C10="应届",($U10*0.15)/6,IF($C10="往届","","NULL")) | BR10: #N/A | BS10: =IF($C10="应届",($U10*0.15)/6,IF($C10="往届","","NULL")) | BT10: #N/A | BU10: =IF($C10="应届",($U10*0.15)/6,IF($C10="往届","","NULL")) | BV10: 11 | BW10: 陈光汇 | BX10: =IF($C10="应届",($U10*0.25)/6,IF($C10="往届",($U10*0.5)/6,"NULL")) -> 0 | BY10: 曹云萍 | BZ10: =IF($C10="应届",($U10*0.25)/6,IF($C10="往届",($U10*0.5)/6,"NULL")) -> 0 | CA10: 陈国萍 | CB10: =IF($C10="应届",($U10*0.25)/6,IF($C10="往届",($U10*0.5)/6,"NULL")) -> 0 | CC10: 降初里 | CD10: =IF($C10="应届",($U10*0.25)/6,IF($C10="往届",($U10*0.5)/6,"NULL")) -> 0 | CE10: 胡东缘 | CF10: =IF($C10="应届",($U10*0.25)/6,IF($C10="往届",($U10*0.5)/6,"NULL")) -> 0 | CG10: 米晓妹 | CH10: =IF($C10="应届",($U10*0.25)/6,IF($C10="往届",($U10*0.5)/6,"NULL")) -> 0 | CI10: 11 | CJ10: 陈光汇 | CK10: =IF($C10="应届",($U10*0.25)/6,IF($C10="往届",($U10*0.5)/6,"NULL")) -> 0 | CL10: 曹云萍 | CM10: =IF($C10="应届",($U10*0.25)/6,IF($C10="往届",($U10*0.5)/6,"NULL")) -> 0 | CN10: 陈国萍 | CO10: =IF($C10="应届",($U10*0.25)/6,IF($C10="往届",($U10*0.5)/6,"NULL")) -> 0 | CP10: 降初里 | CQ10: =IF($C10="应届",($U10*0.25)/6,IF($C10="往届",($U10*0.5)/6,"NULL")) -> 0 | CR10: 胡东缘 | CS10: =IF($C10="应届",($U10*0.25)/6,IF($C10="往届",($U10*0.5)/6,"NULL")) -> 0 | CT10: 米晓妹 | CU10: =IF($C10="应届",($U10*0.25)/6,IF($C10="往届",($U10*0.5)/6,"NULL")) -> 0
A11: 扎拉扎西 | B11: 513422200501164214 | C11: 往届 | D11: 历史类 | F11: 0 | G11: 0 | H11: 90 | I11: 78 | J11: 23 | K11: 65 | L11: 0 | M11: 0 | N11: 73 | O11: 76 | P11: =ROUND(SUM(H11:O11),0) -> 405 | Q11: =IF(D11="物理类",IF(P11>=分数线!$C$2,"本科",""),IF(D11="历史类",IF(P11>=分数线!$C$3,"本科",""))) | R11: =IF(F11>0,IF(Q11="本科",(2-F11)*36,-(F11)*36),IF(Q11="本科",2*36,0)) -> 0 | S11: =IF(D11="物理类",IF(P11>=分数线!$C$6,"重本",""),IF(D11="历史类",IF(P11>=分数线!$C$7,"重本",""))) | T11: =IF(G11>0,IF(S11="重本",G11*72,-(G11)*72),IF(S11="重本",2*72,0)) -> 0 | U11: =R11+T11 -> 0 | V11: 14 | W11: #N/A | X11: =IF($C11="应届",($U11*0.1)/6,IF($C11="往届","","NULL")) | Y11: #N/A | Z11: =IF($C11="应届",($U11*0.1)/6,IF($C11="往届","","NULL")) | AA11: #N/A | AB11: =IF($C11="应届",($U11*0.1)/6,IF($C11="往届","","NULL")) | AC11: #N/A | AD11: =IF($C11="应届",($U11*0.1)/6,IF($C11="往届","","NULL")) | AE11: #N/A | AF11: =IF($C11="应届",($U11*0.1)/6,IF($C11="往届","","NULL")) | AG11: #N/A | AH11: =IF($C11="应届",($U11*0.1)/6,IF($C11="往届","","NULL")) | AI11: #N/A | AJ11: #N/A | AK11: =IF($C11="应届",($U11*0.1)/6,IF($C11="往届","","NULL")) | AL11: #N/A | AM11: =IF($C11="应届",($U11*0.1)/6,IF($C11="往届","","NULL")) | AN11: #N/A | AO11: =IF($C11="应届",($U11*0.1)/6,IF($C11="往届","","NULL")) | AP11: #N/A | AQ11: =IF($C11="应届",($U11*0.1)/6,IF($C11="往届","","NULL")) | AR11: #N/A | AS11: =IF($C11="应届",($U11*0.1)/6,IF($C11="往届","","NULL")) | AT11: #N/A | AU11: =IF($C11="应届",($U11*0.1)/6,IF($C11="往届","","NULL")) | AV11: #N/A | AW11: #N/A | AX11: =IF($C11="应届",($U11*0.15)/6,IF($C11="往届","","NULL")) | AY11: #N/A | AZ11: =IF($C11="应届",($U11*0.15)/6,IF($C11="往届","","NULL")) | BA11: #N/A | BB11: =IF($C11="应届",($U11*0.15)/6,IF($C11="往届","","NULL")) | BC11: #N/A | BD11: =IF($C11="应届",($U11*0.15)/6,IF($C11="往届","","NULL")) | BE11: #N/A | BF11: =IF($C11="应届",($U11*0.15)/6,IF($C11="往届","","NULL")) | BG11: #N/A | BH11: =IF($C11="应届",($U11*0.15)/6,IF($C11="往届","","NULL")) | BI11: #N/A | BJ11: #N/A | BK11: =IF($C11="应届",($U11*0.15)/6,IF($C11="往届","","NULL")) | BL11: #N/A | BM11: =IF($C11="应届",($U11*0.15)/6,IF($C11="往届","","NULL")) | BN11: #N/A | BO11: =IF($C11="应届",($U11*0.15)/6,IF($C11="往届","","NULL")) | BP11: #N/A | BQ11: =IF($C11="应届",($U11*0.15)/6,IF($C11="往届","","NULL")) | BR11: #N/A | BS11: =IF($C11="应届",($U11*0.15)/6,IF($C11="往届","","NULL")) | BT11: #N/A | BU11: =IF($C11="应届",($U11*0.15)/6,IF($C11="往届","","NULL")) | BV11: 14 | BW11: 格绒燚西 | BX11: =IF($C11="应届",($U11*0.25)/6,IF($C11="往届",($U11*0.5)/6,"NULL")) -> 0 | BY11: 马俊 | BZ11: =IF($C11="应届",($U11*0.25)/6,IF($C11="往届",($U11*0.5)/6,"NULL")) -> 0 | CA11: 东梅 | CB11: =IF($C11="应届",($U11*0.25)/6,IF($C11="往届",($U11*0.5)/6,"NULL")) -> 0 | CC11: 徐志兵 | CD11: =IF($C11="应届",($U11*0.25)/6,IF($C11="往届",($U11*0.5)/6,"NULL")) -> 0 | CE11: 纪春权/沙正芳 | CF11: =IF($C11="应届",($U11*0.25)/6,IF($C11="往届",($U11*0.5)/6,"NULL")) -> 0 | CG11: 米晓妹 | CH11: =IF($C11="应届",($U11*0.25)/6,IF($C11="往届",($U11*0.5)/6,"NULL")) -> 0 | CI11: 14 | CJ11: 格绒燚西 | CK11: =IF($C11="应届",($U11*0.25)/6,IF($C11="往届",($U11*0.5)/6,"NULL")) -> 0 | CL11: 马俊 | CM11: =IF($C11="应届",($U11*0.25)/6,IF($C11="往届",($U11*0.5)/6,"NULL")) -> 0 | CN11: 东梅 | CO11: =IF($C11="应届",($U11*0.25)/6,IF($C11="往届",($U11*0.5)/6,"NULL")) -> 0 | CP11: 徐志兵 | CQ11: =IF($C11="应届",($U11*0.25)/6,IF($C11="往届",($U11*0.5)/6,"NULL")) -> 0 | CR11: 沙正芳 | CS11: =IF($C11="应届",($U11*0.25)/6,IF($C11="往届",($U11*0.5)/6,"NULL")) -> 0 | CT11: 米晓妹 | CU11: =IF($C11="应届",($U11*0.25)/6,IF($C11="往届",($U11*0.5)/6,"NULL")) -> 0
A12: 呷宗曲珍 | B12: 513422200506052123 | C12: 往届 | D12: 历史类 | F12: 0 | G12: 0 | H12: 88 | I12: 50 | J12: 75 | K12: 44 | L12: 0 | M12: 0 | N12: 47 | O12: 57 | P12: =ROUND(SUM(H12:O12),0) -> 361 | Q12: =IF(D12="物理类",IF(P12>=分数线!$C$2,"本科",""),IF(D12="历史类",IF(P12>=分数线!$C$3,"本科",""))) | R12: =IF(F12>0,IF(Q12="本科",(2-F12)*36,-(F12)*36),IF(Q12="本科",2*36,0)) -> 0 | S12: =IF(D12="物理类",IF(P12>=分数线!$C$6,"重本",""),IF(D12="历史类",IF(P12>=分数线!$C$7,"重本",""))) | T12: =IF(G12>0,IF(S12="重本",G12*72,-(G12)*72),IF(S12="重本",2*72,0)) -> 0 | U12: =R12+T12 -> 0 | V12: 15 | W12: #N/A | X12: =IF($C12="应届",($U12*0.1)/6,IF($C12="往届","","NULL")) | Y12: #N/A | Z12: =IF($C12="应届",($U12*0.1)/6,IF($C12="往届","","NULL")) | AA12: #N/A | AB12: =IF($C12="应届",($U12*0.1)/6,IF($C12="往届","","NULL")) | AC12: #N/A | AD12: =IF($C12="应届",($U12*0.1)/6,IF($C12="往届","","NULL")) | AE12: #N/A | AF12: =IF($C12="应届",($U12*0.1)/6,IF($C12="往届","","NULL")) | AG12: #N/A | AH12: =IF($C12="应届",($U12*0.1)/6,IF($C12="往届","","NULL")) | AI12: #N/A | AJ12: #N/A | AK12: =IF($C12="应届",($U12*0.1)/6,IF($C12="往届","","NULL")) | AL12: #N/A | AM12: =IF($C12="应届",($U12*0.1)/6,IF($C12="往届","","NULL")) | AN12: #N/A | AO12: =IF($C12="应届",($U12*0.1)/6,IF($C12="往届","","NULL")) | AP12: #N/A | AQ12: =IF($C12="应届",($U12*0.1)/6,IF($C12="往届","","NULL")) | AR12: #N/A | AS12: =IF($C12="应届",($U12*0.1)/6,IF($C12="往届","","NULL")) | AT12: #N/A | AU12: =IF($C12="应届",($U12*0.1)/6,IF($C12="往届","","NULL")) | AV12: #N/A | AW12: #N/A | AX12: =IF($C12="应届",($U12*0.15)/6,IF($C12="往届","","NULL")) | AY12: #N/A | AZ12: =IF($C12="应届",($U12*0.15)/6,IF($C12="往届","","NULL")) | BA12: #N/A | BB12: =IF($C12="应届",($U12*0.15)/6,IF($C12="往届","","NULL")) | BC12: #N/A | BD12: =IF($C12="应届",($U12*0.15)/6,IF($C12="往届","","NULL")) | BE12: #N/A | BF12: =IF($C12="应届",($U12*0.15)/6,IF($C12="往届","","NULL")) | BG12: #N/A | BH12: =IF($C12="应届",($U12*0.15)/6,IF($C12="往届","","NULL")) | BI12: #N/A | BJ12: #N/A | BK12: =IF($C12="应届",($U12*0.15)/6,IF($C12="往届","","NULL")) | BL12: #N/A | BM12: =IF($C12="应届",($U12*0.15)/6,IF($C12="往届","","NULL")) | BN12: #N/A | BO12: =IF($C12="应届",($U12*0.15)/6,IF($C12="往届","","NULL")) | BP12: #N/A | BQ12: =IF($C12="应届",($U12*0.15)/6,IF($C12="往届","","NULL")) | BR12: #N/A | BS12: =IF($C12="应届",($U12*0.15)/6,IF($C12="往届","","NULL")) | BT12: #N/A | BU12: =IF($C12="应届",($U12*0.15)/6,IF($C12="往届","","NULL")) | BV12: 15 | BW12: 何东霖 | BX12: =IF($C12="应届",($U12*0.25)/6,IF($C12="往届",($U12*0.5)/6,"NULL")) -> 0 | BY12: 潘勇 | BZ12: =IF($C12="应届",($U12*0.25)/6,IF($C12="往届",($U12*0.5)/6,"NULL")) -> 0 | CA12: 浦恩玲 | CB12: =IF($C12="应届",($U12*0.25)/6,IF($C12="往届",($U12*0.5)/6,"NULL")) -> 0 | CC12: 降初里 | CD12: =IF($C12="应届",($U12*0.25)/6,IF($C12="往届",($U12*0.5)/6,"NULL")) -> 0 | CE12: 马巫各 | CF12: =IF($C12="应届",($U12*0.25)/6,IF($C12="往届",($U12*0.5)/6,"NULL")) -> 0 | CG12: 石敏 | CH12: =IF($C12="应届",($U12*0.25)/6,IF($C12="往届",($U12*0.5)/6,"NULL")) -> 0 | CI12: 15 | CJ12: 何东霖 | CK12: =IF($C12="应届",($U12*0.25)/6,IF($C12="往届",($U12*0.5)/6,"NULL")) -> 0 | CL12: 潘勇 | CM12: =IF($C12="应届",($U12*0.25)/6,IF($C12="往届",($U12*0.5)/6,"NULL")) -> 0 | CN12: 张福琴 | CO12: =IF($C12="应届",($U12*0.25)/6,IF($C12="往届",($U12*0.5)/6,"NULL")) -> 0 | CP12: 降初里 | CQ12: =IF($C12="应届",($U12*0.25)/6,IF($C12="往届",($U12*0.5)/6,"NULL")) -> 0 | CR12: 马巫各 | CS12: =IF($C12="应届",($U12*0.25)/6,IF($C12="往届",($U12*0.5)/6,"NULL")) -> 0 | CT12: 石敏 | CU12: =IF($C12="应届",($U12*0.25)/6,IF($C12="往届",($U12*0.5)/6,"NULL")) -> 0
A13: 杨文林 | B13: 513422200706254416 | C13: 往届 | D13: 物理类 | F13: 1 | G13: 0 | H13: 89 | I13: 115 | J13: 95 | K13: 60 | L13: 82 | M13: 62 | N13: 0 | O13: 0 | P13: =ROUND(SUM(H13:O13),0) -> 503 | Q13: =IF(D13="物理类",IF(P13>=分数线!$C$2,"本科",""),IF(D13="历史类",IF(P13>=分数线!$C$3,"本科",""))) -> 本科 | R13: =IF(F13>0,IF(Q13="本科",(2-F13)*36,-(F13)*36),IF(Q13="本科",2*36,0)) -> 36 | S13: =IF(D13="物理类",IF(P13>=分数线!$C$6,"重本",""),IF(D13="历史类",IF(P13>=分数线!$C$7,"重本",""))) | T13: =IF(G13>0,IF(S13="重本",G13*72,-(G13)*72),IF(S13="重本",2*72,0)) -> 0 | U13: =R13+T13 -> 36 | V13: 16 | W13: #N/A | X13: =IF($C13="应届",($U13*0.1)/6,IF($C13="往届","","NULL")) | Y13: #N/A | Z13: =IF($C13="应届",($U13*0.1)/6,IF($C13="往届","","NULL")) | AA13: #N/A | AB13: =IF($C13="应届",($U13*0.1)/6,IF($C13="往届","","NULL")) | AC13: #N/A | AD13: =IF($C13="应届",($U13*0.1)/6,IF($C13="往届","","NULL")) | AE13: #N/A | AF13: =IF($C13="应届",($U13*0.1)/6,IF($C13="往届","","NULL")) | AG13: #N/A | AH13: =IF($C13="应届",($U13*0.1)/6,IF($C13="往届","","NULL")) | AI13: #N/A | AJ13: #N/A | AK13: =IF($C13="应届",($U13*0.1)/6,IF($C13="往届","","NULL")) | AL13: #N/A | AM13: =IF($C13="应届",($U13*0.1)/6,IF($C13="往届","","NULL")) | AN13: #N/A | AO13: =IF($C13="应届",($U13*0.1)/6,IF($C13="往届","","NULL")) | AP13: #N/A | AQ13: =IF($C13="应届",($U13*0.1)/6,IF($C13="往届","","NULL")) | AR13: #N/A | AS13: =IF($C13="应届",($U13*0.1)/6,IF($C13="往届","","NULL")) | AT13: #N/A | AU13: =IF($C13="应届",($U13*0.1)/6,IF($C13="往届","","NULL")) | AV13: #N/A | AW13: #N/A | AX13: =IF($C13="应届",($U13*0.15)/6,IF($C13="往届","","NULL")) | AY13: #N/A | AZ13: =IF($C13="应届",($U13*0.15)/6,IF($C13="往届","","NULL")) | BA13: #N/A | BB13: =IF($C13="应届",($U13*0.15)/6,IF($C13="往届","","NULL")) | BC13: #N/A | BD13: =IF($C13="应届",($U13*0.15)/6,IF($C13="往届","","NULL")) | BE13: #N/A | BF13: =IF($C13="应届",($U13*0.15)/6,IF($C13="往届","","NULL")) | BG13: #N/A | BH13: =IF($C13="应届",($U13*0.15)/6,IF($C13="往届","","NULL")) | BI13: #N/A | BJ13: #N/A | BK13: =IF($C13="应届",($U13*0.15)/6,IF($C13="往届","","NULL")) | BL13: #N/A | BM13: =IF($C13="应届",($U13*0.15)/6,IF($C13="往届","","NULL")) | BN13: #N/A | BO13: =IF($C13="应届",($U13*0.15)/6,IF($C13="往届","","NULL")) | BP13: #N/A | BQ13: =IF($C13="应届",($U13*0.15)/6,IF($C13="往届","","NULL")) | BR13: #N/A | BS13: =IF($C13="应届",($U13*0.15)/6,IF($C13="往届","","NULL")) | BT13: #N/A | BU13: =IF($C13="应届",($U13*0.15)/6,IF($C13="往届","","NULL")) | BV13: 16 | BW13: 周菊明 | BX13: =IF($C13="应届",($U13*0.25)/6,IF($C13="往届",($U13*0.5)/6,"NULL")) -> 3 | BY13: 潘勇 | BZ13: =IF($C13="应届",($U13*0.25)/6,IF($C13="往届",($U13*0.5)/6,"NULL")) -> 3 | CA13: 彭丹 | CB13: =IF($C13="应届",($U13*0.25)/6,IF($C13="往届",($U13*0.5)/6,"NULL")) -> 3 | CC13: 康小平 | CD13: =IF($C13="应届",($U13*0.25)/6,IF($C13="往届",($U13*0.5)/6,"NULL")) -> 3 | CE13: 何传英 | CF13: =IF($C13="应届",($U13*0.25)/6,IF($C13="往届",($U13*0.5)/6,"NULL")) -> 3 | CG13: 张弘 | CH13: =IF($C13="应届",($U13*0.25)/6,IF($C13="往届",($U13*0.5)/6,"NULL")) -> 3 | CI13: 16 | CJ13: 周菊明 | CK13: =IF($C13="应届",($U13*0.25)/6,IF($C13="往届",($U13*0.5)/6,"NULL")) -> 3 | CL13: 潘勇 | CM13: =IF($C13="应届",($U13*0.25)/6,IF($C13="往届",($U13*0.5)/6,"NULL")) -> 3 | CN13: 彭丹 | CO13: =IF($C13="应届",($U13*0.25)/6,IF($C13="往届",($U13*0.5)/6,"NULL")) -> 3 | CP13: 康小平 | CQ13: =IF($C13="应届",($U13*0.25)/6,IF($C13="往届",($U13*0.5)/6,"NULL")) -> 3 | CR13: 何传英 | CS13: =IF($C13="应届",($U13*0.25)/6,IF($C13="往届",($U13*0.5)/6,"NULL")) -> 3 | CT13: 张弘 | CU13: =IF($C13="应届",($U13*0.25)/6,IF($C13="往届",($U13*0.5)/6,"NULL")) -> 3
A14: 伍金贵 | B14: 51342220030105191X | C14: 往届 | D14: 物理类 | F14: 0 | G14: 0 | H14: 105 | I14: 109 | J14: 83 | K14: 59 | L14: 69 | M14: 72 | N14: 0 | O14: 0 | P14: =ROUND(SUM(H14:O14),0) -> 497 | Q14: =IF(D14="物理类",IF(P14>=分数线!$C$2,"本科",""),IF(D14="历史类",IF(P14>=分数线!$C$3,"本科",""))) -> 本科 | R14: =IF(F14>0,IF(Q14="本科",(2-F14)*36,-(F14)*36),IF(Q14="本科",2*36,0)) -> 72 | S14: =IF(D14="物理类",IF(P14>=分数线!$C$6,"重本",""),IF(D14="历史类",IF(P14>=分数线!$C$7,"重本",""))) | T14: =IF(G14>0,IF(S14="重本",G14*72,-(G14)*72),IF(S14="重本",2*72,0)) -> 0 | U14: =R14+T14 -> 72 | V14: 16 | W14: #N/A | X14: =IF($C14="应届",($U14*0.1)/6,IF($C14="往届","","NULL")) | Y14: #N/A | Z14: =IF($C14="应届",($U14*0.1)/6,IF($C14="往届","","NULL")) | AA14: #N/A | AB14: =IF($C14="应届",($U14*0.1)/6,IF($C14="往届","","NULL")) | AC14: #N/A | AD14: =IF($C14="应届",($U14*0.1)/6,IF($C14="往届","","NULL")) | AE14: #N/A | AF14: =IF($C14="应届",($U14*0.1)/6,IF($C14="往届","","NULL")) | AG14: #N/A | AH14: =IF($C14="应届",($U14*0.1)/6,IF($C14="往届","","NULL")) | AI14: #N/A | AJ14: #N/A | AK14: =IF($C14="应届",($U14*0.1)/6,IF($C14="往届","","NULL")) | AL14: #N/A | AM14: =IF($C14="应届",($U14*0.1)/6,IF($C14="往届","","NULL")) | AN14: #N/A | AO14: =IF($C14="应届",($U14*0.1)/6,IF($C14="往届","","NULL")) | AP14: #N/A | AQ14: =IF($C14="应届",($U14*0.1)/6,IF($C14="往届","","NULL")) | AR14: #N/A | AS14: =IF($C14="应届",($U14*0.1)/6,IF($C14="往届","","NULL")) | AT14: #N/A | AU14: =IF($C14="应届",($U14*0.1)/6,IF($C14="往届","","NULL")) | AV14: #N/A | AW14: #N/A | AX14: =IF($C14="应届",($U14*0.15)/6,IF($C14="往届","","NULL")) | AY14: #N/A | AZ14: =IF($C14="应届",($U14*0.15)/6,IF($C14="往届","","NULL")) | BA14: #N/A | BB14: =IF($C14="应届",($U14*0.15)/6,IF($C14="往届","","NULL")) | BC14: #N/A | BD14: =IF($C14="应届",($U14*0.15)/6,IF($C14="往届","","NULL")) | BE14: #N/A | BF14: =IF($C14="应届",($U14*0.15)/6,IF($C14="往届","","NULL")) | BG14: #N/A | BH14: =IF($C14="应届",($U14*0.15)/6,IF($C14="往届","","NULL")) | BI14: #N/A | BJ14: #N/A | BK14: =IF($C14="应届",($U14*0.15)/6,IF($C14="往届","","NULL")) | BL14: #N/A | BM14: =IF($C14="应届",($U14*0.15)/6,IF($C14="往届","","NULL")) | BN14: #N/A | BO14: =IF($C14="应届",($U14*0.15)/6,IF($C14="往届","","NULL")) | BP14: #N/A | BQ14: =IF($C14="应届",($U14*0.15)/6,IF($C14="往届","","NULL")) | BR14: #N/A | BS14: =IF($C14="应届",($U14*0.15)/6,IF($C14="往届","","NULL")) | BT14: #N/A | BU14: =IF($C14="应届",($U14*0.15)/6,IF($C14="往届","","NULL")) | BV14: 16 | BW14: 周菊明 | BX14: =IF($C14="应届",($U14*0.25)/6,IF($C14="往届",($U14*0.5)/6,"NULL")) -> 6 | BY14: 潘勇 | BZ14: =IF($C14="应届",($U14*0.25)/6,IF($C14="往届",($U14*0.5)/6,"NULL")) -> 6 | CA14: 彭丹 | CB14: =IF($C14="应届",($U14*0.25)/6,IF($C14="往届",($U14*0.5)/6,"NULL")) -> 6 | CC14: 康小平 | CD14: =IF($C14="应届",($U14*0.25)/6,IF($C14="往届",($U14*0.5)/6,"NULL")) -> 6 | CE14: 何传英 | CF14: =IF($C14="应届",($U14*0.25)/6,IF($C14="往届",($U14*0.5)/6,"NULL")) -> 6 | CG14: 张弘 | CH14: =IF($C14="应届",($U14*0.25)/6,IF($C14="往届",($U14*0.5)/6,"NULL")) -> 6 | CI14: 16 | CJ14: 周菊明 | CK14: =IF($C14="应届",($U14*0.25)/6,IF($C14="往届",($U14*0.5)/6,"NULL")) -> 6 | CL14: 潘勇 | CM14: =IF($C14="应届",($U14*0.25)/6,IF($C14="往届",($U14*0.5)/6,"NULL")) -> 6 | CN14: 彭丹 | CO14: =IF($C14="应届",($U14*0.25)/6,IF($C14="往届",($U14*0.5)/6,"NULL")) -> 6 | CP14: 康小平 | CQ14: =IF($C14="应届",($U14*0.25)/6,IF($C14="往届",($U14*0.5)/6,"NULL")) -> 6 | CR14: 何传英 | CS14: =IF($C14="应届",($U14*0.25)/6,IF($C14="往届",($U14*0.5)/6,"NULL")) -> 6 | CT14: 张弘 | CU14: =IF($C14="应届",($U14*0.25)/6,IF($C14="往届",($U14*0.5)/6,"NULL")) -> 6
A15: 毛正发 | B15: 513422200404054611 | C15: 往届 | D15: 物理类 | F15: 0 | G15: 0 | H15: 106 | I15: 94 | J15: 67 | K15: 68 | L15: 76 | M15: 78 | N15: 0 | O15: 0 | P15: =ROUND(SUM(H15:O15),0) -> 489 | Q15: =IF(D15="物理类",IF(P15>=分数线!$C$2,"本科",""),IF(D15="历史类",IF(P15>=分数线!$C$3,"本科",""))) -> 本科 | R15: =IF(F15>0,IF(Q15="本科",(2-F15)*36,-(F15)*36),IF(Q15="本科",2*36,0)) -> 72 | S15: =IF(D15="物理类",IF(P15>=分数线!$C$6,"重本",""),IF(D15="历史类",IF(P15>=分数线!$C$7,"重本",""))) | T15: =IF(G15>0,IF(S15="重本",G15*72,-(G15)*72),IF(S15="重本",2*72,0)) -> 0 | U15: =R15+T15 -> 72 | V15: 16 | W15: #N/A | X15: =IF($C15="应届",($U15*0.1)/6,IF($C15="往届","","NULL")) | Y15: #N/A | Z15: =IF($C15="应届",($U15*0.1)/6,IF($C15="往届","","NULL")) | AA15: #N/A | AB15: =IF($C15="应届",($U15*0.1)/6,IF($C15="往届","","NULL")) | AC15: #N/A | AD15: =IF($C15="应届",($U15*0.1)/6,IF($C15="往届","","NULL")) | AE15: #N/A | AF15: =IF($C15="应届",($U15*0.1)/6,IF($C15="往届","","NULL")) | AG15: #N/A | AH15: =IF($C15="应届",($U15*0.1)/6,IF($C15="往届","","NULL")) | AI15: #N/A | AJ15: #N/A | AK15: =IF($C15="应届",($U15*0.1)/6,IF($C15="往届","","NULL")) | AL15: #N/A | AM15: =IF($C15="应届",($U15*0.1)/6,IF($C15="往届","","NULL")) | AN15: #N/A | AO15: =IF($C15="应届",($U15*0.1)/6,IF($C15="往届","","NULL")) | AP15: #N/A | AQ15: =IF($C15="应届",($U15*0.1)/6,IF($C15="往届","","NULL")) | AR15: #N/A | AS15: =IF($C15="应届",($U15*0.1)/6,IF($C15="往届","","NULL")) | AT15: #N/A | AU15: =IF($C15="应届",($U15*0.1)/6,IF($C15="往届","","NULL")) | AV15: #N/A | AW15: #N/A | AX15: =IF($C15="应届",($U15*0.15)/6,IF($C15="往届","","NULL")) | AY15: #N/A | AZ15: =IF($C15="应届",($U15*0.15)/6,IF($C15="往届","","NULL")) | BA15: #N/A | BB15: =IF($C15="应届",($U15*0.15)/6,IF($C15="往届","","NULL")) | BC15: #N/A | BD15: =IF($C15="应届",($U15*0.15)/6,IF($C15="往届","","NULL")) | BE15: #N/A | BF15: =IF($C15="应届",($U15*0.15)/6,IF($C15="往届","","NULL")) | BG15: #N/A | BH15: =IF($C15="应届",($U15*0.15)/6,IF($C15="往届","","NULL")) | BI15: #N/A | BJ15: #N/A | BK15: =IF($C15="应届",($U15*0.15)/6,IF($C15="往届","","NULL")) | BL15: #N/A | BM15: =IF($C15="应届",($U15*0.15)/6,IF($C15="往届","","NULL")) | BN15: #N/A | BO15: =IF($C15="应届",($U15*0.15)/6,IF($C15="往届","","NULL")) | BP15: #N/A | BQ15: =IF($C15="应届",($U15*0.15)/6,IF($C15="往届","","NULL")) | BR15: #N/A | BS15: =IF($C15="应届",($U15*0.15)/6,IF($C15="往届","","NULL")) | BT15: #N/A | BU15: =IF($C15="应届",($U15*0.15)/6,IF($C15="往届","","NULL")) | BV15: 16 | BW15: 周菊明 | BX15: =IF($C15="应届",($U15*0.25)/6,IF($C15="往届",($U15*0.5)/6,"NULL")) -> 6 | BY15: 潘勇 | BZ15: =IF($C15="应届",($U15*0.25)/6,IF($C15="往届",($U15*0.5)/6,"NULL")) -> 6 | CA15: 彭丹 | CB15: =IF($C15="应届",($U15*0.25)/6,IF($C15="往届",($U15*0.5)/6,"NULL")) -> 6 | CC15: 康小平 | CD15: =IF($C15="应届",($U15*0.25)/6,IF($C15="往届",($U15*0.5)/6,"NULL")) -> 6 | CE15: 何传英 | CF15: =IF($C15="应届",($U15*0.25)/6,IF($C15="往届",($U15*0.5)/6,"NULL")) -> 6 | CG15: 张弘 | CH15: =IF($C15="应届",($U15*0.25)/6,IF($C15="往届",($U15*0.5)/6,"NULL")) -> 6 | CI15: 16 | CJ15: 周菊明 | CK15: =IF($C15="应届",($U15*0.25)/6,IF($C15="往届",($U15*0.5)/6,"NULL")) -> 6 | CL15: 潘勇 | CM15: =IF($C15="应届",($U15*0.25)/6,IF($C15="往届",($U15*0.5)/6,"NULL")) -> 6 | CN15: 彭丹 | CO15: =IF($C15="应届",($U15*0.25)/6,IF($C15="往届",($U15*0.5)/6,"NULL")) -> 6 | CP15: 康小平 | CQ15: =IF($C15="应届",($U15*0.25)/6,IF($C15="往届",($U15*0.5)/6,"NULL")) -> 6 | CR15: 何传英 | CS15: =IF($C15="应届",($U15*0.25)/6,IF($C15="往届",($U15*0.5)/6,"NULL")) -> 6 | CT15: 张弘 | CU15: =IF($C15="应届",($U15*0.25)/6,IF($C15="往届",($U15*0.5)/6,"NULL")) -> 6
A16: 马友才 | B16: 513422200408134432 | C16: 往届 | D16: 物理类 | F16: 1 | G16: 0 | H16: 92 | I16: 102 | J16: 65 | K16: 64 | L16: 80 | M16: 83 | N16: 0 | O16: 0 | P16: =ROUND(SUM(H16:O16),0) -> 486 | Q16: =IF(D16="物理类",IF(P16>=分数线!$C$2,"本科",""),IF(D16="历史类",IF(P16>=分数线!$C$3,"本科",""))) -> 本科 | R16: =IF(F16>0,IF(Q16="本科",(2-F16)*36,-(F16)*36),IF(Q16="本科",2*36,0)) -> 36 | S16: =IF(D16="物理类",IF(P16>=分数线!$C$6,"重本",""),IF(D16="历史类",IF(P16>=分数线!$C$7,"重本",""))) | T16: =IF(G16>0,IF(S16="重本",G16*72,-(G16)*72),IF(S16="重本",2*72,0)) -> 0 | U16: =R16+T16 -> 36 | V16: 16 | W16: #N/A | X16: =IF($C16="应届",($U16*0.1)/6,IF($C16="往届","","NULL")) | Y16: #N/A | Z16: =IF($C16="应届",($U16*0.1)/6,IF($C16="往届","","NULL")) | AA16: #N/A | AB16: =IF($C16="应届",($U16*0.1)/6,IF($C16="往届","","NULL")) | AC16: #N/A | AD16: =IF($C16="应届",($U16*0.1)/6,IF($C16="往届","","NULL")) | AE16: #N/A | AF16: =IF($C16="应届",($U16*0.1)/6,IF($C16="往届","","NULL")) | AG16: #N/A | AH16: =IF($C16="应届",($U16*0.1)/6,IF($C16="往届","","NULL")) | AI16: #N/A | AJ16: #N/A | AK16: =IF($C16="应届",($U16*0.1)/6,IF($C16="往届","","NULL")) | AL16: #N/A | AM16: =IF($C16="应届",($U16*0.1)/6,IF($C16="往届","","NULL")) | AN16: #N/A | AO16: =IF($C16="应届",($U16*0.1)/6,IF($C16="往届","","NULL")) | AP16: #N/A | AQ16: =IF($C16="应届",($U16*0.1)/6,IF($C16="往届","","NULL")) | AR16: #N/A | AS16: =IF($C16="应届",($U16*0.1)/6,IF($C16="往届","","NULL")) | AT16: #N/A | AU16: =IF($C16="应届",($U16*0.1)/6,IF($C16="往届","","NULL")) | AV16: #N/A | AW16: #N/A | AX16: =IF($C16="应届",($U16*0.15)/6,IF($C16="往届","","NULL")) | AY16: #N/A | AZ16: =IF($C16="应届",($U16*0.15)/6,IF($C16="往届","","NULL")) | BA16: #N/A | BB16: =IF($C16="应届",($U16*0.15)/6,IF($C16="往届","","NULL")) | BC16: #N/A | BD16: =IF($C16="应届",($U16*0.15)/6,IF($C16="往届","","NULL")) | BE16: #N/A | BF16: =IF($C16="应届",($U16*0.15)/6,IF($C16="往届","","NULL")) | BG16: #N/A | BH16: =IF($C16="应届",($U16*0.15)/6,IF($C16="往届","","NULL")) | BI16: #N/A | BJ16: #N/A | BK16: =IF($C16="应届",($U16*0.15)/6,IF($C16="往届","","NULL")) | BL16: #N/A | BM16: =IF($C16="应届",($U16*0.15)/6,IF($C16="往届","","NULL")) | BN16: #N/A | BO16: =IF($C16="应届",($U16*0.15)/6,IF($C16="往届","","NULL")) | BP16: #N/A | BQ16: =IF($C16="应届",($U16*0.15)/6,IF($C16="往届","","NULL")) | BR16: #N/A | BS16: =IF($C16="应届",($U16*0.15)/6,IF($C16="往届","","NULL")) | BT16: #N/A | BU16: =IF($C16="应届",($U16*0.15)/6,IF($C16="往届","","NULL")) | BV16: 16 | BW16: 周菊明 | BX16: =IF($C16="应届",($U16*0.25)/6,IF($C16="往届",($U16*0.5)/6,"NULL")) -> 3 | BY16: 潘勇 | BZ16: =IF($C16="应届",($U16*0.25)/6,IF($C16="往届",($U16*0.5)/6,"NULL")) -> 3 | CA16: 彭丹 | CB16: =IF($C16="应届",($U16*0.25)/6,IF($C16="往届",($U16*0.5)/6,"NULL")) -> 3 | CC16: 康小平 | CD16: =IF($C16="应届",($U16*0.25)/6,IF($C16="往届",($U16*0.5)/6,"NULL")) -> 3 | CE16: 何传英 | CF16: =IF($C16="应届",($U16*0.25)/6,IF($C16="往届",($U16*0.5)/6,"NULL")) -> 3 | CG16: 张弘 | CH16: =IF($C16="应届",($U16*0.25)/6,IF($C16="往届",($U16*0.5)/6,"NULL")) -> 3 | CI16: 16 | CJ16: 周菊明 | CK16: =IF($C16="应届",($U16*0.25)/6,IF($C16="往届",($U16*0.5)/6,"NULL")) -> 3 | CL16: 潘勇 | CM16: =IF($C16="应届",($U16*0.25)/6,IF($C16="往届",($U16*0.5)/6,"NULL")) -> 3 | CN16: 彭丹 | CO16: =IF($C16="应届",($U16*0.25)/6,IF($C16="往届",($U16*0.5)/6,"NULL")) -> 3 | CP16: 康小平 | CQ16: =IF($C16="应届",($U16*0.25)/6,IF($C16="往届",($U16*0.5)/6,"NULL")) -> 3 | CR16: 何传英 | CS16: =IF($C16="应届",($U16*0.25)/6,IF($C16="往届",($U16*0.5)/6,"NULL")) -> 3 | CT16: 张弘 | CU16: =IF($C16="应届",($U16*0.25)/6,IF($C16="往届",($U16*0.5)/6,"NULL")) -> 3
A17: 次能翁丁 | B17: 513422200412273419 | C17: 往届 | D17: 物理类 | F17: 0 | G17: 0 | H17: 96 | I17: 95 | J17: 67 | K17: 60 | L17: 81 | M17: 68 | N17: 0 | O17: 0 | P17: =ROUND(SUM(H17:O17),0) -> 467 | Q17: =IF(D17="物理类",IF(P17>=分数线!$C$2,"本科",""),IF(D17="历史类",IF(P17>=分数线!$C$3,"本科",""))) -> 本科 | R17: =IF(F17>0,IF(Q17="本科",(2-F17)*36,-(F17)*36),IF(Q17="本科",2*36,0)) -> 72 | S17: =IF(D17="物理类",IF(P17>=分数线!$C$6,"重本",""),IF(D17="历史类",IF(P17>=分数线!$C$7,"重本",""))) | T17: =IF(G17>0,IF(S17="重本",G17*72,-(G17)*72),IF(S17="重本",2*72,0)) -> 0 | U17: =R17+T17 -> 72 | V17: 16 | W17: #N/A | X17: =IF($C17="应届",($U17*0.1)/6,IF($C17="往届","","NULL")) | Y17: #N/A | Z17: =IF($C17="应届",($U17*0.1)/6,IF($C17="往届","","NULL")) | AA17: #N/A | AB17: =IF($C17="应届",($U17*0.1)/6,IF($C17="往届","","NULL")) | AC17: #N/A | AD17: =IF($C17="应届",($U17*0.1)/6,IF($C17="往届","","NULL")) | AE17: #N/A | AF17: =IF($C17="应届",($U17*0.1)/6,IF($C17="往届","","NULL")) | AG17: #N/A | AH17: =IF($C17="应届",($U17*0.1)/6,IF($C17="往届","","NULL")) | AI17: #N/A | AJ17: #N/A | AK17: =IF($C17="应届",($U17*0.1)/6,IF($C17="往届","","NULL")) | AL17: #N/A | AM17: =IF($C17="应届",($U17*0.1)/6,IF($C17="往届","","NULL")) | AN17: #N/A | AO17: =IF($C17="应届",($U17*0.1)/6,IF($C17="往届","","NULL")) | AP17: #N/A | AQ17: =IF($C17="应届",($U17*0.1)/6,IF($C17="往届","","NULL")) | AR17: #N/A | AS17: =IF($C17="应届",($U17*0.1)/6,IF($C17="往届","","NULL")) | AT17: #N/A | AU17: =IF($C17="应届",($U17*0.1)/6,IF($C17="往届","","NULL")) | AV17: #N/A | AW17: #N/A | AX17: =IF($C17="应届",($U17*0.15)/6,IF($C17="往届","","NULL")) | AY17: #N/A | AZ17: =IF($C17="应届",($U17*0.15)/6,IF($C17="往届","","NULL")) | BA17: #N/A | BB17: =IF($C17="应届",($U17*0.15)/6,IF($C17="往届","","NULL")) | BC17: #N/A | BD17: =IF($C17="应届",($U17*0.15)/6,IF($C17="往届","","NULL")) | BE17: #N/A | BF17: =IF($C17="应届",($U17*0.15)/6,IF($C17="往届","","NULL")) | BG17: #N/A | BH17: =IF($C17="应届",($U17*0.15)/6,IF($C17="往届","","NULL")) | BI17: #N/A | BJ17: #N/A | BK17: =IF($C17="应届",($U17*0.15)/6,IF($C17="往届","","NULL")) | BL17: #N/A | BM17: =IF($C17="应届",($U17*0.15)/6,IF($C17="往届","","NULL")) | BN17: #N/A | BO17: =IF($C17="应届",($U17*0.15)/6,IF($C17="往届","","NULL")) | BP17: #N/A | BQ17: =IF($C17="应届",($U17*0.15)/6,IF($C17="往届","","NULL")) | BR17: #N/A | BS17: =IF($C17="应届",($U17*0.15)/6,IF($C17="往届","","NULL")) | BT17: #N/A | BU17: =IF($C17="应届",($U17*0.15)/6,IF($C17="往届","","NULL")) | BV17: 16 | BW17: 周菊明 | BX17: =IF($C17="应届",($U17*0.25)/6,IF($C17="往届",($U17*0.5)/6,"NULL")) -> 6 | BY17: 潘勇 | BZ17: =IF($C17="应届",($U17*0.25)/6,IF($C17="往届",($U17*0.5)/6,"NULL")) -> 6 | CA17: 彭丹 | CB17: =IF($C17="应届",($U17*0.25)/6,IF($C17="往届",($U17*0.5)/6,"NULL")) -> 6 | CC17: 康小平 | CD17: =IF($C17="应届",($U17*0.25)/6,IF($C17="往届",($U17*0.5)/6,"NULL")) -> 6 | CE17: 何传英 | CF17: =IF($C17="应届",($U17*0.25)/6,IF($C17="往届",($U17*0.5)/6,"NULL")) -> 6 | CG17: 张弘 | CH17: =IF($C17="应届",($U17*0.25)/6,IF($C17="往届",($U17*0.5)/6,"NULL")) -> 6 | CI17: 16 | CJ17: 周菊明 | CK17: =IF($C17="应届",($U17*0.25)/6,IF($C17="往届",($U17*0.5)/6,"NULL")) -> 6 | CL17: 潘勇 | CM17: =IF($C17="应届",($U17*0.25)/6,IF($C17="往届",($U17*0.5)/6,"NULL")) -> 6 | CN17: 彭丹 | CO17: =IF($C17="应届",($U17*0.25)/6,IF($C17="往届",($U17*0.5)/6,"NULL")) -> 6 | CP17: 康小平 | CQ17: =IF($C17="应届",($U17*0.25)/6,IF($C17="往届",($U17*0.5)/6,"NULL")) -> 6 | CR17: 何传英 | CS17: =IF($C17="应届",($U17*0.25)/6,IF($C17="往届",($U17*0.5)/6,"NULL")) -> 6 | CT17: 张弘 | CU17: =IF($C17="应届",($U17*0.25)/6,IF($C17="往届",($U17*0.5)/6,"NULL")) -> 6
A18: 王浩宇 | B18: 513422200509293619 | C18: 往届 | D18: 物理类 | F18: 0 | G18: 0 | H18: 101 | I18: 95 | J18: 68 | K18: 57 | L18: 73 | M18: 72 | N18: 0 | O18: 0 | P18: =ROUND(SUM(H18:O18),0) -> 466 | Q18: =IF(D18="物理类",IF(P18>=分数线!$C$2,"本科",""),IF(D18="历史类",IF(P18>=分数线!$C$3,"本科",""))) -> 本科 | R18: =IF(F18>0,IF(Q18="本科",(2-F18)*36,-(F18)*36),IF(Q18="本科",2*36,0)) -> 72 | S18: =IF(D18="物理类",IF(P18>=分数线!$C$6,"重本",""),IF(D18="历史类",IF(P18>=分数线!$C$7,"重本",""))) | T18: =IF(G18>0,IF(S18="重本",G18*72,-(G18)*72),IF(S18="重本",2*72,0)) -> 0 | U18: =R18+T18 -> 72 | V18: 16 | W18: #N/A | X18: =IF($C18="应届",($U18*0.1)/6,IF($C18="往届","","NULL")) | Y18: #N/A | Z18: =IF($C18="应届",($U18*0.1)/6,IF($C18="往届","","NULL")) | AA18: #N/A | AB18: =IF($C18="应届",($U18*0.1)/6,IF($C18="往届","","NULL")) | AC18: #N/A | AD18: =IF($C18="应届",($U18*0.1)/6,IF($C18="往届","","NULL")) | AE18: #N/A | AF18: =IF($C18="应届",($U18*0.1)/6,IF($C18="往届","","NULL")) | AG18: #N/A | AH18: =IF($C18="应届",($U18*0.1)/6,IF($C18="往届","","NULL")) | AI18: #N/A | AJ18: #N/A | AK18: =IF($C18="应届",($U18*0.1)/6,IF($C18="往届","","NULL")) | AL18: #N/A | AM18: =IF($C18="应届",($U18*0.1)/6,IF($C18="往届","","NULL")) | AN18: #N/A | AO18: =IF($C18="应届",($U18*0.1)/6,IF($C18="往届","","NULL")) | AP18: #N/A | AQ18: =IF($C18="应届",($U18*0.1)/6,IF($C18="往届","","NULL")) | AR18: #N/A | AS18: =IF($C18="应届",($U18*0.1)/6,IF($C18="往届","","NULL")) | AT18: #N/A | AU18: =IF($C18="应届",($U18*0.1)/6,IF($C18="往届","","NULL")) | AV18: #N/A | AW18: #N/A | AX18: =IF($C18="应届",($U18*0.15)/6,IF($C18="往届","","NULL")) | AY18: #N/A | AZ18: =IF($C18="应届",($U18*0.15)/6,IF($C18="往届","","NULL")) | BA18: #N/A | BB18: =IF($C18="应届",($U18*0.15)/6,IF($C18="往届","","NULL")) | BC18: #N/A | BD18: =IF($C18="应届",($U18*0.15)/6,IF($C18="往届","","NULL")) | BE18: #N/A | BF18: =IF($C18="应届",($U18*0.15)/6,IF($C18="往届","","NULL")) | BG18: #N/A | BH18: =IF($C18="应届",($U18*0.15)/6,IF($C18="往届","","NULL")) | BI18: #N/A | BJ18: #N/A | BK18: =IF($C18="应届",($U18*0.15)/6,IF($C18="往届","","NULL")) | BL18: #N/A | BM18: =IF($C18="应届",($U18*0.15)/6,IF($C18="往届","","NULL")) | BN18: #N/A | BO18: =IF($C18="应届",($U18*0.15)/6,IF($C18="往届","","NULL")) | BP18: #N/A | BQ18: =IF($C18="应届",($U18*0.15)/6,IF($C18="往届","","NULL")) | BR18: #N/A | BS18: =IF($C18="应届",($U18*0.15)/6,IF($C18="往届","","NULL")) | BT18: #N/A | BU18: =IF($C18="应届",($U18*0.15)/6,IF($C18="往届","","NULL")) | BV18: 16 | BW18: 周菊明 | BX18: =IF($C18="应届",($U18*0.25)/6,IF($C18="往届",($U18*0.5)/6,"NULL")) -> 6 | BY18: 潘勇 | BZ18: =IF($C18="应届",($U18*0.25)/6,IF($C18="往届",($U18*0.5)/6,"NULL")) -> 6 | CA18: 彭丹 | CB18: =IF($C18="应届",($U18*0.25)/6,IF($C18="往届",($U18*0.5)/6,"NULL")) -> 6 | CC18: 康小平 | CD18: =IF($C18="应届",($U18*0.25)/6,IF($C18="往届",($U18*0.5)/6,"NULL")) -> 6 | CE18: 何传英 | CF18: =IF($C18="应届",($U18*0.25)/6,IF($C18="往届",($U18*0.5)/6,"NULL")) -> 6 | CG18: 张弘 | CH18: =IF($C18="应届",($U18*0.25)/6,IF($C18="往届",($U18*0.5)/6,"NULL")) -> 6 | CI18: 16 | CJ18: 周菊明 | CK18: =IF($C18="应届",($U18*0.25)/6,IF($C18="往届",($U18*0.5)/6,"NULL")) -> 6 | CL18: 潘勇 | CM18: =IF($C18="应届",($U18*0.25)/6,IF($C18="往届",($U18*0.5)/6,"NULL")) -> 6 | CN18: 彭丹 | CO18: =IF($C18="应届",($U18*0.25)/6,IF($C18="往届",($U18*0.5)/6,"NULL")) -> 6 | CP18: 康小平 | CQ18: =IF($C18="应届",($U18*0.25)/6,IF($C18="往届",($U18*0.5)/6,"NULL")) -> 6 | CR18: 何传英 | CS18: =IF($C18="应届",($U18*0.25)/6,IF($C18="往届",($U18*0.5)/6,"NULL")) -> 6 | CT18: 张弘 | CU18: =IF($C18="应届",($U18*0.25)/6,IF($C18="往届",($U18*0.5)/6,"NULL")) -> 6
A19: 金友坡 | B19: 513422200310201510 | C19: 往届 | D19: 物理类 | F19: 0 | G19: 0 | H19: 112 | I19: 83 | J19: 81 | K19: 43 | L19: 69 | M19: 71 | N19: 0 | O19: 0 | P19: =ROUND(SUM(H19:O19),0) -> 459 | Q19: =IF(D19="物理类",IF(P19>=分数线!$C$2,"本科",""),IF(D19="历史类",IF(P19>=分数线!$C$3,"本科",""))) -> 本科 | R19: =IF(F19>0,IF(Q19="本科",(2-F19)*36,-(F19)*36),IF(Q19="本科",2*36,0)) -> 72 | S19: =IF(D19="物理类",IF(P19>=分数线!$C$6,"重本",""),IF(D19="历史类",IF(P19>=分数线!$C$7,"重本",""))) | T19: =IF(G19>0,IF(S19="重本",G19*72,-(G19)*72),IF(S19="重本",2*72,0)) -> 0 | U19: =R19+T19 -> 72 | V19: 16 | W19: #N/A | X19: =IF($C19="应届",($U19*0.1)/6,IF($C19="往届","","NULL")) | Y19: #N/A | Z19: =IF($C19="应届",($U19*0.1)/6,IF($C19="往届","","NULL")) | AA19: #N/A | AB19: =IF($C19="应届",($U19*0.1)/6,IF($C19="往届","","NULL")) | AC19: #N/A | AD19: =IF($C19="应届",($U19*0.1)/6,IF($C19="往届","","NULL")) | AE19: #N/A | AF19: =IF($C19="应届",($U19*0.1)/6,IF($C19="往届","","NULL")) | AG19: #N/A | AH19: =IF($C19="应届",($U19*0.1)/6,IF($C19="往届","","NULL")) | AI19: #N/A | AJ19: #N/A | AK19: =IF($C19="应届",($U19*0.1)/6,IF($C19="往届","","NULL")) | AL19: #N/A | AM19: =IF($C19="应届",($U19*0.1)/6,IF($C19="往届","","NULL")) | AN19: #N/A | AO19: =IF($C19="应届",($U19*0.1)/6,IF($C19="往届","","NULL")) | AP19: #N/A | AQ19: =IF($C19="应届",($U19*0.1)/6,IF($C19="往届","","NULL")) | AR19: #N/A | AS19: =IF($C19="应届",($U19*0.1)/6,IF($C19="往届","","NULL")) | AT19: #N/A | AU19: =IF($C19="应届",($U19*0.1)/6,IF($C19="往届","","NULL")) | AV19: #N/A | AW19: #N/A | AX19: =IF($C19="应届",($U19*0.15)/6,IF($C19="往届","","NULL")) | AY19: #N/A | AZ19: =IF($C19="应届",($U19*0.15)/6,IF($C19="往届","","NULL")) | BA19: #N/A | BB19: =IF($C19="应届",($U19*0.15)/6,IF($C19="往届","","NULL")) | BC19: #N/A | BD19: =IF($C19="应届",($U19*0.15)/6,IF($C19="往届","","NULL")) | BE19: #N/A | BF19: =IF($C19="应届",($U19*0.15)/6,IF($C19="往届","","NULL")) | BG19: #N/A | BH19: =IF($C19="应届",($U19*0.15)/6,IF($C19="往届","","NULL")) | BI19: #N/A | BJ19: #N/A | BK19: =IF($C19="应届",($U19*0.15)/6,IF($C19="往届","","NULL")) | BL19: #N/A | BM19: =IF($C19="应届",($U19*0.15)/6,IF($C19="往届","","NULL")) | BN19: #N/A | BO19: =IF($C19="应届",($U19*0.15)/6,IF($C19="往届","","NULL")) | BP19: #N/A | BQ19: =IF($C19="应届",($U19*0.15)/6,IF($C19="往届","","NULL")) | BR19: #N/A | BS19: =IF($C19="应届",($U19*0.15)/6,IF($C19="往届","","NULL")) | BT19: #N/A | BU19: =IF($C19="应届",($U19*0.15)/6,IF($C19="往届","","NULL")) | BV19: 16 | BW19: 周菊明 | BX19: =IF($C19="应届",($U19*0.25)/6,IF($C19="往届",($U19*0.5)/6,"NULL")) -> 6 | BY19: 潘勇 | BZ19: =IF($C19="应届",($U19*0.25)/6,IF($C19="往届",($U19*0.5)/6,"NULL")) -> 6 | CA19: 彭丹 | CB19: =IF($C19="应届",($U19*0.25)/6,IF($C19="往届",($U19*0.5)/6,"NULL")) -> 6 | CC19: 康小平 | CD19: =IF($C19="应届",($U19*0.25)/6,IF($C19="往届",($U19*0.5)/6,"NULL")) -> 6 | CE19: 何传英 | CF19: =IF($C19="应届",($U19*0.25)/6,IF($C19="往届",($U19*0.5)/6,"NULL")) -> 6 | CG19: 张弘 | CH19: =IF($C19="应届",($U19*0.25)/6,IF($C19="往届",($U19*0.5)/6,"NULL")) -> 6 | CI19: 16 | CJ19: 周菊明 | CK19: =IF($C19="应届",($U19*0.25)/6,IF($C19="往届",($U19*0.5)/6,"NULL")) -> 6 | CL19: 潘勇 | CM19: =IF($C19="应届",($U19*0.25)/6,IF($C19="往届",($U19*0.5)/6,"NULL")) -> 6 | CN19: 彭丹 | CO19: =IF($C19="应届",($U19*0.25)/6,IF($C19="往届",($U19*0.5)/6,"NULL")) -> 6 | CP19: 康小平 | CQ19: =IF($C19="应届",($U19*0.25)/6,IF($C19="往届",($U19*0.5)/6,"NULL")) -> 6 | CR19: 何传英 | CS19: =IF($C19="应届",($U19*0.25)/6,IF($C19="往届",($U19*0.5)/6,"NULL")) -> 6 | CT19: 张弘 | CU19: =IF($C19="应届",($U19*0.25)/6,IF($C19="往届",($U19*0.5)/6,"NULL")) -> 6
A20: 吕萍 | B20: 513422200908071124 | C20: 往届 | D20: 物理类 | F20: 0 | G20: 0 | H20: 95 | I20: 93 | J20: 78 | K20: 43 | L20: 83 | M20: 66 | N20: 0 | O20: 0 | P20: =ROUND(SUM(H20:O20),0) -> 458 | Q20: =IF(D20="物理类",IF(P20>=分数线!$C$2,"本科",""),IF(D20="历史类",IF(P20>=分数线!$C$3,"本科",""))) -> 本科 | R20: =IF(F20>0,IF(Q20="本科",(2-F20)*36,-(F20)*36),IF(Q20="本科",2*36,0)) -> 72 | S20: =IF(D20="物理类",IF(P20>=分数线!$C$6,"重本",""),IF(D20="历史类",IF(P20>=分数线!$C$7,"重本",""))) | T20: =IF(G20>0,IF(S20="重本",G20*72,-(G20)*72),IF(S20="重本",2*72,0)) -> 0 | U20: =R20+T20 -> 72 | V20: 16 | W20: #N/A | X20: =IF($C20="应届",($U20*0.1)/6,IF($C20="往届","","NULL")) | Y20: #N/A | Z20: =IF($C20="应届",($U20*0.1)/6,IF($C20="往届","","NULL")) | AA20: #N/A | AB20: =IF($C20="应届",($U20*0.1)/6,IF($C20="往届","","NULL")) | AC20: #N/A | AD20: =IF($C20="应届",($U20*0.1)/6,IF($C20="往届","","NULL")) | AE20: #N/A | AF20: =IF($C20="应届",($U20*0.1)/6,IF($C20="往届","","NULL")) | AG20: #N/A | AH20: =IF($C20="应届",($U20*0.1)/6,IF($C20="往届","","NULL")) | AI20: #N/A | AJ20: #N/A | AK20: =IF($C20="应届",($U20*0.1)/6,IF($C20="往届","","NULL")) | AL20: #N/A | AM20: =IF($C20="应届",($U20*0.1)/6,IF($C20="往届","","NULL")) | AN20: #N/A | AO20: =IF($C20="应届",($U20*0.1)/6,IF($C20="往届","","NULL")) | AP20: #N/A | AQ20: =IF($C20="应届",($U20*0.1)/6,IF($C20="往届","","NULL")) | AR20: #N/A | AS20: =IF($C20="应届",($U20*0.1)/6,IF($C20="往届","","NULL")) | AT20: #N/A | AU20: =IF($C20="应届",($U20*0.1)/6,IF($C20="往届","","NULL")) | AV20: #N/A | AW20: #N/A | AX20: =IF($C20="应届",($U20*0.15)/6,IF($C20="往届","","NULL")) | AY20: #N/A | AZ20: =IF($C20="应届",($U20*0.15)/6,IF($C20="往届","","NULL")) | BA20: #N/A | BB20: =IF($C20="应届",($U20*0.15)/6,IF($C20="往届","","NULL")) | BC20: #N/A | BD20: =IF($C20="应届",($U20*0.15)/6,IF($C20="往届","","NULL")) | BE20: #N/A | BF20: =IF($C20="应届",($U20*0.15)/6,IF($C20="往届","","NULL")) | BG20: #N/A | BH20: =IF($C20="应届",($U20*0.15)/6,IF($C20="往届","","NULL")) | BI20: #N/A | BJ20: #N/A | BK20: =IF($C20="应届",($U20*0.15)/6,IF($C20="往届","","NULL")) | BL20: #N/A | BM20: =IF($C20="应届",($U20*0.15)/6,IF($C20="往届","","NULL")) | BN20: #N/A | BO20: =IF($C20="应届",($U20*0.15)/6,IF($C20="往届","","NULL")) | BP20: #N/A | BQ20: =IF($C20="应届",($U20*0.15)/6,IF($C20="往届","","NULL")) | BR20: #N/A | BS20: =IF($C20="应届",($U20*0.15)/6,IF($C20="往届","","NULL")) | BT20: #N/A | BU20: =IF($C20="应届",($U20*0.15)/6,IF($C20="往届","","NULL")) | BV20: 16 | BW20: 周菊明 | BX20: =IF($C20="应届",($U20*0.25)/6,IF($C20="往届",($U20*0.5)/6,"NULL")) -> 6 | BY20: 潘勇 | BZ20: =IF($C20="应届",($U20*0.25)/6,IF($C20="往届",($U20*0.5)/6,"NULL")) -> 6 | CA20: 彭丹 | CB20: =IF($C20="应届",($U20*0.25)/6,IF($C20="往届",($U20*0.5)/6,"NULL")) -> 6 | CC20: 康小平 | CD20: =IF($C20="应届",($U20*0.25)/6,IF($C20="往届",($U20*0.5)/6,"NULL")) -> 6 | CE20: 何传英 | CF20: =IF($C20="应届",($U20*0.25)/6,IF($C20="往届",($U20*0.5)/6,"NULL")) -> 6 | CG20: 张弘 | CH20: =IF($C20="应届",($U20*0.25)/6,IF($C20="往届",($U20*0.5)/6,"NULL")) -> 6 | CI20: 16 | CJ20: 周菊明 | CK20: =IF($C20="应届",($U20*0.25)/6,IF($C20="往届",($U20*0.5)/6,"NULL")) -> 6 | CL20: 潘勇 | CM20: =IF($C20="应届",($U20*0.25)/6,IF($C20="往届",($U20*0.5)/6,"NULL")) -> 6 | CN20: 彭丹 | CO20: =IF($C20="应届",($U20*0.25)/6,IF($C20="往届",($U20*0.5)/6,"NULL")) -> 6 | CP20: 康小平 | CQ20: =IF($C20="应届",($U20*0.25)/6,IF($C20="往届",($U20*0.5)/6,"NULL")) -> 6 | CR20: 何传英 | CS20: =IF($C20="应届",($U20*0.25)/6,IF($C20="往届",($U20*0.5)/6,"NULL")) -> 6 | CT20: 张弘 | CU20: =IF($C20="应届",($U20*0.25)/6,IF($C20="往届",($U20*0.5)/6,"NULL")) -> 6
... A42: 马志明 | B42: 513422200305211511 | C42: 往届 | D42: 物理类 | F42: 0 | G42: 0 | H42: 89 | I42: 86 | J42: 31 | K42: 40 | L42: 47 | M42: 57 | N42: 0 | O42: 0 | P42: =ROUND(SUM(H42:O42),0) -> 350 | Q42: =IF(D42="物理类",IF(P42>=分数线!$C$2,"本科",""),IF(D42="历史类",IF(P42>=分数线!$C$3,"本科",""))) | R42: =IF(F42>0,IF(Q42="本科",(2-F42)*36,-(F42)*36),IF(Q42="本科",2*36,0)) -> 0 | S42: =IF(D42="物理类",IF(P42>=分数线!$C$6,"重本",""),IF(D42="历史类",IF(P42>=分数线!$C$7,"重本",""))) | T42: =IF(G42>0,IF(S42="重本",G42*72,-(G42)*72),IF(S42="重本",2*72,0)) -> 0 | U42: =R42+T42 -> 0 | V42: 16 | W42: #N/A | X42: =IF($C42="应届",($U42*0.1)/6,IF($C42="往届","","NULL")) | Y42: #N/A | Z42: =IF($C42="应届",($U42*0.1)/6,IF($C42="往届","","NULL")) | AA42: #N/A | AB42: =IF($C42="应届",($U42*0.1)/6,IF($C42="往届","","NULL")) | AC42: #N/A | AD42: =IF($C42="应届",($U42*0.1)/6,IF($C42="往届","","NULL")) | AE42: #N/A | AF42: =IF($C42="应届",($U42*0.1)/6,IF($C42="往届","","NULL")) | AG42: #N/A | AH42: =IF($C42="应届",($U42*0.1)/6,IF($C42="往届","","NULL")) | AI42: #N/A | AJ42: #N/A | AK42: =IF($C42="应届",($U42*0.1)/6,IF($C42="往届","","NULL")) | AL42: #N/A | AM42: =IF($C42="应届",($U42*0.1)/6,IF($C42="往届","","NULL")) | AN42: #N/A | AO42: =IF($C42="应届",($U42*0.1)/6,IF($C42="往届","","NULL")) | AP42: #N/A | AQ42: =IF($C42="应届",($U42*0.1)/6,IF($C42="往届","","NULL")) | AR42: #N/A | AS42: =IF($C42="应届",($U42*0.1)/6,IF($C42="往届","","NULL")) | AT42: #N/A | AU42: =IF($C42="应届",($U42*0.1)/6,IF($C42="往届","","NULL")) | AV42: #N/A | AW42: #N/A | AX42: =IF($C42="应届",($U42*0.15)/6,IF($C42="往届","","NULL")) | AY42: #N/A | AZ42: =IF($C42="应届",($U42*0.15)/6,IF($C42="往届","","NULL")) | BA42: #N/A | BB42: =IF($C42="应届",($U42*0.15)/6,IF($C42="往届","","NULL")) | BC42: #N/A | BD42: =IF($C42="应届",($U42*0.15)/6,IF($C42="往届","","NULL")) | BE42: #N/A | BF42: =IF($C42="应届",($U42*0.15)/6,IF($C42="往届","","NULL")) | BG42: #N/A | BH42: =IF($C42="应届",($U42*0.15)/6,IF($C42="往届","","NULL")) | BI42: #N/A | BJ42: #N/A | BK42: =IF($C42="应届",($U42*0.15)/6,IF($C42="往届","","NULL")) | BL42: #N/A | BM42: =IF($C42="应届",($U42*0.15)/6,IF($C42="往届","","NULL")) | BN42: #N/A | BO42: =IF($C42="应届",($U42*0.15)/6,IF($C42="往届","","NULL")) | BP42: #N/A | BQ42: =IF($C42="应届",($U42*0.15)/6,IF($C42="往届","","NULL")) | BR42: #N/A | BS42: =IF($C42="应届",($U42*0.15)/6,IF($C42="往届","","NULL")) | BT42: #N/A | BU42: =IF($C42="应届",($U42*0.15)/6,IF($C42="往届","","NULL")) | BV42: 16 | BW42: 周菊明 | BX42: =IF($C42="应届",($U42*0.25)/6,IF($C42="往届",($U42*0.5)/6,"NULL")) -> 0 | BY42: 潘勇 | BZ42: =IF($C42="应届",($U42*0.25)/6,IF($C42="往届",($U42*0.5)/6,"NULL")) -> 0 | CA42: 彭丹 | CB42: =IF($C42="应届",($U42*0.25)/6,IF($C42="往届",($U42*0.5)/6,"NULL")) -> 0 | CC42: 康小平 | CD42: =IF($C42="应届",($U42*0.25)/6,IF($C42="往届",($U42*0.5)/6,"NULL")) -> 0 | CE42: 何传英 | CF42: =IF($C42="应届",($U42*0.25)/6,IF($C42="往届",($U42*0.5)/6,"NULL")) -> 0 | CG42: 张弘 | CH42: =IF($C42="应届",($U42*0.25)/6,IF($C42="往届",($U42*0.5)/6,"NULL")) -> 0 | CI42: 16 | CJ42: 周菊明 | CK42: =IF($C42="应届",($U42*0.25)/6,IF($C42="往届",($U42*0.5)/6,"NULL")) -> 0 | CL42: 潘勇 | CM42: =IF($C42="应届",($U42*0.25)/6,IF($C42="往届",($U42*0.5)/6,"NULL")) -> 0 | CN42: 彭丹 | CO42: =IF($C42="应届",($U42*0.25)/6,IF($C42="往届",($U42*0.5)/6,"NULL")) -> 0 | CP42: 康小平 | CQ42: =IF($C42="应届",($U42*0.25)/6,IF($C42="往届",($U42*0.5)/6,"NULL")) -> 0 | CR42: 何传英 | CS42: =IF($C42="应届",($U42*0.25)/6,IF($C42="往届",($U42*0.5)/6,"NULL")) -> 0 | CT42: 张弘 | CU42: =IF($C42="应届",($U42*0.25)/6,IF($C42="往届",($U42*0.5)/6,"NULL")) -> 0
A43: 仁青杜基 | B43: 513422200609206017 | C43: 应届 | D43: 物理类 | F43: 1 | G43: 1 | H43: 123 | I43: 125 | J43: 128 | K43: 78 | L43: 82 | M43: 88 | N43: 0 | O43: 0 | P43: =ROUND(SUM(H43:O43),0) -> 624 | Q43: =IF(D43="物理类",IF(P43>=分数线!$C$2,"本科",""),IF(D43="历史类",IF(P43>=分数线!$C$3,"本科",""))) -> 本科 | R43: =IF(F43>0,IF(Q43="本科",(2-F43)*36,-(F43)*36),IF(Q43="本科",2*36,0)) -> 36 | S43: =IF(D43="物理类",IF(P43>=分数线!$C$6,"重本",""),IF(D43="历史类",IF(P43>=分数线!$C$7,"重本",""))) -> 重本 | T43: =IF(G43>0,IF(S43="重本",G43*72,-(G43)*72),IF(S43="重本",2*72,0)) -> 72 | U43: =R43+T43 -> 108 | V43: 1 | W43: 周菊明 | X43: =IF($C43="应届",($U43*0.1)/6,IF($C43="往届","","NULL")) -> 1.8 | Y43: 赵云川 | Z43: =IF($C43="应届",($U43*0.1)/6,IF($C43="往届","","NULL")) -> 1.8 | AA43: 拉初 | AB43: =IF($C43="应届",($U43*0.1)/6,IF($C43="往届","","NULL")) -> 1.8 | AC43: 赵建超 | AD43: =IF($C43="应届",($U43*0.1)/6,IF($C43="往届","","NULL")) -> 1.8 | AE43: 叶小军 | AF43: =IF($C43="应届",($U43*0.1)/6,IF($C43="往届","","NULL")) -> 1.8 | AG43: 彭桦 | AH43: =IF($C43="应届",($U43*0.1)/6,IF($C43="往届","","NULL")) -> 1.8 | AI43: 1 | AJ43: 周菊明 | AK43: =IF($C43="应届",($U43*0.1)/6,IF($C43="往届","","NULL")) -> 1.8 | AL43: 赵云川 | AM43: =IF($C43="应届",($U43*0.1)/6,IF($C43="往届","","NULL")) -> 1.8 | AN43: 拉初 | AO43: =IF($C43="应届",($U43*0.1)/6,IF($C43="往届","","NULL")) -> 1.8 | AP43: 赵建超 | AQ43: =IF($C43="应届",($U43*0.1)/6,IF($C43="往届","","NULL")) -> 1.8 | AR43: 叶小军 | AS43: =IF($C43="应届",($U43*0.1)/6,IF($C43="往届","","NULL")) -> 1.8 | AT43: 彭桦 | AU43: =IF($C43="应届",($U43*0.1)/6,IF($C43="往届","","NULL")) -> 1.8 | AV43: 1 | AW43: 周菊明 | AX43: =IF($C43="应届",($U43*0.15)/6,IF($C43="往届","","NULL")) -> 2.7 | AY43: 赵云川 | AZ43: =IF($C43="应届",($U43*0.15)/6,IF($C43="往届","","NULL")) -> 2.7 | BA43: 拉初 | BB43: =IF($C43="应届",($U43*0.15)/6,IF($C43="往届","","NULL")) -> 2.7 | BC43: 赵建超 | BD43: =IF($C43="应届",($U43*0.15)/6,IF($C43="往届","","NULL")) -> 2.7 | BE43: 叶小军 | BF43: =IF($C43="应届",($U43*0.15)/6,IF($C43="往届","","NULL")) -> 2.7 | BG43: 彭桦 | BH43: =IF($C43="应届",($U43*0.15)/6,IF($C43="往届","","NULL")) -> 2.7 | BI43: 1 | BJ43: 周菊明 | BK43: =IF($C43="应届",($U43*0.15)/6,IF($C43="往届","","NULL")) -> 2.7 | BL43: 赵云川 | BM43: =IF($C43="应届",($U43*0.15)/6,IF($C43="往届","","NULL")) -> 2.7 | BN43: 拉初 | BO43: =IF($C43="应届",($U43*0.15)/6,IF($C43="往届","","NULL")) -> 2.7 | BP43: 赵建超 | BQ43: =IF($C43="应届",($U43*0.15)/6,IF($C43="往届","","NULL")) -> 2.7 | BR43: 叶小军 | BS43: =IF($C43="应届",($U43*0.15)/6,IF($C43="往届","","NULL")) -> 2.7 | BT43: 彭桦 | BU43: =IF($C43="应届",($U43*0.15)/6,IF($C43="往届","","NULL")) -> 2.7 | BV43: 1 | BW43: 周菊明 | BX43: =IF($C43="应届",($U43*0.25)/6,IF($C43="往届",($U43*0.5)/6,"NULL")) -> 4.5 | BY43: 赵云川 | BZ43: =IF($C43="应届",($U43*0.25)/6,IF($C43="往届",($U43*0.5)/6,"NULL")) -> 4.5 | CA43: 拉初 | CB43: =IF($C43="应届",($U43*0.25)/6,IF($C43="往届",($U43*0.5)/6,"NULL")) -> 4.5 | CC43: 赵建超 | CD43: =IF($C43="应届",($U43*0.25)/6,IF($C43="往届",($U43*0.5)/6,"NULL")) -> 4.5 | CE43: 叶小军 | CF43: =IF($C43="应届",($U43*0.25)/6,IF($C43="往届",($U43*0.5)/6,"NULL")) -> 4.5 | CG43: 彭桦/高琴 | CH43: =IF($C43="应届",($U43*0.25)/6,IF($C43="往届",($U43*0.5)/6,"NULL")) -> 4.5 | CI43: 1 | CJ43: 周菊明 | CK43: =IF($C43="应届",($U43*0.25)/6,IF($C43="往届",($U43*0.5)/6,"NULL")) -> 4.5 | CL43: 赵云川 | CM43: =IF($C43="应届",($U43*0.25)/6,IF($C43="往届",($U43*0.5)/6,"NULL")) -> 4.5 | CN43: 拉初 | CO43: =IF($C43="应届",($U43*0.25)/6,IF($C43="往届",($U43*0.5)/6,"NULL")) -> 4.5 | CP43: 赵建超 | CQ43: =IF($C43="应届",($U43*0.25)/6,IF($C43="往届",($U43*0.5)/6,"NULL")) -> 4.5 | CR43: 叶小军 | CS43: =IF($C43="应届",($U43*0.25)/6,IF($C43="往届",($U43*0.5)/6,"NULL")) -> 4.5 | CT43: 高琴 | CU43: =IF($C43="应届",($U43*0.25)/6,IF($C43="往届",($U43*0.5)/6,"NULL")) -> 4.5
A44: 潘路阳 | B44: 51342220070812341X | C44: 应届 | D44: 物理类 | F44: 1 | G44: 1 | H44: 113 | I44: 123 | J44: 117 | K44: 73 | L44: 87 | M44: 94 | N44: 0 | O44: 0 | P44: =ROUND(SUM(H44:O44),0) -> 607 | Q44: =IF(D44="物理类",IF(P44>=分数线!$C$2,"本科",""),IF(D44="历史类",IF(P44>=分数线!$C$3,"本科",""))) -> 本科 | R44: =IF(F44>0,IF(Q44="本科",(2-F44)*36,-(F44)*36),IF(Q44="本科",2*36,0)) -> 36 | S44: =IF(D44="物理类",IF(P44>=分数线!$C$6,"重本",""),IF(D44="历史类",IF(P44>=分数线!$C$7,"重本",""))) -> 重本 | T44: =IF(G44>0,IF(S44="重本",G44*72,-(G44)*72),IF(S44="重本",2*72,0)) -> 72 | U44: =R44+T44 -> 108 | V44: 1 | W44: 周菊明 | X44: =IF($C44="应届",($U44*0.1)/6,IF($C44="往届","","NULL")) -> 1.8 | Y44: 赵云川 | Z44: =IF($C44="应届",($U44*0.1)/6,IF($C44="往届","","NULL")) -> 1.8 | AA44: 拉初 | AB44: =IF($C44="应届",($U44*0.1)/6,IF($C44="往届","","NULL")) -> 1.8 | AC44: 赵建超 | AD44: =IF($C44="应届",($U44*0.1)/6,IF($C44="往届","","NULL")) -> 1.8 | AE44: 叶小军 | AF44: =IF($C44="应届",($U44*0.1)/6,IF($C44="往届","","NULL")) -> 1.8 | AG44: 彭桦 | AH44: =IF($C44="应届",($U44*0.1)/6,IF($C44="往届","","NULL")) -> 1.8 | AI44: 1 | AJ44: 周菊明 | AK44: =IF($C44="应届",($U44*0.1)/6,IF($C44="往届","","NULL")) -> 1.8 | AL44: 赵云川 | AM44: =IF($C44="应届",($U44*0.1)/6,IF($C44="往届","","NULL")) -> 1.8 | AN44: 拉初 | AO44: =IF($C44="应届",($U44*0.1)/6,IF($C44="往届","","NULL")) -> 1.8 | AP44: 赵建超 | AQ44: =IF($C44="应届",($U44*0.1)/6,IF($C44="往届","","NULL")) -> 1.8 | AR44: 叶小军 | AS44: =IF($C44="应届",($U44*0.1)/6,IF($C44="往届","","NULL")) -> 1.8 | AT44: 彭桦 | AU44: =IF($C44="应届",($U44*0.1)/6,IF($C44="往届","","NULL")) -> 1.8 | AV44: 1 | AW44: 周菊明 | AX44: =IF($C44="应届",($U44*0.15)/6,IF($C44="往届","","NULL")) -> 2.7 | AY44: 赵云川 | AZ44: =IF($C44="应届",($U44*0.15)/6,IF($C44="往届","","NULL")) -> 2.7 | BA44: 拉初 | BB44: =IF($C44="应届",($U44*0.15)/6,IF($C44="往届","","NULL")) -> 2.7 | BC44: 赵建超 | BD44: =IF($C44="应届",($U44*0.15)/6,IF($C44="往届","","NULL")) -> 2.7 | BE44: 叶小军 | BF44: =IF($C44="应届",($U44*0.15)/6,IF($C44="往届","","NULL")) -> 2.7 | BG44: 彭桦 | BH44: =IF($C44="应届",($U44*0.15)/6,IF($C44="往届","","NULL")) -> 2.7 | BI44: 1 | BJ44: 周菊明 | BK44: =IF($C44="应届",($U44*0.15)/6,IF($C44="往届","","NULL")) -> 2.7 | BL44: 赵云川 | BM44: =IF($C44="应届",($U44*0.15)/6,IF($C44="往届","","NULL")) -> 2.7 | BN44: 拉初 | BO44: =IF($C44="应届",($U44*0.15)/6,IF($C44="往届","","NULL")) -> 2.7 | BP44: 赵建超 | BQ44: =IF($C44="应届",($U44*0.15)/6,IF($C44="往届","","NULL")) -> 2.7 | BR44: 叶小军 | BS44: =IF($C44="应届",($U44*0.15)/6,IF($C44="往届","","NULL")) -> 2.7 | BT44: 彭桦 | BU44: =IF($C44="应届",($U44*0.15)/6,IF($C44="往届","","NULL")) -> 2.7 | BV44: 1 | BW44: 周菊明 | BX44: =IF($C44="应届",($U44*0.25)/6,IF($C44="往届",($U44*0.5)/6,"NULL")) -> 4.5 | BY44: 赵云川 | BZ44: =IF($C44="应届",($U44*0.25)/6,IF($C44="往届",($U44*0.5)/6,"NULL")) -> 4.5 | CA44: 拉初 | CB44: =IF($C44="应届",($U44*0.25)/6,IF($C44="往届",($U44*0.5)/6,"NULL")) -> 4.5 | CC44: 赵建超 | CD44: =IF($C44="应届",($U44*0.25)/6,IF($C44="往届",($U44*0.5)/6,"NULL")) -> 4.5 | CE44: 叶小军 | CF44: =IF($C44="应届",($U44*0.25)/6,IF($C44="往届",($U44*0.5)/6,"NULL")) -> 4.5 | CG44: 彭桦/高琴 | CH44: =IF($C44="应届",($U44*0.25)/6,IF($C44="往届",($U44*0.5)/6,"NULL")) -> 4.5 | CI44: 1 | CJ44: 周菊明 | CK44: =IF($C44="应届",($U44*0.25)/6,IF($C44="往届",($U44*0.5)/6,"NULL")) -> 4.5 | CL44: 赵云川 | CM44: =IF($C44="应届",($U44*0.25)/6,IF($C44="往届",($U44*0.5)/6,"NULL")) -> 4.5 | CN44: 拉初 | CO44: =IF($C44="应届",($U44*0.25)/6,IF($C44="往届",($U44*0.5)/6,"NULL")) -> 4.5 | CP44: 赵建超 | CQ44: =IF($C44="应届",($U44*0.25)/6,IF($C44="往届",($U44*0.5)/6,"NULL")) -> 4.5 | CR44: 叶小军 | CS44: =IF($C44="应届",($U44*0.25)/6,IF($C44="往届",($U44*0.5)/6,"NULL")) -> 4.5 | CT44: 高琴 | CU44: =IF($C44="应届",($U44*0.25)/6,IF($C44="往届",($U44*0.5)/6,"NULL")) -> 4.5
A45: 杨东生 | B45: 513422200708114417 | C45: 应届 | D45: 物理类 | F45: 1 | G45: 1 | H45: 117 | I45: 118 | J45: 130 | K45: 68 | L45: 88 | M45: 82 | N45: 0 | O45: 0 | P45: =ROUND(SUM(H45:O45),0) -> 603 | Q45: =IF(D45="物理类",IF(P45>=分数线!$C$2,"本科",""),IF(D45="历史类",IF(P45>=分数线!$C$3,"本科",""))) -> 本科 | R45: =IF(F45>0,IF(Q45="本科",(2-F45)*36,-(F45)*36),IF(Q45="本科",2*36,0)) -> 36 | S45: =IF(D45="物理类",IF(P45>=分数线!$C$6,"重本",""),IF(D45="历史类",IF(P45>=分数线!$C$7,"重本",""))) -> 重本 | T45: =IF(G45>0,IF(S45="重本",G45*72,-(G45)*72),IF(S45="重本",2*72,0)) -> 72 | U45: =R45+T45 -> 108 | V45: 1 | W45: 周菊明 | X45: =IF($C45="应届",($U45*0.1)/6,IF($C45="往届","","NULL")) -> 1.8 | Y45: 赵云川 | Z45: =IF($C45="应届",($U45*0.1)/6,IF($C45="往届","","NULL")) -> 1.8 | AA45: 拉初 | AB45: =IF($C45="应届",($U45*0.1)/6,IF($C45="往届","","NULL")) -> 1.8 | AC45: 赵建超 | AD45: =IF($C45="应届",($U45*0.1)/6,IF($C45="往届","","NULL")) -> 1.8 | AE45: 叶小军 | AF45: =IF($C45="应届",($U45*0.1)/6,IF($C45="往届","","NULL")) -> 1.8 | AG45: 彭桦 | AH45: =IF($C45="应届",($U45*0.1)/6,IF($C45="往届","","NULL")) -> 1.8 | AI45: 1 | AJ45: 周菊明 | AK45: =IF($C45="应届",($U45*0.1)/6,IF($C45="往届","","NULL")) -> 1.8 | AL45: 赵云川 | AM45: =IF($C45="应届",($U45*0.1)/6,IF($C45="往届","","NULL")) -> 1.8 | AN45: 拉初 | AO45: =IF($C45="应届",($U45*0.1)/6,IF($C45="往届","","NULL")) -> 1.8 | AP45: 赵建超 | AQ45: =IF($C45="应届",($U45*0.1)/6,IF($C45="往届","","NULL")) -> 1.8 | AR45: 叶小军 | AS45: =IF($C45="应届",($U45*0.1)/6,IF($C45="往届","","NULL")) -> 1.8 | AT45: 彭桦 | AU45: =IF($C45="应届",($U45*0.1)/6,IF($C45="往届","","NULL")) -> 1.8 | AV45: 1 | AW45: 周菊明 | AX45: =IF($C45="应届",($U45*0.15)/6,IF($C45="往届","","NULL")) -> 2.7 | AY45: 赵云川 | AZ45: =IF($C45="应届",($U45*0.15)/6,IF($C45="往届","","NULL")) -> 2.7 | BA45: 拉初 | BB45: =IF($C45="应届",($U45*0.15)/6,IF($C45="往届","","NULL")) -> 2.7 | BC45: 赵建超 | BD45: =IF($C45="应届",($U45*0.15)/6,IF($C45="往届","","NULL")) -> 2.7 | BE45: 叶小军 | BF45: =IF($C45="应届",($U45*0.15)/6,IF($C45="往届","","NULL")) -> 2.7 | BG45: 彭桦 | BH45: =IF($C45="应届",($U45*0.15)/6,IF($C45="往届","","NULL")) -> 2.7 | BI45: 1 | BJ45: 周菊明 | BK45: =IF($C45="应届",($U45*0.15)/6,IF($C45="往届","","NULL")) -> 2.7 | BL45: 赵云川 | BM45: =IF($C45="应届",($U45*0.15)/6,IF($C45="往届","","NULL")) -> 2.7 | BN45: 拉初 | BO45: =IF($C45="应届",($U45*0.15)/6,IF($C45="往届","","NULL")) -> 2.7 | BP45: 赵建超 | BQ45: =IF($C45="应届",($U45*0.15)/6,IF($C45="往届","","NULL")) -> 2.7 | BR45: 叶小军 | BS45: =IF($C45="应届",($U45*0.15)/6,IF($C45="往届","","NULL")) -> 2.7 | BT45: 彭桦 | BU45: =IF($C45="应届",($U45*0.15)/6,IF($C45="往届","","NULL")) -> 2.7 | BV45: 1 | BW45: 周菊明 | BX45: =IF($C45="应届",($U45*0.25)/6,IF($C45="往届",($U45*0.5)/6,"NULL")) -> 4.5 | BY45: 赵云川 | BZ45: =IF($C45="应届",($U45*0.25)/6,IF($C45="往届",($U45*0.5)/6,"NULL")) -> 4.5 | CA45: 拉初 | CB45: =IF($C45="应届",($U45*0.25)/6,IF($C45="往届",($U45*0.5)/6,"NULL")) -> 4.5 | CC45: 赵建超 | CD45: =IF($C45="应届",($U45*0.25)/6,IF($C45="往届",($U45*0.5)/6,"NULL")) -> 4.5 | CE45: 叶小军 | CF45: =IF($C45="应届",($U45*0.25)/6,IF($C45="往届",($U45*0.5)/6,"NULL")) -> 4.5 | CG45: 彭桦/高琴 | CH45: =IF($C45="应届",($U45*0.25)/6,IF($C45="往届",($U45*0.5)/6,"NULL")) -> 4.5 | CI45: 1 | CJ45: 周菊明 | CK45: =IF($C45="应届",($U45*0.25)/6,IF($C45="往届",($U45*0.5)/6,"NULL")) -> 4.5 | CL45: 赵云川 | CM45: =IF($C45="应届",($U45*0.25)/6,IF($C45="往届",($U45*0.5)/6,"NULL")) -> 4.5 | CN45: 拉初 | CO45: =IF($C45="应届",($U45*0.25)/6,IF($C45="往届",($U45*0.5)/6,"NULL")) -> 4.5 | CP45: 赵建超 | CQ45: =IF($C45="应届",($U45*0.25)/6,IF($C45="往届",($U45*0.5)/6,"NULL")) -> 4.5 | CR45: 叶小军 | CS45: =IF($C45="应届",($U45*0.25)/6,IF($C45="往届",($U45*0.5)/6,"NULL")) -> 4.5 | CT45: 高琴 | CU45: =IF($C45="应届",($U45*0.25)/6,IF($C45="往届",($U45*0.5)/6,"NULL")) -> 4.5
A46: 次里拉姆 | B46: 513422200701205025 | C46: 应届 | D46: 物理类 | F46: 1 | G46: 1 | H46: 114 | I46: 117 | J46: 135 | K46: 68 | L46: 81 | M46: 79 | N46: 0 | O46: 0 | P46: =ROUND(SUM(H46:O46),0) -> 594 | Q46: =IF(D46="物理类",IF(P46>=分数线!$C$2,"本科",""),IF(D46="历史类",IF(P46>=分数线!$C$3,"本科",""))) -> 本科 | R46: =IF(F46>0,IF(Q46="本科",(2-F46)*36,-(F46)*36),IF(Q46="本科",2*36,0)) -> 36 | S46: =IF(D46="物理类",IF(P46>=分数线!$C$6,"重本",""),IF(D46="历史类",IF(P46>=分数线!$C$7,"重本",""))) -> 重本 | T46: =IF(G46>0,IF(S46="重本",G46*72,-(G46)*72),IF(S46="重本",2*72,0)) -> 72 | U46: =R46+T46 -> 108 | V46: 1 | W46: 周菊明 | X46: =IF($C46="应届",($U46*0.1)/6,IF($C46="往届","","NULL")) -> 1.8 | Y46: 赵云川 | Z46: =IF($C46="应届",($U46*0.1)/6,IF($C46="往届","","NULL")) -> 1.8 | AA46: 拉初 | AB46: =IF($C46="应届",($U46*0.1)/6,IF($C46="往届","","NULL")) -> 1.8 | AC46: 赵建超 | AD46: =IF($C46="应届",($U46*0.1)/6,IF($C46="往届","","NULL")) -> 1.8 | AE46: 叶小军 | AF46: =IF($C46="应届",($U46*0.1)/6,IF($C46="往届","","NULL")) -> 1.8 | AG46: 彭桦 | AH46: =IF($C46="应届",($U46*0.1)/6,IF($C46="往届","","NULL")) -> 1.8 | AI46: 1 | AJ46: 周菊明 | AK46: =IF($C46="应届",($U46*0.1)/6,IF($C46="往届","","NULL")) -> 1.8 | AL46: 赵云川 | AM46: =IF($C46="应届",($U46*0.1)/6,IF($C46="往届","","NULL")) -> 1.8 | AN46: 拉初 | AO46: =IF($C46="应届",($U46*0.1)/6,IF($C46="往届","","NULL")) -> 1.8 | AP46: 赵建超 | AQ46: =IF($C46="应届",($U46*0.1)/6,IF($C46="往届","","NULL")) -> 1.8 | AR46: 叶小军 | AS46: =IF($C46="应届",($U46*0.1)/6,IF($C46="往届","","NULL")) -> 1.8 | AT46: 彭桦 | AU46: =IF($C46="应届",($U46*0.1)/6,IF($C46="往届","","NULL")) -> 1.8 | AV46: 1 | AW46: 周菊明 | AX46: =IF($C46="应届",($U46*0.15)/6,IF($C46="往届","","NULL")) -> 2.7 | AY46: 赵云川 | AZ46: =IF($C46="应届",($U46*0.15)/6,IF($C46="往届","","NULL")) -> 2.7 | BA46: 拉初 | BB46: =IF($C46="应届",($U46*0.15)/6,IF($C46="往届","","NULL")) -> 2.7 | BC46: 赵建超 | BD46: =IF($C46="应届",($U46*0.15)/6,IF($C46="往届","","NULL")) -> 2.7 | BE46: 叶小军 | BF46: =IF($C46="应届",($U46*0.15)/6,IF($C46="往届","","NULL")) -> 2.7 | BG46: 彭桦 | BH46: =IF($C46="应届",($U46*0.15)/6,IF($C46="往届","","NULL")) -> 2.7 | BI46: 1 | BJ46: 周菊明 | BK46: =IF($C46="应届",($U46*0.15)/6,IF($C46="往届","","NULL")) -> 2.7 | BL46: 赵云川 | BM46: =IF($C46="应届",($U46*0.15)/6,IF($C46="往届","","NULL")) -> 2.7 | BN46: 拉初 | BO46: =IF($C46="应届",($U46*0.15)/6,IF($C46="往届","","NULL")) -> 2.7 | BP46: 赵建超 | BQ46: =IF($C46="应届",($U46*0.15)/6,IF($C46="往届","","NULL")) -> 2.7 | BR46: 叶小军 | BS46: =IF($C46="应届",($U46*0.15)/6,IF($C46="往届","","NULL")) -> 2.7 | BT46: 彭桦 | BU46: =IF($C46="应届",($U46*0.15)/6,IF($C46="往届","","NULL")) -> 2.7 | BV46: 1 | BW46: 周菊明 | BX46: =IF($C46="应届",($U46*0.25)/6,IF($C46="往届",($U46*0.5)/6,"NULL")) -> 4.5 | BY46: 赵云川 | BZ46: =IF($C46="应届",($U46*0.25)/6,IF($C46="往届",($U46*0.5)/6,"NULL")) -> 4.5 | CA46: 拉初 | CB46: =IF($C46="应届",($U46*0.25)/6,IF($C46="往届",($U46*0.5)/6,"NULL")) -> 4.5 | CC46: 赵建超 | CD46: =IF($C46="应届",($U46*0.25)/6,IF($C46="往届",($U46*0.5)/6,"NULL")) -> 4.5 | CE46: 叶小军 | CF46: =IF($C46="应届",($U46*0.25)/6,IF($C46="往届",($U46*0.5)/6,"NULL")) -> 4.5 | CG46: 彭桦/高琴 | CH46: =IF($C46="应届",($U46*0.25)/6,IF($C46="往届",($U46*0.5)/6,"NULL")) -> 4.5 | CI46: 1 | CJ46: 周菊明 | CK46: =IF($C46="应届",($U46*0.25)/6,IF($C46="往届",($U46*0.5)/6,"NULL")) -> 4.5 | CL46: 赵云川 | CM46: =IF($C46="应届",($U46*0.25)/6,IF($C46="往届",($U46*0.5)/6,"NULL")) -> 4.5 | CN46: 拉初 | CO46: =IF($C46="应届",($U46*0.25)/6,IF($C46="往届",($U46*0.5)/6,"NULL")) -> 4.5 | CP46: 赵建超 | CQ46: =IF($C46="应届",($U46*0.25)/6,IF($C46="往届",($U46*0.5)/6,"NULL")) -> 4.5 | CR46: 叶小军 | CS46: =IF($C46="应届",($U46*0.25)/6,IF($C46="往届",($U46*0.5)/6,"NULL")) -> 4.5 | CT46: 高琴 | CU46: =IF($C46="应届",($U46*0.25)/6,IF($C46="往届",($U46*0.5)/6,"NULL")) -> 4.5
A47: 马文海 | B47: 513422200605053818 | C47: 应届 | D47: 物理类 | F47: 1 | G47: 1 | H47: 107 | I47: 117 | J47: 122 | K47: 79 | L47: 76 | M47: 84 | N47: 0 | O47: 0 | P47: =ROUND(SUM(H47:O47),0) -> 585 | Q47: =IF(D47="物理类",IF(P47>=分数线!$C$2,"本科",""),IF(D47="历史类",IF(P47>=分数线!$C$3,"本科",""))) -> 本科 | R47: =IF(F47>0,IF(Q47="本科",(2-F47)*36,-(F47)*36),IF(Q47="本科",2*36,0)) -> 36 | S47: =IF(D47="物理类",IF(P47>=分数线!$C$6,"重本",""),IF(D47="历史类",IF(P47>=分数线!$C$7,"重本",""))) -> 重本 | T47: =IF(G47>0,IF(S47="重本",G47*72,-(G47)*72),IF(S47="重本",2*72,0)) -> 72 | U47: =R47+T47 -> 108 | V47: 1 | W47: 周菊明 | X47: =IF($C47="应届",($U47*0.1)/6,IF($C47="往届","","NULL")) -> 1.8 | Y47: 赵云川 | Z47: =IF($C47="应届",($U47*0.1)/6,IF($C47="往届","","NULL")) -> 1.8 | AA47: 拉初 | AB47: =IF($C47="应届",($U47*0.1)/6,IF($C47="往届","","NULL")) -> 1.8 | AC47: 赵建超 | AD47: =IF($C47="应届",($U47*0.1)/6,IF($C47="往届","","NULL")) -> 1.8 | AE47: 叶小军 | AF47: =IF($C47="应届",($U47*0.1)/6,IF($C47="往届","","NULL")) -> 1.8 | AG47: 彭桦 | AH47: =IF($C47="应届",($U47*0.1)/6,IF($C47="往届","","NULL")) -> 1.8 | AI47: 1 | AJ47: 周菊明 | AK47: =IF($C47="应届",($U47*0.1)/6,IF($C47="往届","","NULL")) -> 1.8 | AL47: 赵云川 | AM47: =IF($C47="应届",($U47*0.1)/6,IF($C47="往届","","NULL")) -> 1.8 | AN47: 拉初 | AO47: =IF($C47="应届",($U47*0.1)/6,IF($C47="往届","","NULL")) -> 1.8 | AP47: 赵建超 | AQ47: =IF($C47="应届",($U47*0.1)/6,IF($C47="往届","","NULL")) -> 1.8 | AR47: 叶小军 | AS47: =IF($C47="应届",($U47*0.1)/6,IF($C47="往届","","NULL")) -> 1.8 | AT47: 彭桦 | AU47: =IF($C47="应届",($U47*0.1)/6,IF($C47="往届","","NULL")) -> 1.8 | AV47: 1 | AW47: 周菊明 | AX47: =IF($C47="应届",($U47*0.15)/6,IF($C47="往届","","NULL")) -> 2.7 | AY47: 赵云川 | AZ47: =IF($C47="应届",($U47*0.15)/6,IF($C47="往届","","NULL")) -> 2.7 | BA47: 拉初 | BB47: =IF($C47="应届",($U47*0.15)/6,IF($C47="往届","","NULL")) -> 2.7 | BC47: 赵建超 | BD47: =IF($C47="应届",($U47*0.15)/6,IF($C47="往届","","NULL")) -> 2.7 | BE47: 叶小军 | BF47: =IF($C47="应届",($U47*0.15)/6,IF($C47="往届","","NULL")) -> 2.7 | BG47: 彭桦 | BH47: =IF($C47="应届",($U47*0.15)/6,IF($C47="往届","","NULL")) -> 2.7 | BI47: 1 | BJ47: 周菊明 | BK47: =IF($C47="应届",($U47*0.15)/6,IF($C47="往届","","NULL")) -> 2.7 | BL47: 赵云川 | BM47: =IF($C47="应届",($U47*0.15)/6,IF($C47="往届","","NULL")) -> 2.7 | BN47: 拉初 | BO47: =IF($C47="应届",($U47*0.15)/6,IF($C47="往届","","NULL")) -> 2.7 | BP47: 赵建超 | BQ47: =IF($C47="应届",($U47*0.15)/6,IF($C47="往届","","NULL")) -> 2.7 | BR47: 叶小军 | BS47: =IF($C47="应届",($U47*0.15)/6,IF($C47="往届","","NULL")) -> 2.7 | BT47: 彭桦 | BU47: =IF($C47="应届",($U47*0.15)/6,IF($C47="往届","","NULL")) -> 2.7 | BV47: 1 | BW47: 周菊明 | BX47: =IF($C47="应届",($U47*0.25)/6,IF($C47="往届",($U47*0.5)/6,"NULL")) -> 4.5 | BY47: 赵云川 | BZ47: =IF($C47="应届",($U47*0.25)/6,IF($C47="往届",($U47*0.5)/6,"NULL")) -> 4.5 | CA47: 拉初 | CB47: =IF($C47="应届",($U47*0.25)/6,IF($C47="往届",($U47*0.5)/6,"NULL")) -> 4.5 | CC47: 赵建超 | CD47: =IF($C47="应届",($U47*0.25)/6,IF($C47="往届",($U47*0.5)/6,"NULL")) -> 4.5 | CE47: 叶小军 | CF47: =IF($C47="应届",($U47*0.25)/6,IF($C47="往届",($U47*0.5)/6,"NULL")) -> 4.5 | CG47: 彭桦/高琴 | CH47: =IF($C47="应届",($U47*0.25)/6,IF($C47="往届",($U47*0.5)/6,"NULL")) -> 4.5 | CI47: 1 | CJ47: 周菊明 | CK47: =IF($C47="应届",($U47*0.25)/6,IF($C47="往届",($U47*0.5)/6,"NULL")) -> 4.5 | CL47: 赵云川 | CM47: =IF($C47="应届",($U47*0.25)/6,IF($C47="往届",($U47*0.5)/6,"NULL")) -> 4.5 | CN47: 拉初 | CO47: =IF($C47="应届",($U47*0.25)/6,IF($C47="往届",($U47*0.5)/6,"NULL")) -> 4.5 | CP47: 赵建超 | CQ47: =IF($C47="应届",($U47*0.25)/6,IF($C47="往届",($U47*0.5)/6,"NULL")) -> 4.5 | CR47: 叶小军 | CS47: =IF($C47="应届",($U47*0.25)/6,IF($C47="往届",($U47*0.5)/6,"NULL")) -> 4.5 | CT47: 高琴 | CU47: =IF($C47="应届",($U47*0.25)/6,IF($C47="往届",($U47*0.5)/6,"NULL")) -> 4.5
A48: 周静 | B48: 513422200705272727 | C48: 应届 | D48: 物理类 | F48: 1 | G48: 0 | H48: 117 | I48: 105 | J48: 122 | K48: 71 | L48: 71 | M48: 89 | N48: 0 | O48: 0 | P48: =ROUND(SUM(H48:O48),0) -> 575 | Q48: =IF(D48="物理类",IF(P48>=分数线!$C$2,"本科",""),IF(D48="历史类",IF(P48>=分数线!$C$3,"本科",""))) -> 本科 | R48: =IF(F48>0,IF(Q48="本科",(2-F48)*36,-(F48)*36),IF(Q48="本科",2*36,0)) -> 36 | S48: =IF(D48="物理类",IF(P48>=分数线!$C$6,"重本",""),IF(D48="历史类",IF(P48>=分数线!$C$7,"重本",""))) -> 重本 | T48: =IF(G48>0,IF(S48="重本",G48*72,-(G48)*72),IF(S48="重本",2*72,0)) -> 144 | U48: =R48+T48 -> 180 | V48: 1 | W48: 周菊明 | X48: =IF($C48="应届",($U48*0.1)/6,IF($C48="往届","","NULL")) -> 3 | Y48: 赵云川 | Z48: =IF($C48="应届",($U48*0.1)/6,IF($C48="往届","","NULL")) -> 3 | AA48: 拉初 | AB48: =IF($C48="应届",($U48*0.1)/6,IF($C48="往届","","NULL")) -> 3 | AC48: 赵建超 | AD48: =IF($C48="应届",($U48*0.1)/6,IF($C48="往届","","NULL")) -> 3 | AE48: 叶小军 | AF48: =IF($C48="应届",($U48*0.1)/6,IF($C48="往届","","NULL")) -> 3 | AG48: 彭桦 | AH48: =IF($C48="应届",($U48*0.1)/6,IF($C48="往届","","NULL")) -> 3 | AI48: 1 | AJ48: 周菊明 | AK48: =IF($C48="应届",($U48*0.1)/6,IF($C48="往届","","NULL")) -> 3 | AL48: 赵云川 | AM48: =IF($C48="应届",($U48*0.1)/6,IF($C48="往届","","NULL")) -> 3 | AN48: 拉初 | AO48: =IF($C48="应届",($U48*0.1)/6,IF($C48="往届","","NULL")) -> 3 | AP48: 赵建超 | AQ48: =IF($C48="应届",($U48*0.1)/6,IF($C48="往届","","NULL")) -> 3 | AR48: 叶小军 | AS48: =IF($C48="应届",($U48*0.1)/6,IF($C48="往届","","NULL")) -> 3 | AT48: 彭桦 | AU48: =IF($C48="应届",($U48*0.1)/6,IF($C48="往届","","NULL")) -> 3 | AV48: 1 | AW48: 周菊明 | AX48: =IF($C48="应届",($U48*0.15)/6,IF($C48="往届","","NULL")) -> 4.5 | AY48: 赵云川 | AZ48: =IF($C48="应届",($U48*0.15)/6,IF($C48="往届","","NULL")) -> 4.5 | BA48: 拉初 | BB48: =IF($C48="应届",($U48*0.15)/6,IF($C48="往届","","NULL")) -> 4.5 | BC48: 赵建超 | BD48: =IF($C48="应届",($U48*0.15)/6,IF($C48="往届","","NULL")) -> 4.5 | BE48: 叶小军 | BF48: =IF($C48="应届",($U48*0.15)/6,IF($C48="往届","","NULL")) -> 4.5 | BG48: 彭桦 | BH48: =IF($C48="应届",($U48*0.15)/6,IF($C48="往届","","NULL")) -> 4.5 | BI48: 1 | BJ48: 周菊明 | BK48: =IF($C48="应届",($U48*0.15)/6,IF($C48="往届","","NULL")) -> 4.5 | BL48: 赵云川 | BM48: =IF($C48="应届",($U48*0.15)/6,IF($C48="往届","","NULL")) -> 4.5 | BN48: 拉初 | BO48: =IF($C48="应届",($U48*0.15)/6,IF($C48="往届","","NULL")) -> 4.5 | BP48: 赵建超 | BQ48: =IF($C48="应届",($U48*0.15)/6,IF($C48="往届","","NULL")) -> 4.5 | BR48: 叶小军 | BS48: =IF($C48="应届",($U48*0.15)/6,IF($C48="往届","","NULL")) -> 4.5 | BT48: 彭桦 | BU48: =IF($C48="应届",($U48*0.15)/6,IF($C48="往届","","NULL")) -> 4.5 | BV48: 1 | BW48: 周菊明 | BX48: =IF($C48="应届",($U48*0.25)/6,IF($C48="往届",($U48*0.5)/6,"NULL")) -> 7.5 | BY48: 赵云川 | BZ48: =IF($C48="应届",($U48*0.25)/6,IF($C48="往届",($U48*0.5)/6,"NULL")) -> 7.5 | CA48: 拉初 | CB48: =IF($C48="应届",($U48*0.25)/6,IF($C48="往届",($U48*0.5)/6,"NULL")) -> 7.5 | CC48: 赵建超 | CD48: =IF($C48="应届",($U48*0.25)/6,IF($C48="往届",($U48*0.5)/6,"NULL")) -> 7.5 | CE48: 叶小军 | CF48: =IF($C48="应届",($U48*0.25)/6,IF($C48="往届",($U48*0.5)/6,"NULL")) -> 7.5 | CG48: 彭桦/高琴 | CH48: =IF($C48="应届",($U48*0.25)/6,IF($C48="往届",($U48*0.5)/6,"NULL")) -> 7.5 | CI48: 1 | CJ48: 周菊明 | CK48: =IF($C48="应届",($U48*0.25)/6,IF($C48="往届",($U48*0.5)/6,"NULL")) -> 7.5 | CL48: 赵云川 | CM48: =IF($C48="应届",($U48*0.25)/6,IF($C48="往届",($U48*0.5)/6,"NULL")) -> 7.5 | CN48: 拉初 | CO48: =IF($C48="应届",($U48*0.25)/6,IF($C48="往届",($U48*0.5)/6,"NULL")) -> 7.5 | CP48: 赵建超 | CQ48: =IF($C48="应届",($U48*0.25)/6,IF($C48="往届",($U48*0.5)/6,"NULL")) -> 7.5 | CR48: 叶小军 | CS48: =IF($C48="应届",($U48*0.25)/6,IF($C48="往届",($U48*0.5)/6,"NULL")) -> 7.5 | CT48: 高琴 | CU48: =IF($C48="应届",($U48*0.25)/6,IF($C48="往届",($U48*0.5)/6,"NULL")) -> 7.5
A49: 杨语曦 | B49: 51342220070426002X | C49: 应届 | D49: 物理类 | F49: 1 | G49: 1 | H49: 118 | I49: 105 | J49: 134 | K49: 50 | L49: 79 | M49: 82 | N49: 0 | O49: 0 | P49: =ROUND(SUM(H49:O49),0) -> 568 | Q49: =IF(D49="物理类",IF(P49>=分数线!$C$2,"本科",""),IF(D49="历史类",IF(P49>=分数线!$C$3,"本科",""))) -> 本科 | R49: =IF(F49>0,IF(Q49="本科",(2-F49)*36,-(F49)*36),IF(Q49="本科",2*36,0)) -> 36 | S49: =IF(D49="物理类",IF(P49>=分数线!$C$6,"重本",""),IF(D49="历史类",IF(P49>=分数线!$C$7,"重本",""))) -> 重本 | T49: =IF(G49>0,IF(S49="重本",G49*72,-(G49)*72),IF(S49="重本",2*72,0)) -> 72 | U49: =R49+T49 -> 108 | V49: 1 | W49: 周菊明 | X49: =IF($C49="应届",($U49*0.1)/6,IF($C49="往届","","NULL")) -> 1.8 | Y49: 赵云川 | Z49: =IF($C49="应届",($U49*0.1)/6,IF($C49="往届","","NULL")) -> 1.8 | AA49: 拉初 | AB49: =IF($C49="应届",($U49*0.1)/6,IF($C49="往届","","NULL")) -> 1.8 | AC49: 赵建超 | AD49: =IF($C49="应届",($U49*0.1)/6,IF($C49="往届","","NULL")) -> 1.8 | AE49: 叶小军 | AF49: =IF($C49="应届",($U49*0.1)/6,IF($C49="往届","","NULL")) -> 1.8 | AG49: 彭桦 | AH49: =IF($C49="应届",($U49*0.1)/6,IF($C49="往届","","NULL")) -> 1.8 | AI49: 1 | AJ49: 周菊明 | AK49: =IF($C49="应届",($U49*0.1)/6,IF($C49="往届","","NULL")) -> 1.8 | AL49: 赵云川 | AM49: =IF($C49="应届",($U49*0.1)/6,IF($C49="往届","","NULL")) -> 1.8 | AN49: 拉初 | AO49: =IF($C49="应届",($U49*0.1)/6,IF($C49="往届","","NULL")) -> 1.8 | AP49: 赵建超 | AQ49: =IF($C49="应届",($U49*0.1)/6,IF($C49="往届","","NULL")) -> 1.8 | AR49: 叶小军 | AS49: =IF($C49="应届",($U49*0.1)/6,IF($C49="往届","","NULL")) -> 1.8 | AT49: 彭桦 | AU49: =IF($C49="应届",($U49*0.1)/6,IF($C49="往届","","NULL")) -> 1.8 | AV49: 1 | AW49: 周菊明 | AX49: =IF($C49="应届",($U49*0.15)/6,IF($C49="往届","","NULL")) -> 2.7 | AY49: 赵云川 | AZ49: =IF($C49="应届",($U49*0.15)/6,IF($C49="往届","","NULL")) -> 2.7 | BA49: 拉初 | BB49: =IF($C49="应届",($U49*0.15)/6,IF($C49="往届","","NULL")) -> 2.7 | BC49: 赵建超 | BD49: =IF($C49="应届",($U49*0.15)/6,IF($C49="往届","","NULL")) -> 2.7 | BE49: 叶小军 | BF49: =IF($C49="应届",($U49*0.15)/6,IF($C49="往届","","NULL")) -> 2.7 | BG49: 彭桦 | BH49: =IF($C49="应届",($U49*0.15)/6,IF($C49="往届","","NULL")) -> 2.7 | BI49: 1 | BJ49: 周菊明 | BK49: =IF($C49="应届",($U49*0.15)/6,IF($C49="往届","","NULL")) -> 2.7 | BL49: 赵云川 | BM49: =IF($C49="应届",($U49*0.15)/6,IF($C49="往届","","NULL")) -> 2.7 | BN49: 拉初 | BO49: =IF($C49="应届",($U49*0.15)/6,IF($C49="往届","","NULL")) -> 2.7 | BP49: 赵建超 | BQ49: =IF($C49="应届",($U49*0.15)/6,IF($C49="往届","","NULL")) -> 2.7 | BR49: 叶小军 | BS49: =IF($C49="应届",($U49*0.15)/6,IF($C49="往届","","NULL")) -> 2.7 | BT49: 彭桦 | BU49: =IF($C49="应届",($U49*0.15)/6,IF($C49="往届","","NULL")) -> 2.7 | BV49: 1 | BW49: 周菊明 | BX49: =IF($C49="应届",($U49*0.25)/6,IF($C49="往届",($U49*0.5)/6,"NULL")) -> 4.5 | BY49: 赵云川 | BZ49: =IF($C49="应届",($U49*0.25)/6,IF($C49="往届",($U49*0.5)/6,"NULL")) -> 4.5 | CA49: 拉初 | CB49: =IF($C49="应届",($U49*0.25)/6,IF($C49="往届",($U49*0.5)/6,"NULL")) -> 4.5 | CC49: 赵建超 | CD49: =IF($C49="应届",($U49*0.25)/6,IF($C49="往届",($U49*0.5)/6,"NULL")) -> 4.5 | CE49: 叶小军 | CF49: =IF($C49="应届",($U49*0.25)/6,IF($C49="往届",($U49*0.5)/6,"NULL")) -> 4.5 | CG49: 彭桦/高琴 | CH49: =IF($C49="应届",($U49*0.25)/6,IF($C49="往届",($U49*0.5)/6,"NULL")) -> 4.5 | CI49: 1 | CJ49: 周菊明 | CK49: =IF($C49="应届",($U49*0.25)/6,IF($C49="往届",($U49*0.5)/6,"NULL")) -> 4.5 | CL49: 赵云川 | CM49: =IF($C49="应届",($U49*0.25)/6,IF($C49="往届",($U49*0.5)/6,"NULL")) -> 4.5 | CN49: 拉初 | CO49: =IF($C49="应届",($U49*0.25)/6,IF($C49="往届",($U49*0.5)/6,"NULL")) -> 4.5 | CP49: 赵建超 | CQ49: =IF($C49="应届",($U49*0.25)/6,IF($C49="往届",($U49*0.5)/6,"NULL")) -> 4.5 | CR49: 叶小军 | CS49: =IF($C49="应届",($U49*0.25)/6,IF($C49="往届",($U49*0.5)/6,"NULL")) -> 4.5 | CT49: 高琴 | CU49: =IF($C49="应届",($U49*0.25)/6,IF($C49="往届",($U49*0.5)/6,"NULL")) -> 4.5
A50: 邱波 | B50: 513422200506044430 | C50: 应届 | D50: 物理类 | F50: 1 | G50: 0 | H50: 117 | I50: 113 | J50: 98 | K50: 70 | L50: 84 | M50: 83 | N50: 0 | O50: 0 | P50: =ROUND(SUM(H50:O50),0) -> 565 | Q50: =IF(D50="物理类",IF(P50>=分数线!$C$2,"本科",""),IF(D50="历史类",IF(P50>=分数线!$C$3,"本科",""))) -> 本科 | R50: =IF(F50>0,IF(Q50="本科",(2-F50)*36,-(F50)*36),IF(Q50="本科",2*36,0)) -> 36 | S50: =IF(D50="物理类",IF(P50>=分数线!$C$6,"重本",""),IF(D50="历史类",IF(P50>=分数线!$C$7,"重本",""))) -> 重本 | T50: =IF(G50>0,IF(S50="重本",G50*72,-(G50)*72),IF(S50="重本",2*72,0)) -> 144 | U50: =R50+T50 -> 180 | V50: 1 | W50: 肖锐 | X50: =IF($C50="应届",($U50*0.1)/6,IF($C50="往届","","NULL")) -> 3 | Y50: 喇燕 | Z50: =IF($C50="应届",($U50*0.1)/6,IF($C50="往届","","NULL")) -> 3 | AA50: 浦恩玲 | AB50: =IF($C50="应届",($U50*0.1)/6,IF($C50="往届","","NULL")) -> 3 | AC50: 解超燕 | AD50: =IF($C50="应届",($U50*0.1)/6,IF($C50="往届","","NULL")) -> 3 | AE50: 马红琦 | AF50: =IF($C50="应届",($U50*0.1)/6,IF($C50="往届","","NULL")) -> 3 | AG50: 喇菊 | AH50: =IF($C50="应届",($U50*0.1)/6,IF($C50="往届","","NULL")) -> 3 | AI50: 1 | AJ50: 周菊明 | AK50: =IF($C50="应届",($U50*0.1)/6,IF($C50="往届","","NULL")) -> 3 | AL50: 赵云川 | AM50: =IF($C50="应届",($U50*0.1)/6,IF($C50="往届","","NULL")) -> 3 | AN50: 拉初 | AO50: =IF($C50="应届",($U50*0.1)/6,IF($C50="往届","","NULL")) -> 3 | AP50: 赵建超 | AQ50: =IF($C50="应届",($U50*0.1)/6,IF($C50="往届","","NULL")) -> 3 | AR50: 叶小军 | AS50: =IF($C50="应届",($U50*0.1)/6,IF($C50="往届","","NULL")) -> 3 | AT50: 彭桦 | AU50: =IF($C50="应届",($U50*0.1)/6,IF($C50="往届","","NULL")) -> 3 | AV50: 1 | AW50: 周菊明 | AX50: =IF($C50="应届",($U50*0.15)/6,IF($C50="往届","","NULL")) -> 4.5 | AY50: 赵云川 | AZ50: =IF($C50="应届",($U50*0.15)/6,IF($C50="往届","","NULL")) -> 4.5 | BA50: 拉初 | BB50: =IF($C50="应届",($U50*0.15)/6,IF($C50="往届","","NULL")) -> 4.5 | BC50: 赵建超 | BD50: =IF($C50="应届",($U50*0.15)/6,IF($C50="往届","","NULL")) -> 4.5 | BE50: 叶小军 | BF50: =IF($C50="应届",($U50*0.15)/6,IF($C50="往届","","NULL")) -> 4.5 | BG50: 彭桦 | BH50: =IF($C50="应届",($U50*0.15)/6,IF($C50="往届","","NULL")) -> 4.5 | BI50: 1 | BJ50: 周菊明 | BK50: =IF($C50="应届",($U50*0.15)/6,IF($C50="往届","","NULL")) -> 4.5 | BL50: 赵云川 | BM50: =IF($C50="应届",($U50*0.15)/6,IF($C50="往届","","NULL")) -> 4.5 | BN50: 拉初 | BO50: =IF($C50="应届",($U50*0.15)/6,IF($C50="往届","","NULL")) -> 4.5 | BP50: 赵建超 | BQ50: =IF($C50="应届",($U50*0.15)/6,IF($C50="往届","","NULL")) -> 4.5 | BR50: 叶小军 | BS50: =IF($C50="应届",($U50*0.15)/6,IF($C50="往届","","NULL")) -> 4.5 | BT50: 彭桦 | BU50: =IF($C50="应届",($U50*0.15)/6,IF($C50="往届","","NULL")) -> 4.5 | BV50: 1 | BW50: 周菊明 | BX50: =IF($C50="应届",($U50*0.25)/6,IF($C50="往届",($U50*0.5)/6,"NULL")) -> 7.5 | BY50: 赵云川 | BZ50: =IF($C50="应届",($U50*0.25)/6,IF($C50="往届",($U50*0.5)/6,"NULL")) -> 7.5 | CA50: 拉初 | CB50: =IF($C50="应届",($U50*0.25)/6,IF($C50="往届",($U50*0.5)/6,"NULL")) -> 7.5 | CC50: 赵建超 | CD50: =IF($C50="应届",($U50*0.25)/6,IF($C50="往届",($U50*0.5)/6,"NULL")) -> 7.5 | CE50: 叶小军 | CF50: =IF($C50="应届",($U50*0.25)/6,IF($C50="往届",($U50*0.5)/6,"NULL")) -> 7.5 | CG50: 彭桦/高琴 | CH50: =IF($C50="应届",($U50*0.25)/6,IF($C50="往届",($U50*0.5)/6,"NULL")) -> 7.5 | CI50: 1 | CJ50: 周菊明 | CK50: =IF($C50="应届",($U50*0.25)/6,IF($C50="往届",($U50*0.5)/6,"NULL")) -> 7.5 | CL50: 赵云川 | CM50: =IF($C50="应届",($U50*0.25)/6,IF($C50="往届",($U50*0.5)/6,"NULL")) -> 7.5 | CN50: 拉初 | CO50: =IF($C50="应届",($U50*0.25)/6,IF($C50="往届",($U50*0.5)/6,"NULL")) -> 7.5 | CP50: 赵建超 | CQ50: =IF($C50="应届",($U50*0.25)/6,IF($C50="往届",($U50*0.5)/6,"NULL")) -> 7.5 | CR50: 叶小军 | CS50: =IF($C50="应届",($U50*0.25)/6,IF($C50="往届",($U50*0.5)/6,"NULL")) -> 7.5 | CT50: 高琴 | CU50: =IF($C50="应届",($U50*0.25)/6,IF($C50="往届",($U50*0.5)/6,"NULL")) -> 7.5
A51: 呷绒拉姆 | B51: 513422200412104826 | C51: 应届 | D51: 物理类 | F51: 1 | G51: 1 | H51: 119 | I51: 102 | J51: 123 | K51: 57 | L51: 72 | M51: 86 | N51: 0 | O51: 0 | P51: =ROUND(SUM(H51:O51),0) -> 559 | Q51: =IF(D51="物理类",IF(P51>=分数线!$C$2,"本科",""),IF(D51="历史类",IF(P51>=分数线!$C$3,"本科",""))) -> 本科 | R51: =IF(F51>0,IF(Q51="本科",(2-F51)*36,-(F51)*36),IF(Q51="本科",2*36,0)) -> 36 | S51: =IF(D51="物理类",IF(P51>=分数线!$C$6,"重本",""),IF(D51="历史类",IF(P51>=分数线!$C$7,"重本",""))) -> 重本 | T51: =IF(G51>0,IF(S51="重本",G51*72,-(G51)*72),IF(S51="重本",2*72,0)) -> 72 | U51: =R51+T51 -> 108 | V51: 1 | W51: 周菊明 | X51: =IF($C51="应届",($U51*0.1)/6,IF($C51="往届","","NULL")) -> 1.8 | Y51: 赵云川 | Z51: =IF($C51="应届",($U51*0.1)/6,IF($C51="往届","","NULL")) -> 1.8 | AA51: 拉初 | AB51: =IF($C51="应届",($U51*0.1)/6,IF($C51="往届","","NULL")) -> 1.8 | AC51: 赵建超 | AD51: =IF($C51="应届",($U51*0.1)/6,IF($C51="往届","","NULL")) -> 1.8 | AE51: 叶小军 | AF51: =IF($C51="应届",($U51*0.1)/6,IF($C51="往届","","NULL")) -> 1.8 | AG51: 彭桦 | AH51: =IF($C51="应届",($U51*0.1)/6,IF($C51="往届","","NULL")) -> 1.8 | AI51: 1 | AJ51: 周菊明 | AK51: =IF($C51="应届",($U51*0.1)/6,IF($C51="往届","","NULL")) -> 1.8 | AL51: 赵云川 | AM51: =IF($C51="应届",($U51*0.1)/6,IF($C51="往届","","NULL")) -> 1.8 | AN51: 拉初 | AO51: =IF($C51="应届",($U51*0.1)/6,IF($C51="往届","","NULL")) -> 1.8 | AP51: 赵建超 | AQ51: =IF($C51="应届",($U51*0.1)/6,IF($C51="往届","","NULL")) -> 1.8 | AR51: 叶小军 | AS51: =IF($C51="应届",($U51*0.1)/6,IF($C51="往届","","NULL")) -> 1.8 | AT51: 彭桦 | AU51: =IF($C51="应届",($U51*0.1)/6,IF($C51="往届","","NULL")) -> 1.8 | AV51: 1 | AW51: 周菊明 | AX51: =IF($C51="应届",($U51*0.15)/6,IF($C51="往届","","NULL")) -> 2.7 | AY51: 赵云川 | AZ51: =IF($C51="应届",($U51*0.15)/6,IF($C51="往届","","NULL")) -> 2.7 | BA51: 拉初 | BB51: =IF($C51="应届",($U51*0.15)/6,IF($C51="往届","","NULL")) -> 2.7 | BC51: 赵建超 | BD51: =IF($C51="应届",($U51*0.15)/6,IF($C51="往届","","NULL")) -> 2.7 | BE51: 叶小军 | BF51: =IF($C51="应届",($U51*0.15)/6,IF($C51="往届","","NULL")) -> 2.7 | BG51: 彭桦 | BH51: =IF($C51="应届",($U51*0.15)/6,IF($C51="往届","","NULL")) -> 2.7 | BI51: 1 | BJ51: 周菊明 | BK51: =IF($C51="应届",($U51*0.15)/6,IF($C51="往届","","NULL")) -> 2.7 | BL51: 赵云川 | BM51: =IF($C51="应届",($U51*0.15)/6,IF($C51="往届","","NULL")) -> 2.7 | BN51: 拉初 | BO51: =IF($C51="应届",($U51*0.15)/6,IF($C51="往届","","NULL")) -> 2.7 | BP51: 赵建超 | BQ51: =IF($C51="应届",($U51*0.15)/6,IF($C51="往届","","NULL")) -> 2.7 | BR51: 叶小军 | BS51: =IF($C51="应届",($U51*0.15)/6,IF($C51="往届","","NULL")) -> 2.7 | BT51: 彭桦 | BU51: =IF($C51="应届",($U51*0.15)/6,IF($C51="往届","","NULL")) -> 2.7 | BV51: 1 | BW51: 周菊明 | BX51: =IF($C51="应届",($U51*0.25)/6,IF($C51="往届",($U51*0.5)/6,"NULL")) -> 4.5 | BY51: 赵云川 | BZ51: =IF($C51="应届",($U51*0.25)/6,IF($C51="往届",($U51*0.5)/6,"NULL")) -> 4.5 | CA51: 拉初 | CB51: =IF($C51="应届",($U51*0.25)/6,IF($C51="往届",($U51*0.5)/6,"NULL")) -> 4.5 | CC51: 赵建超 | CD51: =IF($C51="应届",($U51*0.25)/6,IF($C51="往届",($U51*0.5)/6,"NULL")) -> 4.5 | CE51: 叶小军 | CF51: =IF($C51="应届",($U51*0.25)/6,IF($C51="往届",($U51*0.5)/6,"NULL")) -> 4.5 | CG51: 彭桦/高琴 | CH51: =IF($C51="应届",($U51*0.25)/6,IF($C51="往届",($U51*0.5)/6,"NULL")) -> 4.5 | CI51: 1 | CJ51: 周菊明 | CK51: =IF($C51="应届",($U51*0.25)/6,IF($C51="往届",($U51*0.5)/6,"NULL")) -> 4.5 | CL51: 赵云川 | CM51: =IF($C51="应届",($U51*0.25)/6,IF($C51="往届",($U51*0.5)/6,"NULL")) -> 4.5 | CN51: 拉初 | CO51: =IF($C51="应届",($U51*0.25)/6,IF($C51="往届",($U51*0.5)/6,"NULL")) -> 4.5 | CP51: 赵建超 | CQ51: =IF($C51="应届",($U51*0.25)/6,IF($C51="往届",($U51*0.5)/6,"NULL")) -> 4.5 | CR51: 叶小军 | CS51: =IF($C51="应届",($U51*0.25)/6,IF($C51="往届",($U51*0.5)/6,"NULL")) -> 4.5 | CT51: 高琴 | CU51: =IF($C51="应届",($U51*0.25)/6,IF($C51="往届",($U51*0.5)/6,"NULL")) -> 4.5
A52: 鲁绒卓西 | B52: 513422200506017010 | C52: 应届 | D52: 物理类 | F52: 1 | G52: 0 | H52: 113 | I52: 107 | J52: 122 | K52: 64 | L52: 71 | M52: 81 | N52: 0 | O52: 0 | P52: =ROUND(SUM(H52:O52),0) -> 558 | Q52: =IF(D52="物理类",IF(P52>=分数线!$C$2,"本科",""),IF(D52="历史类",IF(P52>=分数线!$C$3,"本科",""))) -> 本科 | R52: =IF(F52>0,IF(Q52="本科",(2-F52)*36,-(F52)*36),IF(Q52="本科",2*36,0)) -> 36 | S52: =IF(D52="物理类",IF(P52>=分数线!$C$6,"重本",""),IF(D52="历史类",IF(P52>=分数线!$C$7,"重本",""))) -> 重本 | T52: =IF(G52>0,IF(S52="重本",G52*72,-(G52)*72),IF(S52="重本",2*72,0)) -> 144 | U52: =R52+T52 -> 180 | V52: 1 | W52: 周菊明 | X52: =IF($C52="应届",($U52*0.1)/6,IF($C52="往届","","NULL")) -> 3 | Y52: 赵云川 | Z52: =IF($C52="应届",($U52*0.1)/6,IF($C52="往届","","NULL")) -> 3 | AA52: 拉初 | AB52: =IF($C52="应届",($U52*0.1)/6,IF($C52="往届","","NULL")) -> 3 | AC52: 赵建超 | AD52: =IF($C52="应届",($U52*0.1)/6,IF($C52="往届","","NULL")) -> 3 | AE52: 叶小军 | AF52: =IF($C52="应届",($U52*0.1)/6,IF($C52="往届","","NULL")) -> 3 | AG52: 彭桦 | AH52: =IF($C52="应届",($U52*0.1)/6,IF($C52="往届","","NULL")) -> 3 | AI52: 1 | AJ52: 周菊明 | AK52: =IF($C52="应届",($U52*0.1)/6,IF($C52="往届","","NULL")) -> 3 | AL52: 赵云川 | AM52: =IF($C52="应届",($U52*0.1)/6,IF($C52="往届","","NULL")) -> 3 | AN52: 拉初 | AO52: =IF($C52="应届",($U52*0.1)/6,IF($C52="往届","","NULL")) -> 3 | AP52: 赵建超 | AQ52: =IF($C52="应届",($U52*0.1)/6,IF($C52="往届","","NULL")) -> 3 | AR52: 叶小军 | AS52: =IF($C52="应届",($U52*0.1)/6,IF($C52="往届","","NULL")) -> 3 | AT52: 彭桦 | AU52: =IF($C52="应届",($U52*0.1)/6,IF($C52="往届","","NULL")) -> 3 | AV52: 1 | AW52: 周菊明 | AX52: =IF($C52="应届",($U52*0.15)/6,IF($C52="往届","","NULL")) -> 4.5 | AY52: 赵云川 | AZ52: =IF($C52="应届",($U52*0.15)/6,IF($C52="往届","","NULL")) -> 4.5 | BA52: 拉初 | BB52: =IF($C52="应届",($U52*0.15)/6,IF($C52="往届","","NULL")) -> 4.5 | BC52: 赵建超 | BD52: =IF($C52="应届",($U52*0.15)/6,IF($C52="往届","","NULL")) -> 4.5 | BE52: 叶小军 | BF52: =IF($C52="应届",($U52*0.15)/6,IF($C52="往届","","NULL")) -> 4.5 | BG52: 彭桦 | BH52: =IF($C52="应届",($U52*0.15)/6,IF($C52="往届","","NULL")) -> 4.5 | BI52: 1 | BJ52: 周菊明 | BK52: =IF($C52="应届",($U52*0.15)/6,IF($C52="往届","","NULL")) -> 4.5 | BL52: 赵云川 | BM52: =IF($C52="应届",($U52*0.15)/6,IF($C52="往届","","NULL")) -> 4.5 | BN52: 拉初 | BO52: =IF($C52="应届",($U52*0.15)/6,IF($C52="往届","","NULL")) -> 4.5 | BP52: 赵建超 | BQ52: =IF($C52="应届",($U52*0.15)/6,IF($C52="往届","","NULL")) -> 4.5 | BR52: 叶小军 | BS52: =IF($C52="应届",($U52*0.15)/6,IF($C52="往届","","NULL")) -> 4.5 | BT52: 彭桦 | BU52: =IF($C52="应届",($U52*0.15)/6,IF($C52="往届","","NULL")) -> 4.5 | BV52: 1 | BW52: 周菊明 | BX52: =IF($C52="应届",($U52*0.25)/6,IF($C52="往届",($U52*0.5)/6,"NULL")) -> 7.5 | BY52: 赵云川 | BZ52: =IF($C52="应届",($U52*0.25)/6,IF($C52="往届",($U52*0.5)/6,"NULL")) -> 7.5 | CA52: 拉初 | CB52: =IF($C52="应届",($U52*0.25)/6,IF($C52="往届",($U52*0.5)/6,"NULL")) -> 7.5 | CC52: 赵建超 | CD52: =IF($C52="应届",($U52*0.25)/6,IF($C52="往届",($U52*0.5)/6,"NULL")) -> 7.5 | CE52: 叶小军 | CF52: =IF($C52="应届",($U52*0.25)/6,IF($C52="往届",($U52*0.5)/6,"NULL")) -> 7.5 | CG52: 彭桦/高琴 | CH52: =IF($C52="应届",($U52*0.25)/6,IF($C52="往届",($U52*0.5)/6,"NULL")) -> 7.5 | CI52: 1 | CJ52: 周菊明 | CK52: =IF($C52="应届",($U52*0.25)/6,IF($C52="往届",($U52*0.5)/6,"NULL")) -> 7.5 | CL52: 赵云川 | CM52: =IF($C52="应届",($U52*0.25)/6,IF($C52="往届",($U52*0.5)/6,"NULL")) -> 7.5 | CN52: 拉初 | CO52: =IF($C52="应届",($U52*0.25)/6,IF($C52="往届",($U52*0.5)/6,"NULL")) -> 7.5 | CP52: 赵建超 | CQ52: =IF($C52="应届",($U52*0.25)/6,IF($C52="往届",($U52*0.5)/6,"NULL")) -> 7.5 | CR52: 叶小军 | CS52: =IF($C52="应届",($U52*0.25)/6,IF($C52="往届",($U52*0.5)/6,"NULL")) -> 7.5 | CT52: 高琴 | CU52: =IF($C52="应届",($U52*0.25)/6,IF($C52="往届",($U52*0.5)/6,"NULL")) -> 7.5
A53: 英扎次里 | B53: 513422200405285016 | C53: 应届 | D53: 物理类 | F53: 1 | G53: 1 | H53: 110 | I53: 106 | J53: 114 | K53: 65 | L53: 76 | M53: 81 | N53: 0 | O53: 0 | P53: =ROUND(SUM(H53:O53),0) -> 552 | Q53: =IF(D53="物理类",IF(P53>=分数线!$C$2,"本科",""),IF(D53="历史类",IF(P53>=分数线!$C$3,"本科",""))) -> 本科 | R53: =IF(F53>0,IF(Q53="本科",(2-F53)*36,-(F53)*36),IF(Q53="本科",2*36,0)) -> 36 | S53: =IF(D53="物理类",IF(P53>=分数线!$C$6,"重本",""),IF(D53="历史类",IF(P53>=分数线!$C$7,"重本",""))) -> 重本 | T53: =IF(G53>0,IF(S53="重本",G53*72,-(G53)*72),IF(S53="重本",2*72,0)) -> 72 | U53: =R53+T53 -> 108 | V53: 1 | W53: 周菊明 | X53: =IF($C53="应届",($U53*0.1)/6,IF($C53="往届","","NULL")) -> 1.8 | Y53: 赵云川 | Z53: =IF($C53="应届",($U53*0.1)/6,IF($C53="往届","","NULL")) -> 1.8 | AA53: 拉初 | AB53: =IF($C53="应届",($U53*0.1)/6,IF($C53="往届","","NULL")) -> 1.8 | AC53: 赵建超 | AD53: =IF($C53="应届",($U53*0.1)/6,IF($C53="往届","","NULL")) -> 1.8 | AE53: 叶小军 | AF53: =IF($C53="应届",($U53*0.1)/6,IF($C53="往届","","NULL")) -> 1.8 | AG53: 彭桦 | AH53: =IF($C53="应届",($U53*0.1)/6,IF($C53="往届","","NULL")) -> 1.8 | AI53: 1 | AJ53: 周菊明 | AK53: =IF($C53="应届",($U53*0.1)/6,IF($C53="往届","","NULL")) -> 1.8 | AL53: 赵云川 | AM53: =IF($C53="应届",($U53*0.1)/6,IF($C53="往届","","NULL")) -> 1.8 | AN53: 拉初 | AO53: =IF($C53="应届",($U53*0.1)/6,IF($C53="往届","","NULL")) -> 1.8 | AP53: 赵建超 | AQ53: =IF($C53="应届",($U53*0.1)/6,IF($C53="往届","","NULL")) -> 1.8 | AR53: 叶小军 | AS53: =IF($C53="应届",($U53*0.1)/6,IF($C53="往届","","NULL")) -> 1.8 | AT53: 彭桦 | AU53: =IF($C53="应届",($U53*0.1)/6,IF($C53="往届","","NULL")) -> 1.8 | AV53: 1 | AW53: 周菊明 | AX53: =IF($C53="应届",($U53*0.15)/6,IF($C53="往届","","NULL")) -> 2.7 | AY53: 赵云川 | AZ53: =IF($C53="应届",($U53*0.15)/6,IF($C53="往届","","NULL")) -> 2.7 | BA53: 拉初 | BB53: =IF($C53="应届",($U53*0.15)/6,IF($C53="往届","","NULL")) -> 2.7 | BC53: 赵建超 | BD53: =IF($C53="应届",($U53*0.15)/6,IF($C53="往届","","NULL")) -> 2.7 | BE53: 叶小军 | BF53: =IF($C53="应届",($U53*0.15)/6,IF($C53="往届","","NULL")) -> 2.7 | BG53: 彭桦 | BH53: =IF($C53="应届",($U53*0.15)/6,IF($C53="往届","","NULL")) -> 2.7 | BI53: 1 | BJ53: 周菊明 | BK53: =IF($C53="应届",($U53*0.15)/6,IF($C53="往届","","NULL")) -> 2.7 | BL53: 赵云川 | BM53: =IF($C53="应届",($U53*0.15)/6,IF($C53="往届","","NULL")) -> 2.7 | BN53: 拉初 | BO53: =IF($C53="应届",($U53*0.15)/6,IF($C53="往届","","NULL")) -> 2.7 | BP53: 赵建超 | BQ53: =IF($C53="应届",($U53*0.15)/6,IF($C53="往届","","NULL")) -> 2.7 | BR53: 叶小军 | BS53: =IF($C53="应届",($U53*0.15)/6,IF($C53="往届","","NULL")) -> 2.7 | BT53: 彭桦 | BU53: =IF($C53="应届",($U53*0.15)/6,IF($C53="往届","","NULL")) -> 2.7 | BV53: 1 | BW53: 周菊明 | BX53: =IF($C53="应届",($U53*0.25)/6,IF($C53="往届",($U53*0.5)/6,"NULL")) -> 4.5 | BY53: 赵云川 | BZ53: =IF($C53="应届",($U53*0.25)/6,IF($C53="往届",($U53*0.5)/6,"NULL")) -> 4.5 | CA53: 拉初 | CB53: =IF($C53="应届",($U53*0.25)/6,IF($C53="往届",($U53*0.5)/6,"NULL")) -> 4.5 | CC53: 赵建超 | CD53: =IF($C53="应届",($U53*0.25)/6,IF($C53="往届",($U53*0.5)/6,"NULL")) -> 4.5 | CE53: 叶小军 | CF53: =IF($C53="应届",($U53*0.25)/6,IF($C53="往届",($U53*0.5)/6,"NULL")) -> 4.5 | CG53: 彭桦/高琴 | CH53: =IF($C53="应届",($U53*0.25)/6,IF($C53="往届",($U53*0.5)/6,"NULL")) -> 4.5 | CI53: 1 | CJ53: 周菊明 | CK53: =IF($C53="应届",($U53*0.25)/6,IF($C53="往届",($U53*0.5)/6,"NULL")) -> 4.5 | CL53: 赵云川 | CM53: =IF($C53="应届",($U53*0.25)/6,IF($C53="往届",($U53*0.5)/6,"NULL")) -> 4.5 | CN53: 拉初 | CO53: =IF($C53="应届",($U53*0.25)/6,IF($C53="往届",($U53*0.5)/6,"NULL")) -> 4.5 | CP53: 赵建超 | CQ53: =IF($C53="应届",($U53*0.25)/6,IF($C53="往届",($U53*0.5)/6,"NULL")) -> 4.5 | CR53: 叶小军 | CS53: =IF($C53="应届",($U53*0.25)/6,IF($C53="往届",($U53*0.5)/6,"NULL")) -> 4.5 | CT53: 高琴 | CU53: =IF($C53="应届",($U53*0.25)/6,IF($C53="往届",($U53*0.5)/6,"NULL")) -> 4.5
A54: 马金秀 | B54: 513422200607081521 | C54: 应届 | D54: 物理类 | F54: 1 | G54: 1 | H54: 114 | I54: 109 | J54: 113 | K54: 67 | L54: 76 | M54: 71 | N54: 0 | O54: 0 | P54: =ROUND(SUM(H54:O54),0) -> 550 | Q54: =IF(D54="物理类",IF(P54>=分数线!$C$2,"本科",""),IF(D54="历史类",IF(P54>=分数线!$C$3,"本科",""))) -> 本科 | R54: =IF(F54>0,IF(Q54="本科",(2-F54)*36,-(F54)*36),IF(Q54="本科",2*36,0)) -> 36 | S54: =IF(D54="物理类",IF(P54>=分数线!$C$6,"重本",""),IF(D54="历史类",IF(P54>=分数线!$C$7,"重本",""))) -> 重本 | T54: =IF(G54>0,IF(S54="重本",G54*72,-(G54)*72),IF(S54="重本",2*72,0)) -> 72 | U54: =R54+T54 -> 108 | V54: 1 | W54: 周菊明 | X54: =IF($C54="应届",($U54*0.1)/6,IF($C54="往届","","NULL")) -> 1.8 | Y54: 赵云川 | Z54: =IF($C54="应届",($U54*0.1)/6,IF($C54="往届","","NULL")) -> 1.8 | AA54: 拉初 | AB54: =IF($C54="应届",($U54*0.1)/6,IF($C54="往届","","NULL")) -> 1.8 | AC54: 赵建超 | AD54: =IF($C54="应届",($U54*0.1)/6,IF($C54="往届","","NULL")) -> 1.8 | AE54: 叶小军 | AF54: =IF($C54="应届",($U54*0.1)/6,IF($C54="往届","","NULL")) -> 1.8 | AG54: 彭桦 | AH54: =IF($C54="应届",($U54*0.1)/6,IF($C54="往届","","NULL")) -> 1.8 | AI54: 1 | AJ54: 周菊明 | AK54: =IF($C54="应届",($U54*0.1)/6,IF($C54="往届","","NULL")) -> 1.8 | AL54: 赵云川 | AM54: =IF($C54="应届",($U54*0.1)/6,IF($C54="往届","","NULL")) -> 1.8 | AN54: 拉初 | AO54: =IF($C54="应届",($U54*0.1)/6,IF($C54="往届","","NULL")) -> 1.8 | AP54: 赵建超 | AQ54: =IF($C54="应届",($U54*0.1)/6,IF($C54="往届","","NULL")) -> 1.8 | AR54: 叶小军 | AS54: =IF($C54="应届",($U54*0.1)/6,IF($C54="往届","","NULL")) -> 1.8 | AT54: 彭桦 | AU54: =IF($C54="应届",($U54*0.1)/6,IF($C54="往届","","NULL")) -> 1.8 | AV54: 1 | AW54: 周菊明 | AX54: =IF($C54="应届",($U54*0.15)/6,IF($C54="往届","","NULL")) -> 2.7 | AY54: 赵云川 | AZ54: =IF($C54="应届",($U54*0.15)/6,IF($C54="往届","","NULL")) -> 2.7 | BA54: 拉初 | BB54: =IF($C54="应届",($U54*0.15)/6,IF($C54="往届","","NULL")) -> 2.7 | BC54: 赵建超 | BD54: =IF($C54="应届",($U54*0.15)/6,IF($C54="往届","","NULL")) -> 2.7 | BE54: 叶小军 | BF54: =IF($C54="应届",($U54*0.15)/6,IF($C54="往届","","NULL")) -> 2.7 | BG54: 彭桦 | BH54: =IF($C54="应届",($U54*0.15)/6,IF($C54="往届","","NULL")) -> 2.7 | BI54: 1 | BJ54: 周菊明 | BK54: =IF($C54="应届",($U54*0.15)/6,IF($C54="往届","","NULL")) -> 2.7 | BL54: 赵云川 | BM54: =IF($C54="应届",($U54*0.15)/6,IF($C54="往届","","NULL")) -> 2.7 | BN54: 拉初 | BO54: =IF($C54="应届",($U54*0.15)/6,IF($C54="往届","","NULL")) -> 2.7 | BP54: 赵建超 | BQ54: =IF($C54="应届",($U54*0.15)/6,IF($C54="往届","","NULL")) -> 2.7 | BR54: 叶小军 | BS54: =IF($C54="应届",($U54*0.15)/6,IF($C54="往届","","NULL")) -> 2.7 | BT54: 彭桦 | BU54: =IF($C54="应届",($U54*0.15)/6,IF($C54="往届","","NULL")) -> 2.7 | BV54: 1 | BW54: 周菊明 | BX54: =IF($C54="应届",($U54*0.25)/6,IF($C54="往届",($U54*0.5)/6,"NULL")) -> 4.5 | BY54: 赵云川 | BZ54: =IF($C54="应届",($U54*0.25)/6,IF($C54="往届",($U54*0.5)/6,"NULL")) -> 4.5 | CA54: 拉初 | CB54: =IF($C54="应届",($U54*0.25)/6,IF($C54="往届",($U54*0.5)/6,"NULL")) -> 4.5 | CC54: 赵建超 | CD54: =IF($C54="应届",($U54*0.25)/6,IF($C54="往届",($U54*0.5)/6,"NULL")) -> 4.5 | CE54: 叶小军 | CF54: =IF($C54="应届",($U54*0.25)/6,IF($C54="往届",($U54*0.5)/6,"NULL")) -> 4.5 | CG54: 彭桦/高琴 | CH54: =IF($C54="应届",($U54*0.25)/6,IF($C54="往届",($U54*0.5)/6,"NULL")) -> 4.5 | CI54: 1 | CJ54: 周菊明 | CK54: =IF($C54="应届",($U54*0.25)/6,IF($C54="往届",($U54*0.5)/6,"NULL")) -> 4.5 | CL54: 赵云川 | CM54: =IF($C54="应届",($U54*0.25)/6,IF($C54="往届",($U54*0.5)/6,"NULL")) -> 4.5 | CN54: 拉初 | CO54: =IF($C54="应届",($U54*0.25)/6,IF($C54="往届",($U54*0.5)/6,"NULL")) -> 4.5 | CP54: 赵建超 | CQ54: =IF($C54="应届",($U54*0.25)/6,IF($C54="往届",($U54*0.5)/6,"NULL")) -> 4.5 | CR54: 叶小军 | CS54: =IF($C54="应届",($U54*0.25)/6,IF($C54="往届",($U54*0.5)/6,"NULL")) -> 4.5 | CT54: 高琴 | CU54: =IF($C54="应届",($U54*0.25)/6,IF($C54="往届",($U54*0.5)/6,"NULL")) -> 4.5
... A131: 刘鑫 | B131: 513422200701095612 | C131: 应届 | D131: 物理类 | F131: 0.6 | G131: 0 | H131: 97 | I131: 78 | J131: 58 | K131: 37 | L131: 58 | M131: 57 | N131: 0 | O131: 0 | P131: =ROUND(SUM(H131:O131),0) -> 385 | Q131: =IF(D131="物理类",IF(P131>=分数线!$C$2,"本科",""),IF(D131="历史类",IF(P131>=分数线!$C$3,"本科",""))) | R131: =IF(F131>0,IF(Q131="本科",(2-F131)*36,-(F131)*36),IF(Q131="本科",2*36,0)) -> -21.6 | S131: =IF(D131="物理类",IF(P131>=分数线!$C$6,"重本",""),IF(D131="历史类",IF(P131>=分数线!$C$7,"重本",""))) | T131: =IF(G131>0,IF(S131="重本",G131*72,-(G131)*72),IF(S131="重本",2*72,0)) -> 0 | U131: =R131+T131 -> -21.6 | V131: 2 | W131: 岳子琦 | X131: =IF($C131="应届",($U131*0.1)/6,IF($C131="往届","","NULL")) -> -0.36 | Y131: 邓国华 | Z131: =IF($C131="应届",($U131*0.1)/6,IF($C131="往届","","NULL")) -> -0.36 | AA131: 彭丹 | AB131: =IF($C131="应届",($U131*0.1)/6,IF($C131="往届","","NULL")) -> -0.36 | AC131: 康小平 | AD131: =IF($C131="应届",($U131*0.1)/6,IF($C131="往届","","NULL")) -> -0.36 | AE131: 李荣鑫 | AF131: =IF($C131="应届",($U131*0.1)/6,IF($C131="往届","","NULL")) -> -0.36 | AG131: 付仁源 | AH131: =IF($C131="应届",($U131*0.1)/6,IF($C131="往届","","NULL")) -> -0.36 | AI131: 2 | AJ131: 刘云菊 | AK131: =IF($C131="应届",($U131*0.1)/6,IF($C131="往届","","NULL")) -> -0.36 | AL131: 邓国华 | AM131: =IF($C131="应届",($U131*0.1)/6,IF($C131="往届","","NULL")) -> -0.36 | AN131: 彭丹 | AO131: =IF($C131="应届",($U131*0.1)/6,IF($C131="往届","","NULL")) -> -0.36 | AP131: 康小平 | AQ131: =IF($C131="应届",($U131*0.1)/6,IF($C131="往届","","NULL")) -> -0.36 | AR131: 李荣鑫 | AS131: =IF($C131="应届",($U131*0.1)/6,IF($C131="往届","","NULL")) -> -0.36 | AT131: 喇菊 | AU131: =IF($C131="应届",($U131*0.1)/6,IF($C131="往届","","NULL")) -> -0.36 | AV131: 2 | AW131: 肖锐 | AX131: =IF($C131="应届",($U131*0.15)/6,IF($C131="往届","","NULL")) -> -0.54 | AY131: 钟海昌 | AZ131: =IF($C131="应届",($U131*0.15)/6,IF($C131="往届","","NULL")) -> -0.54 | BA131: 彭丹 | BB131: =IF($C131="应届",($U131*0.15)/6,IF($C131="往届","","NULL")) -> -0.54 | BC131: 康小平 | BD131: =IF($C131="应届",($U131*0.15)/6,IF($C131="往届","","NULL")) -> -0.54 | BE131: 李荣鑫 | BF131: =IF($C131="应届",($U131*0.15)/6,IF($C131="往届","","NULL")) -> -0.54 | BG131: 彭桦 | BH131: =IF($C131="应届",($U131*0.15)/6,IF($C131="往届","","NULL")) -> -0.54 | BI131: 2 | BJ131: 肖锐 | BK131: =IF($C131="应届",($U131*0.15)/6,IF($C131="往届","","NULL")) -> -0.54 | BL131: 钟海昌 | BM131: =IF($C131="应届",($U131*0.15)/6,IF($C131="往届","","NULL")) -> -0.54 | BN131: 彭丹 | BO131: =IF($C131="应届",($U131*0.15)/6,IF($C131="往届","","NULL")) -> -0.54 | BP131: 康小平 | BQ131: =IF($C131="应届",($U131*0.15)/6,IF($C131="往届","","NULL")) -> -0.54 | BR131: 李荣鑫 | BS131: =IF($C131="应届",($U131*0.15)/6,IF($C131="往届","","NULL")) -> -0.54 | BT131: 彭桦 | BU131: =IF($C131="应届",($U131*0.15)/6,IF($C131="往届","","NULL")) -> -0.54 | BV131: 2 | BW131: 肖锐 | BX131: =IF($C131="应届",($U131*0.25)/6,IF($C131="往届",($U131*0.5)/6,"NULL")) -> -0.9 | BY131: 杜东洋 | BZ131: =IF($C131="应届",($U131*0.25)/6,IF($C131="往届",($U131*0.5)/6,"NULL")) -> -0.9 | CA131: 彭丹 | CB131: =IF($C131="应届",($U131*0.25)/6,IF($C131="往届",($U131*0.5)/6,"NULL")) -> -0.9 | CC131: 康小平 | CD131: =IF($C131="应届",($U131*0.25)/6,IF($C131="往届",($U131*0.5)/6,"NULL")) -> -0.9 | CE131: 李荣鑫 | CF131: =IF($C131="应届",($U131*0.25)/6,IF($C131="往届",($U131*0.5)/6,"NULL")) -> -0.9 | CG131: 彭桦/尼玛布池 | CH131: =IF($C131="应届",($U131*0.25)/6,IF($C131="往届",($U131*0.5)/6,"NULL")) -> -0.9 | CI131: 2 | CJ131: 肖锐 | CK131: =IF($C131="应届",($U131*0.25)/6,IF($C131="往届",($U131*0.5)/6,"NULL")) -> -0.9 | CL131: 杜东洋 | CM131: =IF($C131="应届",($U131*0.25)/6,IF($C131="往届",($U131*0.5)/6,"NULL")) -> -0.9 | CN131: 彭丹 | CO131: =IF($C131="应届",($U131*0.25)/6,IF($C131="往届",($U131*0.5)/6,"NULL")) -> -0.9 | CP131: 康小平 | CQ131: =IF($C131="应届",($U131*0.25)/6,IF($C131="往届",($U131*0.5)/6,"NULL")) -> -0.9 | CR131: 李荣鑫 | CS131: =IF($C131="应届",($U131*0.25)/6,IF($C131="往届",($U131*0.5)/6,"NULL")) -> -0.9 | CT131: 尼玛布池 | CU131: =IF($C131="应届",($U131*0.25)/6,IF($C131="往届",($U131*0.5)/6,"NULL")) -> -0.9
A132: 宋清莉 | B132: 513422200407040020 | C132: 应届 | D132: 物理类 | F132: 0 | G132: 0 | H132: 91 | I132: 34 | J132: 42 | K132: 29 | L132: 42 | M132: 39 | N132: 0 | O132: 0 | P132: =ROUND(SUM(H132:O132),0) -> 277 | Q132: =IF(D132="物理类",IF(P132>=分数线!$C$2,"本科",""),IF(D132="历史类",IF(P132>=分数线!$C$3,"本科",""))) | R132: =IF(F132>0,IF(Q132="本科",(2-F132)*36,-(F132)*36),IF(Q132="本科",2*36,0)) -> 0 | S132: =IF(D132="物理类",IF(P132>=分数线!$C$6,"重本",""),IF(D132="历史类",IF(P132>=分数线!$C$7,"重本",""))) | T132: =IF(G132>0,IF(S132="重本",G132*72,-(G132)*72),IF(S132="重本",2*72,0)) -> 0 | U132: =R132+T132 -> 0 | V132: 2 | W132: #N/A | X132: =IF($C132="应届",($U132*0.1)/6,IF($C132="往届","","NULL")) -> 0 | Y132: #N/A | Z132: =IF($C132="应届",($U132*0.1)/6,IF($C132="往届","","NULL")) -> 0 | AA132: #N/A | AB132: =IF($C132="应届",($U132*0.1)/6,IF($C132="往届","","NULL")) -> 0 | AC132: #N/A | AD132: =IF($C132="应届",($U132*0.1)/6,IF($C132="往届","","NULL")) -> 0 | AE132: #N/A | AF132: =IF($C132="应届",($U132*0.1)/6,IF($C132="往届","","NULL")) -> 0 | AG132: #N/A | AH132: =IF($C132="应届",($U132*0.1)/6,IF($C132="往届","","NULL")) -> 0 | AI132: #N/A | AJ132: #N/A | AK132: =IF($C132="应届",($U132*0.1)/6,IF($C132="往届","","NULL")) -> 0 | AL132: #N/A | AM132: =IF($C132="应届",($U132*0.1)/6,IF($C132="往届","","NULL")) -> 0 | AN132: #N/A | AO132: =IF($C132="应届",($U132*0.1)/6,IF($C132="往届","","NULL")) -> 0 | AP132: #N/A | AQ132: =IF($C132="应届",($U132*0.1)/6,IF($C132="往届","","NULL")) -> 0 | AR132: #N/A | AS132: =IF($C132="应届",($U132*0.1)/6,IF($C132="往届","","NULL")) -> 0 | AT132: #N/A | AU132: =IF($C132="应届",($U132*0.1)/6,IF($C132="往届","","NULL")) -> 0 | AV132: #N/A | AW132: #N/A | AX132: =IF($C132="应届",($U132*0.15)/6,IF($C132="往届","","NULL")) -> 0 | AY132: #N/A | AZ132: =IF($C132="应届",($U132*0.15)/6,IF($C132="往届","","NULL")) -> 0 | BA132: #N/A | BB132: =IF($C132="应届",($U132*0.15)/6,IF($C132="往届","","NULL")) -> 0 | BC132: #N/A | BD132: =IF($C132="应届",($U132*0.15)/6,IF($C132="往届","","NULL")) -> 0 | BE132: #N/A | BF132: =IF($C132="应届",($U132*0.15)/6,IF($C132="往届","","NULL")) -> 0 | BG132: #N/A | BH132: =IF($C132="应届",($U132*0.15)/6,IF($C132="往届","","NULL")) -> 0 | BI132: #N/A | BJ132: #N/A | BK132: =IF($C132="应届",($U132*0.15)/6,IF($C132="往届","","NULL")) -> 0 | BL132: #N/A | BM132: =IF($C132="应届",($U132*0.15)/6,IF($C132="往届","","NULL")) -> 0 | BN132: #N/A | BO132: =IF($C132="应届",($U132*0.15)/6,IF($C132="往届","","NULL")) -> 0 | BP132: #N/A | BQ132: =IF($C132="应届",($U132*0.15)/6,IF($C132="往届","","NULL")) -> 0 | BR132: #N/A | BS132: =IF($C132="应届",($U132*0.15)/6,IF($C132="往届","","NULL")) -> 0 | BT132: #N/A | BU132: =IF($C132="应届",($U132*0.15)/6,IF($C132="往届","","NULL")) -> 0 | BV132: #N/A | BW132: #N/A | BX132: =IF($C132="应届",($U132*0.25)/6,IF($C132="往届",($U132*0.5)/6,"NULL")) -> 0 | BY132: #N/A | BZ132: =IF($C132="应届",($U132*0.25)/6,IF($C132="往届",($U132*0.5)/6,"NULL")) -> 0 | CA132: #N/A | CB132: =IF($C132="应届",($U132*0.25)/6,IF($C132="往届",($U132*0.5)/6,"NULL")) -> 0 | CC132: #N/A | CD132: =IF($C132="应届",($U132*0.25)/6,IF($C132="往届",($U132*0.5)/6,"NULL")) -> 0 | CE132: #N/A | CF132: =IF($C132="应届",($U132*0.25)/6,IF($C132="往届",($U132*0.5)/6,"NULL")) -> 0 | CG132: #N/A | CH132: =IF($C132="应届",($U132*0.25)/6,IF($C132="往届",($U132*0.5)/6,"NULL")) -> 0 | CI132: 2 | CJ132: 肖锐 | CK132: =IF($C132="应届",($U132*0.25)/6,IF($C132="往届",($U132*0.5)/6,"NULL")) -> 0 | CL132: 杜东洋 | CM132: =IF($C132="应届",($U132*0.25)/6,IF($C132="往届",($U132*0.5)/6,"NULL")) -> 0 | CN132: 彭丹 | CO132: =IF($C132="应届",($U132*0.25)/6,IF($C132="往届",($U132*0.5)/6,"NULL")) -> 0 | CP132: 康小平 | CQ132: =IF($C132="应届",($U132*0.25)/6,IF($C132="往届",($U132*0.5)/6,"NULL")) -> 0 | CR132: 李荣鑫 | CS132: =IF($C132="应届",($U132*0.25)/6,IF($C132="往届",($U132*0.5)/6,"NULL")) -> 0 | CT132: 尼玛布池 | CU132: =IF($C132="应届",($U132*0.25)/6,IF($C132="往届",($U132*0.5)/6,"NULL")) -> 0
A133: 古玛扎什 | B133: 513422200802034616 | C133: 应届 | D133: 物理类 | F133: 1 | G133: 0 | H133: 99 | I133: 102 | J133: 95 | K133: 82 | L133: 83 | M133: 75 | N133: 0 | O133: 0 | P133: =ROUND(SUM(H133:O133),0) -> 536 | Q133: =IF(D133="物理类",IF(P133>=分数线!$C$2,"本科",""),IF(D133="历史类",IF(P133>=分数线!$C$3,"本科",""))) -> 本科 | R133: =IF(F133>0,IF(Q133="本科",(2-F133)*36,-(F133)*36),IF(Q133="本科",2*36,0)) -> 36 | S133: =IF(D133="物理类",IF(P133>=分数线!$C$6,"重本",""),IF(D133="历史类",IF(P133>=分数线!$C$7,"重本",""))) -> 重本 | T133: =IF(G133>0,IF(S133="重本",G133*72,-(G133)*72),IF(S133="重本",2*72,0)) -> 144 | U133: =R133+T133 -> 180 | V133: 3 | W133: 刘云菊 | X133: =IF($C133="应届",($U133*0.1)/6,IF($C133="往届","","NULL")) -> 3 | Y133: 马俊 | Z133: =IF($C133="应届",($U133*0.1)/6,IF($C133="往届","","NULL")) -> 3 | AA133: 朱恩凡 | AB133: =IF($C133="应届",($U133*0.1)/6,IF($C133="往届","","NULL")) -> 3 | AC133: 次珍扎保 | AD133: =IF($C133="应届",($U133*0.1)/6,IF($C133="往届","","NULL")) -> 3 | AE133: 宁建康 | AF133: =IF($C133="应届",($U133*0.1)/6,IF($C133="往届","","NULL")) -> 3 | AG133: 尤顺芝 | AH133: =IF($C133="应届",($U133*0.1)/6,IF($C133="往届","","NULL")) -> 3 | AI133: 3 | AJ133: 易涛 | AK133: =IF($C133="应届",($U133*0.1)/6,IF($C133="往届","","NULL")) -> 3 | AL133: 央宗娜姆 | AM133: =IF($C133="应届",($U133*0.1)/6,IF($C133="往届","","NULL")) -> 3 | AN133: 李永会 | AO133: =IF($C133="应届",($U133*0.1)/6,IF($C133="往届","","NULL")) -> 3 | AP133: 周峰 | AQ133: =IF($C133="应届",($U133*0.1)/6,IF($C133="往届","","NULL")) -> 3 | AR133: 黄萍 | AS133: =IF($C133="应届",($U133*0.1)/6,IF($C133="往届","","NULL")) -> 3 | AT133: 尼玛布池 | AU133: =IF($C133="应届",($U133*0.1)/6,IF($C133="往届","","NULL")) -> 3 | AV133: 3 | AW133: 易涛 | AX133: =IF($C133="应届",($U133*0.15)/6,IF($C133="往届","","NULL")) -> 4.5 | AY133: 央宗娜姆 | AZ133: =IF($C133="应届",($U133*0.15)/6,IF($C133="往届","","NULL")) -> 4.5 | BA133: 李永会 | BB133: =IF($C133="应届",($U133*0.15)/6,IF($C133="往届","","NULL")) -> 4.5 | BC133: 周峰 | BD133: =IF($C133="应届",($U133*0.15)/6,IF($C133="往届","","NULL")) -> 4.5 | BE133: 何传英 | BF133: =IF($C133="应届",($U133*0.15)/6,IF($C133="往届","","NULL")) -> 4.5 | BG133: 尼玛布池 | BH133: =IF($C133="应届",($U133*0.15)/6,IF($C133="往届","","NULL")) -> 4.5 | BI133: 3 | BJ133: 易涛 | BK133: =IF($C133="应届",($U133*0.15)/6,IF($C133="往届","","NULL")) -> 4.5 | BL133: 央宗娜姆 | BM133: =IF($C133="应届",($U133*0.15)/6,IF($C133="往届","","NULL")) -> 4.5 | BN133: 李永会 | BO133: =IF($C133="应届",($U133*0.15)/6,IF($C133="往届","","NULL")) -> 4.5 | BP133: 周峰 | BQ133: =IF($C133="应届",($U133*0.15)/6,IF($C133="往届","","NULL")) -> 4.5 | BR133: 何传英 | BS133: =IF($C133="应届",($U133*0.15)/6,IF($C133="往届","","NULL")) -> 4.5 | BT133: 尼玛布池 | BU133: =IF($C133="应届",($U133*0.15)/6,IF($C133="往届","","NULL")) -> 4.5 | BV133: 3 | BW133: 易涛 | BX133: =IF($C133="应届",($U133*0.25)/6,IF($C133="往届",($U133*0.5)/6,"NULL")) -> 7.5 | BY133: 央宗娜姆 | BZ133: =IF($C133="应届",($U133*0.25)/6,IF($C133="往届",($U133*0.5)/6,"NULL")) -> 7.5 | CA133: 李永会 | CB133: =IF($C133="应届",($U133*0.25)/6,IF($C133="往届",($U133*0.5)/6,"NULL")) -> 7.5 | CC133: 周峰 | CD133: =IF($C133="应届",($U133*0.25)/6,IF($C133="往届",($U133*0.5)/6,"NULL")) -> 7.5 | CE133: 何传英 | CF133: =IF($C133="应届",($U133*0.25)/6,IF($C133="往届",($U133*0.5)/6,"NULL")) -> 7.5 | CG133: 尼玛布池 | CH133: =IF($C133="应届",($U133*0.25)/6,IF($C133="往届",($U133*0.5)/6,"NULL")) -> 7.5 | CI133: 3 | CJ133: 易涛 | CK133: =IF($C133="应届",($U133*0.25)/6,IF($C133="往届",($U133*0.5)/6,"NULL")) -> 7.5 | CL133: 央宗娜姆 | CM133: =IF($C133="应届",($U133*0.25)/6,IF($C133="往届",($U133*0.5)/6,"NULL")) -> 7.5 | CN133: 李永会 | CO133: =IF($C133="应届",($U133*0.25)/6,IF($C133="往届",($U133*0.5)/6,"NULL")) -> 7.5 | CP133: 周峰 | CQ133: =IF($C133="应届",($U133*0.25)/6,IF($C133="往届",($U133*0.5)/6,"NULL")) -> 7.5 | CR133: 何传英 | CS133: =IF($C133="应届",($U133*0.25)/6,IF($C133="往届",($U133*0.5)/6,"NULL")) -> 7.5 | CT133: 尼玛布池 | CU133: =IF($C133="应届",($U133*0.25)/6,IF($C133="往届",($U133*0.5)/6,"NULL")) -> 7.5
A134: 马伍甲 | B134: 513422200509012127 | C134: 应届 | D134: 物理类 | F134: 1 | G134: 0 | H134: 108 | I134: 109 | J134: 111 | K134: 57 | L134: 69 | M134: 76 | N134: 0 | O134: 0 | P134: =ROUND(SUM(H134:O134),0) -> 530 | Q134: =IF(D134="物理类",IF(P134>=分数线!$C$2,"本科",""),IF(D134="历史类",IF(P134>=分数线!$C$3,"本科",""))) -> 本科 | R134: =IF(F134>0,IF(Q134="本科",(2-F134)*36,-(F134)*36),IF(Q134="本科",2*36,0)) -> 36 | S134: =IF(D134="物理类",IF(P134>=分数线!$C$6,"重本",""),IF(D134="历史类",IF(P134>=分数线!$C$7,"重本",""))) -> 重本 | T134: =IF(G134>0,IF(S134="重本",G134*72,-(G134)*72),IF(S134="重本",2*72,0)) -> 144 | U134: =R134+T134 -> 180 | V134: 3 | W134: 刘权芳 | X134: =IF($C134="应届",($U134*0.1)/6,IF($C134="往届","","NULL")) -> 3 | Y134: 吕开绒 | Z134: =IF($C134="应届",($U134*0.1)/6,IF($C134="往届","","NULL")) -> 3 | AA134: 张福琴 | AB134: =IF($C134="应届",($U134*0.1)/6,IF($C134="往届","","NULL")) -> 3 | AC134: 周峰 | AD134: =IF($C134="应届",($U134*0.1)/6,IF($C134="往届","","NULL")) -> 3 | AE134: 崔萌 | AF134: =IF($C134="应届",($U134*0.1)/6,IF($C134="往届","","NULL")) -> 3 | AG134: 张弘 | AH134: =IF($C134="应届",($U134*0.1)/6,IF($C134="往届","","NULL")) -> 3 | AI134: 3 | AJ134: 易涛 | AK134: =IF($C134="应届",($U134*0.1)/6,IF($C134="往届","","NULL")) -> 3 | AL134: 央宗娜姆 | AM134: =IF($C134="应届",($U134*0.1)/6,IF($C134="往届","","NULL")) -> 3 | AN134: 李永会 | AO134: =IF($C134="应届",($U134*0.1)/6,IF($C134="往届","","NULL")) -> 3 | AP134: 周峰 | AQ134: =IF($C134="应届",($U134*0.1)/6,IF($C134="往届","","NULL")) -> 3 | AR134: 黄萍 | AS134: =IF($C134="应届",($U134*0.1)/6,IF($C134="往届","","NULL")) -> 3 | AT134: 尼玛布池 | AU134: =IF($C134="应届",($U134*0.1)/6,IF($C134="往届","","NULL")) -> 3 | AV134: 3 | AW134: 易涛 | AX134: =IF($C134="应届",($U134*0.15)/6,IF($C134="往届","","NULL")) -> 4.5 | AY134: 央宗娜姆 | AZ134: =IF($C134="应届",($U134*0.15)/6,IF($C134="往届","","NULL")) -> 4.5 | BA134: 李永会 | BB134: =IF($C134="应届",($U134*0.15)/6,IF($C134="往届","","NULL")) -> 4.5 | BC134: 周峰 | BD134: =IF($C134="应届",($U134*0.15)/6,IF($C134="往届","","NULL")) -> 4.5 | BE134: 何传英 | BF134: =IF($C134="应届",($U134*0.15)/6,IF($C134="往届","","NULL")) -> 4.5 | BG134: 尼玛布池 | BH134: =IF($C134="应届",($U134*0.15)/6,IF($C134="往届","","NULL")) -> 4.5 | BI134: 3 | BJ134: 易涛 | BK134: =IF($C134="应届",($U134*0.15)/6,IF($C134="往届","","NULL")) -> 4.5 | BL134: 央宗娜姆 | BM134: =IF($C134="应届",($U134*0.15)/6,IF($C134="往届","","NULL")) -> 4.5 | BN134: 李永会 | BO134: =IF($C134="应届",($U134*0.15)/6,IF($C134="往届","","NULL")) -> 4.5 | BP134: 周峰 | BQ134: =IF($C134="应届",($U134*0.15)/6,IF($C134="往届","","NULL")) -> 4.5 | BR134: 何传英 | BS134: =IF($C134="应届",($U134*0.15)/6,IF($C134="往届","","NULL")) -> 4.5 | BT134: 尼玛布池 | BU134: =IF($C134="应届",($U134*0.15)/6,IF($C134="往届","","NULL")) -> 4.5 | BV134: 3 | BW134: 易涛 | BX134: =IF($C134="应届",($U134*0.25)/6,IF($C134="往届",($U134*0.5)/6,"NULL")) -> 7.5 | BY134: 央宗娜姆 | BZ134: =IF($C134="应届",($U134*0.25)/6,IF($C134="往届",($U134*0.5)/6,"NULL")) -> 7.5 | CA134: 李永会 | CB134: =IF($C134="应届",($U134*0.25)/6,IF($C134="往届",($U134*0.5)/6,"NULL")) -> 7.5 | CC134: 周峰 | CD134: =IF($C134="应届",($U134*0.25)/6,IF($C134="往届",($U134*0.5)/6,"NULL")) -> 7.5 | CE134: 何传英 | CF134: =IF($C134="应届",($U134*0.25)/6,IF($C134="往届",($U134*0.5)/6,"NULL")) -> 7.5 | CG134: 尼玛布池 | CH134: =IF($C134="应届",($U134*0.25)/6,IF($C134="往届",($U134*0.5)/6,"NULL")) -> 7.5 | CI134: 3 | CJ134: 易涛 | CK134: =IF($C134="应届",($U134*0.25)/6,IF($C134="往届",($U134*0.5)/6,"NULL")) -> 7.5 | CL134: 央宗娜姆 | CM134: =IF($C134="应届",($U134*0.25)/6,IF($C134="往届",($U134*0.5)/6,"NULL")) -> 7.5 | CN134: 李永会 | CO134: =IF($C134="应届",($U134*0.25)/6,IF($C134="往届",($U134*0.5)/6,"NULL")) -> 7.5 | CP134: 周峰 | CQ134: =IF($C134="应届",($U134*0.25)/6,IF($C134="往届",($U134*0.5)/6,"NULL")) -> 7.5 | CR134: 何传英 | CS134: =IF($C134="应届",($U134*0.25)/6,IF($C134="往届",($U134*0.5)/6,"NULL")) -> 7.5 | CT134: 尼玛布池 | CU134: =IF($C134="应届",($U134*0.25)/6,IF($C134="往届",($U134*0.5)/6,"NULL")) -> 7.5
A135: 央青娜姆 | B135: 513422200711056027 | C135: 应届 | D135: 物理类 | F135: 1 | G135: 0 | H135: 114 | I135: 100 | J135: 110 | K135: 43 | L135: 79 | M135: 77 | N135: 0 | O135: 0 | P135: =ROUND(SUM(H135:O135),0) -> 523 | Q135: =IF(D135="物理类",IF(P135>=分数线!$C$2,"本科",""),IF(D135="历史类",IF(P135>=分数线!$C$3,"本科",""))) -> 本科 | R135: =IF(F135>0,IF(Q135="本科",(2-F135)*36,-(F135)*36),IF(Q135="本科",2*36,0)) -> 36 | S135: =IF(D135="物理类",IF(P135>=分数线!$C$6,"重本",""),IF(D135="历史类",IF(P135>=分数线!$C$7,"重本",""))) -> 重本 | T135: =IF(G135>0,IF(S135="重本",G135*72,-(G135)*72),IF(S135="重本",2*72,0)) -> 144 | U135: =R135+T135 -> 180 | V135: 3 | W135: 易涛 | X135: =IF($C135="应届",($U135*0.1)/6,IF($C135="往届","","NULL")) -> 3 | Y135: 央宗娜姆 | Z135: =IF($C135="应届",($U135*0.1)/6,IF($C135="往届","","NULL")) -> 3 | AA135: 李永会 | AB135: =IF($C135="应届",($U135*0.1)/6,IF($C135="往届","","NULL")) -> 3 | AC135: 周峰 | AD135: =IF($C135="应届",($U135*0.1)/6,IF($C135="往届","","NULL")) -> 3 | AE135: 黄萍 | AF135: =IF($C135="应届",($U135*0.1)/6,IF($C135="往届","","NULL")) -> 3 | AG135: 尼玛布池 | AH135: =IF($C135="应届",($U135*0.1)/6,IF($C135="往届","","NULL")) -> 3 | AI135: 3 | AJ135: 易涛 | AK135: =IF($C135="应届",($U135*0.1)/6,IF($C135="往届","","NULL")) -> 3 | AL135: 央宗娜姆 | AM135: =IF($C135="应届",($U135*0.1)/6,IF($C135="往届","","NULL")) -> 3 | AN135: 李永会 | AO135: =IF($C135="应届",($U135*0.1)/6,IF($C135="往届","","NULL")) -> 3 | AP135: 周峰 | AQ135: =IF($C135="应届",($U135*0.1)/6,IF($C135="往届","","NULL")) -> 3 | AR135: 黄萍 | AS135: =IF($C135="应届",($U135*0.1)/6,IF($C135="往届","","NULL")) -> 3 | AT135: 尼玛布池 | AU135: =IF($C135="应届",($U135*0.1)/6,IF($C135="往届","","NULL")) -> 3 | AV135: 3 | AW135: 易涛 | AX135: =IF($C135="应届",($U135*0.15)/6,IF($C135="往届","","NULL")) -> 4.5 | AY135: 央宗娜姆 | AZ135: =IF($C135="应届",($U135*0.15)/6,IF($C135="往届","","NULL")) -> 4.5 | BA135: 李永会 | BB135: =IF($C135="应届",($U135*0.15)/6,IF($C135="往届","","NULL")) -> 4.5 | BC135: 周峰 | BD135: =IF($C135="应届",($U135*0.15)/6,IF($C135="往届","","NULL")) -> 4.5 | BE135: 何传英 | BF135: =IF($C135="应届",($U135*0.15)/6,IF($C135="往届","","NULL")) -> 4.5 | BG135: 尼玛布池 | BH135: =IF($C135="应届",($U135*0.15)/6,IF($C135="往届","","NULL")) -> 4.5 | BI135: 3 | BJ135: 易涛 | BK135: =IF($C135="应届",($U135*0.15)/6,IF($C135="往届","","NULL")) -> 4.5 | BL135: 央宗娜姆 | BM135: =IF($C135="应届",($U135*0.15)/6,IF($C135="往届","","NULL")) -> 4.5 | BN135: 李永会 | BO135: =IF($C135="应届",($U135*0.15)/6,IF($C135="往届","","NULL")) -> 4.5 | BP135: 周峰 | BQ135: =IF($C135="应届",($U135*0.15)/6,IF($C135="往届","","NULL")) -> 4.5 | BR135: 何传英 | BS135: =IF($C135="应届",($U135*0.15)/6,IF($C135="往届","","NULL")) -> 4.5 | BT135: 尼玛布池 | BU135: =IF($C135="应届",($U135*0.15)/6,IF($C135="往届","","NULL")) -> 4.5 | BV135: 3 | BW135: 易涛 | BX135: =IF($C135="应届",($U135*0.25)/6,IF($C135="往届",($U135*0.5)/6,"NULL")) -> 7.5 | BY135: 央宗娜姆 | BZ135: =IF($C135="应届",($U135*0.25)/6,IF($C135="往届",($U135*0.5)/6,"NULL")) -> 7.5 | CA135: 李永会 | CB135: =IF($C135="应届",($U135*0.25)/6,IF($C135="往届",($U135*0.5)/6,"NULL")) -> 7.5 | CC135: 周峰 | CD135: =IF($C135="应届",($U135*0.25)/6,IF($C135="往届",($U135*0.5)/6,"NULL")) -> 7.5 | CE135: 何传英 | CF135: =IF($C135="应届",($U135*0.25)/6,IF($C135="往届",($U135*0.5)/6,"NULL")) -> 7.5 | CG135: 尼玛布池 | CH135: =IF($C135="应届",($U135*0.25)/6,IF($C135="往届",($U135*0.5)/6,"NULL")) -> 7.5 | CI135: 3 | CJ135: 易涛 | CK135: =IF($C135="应届",($U135*0.25)/6,IF($C135="往届",($U135*0.5)/6,"NULL")) -> 7.5 | CL135: 央宗娜姆 | CM135: =IF($C135="应届",($U135*0.25)/6,IF($C135="往届",($U135*0.5)/6,"NULL")) -> 7.5 | CN135: 李永会 | CO135: =IF($C135="应届",($U135*0.25)/6,IF($C135="往届",($U135*0.5)/6,"NULL")) -> 7.5 | CP135: 周峰 | CQ135: =IF($C135="应届",($U135*0.25)/6,IF($C135="往届",($U135*0.5)/6,"NULL")) -> 7.5 | CR135: 何传英 | CS135: =IF($C135="应届",($U135*0.25)/6,IF($C135="往届",($U135*0.5)/6,"NULL")) -> 7.5 | CT135: 尼玛布池 | CU135: =IF($C135="应届",($U135*0.25)/6,IF($C135="往届",($U135*0.5)/6,"NULL")) -> 7.5
A136: 田松胜 | B136: 511602200612093491 | C136: 应届 | D136: 物理类 | F136: 0.8 | G136: 0 | H136: 97 | I136: 100 | J136: 115 | K136: 60 | L136: 75 | M136: 73 | N136: 0 | O136: 0 | P136: =ROUND(SUM(H136:O136),0) -> 520 | Q136: =IF(D136="物理类",IF(P136>=分数线!$C$2,"本科",""),IF(D136="历史类",IF(P136>=分数线!$C$3,"本科",""))) -> 本科 | R136: =IF(F136>0,IF(Q136="本科",(2-F136)*36,-(F136)*36),IF(Q136="本科",2*36,0)) -> 43.2 | S136: =IF(D136="物理类",IF(P136>=分数线!$C$6,"重本",""),IF(D136="历史类",IF(P136>=分数线!$C$7,"重本",""))) -> 重本 | T136: =IF(G136>0,IF(S136="重本",G136*72,-(G136)*72),IF(S136="重本",2*72,0)) -> 144 | U136: =R136+T136 -> 187.2 | V136: 3 | W136: 肖锐 | X136: =IF($C136="应届",($U136*0.1)/6,IF($C136="往届","","NULL")) -> 3.12 | Y136: 喇燕 | Z136: =IF($C136="应届",($U136*0.1)/6,IF($C136="往届","","NULL")) -> 3.12 | AA136: 浦恩玲 | AB136: =IF($C136="应届",($U136*0.1)/6,IF($C136="往届","","NULL")) -> 3.12 | AC136: 解超燕 | AD136: =IF($C136="应届",($U136*0.1)/6,IF($C136="往届","","NULL")) -> 3.12 | AE136: 马红琦 | AF136: =IF($C136="应届",($U136*0.1)/6,IF($C136="往届","","NULL")) -> 3.12 | AG136: 喇菊 | AH136: =IF($C136="应届",($U136*0.1)/6,IF($C136="往届","","NULL")) -> 3.12 | AI136: 3 | AJ136: 易涛 | AK136: =IF($C136="应届",($U136*0.1)/6,IF($C136="往届","","NULL")) -> 3.12 | AL136: 央宗娜姆 | AM136: =IF($C136="应届",($U136*0.1)/6,IF($C136="往届","","NULL")) -> 3.12 | AN136: 李永会 | AO136: =IF($C136="应届",($U136*0.1)/6,IF($C136="往届","","NULL")) -> 3.12 | AP136: 周峰 | AQ136: =IF($C136="应届",($U136*0.1)/6,IF($C136="往届","","NULL")) -> 3.12 | AR136: 黄萍 | AS136: =IF($C136="应届",($U136*0.1)/6,IF($C136="往届","","NULL")) -> 3.12 | AT136: 尼玛布池 | AU136: =IF($C136="应届",($U136*0.1)/6,IF($C136="往届","","NULL")) -> 3.12 | AV136: 3 | AW136: 易涛 | AX136: =IF($C136="应届",($U136*0.15)/6,IF($C136="往届","","NULL")) -> 4.68 | AY136: 央宗娜姆 | AZ136: =IF($C136="应届",($U136*0.15)/6,IF($C136="往届","","NULL")) -> 4.68 | BA136: 李永会 | BB136: =IF($C136="应届",($U136*0.15)/6,IF($C136="往届","","NULL")) -> 4.68 | BC136: 周峰 | BD136: =IF($C136="应届",($U136*0.15)/6,IF($C136="往届","","NULL")) -> 4.68 | BE136: 何传英 | BF136: =IF($C136="应届",($U136*0.15)/6,IF($C136="往届","","NULL")) -> 4.68 | BG136: 尼玛布池 | BH136: =IF($C136="应届",($U136*0.15)/6,IF($C136="往届","","NULL")) -> 4.68 | BI136: 3 | BJ136: 易涛 | BK136: =IF($C136="应届",($U136*0.15)/6,IF($C136="往届","","NULL")) -> 4.68 | BL136: 央宗娜姆 | BM136: =IF($C136="应届",($U136*0.15)/6,IF($C136="往届","","NULL")) -> 4.68 | BN136: 李永会 | BO136: =IF($C136="应届",($U136*0.15)/6,IF($C136="往届","","NULL")) -> 4.68 | BP136: 周峰 | BQ136: =IF($C136="应届",($U136*0.15)/6,IF($C136="往届","","NULL")) -> 4.68 | BR136: 何传英 | BS136: =IF($C136="应届",($U136*0.15)/6,IF($C136="往届","","NULL")) -> 4.68 | BT136: 尼玛布池 | BU136: =IF($C136="应届",($U136*0.15)/6,IF($C136="往届","","NULL")) -> 4.68 | BV136: 3 | BW136: 易涛 | BX136: =IF($C136="应届",($U136*0.25)/6,IF($C136="往届",($U136*0.5)/6,"NULL")) -> 7.8 | BY136: 央宗娜姆 | BZ136: =IF($C136="应届",($U136*0.25)/6,IF($C136="往届",($U136*0.5)/6,"NULL")) -> 7.8 | CA136: 李永会 | CB136: =IF($C136="应届",($U136*0.25)/6,IF($C136="往届",($U136*0.5)/6,"NULL")) -> 7.8 | CC136: 周峰 | CD136: =IF($C136="应届",($U136*0.25)/6,IF($C136="往届",($U136*0.5)/6,"NULL")) -> 7.8 | CE136: 何传英 | CF136: =IF($C136="应届",($U136*0.25)/6,IF($C136="往届",($U136*0.5)/6,"NULL")) -> 7.8 | CG136: 尼玛布池 | CH136: =IF($C136="应届",($U136*0.25)/6,IF($C136="往届",($U136*0.5)/6,"NULL")) -> 7.8 | CI136: 3 | CJ136: 易涛 | CK136: =IF($C136="应届",($U136*0.25)/6,IF($C136="往届",($U136*0.5)/6,"NULL")) -> 7.8 | CL136: 央宗娜姆 | CM136: =IF($C136="应届",($U136*0.25)/6,IF($C136="往届",($U136*0.5)/6,"NULL")) -> 7.8 | CN136: 李永会 | CO136: =IF($C136="应届",($U136*0.25)/6,IF($C136="往届",($U136*0.5)/6,"NULL")) -> 7.8 | CP136: 周峰 | CQ136: =IF($C136="应届",($U136*0.25)/6,IF($C136="往届",($U136*0.5)/6,"NULL")) -> 7.8 | CR136: 何传英 | CS136: =IF($C136="应届",($U136*0.25)/6,IF($C136="往届",($U136*0.5)/6,"NULL")) -> 7.8 | CT136: 尼玛布池 | CU136: =IF($C136="应届",($U136*0.25)/6,IF($C136="往届",($U136*0.5)/6,"NULL")) -> 7.8
A137: 张爱军 | B137: 513422200702182937 | C137: 应届 | D137: 物理类 | F137: 1 | G137: 0 | H137: 102 | I137: 96 | J137: 79 | K137: 63 | L137: 86 | M137: 77 | N137: 0 | O137: 0 | P137: =ROUND(SUM(H137:O137),0) -> 503 | Q137: =IF(D137="物理类",IF(P137>=分数线!$C$2,"本科",""),IF(D137="历史类",IF(P137>=分数线!$C$3,"本科",""))) -> 本科 | R137: =IF(F137>0,IF(Q137="本科",(2-F137)*36,-(F137)*36),IF(Q137="本科",2*36,0)) -> 36 | S137: =IF(D137="物理类",IF(P137>=分数线!$C$6,"重本",""),IF(D137="历史类",IF(P137>=分数线!$C$7,"重本",""))) | T137: =IF(G137>0,IF(S137="重本",G137*72,-(G137)*72),IF(S137="重本",2*72,0)) -> 0 | U137: =R137+T137 -> 36 | V137: 3 | W137: 易涛 | X137: =IF($C137="应届",($U137*0.1)/6,IF($C137="往届","","NULL")) -> 0.6 | Y137: 央宗娜姆 | Z137: =IF($C137="应届",($U137*0.1)/6,IF($C137="往届","","NULL")) -> 0.6 | AA137: 李永会 | AB137: =IF($C137="应届",($U137*0.1)/6,IF($C137="往届","","NULL")) -> 0.6 | AC137: 周峰 | AD137: =IF($C137="应届",($U137*0.1)/6,IF($C137="往届","","NULL")) -> 0.6 | AE137: 黄萍 | AF137: =IF($C137="应届",($U137*0.1)/6,IF($C137="往届","","NULL")) -> 0.6 | AG137: 尼玛布池 | AH137: =IF($C137="应届",($U137*0.1)/6,IF($C137="往届","","NULL")) -> 0.6 | AI137: 3 | AJ137: 易涛 | AK137: =IF($C137="应届",($U137*0.1)/6,IF($C137="往届","","NULL")) -> 0.6 | AL137: 央宗娜姆 | AM137: =IF($C137="应届",($U137*0.1)/6,IF($C137="往届","","NULL")) -> 0.6 | AN137: 李永会 | AO137: =IF($C137="应届",($U137*0.1)/6,IF($C137="往届","","NULL")) -> 0.6 | AP137: 周峰 | AQ137: =IF($C137="应届",($U137*0.1)/6,IF($C137="往届","","NULL")) -> 0.6 | AR137: 黄萍 | AS137: =IF($C137="应届",($U137*0.1)/6,IF($C137="往届","","NULL")) -> 0.6 | AT137: 尼玛布池 | AU137: =IF($C137="应届",($U137*0.1)/6,IF($C137="往届","","NULL")) -> 0.6 | AV137: 3 | AW137: 易涛 | AX137: =IF($C137="应届",($U137*0.15)/6,IF($C137="往届","","NULL")) -> 0.9 | AY137: 央宗娜姆 | AZ137: =IF($C137="应届",($U137*0.15)/6,IF($C137="往届","","NULL")) -> 0.9 | BA137: 李永会 | BB137: =IF($C137="应届",($U137*0.15)/6,IF($C137="往届","","NULL")) -> 0.9 | BC137: 周峰 | BD137: =IF($C137="应届",($U137*0.15)/6,IF($C137="往届","","NULL")) -> 0.9 | BE137: 何传英 | BF137: =IF($C137="应届",($U137*0.15)/6,IF($C137="往届","","NULL")) -> 0.9 | BG137: 尼玛布池 | BH137: =IF($C137="应届",($U137*0.15)/6,IF($C137="往届","","NULL")) -> 0.9 | BI137: 3 | BJ137: 易涛 | BK137: =IF($C137="应届",($U137*0.15)/6,IF($C137="往届","","NULL")) -> 0.9 | BL137: 央宗娜姆 | BM137: =IF($C137="应届",($U137*0.15)/6,IF($C137="往届","","NULL")) -> 0.9 | BN137: 李永会 | BO137: =IF($C137="应届",($U137*0.15)/6,IF($C137="往届","","NULL")) -> 0.9 | BP137: 周峰 | BQ137: =IF($C137="应届",($U137*0.15)/6,IF($C137="往届","","NULL")) -> 0.9 | BR137: 何传英 | BS137: =IF($C137="应届",($U137*0.15)/6,IF($C137="往届","","NULL")) -> 0.9 | BT137: 尼玛布池 | BU137: =IF($C137="应届",($U137*0.15)/6,IF($C137="往届","","NULL")) -> 0.9 | BV137: 3 | BW137: 易涛 | BX137: =IF($C137="应届",($U137*0.25)/6,IF($C137="往届",($U137*0.5)/6,"NULL")) -> 1.5 | BY137: 央宗娜姆 | BZ137: =IF($C137="应届",($U137*0.25)/6,IF($C137="往届",($U137*0.5)/6,"NULL")) -> 1.5 | CA137: 李永会 | CB137: =IF($C137="应届",($U137*0.25)/6,IF($C137="往届",($U137*0.5)/6,"NULL")) -> 1.5 | CC137: 周峰 | CD137: =IF($C137="应届",($U137*0.25)/6,IF($C137="往届",($U137*0.5)/6,"NULL")) -> 1.5 | CE137: 何传英 | CF137: =IF($C137="应届",($U137*0.25)/6,IF($C137="往届",($U137*0.5)/6,"NULL")) -> 1.5 | CG137: 尼玛布池 | CH137: =IF($C137="应届",($U137*0.25)/6,IF($C137="往届",($U137*0.5)/6,"NULL")) -> 1.5 | CI137: 3 | CJ137: 易涛 | CK137: =IF($C137="应届",($U137*0.25)/6,IF($C137="往届",($U137*0.5)/6,"NULL")) -> 1.5 | CL137: 央宗娜姆 | CM137: =IF($C137="应届",($U137*0.25)/6,IF($C137="往届",($U137*0.5)/6,"NULL")) -> 1.5 | CN137: 李永会 | CO137: =IF($C137="应届",($U137*0.25)/6,IF($C137="往届",($U137*0.5)/6,"NULL")) -> 1.5 | CP137: 周峰 | CQ137: =IF($C137="应届",($U137*0.25)/6,IF($C137="往届",($U137*0.5)/6,"NULL")) -> 1.5 | CR137: 何传英 | CS137: =IF($C137="应届",($U137*0.25)/6,IF($C137="往届",($U137*0.5)/6,"NULL")) -> 1.5 | CT137: 尼玛布池 | CU137: =IF($C137="应届",($U137*0.25)/6,IF($C137="往届",($U137*0.5)/6,"NULL")) -> 1.5
A138: 毛小华 | B138: 513422200612303811 | C138: 应届 | D138: 物理类 | F138: 0.2 | G138: 0 | H138: 86 | I138: 111 | J138: 91 | K138: 58 | L138: 88 | M138: 67 | N138: 0 | O138: 0 | P138: =ROUND(SUM(H138:O138),0) -> 501 | Q138: =IF(D138="物理类",IF(P138>=分数线!$C$2,"本科",""),IF(D138="历史类",IF(P138>=分数线!$C$3,"本科",""))) -> 本科 | R138: =IF(F138>0,IF(Q138="本科",(2-F138)*36,-(F138)*36),IF(Q138="本科",2*36,0)) -> 64.8 | S138: =IF(D138="物理类",IF(P138>=分数线!$C$6,"重本",""),IF(D138="历史类",IF(P138>=分数线!$C$7,"重本",""))) | T138: =IF(G138>0,IF(S138="重本",G138*72,-(G138)*72),IF(S138="重本",2*72,0)) -> 0 | U138: =R138+T138 -> 64.8 | V138: 3 | W138: 刘云菊 | X138: =IF($C138="应届",($U138*0.1)/6,IF($C138="往届","","NULL")) -> 1.08 | Y138: 马俊 | Z138: =IF($C138="应届",($U138*0.1)/6,IF($C138="往届","","NULL")) -> 1.08 | AA138: 朱恩凡 | AB138: =IF($C138="应届",($U138*0.1)/6,IF($C138="往届","","NULL")) -> 1.08 | AC138: 次珍扎保 | AD138: =IF($C138="应届",($U138*0.1)/6,IF($C138="往届","","NULL")) -> 1.08 | AE138: 宁建康 | AF138: =IF($C138="应届",($U138*0.1)/6,IF($C138="往届","","NULL")) -> 1.08 | AG138: 尤顺芝 | AH138: =IF($C138="应届",($U138*0.1)/6,IF($C138="往届","","NULL")) -> 1.08 | AI138: 3 | AJ138: 易涛 | AK138: =IF($C138="应届",($U138*0.1)/6,IF($C138="往届","","NULL")) -> 1.08 | AL138: 央宗娜姆 | AM138: =IF($C138="应届",($U138*0.1)/6,IF($C138="往届","","NULL")) -> 1.08 | AN138: 李永会 | AO138: =IF($C138="应届",($U138*0.1)/6,IF($C138="往届","","NULL")) -> 1.08 | AP138: 周峰 | AQ138: =IF($C138="应届",($U138*0.1)/6,IF($C138="往届","","NULL")) -> 1.08 | AR138: 黄萍 | AS138: =IF($C138="应届",($U138*0.1)/6,IF($C138="往届","","NULL")) -> 1.08 | AT138: 尼玛布池 | AU138: =IF($C138="应届",($U138*0.1)/6,IF($C138="往届","","NULL")) -> 1.08 | AV138: 3 | AW138: 易涛 | AX138: =IF($C138="应届",($U138*0.15)/6,IF($C138="往届","","NULL")) -> 1.62 | AY138: 央宗娜姆 | AZ138: =IF($C138="应届",($U138*0.15)/6,IF($C138="往届","","NULL")) -> 1.62 | BA138: 李永会 | BB138: =IF($C138="应届",($U138*0.15)/6,IF($C138="往届","","NULL")) -> 1.62 | BC138: 周峰 | BD138: =IF($C138="应届",($U138*0.15)/6,IF($C138="往届","","NULL")) -> 1.62 | BE138: 何传英 | BF138: =IF($C138="应届",($U138*0.15)/6,IF($C138="往届","","NULL")) -> 1.62 | BG138: 尼玛布池 | BH138: =IF($C138="应届",($U138*0.15)/6,IF($C138="往届","","NULL")) -> 1.62 | BI138: 3 | BJ138: 易涛 | BK138: =IF($C138="应届",($U138*0.15)/6,IF($C138="往届","","NULL")) -> 1.62 | BL138: 央宗娜姆 | BM138: =IF($C138="应届",($U138*0.15)/6,IF($C138="往届","","NULL")) -> 1.62 | BN138: 李永会 | BO138: =IF($C138="应届",($U138*0.15)/6,IF($C138="往届","","NULL")) -> 1.62 | BP138: 周峰 | BQ138: =IF($C138="应届",($U138*0.15)/6,IF($C138="往届","","NULL")) -> 1.62 | BR138: 何传英 | BS138: =IF($C138="应届",($U138*0.15)/6,IF($C138="往届","","NULL")) -> 1.62 | BT138: 尼玛布池 | BU138: =IF($C138="应届",($U138*0.15)/6,IF($C138="往届","","NULL")) -> 1.62 | BV138: 3 | BW138: 易涛 | BX138: =IF($C138="应届",($U138*0.25)/6,IF($C138="往届",($U138*0.5)/6,"NULL")) -> 2.7 | BY138: 央宗娜姆 | BZ138: =IF($C138="应届",($U138*0.25)/6,IF($C138="往届",($U138*0.5)/6,"NULL")) -> 2.7 | CA138: 李永会 | CB138: =IF($C138="应届",($U138*0.25)/6,IF($C138="往届",($U138*0.5)/6,"NULL")) -> 2.7 | CC138: 周峰 | CD138: =IF($C138="应届",($U138*0.25)/6,IF($C138="往届",($U138*0.5)/6,"NULL")) -> 2.7 | CE138: 何传英 | CF138: =IF($C138="应届",($U138*0.25)/6,IF($C138="往届",($U138*0.5)/6,"NULL")) -> 2.7 | CG138: 尼玛布池 | CH138: =IF($C138="应届",($U138*0.25)/6,IF($C138="往届",($U138*0.5)/6,"NULL")) -> 2.7 | CI138: 3 | CJ138: 易涛 | CK138: =IF($C138="应届",($U138*0.25)/6,IF($C138="往届",($U138*0.5)/6,"NULL")) -> 2.7 | CL138: 央宗娜姆 | CM138: =IF($C138="应届",($U138*0.25)/6,IF($C138="往届",($U138*0.5)/6,"NULL")) -> 2.7 | CN138: 李永会 | CO138: =IF($C138="应届",($U138*0.25)/6,IF($C138="往届",($U138*0.5)/6,"NULL")) -> 2.7 | CP138: 周峰 | CQ138: =IF($C138="应届",($U138*0.25)/6,IF($C138="往届",($U138*0.5)/6,"NULL")) -> 2.7 | CR138: 何传英 | CS138: =IF($C138="应届",($U138*0.25)/6,IF($C138="往届",($U138*0.5)/6,"NULL")) -> 2.7 | CT138: 尼玛布池 | CU138: =IF($C138="应届",($U138*0.25)/6,IF($C138="往届",($U138*0.5)/6,"NULL")) -> 2.7
A139: 苟阿比莫 | B139: 513422200610202929 | C139: 应届 | D139: 物理类 | F139: 1 | G139: 0 | H139: 93 | I139: 94 | J139: 114 | K139: 54 | L139: 76 | M139: 68 | N139: 0 | O139: 0 | P139: =ROUND(SUM(H139:O139),0) -> 499 | Q139: =IF(D139="物理类",IF(P139>=分数线!$C$2,"本科",""),IF(D139="历史类",IF(P139>=分数线!$C$3,"本科",""))) -> 本科 | R139: =IF(F139>0,IF(Q139="本科",(2-F139)*36,-(F139)*36),IF(Q139="本科",2*36,0)) -> 36 | S139: =IF(D139="物理类",IF(P139>=分数线!$C$6,"重本",""),IF(D139="历史类",IF(P139>=分数线!$C$7,"重本",""))) | T139: =IF(G139>0,IF(S139="重本",G139*72,-(G139)*72),IF(S139="重本",2*72,0)) -> 0 | U139: =R139+T139 -> 36 | V139: 3 | W139: 易涛 | X139: =IF($C139="应届",($U139*0.1)/6,IF($C139="往届","","NULL")) -> 0.6 | Y139: 央宗娜姆 | Z139: =IF($C139="应届",($U139*0.1)/6,IF($C139="往届","","NULL")) -> 0.6 | AA139: 李永会 | AB139: =IF($C139="应届",($U139*0.1)/6,IF($C139="往届","","NULL")) -> 0.6 | AC139: 周峰 | AD139: =IF($C139="应届",($U139*0.1)/6,IF($C139="往届","","NULL")) -> 0.6 | AE139: 黄萍 | AF139: =IF($C139="应届",($U139*0.1)/6,IF($C139="往届","","NULL")) -> 0.6 | AG139: 尼玛布池 | AH139: =IF($C139="应届",($U139*0.1)/6,IF($C139="往届","","NULL")) -> 0.6 | AI139: 3 | AJ139: 易涛 | AK139: =IF($C139="应届",($U139*0.1)/6,IF($C139="往届","","NULL")) -> 0.6 | AL139: 央宗娜姆 | AM139: =IF($C139="应届",($U139*0.1)/6,IF($C139="往届","","NULL")) -> 0.6 | AN139: 李永会 | AO139: =IF($C139="应届",($U139*0.1)/6,IF($C139="往届","","NULL")) -> 0.6 | AP139: 周峰 | AQ139: =IF($C139="应届",($U139*0.1)/6,IF($C139="往届","","NULL")) -> 0.6 | AR139: 黄萍 | AS139: =IF($C139="应届",($U139*0.1)/6,IF($C139="往届","","NULL")) -> 0.6 | AT139: 尼玛布池 | AU139: =IF($C139="应届",($U139*0.1)/6,IF($C139="往届","","NULL")) -> 0.6 | AV139: 3 | AW139: 易涛 | AX139: =IF($C139="应届",($U139*0.15)/6,IF($C139="往届","","NULL")) -> 0.9 | AY139: 央宗娜姆 | AZ139: =IF($C139="应届",($U139*0.15)/6,IF($C139="往届","","NULL")) -> 0.9 | BA139: 李永会 | BB139: =IF($C139="应届",($U139*0.15)/6,IF($C139="往届","","NULL")) -> 0.9 | BC139: 周峰 | BD139: =IF($C139="应届",($U139*0.15)/6,IF($C139="往届","","NULL")) -> 0.9 | BE139: 何传英 | BF139: =IF($C139="应届",($U139*0.15)/6,IF($C139="往届","","NULL")) -> 0.9 | BG139: 尼玛布池 | BH139: =IF($C139="应届",($U139*0.15)/6,IF($C139="往届","","NULL")) -> 0.9 | BI139: 3 | BJ139: 易涛 | BK139: =IF($C139="应届",($U139*0.15)/6,IF($C139="往届","","NULL")) -> 0.9 | BL139: 央宗娜姆 | BM139: =IF($C139="应届",($U139*0.15)/6,IF($C139="往届","","NULL")) -> 0.9 | BN139: 李永会 | BO139: =IF($C139="应届",($U139*0.15)/6,IF($C139="往届","","NULL")) -> 0.9 | BP139: 周峰 | BQ139: =IF($C139="应届",($U139*0.15)/6,IF($C139="往届","","NULL")) -> 0.9 | BR139: 何传英 | BS139: =IF($C139="应届",($U139*0.15)/6,IF($C139="往届","","NULL")) -> 0.9 | BT139: 尼玛布池 | BU139: =IF($C139="应届",($U139*0.15)/6,IF($C139="往届","","NULL")) -> 0.9 | BV139: 3 | BW139: 易涛 | BX139: =IF($C139="应届",($U139*0.25)/6,IF($C139="往届",($U139*0.5)/6,"NULL")) -> 1.5 | BY139: 央宗娜姆 | BZ139: =IF($C139="应届",($U139*0.25)/6,IF($C139="往届",($U139*0.5)/6,"NULL")) -> 1.5 | CA139: 李永会 | CB139: =IF($C139="应届",($U139*0.25)/6,IF($C139="往届",($U139*0.5)/6,"NULL")) -> 1.5 | CC139: 周峰 | CD139: =IF($C139="应届",($U139*0.25)/6,IF($C139="往届",($U139*0.5)/6,"NULL")) -> 1.5 | CE139: 何传英 | CF139: =IF($C139="应届",($U139*0.25)/6,IF($C139="往届",($U139*0.5)/6,"NULL")) -> 1.5 | CG139: 尼玛布池 | CH139: =IF($C139="应届",($U139*0.25)/6,IF($C139="往届",($U139*0.5)/6,"NULL")) -> 1.5 | CI139: 3 | CJ139: 易涛 | CK139: =IF($C139="应届",($U139*0.25)/6,IF($C139="往届",($U139*0.5)/6,"NULL")) -> 1.5 | CL139: 央宗娜姆 | CM139: =IF($C139="应届",($U139*0.25)/6,IF($C139="往届",($U139*0.5)/6,"NULL")) -> 1.5 | CN139: 李永会 | CO139: =IF($C139="应届",($U139*0.25)/6,IF($C139="往届",($U139*0.5)/6,"NULL")) -> 1.5 | CP139: 周峰 | CQ139: =IF($C139="应届",($U139*0.25)/6,IF($C139="往届",($U139*0.5)/6,"NULL")) -> 1.5 | CR139: 何传英 | CS139: =IF($C139="应届",($U139*0.25)/6,IF($C139="往届",($U139*0.5)/6,"NULL")) -> 1.5 | CT139: 尼玛布池 | CU139: =IF($C139="应届",($U139*0.25)/6,IF($C139="往届",($U139*0.5)/6,"NULL")) -> 1.5
A140: 项依波 | B140: 513422200607240318 | C140: 应届 | D140: 物理类 | F140: 0.5 | G140: 0 | H140: 90 | I140: 100 | J140: 111 | K140: 52 | L140: 73 | M140: 71 | N140: 0 | O140: 0 | P140: =ROUND(SUM(H140:O140),0) -> 497 | Q140: =IF(D140="物理类",IF(P140>=分数线!$C$2,"本科",""),IF(D140="历史类",IF(P140>=分数线!$C$3,"本科",""))) -> 本科 | R140: =IF(F140>0,IF(Q140="本科",(2-F140)*36,-(F140)*36),IF(Q140="本科",2*36,0)) -> 54 | S140: =IF(D140="物理类",IF(P140>=分数线!$C$6,"重本",""),IF(D140="历史类",IF(P140>=分数线!$C$7,"重本",""))) | T140: =IF(G140>0,IF(S140="重本",G140*72,-(G140)*72),IF(S140="重本",2*72,0)) -> 0 | U140: =R140+T140 -> 54 | V140: 3 | W140: 易涛 | X140: =IF($C140="应届",($U140*0.1)/6,IF($C140="往届","","NULL")) -> 0.9 | Y140: 央宗娜姆 | Z140: =IF($C140="应届",($U140*0.1)/6,IF($C140="往届","","NULL")) -> 0.9 | AA140: 李永会 | AB140: =IF($C140="应届",($U140*0.1)/6,IF($C140="往届","","NULL")) -> 0.9 | AC140: 周峰 | AD140: =IF($C140="应届",($U140*0.1)/6,IF($C140="往届","","NULL")) -> 0.9 | AE140: 黄萍 | AF140: =IF($C140="应届",($U140*0.1)/6,IF($C140="往届","","NULL")) -> 0.9 | AG140: 尼玛布池 | AH140: =IF($C140="应届",($U140*0.1)/6,IF($C140="往届","","NULL")) -> 0.9 | AI140: 3 | AJ140: 易涛 | AK140: =IF($C140="应届",($U140*0.1)/6,IF($C140="往届","","NULL")) -> 0.9 | AL140: 央宗娜姆 | AM140: =IF($C140="应届",($U140*0.1)/6,IF($C140="往届","","NULL")) -> 0.9 | AN140: 李永会 | AO140: =IF($C140="应届",($U140*0.1)/6,IF($C140="往届","","NULL")) -> 0.9 | AP140: 周峰 | AQ140: =IF($C140="应届",($U140*0.1)/6,IF($C140="往届","","NULL")) -> 0.9 | AR140: 黄萍 | AS140: =IF($C140="应届",($U140*0.1)/6,IF($C140="往届","","NULL")) -> 0.9 | AT140: 尼玛布池 | AU140: =IF($C140="应届",($U140*0.1)/6,IF($C140="往届","","NULL")) -> 0.9 | AV140: 3 | AW140: 易涛 | AX140: =IF($C140="应届",($U140*0.15)/6,IF($C140="往届","","NULL")) -> 1.35 | AY140: 央宗娜姆 | AZ140: =IF($C140="应届",($U140*0.15)/6,IF($C140="往届","","NULL")) -> 1.35 | BA140: 李永会 | BB140: =IF($C140="应届",($U140*0.15)/6,IF($C140="往届","","NULL")) -> 1.35 | BC140: 周峰 | BD140: =IF($C140="应届",($U140*0.15)/6,IF($C140="往届","","NULL")) -> 1.35 | BE140: 何传英 | BF140: =IF($C140="应届",($U140*0.15)/6,IF($C140="往届","","NULL")) -> 1.35 | BG140: 尼玛布池 | BH140: =IF($C140="应届",($U140*0.15)/6,IF($C140="往届","","NULL")) -> 1.35 | BI140: 3 | BJ140: 易涛 | BK140: =IF($C140="应届",($U140*0.15)/6,IF($C140="往届","","NULL")) -> 1.35 | BL140: 央宗娜姆 | BM140: =IF($C140="应届",($U140*0.15)/6,IF($C140="往届","","NULL")) -> 1.35 | BN140: 李永会 | BO140: =IF($C140="应届",($U140*0.15)/6,IF($C140="往届","","NULL")) -> 1.35 | BP140: 周峰 | BQ140: =IF($C140="应届",($U140*0.15)/6,IF($C140="往届","","NULL")) -> 1.35 | BR140: 何传英 | BS140: =IF($C140="应届",($U140*0.15)/6,IF($C140="往届","","NULL")) -> 1.35 | BT140: 尼玛布池 | BU140: =IF($C140="应届",($U140*0.15)/6,IF($C140="往届","","NULL")) -> 1.35 | BV140: 3 | BW140: 易涛 | BX140: =IF($C140="应届",($U140*0.25)/6,IF($C140="往届",($U140*0.5)/6,"NULL")) -> 2.25 | BY140: 央宗娜姆 | BZ140: =IF($C140="应届",($U140*0.25)/6,IF($C140="往届",($U140*0.5)/6,"NULL")) -> 2.25 | CA140: 李永会 | CB140: =IF($C140="应届",($U140*0.25)/6,IF($C140="往届",($U140*0.5)/6,"NULL")) -> 2.25 | CC140: 周峰 | CD140: =IF($C140="应届",($U140*0.25)/6,IF($C140="往届",($U140*0.5)/6,"NULL")) -> 2.25 | CE140: 何传英 | CF140: =IF($C140="应届",($U140*0.25)/6,IF($C140="往届",($U140*0.5)/6,"NULL")) -> 2.25 | CG140: 尼玛布池 | CH140: =IF($C140="应届",($U140*0.25)/6,IF($C140="往届",($U140*0.5)/6,"NULL")) -> 2.25 | CI140: 3 | CJ140: 易涛 | CK140: =IF($C140="应届",($U140*0.25)/6,IF($C140="往届",($U140*0.5)/6,"NULL")) -> 2.25 | CL140: 央宗娜姆 | CM140: =IF($C140="应届",($U140*0.25)/6,IF($C140="往届",($U140*0.5)/6,"NULL")) -> 2.25 | CN140: 李永会 | CO140: =IF($C140="应届",($U140*0.25)/6,IF($C140="往届",($U140*0.5)/6,"NULL")) -> 2.25 | CP140: 周峰 | CQ140: =IF($C140="应届",($U140*0.25)/6,IF($C140="往届",($U140*0.5)/6,"NULL")) -> 2.25 | CR140: 何传英 | CS140: =IF($C140="应届",($U140*0.25)/6,IF($C140="往届",($U140*0.5)/6,"NULL")) -> 2.25 | CT140: 尼玛布池 | CU140: =IF($C140="应届",($U140*0.25)/6,IF($C140="往届",($U140*0.5)/6,"NULL")) -> 2.25
A141: 沈阿呷 | B141: 513422200606223823 | C141: 应届 | D141: 物理类 | F141: 1 | G141: 0 | H141: 112 | I141: 86 | J141: 101 | K141: 50 | L141: 72 | M141: 72 | N141: 0 | O141: 0 | P141: =ROUND(SUM(H141:O141),0) -> 493 | Q141: =IF(D141="物理类",IF(P141>=分数线!$C$2,"本科",""),IF(D141="历史类",IF(P141>=分数线!$C$3,"本科",""))) -> 本科 | R141: =IF(F141>0,IF(Q141="本科",(2-F141)*36,-(F141)*36),IF(Q141="本科",2*36,0)) -> 36 | S141: =IF(D141="物理类",IF(P141>=分数线!$C$6,"重本",""),IF(D141="历史类",IF(P141>=分数线!$C$7,"重本",""))) | T141: =IF(G141>0,IF(S141="重本",G141*72,-(G141)*72),IF(S141="重本",2*72,0)) -> 0 | U141: =R141+T141 -> 36 | V141: 3 | W141: 刘权芳 | X141: =IF($C141="应届",($U141*0.1)/6,IF($C141="往届","","NULL")) -> 0.6 | Y141: 吕开绒 | Z141: =IF($C141="应届",($U141*0.1)/6,IF($C141="往届","","NULL")) -> 0.6 | AA141: 张福琴 | AB141: =IF($C141="应届",($U141*0.1)/6,IF($C141="往届","","NULL")) -> 0.6 | AC141: 周峰 | AD141: =IF($C141="应届",($U141*0.1)/6,IF($C141="往届","","NULL")) -> 0.6 | AE141: 崔萌 | AF141: =IF($C141="应届",($U141*0.1)/6,IF($C141="往届","","NULL")) -> 0.6 | AG141: 张弘 | AH141: =IF($C141="应届",($U141*0.1)/6,IF($C141="往届","","NULL")) -> 0.6 | AI141: 3 | AJ141: 易涛 | AK141: =IF($C141="应届",($U141*0.1)/6,IF($C141="往届","","NULL")) -> 0.6 | AL141: 央宗娜姆 | AM141: =IF($C141="应届",($U141*0.1)/6,IF($C141="往届","","NULL")) -> 0.6 | AN141: 李永会 | AO141: =IF($C141="应届",($U141*0.1)/6,IF($C141="往届","","NULL")) -> 0.6 | AP141: 周峰 | AQ141: =IF($C141="应届",($U141*0.1)/6,IF($C141="往届","","NULL")) -> 0.6 | AR141: 黄萍 | AS141: =IF($C141="应届",($U141*0.1)/6,IF($C141="往届","","NULL")) -> 0.6 | AT141: 尼玛布池 | AU141: =IF($C141="应届",($U141*0.1)/6,IF($C141="往届","","NULL")) -> 0.6 | AV141: 3 | AW141: 易涛 | AX141: =IF($C141="应届",($U141*0.15)/6,IF($C141="往届","","NULL")) -> 0.9 | AY141: 央宗娜姆 | AZ141: =IF($C141="应届",($U141*0.15)/6,IF($C141="往届","","NULL")) -> 0.9 | BA141: 李永会 | BB141: =IF($C141="应届",($U141*0.15)/6,IF($C141="往届","","NULL")) -> 0.9 | BC141: 周峰 | BD141: =IF($C141="应届",($U141*0.15)/6,IF($C141="往届","","NULL")) -> 0.9 | BE141: 何传英 | BF141: =IF($C141="应届",($U141*0.15)/6,IF($C141="往届","","NULL")) -> 0.9 | BG141: 尼玛布池 | BH141: =IF($C141="应届",($U141*0.15)/6,IF($C141="往届","","NULL")) -> 0.9 | BI141: 3 | BJ141: 易涛 | BK141: =IF($C141="应届",($U141*0.15)/6,IF($C141="往届","","NULL")) -> 0.9 | BL141: 央宗娜姆 | BM141: =IF($C141="应届",($U141*0.15)/6,IF($C141="往届","","NULL")) -> 0.9 | BN141: 李永会 | BO141: =IF($C141="应届",($U141*0.15)/6,IF($C141="往届","","NULL")) -> 0.9 | BP141: 周峰 | BQ141: =IF($C141="应届",($U141*0.15)/6,IF($C141="往届","","NULL")) -> 0.9 | BR141: 何传英 | BS141: =IF($C141="应届",($U141*0.15)/6,IF($C141="往届","","NULL")) -> 0.9 | BT141: 尼玛布池 | BU141: =IF($C141="应届",($U141*0.15)/6,IF($C141="往届","","NULL")) -> 0.9 | BV141: 3 | BW141: 易涛 | BX141: =IF($C141="应届",($U141*0.25)/6,IF($C141="往届",($U141*0.5)/6,"NULL")) -> 1.5 | BY141: 央宗娜姆 | BZ141: =IF($C141="应届",($U141*0.25)/6,IF($C141="往届",($U141*0.5)/6,"NULL")) -> 1.5 | CA141: 李永会 | CB141: =IF($C141="应届",($U141*0.25)/6,IF($C141="往届",($U141*0.5)/6,"NULL")) -> 1.5 | CC141: 周峰 | CD141: =IF($C141="应届",($U141*0.25)/6,IF($C141="往届",($U141*0.5)/6,"NULL")) -> 1.5 | CE141: 何传英 | CF141: =IF($C141="应届",($U141*0.25)/6,IF($C141="往届",($U141*0.5)/6,"NULL")) -> 1.5 | CG141: 尼玛布池 | CH141: =IF($C141="应届",($U141*0.25)/6,IF($C141="往届",($U141*0.5)/6,"NULL")) -> 1.5 | CI141: 3 | CJ141: 易涛 | CK141: =IF($C141="应届",($U141*0.25)/6,IF($C141="往届",($U141*0.5)/6,"NULL")) -> 1.5 | CL141: 央宗娜姆 | CM141: =IF($C141="应届",($U141*0.25)/6,IF($C141="往届",($U141*0.5)/6,"NULL")) -> 1.5 | CN141: 李永会 | CO141: =IF($C141="应届",($U141*0.25)/6,IF($C141="往届",($U141*0.5)/6,"NULL")) -> 1.5 | CP141: 周峰 | CQ141: =IF($C141="应届",($U141*0.25)/6,IF($C141="往届",($U141*0.5)/6,"NULL")) -> 1.5 | CR141: 何传英 | CS141: =IF($C141="应届",($U141*0.25)/6,IF($C141="往届",($U141*0.5)/6,"NULL")) -> 1.5 | CT141: 尼玛布池 | CU141: =IF($C141="应届",($U141*0.25)/6,IF($C141="往届",($U141*0.5)/6,"NULL")) -> 1.5
A142: 李荣玉 | B142: 513422200611051528 | C142: 应届 | D142: 物理类 | F142: 1 | G142: 0 | H142: 107 | I142: 91 | J142: 92 | K142: 46 | L142: 77 | M142: 75 | N142: 0 | O142: 0 | P142: =ROUND(SUM(H142:O142),0) -> 488 | Q142: =IF(D142="物理类",IF(P142>=分数线!$C$2,"本科",""),IF(D142="历史类",IF(P142>=分数线!$C$3,"本科",""))) -> 本科 | R142: =IF(F142>0,IF(Q142="本科",(2-F142)*36,-(F142)*36),IF(Q142="本科",2*36,0)) -> 36 | S142: =IF(D142="物理类",IF(P142>=分数线!$C$6,"重本",""),IF(D142="历史类",IF(P142>=分数线!$C$7,"重本",""))) | T142: =IF(G142>0,IF(S142="重本",G142*72,-(G142)*72),IF(S142="重本",2*72,0)) -> 0 | U142: =R142+T142 -> 36 | V142: 3 | W142: 刘云菊 | X142: =IF($C142="应届",($U142*0.1)/6,IF($C142="往届","","NULL")) -> 0.6 | Y142: 马俊 | Z142: =IF($C142="应届",($U142*0.1)/6,IF($C142="往届","","NULL")) -> 0.6 | AA142: 朱恩凡 | AB142: =IF($C142="应届",($U142*0.1)/6,IF($C142="往届","","NULL")) -> 0.6 | AC142: 次珍扎保 | AD142: =IF($C142="应届",($U142*0.1)/6,IF($C142="往届","","NULL")) -> 0.6 | AE142: 宁建康 | AF142: =IF($C142="应届",($U142*0.1)/6,IF($C142="往届","","NULL")) -> 0.6 | AG142: 尤顺芝 | AH142: =IF($C142="应届",($U142*0.1)/6,IF($C142="往届","","NULL")) -> 0.6 | AI142: 3 | AJ142: 易涛 | AK142: =IF($C142="应届",($U142*0.1)/6,IF($C142="往届","","NULL")) -> 0.6 | AL142: 央宗娜姆 | AM142: =IF($C142="应届",($U142*0.1)/6,IF($C142="往届","","NULL")) -> 0.6 | AN142: 李永会 | AO142: =IF($C142="应届",($U142*0.1)/6,IF($C142="往届","","NULL")) -> 0.6 | AP142: 周峰 | AQ142: =IF($C142="应届",($U142*0.1)/6,IF($C142="往届","","NULL")) -> 0.6 | AR142: 黄萍 | AS142: =IF($C142="应届",($U142*0.1)/6,IF($C142="往届","","NULL")) -> 0.6 | AT142: 尼玛布池 | AU142: =IF($C142="应届",($U142*0.1)/6,IF($C142="往届","","NULL")) -> 0.6 | AV142: 3 | AW142: 易涛 | AX142: =IF($C142="应届",($U142*0.15)/6,IF($C142="往届","","NULL")) -> 0.9 | AY142: 央宗娜姆 | AZ142: =IF($C142="应届",($U142*0.15)/6,IF($C142="往届","","NULL")) -> 0.9 | BA142: 李永会 | BB142: =IF($C142="应届",($U142*0.15)/6,IF($C142="往届","","NULL")) -> 0.9 | BC142: 周峰 | BD142: =IF($C142="应届",($U142*0.15)/6,IF($C142="往届","","NULL")) -> 0.9 | BE142: 何传英 | BF142: =IF($C142="应届",($U142*0.15)/6,IF($C142="往届","","NULL")) -> 0.9 | BG142: 尼玛布池 | BH142: =IF($C142="应届",($U142*0.15)/6,IF($C142="往届","","NULL")) -> 0.9 | BI142: 3 | BJ142: 易涛 | BK142: =IF($C142="应届",($U142*0.15)/6,IF($C142="往届","","NULL")) -> 0.9 | BL142: 央宗娜姆 | BM142: =IF($C142="应届",($U142*0.15)/6,IF($C142="往届","","NULL")) -> 0.9 | BN142: 李永会 | BO142: =IF($C142="应届",($U142*0.15)/6,IF($C142="往届","","NULL")) -> 0.9 | BP142: 周峰 | BQ142: =IF($C142="应届",($U142*0.15)/6,IF($C142="往届","","NULL")) -> 0.9 | BR142: 何传英 | BS142: =IF($C142="应届",($U142*0.15)/6,IF($C142="往届","","NULL")) -> 0.9 | BT142: 尼玛布池 | BU142: =IF($C142="应届",($U142*0.15)/6,IF($C142="往届","","NULL")) -> 0.9 | BV142: 3 | BW142: 易涛 | BX142: =IF($C142="应届",($U142*0.25)/6,IF($C142="往届",($U142*0.5)/6,"NULL")) -> 1.5 | BY142: 央宗娜姆 | BZ142: =IF($C142="应届",($U142*0.25)/6,IF($C142="往届",($U142*0.5)/6,"NULL")) -> 1.5 | CA142: 李永会 | CB142: =IF($C142="应届",($U142*0.25)/6,IF($C142="往届",($U142*0.5)/6,"NULL")) -> 1.5 | CC142: 周峰 | CD142: =IF($C142="应届",($U142*0.25)/6,IF($C142="往届",($U142*0.5)/6,"NULL")) -> 1.5 | CE142: 何传英 | CF142: =IF($C142="应届",($U142*0.25)/6,IF($C142="往届",($U142*0.5)/6,"NULL")) -> 1.5 | CG142: 尼玛布池 | CH142: =IF($C142="应届",($U142*0.25)/6,IF($C142="往届",($U142*0.5)/6,"NULL")) -> 1.5 | CI142: 3 | CJ142: 易涛 | CK142: =IF($C142="应届",($U142*0.25)/6,IF($C142="往届",($U142*0.5)/6,"NULL")) -> 1.5 | CL142: 央宗娜姆 | CM142: =IF($C142="应届",($U142*0.25)/6,IF($C142="往届",($U142*0.5)/6,"NULL")) -> 1.5 | CN142: 李永会 | CO142: =IF($C142="应届",($U142*0.25)/6,IF($C142="往届",($U142*0.5)/6,"NULL")) -> 1.5 | CP142: 周峰 | CQ142: =IF($C142="应届",($U142*0.25)/6,IF($C142="往届",($U142*0.5)/6,"NULL")) -> 1.5 | CR142: 何传英 | CS142: =IF($C142="应届",($U142*0.25)/6,IF($C142="往届",($U142*0.5)/6,"NULL")) -> 1.5 | CT142: 尼玛布池 | CU142: =IF($C142="应届",($U142*0.25)/6,IF($C142="往届",($U142*0.5)/6,"NULL")) -> 1.5
A143: 次尔品初 | B143: 513422200605047012 | C143: 应届 | D143: 物理类 | F143: 0.2 | G143: 0 | H143: 98 | I143: 110 | J143: 54 | K143: 68 | L143: 83 | M143: 73 | N143: 0 | O143: 0 | P143: =ROUND(SUM(H143:O143),0) -> 486 | Q143: =IF(D143="物理类",IF(P143>=分数线!$C$2,"本科",""),IF(D143="历史类",IF(P143>=分数线!$C$3,"本科",""))) -> 本科 | R143: =IF(F143>0,IF(Q143="本科",(2-F143)*36,-(F143)*36),IF(Q143="本科",2*36,0)) -> 64.8 | S143: =IF(D143="物理类",IF(P143>=分数线!$C$6,"重本",""),IF(D143="历史类",IF(P143>=分数线!$C$7,"重本",""))) | T143: =IF(G143>0,IF(S143="重本",G143*72,-(G143)*72),IF(S143="重本",2*72,0)) -> 0 | U143: =R143+T143 -> 64.8 | V143: 3 | W143: 肖锐 | X143: =IF($C143="应届",($U143*0.1)/6,IF($C143="往届","","NULL")) -> 1.08 | Y143: 喇燕 | Z143: =IF($C143="应届",($U143*0.1)/6,IF($C143="往届","","NULL")) -> 1.08 | AA143: 浦恩玲 | AB143: =IF($C143="应届",($U143*0.1)/6,IF($C143="往届","","NULL")) -> 1.08 | AC143: 解超燕 | AD143: =IF($C143="应届",($U143*0.1)/6,IF($C143="往届","","NULL")) -> 1.08 | AE143: 马红琦 | AF143: =IF($C143="应届",($U143*0.1)/6,IF($C143="往届","","NULL")) -> 1.08 | AG143: 喇菊 | AH143: =IF($C143="应届",($U143*0.1)/6,IF($C143="往届","","NULL")) -> 1.08 | AI143: 3 | AJ143: 易涛 | AK143: =IF($C143="应届",($U143*0.1)/6,IF($C143="往届","","NULL")) -> 1.08 | AL143: 央宗娜姆 | AM143: =IF($C143="应届",($U143*0.1)/6,IF($C143="往届","","NULL")) -> 1.08 | AN143: 李永会 | AO143: =IF($C143="应届",($U143*0.1)/6,IF($C143="往届","","NULL")) -> 1.08 | AP143: 周峰 | AQ143: =IF($C143="应届",($U143*0.1)/6,IF($C143="往届","","NULL")) -> 1.08 | AR143: 黄萍 | AS143: =IF($C143="应届",($U143*0.1)/6,IF($C143="往届","","NULL")) -> 1.08 | AT143: 尼玛布池 | AU143: =IF($C143="应届",($U143*0.1)/6,IF($C143="往届","","NULL")) -> 1.08 | AV143: 3 | AW143: 易涛 | AX143: =IF($C143="应届",($U143*0.15)/6,IF($C143="往届","","NULL")) -> 1.62 | AY143: 央宗娜姆 | AZ143: =IF($C143="应届",($U143*0.15)/6,IF($C143="往届","","NULL")) -> 1.62 | BA143: 李永会 | BB143: =IF($C143="应届",($U143*0.15)/6,IF($C143="往届","","NULL")) -> 1.62 | BC143: 周峰 | BD143: =IF($C143="应届",($U143*0.15)/6,IF($C143="往届","","NULL")) -> 1.62 | BE143: 何传英 | BF143: =IF($C143="应届",($U143*0.15)/6,IF($C143="往届","","NULL")) -> 1.62 | BG143: 尼玛布池 | BH143: =IF($C143="应届",($U143*0.15)/6,IF($C143="往届","","NULL")) -> 1.62 | BI143: 3 | BJ143: 易涛 | BK143: =IF($C143="应届",($U143*0.15)/6,IF($C143="往届","","NULL")) -> 1.62 | BL143: 央宗娜姆 | BM143: =IF($C143="应届",($U143*0.15)/6,IF($C143="往届","","NULL")) -> 1.62 | BN143: 李永会 | BO143: =IF($C143="应届",($U143*0.15)/6,IF($C143="往届","","NULL")) -> 1.62 | BP143: 周峰 | BQ143: =IF($C143="应届",($U143*0.15)/6,IF($C143="往届","","NULL")) -> 1.62 | BR143: 何传英 | BS143: =IF($C143="应届",($U143*0.15)/6,IF($C143="往届","","NULL")) -> 1.62 | BT143: 尼玛布池 | BU143: =IF($C143="应届",($U143*0.15)/6,IF($C143="往届","","NULL")) -> 1.62 | BV143: 3 | BW143: 易涛 | BX143: =IF($C143="应届",($U143*0.25)/6,IF($C143="往届",($U143*0.5)/6,"NULL")) -> 2.7 | BY143: 央宗娜姆 | BZ143: =IF($C143="应届",($U143*0.25)/6,IF($C143="往届",($U143*0.5)/6,"NULL")) -> 2.7 | CA143: 李永会 | CB143: =IF($C143="应届",($U143*0.25)/6,IF($C143="往届",($U143*0.5)/6,"NULL")) -> 2.7 | CC143: 周峰 | CD143: =IF($C143="应届",($U143*0.25)/6,IF($C143="往届",($U143*0.5)/6,"NULL")) -> 2.7 | CE143: 何传英 | CF143: =IF($C143="应届",($U143*0.25)/6,IF($C143="往届",($U143*0.5)/6,"NULL")) -> 2.7 | CG143: 尼玛布池 | CH143: =IF($C143="应届",($U143*0.25)/6,IF($C143="往届",($U143*0.5)/6,"NULL")) -> 2.7 | CI143: 3 | CJ143: 易涛 | CK143: =IF($C143="应届",($U143*0.25)/6,IF($C143="往届",($U143*0.5)/6,"NULL")) -> 2.7 | CL143: 央宗娜姆 | CM143: =IF($C143="应届",($U143*0.25)/6,IF($C143="往届",($U143*0.5)/6,"NULL")) -> 2.7 | CN143: 李永会 | CO143: =IF($C143="应届",($U143*0.25)/6,IF($C143="往届",($U143*0.5)/6,"NULL")) -> 2.7 | CP143: 周峰 | CQ143: =IF($C143="应届",($U143*0.25)/6,IF($C143="往届",($U143*0.5)/6,"NULL")) -> 2.7 | CR143: 何传英 | CS143: =IF($C143="应届",($U143*0.25)/6,IF($C143="往届",($U143*0.5)/6,"NULL")) -> 2.7 | CT143: 尼玛布池 | CU143: =IF($C143="应届",($U143*0.25)/6,IF($C143="往届",($U143*0.5)/6,"NULL")) -> 2.7
A144: 次伦央青 | B144: 51342220060726482X | C144: 应届 | D144: 物理类 | F144: 1 | G144: 0 | H144: 100 | I144: 103 | J144: 94 | K144: 39 | L144: 78 | M144: 63 | N144: 0 | O144: 0 | P144: =ROUND(SUM(H144:O144),0) -> 477 | Q144: =IF(D144="物理类",IF(P144>=分数线!$C$2,"本科",""),IF(D144="历史类",IF(P144>=分数线!$C$3,"本科",""))) -> 本科 | R144: =IF(F144>0,IF(Q144="本科",(2-F144)*36,-(F144)*36),IF(Q144="本科",2*36,0)) -> 36 | S144: =IF(D144="物理类",IF(P144>=分数线!$C$6,"重本",""),IF(D144="历史类",IF(P144>=分数线!$C$7,"重本",""))) | T144: =IF(G144>0,IF(S144="重本",G144*72,-(G144)*72),IF(S144="重本",2*72,0)) -> 0 | U144: =R144+T144 -> 36 | V144: 3 | W144: 易涛 | X144: =IF($C144="应届",($U144*0.1)/6,IF($C144="往届","","NULL")) -> 0.6 | Y144: 央宗娜姆 | Z144: =IF($C144="应届",($U144*0.1)/6,IF($C144="往届","","NULL")) -> 0.6 | AA144: 李永会 | AB144: =IF($C144="应届",($U144*0.1)/6,IF($C144="往届","","NULL")) -> 0.6 | AC144: 周峰 | AD144: =IF($C144="应届",($U144*0.1)/6,IF($C144="往届","","NULL")) -> 0.6 | AE144: 黄萍 | AF144: =IF($C144="应届",($U144*0.1)/6,IF($C144="往届","","NULL")) -> 0.6 | AG144: 尼玛布池 | AH144: =IF($C144="应届",($U144*0.1)/6,IF($C144="往届","","NULL")) -> 0.6 | AI144: 3 | AJ144: 易涛 | AK144: =IF($C144="应届",($U144*0.1)/6,IF($C144="往届","","NULL")) -> 0.6 | AL144: 央宗娜姆 | AM144: =IF($C144="应届",($U144*0.1)/6,IF($C144="往届","","NULL")) -> 0.6 | AN144: 李永会 | AO144: =IF($C144="应届",($U144*0.1)/6,IF($C144="往届","","NULL")) -> 0.6 | AP144: 周峰 | AQ144: =IF($C144="应届",($U144*0.1)/6,IF($C144="往届","","NULL")) -> 0.6 | AR144: 黄萍 | AS144: =IF($C144="应届",($U144*0.1)/6,IF($C144="往届","","NULL")) -> 0.6 | AT144: 尼玛布池 | AU144: =IF($C144="应届",($U144*0.1)/6,IF($C144="往届","","NULL")) -> 0.6 | AV144: 3 | AW144: 易涛 | AX144: =IF($C144="应届",($U144*0.15)/6,IF($C144="往届","","NULL")) -> 0.9 | AY144: 央宗娜姆 | AZ144: =IF($C144="应届",($U144*0.15)/6,IF($C144="往届","","NULL")) -> 0.9 | BA144: 李永会 | BB144: =IF($C144="应届",($U144*0.15)/6,IF($C144="往届","","NULL")) -> 0.9 | BC144: 周峰 | BD144: =IF($C144="应届",($U144*0.15)/6,IF($C144="往届","","NULL")) -> 0.9 | BE144: 何传英 | BF144: =IF($C144="应届",($U144*0.15)/6,IF($C144="往届","","NULL")) -> 0.9 | BG144: 尼玛布池 | BH144: =IF($C144="应届",($U144*0.15)/6,IF($C144="往届","","NULL")) -> 0.9 | BI144: 3 | BJ144: 易涛 | BK144: =IF($C144="应届",($U144*0.15)/6,IF($C144="往届","","NULL")) -> 0.9 | BL144: 央宗娜姆 | BM144: =IF($C144="应届",($U144*0.15)/6,IF($C144="往届","","NULL")) -> 0.9 | BN144: 李永会 | BO144: =IF($C144="应届",($U144*0.15)/6,IF($C144="往届","","NULL")) -> 0.9 | BP144: 周峰 | BQ144: =IF($C144="应届",($U144*0.15)/6,IF($C144="往届","","NULL")) -> 0.9 | BR144: 何传英 | BS144: =IF($C144="应届",($U144*0.15)/6,IF($C144="往届","","NULL")) -> 0.9 | BT144: 尼玛布池 | BU144: =IF($C144="应届",($U144*0.15)/6,IF($C144="往届","","NULL")) -> 0.9 | BV144: 3 | BW144: 易涛 | BX144: =IF($C144="应届",($U144*0.25)/6,IF($C144="往届",($U144*0.5)/6,"NULL")) -> 1.5 | BY144: 央宗娜姆 | BZ144: =IF($C144="应届",($U144*0.25)/6,IF($C144="往届",($U144*0.5)/6,"NULL")) -> 1.5 | CA144: 李永会 | CB144: =IF($C144="应届",($U144*0.25)/6,IF($C144="往届",($U144*0.5)/6,"NULL")) -> 1.5 | CC144: 周峰 | CD144: =IF($C144="应届",($U144*0.25)/6,IF($C144="往届",($U144*0.5)/6,"NULL")) -> 1.5 | CE144: 何传英 | CF144: =IF($C144="应届",($U144*0.25)/6,IF($C144="往届",($U144*0.5)/6,"NULL")) -> 1.5 | CG144: 尼玛布池 | CH144: =IF($C144="应届",($U144*0.25)/6,IF($C144="往届",($U144*0.5)/6,"NULL")) -> 1.5 | CI144: 3 | CJ144: 易涛 | CK144: =IF($C144="应届",($U144*0.25)/6,IF($C144="往届",($U144*0.5)/6,"NULL")) -> 1.5 | CL144: 央宗娜姆 | CM144: =IF($C144="应届",($U144*0.25)/6,IF($C144="往届",($U144*0.5)/6,"NULL")) -> 1.5 | CN144: 李永会 | CO144: =IF($C144="应届",($U144*0.25)/6,IF($C144="往届",($U144*0.5)/6,"NULL")) -> 1.5 | CP144: 周峰 | CQ144: =IF($C144="应届",($U144*0.25)/6,IF($C144="往届",($U144*0.5)/6,"NULL")) -> 1.5 | CR144: 何传英 | CS144: =IF($C144="应届",($U144*0.25)/6,IF($C144="往届",($U144*0.5)/6,"NULL")) -> 1.5 | CT144: 尼玛布池 | CU144: =IF($C144="应届",($U144*0.25)/6,IF($C144="往届",($U144*0.5)/6,"NULL")) -> 1.5
... A148: 吕神发 | B148: 513422200502102111 | C148: 应届 | D148: 物理类 | F148: 0.2 | G148: 0 | H148: 90 | I148: 98 | J148: 97 | K148: 47 | L148: 74 | M148: 66 | N148: 0 | O148: 0 | P148: =ROUND(SUM(H148:O148),0) -> 472 | Q148: =IF(D148="物理类",IF(P148>=分数线!$C$2,"本科",""),IF(D148="历史类",IF(P148>=分数线!$C$3,"本科",""))) -> 本科 | R148: =IF(F148>0,IF(Q148="本科",(2-F148)*36,-(F148)*36),IF(Q148="本科",2*36,0)) -> 64.8 | S148: =IF(D148="物理类",IF(P148>=分数线!$C$6,"重本",""),IF(D148="历史类",IF(P148>=分数线!$C$7,"重本",""))) | T148: =IF(G148>0,IF(S148="重本",G148*72,-(G148)*72),IF(S148="重本",2*72,0)) -> 0 | U148: =R148+T148 -> 64.8 | V148: 3 | W148: 易涛 | X148: =IF($C148="应届",($U148*0.1)/6,IF($C148="往届","","NULL")) -> 1.08 | Y148: 央宗娜姆 | Z148: =IF($C148="应届",($U148*0.1)/6,IF($C148="往届","","NULL")) -> 1.08 | AA148: 李永会 | AB148: =IF($C148="应届",($U148*0.1)/6,IF($C148="往届","","NULL")) -> 1.08 | AC148: 周峰 | AD148: =IF($C148="应届",($U148*0.1)/6,IF($C148="往届","","NULL")) -> 1.08 | AE148: 黄萍 | AF148: =IF($C148="应届",($U148*0.1)/6,IF($C148="往届","","NULL")) -> 1.08 | AG148: 尼玛布池 | AH148: =IF($C148="应届",($U148*0.1)/6,IF($C148="往届","","NULL")) -> 1.08 | AI148: 3 | AJ148: 易涛 | AK148: =IF($C148="应届",($U148*0.1)/6,IF($C148="往届","","NULL")) -> 1.08 | AL148: 央宗娜姆 | AM148: =IF($C148="应届",($U148*0.1)/6,IF($C148="往届","","NULL")) -> 1.08 | AN148: 李永会 | AO148: =IF($C148="应届",($U148*0.1)/6,IF($C148="往届","","NULL")) -> 1.08 | AP148: 周峰 | AQ148: =IF($C148="应届",($U148*0.1)/6,IF($C148="往届","","NULL")) -> 1.08 | AR148: 黄萍 | AS148: =IF($C148="应届",($U148*0.1)/6,IF($C148="往届","","NULL")) -> 1.08 | AT148: 尼玛布池 | AU148: =IF($C148="应届",($U148*0.1)/6,IF($C148="往届","","NULL")) -> 1.08 | AV148: 3 | AW148: 易涛 | AX148: =IF($C148="应届",($U148*0.15)/6,IF($C148="往届","","NULL")) -> 1.62 | AY148: 央宗娜姆 | AZ148: =IF($C148="应届",($U148*0.15)/6,IF($C148="往届","","NULL")) -> 1.62 | BA148: 李永会 | BB148: =IF($C148="应届",($U148*0.15)/6,IF($C148="往届","","NULL")) -> 1.62 | BC148: 周峰 | BD148: =IF($C148="应届",($U148*0.15)/6,IF($C148="往届","","NULL")) -> 1.62 | BE148: 何传英 | BF148: =IF($C148="应届",($U148*0.15)/6,IF($C148="往届","","NULL")) -> 1.62 | BG148: 尼玛布池 | BH148: =IF($C148="应届",($U148*0.15)/6,IF($C148="往届","","NULL")) -> 1.62 | BI148: 3 | BJ148: 易涛 | BK148: =IF($C148="应届",($U148*0.15)/6,IF($C148="往届","","NULL")) -> 1.62 | BL148: 央宗娜姆 | BM148: =IF($C148="应届",($U148*0.15)/6,IF($C148="往届","","NULL")) -> 1.62 | BN148: 李永会 | BO148: =IF($C148="应届",($U148*0.15)/6,IF($C148="往届","","NULL")) -> 1.62 | BP148: 周峰 | BQ148: =IF($C148="应届",($U148*0.15)/6,IF($C148="往届","","NULL")) -> 1.62 | BR148: 何传英 | BS148: =IF($C148="应届",($U148*0.15)/6,IF($C148="往届","","NULL")) -> 1.62 | BT148: 尼玛布池 | BU148: =IF($C148="应届",($U148*0.15)/6,IF($C148="往届","","NULL")) -> 1.62 | BV148: 3 | BW148: 易涛 | BX148: =IF($C148="应届",($U148*0.25)/6,IF($C148="往届",($U148*0.5)/6,"NULL")) -> 2.7 | BY148: 央宗娜姆 | BZ148: =IF($C148="应届",($U148*0.25)/6,IF($C148="往届",($U148*0.5)/6,"NULL")) -> 2.7 | CA148: 李永会 | CB148: =IF($C148="应届",($U148*0.25)/6,IF($C148="往届",($U148*0.5)/6,"NULL")) -> 2.7 | CC148: 周峰 | CD148: =IF($C148="应届",($U148*0.25)/6,IF($C148="往届",($U148*0.5)/6,"NULL")) -> 2.7 | CE148: 何传英 | CF148: =IF($C148="应届",($U148*0.25)/6,IF($C148="往届",($U148*0.5)/6,"NULL")) -> 2.7 | CG148: 尼玛布池 | CH148: =IF($C148="应届",($U148*0.25)/6,IF($C148="往届",($U148*0.5)/6,"NULL")) -> 2.7 | CI148: 3 | CJ148: 易涛 | CK148: =IF($C148="应届",($U148*0.25)/6,IF($C148="往届",($U148*0.5)/6,"NULL")) -> 2.7 | CL148: 央宗娜姆 | CM148: =IF($C148="应届",($U148*0.25)/6,IF($C148="往届",($U148*0.5)/6,"NULL")) -> 2.7 | CN148: 李永会 | CO148: =IF($C148="应届",($U148*0.25)/6,IF($C148="往届",($U148*0.5)/6,"NULL")) -> 2.7 | CP148: 周峰 | CQ148: =IF($C148="应届",($U148*0.25)/6,IF($C148="往届",($U148*0.5)/6,"NULL")) -> 2.7 | CR148: 何传英 | CS148: =IF($C148="应届",($U148*0.25)/6,IF($C148="往届",($U148*0.5)/6,"NULL")) -> 2.7 | CT148: 尼玛布池 | CU148: =IF($C148="应届",($U148*0.25)/6,IF($C148="往届",($U148*0.5)/6,"NULL")) -> 2.7
A149: 严高倩 | B149: 513422200511080022 | C149: 应届 | D149: 物理类 | F149: 0 | G149: 0 | H149: 94 | I149: 85 | J149: 96 | K149: 40 | L149: 84 | M149: 72 | N149: 0 | O149: 0 | P149: =ROUND(SUM(H149:O149),0) -> 471 | Q149: =IF(D149="物理类",IF(P149>=分数线!$C$2,"本科",""),IF(D149="历史类",IF(P149>=分数线!$C$3,"本科",""))) -> 本科 | R149: =IF(F149>0,IF(Q149="本科",(2-F149)*36,-(F149)*36),IF(Q149="本科",2*36,0)) -> 72 | S149: =IF(D149="物理类",IF(P149>=分数线!$C$6,"重本",""),IF(D149="历史类",IF(P149>=分数线!$C$7,"重本",""))) | T149: =IF(G149>0,IF(S149="重本",G149*72,-(G149)*72),IF(S149="重本",2*72,0)) -> 0 | U149: =R149+T149 -> 72 | V149: 3 | W149: #N/A | X149: =IF($C149="应届",($U149*0.1)/6,IF($C149="往届","","NULL")) -> 1.2 | Y149: #N/A | Z149: =IF($C149="应届",($U149*0.1)/6,IF($C149="往届","","NULL")) -> 1.2 | AA149: #N/A | AB149: =IF($C149="应届",($U149*0.1)/6,IF($C149="往届","","NULL")) -> 1.2 | AC149: #N/A | AD149: =IF($C149="应届",($U149*0.1)/6,IF($C149="往届","","NULL")) -> 1.2 | AE149: #N/A | AF149: =IF($C149="应届",($U149*0.1)/6,IF($C149="往届","","NULL")) -> 1.2 | AG149: #N/A | AH149: =IF($C149="应届",($U149*0.1)/6,IF($C149="往届","","NULL")) -> 1.2 | AI149: #N/A | AJ149: #N/A | AK149: =IF($C149="应届",($U149*0.1)/6,IF($C149="往届","","NULL")) -> 1.2 | AL149: #N/A | AM149: =IF($C149="应届",($U149*0.1)/6,IF($C149="往届","","NULL")) -> 1.2 | AN149: #N/A | AO149: =IF($C149="应届",($U149*0.1)/6,IF($C149="往届","","NULL")) -> 1.2 | AP149: #N/A | AQ149: =IF($C149="应届",($U149*0.1)/6,IF($C149="往届","","NULL")) -> 1.2 | AR149: #N/A | AS149: =IF($C149="应届",($U149*0.1)/6,IF($C149="往届","","NULL")) -> 1.2 | AT149: #N/A | AU149: =IF($C149="应届",($U149*0.1)/6,IF($C149="往届","","NULL")) -> 1.2 | AV149: 3 | AW149: 易涛 | AX149: =IF($C149="应届",($U149*0.15)/6,IF($C149="往届","","NULL")) -> 1.8 | AY149: 央宗娜姆 | AZ149: =IF($C149="应届",($U149*0.15)/6,IF($C149="往届","","NULL")) -> 1.8 | BA149: 李永会 | BB149: =IF($C149="应届",($U149*0.15)/6,IF($C149="往届","","NULL")) -> 1.8 | BC149: 周峰 | BD149: =IF($C149="应届",($U149*0.15)/6,IF($C149="往届","","NULL")) -> 1.8 | BE149: 何传英 | BF149: =IF($C149="应届",($U149*0.15)/6,IF($C149="往届","","NULL")) -> 1.8 | BG149: 尼玛布池 | BH149: =IF($C149="应届",($U149*0.15)/6,IF($C149="往届","","NULL")) -> 1.8 | BI149: 3 | BJ149: 易涛 | BK149: =IF($C149="应届",($U149*0.15)/6,IF($C149="往届","","NULL")) -> 1.8 | BL149: 央宗娜姆 | BM149: =IF($C149="应届",($U149*0.15)/6,IF($C149="往届","","NULL")) -> 1.8 | BN149: 李永会 | BO149: =IF($C149="应届",($U149*0.15)/6,IF($C149="往届","","NULL")) -> 1.8 | BP149: 周峰 | BQ149: =IF($C149="应届",($U149*0.15)/6,IF($C149="往届","","NULL")) -> 1.8 | BR149: 何传英 | BS149: =IF($C149="应届",($U149*0.15)/6,IF($C149="往届","","NULL")) -> 1.8 | BT149: 尼玛布池 | BU149: =IF($C149="应届",($U149*0.15)/6,IF($C149="往届","","NULL")) -> 1.8 | BV149: 3 | BW149: 易涛 | BX149: =IF($C149="应届",($U149*0.25)/6,IF($C149="往届",($U149*0.5)/6,"NULL")) -> 3 | BY149: 央宗娜姆 | BZ149: =IF($C149="应届",($U149*0.25)/6,IF($C149="往届",($U149*0.5)/6,"NULL")) -> 3 | CA149: 李永会 | CB149: =IF($C149="应届",($U149*0.25)/6,IF($C149="往届",($U149*0.5)/6,"NULL")) -> 3 | CC149: 周峰 | CD149: =IF($C149="应届",($U149*0.25)/6,IF($C149="往届",($U149*0.5)/6,"NULL")) -> 3 | CE149: 何传英 | CF149: =IF($C149="应届",($U149*0.25)/6,IF($C149="往届",($U149*0.5)/6,"NULL")) -> 3 | CG149: 尼玛布池 | CH149: =IF($C149="应届",($U149*0.25)/6,IF($C149="往届",($U149*0.5)/6,"NULL")) -> 3 | CI149: 3 | CJ149: 易涛 | CK149: =IF($C149="应届",($U149*0.25)/6,IF($C149="往届",($U149*0.5)/6,"NULL")) -> 3 | CL149: 央宗娜姆 | CM149: =IF($C149="应届",($U149*0.25)/6,IF($C149="往届",($U149*0.5)/6,"NULL")) -> 3 | CN149: 李永会 | CO149: =IF($C149="应届",($U149*0.25)/6,IF($C149="往届",($U149*0.5)/6,"NULL")) -> 3 | CP149: 周峰 | CQ149: =IF($C149="应届",($U149*0.25)/6,IF($C149="往届",($U149*0.5)/6,"NULL")) -> 3 | CR149: 何传英 | CS149: =IF($C149="应届",($U149*0.25)/6,IF($C149="往届",($U149*0.5)/6,"NULL")) -> 3 | CT149: 尼玛布池 | CU149: =IF($C149="应届",($U149*0.25)/6,IF($C149="往届",($U149*0.5)/6,"NULL")) -> 3
A150: 吴学康 | B150: 513422200712152512 | C150: 应届 | D150: 物理类 | F150: 0.2 | G150: 0 | H150: 97 | I150: 83 | J150: 80 | K150: 56 | L150: 78 | M150: 73 | N150: 0 | O150: 0 | P150: =ROUND(SUM(H150:O150),0) -> 467 | Q150: =IF(D150="物理类",IF(P150>=分数线!$C$2,"本科",""),IF(D150="历史类",IF(P150>=分数线!$C$3,"本科",""))) -> 本科 | R150: =IF(F150>0,IF(Q150="本科",(2-F150)*36,-(F150)*36),IF(Q150="本科",2*36,0)) -> 64.8 | S150: =IF(D150="物理类",IF(P150>=分数线!$C$6,"重本",""),IF(D150="历史类",IF(P150>=分数线!$C$7,"重本",""))) | T150: =IF(G150>0,IF(S150="重本",G150*72,-(G150)*72),IF(S150="重本",2*72,0)) -> 0 | U150: =R150+T150 -> 64.8 | V150: 3 | W150: 肖锐 | X150: =IF($C150="应届",($U150*0.1)/6,IF($C150="往届","","NULL")) -> 1.08 | Y150: 喇燕 | Z150: =IF($C150="应届",($U150*0.1)/6,IF($C150="往届","","NULL")) -> 1.08 | AA150: 浦恩玲 | AB150: =IF($C150="应届",($U150*0.1)/6,IF($C150="往届","","NULL")) -> 1.08 | AC150: 解超燕 | AD150: =IF($C150="应届",($U150*0.1)/6,IF($C150="往届","","NULL")) -> 1.08 | AE150: 马红琦 | AF150: =IF($C150="应届",($U150*0.1)/6,IF($C150="往届","","NULL")) -> 1.08 | AG150: 喇菊 | AH150: =IF($C150="应届",($U150*0.1)/6,IF($C150="往届","","NULL")) -> 1.08 | AI150: 3 | AJ150: 易涛 | AK150: =IF($C150="应届",($U150*0.1)/6,IF($C150="往届","","NULL")) -> 1.08 | AL150: 央宗娜姆 | AM150: =IF($C150="应届",($U150*0.1)/6,IF($C150="往届","","NULL")) -> 1.08 | AN150: 李永会 | AO150: =IF($C150="应届",($U150*0.1)/6,IF($C150="往届","","NULL")) -> 1.08 | AP150: 周峰 | AQ150: =IF($C150="应届",($U150*0.1)/6,IF($C150="往届","","NULL")) -> 1.08 | AR150: 黄萍 | AS150: =IF($C150="应届",($U150*0.1)/6,IF($C150="往届","","NULL")) -> 1.08 | AT150: 尼玛布池 | AU150: =IF($C150="应届",($U150*0.1)/6,IF($C150="往届","","NULL")) -> 1.08 | AV150: 3 | AW150: 易涛 | AX150: =IF($C150="应届",($U150*0.15)/6,IF($C150="往届","","NULL")) -> 1.62 | AY150: 央宗娜姆 | AZ150: =IF($C150="应届",($U150*0.15)/6,IF($C150="往届","","NULL")) -> 1.62 | BA150: 李永会 | BB150: =IF($C150="应届",($U150*0.15)/6,IF($C150="往届","","NULL")) -> 1.62 | BC150: 周峰 | BD150: =IF($C150="应届",($U150*0.15)/6,IF($C150="往届","","NULL")) -> 1.62 | BE150: 何传英 | BF150: =IF($C150="应届",($U150*0.15)/6,IF($C150="往届","","NULL")) -> 1.62 | BG150: 尼玛布池 | BH150: =IF($C150="应届",($U150*0.15)/6,IF($C150="往届","","NULL")) -> 1.62 | BI150: 3 | BJ150: 易涛 | BK150: =IF($C150="应届",($U150*0.15)/6,IF($C150="往届","","NULL")) -> 1.62 | BL150: 央宗娜姆 | BM150: =IF($C150="应届",($U150*0.15)/6,IF($C150="往届","","NULL")) -> 1.62 | BN150: 李永会 | BO150: =IF($C150="应届",($U150*0.15)/6,IF($C150="往届","","NULL")) -> 1.62 | BP150: 周峰 | BQ150: =IF($C150="应届",($U150*0.15)/6,IF($C150="往届","","NULL")) -> 1.62 | BR150: 何传英 | BS150: =IF($C150="应届",($U150*0.15)/6,IF($C150="往届","","NULL")) -> 1.62 | BT150: 尼玛布池 | BU150: =IF($C150="应届",($U150*0.15)/6,IF($C150="往届","","NULL")) -> 1.62 | BV150: 3 | BW150: 易涛 | BX150: =IF($C150="应届",($U150*0.25)/6,IF($C150="往届",($U150*0.5)/6,"NULL")) -> 2.7 | BY150: 央宗娜姆 | BZ150: =IF($C150="应届",($U150*0.25)/6,IF($C150="往届",($U150*0.5)/6,"NULL")) -> 2.7 | CA150: 李永会 | CB150: =IF($C150="应届",($U150*0.25)/6,IF($C150="往届",($U150*0.5)/6,"NULL")) -> 2.7 | CC150: 周峰 | CD150: =IF($C150="应届",($U150*0.25)/6,IF($C150="往届",($U150*0.5)/6,"NULL")) -> 2.7 | CE150: 何传英 | CF150: =IF($C150="应届",($U150*0.25)/6,IF($C150="往届",($U150*0.5)/6,"NULL")) -> 2.7 | CG150: 尼玛布池 | CH150: =IF($C150="应届",($U150*0.25)/6,IF($C150="往届",($U150*0.5)/6,"NULL")) -> 2.7 | CI150: 3 | CJ150: 易涛 | CK150: =IF($C150="应届",($U150*0.25)/6,IF($C150="往届",($U150*0.5)/6,"NULL")) -> 2.7 | CL150: 央宗娜姆 | CM150: =IF($C150="应届",($U150*0.25)/6,IF($C150="往届",($U150*0.5)/6,"NULL")) -> 2.7 | CN150: 李永会 | CO150: =IF($C150="应届",($U150*0.25)/6,IF($C150="往届",($U150*0.5)/6,"NULL")) -> 2.7 | CP150: 周峰 | CQ150: =IF($C150="应届",($U150*0.25)/6,IF($C150="往届",($U150*0.5)/6,"NULL")) -> 2.7 | CR150: 何传英 | CS150: =IF($C150="应届",($U150*0.25)/6,IF($C150="往届",($U150*0.5)/6,"NULL")) -> 2.7 | CT150: 尼玛布池 | CU150: =IF($C150="应届",($U150*0.25)/6,IF($C150="往届",($U150*0.5)/6,"NULL")) -> 2.7
A151: 熊芹芹 | B151: 513422200704242323 | C151: 应届 | D151: 物理类 | F151: 1 | G151: 0 | H151: 95 | I151: 95 | J151: 76 | K151: 43 | L151: 83 | M151: 75 | N151: 0 | O151: 0 | P151: =ROUND(SUM(H151:O151),0) -> 467 | Q151: =IF(D151="物理类",IF(P151>=分数线!$C$2,"本科",""),IF(D151="历史类",IF(P151>=分数线!$C$3,"本科",""))) -> 本科 | R151: =IF(F151>0,IF(Q151="本科",(2-F151)*36,-(F151)*36),IF(Q151="本科",2*36,0)) -> 36 | S151: =IF(D151="物理类",IF(P151>=分数线!$C$6,"重本",""),IF(D151="历史类",IF(P151>=分数线!$C$7,"重本",""))) | T151: =IF(G151>0,IF(S151="重本",G151*72,-(G151)*72),IF(S151="重本",2*72,0)) -> 0 | U151: =R151+T151 -> 36 | V151: 3 | W151: 易涛 | X151: =IF($C151="应届",($U151*0.1)/6,IF($C151="往届","","NULL")) -> 0.6 | Y151: 央宗娜姆 | Z151: =IF($C151="应届",($U151*0.1)/6,IF($C151="往届","","NULL")) -> 0.6 | AA151: 李永会 | AB151: =IF($C151="应届",($U151*0.1)/6,IF($C151="往届","","NULL")) -> 0.6 | AC151: 周峰 | AD151: =IF($C151="应届",($U151*0.1)/6,IF($C151="往届","","NULL")) -> 0.6 | AE151: 黄萍 | AF151: =IF($C151="应届",($U151*0.1)/6,IF($C151="往届","","NULL")) -> 0.6 | AG151: 尼玛布池 | AH151: =IF($C151="应届",($U151*0.1)/6,IF($C151="往届","","NULL")) -> 0.6 | AI151: 3 | AJ151: 易涛 | AK151: =IF($C151="应届",($U151*0.1)/6,IF($C151="往届","","NULL")) -> 0.6 | AL151: 央宗娜姆 | AM151: =IF($C151="应届",($U151*0.1)/6,IF($C151="往届","","NULL")) -> 0.6 | AN151: 李永会 | AO151: =IF($C151="应届",($U151*0.1)/6,IF($C151="往届","","NULL")) -> 0.6 | AP151: 周峰 | AQ151: =IF($C151="应届",($U151*0.1)/6,IF($C151="往届","","NULL")) -> 0.6 | AR151: 黄萍 | AS151: =IF($C151="应届",($U151*0.1)/6,IF($C151="往届","","NULL")) -> 0.6 | AT151: 尼玛布池 | AU151: =IF($C151="应届",($U151*0.1)/6,IF($C151="往届","","NULL")) -> 0.6 | AV151: 3 | AW151: 易涛 | AX151: =IF($C151="应届",($U151*0.15)/6,IF($C151="往届","","NULL")) -> 0.9 | AY151: 央宗娜姆 | AZ151: =IF($C151="应届",($U151*0.15)/6,IF($C151="往届","","NULL")) -> 0.9 | BA151: 李永会 | BB151: =IF($C151="应届",($U151*0.15)/6,IF($C151="往届","","NULL")) -> 0.9 | BC151: 周峰 | BD151: =IF($C151="应届",($U151*0.15)/6,IF($C151="往届","","NULL")) -> 0.9 | BE151: 何传英 | BF151: =IF($C151="应届",($U151*0.15)/6,IF($C151="往届","","NULL")) -> 0.9 | BG151: 尼玛布池 | BH151: =IF($C151="应届",($U151*0.15)/6,IF($C151="往届","","NULL")) -> 0.9 | BI151: 3 | BJ151: 易涛 | BK151: =IF($C151="应届",($U151*0.15)/6,IF($C151="往届","","NULL")) -> 0.9 | BL151: 央宗娜姆 | BM151: =IF($C151="应届",($U151*0.15)/6,IF($C151="往届","","NULL")) -> 0.9 | BN151: 李永会 | BO151: =IF($C151="应届",($U151*0.15)/6,IF($C151="往届","","NULL")) -> 0.9 | BP151: 周峰 | BQ151: =IF($C151="应届",($U151*0.15)/6,IF($C151="往届","","NULL")) -> 0.9 | BR151: 何传英 | BS151: =IF($C151="应届",($U151*0.15)/6,IF($C151="往届","","NULL")) -> 0.9 | BT151: 尼玛布池 | BU151: =IF($C151="应届",($U151*0.15)/6,IF($C151="往届","","NULL")) -> 0.9 | BV151: 3 | BW151: 易涛 | BX151: =IF($C151="应届",($U151*0.25)/6,IF($C151="往届",($U151*0.5)/6,"NULL")) -> 1.5 | BY151: 央宗娜姆 | BZ151: =IF($C151="应届",($U151*0.25)/6,IF($C151="往届",($U151*0.5)/6,"NULL")) -> 1.5 | CA151: 李永会 | CB151: =IF($C151="应届",($U151*0.25)/6,IF($C151="往届",($U151*0.5)/6,"NULL")) -> 1.5 | CC151: 周峰 | CD151: =IF($C151="应届",($U151*0.25)/6,IF($C151="往届",($U151*0.5)/6,"NULL")) -> 1.5 | CE151: 何传英 | CF151: =IF($C151="应届",($U151*0.25)/6,IF($C151="往届",($U151*0.5)/6,"NULL")) -> 1.5 | CG151: 尼玛布池 | CH151: =IF($C151="应届",($U151*0.25)/6,IF($C151="往届",($U151*0.5)/6,"NULL")) -> 1.5 | CI151: 3 | CJ151: 易涛 | CK151: =IF($C151="应届",($U151*0.25)/6,IF($C151="往届",($U151*0.5)/6,"NULL")) -> 1.5 | CL151: 央宗娜姆 | CM151: =IF($C151="应届",($U151*0.25)/6,IF($C151="往届",($U151*0.5)/6,"NULL")) -> 1.5 | CN151: 李永会 | CO151: =IF($C151="应届",($U151*0.25)/6,IF($C151="往届",($U151*0.5)/6,"NULL")) -> 1.5 | CP151: 周峰 | CQ151: =IF($C151="应届",($U151*0.25)/6,IF($C151="往届",($U151*0.5)/6,"NULL")) -> 1.5 | CR151: 何传英 | CS151: =IF($C151="应届",($U151*0.25)/6,IF($C151="往届",($U151*0.5)/6,"NULL")) -> 1.5 | CT151: 尼玛布池 | CU151: =IF($C151="应届",($U151*0.25)/6,IF($C151="往届",($U151*0.5)/6,"NULL")) -> 1.5
A152: 乔建英 | B152: 51342220070125154X | C152: 应届 | D152: 物理类 | F152: 0.6 | G152: 0 | H152: 91 | I152: 104 | J152: 91 | K152: 41 | L152: 75 | M152: 63 | N152: 0 | O152: 0 | P152: =ROUND(SUM(H152:O152),0) -> 465 | Q152: =IF(D152="物理类",IF(P152>=分数线!$C$2,"本科",""),IF(D152="历史类",IF(P152>=分数线!$C$3,"本科",""))) -> 本科 | R152: =IF(F152>0,IF(Q152="本科",(2-F152)*36,-(F152)*36),IF(Q152="本科",2*36,0)) -> 50.4 | S152: =IF(D152="物理类",IF(P152>=分数线!$C$6,"重本",""),IF(D152="历史类",IF(P152>=分数线!$C$7,"重本",""))) | T152: =IF(G152>0,IF(S152="重本",G152*72,-(G152)*72),IF(S152="重本",2*72,0)) -> 0 | U152: =R152+T152 -> 50.4 | V152: 3 | W152: 易涛 | X152: =IF($C152="应届",($U152*0.1)/6,IF($C152="往届","","NULL")) -> 0.84 | Y152: 央宗娜姆 | Z152: =IF($C152="应届",($U152*0.1)/6,IF($C152="往届","","NULL")) -> 0.84 | AA152: 李永会 | AB152: =IF($C152="应届",($U152*0.1)/6,IF($C152="往届","","NULL")) -> 0.84 | AC152: 周峰 | AD152: =IF($C152="应届",($U152*0.1)/6,IF($C152="往届","","NULL")) -> 0.84 | AE152: 黄萍 | AF152: =IF($C152="应届",($U152*0.1)/6,IF($C152="往届","","NULL")) -> 0.84 | AG152: 尼玛布池 | AH152: =IF($C152="应届",($U152*0.1)/6,IF($C152="往届","","NULL")) -> 0.84 | AI152: 3 | AJ152: 易涛 | AK152: =IF($C152="应届",($U152*0.1)/6,IF($C152="往届","","NULL")) -> 0.84 | AL152: 央宗娜姆 | AM152: =IF($C152="应届",($U152*0.1)/6,IF($C152="往届","","NULL")) -> 0.84 | AN152: 李永会 | AO152: =IF($C152="应届",($U152*0.1)/6,IF($C152="往届","","NULL")) -> 0.84 | AP152: 周峰 | AQ152: =IF($C152="应届",($U152*0.1)/6,IF($C152="往届","","NULL")) -> 0.84 | AR152: 黄萍 | AS152: =IF($C152="应届",($U152*0.1)/6,IF($C152="往届","","NULL")) -> 0.84 | AT152: 尼玛布池 | AU152: =IF($C152="应届",($U152*0.1)/6,IF($C152="往届","","NULL")) -> 0.84 | AV152: 3 | AW152: 易涛 | AX152: =IF($C152="应届",($U152*0.15)/6,IF($C152="往届","","NULL")) -> 1.26 | AY152: 央宗娜姆 | AZ152: =IF($C152="应届",($U152*0.15)/6,IF($C152="往届","","NULL")) -> 1.26 | BA152: 李永会 | BB152: =IF($C152="应届",($U152*0.15)/6,IF($C152="往届","","NULL")) -> 1.26 | BC152: 周峰 | BD152: =IF($C152="应届",($U152*0.15)/6,IF($C152="往届","","NULL")) -> 1.26 | BE152: 何传英 | BF152: =IF($C152="应届",($U152*0.15)/6,IF($C152="往届","","NULL")) -> 1.26 | BG152: 尼玛布池 | BH152: =IF($C152="应届",($U152*0.15)/6,IF($C152="往届","","NULL")) -> 1.26 | BI152: 3 | BJ152: 易涛 | BK152: =IF($C152="应届",($U152*0.15)/6,IF($C152="往届","","NULL")) -> 1.26 | BL152: 央宗娜姆 | BM152: =IF($C152="应届",($U152*0.15)/6,IF($C152="往届","","NULL")) -> 1.26 | BN152: 李永会 | BO152: =IF($C152="应届",($U152*0.15)/6,IF($C152="往届","","NULL")) -> 1.26 | BP152: 周峰 | BQ152: =IF($C152="应届",($U152*0.15)/6,IF($C152="往届","","NULL")) -> 1.26 | BR152: 何传英 | BS152: =IF($C152="应届",($U152*0.15)/6,IF($C152="往届","","NULL")) -> 1.26 | BT152: 尼玛布池 | BU152: =IF($C152="应届",($U152*0.15)/6,IF($C152="往届","","NULL")) -> 1.26 | BV152: 3 | BW152: 易涛 | BX152: =IF($C152="应届",($U152*0.25)/6,IF($C152="往届",($U152*0.5)/6,"NULL")) -> 2.1 | BY152: 央宗娜姆 | BZ152: =IF($C152="应届",($U152*0.25)/6,IF($C152="往届",($U152*0.5)/6,"NULL")) -> 2.1 | CA152: 李永会 | CB152: =IF($C152="应届",($U152*0.25)/6,IF($C152="往届",($U152*0.5)/6,"NULL")) -> 2.1 | CC152: 周峰 | CD152: =IF($C152="应届",($U152*0.25)/6,IF($C152="往届",($U152*0.5)/6,"NULL")) -> 2.1 | CE152: 何传英 | CF152: =IF($C152="应届",($U152*0.25)/6,IF($C152="往届",($U152*0.5)/6,"NULL")) -> 2.1 | CG152: 尼玛布池 | CH152: =IF($C152="应届",($U152*0.25)/6,IF($C152="往届",($U152*0.5)/6,"NULL")) -> 2.1 | CI152: 3 | CJ152: 易涛 | CK152: =IF($C152="应届",($U152*0.25)/6,IF($C152="往届",($U152*0.5)/6,"NULL")) -> 2.1 | CL152: 央宗娜姆 | CM152: =IF($C152="应届",($U152*0.25)/6,IF($C152="往届",($U152*0.5)/6,"NULL")) -> 2.1 | CN152: 李永会 | CO152: =IF($C152="应届",($U152*0.25)/6,IF($C152="往届",($U152*0.5)/6,"NULL")) -> 2.1 | CP152: 周峰 | CQ152: =IF($C152="应届",($U152*0.25)/6,IF($C152="往届",($U152*0.5)/6,"NULL")) -> 2.1 | CR152: 何传英 | CS152: =IF($C152="应届",($U152*0.25)/6,IF($C152="往届",($U152*0.5)/6,"NULL")) -> 2.1 | CT152: 尼玛布池 | CU152: =IF($C152="应届",($U152*0.25)/6,IF($C152="往届",($U152*0.5)/6,"NULL")) -> 2.1
A153: 马志雄 | B153: 513422200301156818 | C153: 应届 | D153: 物理类 | F153: 0.7 | G153: 0 | H153: 104 | I153: 96 | J153: 67 | K153: 57 | L153: 67 | M153: 73 | N153: 0 | O153: 0 | P153: =ROUND(SUM(H153:O153),0) -> 464 | Q153: =IF(D153="物理类",IF(P153>=分数线!$C$2,"本科",""),IF(D153="历史类",IF(P153>=分数线!$C$3,"本科",""))) -> 本科 | R153: =IF(F153>0,IF(Q153="本科",(2-F153)*36,-(F153)*36),IF(Q153="本科",2*36,0)) -> 46.8 | S153: =IF(D153="物理类",IF(P153>=分数线!$C$6,"重本",""),IF(D153="历史类",IF(P153>=分数线!$C$7,"重本",""))) | T153: =IF(G153>0,IF(S153="重本",G153*72,-(G153)*72),IF(S153="重本",2*72,0)) -> 0 | U153: =R153+T153 -> 46.8 | V153: 3 | W153: 易涛 | X153: =IF($C153="应届",($U153*0.1)/6,IF($C153="往届","","NULL")) -> 0.78 | Y153: 央宗娜姆 | Z153: =IF($C153="应届",($U153*0.1)/6,IF($C153="往届","","NULL")) -> 0.78 | AA153: 李永会 | AB153: =IF($C153="应届",($U153*0.1)/6,IF($C153="往届","","NULL")) -> 0.78 | AC153: 周峰 | AD153: =IF($C153="应届",($U153*0.1)/6,IF($C153="往届","","NULL")) -> 0.78 | AE153: 黄萍 | AF153: =IF($C153="应届",($U153*0.1)/6,IF($C153="往届","","NULL")) -> 0.78 | AG153: 尼玛布池 | AH153: =IF($C153="应届",($U153*0.1)/6,IF($C153="往届","","NULL")) -> 0.78 | AI153: 3 | AJ153: 易涛 | AK153: =IF($C153="应届",($U153*0.1)/6,IF($C153="往届","","NULL")) -> 0.78 | AL153: 央宗娜姆 | AM153: =IF($C153="应届",($U153*0.1)/6,IF($C153="往届","","NULL")) -> 0.78 | AN153: 李永会 | AO153: =IF($C153="应届",($U153*0.1)/6,IF($C153="往届","","NULL")) -> 0.78 | AP153: 周峰 | AQ153: =IF($C153="应届",($U153*0.1)/6,IF($C153="往届","","NULL")) -> 0.78 | AR153: 黄萍 | AS153: =IF($C153="应届",($U153*0.1)/6,IF($C153="往届","","NULL")) -> 0.78 | AT153: 尼玛布池 | AU153: =IF($C153="应届",($U153*0.1)/6,IF($C153="往届","","NULL")) -> 0.78 | AV153: 3 | AW153: 易涛 | AX153: =IF($C153="应届",($U153*0.15)/6,IF($C153="往届","","NULL")) -> 1.17 | AY153: 央宗娜姆 | AZ153: =IF($C153="应届",($U153*0.15)/6,IF($C153="往届","","NULL")) -> 1.17 | BA153: 李永会 | BB153: =IF($C153="应届",($U153*0.15)/6,IF($C153="往届","","NULL")) -> 1.17 | BC153: 周峰 | BD153: =IF($C153="应届",($U153*0.15)/6,IF($C153="往届","","NULL")) -> 1.17 | BE153: 何传英 | BF153: =IF($C153="应届",($U153*0.15)/6,IF($C153="往届","","NULL")) -> 1.17 | BG153: 尼玛布池 | BH153: =IF($C153="应届",($U153*0.15)/6,IF($C153="往届","","NULL")) -> 1.17 | BI153: 3 | BJ153: 易涛 | BK153: =IF($C153="应届",($U153*0.15)/6,IF($C153="往届","","NULL")) -> 1.17 | BL153: 央宗娜姆 | BM153: =IF($C153="应届",($U153*0.15)/6,IF($C153="往届","","NULL")) -> 1.17 | BN153: 李永会 | BO153: =IF($C153="应届",($U153*0.15)/6,IF($C153="往届","","NULL")) -> 1.17 | BP153: 周峰 | BQ153: =IF($C153="应届",($U153*0.15)/6,IF($C153="往届","","NULL")) -> 1.17 | BR153: 何传英 | BS153: =IF($C153="应届",($U153*0.15)/6,IF($C153="往届","","NULL")) -> 1.17 | BT153: 尼玛布池 | BU153: =IF($C153="应届",($U153*0.15)/6,IF($C153="往届","","NULL")) -> 1.17 | BV153: 3 | BW153: 易涛 | BX153: =IF($C153="应届",($U153*0.25)/6,IF($C153="往届",($U153*0.5)/6,"NULL")) -> 1.95 | BY153: 央宗娜姆 | BZ153: =IF($C153="应届",($U153*0.25)/6,IF($C153="往届",($U153*0.5)/6,"NULL")) -> 1.95 | CA153: 李永会 | CB153: =IF($C153="应届",($U153*0.25)/6,IF($C153="往届",($U153*0.5)/6,"NULL")) -> 1.95 | CC153: 周峰 | CD153: =IF($C153="应届",($U153*0.25)/6,IF($C153="往届",($U153*0.5)/6,"NULL")) -> 1.95 | CE153: 何传英 | CF153: =IF($C153="应届",($U153*0.25)/6,IF($C153="往届",($U153*0.5)/6,"NULL")) -> 1.95 | CG153: 尼玛布池 | CH153: =IF($C153="应届",($U153*0.25)/6,IF($C153="往届",($U153*0.5)/6,"NULL")) -> 1.95 | CI153: 3 | CJ153: 易涛 | CK153: =IF($C153="应届",($U153*0.25)/6,IF($C153="往届",($U153*0.5)/6,"NULL")) -> 1.95 | CL153: 央宗娜姆 | CM153: =IF($C153="应届",($U153*0.25)/6,IF($C153="往届",($U153*0.5)/6,"NULL")) -> 1.95 | CN153: 李永会 | CO153: =IF($C153="应届",($U153*0.25)/6,IF($C153="往届",($U153*0.5)/6,"NULL")) -> 1.95 | CP153: 周峰 | CQ153: =IF($C153="应届",($U153*0.25)/6,IF($C153="往届",($U153*0.5)/6,"NULL")) -> 1.95 | CR153: 何传英 | CS153: =IF($C153="应届",($U153*0.25)/6,IF($C153="往届",($U153*0.5)/6,"NULL")) -> 1.95 | CT153: 尼玛布池 | CU153: =IF($C153="应届",($U153*0.25)/6,IF($C153="往届",($U153*0.5)/6,"NULL")) -> 1.95
A154: 尼玛扎西 | B154: 513422200809063815 | C154: 应届 | D154: 物理类 | F154: 1 | G154: 0 | H154: 102 | I154: 83 | J154: 99 | K154: 36 | L154: 76 | M154: 64 | N154: 0 | O154: 0 | P154: =ROUND(SUM(H154:O154),0) -> 460 | Q154: =IF(D154="物理类",IF(P154>=分数线!$C$2,"本科",""),IF(D154="历史类",IF(P154>=分数线!$C$3,"本科",""))) -> 本科 | R154: =IF(F154>0,IF(Q154="本科",(2-F154)*36,-(F154)*36),IF(Q154="本科",2*36,0)) -> 36 | S154: =IF(D154="物理类",IF(P154>=分数线!$C$6,"重本",""),IF(D154="历史类",IF(P154>=分数线!$C$7,"重本",""))) | T154: =IF(G154>0,IF(S154="重本",G154*72,-(G154)*72),IF(S154="重本",2*72,0)) -> 0 | U154: =R154+T154 -> 36 | V154: 3 | W154: 肖锐 | X154: =IF($C154="应届",($U154*0.1)/6,IF($C154="往届","","NULL")) -> 0.6 | Y154: 喇燕 | Z154: =IF($C154="应届",($U154*0.1)/6,IF($C154="往届","","NULL")) -> 0.6 | AA154: 浦恩玲 | AB154: =IF($C154="应届",($U154*0.1)/6,IF($C154="往届","","NULL")) -> 0.6 | AC154: 解超燕 | AD154: =IF($C154="应届",($U154*0.1)/6,IF($C154="往届","","NULL")) -> 0.6 | AE154: 马红琦 | AF154: =IF($C154="应届",($U154*0.1)/6,IF($C154="往届","","NULL")) -> 0.6 | AG154: 喇菊 | AH154: =IF($C154="应届",($U154*0.1)/6,IF($C154="往届","","NULL")) -> 0.6 | AI154: 3 | AJ154: 易涛 | AK154: =IF($C154="应届",($U154*0.1)/6,IF($C154="往届","","NULL")) -> 0.6 | AL154: 央宗娜姆 | AM154: =IF($C154="应届",($U154*0.1)/6,IF($C154="往届","","NULL")) -> 0.6 | AN154: 李永会 | AO154: =IF($C154="应届",($U154*0.1)/6,IF($C154="往届","","NULL")) -> 0.6 | AP154: 周峰 | AQ154: =IF($C154="应届",($U154*0.1)/6,IF($C154="往届","","NULL")) -> 0.6 | AR154: 黄萍 | AS154: =IF($C154="应届",($U154*0.1)/6,IF($C154="往届","","NULL")) -> 0.6 | AT154: 尼玛布池 | AU154: =IF($C154="应届",($U154*0.1)/6,IF($C154="往届","","NULL")) -> 0.6 | AV154: 3 | AW154: 易涛 | AX154: =IF($C154="应届",($U154*0.15)/6,IF($C154="往届","","NULL")) -> 0.9 | AY154: 央宗娜姆 | AZ154: =IF($C154="应届",($U154*0.15)/6,IF($C154="往届","","NULL")) -> 0.9 | BA154: 李永会 | BB154: =IF($C154="应届",($U154*0.15)/6,IF($C154="往届","","NULL")) -> 0.9 | BC154: 周峰 | BD154: =IF($C154="应届",($U154*0.15)/6,IF($C154="往届","","NULL")) -> 0.9 | BE154: 何传英 | BF154: =IF($C154="应届",($U154*0.15)/6,IF($C154="往届","","NULL")) -> 0.9 | BG154: 尼玛布池 | BH154: =IF($C154="应届",($U154*0.15)/6,IF($C154="往届","","NULL")) -> 0.9 | BI154: 3 | BJ154: 易涛 | BK154: =IF($C154="应届",($U154*0.15)/6,IF($C154="往届","","NULL")) -> 0.9 | BL154: 央宗娜姆 | BM154: =IF($C154="应届",($U154*0.15)/6,IF($C154="往届","","NULL")) -> 0.9 | BN154: 李永会 | BO154: =IF($C154="应届",($U154*0.15)/6,IF($C154="往届","","NULL")) -> 0.9 | BP154: 周峰 | BQ154: =IF($C154="应届",($U154*0.15)/6,IF($C154="往届","","NULL")) -> 0.9 | BR154: 何传英 | BS154: =IF($C154="应届",($U154*0.15)/6,IF($C154="往届","","NULL")) -> 0.9 | BT154: 尼玛布池 | BU154: =IF($C154="应届",($U154*0.15)/6,IF($C154="往届","","NULL")) -> 0.9 | BV154: 3 | BW154: 易涛 | BX154: =IF($C154="应届",($U154*0.25)/6,IF($C154="往届",($U154*0.5)/6,"NULL")) -> 1.5 | BY154: 央宗娜姆 | BZ154: =IF($C154="应届",($U154*0.25)/6,IF($C154="往届",($U154*0.5)/6,"NULL")) -> 1.5 | CA154: 李永会 | CB154: =IF($C154="应届",($U154*0.25)/6,IF($C154="往届",($U154*0.5)/6,"NULL")) -> 1.5 | CC154: 周峰 | CD154: =IF($C154="应届",($U154*0.25)/6,IF($C154="往届",($U154*0.5)/6,"NULL")) -> 1.5 | CE154: 何传英 | CF154: =IF($C154="应届",($U154*0.25)/6,IF($C154="往届",($U154*0.5)/6,"NULL")) -> 1.5 | CG154: 尼玛布池 | CH154: =IF($C154="应届",($U154*0.25)/6,IF($C154="往届",($U154*0.5)/6,"NULL")) -> 1.5 | CI154: 3 | CJ154: 易涛 | CK154: =IF($C154="应届",($U154*0.25)/6,IF($C154="往届",($U154*0.5)/6,"NULL")) -> 1.5 | CL154: 央宗娜姆 | CM154: =IF($C154="应届",($U154*0.25)/6,IF($C154="往届",($U154*0.5)/6,"NULL")) -> 1.5 | CN154: 李永会 | CO154: =IF($C154="应届",($U154*0.25)/6,IF($C154="往届",($U154*0.5)/6,"NULL")) -> 1.5 | CP154: 周峰 | CQ154: =IF($C154="应届",($U154*0.25)/6,IF($C154="往届",($U154*0.5)/6,"NULL")) -> 1.5 | CR154: 何传英 | CS154: =IF($C154="应届",($U154*0.25)/6,IF($C154="往届",($U154*0.5)/6,"NULL")) -> 1.5 | CT154: 尼玛布池 | CU154: =IF($C154="应届",($U154*0.25)/6,IF($C154="往届",($U154*0.5)/6,"NULL")) -> 1.5
A155: 仁争龙布 | B155: 51342220060621031X | C155: 应届 | D155: 物理类 | F155: 1 | G155: 0 | H155: 98 | I155: 86 | J155: 101 | K155: 50 | L155: 54 | M155: 71 | N155: 0 | O155: 0 | P155: =ROUND(SUM(H155:O155),0) -> 460 | Q155: =IF(D155="物理类",IF(P155>=分数线!$C$2,"本科",""),IF(D155="历史类",IF(P155>=分数线!$C$3,"本科",""))) -> 本科 | R155: =IF(F155>0,IF(Q155="本科",(2-F155)*36,-(F155)*36),IF(Q155="本科",2*36,0)) -> 36 | S155: =IF(D155="物理类",IF(P155>=分数线!$C$6,"重本",""),IF(D155="历史类",IF(P155>=分数线!$C$7,"重本",""))) | T155: =IF(G155>0,IF(S155="重本",G155*72,-(G155)*72),IF(S155="重本",2*72,0)) -> 0 | U155: =R155+T155 -> 36 | V155: 3 | W155: 易涛 | X155: =IF($C155="应届",($U155*0.1)/6,IF($C155="往届","","NULL")) -> 0.6 | Y155: 央宗娜姆 | Z155: =IF($C155="应届",($U155*0.1)/6,IF($C155="往届","","NULL")) -> 0.6 | AA155: 李永会 | AB155: =IF($C155="应届",($U155*0.1)/6,IF($C155="往届","","NULL")) -> 0.6 | AC155: 周峰 | AD155: =IF($C155="应届",($U155*0.1)/6,IF($C155="往届","","NULL")) -> 0.6 | AE155: 黄萍 | AF155: =IF($C155="应届",($U155*0.1)/6,IF($C155="往届","","NULL")) -> 0.6 | AG155: 尼玛布池 | AH155: =IF($C155="应届",($U155*0.1)/6,IF($C155="往届","","NULL")) -> 0.6 | AI155: 3 | AJ155: 易涛 | AK155: =IF($C155="应届",($U155*0.1)/6,IF($C155="往届","","NULL")) -> 0.6 | AL155: 央宗娜姆 | AM155: =IF($C155="应届",($U155*0.1)/6,IF($C155="往届","","NULL")) -> 0.6 | AN155: 李永会 | AO155: =IF($C155="应届",($U155*0.1)/6,IF($C155="往届","","NULL")) -> 0.6 | AP155: 周峰 | AQ155: =IF($C155="应届",($U155*0.1)/6,IF($C155="往届","","NULL")) -> 0.6 | AR155: 黄萍 | AS155: =IF($C155="应届",($U155*0.1)/6,IF($C155="往届","","NULL")) -> 0.6 | AT155: 尼玛布池 | AU155: =IF($C155="应届",($U155*0.1)/6,IF($C155="往届","","NULL")) -> 0.6 | AV155: 3 | AW155: 易涛 | AX155: =IF($C155="应届",($U155*0.15)/6,IF($C155="往届","","NULL")) -> 0.9 | AY155: 央宗娜姆 | AZ155: =IF($C155="应届",($U155*0.15)/6,IF($C155="往届","","NULL")) -> 0.9 | BA155: 李永会 | BB155: =IF($C155="应届",($U155*0.15)/6,IF($C155="往届","","NULL")) -> 0.9 | BC155: 周峰 | BD155: =IF($C155="应届",($U155*0.15)/6,IF($C155="往届","","NULL")) -> 0.9 | BE155: 何传英 | BF155: =IF($C155="应届",($U155*0.15)/6,IF($C155="往届","","NULL")) -> 0.9 | BG155: 尼玛布池 | BH155: =IF($C155="应届",($U155*0.15)/6,IF($C155="往届","","NULL")) -> 0.9 | BI155: 3 | BJ155: 易涛 | BK155: =IF($C155="应届",($U155*0.15)/6,IF($C155="往届","","NULL")) -> 0.9 | BL155: 央宗娜姆 | BM155: =IF($C155="应届",($U155*0.15)/6,IF($C155="往届","","NULL")) -> 0.9 | BN155: 李永会 | BO155: =IF($C155="应届",($U155*0.15)/6,IF($C155="往届","","NULL")) -> 0.9 | BP155: 周峰 | BQ155: =IF($C155="应届",($U155*0.15)/6,IF($C155="往届","","NULL")) -> 0.9 | BR155: 何传英 | BS155: =IF($C155="应届",($U155*0.15)/6,IF($C155="往届","","NULL")) -> 0.9 | BT155: 尼玛布池 | BU155: =IF($C155="应届",($U155*0.15)/6,IF($C155="往届","","NULL")) -> 0.9 | BV155: 3 | BW155: 易涛 | BX155: =IF($C155="应届",($U155*0.25)/6,IF($C155="往届",($U155*0.5)/6,"NULL")) -> 1.5 | BY155: 央宗娜姆 | BZ155: =IF($C155="应届",($U155*0.25)/6,IF($C155="往届",($U155*0.5)/6,"NULL")) -> 1.5 | CA155: 李永会 | CB155: =IF($C155="应届",($U155*0.25)/6,IF($C155="往届",($U155*0.5)/6,"NULL")) -> 1.5 | CC155: 周峰 | CD155: =IF($C155="应届",($U155*0.25)/6,IF($C155="往届",($U155*0.5)/6,"NULL")) -> 1.5 | CE155: 何传英 | CF155: =IF($C155="应届",($U155*0.25)/6,IF($C155="往届",($U155*0.5)/6,"NULL")) -> 1.5 | CG155: 尼玛布池 | CH155: =IF($C155="应届",($U155*0.25)/6,IF($C155="往届",($U155*0.5)/6,"NULL")) -> 1.5 | CI155: 3 | CJ155: 易涛 | CK155: =IF($C155="应届",($U155*0.25)/6,IF($C155="往届",($U155*0.5)/6,"NULL")) -> 1.5 | CL155: 央宗娜姆 | CM155: =IF($C155="应届",($U155*0.25)/6,IF($C155="往届",($U155*0.5)/6,"NULL")) -> 1.5 | CN155: 李永会 | CO155: =IF($C155="应届",($U155*0.25)/6,IF($C155="往届",($U155*0.5)/6,"NULL")) -> 1.5 | CP155: 周峰 | CQ155: =IF($C155="应届",($U155*0.25)/6,IF($C155="往届",($U155*0.5)/6,"NULL")) -> 1.5 | CR155: 何传英 | CS155: =IF($C155="应届",($U155*0.25)/6,IF($C155="往届",($U155*0.5)/6,"NULL")) -> 1.5 | CT155: 尼玛布池 | CU155: =IF($C155="应届",($U155*0.25)/6,IF($C155="往届",($U155*0.5)/6,"NULL")) -> 1.5
A156: 扎拉 | B156: 513422200801254211 | C156: 应届 | D156: 物理类 | F156: 1 | G156: 0 | H156: 95 | I156: 82 | J156: 93 | K156: 46 | L156: 77 | M156: 65 | N156: 0 | O156: 0 | P156: =ROUND(SUM(H156:O156),0) -> 458 | Q156: =IF(D156="物理类",IF(P156>=分数线!$C$2,"本科",""),IF(D156="历史类",IF(P156>=分数线!$C$3,"本科",""))) -> 本科 | R156: =IF(F156>0,IF(Q156="本科",(2-F156)*36,-(F156)*36),IF(Q156="本科",2*36,0)) -> 36 | S156: =IF(D156="物理类",IF(P156>=分数线!$C$6,"重本",""),IF(D156="历史类",IF(P156>=分数线!$C$7,"重本",""))) | T156: =IF(G156>0,IF(S156="重本",G156*72,-(G156)*72),IF(S156="重本",2*72,0)) -> 0 | U156: =R156+T156 -> 36 | V156: 3 | W156: 易涛 | X156: =IF($C156="应届",($U156*0.1)/6,IF($C156="往届","","NULL")) -> 0.6 | Y156: 央宗娜姆 | Z156: =IF($C156="应届",($U156*0.1)/6,IF($C156="往届","","NULL")) -> 0.6 | AA156: 李永会 | AB156: =IF($C156="应届",($U156*0.1)/6,IF($C156="往届","","NULL")) -> 0.6 | AC156: 周峰 | AD156: =IF($C156="应届",($U156*0.1)/6,IF($C156="往届","","NULL")) -> 0.6 | AE156: 黄萍 | AF156: =IF($C156="应届",($U156*0.1)/6,IF($C156="往届","","NULL")) -> 0.6 | AG156: 尼玛布池 | AH156: =IF($C156="应届",($U156*0.1)/6,IF($C156="往届","","NULL")) -> 0.6 | AI156: 3 | AJ156: 易涛 | AK156: =IF($C156="应届",($U156*0.1)/6,IF($C156="往届","","NULL")) -> 0.6 | AL156: 央宗娜姆 | AM156: =IF($C156="应届",($U156*0.1)/6,IF($C156="往届","","NULL")) -> 0.6 | AN156: 李永会 | AO156: =IF($C156="应届",($U156*0.1)/6,IF($C156="往届","","NULL")) -> 0.6 | AP156: 周峰 | AQ156: =IF($C156="应届",($U156*0.1)/6,IF($C156="往届","","NULL")) -> 0.6 | AR156: 黄萍 | AS156: =IF($C156="应届",($U156*0.1)/6,IF($C156="往届","","NULL")) -> 0.6 | AT156: 尼玛布池 | AU156: =IF($C156="应届",($U156*0.1)/6,IF($C156="往届","","NULL")) -> 0.6 | AV156: 3 | AW156: 易涛 | AX156: =IF($C156="应届",($U156*0.15)/6,IF($C156="往届","","NULL")) -> 0.9 | AY156: 央宗娜姆 | AZ156: =IF($C156="应届",($U156*0.15)/6,IF($C156="往届","","NULL")) -> 0.9 | BA156: 李永会 | BB156: =IF($C156="应届",($U156*0.15)/6,IF($C156="往届","","NULL")) -> 0.9 | BC156: 周峰 | BD156: =IF($C156="应届",($U156*0.15)/6,IF($C156="往届","","NULL")) -> 0.9 | BE156: 何传英 | BF156: =IF($C156="应届",($U156*0.15)/6,IF($C156="往届","","NULL")) -> 0.9 | BG156: 尼玛布池 | BH156: =IF($C156="应届",($U156*0.15)/6,IF($C156="往届","","NULL")) -> 0.9 | BI156: 3 | BJ156: 易涛 | BK156: =IF($C156="应届",($U156*0.15)/6,IF($C156="往届","","NULL")) -> 0.9 | BL156: 央宗娜姆 | BM156: =IF($C156="应届",($U156*0.15)/6,IF($C156="往届","","NULL")) -> 0.9 | BN156: 李永会 | BO156: =IF($C156="应届",($U156*0.15)/6,IF($C156="往届","","NULL")) -> 0.9 | BP156: 周峰 | BQ156: =IF($C156="应届",($U156*0.15)/6,IF($C156="往届","","NULL")) -> 0.9 | BR156: 何传英 | BS156: =IF($C156="应届",($U156*0.15)/6,IF($C156="往届","","NULL")) -> 0.9 | BT156: 尼玛布池 | BU156: =IF($C156="应届",($U156*0.15)/6,IF($C156="往届","","NULL")) -> 0.9 | BV156: 3 | BW156: 易涛 | BX156: =IF($C156="应届",($U156*0.25)/6,IF($C156="往届",($U156*0.5)/6,"NULL")) -> 1.5 | BY156: 央宗娜姆 | BZ156: =IF($C156="应届",($U156*0.25)/6,IF($C156="往届",($U156*0.5)/6,"NULL")) -> 1.5 | CA156: 李永会 | CB156: =IF($C156="应届",($U156*0.25)/6,IF($C156="往届",($U156*0.5)/6,"NULL")) -> 1.5 | CC156: 周峰 | CD156: =IF($C156="应届",($U156*0.25)/6,IF($C156="往届",($U156*0.5)/6,"NULL")) -> 1.5 | CE156: 何传英 | CF156: =IF($C156="应届",($U156*0.25)/6,IF($C156="往届",($U156*0.5)/6,"NULL")) -> 1.5 | CG156: 尼玛布池 | CH156: =IF($C156="应届",($U156*0.25)/6,IF($C156="往届",($U156*0.5)/6,"NULL")) -> 1.5 | CI156: 3 | CJ156: 易涛 | CK156: =IF($C156="应届",($U156*0.25)/6,IF($C156="往届",($U156*0.5)/6,"NULL")) -> 1.5 | CL156: 央宗娜姆 | CM156: =IF($C156="应届",($U156*0.25)/6,IF($C156="往届",($U156*0.5)/6,"NULL")) -> 1.5 | CN156: 李永会 | CO156: =IF($C156="应届",($U156*0.25)/6,IF($C156="往届",($U156*0.5)/6,"NULL")) -> 1.5 | CP156: 周峰 | CQ156: =IF($C156="应届",($U156*0.25)/6,IF($C156="往届",($U156*0.5)/6,"NULL")) -> 1.5 | CR156: 何传英 | CS156: =IF($C156="应届",($U156*0.25)/6,IF($C156="往届",($U156*0.5)/6,"NULL")) -> 1.5 | CT156: 尼玛布池 | CU156: =IF($C156="应届",($U156*0.25)/6,IF($C156="往届",($U156*0.5)/6,"NULL")) -> 1.5
A157: 黄诗韵 | B157: 511602200707173507 | C157: 应届 | D157: 物理类 | F157: 0.9 | G157: 0 | H157: 99 | I157: 91 | J157: 84 | K157: 46 | L157: 73 | M157: 64 | N157: 0 | O157: 0 | P157: =ROUND(SUM(H157:O157),0) -> 457 | Q157: =IF(D157="物理类",IF(P157>=分数线!$C$2,"本科",""),IF(D157="历史类",IF(P157>=分数线!$C$3,"本科",""))) -> 本科 | R157: =IF(F157>0,IF(Q157="本科",(2-F157)*36,-(F157)*36),IF(Q157="本科",2*36,0)) -> 39.6 | S157: =IF(D157="物理类",IF(P157>=分数线!$C$6,"重本",""),IF(D157="历史类",IF(P157>=分数线!$C$7,"重本",""))) | T157: =IF(G157>0,IF(S157="重本",G157*72,-(G157)*72),IF(S157="重本",2*72,0)) -> 0 | U157: =R157+T157 -> 39.6 | V157: 3 | W157: 刘云菊 | X157: =IF($C157="应届",($U157*0.1)/6,IF($C157="往届","","NULL")) -> 0.66 | Y157: 马俊 | Z157: =IF($C157="应届",($U157*0.1)/6,IF($C157="往届","","NULL")) -> 0.66 | AA157: 朱恩凡 | AB157: =IF($C157="应届",($U157*0.1)/6,IF($C157="往届","","NULL")) -> 0.66 | AC157: 次珍扎保 | AD157: =IF($C157="应届",($U157*0.1)/6,IF($C157="往届","","NULL")) -> 0.66 | AE157: 宁建康 | AF157: =IF($C157="应届",($U157*0.1)/6,IF($C157="往届","","NULL")) -> 0.66 | AG157: 尤顺芝 | AH157: =IF($C157="应届",($U157*0.1)/6,IF($C157="往届","","NULL")) -> 0.66 | AI157: 3 | AJ157: 易涛 | AK157: =IF($C157="应届",($U157*0.1)/6,IF($C157="往届","","NULL")) -> 0.66 | AL157: 央宗娜姆 | AM157: =IF($C157="应届",($U157*0.1)/6,IF($C157="往届","","NULL")) -> 0.66 | AN157: 李永会 | AO157: =IF($C157="应届",($U157*0.1)/6,IF($C157="往届","","NULL")) -> 0.66 | AP157: 周峰 | AQ157: =IF($C157="应届",($U157*0.1)/6,IF($C157="往届","","NULL")) -> 0.66 | AR157: 黄萍 | AS157: =IF($C157="应届",($U157*0.1)/6,IF($C157="往届","","NULL")) -> 0.66 | AT157: 尼玛布池 | AU157: =IF($C157="应届",($U157*0.1)/6,IF($C157="往届","","NULL")) -> 0.66 | AV157: 3 | AW157: 易涛 | AX157: =IF($C157="应届",($U157*0.15)/6,IF($C157="往届","","NULL")) -> 0.99 | AY157: 央宗娜姆 | AZ157: =IF($C157="应届",($U157*0.15)/6,IF($C157="往届","","NULL")) -> 0.99 | BA157: 李永会 | BB157: =IF($C157="应届",($U157*0.15)/6,IF($C157="往届","","NULL")) -> 0.99 | BC157: 周峰 | BD157: =IF($C157="应届",($U157*0.15)/6,IF($C157="往届","","NULL")) -> 0.99 | BE157: 何传英 | BF157: =IF($C157="应届",($U157*0.15)/6,IF($C157="往届","","NULL")) -> 0.99 | BG157: 尼玛布池 | BH157: =IF($C157="应届",($U157*0.15)/6,IF($C157="往届","","NULL")) -> 0.99 | BI157: 3 | BJ157: 易涛 | BK157: =IF($C157="应届",($U157*0.15)/6,IF($C157="往届","","NULL")) -> 0.99 | BL157: 央宗娜姆 | BM157: =IF($C157="应届",($U157*0.15)/6,IF($C157="往届","","NULL")) -> 0.99 | BN157: 李永会 | BO157: =IF($C157="应届",($U157*0.15)/6,IF($C157="往届","","NULL")) -> 0.99 | BP157: 周峰 | BQ157: =IF($C157="应届",($U157*0.15)/6,IF($C157="往届","","NULL")) -> 0.99 | BR157: 何传英 | BS157: =IF($C157="应届",($U157*0.15)/6,IF($C157="往届","","NULL")) -> 0.99 | BT157: 尼玛布池 | BU157: =IF($C157="应届",($U157*0.15)/6,IF($C157="往届","","NULL")) -> 0.99 | BV157: 3 | BW157: 易涛 | BX157: =IF($C157="应届",($U157*0.25)/6,IF($C157="往届",($U157*0.5)/6,"NULL")) -> 1.65 | BY157: 央宗娜姆 | BZ157: =IF($C157="应届",($U157*0.25)/6,IF($C157="往届",($U157*0.5)/6,"NULL")) -> 1.65 | CA157: 李永会 | CB157: =IF($C157="应届",($U157*0.25)/6,IF($C157="往届",($U157*0.5)/6,"NULL")) -> 1.65 | CC157: 周峰 | CD157: =IF($C157="应届",($U157*0.25)/6,IF($C157="往届",($U157*0.5)/6,"NULL")) -> 1.65 | CE157: 何传英 | CF157: =IF($C157="应届",($U157*0.25)/6,IF($C157="往届",($U157*0.5)/6,"NULL")) -> 1.65 | CG157: 尼玛布池 | CH157: =IF($C157="应届",($U157*0.25)/6,IF($C157="往届",($U157*0.5)/6,"NULL")) -> 1.65 | CI157: 3 | CJ157: 易涛 | CK157: =IF($C157="应届",($U157*0.25)/6,IF($C157="往届",($U157*0.5)/6,"NULL")) -> 1.65 | CL157: 央宗娜姆 | CM157: =IF($C157="应届",($U157*0.25)/6,IF($C157="往届",($U157*0.5)/6,"NULL")) -> 1.65 | CN157: 李永会 | CO157: =IF($C157="应届",($U157*0.25)/6,IF($C157="往届",($U157*0.5)/6,"NULL")) -> 1.65 | CP157: 周峰 | CQ157: =IF($C157="应届",($U157*0.25)/6,IF($C157="往届",($U157*0.5)/6,"NULL")) -> 1.65 | CR157: 何传英 | CS157: =IF($C157="应届",($U157*0.25)/6,IF($C157="往届",($U157*0.5)/6,"NULL")) -> 1.65 | CT157: 尼玛布池 | CU157: =IF($C157="应届",($U157*0.25)/6,IF($C157="往届",($U157*0.5)/6,"NULL")) -> 1.65
A158: 陈小龙 | B158: 513422200510260910 | C158: 应届 | D158: 物理类 | F158: 0.2 | G158: 0 | H158: 96 | I158: 91 | J158: 42 | K158: 72 | L158: 73 | M158: 83 | N158: 0 | O158: 0 | P158: =ROUND(SUM(H158:O158),0) -> 457 | Q158: =IF(D158="物理类",IF(P158>=分数线!$C$2,"本科",""),IF(D158="历史类",IF(P158>=分数线!$C$3,"本科",""))) -> 本科 | R158: =IF(F158>0,IF(Q158="本科",(2-F158)*36,-(F158)*36),IF(Q158="本科",2*36,0)) -> 64.8 | S158: =IF(D158="物理类",IF(P158>=分数线!$C$6,"重本",""),IF(D158="历史类",IF(P158>=分数线!$C$7,"重本",""))) | T158: =IF(G158>0,IF(S158="重本",G158*72,-(G158)*72),IF(S158="重本",2*72,0)) -> 0 | U158: =R158+T158 -> 64.8 | V158: 3 | W158: 易涛 | X158: =IF($C158="应届",($U158*0.1)/6,IF($C158="往届","","NULL")) -> 1.08 | Y158: 央宗娜姆 | Z158: =IF($C158="应届",($U158*0.1)/6,IF($C158="往届","","NULL")) -> 1.08 | AA158: 李永会 | AB158: =IF($C158="应届",($U158*0.1)/6,IF($C158="往届","","NULL")) -> 1.08 | AC158: 周峰 | AD158: =IF($C158="应届",($U158*0.1)/6,IF($C158="往届","","NULL")) -> 1.08 | AE158: 黄萍 | AF158: =IF($C158="应届",($U158*0.1)/6,IF($C158="往届","","NULL")) -> 1.08 | AG158: 尼玛布池 | AH158: =IF($C158="应届",($U158*0.1)/6,IF($C158="往届","","NULL")) -> 1.08 | AI158: 3 | AJ158: 易涛 | AK158: =IF($C158="应届",($U158*0.1)/6,IF($C158="往届","","NULL")) -> 1.08 | AL158: 央宗娜姆 | AM158: =IF($C158="应届",($U158*0.1)/6,IF($C158="往届","","NULL")) -> 1.08 | AN158: 李永会 | AO158: =IF($C158="应届",($U158*0.1)/6,IF($C158="往届","","NULL")) -> 1.08 | AP158: 周峰 | AQ158: =IF($C158="应届",($U158*0.1)/6,IF($C158="往届","","NULL")) -> 1.08 | AR158: 黄萍 | AS158: =IF($C158="应届",($U158*0.1)/6,IF($C158="往届","","NULL")) -> 1.08 | AT158: 尼玛布池 | AU158: =IF($C158="应届",($U158*0.1)/6,IF($C158="往届","","NULL")) -> 1.08 | AV158: 3 | AW158: 易涛 | AX158: =IF($C158="应届",($U158*0.15)/6,IF($C158="往届","","NULL")) -> 1.62 | AY158: 央宗娜姆 | AZ158: =IF($C158="应届",($U158*0.15)/6,IF($C158="往届","","NULL")) -> 1.62 | BA158: 李永会 | BB158: =IF($C158="应届",($U158*0.15)/6,IF($C158="往届","","NULL")) -> 1.62 | BC158: 周峰 | BD158: =IF($C158="应届",($U158*0.15)/6,IF($C158="往届","","NULL")) -> 1.62 | BE158: 何传英 | BF158: =IF($C158="应届",($U158*0.15)/6,IF($C158="往届","","NULL")) -> 1.62 | BG158: 尼玛布池 | BH158: =IF($C158="应届",($U158*0.15)/6,IF($C158="往届","","NULL")) -> 1.62 | BI158: 3 | BJ158: 易涛 | BK158: =IF($C158="应届",($U158*0.15)/6,IF($C158="往届","","NULL")) -> 1.62 | BL158: 央宗娜姆 | BM158: =IF($C158="应届",($U158*0.15)/6,IF($C158="往届","","NULL")) -> 1.62 | BN158: 李永会 | BO158: =IF($C158="应届",($U158*0.15)/6,IF($C158="往届","","NULL")) -> 1.62 | BP158: 周峰 | BQ158: =IF($C158="应届",($U158*0.15)/6,IF($C158="往届","","NULL")) -> 1.62 | BR158: 何传英 | BS158: =IF($C158="应届",($U158*0.15)/6,IF($C158="往届","","NULL")) -> 1.62 | BT158: 尼玛布池 | BU158: =IF($C158="应届",($U158*0.15)/6,IF($C158="往届","","NULL")) -> 1.62 | BV158: 3 | BW158: 易涛 | BX158: =IF($C158="应届",($U158*0.25)/6,IF($C158="往届",($U158*0.5)/6,"NULL")) -> 2.7 | BY158: 央宗娜姆 | BZ158: =IF($C158="应届",($U158*0.25)/6,IF($C158="往届",($U158*0.5)/6,"NULL")) -> 2.7 | CA158: 李永会 | CB158: =IF($C158="应届",($U158*0.25)/6,IF($C158="往届",($U158*0.5)/6,"NULL")) -> 2.7 | CC158: 周峰 | CD158: =IF($C158="应届",($U158*0.25)/6,IF($C158="往届",($U158*0.5)/6,"NULL")) -> 2.7 | CE158: 何传英 | CF158: =IF($C158="应届",($U158*0.25)/6,IF($C158="往届",($U158*0.5)/6,"NULL")) -> 2.7 | CG158: 尼玛布池 | CH158: =IF($C158="应届",($U158*0.25)/6,IF($C158="往届",($U158*0.5)/6,"NULL")) -> 2.7 | CI158: 3 | CJ158: 易涛 | CK158: =IF($C158="应届",($U158*0.25)/6,IF($C158="往届",($U158*0.5)/6,"NULL")) -> 2.7 | CL158: 央宗娜姆 | CM158: =IF($C158="应届",($U158*0.25)/6,IF($C158="往届",($U158*0.5)/6,"NULL")) -> 2.7 | CN158: 李永会 | CO158: =IF($C158="应届",($U158*0.25)/6,IF($C158="往届",($U158*0.5)/6,"NULL")) -> 2.7 | CP158: 周峰 | CQ158: =IF($C158="应届",($U158*0.25)/6,IF($C158="往届",($U158*0.5)/6,"NULL")) -> 2.7 | CR158: 何传英 | CS158: =IF($C158="应届",($U158*0.25)/6,IF($C158="往届",($U158*0.5)/6,"NULL")) -> 2.7 | CT158: 尼玛布池 | CU158: =IF($C158="应届",($U158*0.25)/6,IF($C158="往届",($U158*0.5)/6,"NULL")) -> 2.7
