Workbook
Name basicdata: '3.1总分上线'!$B$4:$CU$691
Name 班主任: #REF!,#REF!,#REF!,#REF!,#REF!,#REF!
Name 单双上线: #REF!
Name 高2016级质量奖: #REF!
Name 高2017级质量奖: #REF!
Name 高2018级质量奖: #REF!
Name 基本奖: #REF!
Name 文化贡献奖: #REF!
Name 学生教师总表: '3.1总分上线'!$B$4:$CU$691
Name 总分上线: '3.1总分上线'!$A$708:$B$754
Name 总分上线教师分数: '3.1总分上线'!$W$4:$AH$691,'3.1总分上线'!$AJ$4:$AU$691,'3.1总分上线'!$AW$4:$BH$691,'3.1总分上线'!$BJ$4:$BU$691,'3.1总分上线'!$BW$4:$CH$691,'3.1总分上线'!$CJ$4:$CU$691

Sheet 分数线
C1: 总分 | D1: 语文 | E1: 数学 | F1: 英语 | G1: 物理/政治 | H1: 化学/历史 | I1: 生物/地理
A2: 本科线 | B2: 物理类 | C2: 438
B3: 历史类 | C3: 467
C5: 总分 | D5: 语文 | E5: 数学 | F5: 英语 | G5: 物理/政治 | H5: 化学/历史 | I5: 生物/地理
A6: 重本线 | B6: 物理类 | C6: 518
B7: 历史类 | C7: 533
A9: 附：

Sheet 3.1总分上线
H1: 高考成绩 | Q1: 目标得分 | V1: 22-23学年上 | AI1: 22-23学年下 | AV1: 23-24学年上 | BI1: 23-24学年下 | BV1: 24-25学年上 | CI1: 24-25学年下
Q2: 本科：目标生上线+36分/生，目标生未上线-36分/生，目标外上线+72分/生； 重本：目标生上线+72分/生，目标生未上线-72分/生，目标外上线+144分。 | V2: 班级 | W2: 语文 | Y2: 数学 | AA2: 英语 | AC2: 物理/历史 | AE2: 选科一 | AG2: 选科二 | AI2: 班级 | AJ2: 语文 | AL2: 数学 | AN2: 英语 | AP2: 物理/历史 | AR2: 选科一 | AT2: 选科二 | AV2: 班级 | AW2: 语文 | AY2: 数学 | BA2: 英语 | BC2: 物理/历史 | BE2: 选科一 | BG2: 选科二 | BI2: 班级 | BJ2: 语文 | BL2: 数学 | BN2: 英语 | BP2: 物理/历史 | BR2: 选科一 | BT2: 选科二 | BV2: 班级 | BW2: 语文 | BY2: 数学 | CA2: 英语 | CC2: 物理/历史 | CE2: 选科一 | CG2: 选科二 | CI2: 班级 | CJ2: 语文 | CL2: 数学 | CN2: 英语 | CP2: 物理/历史 | CR2: 选科一 | CT2: 选科二
B3: 1 | C3: 2 | D3: 3 | E3: 4 | F3: 5 | G3: 6 | H3: 7 | I3: 8 | J3: 9 | N3: 10 | O3: 11 | P3: 13 | Q3: 14 | R3: 15 | S3: 16 | T3: 17 | U3: 18 | V3: 19 | W3: 20 | X3: 21 | Y3: 22 | Z3: 23 | AA3: 24 | AB3: 25 | AC3: 26 | AD3: 27 | AE3: 28 | AF3: 29 | AG3: 30 | AH3: 31 | AI3: 32 | AJ3: 33 | AK3: 34 | AL3: 35 | AM3: 36 | AN3: 37 | AO3: 38 | AP3: 39 | AQ3: 40 | AR3: 41 | AS3: 42 | AT3: 43 | AU3: 44 | AV3: 45 | AW3: 46 | AX3: 47 | AY3: 48 | AZ3: 49 | BA3: 50 | BB3: 51 | BC3: 52 | BD3: 53 | BE3: 54 | BF3: 55 | BG3: 56 | BH3: 57 | BI3: 58 | BJ3: 59 | BK3: 60 | BL3: 61 | BM3: 62 | BN3: 63 | BO3: 64 | BP3: 65 | BQ3: 66 | BR3: 67 | BS3: 68 | BT3: 69 | BU3: 70 | BV3: 71 | BW3: 72 | BX3: 73 | BY3: 74 | BZ3: 75 | CA3: 76 | CB3: 77 | CC3: 78 | CD3: 79 | CE3: 80 | CF3: 81 | CG3: 82 | CH3: 83 | CI3: 84 | CJ3: 85 | CK3: 86 | CL3: 87 | CM3: 88 | CN3: 89 | CO3: 90 | CP3: 91 | CQ3: 92 | CR3: 93 | CS3: 94 | CT3: 95 | CU3: 96
A4: 姓名 | B4: 身份证号码 | C4: 类别 | D4: 科类 | E4: 备注 | F4: 本科目标 | G4: 重本目标 | H4: 语文 | I4: 数学 | J4: 英语 | K4: 物理/历史 | L4: 化学 | M4: 生物 | N4: 政治 | O4: 地理 | P4: 总分 | Q4: 是否上本科 | R4: 本科 得分 | S4: 是否上重本 | T4: 重本 得分 | U4: 目标得分合计 | V4: 班级 | W4: 教师 姓名 | X4: 得分 | Y4: 教师 姓名 | Z4: 得分 | AA4: 教师 姓名 | AB4: 得分 | AC4: 教师 姓名 | AD4: 得分 | AE4: 教师 姓名 | AF4: 得分 | AG4: 教师 姓名 | AH4: 得分 | AI4: 班级 | AJ4: 教师 姓名 | AK4: 得分 | AL4: 教师 姓名 | AM4: 得分 | AN4: 教师 姓名 | AO4: 得分 | AP4: 教师 姓名 | AQ4: 得分 | AR4: 教师 姓名 | AS4: 得分 | AT4: 教师 姓名 | AU4: 得分 | AV4: 班级 | AW4: 教师 姓名 | AX4: 得分 | AY4: 教师 姓名 | AZ4: 得分 | BA4: 教师 姓名 | BB4: 得分 | BC4: 教师 姓名 | BD4: 得分 | BE4: 教师 姓名 | BF4: 得分 | BG4: 教师 姓名 | BH4: 得分 | BI4: 班级 | BJ4: 教师 姓名 | BK4: 得分 | BL4: 教师 姓名 | BM4: 得分 | BN4: 教师 姓名 | BO4: 得分 | BP4: 教师 姓名 | BQ4: 得分 | BR4: 教师 姓名 | BS4: 得分 | BT4: 教师 姓名 | BU4: 得分 | BV4: 班级 | BW4: 教师 姓名 | BX4: 得分 | BY4: 教师 姓名 | BZ4: 得分 | CA4: 教师 姓名 | CB4: 得分 | CC4: 教师 姓名 | CD4: 得分 | CE4: 教师 姓名 | CF4: 得分 | CG4: 教师 姓名 | CH4: 得分 | CI4: 班级 | CJ4: 教师 姓名 | CK4: 得分 | CL4: 教师 姓名 | CM4: 得分 | CN4: 教师 姓名 | CO4: 得分 | CP4: 教师 姓名 | CQ4: 得分 | CR4: 教师 姓名 | CS4: 得分 | CT4: 教师 姓名 | CU4: 得分
A5: 晓庆莫 | B5: 513422200602104026 | C5: 往届 | D5: 历史类 | F5: 0 | G5: 0 | H5: 106 | I5: 81 | J5: 106 | K5: 77 | L5: 0 | M5: 0 | N5: 75 | O5: 80 | P5: =ROUND(SUM(H5:O5),0) -> 525 | Q5: =IF(D5="物理类",IF(P5>=分数线!$C$2,"本科",""),IF(D5="历史类",IF(P5>=分数线!$C$3,"本科",""))) -> 本科 | R5: =IF(F5>0,IF(Q5="本科",(2-F5)*36,-(F5)*36),IF(Q5="本科",2*36,0)) -> 72 | S5: =IF(D5="物理类",IF(P5>=分数线!$C$6,"重本",""),IF(D5="历史类",IF(P5>=分数线!$C$7,"重本",""))) | T5: =IF(G5>0,IF(S5="重本",G5*72,-(G5)*72),IF(S5="重本",2*72,0)) -> 0 | U5: =R5+T5 -> 72 | V5: 9 | W5: #N/A | X5: =IF($C5="应届",($U5*0.1)/6,IF($C5="往届","","NULL")) | Y5: #N/A | Z5: =IF($C5="应届",($U5*0.1)/6,IF($C5="往届","","NULL")) | AA5: #N/A | AB5: =IF($C5="应届",($U5*0.1)/6,IF($C5="往届","","NULL")) | AC5: #N/A | AD5: =IF($C5="应届",($U5*0.1)/6,IF($C5="往届","","NULL")) | AE5: #N/A | AF5: =IF($C5="应届",($U5*0.1)/6,IF($C5="往届","","NULL")) | AG5: #N/A | AH5: =IF($C5="应届",($U5*0.1)/6,IF($C5="往届","","NULL")) | AI5: #N/A | AJ5: #N/A | AK5: =IF($C5="应届",($U5*0.1)/6,IF($C5="往届","","NULL")) | AL5: #N/A | AM5: =IF($C5="应届",($U5*0.1)/6,IF($C5="往届","","NULL")) | AN5: #N/A | AO5: =IF($C5="应届",($U5*0.1)/6,IF($C5="往届","","NULL")) | AP5: #N/A | AQ5: =IF($C5="应届",($U5*0.1)/6,IF($C5="往届","","NULL")) | AR5: #N/A | AS5: =IF($C5="应届",($U5*0.1)/6,IF($C5="往届","","NULL")) | AT5: #N/A | AU5: =IF($C5="应届",($U5*0.1)/6,IF($C5="往届","","NULL")) | AV5: #N/A | AW5: #N/A | AX5: =IF($C5="应届",($U5*0.15)/6,IF($C5="往届","","NULL")) | AY5: #N/A | AZ5: =IF($C5="应届",($U5*0.15)/6,IF($C5="往届","","NULL")) | BA5: #N/A | BB5: =IF($C5="应届",($U5*0.15)/6,IF($C5="往届","","NULL")) | BC5: #N/A | BD5: =IF($C5="应届",($U5*0.15)/6,IF($C5="往届","","NULL")) | BE5: #N/A | BF5: =IF($C5="应届",($U5*0.15)/6,IF($C5="往届","","NULL")) | BG5: #N/A | BH5: =IF($C5="应届",($U5*0.15)/6,IF($C5="往届","","NULL")) | BI5: #N/A | BJ5: #N/A | BK5: =IF($C5="应届",($U5*0.15)/6,IF($C5="往届","","NULL")) | BL5: #N/A | BM5: =IF($C5="应届",($U5*0.15)/6,IF($C5="往届","","NULL")) | BN5: #N/A | BO5: =IF($C5="应届",($U5*0.15)/6,IF($C5="往届","","NULL")) | BP5: #N/A | BQ5: =IF($C5="应届",($U5*0.15)/6,IF($C5="往届","","NULL")) | BR5: #N/A | BS5: =IF($C5="应届",($U5*0.15)/6,IF($C5="往届","","NULL")) | BT5: #N/A | BU5: =IF($C5="应届",($U5*0.15)/6,IF($C5="往届","","NULL")) | BV5: 9 | BW5: 岳子琦 | BX5: =IF($C5="应届",($U5*0.25)/6,IF($C5="往届",($U5*0.5)/6,"NULL")) -> 6 | BY5: 杜东洋 | BZ5: =IF($C5="应届",($U5*0.25)/6,IF($C5="往届",($U5*0.5)/6,"NULL")) -> 6 | CA5: 朱恩凡 | CB5: =IF($C5="应届",($U5*0.25)/6,IF($C5="往届",($U5*0.5)/6,"NULL")) -> 6 | CC5: 杨琴 | CD5: =IF($C5="应届",($U5*0.25)/6,IF($C5="往届",($U5*0.5)/6,"NULL")) -> 6 | CE5: 马巫各 | CF5: =IF($C5="应届",($U5*0.25)/6,IF($C5="往届",($U5*0.5)/6,"NULL")) -> 6 | CG5: 邓倩 | CH5: =IF($C5="应届",($U5*0.25)/6,IF($C5="往届",($U5*0.5)/6,"NULL")) -> 6 | CI5: 9 | CJ5: 岳子琦 | CK5: =IF($C5="应届",($U5*0.25)/6,IF($C5="往届",($U5*0.5)/6,"NULL")) -> 6 | CL5: 杜东洋 | CM5: =IF($C5="应届",($U5*0.25)/6,IF($C5="往届",($U5*0.5)/6,"NULL")) -> 6 | CN5: 朱恩凡 | CO5: =IF($C5="应届",($U5*0.25)/6,IF($C5="往届",($U5*0.5)/6,"NULL")) -> 6 | CP5: 杨琴 | CQ5: =IF($C5="应届",($U5*0.25)/6,IF($C5="往届",($U5*0.5)/6,"NULL")) -> 6 | CR5: 马巫各 | CS5: =IF($C5="应届",($U5*0.25)/6,IF($C5="往届",($U5*0.5)/6,"NULL")) -> 6 | CT5: 邓倩 | CU5: =IF($C5="应届",($U5*0.25)/6,IF($C5="往届",($U5*0.5)/6,"NULL")) -> 6
A6: 杜基娜姆 | B6: 513422200507255029 | C6: 往届 | D6: 历史类 | F6: 0 | G6: 0 | H6: 103 | I6: 69 | J6: 117 | K6: 70 | L6: 0 | M6: 0 | N6: 89 | O6: 76 | P6: =ROUND(SUM(H6:O6),0) -> 524 | Q6: =IF(D6="物理类",IF(P6>=分数线!$C$2,"本科",""),IF(D6="历史类",IF(P6>=分数线!$C$3,"本科",""))) -> 本科 | R6: =IF(F6>0,IF(Q6="本科",(2-F6)*36,-(F6)*36),IF(Q6="本科",2*36,0)) -> 72 | S6: =IF(D6="物理类",IF(P6>=分数线!$C$6,"重本",""),IF(D6="历史类",IF(P6>=分数线!$C$7,"重本",""))) | T6: =IF(G6>0,IF(S6="重本",G6*72,-(G6)*72),IF(S6="重本",2*72,0)) -> 0 | U6: =R6+T6 -> 72 | V6: 9 | W6: #N/A | X6: =IF($C6="应届",($U6*0.1)/6,IF($C6="往届","","NULL")) | Y6: #N/A | Z6: =IF($C6="应届",($U6*0.1)/6,IF($C6="往届","","NULL")) | AA6: #N/A | AB6: =IF($C6="应届",($U6*0.1)/6,IF($C6="往届","","NULL")) | AC6: #N/A | AD6: =IF($C6="应届",($U6*0.1)/6,IF($C6="往届","","NULL")) | AE6: #N/A | AF6: =IF($C6="应届",($U6*0.1)/6,IF($C6="往届","","NULL")) | AG6: #N/A | AH6: =IF($C6="应届",($U6*0.1)/6,IF($C6="往届","","NULL")) | AI6: #N/A | AJ6: #N/A | AK6: =IF($C6="应届",($U6*0.1)/6,IF($C6="往届","","NULL")) | AL6: #N/A | AM6: =IF($C6="应届",($U6*0.1)/6,IF($C6="往届","","NULL")) | AN6: #N/A | AO6: =IF($C6="应届",($U6*0.1)/6,IF($C6="往届","","NULL")) | AP6: #N/A | AQ6: =IF($C6="应届",($U6*0.1)/6,IF($C6="往届","","NULL")) | AR6: #N/A | AS6: =IF($C6="应届",($U6*0.1)/6,IF($C6="往届","","NULL")) | AT6: #N/A | AU6: =IF($C6="应届",($U6*0.1)/6,IF($C6="往届","","NULL")) | AV6: #N/A | AW6: #N/A | AX6: =IF($C6="应届",($U6*0.15)/6,IF($C6="往届","","NULL")) | AY6: #N/A | AZ6: =IF($C6="应届",($U6*0.15)/6,IF($C6="往届","","NULL")) | BA6: #N/A | BB6: =IF($C6="应届",($U6*0.15)/6,IF($C6="往届","","NULL")) | BC6: #N/A | BD6: =IF($C6="应届",($U6*0.15)/6,IF($C6="往届","","NULL")) | BE6: #N/A | BF6: =IF($C6="应届",($U6*0.15)/6,IF($C6="往届","","NULL")) | BG6: #N/A | BH6: =IF($C6="应届",($U6*0.15)/6,IF($C6="往届","","NULL")) | BI6: #N/A | BJ6: #N/A | BK6: =IF($C6="应届",($U6*0.15)/6,IF($C6="往届","","NULL")) | BL6: #N/A | BM6: =IF($C6="应届",($U6*0.15)/6,IF($C6="往届","","NULL")) | BN6: #N/A | BO6: =IF($C6="应届",($U6*0.15)/6,IF($C6="往届","","NULL")) | BP6: #N/A | BQ6: =IF($C6="应届",($U6*0.15)/6,IF($C6="往届","","NULL")) | BR6: #N/A | BS6: =IF($C6="应届",($U6*0.15)/6,IF($C6="往届","","NULL")) | BT6: #N/A | BU6: =IF($C6="应届",($U6*0.15)/6,IF($C6="往届","","NULL")) | BV6: 9 | BW6: 岳子琦 | BX6: =IF($C6="应届",($U6*0.25)/6,IF($C6="往届",($U6*0.5)/6,"NULL")) -> 6 | BY6: 杜东洋 | BZ6: =IF($C6="应届",($U6*0.25)/6,IF($C6="往届",($U6*0.5)/6,"NULL")) -> 6 | CA6: 朱恩凡 | CB6: =IF($C6="应届",($U6*0.25)/6,IF($C6="往届",($U6*0.5)/6,"NULL")) -> 6 | CC6: 杨琴 | CD6: =IF($C6="应届",($U6*0.25)/6,IF($C6="往届",($U6*0.5)/6,"NULL")) -> 6 | CE6: 马巫各 | CF6: =IF($C6="应届",($U6*0.25)/6,IF($C6="往届",($U6*0.5)/6,"NULL")) -> 6 | CG6: 邓倩 | CH6: =IF($C6="应届",($U6*0.25)/6,IF($C6="往届",($U6*0.5)/6,"NULL")) -> 6 | CI6: 9 | CJ6: 岳子琦 | CK6: =IF($C6="应届",($U6*0.25)/6,IF($C6="往届",($U6*0.5)/6,"NULL")) -> 6 | CL6: 杜东洋 | CM6: =IF($C6="应届",($U6*0.25)/6,IF($C6="往届",($U6*0.5)/6,"NULL")) -> 6 | CN6: 朱恩凡 | CO6: =IF($C6="应届",($U6*0.25)/6,IF($C6="往届",($U6*0.5)/6,"NULL")) -> 6 | CP6: 杨琴 | CQ6: =IF($C6="应届",($U6*0.25)/6,IF($C6="往届",($U6*0.5)/6,"NULL")) -> 6 | CR6: 马巫各 | CS6: =IF($C6="应届",($U6*0.25)/6,IF($C6="往届",($U6*0.5)/6,"NULL")) -> 6 | CT6: 邓倩 | CU6: =IF($C6="应届",($U6*0.25)/6,IF($C6="往届",($U6*0.5)/6,"NULL")) -> 6
A7: 扎西拉姆 | B7: 513422200704195029 | C7: 往届 | D7: 历史类 | F7: 0 | G7: 0 | H7: 112 | I7: 69 | J7: 104 | K7: 72 | L7: 0 | M7: 0 | N7: 76 | O7: 65 | P7: =ROUND(SUM(H7:O7),0) -> 498 | Q7: =IF(D7="物理类",IF(P7>=分数线!$C$2,"本科",""),IF(D7="历史类",IF(P7>=分数线!$C$3,"本科",""))) -> 本科 | R7: =IF(F7>0,IF(Q7="本科",(2-F7)*36,-(F7)*36),IF(Q7="本科",2*36,0)) -> 72 | S7: =IF(D7="物理类",IF(P7>=分数线!$C$6,"重本",""),IF(D7="历史类",IF(P7>=分数线!$C$7,"重本",""))) | T7: =IF(G7>0,IF(S7="重本",G7*72,-(G7)*72),IF(S7="重本",2*72,0)) -> 0 | U7: =R7+T7 -> 72 | V7: 9 | W7: #N/A | X7: =IF($C7="应届",($U7*0.1)/6,IF($C7="往届","","NULL")) | Y7: #N/A | Z7: =IF($C7="应届",($U7*0.1)/6,IF($C7="往届","","NULL")) | AA7: #N/A | AB7: =IF($C7="应届",($U7*0.1)/6,IF($C7="往届","","NULL")) | AC7: #N/A | AD7: =IF($C7="应届",($U7*0.1)/6,IF($C7="往届","","NULL")) | AE7: #N/A | AF7: =IF($C7="应届",($U7*0.1)/6,IF($C7="往届","","NULL")) | AG7: #N/A | AH7: =IF($C7="应届",($U7*0.1)/6,IF($C7="往届","","NULL")) | AI7: #N/A | AJ7: #N/A | AK7: =IF($C7="应届",($U7*0.1)/6,IF($C7="往届","","NULL")) | AL7: #N/A | AM7: =IF($C7="应届",($U7*0.1)/6,IF($C7="往届","","NULL")) | AN7: #N/A | AO7: =IF($C7="应届",($U7*0.1)/6,IF($C7="往届","","NULL")) | AP7: #N/A | AQ7: =IF($C7="应届",($U7*0.1)/6,IF($C7="往届","","NULL")) | AR7: #N/A | AS7: =IF($C7="应届",($U7*0.1)/6,IF($C7="往届","","NULL")) | AT7: #N/A | AU7: =IF($C7="应届",($U7*0.1)/6,IF($C7="往届","","NULL")) | AV7: #N/A | AW7: #N/A | AX7: =IF($C7="应届",($U7*0.15)/6,IF($C7="往届","","NULL")) | AY7: #N/A | AZ7: =IF($C7="应届",($U7*0.15)/6,IF($C7="往届","","NULL")) | BA7: #N/A | BB7: =IF($C7="应届",($U7*0.15)/6,IF($C7="往届","","NULL")) | BC7: #N/A | BD7: =IF($C7="应届",($U7*0.15)/6,IF($C7="往届","","NULL")) | BE7: #N/A | BF7: =IF($C7="应届",($U7*0.15)/6,IF($C7="往届","","NULL")) | BG7: #N/A | BH7: =IF($C7="应届",($U7*0.15)/6,IF($C7="往届","","NULL")) | BI7: #N/A | BJ7: #N/A | BK7: =IF($C7="应届",($U7*0.15)/6,IF($C7="往届","","NULL")) | BL7: #N/A | BM7: =IF($C7="应届",($U7*0.15)/6,IF($C7="往届","","NULL")) | BN7: #N/A | BO7: =IF($C7="应届",($U7*0.15)/6,IF($C7="往届","","NULL")) | BP7: #N/A | BQ7: =IF($C7="应届",($U7*0.15)/6,IF($C7="往届","","NULL")) | BR7: #N/A | BS7: =IF($C7="应届",($U7*0.15)/6,IF($C7="往届","","NULL")) | BT7: #N/A | BU7: =IF($C7="应届",($U7*0.15)/6,IF($C7="往届","","NULL")) | BV7: 9 | BW7: 岳子琦 | BX7: =IF($C7="应届",($U7*0.25)/6,IF($C7="往届",($U7*0.5)/6,"NULL")) -> 6 | BY7: 杜东洋 | BZ7: =IF($C7="应届",($U7*0.25)/6,IF($C7="往届",($U7*0.5)/6,"NULL")) -> 6 | CA7: 朱恩凡 | CB7: =IF($C7="应届",($U7*0.25)/6,IF($C7="往届",($U7*0.5)/6,"NULL")) -> 6 | CC7: 杨琴 | CD7: =IF($C7="应届",($U7*0.25)/6,IF($C7="往届",($U7*0.5)/6,"NULL")) -> 6 | CE7: 马巫各 | CF7: =IF($C7="应届",($U7*0.25)/6,IF($C7="往届",($U7*0.5)/6,"NULL")) -> 6 | CG7: 邓倩 | CH7: =IF($C7="应届",($U7*0.25)/6,IF($C7="往届",($U7*0.5)/6,"NULL")) -> 6 | CI7: 9 | CJ7: 岳子琦 | CK7: =IF($C7="应届",($U7*0.25)/6,IF($C7="往届",($U7*0.5)/6,"NULL")) -> 6 | CL7: 杜东洋 | CM7: =IF($C7="应届",($U7*0.25)/6,IF($C7="往届",($U7*0.5)/6,"NULL")) -> 6 | CN7: 朱恩凡 | CO7: =IF($C7="应届",($U7*0.25)/6,IF($C7="往届",($U7*0.5)/6,"NULL")) -> 6 | CP7: 杨琴 | CQ7: =IF($C7="应届",($U7*0.25)/6,IF($C7="往届",($U7*0.5)/6,"NULL")) -> 6 | CR7: 马巫各 | CS7: =IF($C7="应届",($U7*0.25)/6,IF($C7="往届",($U7*0.5)/6,"NULL")) -> 6 | CT7: 邓倩 | CU7: =IF($C7="应届",($U7*0.25)/6,IF($C7="往届",($U7*0.5)/6,"NULL")) -> 6
A8: 向海英 | B8: 513422200212171522 | C8: 往届 | D8: 历史类 | F8: 1 | G8: 0 | H8: 96 | I8: 71 | J8: 94 | K8: 76 | L8: 0 | M8: 0 | N8: 81 | O8: 61 | P8: =ROUND(SUM(H8:O8),0) -> 479 | Q8: =IF(D8="物理类",IF(P8>=分数线!$C$2,"本科",""),IF(D8="历史类",IF(P8>=分数线!$C$3,"本科",""))) -> 本科 | R8: =IF(F8>0,IF(Q8="本科",(2-F8)*36,-(F8)*36),IF(Q8="本科",2*36,0)) -> 36 | S8: =IF(D8="物理类",IF(P8>=分数线!$C$6,"重本",""),IF(D8="历史类",IF(P8>=分数线!$C$7,"重本",""))) | T8: =IF(G8>0,IF(S8="重本",G8*72,-(G8)*72),IF(S8="重本",2*72,0)) -> 0 | U8: =R8+T8 -> 36 | V8: 9 | W8: #N/A | X8: =IF($C8="应届",($U8*0.1)/6,IF($C8="往届","","NULL")) | Y8: #N/A | Z8: =IF($C8="应届",($U8*0.1)/6,IF($C8="往届","","NULL")) | AA8: #N/A | AB8: =IF($C8="应届",($U8*0.1)/6,IF($C8="往届","","NULL")) | AC8: #N/A | AD8: =IF($C8="应届",($U8*0.1)/6,IF($C8="往届","","NULL")) | AE8: #N/A | AF8: =IF($C8="应届",($U8*0.1)/6,IF($C8="往届","","NULL")) | AG8: #N/A | AH8: =IF($C8="应届",($U8*0.1)/6,IF($C8="往届","","NULL")) | AI8: #N/A | AJ8: #N/A | AK8: =IF($C8="应届",($U8*0.1)/6,IF($C8="往届","","NULL")) | AL8: #N/A | AM8: =IF($C8="应届",($U8*0.1)/6,IF($C8="往届","","NULL")) | AN8: #N/A | AO8: =IF($C8="应届",($U8*0.1)/6,IF($C8="往届","","NULL")) | AP8: #N/A | AQ8: =IF($C8="应届",($U8*0.1)/6,IF($C8="往届","","NULL")) | AR8: #N/A | AS8: =IF($C8="应届",($U8*0.1)/6,IF($C8="往届","","NULL")) | AT8: #N/A | AU8: =IF($C8="应届",($U8*0.1)/6,IF($C8="往届","","NULL")) | AV8: #N/A | AW8: #N/A | AX8: =IF($C8="应届",($U8*0.15)/6,IF($C8="往届","","NULL")) | AY8: #N/A | AZ8: =IF($C8="应届",($U8*0.15)/6,IF($C8="往届","","NULL")) | BA8: #N/A | BB8: =IF($C8="应届",($U8*0.15)/6,IF($C8="往届","","NULL")) | BC8: #N/A | BD8: =IF($C8="应届",($U8*0.15)/6,IF($C8="往届","","NULL")) | BE8: #N/A | BF8: =IF($C8="应届",($U8*0.15)/6,IF($C8="往届","","NULL")) | BG8: #N/A | BI8: #N/A | BJ8: #N/A | BK8: =IF($C8="应届",($U8*0.15)/6,IF($C8="往届","","NULL")) | BL8: #N/A | BM8: =IF($C8="应届",($U8*0.15)/6,IF($C8="往届","","NULL")) | BN8: #N/A | BO8: =IF($C8="应届",($U8*0.15)/6,IF($C8="往届","","NULL")) | BP8: #N/A | BQ8: =IF($C8="应届",($U8*0.15)/6,IF($C8="往届","","NULL")) | BR8: #N/A | BS8: =IF($C8="应届",($U8*0.15)/6,IF($C8="往届","","NULL")) | BT8: #N/A | BU8: =IF($C8="应届",($U8*0.15)/6,IF($C8="往届","","NULL")) | BV8: 9 | BW8: 岳子琦 | BX8: =IF($C8="应届",($U8*0.25)/6,IF($C8="往届",($U8*0.5)/6,"NULL")) -> 3 | BY8: 杜东洋 | BZ8: =IF($C8="应届",($U8*0.25)/6,IF($C8="往届",($U8*0.5)/6,"NULL")) -> 3 | CA8: 朱恩凡 | CB8: =IF($C8="应届",($U8*0.25)/6,IF($C8="往届",($U8*0.5)/6,"NULL")) -> 3 | CC8: 杨琴 | CD8: =IF($C8="应届",($U8*0.25)/6,IF($C8="往届",($U8*0.5)/6,"NULL")) -> 3 | CE8: 马巫各 | CF8: =IF($C8="应届",($U8*0.25)/6,IF($C8="往届",($U8*0.5)/6,"NULL")) -> 3 | CG8: 邓倩 | CH8: =IF($C8="应届",($U8*0.25)/6,IF($C8="往届",($U8*0.5)/6,"NULL")) -> 3 | CI8: 9 | CJ8: 岳子琦 | CK8: =IF($C8="应届",($U8*0.25)/6,IF($C8="往届",($U8*0.5)/6,"NULL")) -> 3 | CL8: 杜东洋 | CM8: =IF($C8="应届",($U8*0.25)/6,IF($C8="往届",($U8*0.5)/6,"NULL")) -> 3 | CN8: 朱恩凡 | CO8: =IF($C8="应届",($U8*0.25)/6,IF($C8="往届",($U8*0.5)/6,"NULL")) -> 3 | CP8: 杨琴 | CQ8: =IF($C8="应届",($U8*0.25)/6,IF($C8="往届",($U8*0.5)/6,"NULL")) -> 3 | CR8: 马巫各 | CS8: =IF($C8="应届",($U8*0.25)/6,IF($C8="往届",($U8*0.5)/6,"NULL")) -> 3 | CT8: 邓倩 | CU8: =IF($C8="应届",($U8*0.25)/6,IF($C8="往届",($U8*0.5)/6,"NULL")) -> 3
A9: 朱洁 | B9: 513422200502261120 | C9: 往届 | D9: 历史类 | F9: 0 | G9: 0 | H9: 97 | I9: 79 | J9: 100 | K9: 70 | L9: 0 | M9: 0 | N9: 69 | O9: 63 | P9: =ROUND(SUM(H9:O9),0) -> 478 | Q9: =IF(D9="物理类",IF(P9>=分数线!$C$2,"本科",""),IF(D9="历史类",IF(P9>=分数线!$C$3,"本科",""))) -> 本科 | R9: =IF(F9>0,IF(Q9="本科",(2-F9)*36,-(F9)*36),IF(Q9="本科",2*36,0)) -> 72 | S9: =IF(D9="物理类",IF(P9>=分数线!$C$6,"重本",""),IF(D9="历史类",IF(P9>=分数线!$C$7,"重本",""))) | T9: =IF(G9>0,IF(S9="重本",G9*72,-(G9)*72),IF(S9="重本",2*72,0)) -> 0 | U9: =R9+T9 -> 72 | V9: 9 | W9: #N/A | X9: =IF($C9="应届",($U9*0.1)/6,IF($C9="往届","","NULL")) | Y9: #N/A | Z9: =IF($C9="应届",($U9*0.1)/6,IF($C9="往届","","NULL")) | AA9: #N/A | AB9: =IF($C9="应届",($U9*0.1)/6,IF($C9="往届","","NULL")) | AC9: #N/A | AD9: =IF($C9="应届",($U9*0.1)/6,IF($C9="往届","","NULL")) | AE9: #N/A | AF9: =IF($C9="应届",($U9*0.1)/6,IF($C9="往届","","NULL")) | AG9: #N/A | AH9: =IF($C9="应届",($U9*0.1)/6,IF($C9="往届","","NULL")) | AI9: #N/A | AJ9: #N/A | AK9: =IF($C9="应届",($U9*0.1)/6,IF($C9="往届","","NULL")) | AL9: #N/A | AM9: =IF($C9="应届",($U9*0.1)/6,IF($C9="往届","","NULL")) | AN9: #N/A | AO9: =IF($C9="应届",($U9*0.1)/6,IF($C9="往届","","NULL")) | AP9: #N/A | AQ9: =IF($C9="应届",($U9*0.1)/6,IF($C9="往届","","NULL")) | AR9: #N/A | AS9: =IF($C9="应届",($U9*0.1)/6,IF($C9="往届","","NULL")) | AT9: #N/A | AU9: =IF($C9="应届",($U9*0.1)/6,IF($C9="往届","","NULL")) | AV9: #N/A | AW9: #N/A | AX9: =IF($C9="应届",($U9*0.15)/6,IF($C9="往届","","NULL")) | AY9: #N/A | AZ9: =IF($C9="应届",($U9*0.15)/6,IF($C9="往届","","NULL")) | BA9: #N/A | BB9: =IF($C9="应届",($U9*0.15)/6,IF($C9="往届","","NULL")) | BC9: #N/A | BD9: =IF($C9="应届",($U9*0.15)/6,IF($C9="往届","","NULL")) | BE9: #N/A | BF9: =IF($C9="应届",($U9*0.15)/6,IF($C9="往届","","NULL")) | BG9: #N/A | BH9: =IF($C9="应届",($U9*0.15)/6,IF($C9="往届","","NULL")) | BI9: #N/A | BJ9: #N/A | BK9: =IF($C9="应届",($U9*0.15)/6,IF($C9="往届","","NULL")) | BL9: #N/A | BM9: =IF($C9="应届",($U9*0.15)/6,IF($C9="往届","","NULL")) | BN9: #N/A | BO9: =IF($C9="应届",($U9*0.15)/6,IF($C9="往届","","NULL")) | BP9: #N/A | BQ9: =IF($C9="应届",($U9*0.15)/6,IF($C9="往届","","NULL")) | BR9: #N/A | BS9: =IF($C9="应届",($U9*0.15)/6,IF($C9="往届","","NULL")) | BT9: #N/A | BU9: =IF($C9="应届",($U9*0.15)/6,IF($C9="往届","","NULL")) | BV9: 9 | BW9: 岳子琦 | BX9: =IF($C9="应届",($U9*0.25)/6,IF($C9="往届",($U9*0.5)/6,"NULL")) -> 6 | BY9: 杜东洋 | BZ9: =IF($C9="应届",($U9*0.25)/6,IF($C9="往届",($U9*0.5)/6,"NULL")) -> 6 | CA9: 朱恩凡 | CB9: =IF($C9="应届",($U9*0.25)/6,IF($C9="往届",($U9*0.5)/6,"NULL")) -> 6 | CC9: 杨琴 | CD9: =IF($C9="应届",($U9*0.25)/6,IF($C9="往届",($U9*0.5)/6,"NULL")) -> 6 | CE9: 马巫各 | CF9: =IF($C9="应届",($U9*0.25)/6,IF($C9="往届",($U9*0.5)/6,"NULL")) -> 6 | CG9: 邓倩 | CH9: =IF($C9="应届",($U9*0.25)/6,IF($C9="往届",($U9*0.5)/6,"NULL")) -> 6 | CI9: 9 | CJ9: 岳子琦 | CK9: =IF($C9="应届",($U9*0.25)/6,IF($C9="往届",($U9*0.5)/6,"NULL")) -> 6 | CL9: 杜东洋 | CM9: =IF($C9="应届",($U9*0.25)/6,IF($C9="往届",($U9*0.5)/6,"NULL")) -> 6 | CN9: 朱恩凡 | CO9: =IF($C9="应届",($U9*0.25)/6,IF($C9="往届",($U9*0.5)/6,"NULL")) -> 6 | CP9: 杨琴 | CQ9: =IF($C9="应届",($U9*0.25)/6,IF($C9="往届",($U9*0.5)/6,"NULL")) -> 6 | CR9: 马巫各 | CS9: =IF($C9="应届",($U9*0.25)/6,IF($C9="往届",($U9*0.5)/6,"NULL")) -> 6 | CT9: 邓倩 | CU9: =IF($C9="应届",($U9*0.25)/6,IF($C9="往届",($U9*0.5)/6,"NULL")) -> 6
A10: 吕发英 | B10: 513422200607124026 | C10: 往届 | D10: 历史类 | F10: 0 | G10: 0 | H10: 97 | I10: 80 | J10: 35 | K10: 53 | L10: 0 | M10: 0 | N10: 73 | O10: 83 | P10: =ROUND(SUM(H10:O10),0) -> 421 | Q10: =IF(D10="物理类",IF(P10>=分数线!$C$2,"本科",""),IF(D10="历史类",IF(P10>=分数线!$C$3,"本科",""))) | R10: =IF(F10>0,IF(Q10="本科",(2-F10)*36,-(F10)*36),IF(Q10="本科",2*36,0)) -> 0 | S10: =IF(D10="物理类",IF(P10>=分数线!$C$6,"重本",""),IF(D10="历史类",IF(P10>=分数线!$C$7,"重本",""))) | T10: =IF(G10>0,IF(S10="重本",G10*72,-(G10)*72),IF(S10="重本",2*72,0)) -> 0 | U10: =R10+T10 -> 0 | V10: 11 | W10: #N/A | X10: =IF($C10="应届",($U10*0.1)/6,IF($C10="往届","","NULL")) | Y10: #N/A | Z10: =IF($C10="应届",($U10*0.1)/6,IF($C10="往届","","NULL")) | AA10: #N/A | AB10: =IF($C10="应届",($U10*0.1)/6,IF($C10="往届","","NULL")) | AC10: #N/A | AD10: =IF($C10="应届",($U10*0.1)/6,IF($C10="往届","","NULL")) | AE10: #N/A | AF10: =IF($C10="应届",($U10*0.1)/6,IF($C10="往届","","NULL")) | AG10: #N/A | AH10: =IF($C10="应届",($U10*0.1)/6,IF($C10="往届","","NULL")) | AI10: #N/A | AJ10: #N/A | AK10: =IF($C10="应届",($U10*0.1)/6,IF($C10="往届","","NULL")) | AL10: #N/A | AM10: =IF($C10="应届",($U10*0.1)/6,IF($C10="往届","","NULL")) | AN10: #N/A | AO10: =IF($C10="应届",($U10*0.1)/6,IF($C10="往届","","NULL")) | AP10: #N/A | AQ10: =IF($C10="应届",($U10*0.1)/6,IF($C10="往届","","NULL")) | AR10: #N/A | AS10: =IF($C10="应届",($U10*0.1)/6,IF($C10="往届","","NULL")) | AT10: #N/A | AU10: =IF($C10="应届",($U10*0.1)/6,IF($C10="往届","","NULL")) | AV10: #N/A | AW10: #N/A | AX10: =IF($C10="应届",($U10*0.15)/6,IF($C10="往届","","NULL")) | AY10: #N/A | AZ10: =IF($C10="应届",($U10*0.15)/6,IF($C10="往届","","NULL")) | BA10: #N/A | BB10: =IF($C10="应届",($U10*0.15)/6,IF($C10="往届","","NULL")) | BC10: #N/A | BD10: =IF($C10="应届",($U10*0.15)/6,IF($C10="往届","","NULL")) | BE10: #N/A | BF10: =IF($C10="应届",($U10*0.15)/6,IF($C10="往届","","NULL")) | BG10: #N/A | BH10: =IF($C10="应届",($U10*0.15)/6,IF($C10="往届","","NULL")) | BI10: #N/A | BJ10: #N/A | BK10: =IF($C10="应届",($U10*0.15)/6,IF($C10="往届","","NULL")) | BL10: #N/A | BM10: =IF($C10="应届",($U10*0.15)/6,IF($C10="往届","","NULL")) | BN10: #N/A | BO10: =IF($C10="应届",($U10*0.15)/6,IF($C10="往届","","NULL")) | BP10: #N/A | BQ10: =IF($C10="应届",($U10*0.15)/6,IF($C10="往届","","NULL")) | BR10: #N/A | BS10: =IF($C10="应届",($U10*0.15)/6,IF($C10="往届","","NULL")) | BT10: #N/A | BU10: =IF($C10="应届",($U10*0.15)/6,IF($C10="往届","","NULL")) | BV10: 11 | BW10: 陈光汇 | BX10: =IF($C10="应届",($U10*0.25)/6,IF($C10="往届",($U10*0.5)/6,"NULL")) -> 0 | BY10: 曹云萍 | BZ10: =IF($C10="应届",($U10*0.25)/6,IF($C10="往届",($U10*0.5)/6,"NULL")) -> 0 | CA10: 陈国萍 | CB10: =IF($C10="应届",($U10*0.25)/6,IF($C10="往届",($U10*0.5)/6,"NULL")) -> 0 | CC10: 降初里 | CD10: =IF($C10="应届",($U10*0.25)/6,IF($C10="往届",($U10*0.5)/6,"NULL")) -> 0 | CE10: 胡东缘 | CF10: =IF($C10="应届",($U10*0.25)/6,IF($C10="往届",($U10*0.5)/6,"NULL")) -> 0 | CG10: 米晓妹 | CH10: =IF($C10="应届",($U10*0.25)/6,IF($C10="往届",($U10*0.5)/6,"NULL")) -> 0 | CI10: 11 | CJ10: 陈光汇 | CK10: =IF($C10="应届",($U10*0.25)/6,IF($C10="往届",($U10*0.5)/6,"NULL")) -> 0 | CL10: 曹云萍 | CM10: =IF($C10="应届",($U10*0.25)/6,IF($C10="往届",($U10*0.5)/6,"NULL")) -> 0 | CN10: 陈国萍 | CO10: =IF($C10="应届",($U10*0.25)/6,IF($C10="往届",($U10*0.5)/6,"NULL")) -> 0 | CP10: 降初里 | CQ10: =IF($C10="应届",($U10*0.25)/6,IF($C10="往届",($U10*0.5)/6,"NULL")) -> 0 | CR10: 胡东缘 | CS10: =IF($C10="应届",($U10*0.25)/6,IF($C10="往届",($U10*0.5)/6,"NULL")) -> 0 | CT10: 米晓妹 | CU10: =IF($C10="应届",($U10*0.25)/6,IF($C10="往届",($U10*0.5)/6,"NULL")) -> 0
A11: 扎拉扎西 | B11: 513422200501164214 | C11: 往届 | D11: 历史类 | F11: 0 | G11: 0 | H11: 90 | I11: 78 | J11: 23 | K11: 65 | L11: 0 | M11: 0 | N11: 73 | O11: 76 | P11: =ROUND(SUM(H11:O11),0) -> 405 | Q11: =IF(D11="物理类",IF(P11>=分数线!$C$2,"本科",""),IF(D11="历史类",IF(P11>=分数线!$C$3,"本科",""))) | R11: =IF(F11>0,IF(Q11="本科",(2-F11)*36,-(F11)*36),IF(Q11="本科",2*36,0)) -> 0 | S11: =IF(D11="物理类",IF(P11>=分数线!$C$6,"重本",""),IF(D11="历史类",IF(P11>=分数线!$C$7,"重本",""))) | T11: =IF(G11>0,IF(S11="重本",G11*72,-(G11)*72),IF(S11="重本",2*72,0)) -> 0 | U11: =R11+T11 -> 0 | V11: 14 | W11: #N/A | X11: =IF($C11="应届",($U11*0.1)/6,IF($C11="往届","","NULL")) | Y11: #N/A | Z11: =IF($C11="应届",($U11*0.1)/6,IF($C11="往届","","NULL")) | AA11: #N/A | AB11: =IF($C11="应届",($U11*0.1)/6,IF($C11="往届","","NULL")) | AC11: #N/A | AD11: =IF($C11="应届",($U11*0.1)/6,IF($C11="往届","","NULL")) | AE11: #N/A | AF11: =IF($C11="应届",($U11*0.1)/6,IF($C11="往届","","NULL")) | AG11: #N/A | AH11: =IF($C11="应届",($U11*0.1)/6,IF($C11="往届","","NULL")) | AI11: #N/A | AJ11: #N/A | AK11: =IF($C11="应届",($U11*0.1)/6,IF($C11="往届","","NULL")) | AL11: #N/A | AM11: =IF($C11="应届",($U11*0.1)/6,IF($C11="往届","","NULL")) | AN11: #N/A | AO11: =IF($C11="应届",($U11*0.1)/6,IF($C11="往届","","NULL")) | AP11: #N/A | AQ11: =IF($C11="应届",($U11*0.1)/6,IF($C11="往届","","NULL")) | AR11: #N/A | AS11: =IF($C11="应届",($U11*0.1)/6,IF($C11="往届","","NULL")) | AT11: #N/A | AU11: =IF($C11="应届",($U11*0.1)/6,IF($C11="往届","","NULL")) | AV11: #N/A | AW11: #N/A | AX11: =IF($C11="应届",($U11*0.15)/6,IF($C11="往届","","NULL")) | AY11: #N/A | AZ11: =IF($C11="应届",($U11*0.15)/6,IF($C11="往届","","NULL")) | BA11: #N/A | BB11: =IF($C11="应届",($U11*0.15)/6,IF($C11="往届","","NULL")) | BC11: #N/A | BD11: =IF($C11="应届",($U11*0.15)/6,IF($C11="往届","","NULL")) | BE11: #N/A | BF11: =IF($C11="应届",($U11*0.15)/6,IF($C11="往届","","NULL")) | BG11: #N/A | BH11: =IF($C11="应届",($U11*0.15)/6,IF($C11="往届","","NULL")) | BI11: #N/A | BJ11: #N/A | BK11: =IF($C11="应届",($U11*0.15)/6,IF($C11="往届","","NULL")) | BL11: #N/A | BM11: =IF($C11="应届",($U11*0.15)/6,IF($C11="往届","","NULL")) | BN11: #N/A | BO11: =IF($C11="应届",($U11*0.15)/6,IF($C11="往届","","NULL")) | BP11: #N/A | BQ11: =IF($C11="应届",($U11*0.15)/6,IF($C11="往届","","NULL")) | BR11: #N/A | BS11: =IF($C11="应届",($U11*0.15)/6,IF($C11="往届","","NULL")) | BT11: #N/A | BU11: =IF($C11="应届",($U11*0.15)/6,IF($C11="往届","","NULL")) | BV11: 14 | BW11: 格绒燚西 | BX11: =IF($C11="应届",($U11*0.25)/6,IF($C11="往届",($U11*0.5)/6,"NULL")) -> 0 | BY11: 马俊 | BZ11: =IF($C11="应届",($U11*0.25)/6,IF($C11="往届",($U11*0.5)/6,"NULL")) -> 0 | CA11: 东梅 | CB11: =IF($C11="应届",($U11*0.25)/6,IF($C11="往届",($U11*0.5)/6,"NULL")) -> 0 | CC11: 徐志兵 | CD11: =IF($C11="应届",($U11*0.25)/6,IF($C11="往届",($U11*0.5)/6,"NULL")) -> 0 | CE11: 纪春权/沙正芳 | CF11: =IF($C11="应届",($U11*0.25)/6,IF($C11="往届",($U11*0.5)/6,"NULL")) -> 0 | CG11: 米晓妹 | CH11: =IF($C11="应届",($U11*0.25)/6,IF($C11="往届",($U11*0.5)/6,"NULL")) -> 0 | CI11: 14 | CJ11: 格绒燚西 | CK11: =IF($C11="应届",($U11*0.25)/6,IF($C11="往届",($U11*0.5)/6,"NULL")) -> 0 | CL11: 马俊 | CM11: =IF($C11="应届",($U11*0.25)/6,IF($C11="往届",($U11*0.5)/6,"NULL")) -> 0 | CN11: 东梅 | CO11: =IF($C11="应届",($U11*0.25)/6,IF($C11="往届",($U11*0.5)/6,"NULL")) -> 0 | CP11: 徐志兵 | CQ11: =IF($C11="应届",($U11*0.25)/6,IF($C11="往届",($U11*0.5)/6,"NULL")) -> 0 | CR11: 沙正芳 | CS11: =IF($C11="应届",($U11*0.25)/6,IF($C11="往届",($U11*0.5)/6,"NULL")) -> 0 | CT11: 米晓妹 | CU11: =IF($C11="应届",($U11*0.25)/6,IF($C11="往届",($U11*0.5)/6,"NULL")) -> 0
A12: 呷宗曲珍 | B12: 513422200506052123 | C12: 往届 | D12: 历史类 | F12: 0 | G12: 0 | H12: 88 | I12: 50 | J12: 75 | K12: 44 | L12: 0 | M12: 0 | N12: 47 | O12: 57 | P12: =ROUND(SUM(H12:O12),0) -> 361 | Q12: =IF(D12="物理类",IF(P12>=分数线!$C$2,"本科",""),IF(D12="历史类",IF(P12>=分数线!$C$3,"本科",""))) | R12: =IF(F12>0,IF(Q12="本科",(2-F12)*36,-(F12)*36),IF(Q12="本科",2*36,0)) -> 0 | S12: =IF(D12="物理类",IF(P12>=分数线!$C$6,"重本",""),IF(D12="历史类",IF(P12>=分数线!$C$7,"重本",""))) | T12: =IF(G12>0,IF(S12="重本",G12*72,-(G12)*72),IF(S12="重本",2*72,0)) -> 0 | U12: =R12+T12 -> 0 | V12: 15 | W12: #N/A | X12: =IF($C12="应届",($U12*0.1)/6,IF($C12="往届","","NULL")) | Y12: #N/A | Z12: =IF($C12="应届",($U12*0.1)/6,IF($C12="往届","","NULL")) | AA12: #N/A | AB12: =IF($C12="应届",($U12*0.1)/6,IF($C12="往届","","NULL")) | AC12: #N/A | AD12: =IF($C12="应届",($U12*0.1)/6,IF($C12="往届","","NULL")) | AE12: #N/A | AF12: =IF($C12="应届",($U12*0.1)/6,IF($C12="往届","","NULL")) | AG12: #N/A | AH12: =IF($C12="应届",($U12*0.1)/6,IF($C12="往届","","NULL")) | AI12: #N/A | AJ12: #N/A | AK12: =IF($C12="应届",($U12*0.1)/6,IF($C12="往届","","NULL")) | AL12: #N/A | AM12: =IF($C12="应届",($U12*0.1)/6,IF($C12="往届","","NULL")) | AN12: #N/A | AO12: =IF($C12="应届",($U12*0.1)/6,IF($C12="往届","","NULL")) | AP12: #N/A | AQ12: =IF($C12="应届",($U12*0.1)/6,IF($C12="往届","","NULL")) | AR12: #N/A | AS12: =IF($C12="应届",($U12*0.1)/6,IF($C12="往届","","NULL")) | AT12: #N/A | AU12: =IF($C12="应届",($U12*0.1)/6,IF($C12="往届","","NULL")) | AV12: #N/A | AW12: #N/A | AX12: =IF($C12="应届",($U12*0.15)/6,IF($C12="往届","","NULL")) | AY12: #N/A | AZ12: =IF($C12="应届",($U12*0.15)/6,IF($C12="往届","","NULL")) | BA12: #N/A | BB12: =IF($C12="应届",($U12*0.15)/6,IF($C12="往届","","NULL")) | BC12: #N/A | BD12: =IF($C12="应届",($U12*0.15)/6,IF($C12="往届","","NULL")) | BE12: #N/A | BF12: =IF($C12="应届",($U12*0.15)/6,IF($C12="往届","","NULL")) | BG12: #N/A | BH12: =IF($C12="应届",($U12*0.15)/6,IF($C12="往届","","NULL")) | BI12: #N/A | BJ12: #N/A | BK12: =IF($C12="应届",($U12*0.15)/6,IF($C12="往届","","NULL")) | BL12: #N/A | BM12: =IF($C12="应届",($U12*0.15)/6,IF($C12="往届","","NULL")) | BN12: #N/A | BO12: =IF($C12="应届",($U12*0.15)/6,IF($C12="往届","","NULL")) | BP12: #N/A | BQ12: =IF($C12="应届",($U12*0.15)/6,IF($C12="往届","","NULL")) | BR12: #N/A | BS12: =IF($C12="应届",($U12*0.15)/6,IF($C12="往届","","NULL")) | BT12: #N/A | BU12: =IF($C12="应届",($U12*0.15)/6,IF($C12="往届","","NULL")) | BV12: 15 | BW12: 何东霖 | BX12: =IF($C12="应届",($U12*0.25)/6,IF($C12="往届",($U12*0.5)/6,"NULL")) -> 0 | BY12: 潘勇 | BZ12: =IF($C12="应届",($U12*0.25)/6,IF($C12="往届",($U12*0.5)/6,"NULL")) -> 0 | CA12: 浦恩玲 | CB12: =IF($C12="应届",($U12*0.25)/6,IF($C12="往届",($U12*0.5)/6,"NULL")) -> 0 | CC12: 降初里 | CD12: =IF($C12="应届",($U12*0.25)/6,IF($C12="往届",($U12*0.5)/6,"NULL")) -> 0 | CE12: 马巫各 | CF12: =IF($C12="应届",($U12*0.25)/6,IF($C12="往届",($U12*0.5)/6,"NULL")) -> 0 | CG12: 石敏 | CH12: =IF($C12="应届",($U12*0.25)/6,IF($C12="往届",($U12*0.5)/6,"NULL")) -> 0 | CI12: 15 | CJ12: 何东霖 | CK12: =IF($C12="应届",($U12*0.25)/6,IF($C12="往届",($U12*0.5)/6,"NULL")) -> 0 | CL12: 潘勇 | CM12: =IF($C12="应届",($U12*0.25)/6,IF($C12="往届",($U12*0.5)/6,"NULL")) -> 0 | CN12: 张福琴 | CO12: =IF($C12="应届",($U12*0.25)/6,IF($C12="往届",($U12*0.5)/6,"NULL")) -> 0 | CP12: 降初里 | CQ12: =IF($C12="应届",($U12*0.25)/6,IF($C12="往届",($U12*0.5)/6,"NULL")) -> 0 | CR12: 马巫各 | CS12: =IF($C12="应届",($U12*0.25)/6,IF($C12="往届",($U12*0.5)/6,"NULL")) -> 0 | CT12: 石敏 | CU12: =IF($C12="应届",($U12*0.25)/6,IF($C12="往届",($U12*0.5)/6,"NULL")) -> 0
A13: 杨文林 | B13: 513422200706254416 | C13: 往届 | D13: 物理类 | F13: 1 | G13: 0 | H13: 89 | I13: 115 | J13: 95 | K13: 60 | L13: 82 | M13: 62 | N13: 0 | O13: 0 | P13: =ROUND(SUM(H13:O13),0) -> 503 | Q13: =IF(D13="物理类",IF(P13>=分数线!$C$2,"本科",""),IF(D13="历史类",IF(P13>=分数线!$C$3,"本科",""))) -> 本科 | R13: =IF(F13>0,IF(Q13="本科",(2-F13)*36,-(F13)*36),IF(Q13="本科",2*36,0)) -> 36 | S13: =IF(D13="物理类",IF(P13>=分数线!$C$6,"重本",""),IF(D13="历史类",IF(P13>=分数线!$C$7,"重本",""))) | T13: =IF(G13>0,IF(S13="重本",G13*72,-(G13)*72),IF(S13="重本",2*72,0)) -> 0 | U13: =R13+T13 -> 36 | V13: 16 | W13: #N/A | X13: =IF($C13="应届",($U13*0.1)/6,IF($C13="往届","","NULL")) | Y13: #N/A | Z13: =IF($C13="应届",($U13*0.1)/6,IF($C13="往届","","NULL")) | AA13: #N/A | AB13: =IF($C13="应届",($U13*0.1)/6,IF($C13="往届","","NULL")) | AC13: #N/A | AD13: =IF($C13="应届",($U13*0.1)/6,IF($C13="往届","","NULL")) | AE13: #N/A | AF13: =IF($C13="应届",($U13*0.1)/6,IF($C13="往届","","NULL")) | AG13: #N/A | AH13: =IF($C13="应届",($U13*0.1)/6,IF($C13="往届","","NULL")) | AI13: #N/A | AJ13: #N/A | AK13: =IF($C13="应届",($U13*0.1)/6,IF($C13="往届","","NULL")) | AL13: #N/A | AM13: =IF($C13="应届",($U13*0.1)/6,IF($C13="往届","","NULL")) | AN13: #N/A | AO13: =IF($C13="应届",($U13*0.1)/6,IF($C13="往届","","NULL")) | AP13: #N/A | AQ13: =IF($C13="应届",($U13*0.1)/6,IF($C13="往届","","NULL")) | AR13: #N/A | AS13: =IF($C13="应届",($U13*0.1)/6,IF($C13="往届","","NULL")) | AT13: #N/A | AU13: =IF($C13="应届",($U13*0.1)/6,IF($C13="往届","","NULL")) | AV13: #N/A | AW13: #N/A | AX13: =IF($C13="应届",($U13*0.15)/6,IF($C13="往届","","NULL")) | AY13: #N/A | AZ13: =IF($C13="应届",($U13*0.15)/6,IF($C13="往届","","NULL")) | BA13: #N/A | BB13: =IF($C13="应届",($U13*0.15)/6,IF($C13="往届","","NULL")) | BC13: #N/A | BD13: =IF($C13="应届",($U13*0.15)/6,IF($C13="往届","","NULL")) | BE13: #N/A | BF13: =IF($C13="应届",($U13*0.15)/6,IF($C13="往届","","NULL")) | BG13: #N/A | BH13: =IF($C13="应届",($U13*0.15)/6,IF($C13="往届","","NULL")) | BI13: #N/A | BJ13: #N/A | BK13: =IF($C13="应届",($U13*0.15)/6,IF($C13="往届","","NULL")) | BL13: #N/A | BM13: =IF($C13="应届",($U13*0.15)/6,IF($C13="往届","","NULL")) | BN13: #N/A | BO13: =IF($C13="应届",($U13*0.15)/6,IF($C13="往届","","NULL")) | BP13: #N/A | BQ13: =IF($C13="应届",($U13*0.15)/6,IF($C13="往届","","NULL")) | BR13: #N/A | BS13: =IF($C13="应届",($U13*0.15)/6,IF($C13="往届","","NULL")) | BT13: #N/A | BU13: =IF($C13="应届",($U13*0.15)/6,IF($C13="往届","","NULL")) | BV13: 16 | BW13: 周菊明 | BX13: =IF($C13="应届",($U13*0.25)/6,IF($C13="往届",($U13*0.5)/6,"NULL")) -> 3 | BY13: 潘勇 | BZ13: =IF($C13="应届",($U13*0.25)/6,IF($C13="往届",($U13*0.5)/6,"NULL")) -> 3 | CA13: 彭丹 | CB13: =IF($C13="应届",($U13*0.25)/6,IF($C13="往届",($U13*0.5)/6,"NULL")) -> 3 | CC13: 康小平 | CD13: =IF($C13="应届",($U13*0.25)/6,IF($C13="往届",($U13*0.5)/6,"NULL")) -> 3 | CE13: 何传英 | CF13: =IF($C13="应届",($U13*0.25)/6,IF($C13="往届",($U13*0.5)/6,"NULL")) -> 3 | CG13: 张弘 | CH13: =IF($C13="应届",($U13*0.25)/6,IF($C13="往届",($U13*0.5)/6,"NULL")) -> 3 | CI13: 16 | CJ13: 周菊明 | CK13: =IF($C13="应届",($U13*0.25)/6,IF($C13="往届",($U13*0.5)/6,"NULL")) -> 3 | CL13: 潘勇 | CM13: =IF($C13="应届",($U13*0.25)/6,IF($C13="往届",($U13*0.5)/6,"NULL")) -> 3 | CN13: 彭丹 | CO13: =IF($C13="应届",($U13*0.25)/6,IF($C13="往届",($U13*0.5)/6,"NULL")) -> 3 | CP13: 康小平 | CQ13: =IF($C13="应届",($U13*0.25)/6,IF($C13="往届",($U13*0.5)/6,"NULL")) -> 3 | CR13: 何传英 | CS13: =IF($C13="应届",($U13*0.25)/6,IF($C13="往届",($U13*0.5)/6,"NULL")) -> 3 | CT13: 张弘 | CU13: =IF($C13="应届",($U13*0.25)/6,IF($C13="往届",($U13*0.5)/6,"NULL")) -> 3
A14: 伍金贵 | B14: 51342220030105191X | C14: 往届 | D14: 物理类 | F14: 0 | G14: 0 | H14: 105 | I14: 109 | J14: 83 | K14: 59 | L14: 69 | M14: 72 | N14: 0 | O14: 0 | P14: =ROUND(SUM(H14:O14),0) -> 497 | Q14: =IF(D14="物理类",IF(P14>=分数线!$C$2,"本科",""),IF(D14="历史类",IF(P14>=分数线!$C$3,"本科",""))) -> 本科 | R14: =IF(F14>0,IF(Q14="本科",(2-F14)*36,-(F14)*36),IF(Q14="本科",2*36,0)) -> 72 | S14: =IF(D14="物理类",IF(P14>=分数线!$C$6,"重本",""),IF(D14="历史类",IF(P14>=分数线!$C$7,"重本",""))) | T14: =IF(G14>0,IF(S14="重本",G14*72,-(G14)*72),IF(S14="重本",2*72,0)) -> 0 | U14: =R14+T14 -> 72 | V14: 16 | W14: #N/A | X14: =IF($C14="应届",($U14*0.1)/6,IF($C14="往届","","NULL")) | Y14: #N/A | Z14: =IF($C14="应届",($U14*0.1)/6,IF($C14="往届","","NULL")) | AA14: #N/A | AB14: =IF($C14="应届",($U14*0.1)/6,IF($C14="往届","","NULL")) | AC14: #N/A | AD14: =IF($C14="应届",($U14*0.1)/6,IF($C14="往届","","NULL")) | AE14: #N/A | AF14: =IF($C14="应届",($U14*0.1)/6,IF($C14="往届","","NULL")) | AG14: #N/A | AH14: =IF($C14="应届",($U14*0.1)/6,IF($C14="往届","","NULL")) | AI14: #N/A | AJ14: #N/A | AK14: =IF($C14="应届",($U14*0.1)/6,IF($C14="往届","","NULL")) | AL14: #N/A | AM14: =IF($C14="应届",($U14*0.1)/6,IF($C14="往届","","NULL")) | AN14: #N/A | AO14: =IF($C14="应届",($U14*0.1)/6,IF($C14="往届","","NULL")) | AP14: #N/A | AQ14: =IF($C14="应届",($U14*0.1)/6,IF($C14="往届","","NULL")) | AR14: #N/A | AS14: =IF($C14="应届",($U14*0.1)/6,IF($C14="往届","","NULL")) | AT14: #N/A | AU14: =IF($C14="应届",($U14*0.1)/6,IF($C14="往届","","NULL")) | AV14: #N/A | AW14: #N/A | AX14: =IF($C14="应届",($U14*0.15)/6,IF($C14="往届","","NULL")) | AY14: #N/A | AZ14: =IF($C14="应届",($U14*0.15)/6,IF($C14="往届","","NULL")) | BA14: #N/A | BB14: =IF($C14="应届",($U14*0.15)/6,IF($C14="往届","","NULL")) | BC14: #N/A | BD14: =IF($C14="应届",($U14*0.15)/6,IF($C14="往届","","NULL")) | BE14: #N/A | BF14: =IF($C14="应届",($U14*0.15)/6,IF($C14="往届","","NULL")) | BG14: #N/A | BH14: =IF($C14="应届",($U14*0.15)/6,IF($C14="往届","","NULL")) | BI14: #N/A | BJ14: #N/A | BK14: =IF($C14="应届",($U14*0.15)/6,IF($C14="往届","","NULL")) | BL14: #N/A | BM14: =IF($C14="应届",($U14*0.15)/6,IF($C14="往届","","NULL")) | BN14: #N/A | BO14: =IF($C14="应届",($U14*0.15)/6,IF($C14="往届","","NULL")) | BP14: #N/A | BQ14: =IF($C14="应届",($U14*0.15)/6,IF($C14="往届","","NULL")) | BR14: #N/A | BS14: =IF($C14="应届",($U14*0.15)/6,IF($C14="往届","","NULL")) | BT14: #N/A | BU14: =IF($C14="应届",($U14*0.15)/6,IF($C14="往届","","NULL")) | BV14: 16 | BW14: 周菊明 | BX14: =IF($C14="应届",($U14*0.25)/6,IF($C14="往届",($U14*0.5)/6,"NULL")) -> 6 | BY14: 潘勇 | BZ14: =IF($C14="应届",($U14*0.25)/6,IF($C14="往届",($U14*0.5)/6,"NULL")) -> 6 | CA14: 彭丹 | CB14: =IF($C14="应届",($U14*0.25)/6,IF($C14="往届",($U14*0.5)/6,"NULL")) -> 6 | CC14: 康小平 | CD14: =IF($C14="应届",($U14*0.25)/6,IF($C14="往届",($U14*0.5)/6,"NULL")) -> 6 | CE14: 何传英 | CF14: =IF($C14="应届",($U14*0.25)/6,IF($C14="往届",($U14*0.5)/6,"NULL")) -> 6 | CG14: 张弘 | CH14: =IF($C14="应届",($U14*0.25)/6,IF($C14="往届",($U14*0.5)/6,"NULL")) -> 6 | CI14: 16 | CJ14: 周菊明 | CK14: =IF($C14="应届",($U14*0.25)/6,IF($C14="往届",($U14*0.5)/6,"NULL")) -> 6 | CL14: 潘勇 | CM14: =IF($C14="应届",($U14*0.25)/6,IF($C14="往届",($U14*0.5)/6,"NULL")) -> 6 | CN14: 彭丹 | CO14: =IF($C14="应届",($U14*0.25)/6,IF($C14="往届",($U14*0.5)/6,"NULL")) -> 6 | CP14: 康小平 | CQ14: =IF($C14="应届",($U14*0.25)/6,IF($C14="往届",($U14*0.5)/6,"NULL")) -> 6 | CR14: 何传英 | CS14: =IF($C14="应届",($U14*0.25)/6,IF($C14="往届",($U14*0.5)/6,"NULL")) -> 6 | CT14: 张弘 | CU14: =IF($C14="应届",($U14*0.25)/6,IF($C14="往届",($U14*0.5)/6,"NULL")) -> 6
A15: 毛正发 | B15: 513422200404054611 | C15: 往届 | D15: 物理类 | F15: 0 | G15: 0 | H15: 106 | I15: 94 | J15: 67 | K15: 68 | L15: 76 | M15: 78 | N15: 0 | O15: 0 | P15: =ROUND(SUM(H15:O15),0) -> 489 | Q15: =IF(D15="物理类",IF(P15>=分数线!$C$2,"本科",""),IF(D15="历史类",IF(P15>=分数线!$C$3,"本科",""))) -> 本科 | R15: =IF(F15>0,IF(Q15="本科",(2-F15)*36,-(F15)*36),IF(Q15="本科",2*36,0)) -> 72 | S15: =IF(D15="物理类",IF(P15>=分数线!$C$6,"重本",""),IF(D15="历史类",IF(P15>=分数线!$C$7,"重本",""))) | T15: =IF(G15>0,IF(S15="重本",G15*72,-(G15)*72),IF(S15="重本",2*72,0)) -> 0 | U15: =R15+T15 -> 72 | V15: 16 | W15: #N/A | X15: =IF($C15="应届",($U15*0.1)/6,IF($C15="往届","","NULL")) | Y15: #N/A | Z15: =IF($C15="应届",($U15*0.1)/6,IF($C15="往届","","NULL")) | AA15: #N/A | AB15: =IF($C15="应届",($U15*0.1)/6,IF($C15="往届","","NULL")) | AC15: #N/A | AD15: =IF($C15="应届",($U15*0.1)/6,IF($C15="往届","","NULL")) | AE15: #N/A | AF15: =IF($C15="应届",($U15*0.1)/6,IF($C15="往届","","NULL")) | AG15: #N/A | AH15: =IF($C15="应届",($U15*0.1)/6,IF($C15="往届","","NULL")) | AI15: #N/A | AJ15: #N/A | AK15: =IF($C15="应届",($U15*0.1)/6,IF($C15="往届","","NULL")) | AL15: #N/A | AM15: =IF($C15="应届",($U15*0.1)/6,IF($C15="往届","","NULL")) | AN15: #N/A | AO15: =IF($C15="应届",($U15*0.1)/6,IF($C15="往届","","NULL")) | AP15: #N/A | AQ15: =IF($C15="应届",($U15*0.1)/6,IF($C15="往届","","NULL")) | AR15: #N/A | AS15: =IF($C15="应届",($U15*0.1)/6,IF($C15="往届","","NULL")) | AT15: #N/A | AU15: =IF($C15="应届",($U15*0.1)/6,IF($C15="往届","","NULL")) | AV15: #N/A | AW15: #N/A | AX15: =IF($C15="应届",($U15*0.15)/6,IF($C15="往届","","NULL")) | AY15: #N/A | AZ15: =IF($C15="应届",($U15*0.15)/6,IF($C15="往届","","NULL")) | BA15: #N/A | BB15: =IF($C15="应届",($U15*0.15)/6,IF($C15="往届","","NULL")) | BC15: #N/A | BD15: =IF($C15="应届",($U15*0.15)/6,IF($C15="往届","","NULL")) | BE15: #N/A | BF15: =IF($C15="应届",($U15*0.15)/6,IF($C15="往届","","NULL")) | BG15: #N/A | BH15: =IF($C15="应届",($U15*0.15)/6,IF($C15="往届","","NULL")) | BI15: #N/A | BJ15: #N/A | BK15: =IF($C15="应届",($U15*0.15)/6,IF($C15="往届","","NULL")) | BL15: #N/A | BM15: =IF($C15="应届",($U15*0.15)/6,IF($C15="往届","","NULL")) | BN15: #N/A | BO15: =IF($C15="应届",($U15*0.15)/6,IF($C15="往届","","NULL")) | BP15: #N/A | BQ15: =IF($C15="应届",($U15*0.15)/6,IF($C15="往届","","NULL")) | BR15: #N/A | BS15: =IF($C15="应届",($U15*0.15)/6,IF($C15="往届","","NULL")) | BT15: #N/A | BU15: =IF($C15="应届",($U15*0.15)/6,IF($C15="往届","","NULL")) | BV15: 16 | BW15: 周菊明 | BX15: =IF($C15="应届",($U15*0.25)/6,IF($C15="往届",($U15*0.5)/6,"NULL")) -> 6 | BY15: 潘勇 | BZ15: =IF($C15="应届",($U15*0.25)/6,IF($C15="往届",($U15*0.5)/6,"NULL")) -> 6 | CA15: 彭丹 | CB15: =IF($C15="应届",($U15*0.25)/6,IF($C15="往届",($U15*0.5)/6,"NULL")) -> 6 | CC15: 康小平 | CD15: =IF($C15="应届",($U15*0.25)/6,IF($C15="往届",($U15*0.5)/6,"NULL")) -> 6 | CE15: 何传英 | CF15: =IF($C15="应届",($U15*0.25)/6,IF($C15="往届",($U15*0.5)/6,"NULL")) -> 6 | CG15: 张弘 | CH15: =IF($C15="应届",($U15*0.25)/6,IF($C15="往届",($U15*0.5)/6,"NULL")) -> 6 | CI15: 16 | CJ15: 周菊明 | CK15: =IF($C15="应届",($U15*0.25)/6,IF($C15="往届",($U15*0.5)/6,"NULL")) -> 6 | CL15: 潘勇 | CM15: =IF($C15="应届",($U15*0.25)/6,IF($C15="往届",($U15*0.5)/6,"NULL")) -> 6 | CN15: 彭丹 | CO15: =IF($C15="应届",($U15*0.25)/6,IF($C15="往届",($U15*0.5)/6,"NULL")) -> 6 | CP15: 康小平 | CQ15: =IF($C15="应届",($U15*0.25)/6,IF($C15="往届",($U15*0.5)/6,"NULL")) -> 6 | CR15: 何传英 | CS15: =IF($C15="应届",($U15*0.25)/6,IF($C15="往届",($U15*0.5)/6,"NULL")) -> 6 | CT15: 张弘 | CU15: =IF($C15="应届",($U15*0.25)/6,IF($C15="往届",($U15*0.5)/6,"NULL")) -> 6
A16: 马友才 | B16: 513422200408134432 | C16: 往届 | D16: 物理类 | F16: 1 | G16: 0 | H16: 92 | I16: 102 | J16: 65 | K16: 64 | L16: 80 | M16: 83 | N16: 0 | O16: 0 | P16: =ROUND(SUM(H16:O16),0) -> 486 | Q16: =IF(D16="物理类",IF(P16>=分数线!$C$2,"本科",""),IF(D16="历史类",IF(P16>=分数线!$C$3,"本科",""))) -> 本科 | R16: =IF(F16>0,IF(Q16="本科",(2-F16)*36,-(F16)*36),IF(Q16="本科",2*36,0)) -> 36 | S16: =IF(D16="物理类",IF(P16>=分数线!$C$6,"重本",""),IF(D16="历史类",IF(P16>=分数线!$C$7,"重本",""))) | T16: =IF(G16>0,IF(S16="重本",G16*72,-(G16)*72),IF(S16="重本",2*72,0)) -> 0 | U16: =R16+T16 -> 36 | V16: 16 | W16: #N/A | X16: =IF($C16="应届",($U16*0.1)/6,IF($C16="往届","","NULL")) | Y16: #N/A | Z16: =IF($C16="应届",($U16*0.1)/6,IF($C16="往届","","NULL")) | AA16: #N/A | AB16: =IF($C16="应届",($U16*0.1)/6,IF($C16="往届","","NULL")) | AC16: #N/A | AD16: =IF($C16="应届",($U16*0.1)/6,IF($C16="往届","","NULL")) | AE16: #N/A | AF16: =IF($C16="应届",($U16*0.1)/6,IF($C16="往届","","NULL")) | AG16: #N/A | AH16: =IF($C16="应届",($U16*0.1)/6,IF($C16="往届","","NULL")) | AI16: #N/A | AJ16: #N/A | AK16: =IF($C16="应届",($U16*0.1)/6,IF($C16="往届","","NULL")) | AL16: #N/A | AM16: =IF($C16="应届",($U16*0.1)/6,IF($C16="往届","","NULL")) | AN16: #N/A | AO16: =IF($C16="应届",($U16*0.1)/6,IF($C16="往届","","NULL")) | AP16: #N/A | AQ16: =IF($C16="应届",($U16*0.1)/6,IF($C16="往届","","NULL")) | AR16: #N/A | AS16: =IF($C16="应届",($U16*0.1)/6,IF($C16="往届","","NULL")) | AT16: #N/A | AU16: =IF($C16="应届",($U16*0.1)/6,IF($C16="往届","","NULL")) | AV16: #N/A | AW16: #N/A | AX16: =IF($C16="应届",($U16*0.15)/6,IF($C16="往届","","NULL")) | AY16: #N/A | AZ16: =IF($C16="应届",($U16*0.15)/6,IF($C16="往届","","NULL")) | BA16: #N/A | BB16: =IF($C16="应届",($U16*0.15)/6,IF($C16="往届","","NULL")) | BC16: #N/A | BD16: =IF($C16="应届",($U16*0.15)/6,IF($C16="往届","","NULL")) | BE16: #N/A | BF16: =IF($C16="应届",($U16*0.15)/6,IF($C16="往届","","NULL")) | BG16: #N/A | BH16: =IF($C16="应届",($U16*0.15)/6,IF($C16="往届","","NULL")) | BI16: #N/A | BJ16: #N/A | BK16: =IF($C16="应届",($U16*0.15)/6,IF($C16="往届","","NULL")) | BL16: #N/A | BM16: =IF($C16="应届",($U16*0.15)/6,IF($C16="往届","","NULL")) | BN16: #N/A | BO16: =IF($C16="应届",($U16*0.15)/6,IF($C16="往届","","NULL")) | BP16: #N/A | BQ16: =IF($C16="应届",($U16*0.15)/6,IF($C16="往届","","NULL")) | BR16: #N/A | BS16: =IF($C16="应届",($U16*0.15)/6,IF($C16="往届","","NULL")) | BT16: #N/A | BU16: =IF($C16="应届",($U16*0.15)/6,IF($C16="往届","","NULL")) | BV16: 16 | BW16: 周菊明 | BX16: =IF($C16="应届",($U16*0.25)/6,IF($C16="往届",($U16*0.5)/6,"NULL")) -> 3 | BY16: 潘勇 | BZ16: =IF($C16="应届",($U16*0.25)/6,IF($C16="往届",($U16*0.5)/6,"NULL")) -> 3 | CA16: 彭丹 | CB16: =IF($C16="应届",($U16*0.25)/6,IF($C16="往届",($U16*0.5)/6,"NULL")) -> 3 | CC16: 康小平 | CD16: =IF($C16="应届",($U16*0.25)/6,IF($C16="往届",($U16*0.5)/6,"NULL")) -> 3 | CE16: 何传英 | CF16: =IF($C16="应届",($U16*0.25)/6,IF($C16="往届",($U16*0.5)/6,"NULL")) -> 3 | CG16: 张弘 | CH16: =IF($C16="应届",($U16*0.25)/6,IF($C16="往届",($U16*0.5)/6,"NULL")) -> 3 | CI16: 16 | CJ16: 周菊明 | CK16: =IF($C16="应届",($U16*0.25)/6,IF($C16="往届",($U16*0.5)/6,"NULL")) -> 3 | CL16: 潘勇 | CM16: =IF($C16="应届",($U16*0.25)/6,IF($C16="往届",($U16*0.5)/6,"NULL")) -> 3 | CN16: 彭丹 | CO16: =IF($C16="应届",($U16*0.25)/6,IF($C16="往届",($U16*0.5)/6,"NULL")) -> 3 | CP16: 康小平 | CQ16: =IF($C16="应届",($U16*0.25)/6,IF($C16="往届",($U16*0.5)/6,"NULL")) -> 3 | CR16: 何传英 | CS16: =IF($C16="应届",($U16*0.25)/6,IF($C16="往届",($U16*0.5)/6,"NULL")) -> 3 | CT16: 张弘 | CU16: =IF($C16="应届",($U16*0.25)/6,IF($C16="往届",($U16*0.5)/6,"NULL")) -> 3
A17: 次能翁丁 | B17: 513422200412273419 | C17: 往届 | D17: 物理类 | F17: 0 | G17: 0 | H17: 96 | I17: 95 | J17: 67 | K17: 60 | L17: 81 | M17: 68 | N17: 0 | O17: 0 | P17: =ROUND(SUM(H17:O17),0) -> 467 | Q17: =IF(D17="物理类",IF(P17>=分数线!$C$2,"本科",""),IF(D17="历史类",IF(P17>=分数线!$C$3,"本科",""))) -> 本科 | R17: =IF(F17>0,IF(Q17="本科",(2-F17)*36,-(F17)*36),IF(Q17="本科",2*36,0)) -> 72 | S17: =IF(D17="物理类",IF(P17>=分数线!$C$6,"重本",""),IF(D17="历史类",IF(P17>=分数线!$C$7,"重本",""))) | T17: =IF(G17>0,IF(S17="重本",G17*72,-(G17)*72),IF(S17="重本",2*72,0)) -> 0 | U17: =R17+T17 -> 72 | V17: 16 | W17: #N/A | X17: =IF($C17="应届",($U17*0.1)/6,IF($C17="往届","","NULL")) | Y17: #N/A | Z17: =IF($C17="应届",($U17*0.1)/6,IF($C17="往届","","NULL")) | AA17: #N/A | AB17: =IF($C17="应届",($U17*0.1)/6,IF($C17="往届","","NULL")) | AC17: #N/A | AD17: =IF($C17="应届",($U17*0.1)/6,IF($C17="往届","","NULL")) | AE17: #N/A | AF17: =IF($C17="应届",($U17*0.1)/6,IF($C17="往届","","NULL")) | AG17: #N/A | AH17: =IF($C17="应届",($U17*0.1)/6,IF($C17="往届","","NULL")) | AI17: #N/A | AJ17: #N/A | AK17: =IF($C17="应届",($U17*0.1)/6,IF($C17="往届","","NULL")) | AL17: #N/A | AM17: =IF($C17="应届",($U17*0.1)/6,IF($C17="往届","","NULL")) | AN17: #N/A | AO17: =IF($C17="应届",($U17*0.1)/6,IF($C17="往届","","NULL")) | AP17: #N/A | AQ17: =IF($C17="应届",($U17*0.1)/6,IF($C17="往届","","NULL")) | AR17: #N/A | AS17: =IF($C17="应届",($U17*0.1)/6,IF($C17="往届","","NULL")) | AT17: #N/A | AU17: =IF($C17="应届",($U17*0.1)/6,IF($C17="往届","","NULL")) | AV17: #N/A | AW17: #N/A | AX17: =IF($C17="应届",($U17*0.15)/6,IF($C17="往届","","NULL")) | AY17: #N/A | AZ17: =IF($C17="应届",($U17*0.15)/6,IF($C17="往届","","NULL")) | BA17: #N/A | BB17: =IF($C17="应届",($U17*0.15)/6,IF($C17="往届","","NULL")) | BC17: #N/A | BD17: =IF($C17="应届",($U17*0.15)/6,IF($C17="往届","","NULL")) | BE17: #N/A | BF17: =IF($C17="应届",($U17*0.15)/6,IF($C17="往届","","NULL")) | BG17: #N/A | BH17: =IF($C17="应届",($U17*0.15)/6,IF($C17="往届","","NULL")) | BI17: #N/A | BJ17: #N/A | BK17: =IF($C17="应届",($U17*0.15)/6,IF($C17="往届","","NULL")) | BL17: #N/A | BM17: =IF($C17="应届",($U17*0.15)/6,IF($C17="往届","","NULL")) | BN17: #N/A | BO17: =IF($C17="应届",($U17*0.15)/6,IF($C17="往届","","NULL")) | BP17: #N/A | BQ17: =IF($C17="应届",($U17*0.15)/6,IF($C17="往届","","NULL")) | BR17: #N/A | BS17: =IF($C17="应届",($U17*0.15)/6,IF($C17="往届","","NULL")) | BT17: #N/A | BU17: =IF($C17="应届",($U17*0.15)/6,IF($C17="往届","","NULL")) | BV17: 16 | BW17: 周菊明 | BX17: =IF($C17="应届",($U17*0.25)/6,IF($C17="往届",($U17*0.5)/6,"NULL")) -> 6 | BY17: 潘勇 | BZ17: =IF($C17="应届",($U17*0.25)/6,IF($C17="往届",($U17*0.5)/6,"NULL")) -> 6 | CA17: 彭丹 | CB17: =IF($C17="应届",($U17*0.25)/6,IF($C17="往届",($U17*0.5)/6,"NULL")) -> 6 | CC17: 康小平 | CD17: =IF($C17="应届",($U17*0.25)/6,IF($C17="往届",($U17*0.5)/6,"NULL")) -> 6 | CE17: 何传英 | CF17: =IF($C17="应届",($U17*0.25)/6,IF($C17="往届",($U17*0.5)/6,"NULL")) -> 6 | CG17: 张弘 | CH17: =IF($C17="应届",($U17*0.25)/6,IF($C17="往届",($U17*0.5)/6,"NULL")) -> 6 | CI17: 16 | CJ17: 周菊明 | CK17: =IF($C17="应届",($U17*0.25)/6,IF($C17="往届",($U17*0.5)/6,"NULL")) -> 6 | CL17: 潘勇 | CM17: =IF($C17="应届",($U17*0.25)/6,IF($C17="往届",($U17*0.5)/6,"NULL")) -> 6 | CN17: 彭丹 | CO17: =IF($C17="应届",($U17*0.25)/6,IF($C17="往届",($U17*0.5)/6,"NULL")) -> 6 | CP17: 康小平 | CQ17: =IF($C17="应届",($U17*0.25)/6,IF($C17="往届",($U17*0.5)/6,"NULL")) -> 6 | CR17: 何传英 | CS17: =IF($C17="应届",($U17*0.25)/6,IF($C17="往届",($U17*0.5)/6,"NULL")) -> 6 | CT17: 张弘 | CU17: =IF($C17="应届",($U17*0.25)/6,IF($C17="往届",($U17*0.5)/6,"NULL")) -> 6
A18: 王浩宇 | B18: 513422200509293619 | C18: 往届 | D18: 物理类 | F18: 0 | G18: 0 | H18: 101 | I18: 95 | J18: 68 | K18: 57 | L18: 73 | M18: 72 | N18: 0 | O18: 0 | P18: =ROUND(SUM(H18:O18),0) -> 466 | Q18: =IF(D18="物理类",IF(P18>=分数线!$C$2,"本科",""),IF(D18="历史类",IF(P18>=分数线!$C$3,"本科",""))) -> 本科 | R18: =IF(F18>0,IF(Q18="本科",(2-F18)*36,-(F18)*36),IF(Q18="本科",2*36,0)) -> 72 | S18: =IF(D18="物理类",IF(P18>=分数线!$C$6,"重本",""),IF(D18="历史类",IF(P18>=分数线!$C$7,"重本",""))) | T18: =IF(G18>0,IF(S18="重本",G18*72,-(G18)*72),IF(S18="重本",2*72,0)) -> 0 | U18: =R18+T18 -> 72 | V18: 16 | W18: #N/A | X18: =IF($C18="应届",($U18*0.1)/6,IF($C18="往届","","NULL")) | Y18: #N/A | Z18: =IF($C18="应届",($U18*0.1)/6,IF($C18="往届","","NULL")) | AA18: #N/A | AB18: =IF($C18="应届",($U18*0.1)/6,IF($C18="往届","","NULL")) | AC18: #N/A | AD18: =IF($C18="应届",($U18*0.1)/6,IF($C18="往届","","NULL")) | AE18: #N/A | AF18: =IF($C18="应届",($U18*0.1)/6,IF($C18="往届","","NULL")) | AG18: #N/A | AH18: =IF($C18="应届",($U18*0.1)/6,IF($C18="往届","","NULL")) | AI18: #N/A | AJ18: #N/A | AK18: =IF($C18="应届",($U18*0.1)/6,IF($C18="往届","","NULL")) | AL18: #N/A | AM18: =IF($C18="应届",($U18*0.1)/6,IF($C18="往届","","NULL")) | AN18: #N/A | AO18: =IF($C18="应届",($U18*0.1)/6,IF($C18="往届","","NULL")) | AP18: #N/A | AQ18: =IF($C18="应届",($U18*0.1)/6,IF($C18="往届","","NULL")) | AR18: #N/A | AS18: =IF($C18="应届",($U18*0.1)/6,IF($C18="往届","","NULL")) | AT18: #N/A | AU18: =IF($C18="应届",($U18*0.1)/6,IF($C18="往届","","NULL")) | AV18: #N/A | AW18: #N/A | AX18: =IF($C18="应届",($U18*0.15)/6,IF($C18="往届","","NULL")) | AY18: #N/A | AZ18: =IF($C18="应届",($U18*0.15)/6,IF($C18="往届","","NULL")) | BA18: #N/A | BB18: =IF($C18="应届",($U18*0.15)/6,IF($C18="往届","","NULL")) | BC18: #N/A | BD18: =IF($C18="应届",($U18*0.15)/6,IF($C18="往届","","NULL")) | BE18: #N/A | BF18: =IF($C18="应届",($U18*0.15)/6,IF($C18="往届","","NULL")) | BG18: #N/A | BH18: =IF($C18="应届",($U18*0.15)/6,IF($C18="往届","","NULL")) | BI18: #N/A | BJ18: #N/A | BK18: =IF($C18="应届",($U18*0.15)/6,IF($C18="往届","","NULL")) | BL18: #N/A | BM18: =IF($C18="应届",($U18*0.15)/6,IF($C18="往届","","NULL")) | BN18: #N/A | BO18: =IF($C18="应届",($U18*0.15)/6,IF($C18="往届","","NULL")) | BP18: #N/A | BQ18: =IF($C18="应届",($U18*0.15)/6,IF($C18="往届","","NULL")) | BR18: #N/A | BS18: =IF($C18="应届",($U18*0.15)/6,IF($C18="往届","","NULL")) | BT18: #N/A | BU18: =IF($C18="应届",($U18*0.15)/6,IF($C18="往届","","NULL")) | BV18: 16 | BW18: 周菊明 | BX18: =IF($C18="应届",($U18*0.25)/6,IF($C18="往届",($U18*0.5)/6,"NULL")) -> 6 | BY18: 潘勇 | BZ18: =IF($C18="应届",($U18*0.25)/6,IF($C18="往届",($U18*0.5)/6,"NULL")) -> 6 | CA18: 彭丹 | CB18: =IF($C18="应届",($U18*0.25)/6,IF($C18="往届",($U18*0.5)/6,"NULL")) -> 6 | CC18: 康小平 | CD18: =IF($C18="应届",($U18*0.25)/6,IF($C18="往届",($U18*0.5)/6,"NULL")) -> 6 | CE18: 何传英 | CF18: =IF($C18="应届",($U18*0.25)/6,IF($C18="往届",($U18*0.5)/6,"NULL")) -> 6 | CG18: 张弘 | CH18: =IF($C18="应届",($U18*0.25)/6,IF($C18="往届",($U18*0.5)/6,"NULL")) -> 6 | CI18: 16 | CJ18: 周菊明 | CK18: =IF($C18="应届",($U18*0.25)/6,IF($C18="往届",($U18*0.5)/6,"NULL")) -> 6 | CL18: 潘勇 | CM18: =IF($C18="应届",($U18*0.25)/6,IF($C18="往届",($U18*0.5)/6,"NULL")) -> 6 | CN18: 彭丹 | CO18: =IF($C18="应届",($U18*0.25)/6,IF($C18="往届",($U18*0.5)/6,"NULL")) -> 6 | CP18: 康小平 | CQ18: =IF($C18="应届",($U18*0.25)/6,IF($C18="往届",($U18*0.5)/6,"NULL")) -> 6 | CR18: 何传英 | CS18: =IF($C18="应届",($U18*0.25)/6,IF($C18="往届",($U18*0.5)/6,"NULL")) -> 6 | CT18: 张弘 | CU18: =IF($C18="应届",($U18*0.25)/6,IF($C18="往届",($U18*0.5)/6,"NULL")) -> 6
A19: 金友坡 | B19: 513422200310201510 | C19: 往届 | D19: 物理类 | F19: 0 | G19: 0 | H19: 112 | I19: 83 | J19: 81 | K19: 43 | L19: 69 | M19: 71 | N19: 0 | O19: 0 | P19: =ROUND(SUM(H19:O19),0) -> 459 | Q19: =IF(D19="物理类",IF(P19>=分数线!$C$2,"本科",""),IF(D19="历史类",IF(P19>=分数线!$C$3,"本科",""))) -> 本科 | R19: =IF(F19>0,IF(Q19="本科",(2-F19)*36,-(F19)*36),IF(Q19="本科",2*36,0)) -> 72 | S19: =IF(D19="物理类",IF(P19>=分数线!$C$6,"重本",""),IF(D19="历史类",IF(P19>=分数线!$C$7,"重本",""))) | T19: =IF(G19>0,IF(S19="重本",G19*72,-(G19)*72),IF(S19="重本",2*72,0)) -> 0 | U19: =R19+T19 -> 72 | V19: 16 | W19: #N/A | X19: =IF($C19="应届",($U19*0.1)/6,IF($C19="往届","","NULL")) | Y19: #N/A | Z19: =IF($C19="应届",($U19*0.1)/6,IF($C19="往届","","NULL")) | AA19: #N/A | AB19: =IF($C19="应届",($U19*0.1)/6,IF($C19="往届","","NULL")) | AC19: #N/A | AD19: =IF($C19="应届",($U19*0.1)/6,IF($C19="往届","","NULL")) | AE19: #N/A | AF19: =IF($C19="应届",($U19*0.1)/6,IF($C19="往届","","NULL")) | AG19: #N/A | AH19: =IF($C19="应届",($U19*0.1)/6,IF($C19="往届","","NULL")) | AI19: #N/A | AJ19: #N/A | AK19: =IF($C19="应届",($U19*0.1)/6,IF($C19="往届","","NULL")) | AL19: #N/A | AM19: =IF($C19="应届",($U19*0.1)/6,IF($C19="往届","","NULL")) | AN19: #N/A | AO19: =IF($C19="应届",($U19*0.1)/6,IF($C19="往届","","NULL")) | AP19: #N/A | AQ19: =IF($C19="应届",($U19*0.1)/6,IF($C19="往届","","NULL")) | AR19: #N/A | AS19: =IF($C19="应届",($U19*0.1)/6,IF($C19="往届","","NULL")) | AT19: #N/A | AU19: =IF($C19="应届",($U19*0.1)/6,IF($C19="往届","","NULL")) | AV19: #N/A | AW19: #N/A | AX19: =IF($C19="应届",($U19*0.15)/6,IF($C19="往届","","NULL")) | AY19: #N/A | AZ19: =IF($C19="应届",($U19*0.15)/6,IF($C19="往届","","NULL")) | BA19: #N/A | BB19: =IF($C19="应届",($U19*0.15)/6,IF($C19="往届","","NULL")) | BC19: #N/A | BD19: =IF($C19="应届",($U19*0.15)/6,IF($C19="往届","","NULL")) | BE19: #N/A | BF19: =IF($C19="应届",($U19*0.15)/6,IF($C19="往届","","NULL")) | BG19: #N/A | BH19: =IF($C19="应届",($U19*0.15)/6,IF($C19="往届","","NULL")) | BI19: #N/A | BJ19: #N/A | BK19: =IF($C19="应届",($U19*0.15)/6,IF($C19="往届","","NULL")) | BL19: #N/A | BM19: =IF($C19="应届",($U19*0.15)/6,IF($C19="往届","","NULL")) | BN19: #N/A | BO19: =IF($C19="应届",($U19*0.15)/6,IF($C19="往届","","NULL")) | BP19: #N/A | BQ19: =IF($C19="应届",($U19*0.15)/6,IF($C19="往届","","NULL")) | BR19: #N/A | BS19: =IF($C19="应届",($U19*0.15)/6,IF($C19="往届","","NULL")) | BT19: #N/A | BU19: =IF($C19="应届",($U19*0.15)/6,IF($C19="往届","","NULL")) | BV19: 16 | BW19: 周菊明 | BX19: =IF($C19="应届",($U19*0.25)/6,IF($C19="往届",($U19*0.5)/6,"NULL")) -> 6 | BY19: 潘勇 | BZ19: =IF($C19="应届",($U19*0.25)/6,IF($C19="往届",($U19*0.5)/6,"NULL")) -> 6 | CA19: 彭丹 | CB19: =IF($C19="应届",($U19*0.25)/6,IF($C19="往届",($U19*0.5)/6,"NULL")) -> 6 | CC19: 康小平 | CD19: =IF($C19="应届",($U19*0.25)/6,IF($C19="往届",($U19*0.5)/6,"NULL")) -> 6 | CE19: 何传英 | CF19: =IF($C19="应届",($U19*0.25)/6,IF($C19="往届",($U19*0.5)/6,"NULL")) -> 6 | CG19: 张弘 | CH19: =IF($C19="应届",($U19*0.25)/6,IF($C19="往届",($U19*0.5)/6,"NULL")) -> 6 | CI19: 16 | CJ19: 周菊明 | CK19: =IF($C19="应届",($U19*0.25)/6,IF($C19="往届",($U19*0.5)/6,"NULL")) -> 6 | CL19: 潘勇 | CM19: =IF($C19="应届",($U19*0.25)/6,IF($C19="往届",($U19*0.5)/6,"NULL")) -> 6 | CN19: 彭丹 | CO19: =IF($C19="应届",($U19*0.25)/6,IF($C19="往届",($U19*0.5)/6,"NULL")) -> 6 | CP19: 康小平 | CQ19: =IF($C19="应届",($U19*0.25)/6,IF($C19="往届",($U19*0.5)/6,"NULL")) -> 6 | CR19: 何传英 | CS19: =IF($C19="应届",($U19*0.25)/6,IF($C19="往届",($U19*0.5)/6,"NULL")) -> 6 | CT19: 张弘 | CU19: =IF($C19="应届",($U19*0.25)/6,IF($C19="往届",($U19*0.5)/6,"NULL")) -> 6
A20: 吕萍 | B20: 513422200908071124 | C20: 往届 | D20: 物理类 | F20: 0 | G20: 0 | H20: 95 | I20: 93 | J20: 78 | K20: 43 | L20: 83 | M20: 66 | N20: 0 | O20: 0 | P20: =ROUND(SUM(H20:O20),0) -> 458 | Q20: =IF(D20="物理类",IF(P20>=分数线!$C$2,"本科",""),IF(D20="历史类",IF(P20>=分数线!$C$3,"本科",""))) -> 本科 | R20: =IF(F20>0,IF(Q20="本科",(2-F20)*36,-(F20)*36),IF(Q20="本科",2*36,0)) -> 72 | S20: =IF(D20="物理类",IF(P20>=分数线!$C$6,"重本",""),IF(D20="历史类",IF(P20>=分数线!$C$7,"重本",""))) | T20: =IF(G20>0,IF(S20="重本",G20*72,-(G20)*72),IF(S20="重本",2*72,0)) -> 0 | U20: =R20+T20 -> 72 | V20: 16 | W20: #N/A | X20: =IF($C20="应届",($U20*0.1)/6,IF($C20="往届","","NULL")) | Y20: #N/A | Z20: =IF($C20="应届",($U20*0.1)/6,IF($C20="往届","","NULL")) | AA20: #N/A | AB20: =IF($C20="应届",($U20*0.1)/6,IF($C20="往届","","NULL")) | AC20: #N/A | AD20: =IF($C20="应届",($U20*0.1)/6,IF($C20="往届","","NULL")) | AE20: #N/A | AF20: =IF($C20="应届",($U20*0.1)/6,IF($C20="往届","","NULL")) | AG20: #N/A | AH20: =IF($C20="应届",($U20*0.1)/6,IF($C20="往届","","NULL")) | AI20: #N/A | AJ20: #N/A | AK20: =IF($C20="应届",($U20*0.1)/6,IF($C20="往届","","NULL")) | AL20: #N/A | AM20: =IF($C20="应届",($U20*0.1)/6,IF($C20="往届","","NULL")) | AN20: #N/A | AO20: =IF($C20="应届",($U20*0.1)/6,IF($C20="往届","","NULL")) | AP20: #N/A | AQ20: =IF($C20="应届",($U20*0.1)/6,IF($C20="往届","","NULL")) | AR20: #N/A | AS20: =IF($C20="应届",($U20*0.1)/6,IF($C20="往届","","NULL")) | AT20: #N/A | AU20: =IF($C20="应届",($U20*0.1)/6,IF($C20="往届","","NULL")) | AV20: #N/A | AW20: #N/A | AX20: =IF($C20="应届",($U20*0.15)/6,IF($C20="往届","","NULL")) | AY20: #N/A | AZ20: =IF($C20="应届",($U20*0.15)/6,IF($C20="往届","","NULL")) | BA20: #N/A | BB20: =IF($C20="应届",($U20*0.15)/6,IF($C20="往届","","NULL")) | BC20: #N/A | BD20: =IF($C20="应届",($U20*0.15)/6,IF($C20="往届","","NULL")) | BE20: #N/A | BF20: =IF($C20="应届",($U20*0.15)/6,IF($C20="往届","","NULL")) | BG20: #N/A | BH20: =IF($C20="应届",($U20*0.15)/6,IF($C20="往届","","NULL")) | BI20: #N/A | BJ20: #N/A | BK20: =IF($C20="应届",($U20*0.15)/6,IF($C20="往届","","NULL")) | BL20: #N/A | BM20: =IF($C20="应届",($U20*0.15)/6,IF($C20="往届","","NULL")) | BN20: #N/A | BO20: =IF($C20="应届",($U20*0.15)/6,IF($C20="往届","","NULL")) | BP20: #N/A | BQ20: =IF($C20="应届",($U20*0.15)/6,IF($C20="往届","","NULL")) | BR20: #N/A | BS20: =IF($C20="应届",($U20*0.15)/6,IF($C20="往届","","NULL")) | BT20: #N/A | BU20: =IF($C20="应届",($U20*0.15)/6,IF($C20="往届","","NULL")) | BV20: 16 | BW20: 周菊明 | BX20: =IF($C20="应届",($U20*0.25)/6,IF($C20="往届",($U20*0.5)/6,"NULL")) -> 6 | BY20: 潘勇 | BZ20: =IF($C20="应届",($U20*0.25)/6,IF($C20="往届",($U20*0.5)/6,"NULL")) -> 6 | CA20: 彭丹 | CB20: =IF($C20="应届",($U20*0.25)/6,IF($C20="往届",($U20*0.5)/6,"NULL")) -> 6 | CC20: 康小平 | CD20: =IF($C20="应届",($U20*0.25)/6,IF($C20="往届",($U20*0.5)/6,"NULL")) -> 6 | CE20: 何传英 | CF20: =IF($C20="应届",($U20*0.25)/6,IF($C20="往届",($U20*0.5)/6,"NULL")) -> 6 | CG20: 张弘 | CH20: =IF($C20="应届",($U20*0.25)/6,IF($C20="往届",($U20*0.5)/6,"NULL")) -> 6 | CI20: 16 | CJ20: 周菊明 | CK20: =IF($C20="应届",($U20*0.25)/6,IF($C20="往届",($U20*0.5)/6,"NULL")) -> 6 | CL20: 潘勇 | CM20: =IF($C20="应届",($U20*0.25)/6,IF($C20="往届",($U20*0.5)/6,"NULL")) -> 6 | CN20: 彭丹 | CO20: =IF($C20="应届",($U20*0.25)/6,IF($C20="往届",($U20*0.5)/6,"NULL")) -> 6 | CP20: 康小平 | CQ20: =IF($C20="应届",($U20*0.25)/6,IF($C20="往届",($U20*0.5)/6,"NULL")) -> 6 | CR20: 何传英 | CS20: =IF($C20="应届",($U20*0.25)/6,IF($C20="往届",($U20*0.5)/6,"NULL")) -> 6 | CT20: 张弘 | CU20: =IF($C20="应届",($U20*0.25)/6,IF($C20="往届",($U20*0.5)/6,"NULL")) -> 6
