Workbook
Name 科类: [1]成绩册!$F$3:$F$613

Sheet 质量奖
A1: 高二教学质量奖
A2: 科目 | B2: 奖项 | C2: 奖励金额/元 | D2: 实发金额/元
A3: 高二物理类语文 | B3: 三等奖 | C3: =3000*6 -> 18000 | D3: =C3*0.8 -> 14400
A4: 高二物理类数学 | B4: 三等奖 | C4: =3000*4 -> 12000 | D4: =C4*0.8 -> 9600
A5: 高二物理类化学 | B5: 三等奖 | C5: =1800*5 -> 9000 | D5: =C5*0.8 -> 7200
A6: 高二物理类生物 | B6: 二等奖 | C6: =3000*4 -> 12000 | D6: =C6*0.8 -> 9600
A7: 高二物理类地理 | B7: 二等奖 | C7: =3000*1 -> 3000 | D7: =C7*0.8 -> 2400
A8: 高二历史类语文 | B8: 三等奖 | C8: =3000*7 -> 21000 | D8: =C8*0.8 -> 16800
A9: 高二历史类数学 | B9: 三等奖 | C9: =3000*6 -> 18000 | D9: =C9*0.8 -> 14400
A10: 高二历史类历史 | B10: 三等奖 | C10: =2400*8 -> 19200 | D10: =C10*0.8 -> 15360
D11: =C11*0.8 -> 0
D12: =C12*0.8 -> 0
D13: =C13*0.8 -> 0
D14: =C14*0.8 -> 0
B15: 合计 | C15: =SUM(C3:C14) -> 112200 | D15: =SUM(D3:D14) -> 89760
B16: 奖项 | C16: 奖励金额/元 | D16: 实发金额/元
A17: 1.高二物理类语文 | B17: 三等奖 | C17: 18000 | D17: 14400 | I17: 工作量
A18: 班级 | B18: 科目 | C18: 参考人数 | D18: 年级平均分 | E18: 班平均分 | F18: 班平均分/年级平均分 | G18: 名次 | H18: 任课课师 | I18: 上期课时 | J18: 下期课时 | K18: 课时奖 | L18: 贡献奖 | M18: 合计
A19: 高二年级（1）班 | B19: 语文 | C19: 41 | D19: 91.17 | E19: 103.63415 | F19: =E19/D19 -> 1.1367132 | G19: 1 | H19: 张玉婷 | I19: 7 | J19: 8 | K19: =$D$17*0.4*SUM(I19:J19)/SUM($I$19:$J$26) -> 720 | L19: =$D$17*0.6*0.7*E19/SUM($E$19:$E$26)+$D$17*0.6*0.3*F19/SUM($F$19:$F$26) -> 1228.3041 | M19: =SUM(K19:L19) -> 1948.3041
A20: 高二年级（3）班 | B20: 语文 | C20: 49 | D20: 91.17 | E20: 96.510204 | F20: =E20/D20 -> 1.0585741 | G20: 2 | H20: 朱霞/康义美 | I20: 7 | J20: 8 | K20: =$D$17*0.4*SUM(I20:J20)/SUM($I$19:$J$26) -> 720 | L20: =$D$17*0.6*0.7*E20/SUM($E$19:$E$26)+$D$17*0.6*0.3*F20/SUM($F$19:$F$26) -> 1143.8689 | M20: =SUM(K20:L20) -> 1863.8689
A21: 高二年级（2）班 | B21: 语文 | C21: 51 | D21: 91.17 | E21: 95.764706 | F21: =E21/D21 -> 1.0503971 | G21: 3 | H21: 刘权芳 | I21: 7 | J21: 8 | K21: =$D$17*0.4*SUM(I21:J21)/SUM($I$19:$J$26) -> 720 | L21: =$D$17*0.6*0.7*E21/SUM($E$19:$E$26)+$D$17*0.6*0.3*F21/SUM($F$19:$F$26) -> 1135.0331 | M21: =SUM(K21:L21) -> 1855.0331
A22: 高二年级（6）班 | B22: 语文 | C22: 34 | D22: 91.17 | E22: 88.058824 | F22: =E22/D22 -> 0.965875 | G22: 4 | H22: 张镇鹏 | I22: 7 | J22: 8 | K22: =$D$17*0.4*SUM(I22:J22)/SUM($I$19:$J$26) -> 720 | L22: =$D$17*0.6*0.7*E22/SUM($E$19:$E$26)+$D$17*0.6*0.3*F22/SUM($F$19:$F$26) -> 1043.7005 | M22: =SUM(K22:L22) -> 1763.7005
A23: 高二年级（4）班 | B23: 语文 | C23: 46 | D23: 91.17 | E23: 87.956522 | F23: =E23/D23 -> 0.9647529 | G23: 5 | H23: 向美娟/刘权芳 | I23: 7 | J23: 8 | K23: =$D$17*0.4*SUM(I23:J23)/SUM($I$19:$J$26) -> 720 | L23: =$D$17*0.6*0.7*E23/SUM($E$19:$E$26)+$D$17*0.6*0.3*F23/SUM($F$19:$F$26) -> 1042.488 | M23: =SUM(K23:L23) -> 1762.488
A24: 高二年级（5）班 | B24: 语文 | C24: 50 | D24: 91.17 | E24: 87.24 | F24: =E24/D24 -> 0.95689372 | G24: 6 | H24: 吉尔伍呷 | I24: 7 | J24: 8 | K24: =$D$17*0.4*SUM(I24:J24)/SUM($I$19:$J$26) -> 720 | L24: =$D$17*0.6*0.7*E24/SUM($E$19:$E$26)+$D$17*0.6*0.3*F24/SUM($F$19:$F$26) -> 1033.9956 | M24: =SUM(K24:L24) -> 1753.9956
A25: 高二年级（7）班 | B25: 语文 | C25: 38 | D25: 91.17 | E25: 85.447368 | F25: =E25/D25 -> 0.9372312 | G25: 7 | H25: 叶屏 | I25: 7 | J25: 8 | K25: =$D$17*0.4*SUM(I25:J25)/SUM($I$19:$J$26) -> 720 | L25: =$D$17*0.6*0.7*E25/SUM($E$19:$E$26)+$D$17*0.6*0.3*F25/SUM($F$19:$F$26) -> 1012.7488 | M25: =SUM(K25:L25) -> 1732.7488
A26: 高二年级（8）班 | B26: 语文 | C26: 50 | D26: 91.17 | E26: 84.36 | F26: =E26/D26 -> 0.92530438 | G26: 8 | H26: 刘云菊 | I26: 7 | J26: 8 | K26: =$D$17*0.4*SUM(I26:J26)/SUM($I$19:$J$26) -> 720 | L26: =$D$17*0.6*0.7*E26/SUM($E$19:$E$26)+$D$17*0.6*0.3*F26/SUM($F$19:$F$26) -> 999.86094 | M26: =SUM(K26:L26) -> 1719.8609
J27: 合计 | K27: =SUM(K19:K26) -> 5760 | L27: =SUM(L19:L26) -> 8640 | M27: =SUM(K27:L27) -> 14400
B28: 奖项 | C28: 奖励金额/元 | D28: 实发金额/元
A29: 2.高二物理类数学 | B29: 三等奖 | C29: 12000 | D29: 9600 | I29: 工作量
A30: 班级 | B30: 科目 | C30: 参考人数 | D30: 年级平均分 | E30: 班平均分 | F30: 班平均分/年级平均分 | G30: 名次 | H30: 任课课师 | I30: 上期课时 | J30: 下期课时 | K30: 课时奖 | L30: 贡献奖 | M30: 合计
A31: 高二年级（1）班 | B31: 数学 | C31: 41 | D31: 55.76 | E31: 86.804878 | F31: =E31/D31 -> 1.5567589 | G31: 1 | H31: 胡付松 | I31: 7 | J31: 8 | K31: =$D$29*0.4*SUM(I31:J31)/SUM($I$31:$J$38) -> 480 | L31: =$D$29*0.6*0.7*E31/SUM($E$31:$E$38)+$D$29*0.6*0.3*F31/SUM($F$31:$F$38) -> 1118.7876 | M31: =SUM(K31:L31) -> 1598.7876
A32: 高二年级（3）班 | B32: 数学 | C32: 49 | D32: 55.76 | E32: 63.020408 | F32: =E32/D32 -> 1.1302082 | G32: 2 | H32: 黄金华 | I32: 7 | J32: 8 | K32: =$D$29*0.4*SUM(I32:J32)/SUM($I$31:$J$38) -> 480 | L32: =$D$29*0.6*0.7*E32/SUM($E$31:$E$38)+$D$29*0.6*0.3*F32/SUM($F$31:$F$38) -> 812.24063 | M32: =SUM(K32:L32) -> 1292.2406
A33: 高二年级（2）班 | B33: 数学 | C33: 51 | D33: 55.76 | E33: 59.901961 | F33: =E33/D33 -> 1.0742819 | G33: 3 | H33: 李希/蒋林/黄金华 | I33: 7 | J33: 8 | K33: =$D$29*0.4*SUM(I33:J33)/SUM($I$31:$J$38) -> 480 | L33: =$D$29*0.6*0.7*E33/SUM($E$31:$E$38)+$D$29*0.6*0.3*F33/SUM($F$31:$F$38) -> 772.04842 | M33: =SUM(K33:L33) -> 1252.0484
A34: 高二年级（7）班 | B34: 数学 | C34: 38 | D34: 55.76 | E34: 52.605263 | F34: =E34/D34 -> 0.94342294 | G34: 4 | H34: 王德兵 | I34: 7 | J34: 8 | K34: =$D$29*0.4*SUM(I34:J34)/SUM($I$31:$J$38) -> 480 | L34: =$D$29*0.6*0.7*E34/SUM($E$31:$E$38)+$D$29*0.6*0.3*F34/SUM($F$31:$F$38) -> 678.00469 | M34: =SUM(K34:L34) -> 1158.0047
A35: 高二年级（5）班 | B35: 数学 | C35: 50 | D35: 55.76 | E35: 46.84 | F35: =E35/D35 -> 0.84002869 | G35: 5 | H35: 余玉红 | I35: 7 | J35: 8 | K35: =$D$29*0.4*SUM(I35:J35)/SUM($I$31:$J$38) -> 480 | L35: =$D$29*0.6*0.7*E35/SUM($E$31:$E$38)+$D$29*0.6*0.3*F35/SUM($F$31:$F$38) -> 603.6989 | M35: =SUM(K35:L35) -> 1083.6989
A36: 高二年级（8）班 | B36: 数学 | C36: 50 | D36: 55.76 | E36: 46.62 | F36: =E36/D36 -> 0.83608321 | G36: 6 | H36: 许帅 | I36: 7 | J36: 8 | K36: =$D$29*0.4*SUM(I36:J36)/SUM($I$31:$J$38) -> 480 | L36: =$D$29*0.6*0.7*E36/SUM($E$31:$E$38)+$D$29*0.6*0.3*F36/SUM($F$31:$F$38) -> 600.86343 | M36: =SUM(K36:L36) -> 1080.8634
A37: 高二年级（4）班 | B37: 数学 | C37: 46 | D37: 55.76 | E37: 45.586957 | F37: =E37/D37 -> 0.81755661 | G37: 7 | H37: 许帅 | I37: 7 | J37: 8 | K37: =$D$29*0.4*SUM(I37:J37)/SUM($I$31:$J$38) -> 480 | L37: =$D$29*0.6*0.7*E37/SUM($E$31:$E$38)+$D$29*0.6*0.3*F37/SUM($F$31:$F$38) -> 587.54901 | M37: =SUM(K37:L37) -> 1067.549
A38: 高二年级（6）班 | B38: 数学 | C38: 34 | D38: 55.76 | E38: 45.529412 | F38: =E38/D38 -> 0.8165246 | G38: 8 | H38: 扎西龙布 | I38: 7 | J38: 8 | K38: =$D$29*0.4*SUM(I38:J38)/SUM($I$31:$J$38) -> 480 | L38: =$D$29*0.6*0.7*E38/SUM($E$31:$E$38)+$D$29*0.6*0.3*F38/SUM($F$31:$F$38) -> 586.80734 | M38: =SUM(K38:L38) -> 1066.8073
J39: 合计 | K39: =SUM(K31:K38) -> 3840 | L39: =SUM(L31:L38) -> 5760 | M39: =SUM(K39:L39) -> 9600
B40: 奖项 | C40: 奖励金额/元 | D40: 实发金额/元
...

Sheet 进步奖
A1: 高二教学质量进步奖
A2: 科目 | B2: 奖项 | C2: 奖励金额/元 | D2: 实发金额/元
A3: 高二历史类历史（8个班） | B3: 三等奖 | C3: =1600*8 -> 12800 | D3: =C3*0.8 -> 10240
D4: =C4*0.8 -> 0
D5: =C5*0.8 -> 0
D6: =C6*0.8 -> 0
D7: =C7*0.8 -> 0
D8: =C8*0.8 -> 0
D9: =C9*0.8 -> 0
D10: =C10*0.8 -> 0
D11: =C11*0.8 -> 0
B12: 合计 | C12: =SUM(C3:C11) -> 12800 | D12: =SUM(D3:D11) -> 10240
B14: 奖项 | C14: 奖励金额/元 | D14: 实发金额/元
A15: 2.高二类历史类历史 | B15: 三等奖 | C15: 12800 | D15: 10240 | I15: 工作量
A16: 班级 | B16: 科目 | C16: 参考人数 | D16: 年级平均分 | E16: 班平均分 | F16: 班平均分/年级平均分 | G16: 名次 | H16: 任课课师 | I16: 上期课时 | J16: 下期课时 | K16: 课时奖 | L16: 贡献奖 | M16: 合计
A17: 高二年级（10）班 | B17: 历史 | C17: 50 | D17: 54.82 | E17: 61.8 | F17: =E17/D17 -> 1.1273258 | G17: 1 | H17: 赵香才 | I17: 7 | J17: 7 | K17: =$D$15*0.4*SUM(I17:J17)/SUM($I$17:$J$24) -> 512 | L17: =D15*0.6*0.4*0.6 -> 1474.56 | M17: =SUM(K17:L17) -> 1986.56
A18: 高二年级（9）班 | B18: 历史 | C18: 45 | D18: 54.82 | E18: 60.111111 | F18: =E18/D18 -> 1.0965179 | G18: 2 | H18: 胡慧芳 | I18: 7 | J18: 7 | K18: =$D$15*0.4*SUM(I18:J18)/SUM($I$17:$J$24) -> 512 | L18: =D15*0.6*0.4*0.4 -> 983.04 | M18: =SUM(K18:L18) -> 1495.04
A19: 高二年级（14）班 | B19: 历史 | C19: 43 | D19: 54.82 | E19: 53.744186 | F19: =E19/D19 -> 0.98037552 | G19: 3 | H19: 杨国芬 | I19: 7 | J19: 7 | K19: =$D$15*0.4*SUM(I19:J19)/SUM($I$17:$J$24) -> 512 | L19: =D15*0.6*0.6*0.3 -> 1105.92 | M19: =SUM(K19:L19) -> 1617.92
A20: 高二年级（11）班 | B20: 历史 | C20: 45 | D20: 54.82 | E20: 53.577778 | F20: =E20/D20 -> 0.97733998 | G20: 4 | H20: 赵香才 | I20: 7 | J20: 7 | K20: =$D$15*0.4*SUM(I20:J20)/SUM($I$17:$J$24) -> 512 | L20: =D15*0.6*0.6*0.2 -> 737.28 | M20: =SUM(K20:L20) -> 1249.28
A21: 高二年级（12）班 | B21: 历史 | C21: 50 | D21: 54.82 | E21: 52.74 | F21: =E21/D21 -> 0.96205764 | G21: 5 | H21: 周宇竹 | I21: 7 | J21: 7 | K21: =$D$15*0.4*SUM(I21:J21)/SUM($I$17:$J$24) -> 512 | L21: =D15*0.6*0.6*0.15 -> 552.96 | M21: =SUM(K21:L21) -> 1064.96
A22: 高二年级（15）班 | B22: 历史 | C22: 32 | D22: 54.82 | E22: 52.3125 | F22: =E22/D22 -> 0.95425939 | G22: 6 | H22: 杨国芬 | I22: 7 | J22: 7 | K22: =$D$15*0.4*SUM(I22:J22)/SUM($I$17:$J$24) -> 512 | L22: =D15*0.6*0.6*0.15 -> 552.96 | M22: =SUM(K22:L22) -> 1064.96
A23: 高二年级（13）班 | B23: 历史 | C23: 46 | D23: 54.82 | E23: 51.434783 | F23: =E23/D23 -> 0.9382485 | G23: 7 | H23: 周宇竹 | I23: 7 | J23: 7 | K23: =$D$15*0.4*SUM(I23:J23)/SUM($I$17:$J$24) -> 512 | L23: =D15*0.6*0.6*0.1 -> 368.64 | M23: =SUM(K23:L23) -> 880.64
A24: 高二年级（16）班 | B24: 历史 | C24: 32 | D24: 54.82 | E24: 50.28125 | F24: =E24/D24 -> 0.91720631 | G24: 8 | H24: 偏初 | I24: 7 | J24: 7 | K24: =$D$15*0.4*SUM(I24:J24)/SUM($I$17:$J$24) -> 512 | L24: =D15*0.6*0.6*0.1 -> 368.64 | M24: =SUM(K24:L24) -> 880.64
J25: 合计 | K25: =SUM(K17:K24) -> 4096 | L25: =SUM(L17:L24) -> 6144 | M25: =SUM(K25:L25) -> 10240
H28: 姓名 | I28: 金额
H29: 赵香才 | I29: =SUMIF(H17:M24,H29,M17:M24) -> 3235.84
H30: 胡慧芳 | I30: =SUMIF(H18:M25,H30,M18:M25) -> 1495.04
H31: 杨国芬 | I31: =SUMIF(H19:M26,H31,M19:M26) -> 2682.88
H32: 周宇竹 | I32: =SUMIF(H20:M27,H32,M20:M27) -> 1945.6
H33: 偏初 | I33: =SUMIF(H21:M28,H33,M21:M28) -> 880.64
I34: =SUM(I29:I33) -> 10240

Sheet 合计
A1: 科目 | B1: 任课课师 | C1: 奖金 | D1: 签字 | E1: 组内合计
A2: 语文 | B2: 张玉婷 | C2: =质量奖!M19+质量奖!M71 -> 4057.823 | E2: =SUM(C2:C10) -> 31200
B3: 康义美 | C3: =质量奖!M20*0.5+质量奖!M75+质量奖!M72*0.5 -> 4007.196
B4: 刘权芳 | C4: =质量奖!M21+质量奖!M73 -> 3919.7622
B5: 张镇鹏 | C5: =质量奖!M22+质量奖!M70 -> 3996.843
B6: 向美娟 | C6: =质量奖!M23+质量奖!M69 -> 4006.3762
B7: 吉尔伍呷 | C7: =质量奖!M24+质量奖!M72*0.5+质量奖!M76 -> 4787.3559
B8: 叶屏 | C8: =质量奖!M25 -> 1732.7488
B9: 刘云菊 | C9: =质量奖!M26+质量奖!M74 -> 3759.9605
B10: 朱霞 | C10: =质量奖!M20*0.5 -> 931.93447
A11: 数学 | B11: 胡付松 | C11: =质量奖!M31+质量奖!M86 -> 3270.7061 | E11: =SUM(C11:C20) -> 24000
B12: 黄金华 | C12: =质量奖!M32+质量奖!M33*0.2 -> 1542.6503
B13: 蒋林 | C13: =质量奖!M33*0.4 -> 500.81937
B14: 王德兵 | C14: =质量奖!M34+质量奖!M85 -> 2860.3452
B15: 余玉红 | C15: =质量奖!M35*0.5+质量奖!M37*0.5+质量奖!M82 -> 3418.9649
B16: 许帅 | C16: =质量奖!M36+质量奖!M37*0.5+质量奖!M83*0.5 -> 2655.1112
B17: 扎西龙布 | C17: =质量奖!M87*0.5+质量奖!M38 -> 1901.4252
B18: 李希 | C18: =质量奖!M33*0.4+质量奖!M87*0.5 -> 1335.4373
B19: 王丽 | C19: =质量奖!M83*0.5+质量奖!M84+质量奖!M35*0.5 -> 3330.7905
B20: 念六平 | C20: =质量奖!M88+质量奖!M89 -> 3183.7498
A21: 历史 | B21: 赵香才 | C21: =质量奖!M95+质量奖!M98+进步奖!M17+进步奖!M20 -> 7210.642 | E21: =SUM(C21:C25) -> 25600
B22: 胡慧芳 | C22: =质量奖!M96*0.5+进步奖!M18*0.5 -> 1766.8204
B23: 杨国芬 | C23: =质量奖!M97+质量奖!M100+进步奖!M19+进步奖!M22 -> 6460.6571
B24: 周宇竹 | C24: =质量奖!M99+质量奖!M101+进步奖!M21+进步奖!M23 -> 5683.5983
B25: 偏初 | C25: =质量奖!M96*0.5+质量奖!M102+进步奖!M18*0.5+进步奖!M24 -> 4478.2822
A26: 化学 | B26: 郑富全 | C26: =质量奖!M43 -> 1006.6151 | E26: =SUM(C26:C31) -> 7200
B27: 陈文惠 | C27: =质量奖!M44*0.5 -> 471.46368
B28: 叶仁群 | C28: =质量奖!M45+质量奖!M49 -> 1784.7782
B29: 宁建康 | C29: =质量奖!M46+质量奖!M47 -> 1778.9651
B30: 方帮林 | C30: =质量奖!M50 -> 811.9132
B31: 崔萌 | C31: =质量奖!M44*0.5+质量奖!M48 -> 1346.2647
A32: 生物 | B32: 尤顺芝 | C32: =质量奖!M55+质量奖!M58 -> 3854.6113 | E32: =SUM(C32:C34) -> 9600
B33: 卢祥 | C33: =质量奖!M56 -> 2003.3549
B34: 喇菊 | C34: =质量奖!M57+质量奖!M59 -> 3742.0338
A35: 地理 | B35: 群群 | C35: =质量奖!M64 -> 2400 | E35: =SUM(C35:C35) -> 2400
A36: 合计 | E36: =SUM(E2:E35) -> 100000
