Workbook
Name 科类: [1]成绩册!$F$3:$F$613

Sheet 质量奖
A1: 高二教学质量奖
A2: 科目 | B2: 奖项 | C2: 奖励金额/元 | D2: 实发金额/元
A3: 高二物理类语文 | B3: 三等奖 | C3: =3000*6 -> 18000 | D3: =C3*0.8 -> 14400
A4: 高二物理类数学 | B4: 三等奖 | C4: =3000*4 -> 12000 | D4: =C4*0.8 -> 9600
A5: 高二物理类化学 | B5: 三等奖 | C5: =1800*5 -> 9000 | D5: =C5*0.8 -> 7200
A6: 高二物理类生物 | B6: 二等奖 | C6: =3000*4 -> 12000 | D6: =C6*0.8 -> 9600
A7: 高二物理类地理 | B7: 二等奖 | C7: =3000*1 -> 3000 | D7: =C7*0.8 -> 2400
A8: 高二历史类语文 | B8: 三等奖 | C8: =3000*7 -> 21000 | D8: =C8*0.8 -> 16800
A9: 高二历史类数学 | B9: 三等奖 | C9: =3000*6 -> 18000 | D9: =C9*0.8 -> 14400
A10: 高二历史类历史 | B10: 三等奖 | C10: =2400*8 -> 19200 | D10: =C10*0.8 -> 15360
D11: =C11*0.8 -> 0
D12: =C12*0.8 -> 0
D13: =C13*0.8 -> 0
D14: =C14*0.8 -> 0
B15: 合计 | C15: =SUM(C3:C14) -> 112200 | D15: =SUM(D3:D14) -> 89760
B16: 奖项 | C16: 奖励金额/元 | D16: 实发金额/元
A17: 1.高二物理类语文 | B17: 三等奖 | C17: 18000 | D17: 14400 | I17: 工作量
A18: 班级 | B18: 科目 | C18: 参考人数 | D18: 年级平均分 | E18: 班平均分 | F18: 班平均分/年级平均分 | G18: 名次 | H18: 任课课师 | I18: 上期课时 | J18: 下期课时 | K18: 课时奖 | L18: 贡献奖 | M18: 合计
A19: 高二年级（1）班 | B19: 语文 | C19: 41 | D19: 91.17 | E19: 103.63415 | F19: =E19/D19 -> 1.1367132 | G19: 1 | H19: 张玉婷 | I19: 7 | J19: 8 | K19: =$D$17*0.4*SUM(I19:J19)/SUM($I$19:$J$26) -> 720 | L19: =$D$17*0.6*0.7*E19/SUM($E$19:$E$26)+$D$17*0.6*0.3*F19/SUM($F$19:$F$26) -> 1228.3041 | M19: =SUM(K19:L19) -> 1948.3041
A20: 高二年级（3）班 | B20: 语文 | C20: 49 | D20: 91.17 | E20: 96.510204 | F20: =E20/D20 -> 1.0585741 | G20: 2 | H20: 朱霞/康义美 | I20: 7 | J20: 8 | K20: =$D$17*0.4*SUM(I20:J20)/SUM($I$19:$J$26) -> 720 | L20: =$D$17*0.6*0.7*E20/SUM($E$19:$E$26)+$D$17*0.6*0.3*F20/SUM($F$19:$F$26) -> 1143.8689 | M20: =SUM(K20:L20) -> 1863.8689
A21: 高二年级（2）班 | B21: 语文 | C21: 51 | D21: 91.17 | E21: 95.764706 | F21: =E21/D21 -> 1.0503971 | G21: 3 | H21: 刘权芳 | I21: 7 | J21: 8 | K21: =$D$17*0.4*SUM(I21:J21)/SUM($I$19:$J$26) -> 720 | L21: =$D$17*0.6*0.7*E21/SUM($E$19:$E$26)+$D$17*0.6*0.3*F21/SUM($F$19:$F$26) -> 1135.0331 | M21: =SUM(K21:L21) -> 1855.0331
A22: 高二年级（6）班 | B22: 语文 | C22: 34 | D22: 91.17 | E22: 88.058824 | F22: =E22/D22 -> 0.965875 | G22: 4 | H22: 张镇鹏 | I22: 7 | J22: 8 | K22: =$D$17*0.4*SUM(I22:J22)/SUM($I$19:$J$26) -> 720 | L22: =$D$17*0.6*0.7*E22/SUM($E$19:$E$26)+$D$17*0.6*0.3*F22/SUM($F$19:$F$26) -> 1043.7005 | M22: =SUM(K22:L22) -> 1763.7005
A23: 高二年级（4）班 | B23: 语文 | C23: 46 | D23: 91.17 | E23: 87.956522 | F23: =E23/D23 -> 0.9647529 | G23: 5 | H23: 向美娟/刘权芳 | I23: 7 | J23: 8 | K23: =$D$17*0.4*SUM(I23:J23)/SUM($I$19:$J$26) -> 720 | L23: =$D$17*0.6*0.7*E23/SUM($E$19:$E$26)+$D$17*0.6*0.3*F23/SUM($F$19:$F$26) -> 1042.488 | M23: =SUM(K23:L23) -> 1762.488
A24: 高二年级（5）班 | B24: 语文 | C24: 50 | D24: 91.17 | E24: 87.24 | F24: =E24/D24 -> 0.95689372 | G24: 6 | H24: 吉尔伍呷 | I24: 7 | J24: 8 | K24: =$D$17*0.4*SUM(I24:J24)/SUM($I$19:$J$26) -> 720 | L24: =$D$17*0.6*0.7*E24/SUM($E$19:$E$26)+$D$17*0.6*0.3*F24/SUM($F$19:$F$26) -> 1033.9956 | M24: =SUM(K24:L24) -> 1753.9956
A25: 高二年级（7）班 | B25: 语文 | C25: 38 | D25: 91.17 | E25: 85.447368 | F25: =E25/D25 -> 0.9372312 | G25: 7 | H25: 叶屏 | I25: 7 | J25: 8 | K25: =$D$17*0.4*SUM(I25:J25)/SUM($I$19:$J$26) -> 720 | L25: =$D$17*0.6*0.7*E25/SUM($E$19:$E$26)+$D$17*0.6*0.3*F25/SUM($F$19:$F$26) -> 1012.7488 | M25: =SUM(K25:L25) -> 1732.7488
A26: 高二年级（8）班 | B26: 语文 | C26: 50 | D26: 91.17 | E26: 84.36 | F26: =E26/D26 -> 0.92530438 | G26: 8 | H26: 刘云菊 | I26: 7 | J26: 8 | K26: =$D$17*0.4*SUM(I26:J26)/SUM($I$19:$J$26) -> 720 | L26: =$D$17*0.6*0.7*E26/SUM($E$19:$E$26)+$D$17*0.6*0.3*F26/SUM($F$19:$F$26) -> 999.86094 | M26: =SUM(K26:L26) -> 1719.8609
J27: 合计 | K27: =SUM(K19:K26) -> 5760 | L27: =SUM(L19:L26) -> 8640 | M27: =SUM(K27:L27) -> 14400
B28: 奖项 | C28: 奖励金额/元 | D28: 实发金额/元
A29: 2.高二物理类数学 | B29: 三等奖 | C29: 12000 | D29: 9600 | I29: 工作量
A30: 班级 | B30: 科目 | C30: 参考人数 | D30: 年级平均分 | E30: 班平均分 | F30: 班平均分/年级平均分 | G30: 名次 | H30: 任课课师 | I30: 上期课时 | J30: 下期课时 | K30: 课时奖 | L30: 贡献奖 | M30: 合计
A31: 高二年级（1）班 | B31: 数学 | C31: 41 | D31: 55.76 | E31: 86.804878 | F31: =E31/D31 -> 1.5567589 | G31: 1 | H31: 胡付松 | I31: 7 | J31: 8 | K31: =$D$29*0.4*SUM(I31:J31)/SUM($I$31:$J$38) -> 480 | L31: =$D$29*0.6*0.7*E31/SUM($E$31:$E$38)+$D$29*0.6*0.3*F31/SUM($F$31:$F$38) -> 1118.7876 | M31: =SUM(K31:L31) -> 1598.7876
A32: 高二年级（3）班 | B32: 数学 | C32: 49 | D32: 55.76 | E32: 63.020408 | F32: =E32/D32 -> 1.1302082 | G32: 2 | H32: 黄金华 | I32: 7 | J32: 8 | K32: =$D$29*0.4*SUM(I32:J32)/SUM($I$31:$J$38) -> 480 | L32: =$D$29*0.6*0.7*E32/SUM($E$31:$E$38)+$D$29*0.6*0.3*F32/SUM($F$31:$F$38) -> 812.24063 | M32: =SUM(K32:L32) -> 1292.2406
A33: 高二年级（2）班 | B33: 数学 | C33: 51 | D33: 55.76 | E33: 59.901961 | F33: =E33/D33 -> 1.0742819 | G33: 3 | H33: 李希/蒋林/黄金华 | I33: 7 | J33: 8 | K33: =$D$29*0.4*SUM(I33:J33)/SUM($I$31:$J$38) -> 480 | L33: =$D$29*0.6*0.7*E33/SUM($E$31:$E$38)+$D$29*0.6*0.3*F33/SUM($F$31:$F$38) -> 772.04842 | M33: =SUM(K33:L33) -> 1252.0484
A34: 高二年级（7）班 | B34: 数学 | C34: 38 | D34: 55.76 | E34: 52.605263 | F34: =E34/D34 -> 0.94342294 | G34: 4 | H34: 王德兵 | I34: 7 | J34: 8 | K34: =$D$29*0.4*SUM(I34:J34)/SUM($I$31:$J$38) -> 480 | L34: =$D$29*0.6*0.7*E34/SUM($E$31:$E$38)+$D$29*0.6*0.3*F34/SUM($F$31:$F$38) -> 678.00469 | M34: =SUM(K34:L34) -> 1158.0047
A35: 高二年级（5）班 | B35: 数学 | C35: 50 | D35: 55.76 | E35: 46.84 | F35: =E35/D35 -> 0.84002869 | G35: 5 | H35: 余玉红 | I35: 7 | J35: 8 | K35: =$D$29*0.4*SUM(I35:J35)/SUM($I$31:$J$38) -> 480 | L35: =$D$29*0.6*0.7*E35/SUM($E$31:$E$38)+$D$29*0.6*0.3*F35/SUM($F$31:$F$38) -> 603.6989 | M35: =SUM(K35:L35) -> 1083.6989
A36: 高二年级（8）班 | B36: 数学 | C36: 50 | D36: 55.76 | E36: 46.62 | F36: =E36/D36 -> 0.83608321 | G36: 6 | H36: 许帅 | I36: 7 | J36: 8 | K36: =$D$29*0.4*SUM(I36:J36)/SUM($I$31:$J$38) -> 480 | L36: =$D$29*0.6*0.7*E36/SUM($E$31:$E$38)+$D$29*0.6*0.3*F36/SUM($F$31:$F$38) -> 600.86343 | M36: =SUM(K36:L36) -> 1080.8634
A37: 高二年级（4）班 | B37: 数学 | C37: 46 | D37: 55.76 | E37: 45.586957 | F37: =E37/D37 -> 0.81755661 | G37: 7 | H37: 许帅 | I37: 7 | J37: 8 | K37: =$D$29*0.4*SUM(I37:J37)/SUM($I$31:$J$38) -> 480 | L37: =$D$29*0.6*0.7*E37/SUM($E$31:$E$38)+$D$29*0.6*0.3*F37/SUM($F$31:$F$38) -> 587.54901 | M37: =SUM(K37:L37) -> 1067.549
A38: 高二年级（6）班 | B38: 数学 | C38: 34 | D38: 55.76 | E38: 45.529412 | F38: =E38/D38 -> 0.8165246 | G38: 8 | H38: 扎西龙布 | I38: 7 | J38: 8 | K38: =$D$29*0.4*SUM(I38:J38)/SUM($I$31:$J$38) -> 480 | L38: =$D$29*0.6*0.7*E38/SUM($E$31:$E$38)+$D$29*0.6*0.3*F38/SUM($F$31:$F$38) -> 586.80734 | M38: =SUM(K38:L38) -> 1066.8073
J39: 合计 | K39: =SUM(K31:K38) -> 3840 | L39: =SUM(L31:L38) -> 5760 | M39: =SUM(K39:L39) -> 9600
B40: 奖项 | C40: 奖励金额/元 | D40: 实发金额/元
A41: 3.高二物理类化学 | B41: 三等奖 | C41: 9000 | D41: 7200 | I41: 工作量
A42: 班级 | B42: 科目 | C42: 参考人数 | D42: 年级平均分 | E42: 班平均分 | F42: 班平均分/年级平均分 | G42: 名次 | H42: 任课课师 | I42: 上期课时 | J42: 下期课时 | K42: 课时奖 | L42: 贡献奖 | M42: 合计
A43: 高二年级（1）班 | B43: 化学 | C43: 41 | D43: 68.1 | E43: 81.056098 | F43: =E43/D43 -> 1.1902511 | G43: 1 | H43: 郑富全 | I43: 6 | J43: 6 | K43: =$D$41*0.4*SUM(I43:J43)/SUM($I$43:$J$50) -> 360 | L43: =$D$41*0.6*0.7*E43/SUM($E$43:$E$50)+$D$41*0.6*0.3*F43/SUM($F$43:$F$50) -> 646.61515 | M43: =SUM(K43:L43) -> 1006.6151
A44: 高二年级（2）班 | B44: 化学 | C44: 51 | D44: 68.1 | E44: 73.072549 | F44: =E44/D44 -> 1.0730183 | G44: 2 | H44: 陈文惠/崔萌 | I44: 6 | J44: 6 | K44: =$D$41*0.4*SUM(I44:J44)/SUM($I$43:$J$50) -> 360 | L44: =$D$41*0.6*0.7*E44/SUM($E$43:$E$50)+$D$41*0.6*0.3*F44/SUM($F$43:$F$50) -> 582.92736 | M44: =SUM(K44:L44) -> 942.92736
A45: 高二年级（3）班 | B45: 化学 | C45: 49 | D45: 68.1 | E45: 72.65102 | F45: =E45/D45 -> 1.0668285 | G45: 3 | H45: 叶仁群 | I45: 6 | J45: 6 | K45: =$D$41*0.4*SUM(I45:J45)/SUM($I$43:$J$50) -> 360 | L45: =$D$41*0.6*0.7*E45/SUM($E$43:$E$50)+$D$41*0.6*0.3*F45/SUM($F$43:$F$50) -> 579.56467 | M45: =SUM(K45:L45) -> 939.56467
A46: 高二年级（5）班 | B46: 化学 | C46: 50 | D46: 68.1 | E46: 67.74 | F46: =E46/D46 -> 0.99471366 | G46: 4 | H46: 宁建康 | I46: 6 | J46: 6 | K46: =$D$41*0.4*SUM(I46:J46)/SUM($I$43:$J$50) -> 360 | L46: =$D$41*0.6*0.7*E46/SUM($E$43:$E$50)+$D$41*0.6*0.3*F46/SUM($F$43:$F$50) -> 540.3876 | M46: =SUM(K46:L46) -> 900.3876
A47: 高二年级（8）班 | B47: 化学 | C47: 50 | D47: 68.1 | E47: 65.006 | F47: =E47/D47 -> 0.95456681 | G47: 5 | H47: 宁建康 | I47: 6 | J47: 6 | K47: =$D$41*0.4*SUM(I47:J47)/SUM($I$43:$J$50) -> 360 | L47: =$D$41*0.6*0.7*E47/SUM($E$43:$E$50)+$D$41*0.6*0.3*F47/SUM($F$43:$F$50) -> 518.57745 | M47: =SUM(K47:L47) -> 878.57745
A48: 高二年级（4）班 | B48: 化学 | C48: 46 | D48: 68.1 | E48: 64.532609 | F48: =E48/D48 -> 0.9476154 | G48: 6 | H48: 崔萌 | I48: 6 | J48: 6 | K48: =$D$41*0.4*SUM(I48:J48)/SUM($I$43:$J$50) -> 360 | L48: =$D$41*0.6*0.7*E48/SUM($E$43:$E$50)+$D$41*0.6*0.3*F48/SUM($F$43:$F$50) -> 514.80103 | M48: =SUM(K48:L48) -> 874.80103
A49: 高二年级（7）班 | B49: 化学 | C49: 38 | D49: 68.1 | E49: 60.823684 | F49: =E49/D49 -> 0.89315248 | G49: 7 | H49: 叶仁群 | I49: 6 | J49: 6 | K49: =$D$41*0.4*SUM(I49:J49)/SUM($I$43:$J$50) -> 360 | L49: =$D$41*0.6*0.7*E49/SUM($E$43:$E$50)+$D$41*0.6*0.3*F49/SUM($F$43:$F$50) -> 485.21354 | M49: =SUM(K49:L49) -> 845.21354
A50: 高二年级（6）班 | B50: 化学 | C50: 34 | D50: 67.68 | E50: 56.544118 | F50: =E50/D50 -> 0.83546273 | G50: 8 | H50: 方帮林 | I50: 6 | J50: 6 | K50: =$D$41*0.4*SUM(I50:J50)/SUM($I$43:$J$50) -> 360 | L50: =$D$41*0.6*0.7*E50/SUM($E$43:$E$50)+$D$41*0.6*0.3*F50/SUM($F$43:$F$50) -> 451.9132 | M50: =SUM(K50:L50) -> 811.9132
J51: 合计 | K51: =SUM(K43:K50) -> 2880 | L51: =SUM(L43:L50) -> 4320 | M51: =SUM(K51:L51) -> 7200
B52: 奖项 | C52: 奖励金额/元 | D52: 实发金额/元
A53: 4.高二物理类生物 | B53: 二等奖 | C53: 12000 | D53: 9600 | I53: 工作量
A54: 班级 | B54: 科目 | C54: 参考人数 | D54: 年级平均分 | E54: 班平均分 | F54: 班平均分/年级平均分 | G54: 名次 | H54: 任课课师 | I54: 上期课时 | J54: 下期课时 | K54: 课时奖 | L54: 贡献奖 | M54: 合计
A55: 高二年级（3）班 | B55: 生物 | C55: 49 | D55: 73.31 | E55: 79.816327 | F55: =E55/D55 -> 1.0887509 | G55: 1 | H55: 尤顺芝 | I55: 5 | J55: 5 | K55: =$D$53*0.4*SUM(I55:J55)/SUM($I$55:$J$59) -> 768 | L55: =$D$53*0.6*0.7*E55/SUM($E$55:$E$59)+$D$53*0.6*0.3*F55/SUM($F$55:$F$59) -> 1251.8692 | M55: =SUM(K55:L55) -> 2019.8692
A56: 高二年级（1）班 | B56: 生物 | C56: 41 | D56: 73.31 | E56: 78.763415 | F56: =E56/D56 -> 1.0743884 | G56: 2 | H56: 卢祥 | I56: 5 | J56: 5 | K56: =$D$53*0.4*SUM(I56:J56)/SUM($I$55:$J$59) -> 768 | L56: =$D$53*0.6*0.7*E56/SUM($E$55:$E$59)+$D$53*0.6*0.3*F56/SUM($F$55:$F$59) -> 1235.3549 | M56: =SUM(K56:L56) -> 2003.3549
A57: 高二年级（2）班 | B57: 生物 | C57: 51 | D57: 73.31 | E57: 73.715686 | F57: =E57/D57 -> 1.0055338 | G57: 3 | H57: 喇菊 | I57: 5 | J57: 5 | K57: =$D$53*0.4*SUM(I57:J57)/SUM($I$55:$J$59) -> 768 | L57: =$D$53*0.6*0.7*E57/SUM($E$55:$E$59)+$D$53*0.6*0.3*F57/SUM($F$55:$F$59) -> 1156.1845 | M57: =SUM(K57:L57) -> 1924.1845
A58: 高二年级（4）班 | B58: 生物 | C58: 46 | D58: 73.31 | E58: 68.013043 | F58: =E58/D58 -> 0.92774578 | G58: 4 | H58: 尤顺芝 | I58: 5 | J58: 5 | K58: =$D$53*0.4*SUM(I58:J58)/SUM($I$55:$J$59) -> 768 | L58: =$D$53*0.6*0.7*E58/SUM($E$55:$E$59)+$D$53*0.6*0.3*F58/SUM($F$55:$F$59) -> 1066.7421 | M58: =SUM(K58:L58) -> 1834.7421
A59: 高二年级（5）班 | B59: 生物 | C59: 50 | D59: 73.31 | E59: 66.936 | F59: =E59/D59 -> 0.91305415 | G59: 5 | H59: 喇菊 | I59: 5 | J59: 5 | K59: =$D$53*0.4*SUM(I59:J59)/SUM($I$55:$J$59) -> 768 | L59: =$D$53*0.6*0.7*E59/SUM($E$55:$E$59)+$D$53*0.6*0.3*F59/SUM($F$55:$F$59) -> 1049.8493 | M59: =SUM(K59:L59) -> 1817.8493
J60: 合计 | K60: =SUM(K55:K59) -> 3840 | L60: =SUM(L55:L59) -> 5760 | M60: =SUM(K60:L60) -> 9600
B61: 奖项 | C61: 奖励金额/元 | D61: 实发金额/元
A62: 5.高二物理类地理 | B62: 二等奖 | C62: 3000 | D62: 2400 | I62: 工作量
A63: 班级 | B63: 科目 | C63: 参考人数 | D63: 年级平均分 | E63: 班平均分 | F63: 班平均分/年级平均分 | G63: 名次 | H63: 任课课师 | I63: 上期课时 | J63: 下期课时 | K63: 课时奖 | L63: 贡献奖 | M63: 合计
A64: 高二年级（8）班 | B64: 地理 | C64: 50 | D64: 76.14 | E64: 76.138 | F64: =E64/D64 -> 0.99997373 | G64: 1 | H64: 群群 | I64: 5 | J64: 6 | K64: =$D$62*0.4*SUM(I64:J64)/SUM($I$64:$J$64) -> 960 | L64: =$D$62*0.6*0.7*E64/SUM($E$64:$E$64)+$D$62*0.6*0.3*F64/SUM($F$64:$F$64) -> 1440 | M64: =SUM(K64:L64) -> 2400
J65: 合计 | K65: =SUM(K64:K64) -> 960 | L65: =SUM(L64:L64) -> 1440 | M65: =SUM(K65:L65) -> 2400
B66: 奖项 | C66: 奖励金额/元 | D66: 实发金额/元
A67: 6.高二历史类语文 | B67: 三等奖 | C67: 21000 | D67: 16800 | I67: 工作量
A68: 班级 | B68: 科目 | C68: 参考人数 | D68: 年级平均分 | E68: 班平均分 | F68: 班平均分/年级平均分 | G68: 名次 | H68: 任课课师 | I68: 上期课时 | J68: 下期课时 | K68: 课时奖 | L68: 贡献奖 | M68: 合计
A69: 高二年级（10 ）班 | B69: 语文 | C69: 50 | D69: 88.91 | E69: 98.42 | F69: =E69/D69 -> 1.1069621 | G69: 1 | H69: 向美娟/吉尔伍呷 | I69: 7 | J69: 7 | K69: =$D$67*0.4*SUM(I69:J69)/SUM($I$69:$J$76) -> 840 | L69: =$D$67*0.6*0.7*E69/SUM($E$69:$E$76)+$D$67*0.6*0.3*F69/SUM($F$69:$F$76) -> 1403.8882 | M69: =SUM(K69:L69) -> 2243.8882
A70: 高二年级（9 ）班 | B70: 语文 | C70: 45 | D70: 88.91 | E70: 97.666667 | F70: =E70/D70 -> 1.0984891 | G70: 2 | H70: 张镇鹏 | I70: 7 | J70: 7 | K70: =$D$67*0.4*SUM(I70:J70)/SUM($I$69:$J$76) -> 840 | L70: =$D$67*0.6*0.7*E70/SUM($E$69:$E$76)+$D$67*0.6*0.3*F70/SUM($F$69:$F$76) -> 1393.1425 | M70: =SUM(K70:L70) -> 2233.1425
A71: 高二年级（13 ）班 | B71: 语文 | C71: 46 | D71: 88.91 | E71: 89 | F71: =E71/D71 -> 1.0010123 | G71: 3 | H71: 张玉婷 | I71: 7 | J71: 7 | K71: =$D$67*0.4*SUM(I71:J71)/SUM($I$69:$J$76) -> 840 | L71: =$D$67*0.6*0.7*E71/SUM($E$69:$E$76)+$D$67*0.6*0.3*F71/SUM($F$69:$F$76) -> 1269.5189 | M71: =SUM(K71:L71) -> 2109.5189
A72: 高二年级（14 ）班 | B72: 语文 | C72: 43 | D72: 88.91 | E72: 88.581395 | F72: =E72/D72 -> 0.99630408 | G72: 4 | H72: 吉尔伍呷 | I72: 7 | J72: 7 | K72: =$D$67*0.4*SUM(I72:J72)/SUM($I$69:$J$76) -> 840 | L72: =$D$67*0.6*0.7*E72/SUM($E$69:$E$76)+$D$67*0.6*0.3*F72/SUM($F$69:$F$76) -> 1263.5478 | M72: =SUM(K72:L72) -> 2103.5478
A73: 高二年级（12 ）班 | B73: 语文 | C73: 50 | D73: 88.91 | E73: 85.86 | F73: =E73/D73 -> 0.96569565 | G73: 5 | H73: 刘权芳 | I73: 7 | J73: 7 | K73: =$D$67*0.4*SUM(I73:J73)/SUM($I$69:$J$76) -> 840 | L73: =$D$67*0.6*0.7*E73/SUM($E$69:$E$76)+$D$67*0.6*0.3*F73/SUM($F$69:$F$76) -> 1224.7291 | M73: =SUM(K73:L73) -> 2064.7291
A74: 高二年级（11 ）班 | B74: 语文 | C74: 45 | D74: 88.91 | E74: 84.133333 | F74: =E74/D74 -> 0.94627526 | G74: 6 | H74: 刘云菊 | I74: 7 | J74: 7 | K74: =$D$67*0.4*SUM(I74:J74)/SUM($I$69:$J$76) -> 840 | L74: =$D$67*0.6*0.7*E74/SUM($E$69:$E$76)+$D$67*0.6*0.3*F74/SUM($F$69:$F$76) -> 1200.0995 | M74: =SUM(K74:L74) -> 2040.0995
A75: 高二年级（16 ）班 | B75: 语文 | C75: 32 | D75: 88.91 | E75: 82.96875 | F75: =E75/D75 -> 0.93317681 | G75: 7 | H75: 康义美 | I75: 7 | J75: 7 | K75: =$D$67*0.4*SUM(I75:J75)/SUM($I$69:$J$76) -> 840 | L75: =$D$67*0.6*0.7*E75/SUM($E$69:$E$76)+$D$67*0.6*0.3*F75/SUM($F$69:$F$76) -> 1183.4876 | M75: =SUM(K75:L75) -> 2023.4876
A76: 高二年级（15 ）班 | B76: 语文 | C76: 32 | D76: 88.91 | E76: 80.03125 | F76: =E76/D76 -> 0.90013778 | G76: 8 | H76: 吉尔伍呷 | I76: 7 | J76: 7 | K76: =$D$67*0.4*SUM(I76:J76)/SUM($I$69:$J$76) -> 840 | L76: =$D$67*0.6*0.7*E76/SUM($E$69:$E$76)+$D$67*0.6*0.3*F76/SUM($F$69:$F$76) -> 1141.5863 | M76: =SUM(K76:L76) -> 1981.5863
J77: 合计 | K77: =SUM(K69:K76) -> 6720 | L77: =SUM(L69:L76) -> 10080 | M77: =SUM(K77:L77) -> 16800
B79: 奖项 | C79: 奖励金额/元 | D79: 实发金额/元
A80: 7.高二历史类数学 | B80: 三等奖 | C80: 18000 | D80: 14400 | I80: 工作量
A81: 班级 | B81: 科目 | C81: 参考人数 | D81: 年级平均分 | E81: 班平均分 | F81: 班平均分/年级平均分 | G81: 名次 | H81: 任课课师 | I81: 上期课时 | J81: 下期课时 | K81: 课时奖 | L81: 贡献奖 | M81: 合计
A82: 高二年级（9 ）班 | B82: 数学 | C82: 45 | D82: 34.65 | E82: 51.266667 | F82: =E82/D82 -> 1.4795575 | G82: 1 | H82: 余玉红 | I82: 7 | J82: 8 | K82: =$D$80*0.4*SUM(I82:J82)/SUM($I$82:$J$89) -> 720 | L82: =$D$80*0.6*0.7*E82/SUM($E$82:$E$89)+$D$80*0.6*0.3*F82/SUM($F$82:$F$89) -> 1623.341 | M82: =SUM(K82:L82) -> 2343.341
A83: 高二年级（10 ）班 | B83: 数学 | C83: 50 | D83: 34.65 | E83: 42.98 | F83: =E83/D83 -> 1.240404 | G83: 2 | H83: 许帅/王丽 | I83: 7 | J83: 8 | K83: =$D$80*0.4*SUM(I83:J83)/SUM($I$82:$J$89) -> 720 | L83: =$D$80*0.6*0.7*E83/SUM($E$82:$E$89)+$D$80*0.6*0.3*F83/SUM($F$82:$F$89) -> 1360.9466 | M83: =SUM(K83:L83) -> 2080.9466
A84: 高二年级（12 ）班 | B84: 数学 | C84: 50 | D84: 34.65 | E84: 32.48 | F84: =E84/D84 -> 0.93737374 | G84: 3 | H84: 王丽 | I84: 7 | J84: 8 | K84: =$D$80*0.4*SUM(I84:J84)/SUM($I$82:$J$89) -> 720 | L84: =$D$80*0.6*0.7*E84/SUM($E$82:$E$89)+$D$80*0.6*0.3*F84/SUM($F$82:$F$89) -> 1028.4678 | M84: =SUM(K84:L84) -> 1748.4678
A85: 高二年级（14 ）班 | B85: 数学 | C85: 43 | D85: 34.65 | E85: 31.023256 | F85: =E85/D85 -> 0.89533206 | G85: 4 | H85: 王德兵 | I85: 7 | J85: 8 | K85: =$D$80*0.4*SUM(I85:J85)/SUM($I$82:$J$89) -> 720 | L85: =$D$80*0.6*0.7*E85/SUM($E$82:$E$89)+$D$80*0.6*0.3*F85/SUM($F$82:$F$89) -> 982.3405 | M85: =SUM(K85:L85) -> 1702.3405
A86: 高二年级（15 ）班 | B86: 数学 | C86: 32 | D86: 34.65 | E86: 30.0625 | F86: =E86/D86 -> 0.86760462 | G86: 5 | H86: 胡付松 | I86: 7 | J86: 8 | K86: =$D$80*0.4*SUM(I86:J86)/SUM($I$82:$J$89) -> 720 | L86: =$D$80*0.6*0.7*E86/SUM($E$82:$E$89)+$D$80*0.6*0.3*F86/SUM($F$82:$F$89) -> 951.9185 | M86: =SUM(K86:L86) -> 1671.9185
A87: 高二年级（11 ）班 | B87: 数学 | C87: 45 | D87: 34.65 | E87: 29.977778 | F87: =E87/D87 -> 0.86515953 | G87: 6 | H87: 李希/扎西龙布 | I87: 7 | J87: 8 | K87: =$D$80*0.4*SUM(I87:J87)/SUM($I$82:$J$89) -> 720 | L87: =$D$80*0.6*0.7*E87/SUM($E$82:$E$89)+$D$80*0.6*0.3*F87/SUM($F$82:$F$89) -> 949.2358 | M87: =SUM(K87:L87) -> 1669.2358
A88: 高二年级（13 ）班 | B88: 数学 | C88: 46 | D88: 34.65 | E88: 28.413043 | F88: =E88/D88 -> 0.82000125 | G88: 7 | H88: 念六平 | I88: 7 | J88: 8 | K88: =$D$80*0.4*SUM(I88:J88)/SUM($I$82:$J$89) -> 720 | L88: =$D$80*0.6*0.7*E88/SUM($E$82:$E$89)+$D$80*0.6*0.3*F88/SUM($F$82:$F$89) -> 899.68904 | M88: =SUM(K88:L88) -> 1619.689
A89: 高二年级（16 ）班 | B89: 数学 | C89: 32 | D89: 34.65 | E89: 26.65625 | F89: =E89/D89 -> 0.76930014 | G89: 8 | H89: 念六平 | I89: 7 | J89: 8 | K89: =$D$80*0.4*SUM(I89:J89)/SUM($I$82:$J$89) -> 720 | L89: =$D$80*0.6*0.7*E89/SUM($E$82:$E$89)+$D$80*0.6*0.3*F89/SUM($F$82:$F$89) -> 844.06079 | M89: =SUM(K89:L89) -> 1564.0608
J90: 合计 | K90: =SUM(K82:K89) -> 5760 | L90: =SUM(L82:L89) -> 8640 | M90: =SUM(K90:L90) -> 14400
B92: 奖项 | C92: 奖励金额/元 | D92: 实发金额/元
A93: 8.高二历史类历史 | B93: 三等奖 | C93: 19200 | D93: 15360 | I93: 工作量
A94: 班级 | B94: 科目 | C94: 参考人数 | D94: 年级平均分 | E94: 班平均分 | F94: 班平均分/年级平均分 | G94: 名次 | H94: 任课课师 | I94: 上期课时 | J94: 下期课时 | K94: 课时奖 | L94: 贡献奖 | M94: 合计
A95: 高二年级（10）班 | B95: 历史 | C95: 50 | D95: 54.82 | E95: 61.8 | F95: =E95/D95 -> 1.1273258 | G95: 1 | H95: 赵香才 | I95: 6 | J95: 7 | K95: =$D$93*0.4*SUM(I95:J95)/SUM($I$95:$J$102) -> 768 | L95: =$D$93*0.6*0.7*E95/SUM($E$95:$E$102)+$D$93*0.6*0.3*F95/SUM($F$95:$F$102) -> 1306.2998 | M95: =SUM(K95:L95) -> 2074.2998
A96: 高二年级（9）班 | B96: 历史 | C96: 45 | D96: 54.82 | E96: 60.111111 | F96: =E96/D96 -> 1.0965179 | G96: 2 | H96: 胡慧芳/偏初 | I96: 6 | J96: 7 | K96: =$D$93*0.4*SUM(I96:J96)/SUM($I$95:$J$102) -> 768 | L96: =$D$93*0.6*0.7*E96/SUM($E$95:$E$102)+$D$93*0.6*0.3*F96/SUM($F$95:$F$102) -> 1270.6008 | M96: =SUM(K96:L96) -> 2038.6008
A97: 高二年级（14）班 | B97: 历史 | C97: 43 | D97: 54.82 | E97: 53.744186 | F97: =E97/D97 -> 0.98037552 | G97: 3 | H97: 杨国芬 | I97: 6 | J97: 7 | K97: =$D$93*0.4*SUM(I97:J97)/SUM($I$95:$J$102) -> 768 | L97: =$D$93*0.6*0.7*E97/SUM($E$95:$E$102)+$D$93*0.6*0.3*F97/SUM($F$95:$F$102) -> 1136.0197 | M97: =SUM(K97:L97) -> 1904.0197
A98: 高二年级（11）班 | B98: 历史 | C98: 45 | D98: 54.82 | E98: 53.577778 | F98: =E98/D98 -> 0.97733998 | G98: 4 | H98: 赵香才 | I98: 6 | J98: 7 | K98: =$D$93*0.4*SUM(I98:J98)/SUM($I$95:$J$102) -> 768 | L98: =$D$93*0.6*0.7*E98/SUM($E$95:$E$102)+$D$93*0.6*0.3*F98/SUM($F$95:$F$102) -> 1132.5022 | M98: =SUM(K98:L98) -> 1900.5022
A99: 高二年级（12）班 | B99: 历史 | C99: 50 | D99: 54.82 | E99: 52.74 | F99: =E99/D99 -> 0.96205764 | G99: 5 | H99: 周宇竹 | I99: 6 | J99: 7 | K99: =$D$93*0.4*SUM(I99:J99)/SUM($I$95:$J$102) -> 768 | L99: =$D$93*0.6*0.7*E99/SUM($E$95:$E$102)+$D$93*0.6*0.3*F99/SUM($F$95:$F$102) -> 1114.7937 | M99: =SUM(K99:L99) -> 1882.7937
A100: 高二年级（15）班 | B100: 历史 | C100: 32 | D100: 54.82 | E100: 52.3125 | F100: =E100/D100 -> 0.95425939 | G100: 6 | H100: 杨国芬 | I100: 6 | J100: 7 | K100: =$D$93*0.4*SUM(I100:J100)/SUM($I$95:$J$102) -> 768 | L100: =$D$93*0.6*0.7*E100/SUM($E$95:$E$102)+$D$93*0.6*0.3*F100/SUM($F$95:$F$102) -> 1105.7574 | M100: =SUM(K100:L100) -> 1873.7574
A101: 高二年级（13）班 | B101: 历史 | C101: 46 | D101: 54.82 | E101: 51.434783 | F101: =E101/D101 -> 0.9382485 | G101: 7 | H101: 周宇竹 | I101: 6 | J101: 7 | K101: =$D$93*0.4*SUM(I101:J101)/SUM($I$95:$J$102) -> 768 | L101: =$D$93*0.6*0.7*E101/SUM($E$95:$E$102)+$D$93*0.6*0.3*F101/SUM($F$95:$F$102) -> 1087.2046 | M101: =SUM(K101:L101) -> 1855.2046
A102: 高二年级（16）班 | B102: 历史 | C102: 32 | D102: 54.82 | E102: 50.28125 | F102: =E102/D102 -> 0.91720631 | G102: 8 | H102: 偏初 | I102: 6 | J102: 7 | K102: =$D$93*0.4*SUM(I102:J102)/SUM($I$95:$J$102) -> 768 | L102: =$D$93*0.6*0.7*E102/SUM($E$95:$E$102)+$D$93*0.6*0.3*F102/SUM($F$95:$F$102) -> 1062.8218 | M102: =SUM(K102:L102) -> 1830.8218
...

Sheet 进步奖
A1: 高二教学质量进步奖
A2: 科目 | B2: 奖项 | C2: 奖励金额/元 | D2: 实发金额/元
A3: 高二历史类历史（8个班） | B3: 三等奖 | C3: =1600*8 -> 12800 | D3: =C3*0.8 -> 10240
D4: =C4*0.8 -> 0
D5: =C5*0.8 -> 0
D6: =C6*0.8 -> 0
D7: =C7*0.8 -> 0
D8: =C8*0.8 -> 0
D9: =C9*0.8 -> 0
D10: =C10*0.8 -> 0
D11: =C11*0.8 -> 0
B12: 合计 | C12: =SUM(C3:C11) -> 12800 | D12: =SUM(D3:D11) -> 10240
B14: 奖项 | C14: 奖励金额/元 | D14: 实发金额/元
A15: 2.高二类历史类历史 | B15: 三等奖 | C15: 12800 | D15: 10240 | I15: 工作量
A16: 班级 | B16: 科目 | C16: 参考人数 | D16: 年级平均分 | E16: 班平均分 | F16: 班平均分/年级平均分 | G16: 名次 | H16: 任课课师 | I16: 上期课时 | J16: 下期课时 | K16: 课时奖 | L16: 贡献奖 | M16: 合计
A17: 高二年级（10）班 | B17: 历史 | C17: 50 | D17: 54.82 | E17: 61.8 | F17: =E17/D17 -> 1.1273258 | G17: 1 | H17: 赵香才 | I17: 7 | J17: 7 | K17: =$D$15*0.4*SUM(I17:J17)/SUM($I$17:$J$24) -> 512 | L17: =D15*0.6*0.4*0.6 -> 1474.56 | M17: =SUM(K17:L17) -> 1986.56
A18: 高二年级（9）班 | B18: 历史 | C18: 45 | D18: 54.82 | E18: 60.111111 | F18: =E18/D18 -> 1.0965179 | G18: 2 | H18: 胡慧芳 | I18: 7 | J18: 7 | K18: =$D$15*0.4*SUM(I18:J18)/SUM($I$17:$J$24) -> 512 | L18: =D15*0.6*0.4*0.4 -> 983.04 | M18: =SUM(K18:L18) -> 1495.04
A19: 高二年级（14）班 | B19: 历史 | C19: 43 | D19: 54.82 | E19: 53.744186 | F19: =E19/D19 -> 0.98037552 | G19: 3 | H19: 杨国芬 | I19: 7 | J19: 7 | K19: =$D$15*0.4*SUM(I19:J19)/SUM($I$17:$J$24) -> 512 | L19: =D15*0.6*0.6*0.3 -> 1105.92 | M19: =SUM(K19:L19) -> 1617.92
A20: 高二年级（11）班 | B20: 历史 | C20: 45 | D20: 54.82 | E20: 53.577778 | F20: =E20/D20 -> 0.97733998 | G20: 4 | H20: 赵香才 | I20: 7 | J20: 7 | K20: =$D$15*0.4*SUM(I20:J20)/SUM($I$17:$J$24) -> 512 | L20: =D15*0.6*0.6*0.2 -> 737.28 | M20: =SUM(K20:L20) -> 1249.28
A21: 高二年级（12）班 | B21: 历史 | C21: 50 | D21: 54.82 | E21: 52.74 | F21: =E21/D21 -> 0.96205764 | G21: 5 | H21: 周宇竹 | I21: 7 | J21: 7 | K21: =$D$15*0.4*SUM(I21:J21)/SUM($I$17:$J$24) -> 512 | L21: =D15*0.6*0.6*0.15 -> 552.96 | M21: =SUM(K21:L21) -> 1064.96
A22: 高二年级（15）班 | B22: 历史 | C22: 32 | D22: 54.82 | E22: 52.3125 | F22: =E22/D22 -> 0.95425939 | G22: 6 | H22: 杨国芬 | I22: 7 | J22: 7 | K22: =$D$15*0.4*SUM(I22:J22)/SUM($I$17:$J$24) -> 512 | L22: =D15*0.6*0.6*0.15 -> 552.96 | M22: =SUM(K22:L22) -> 1064.96
A23: 高二年级（13）班 | B23: 历史 | C23: 46 | D23: 54.82 | E23: 51.434783 | F23: =E23/D23 -> 0.9382485 | G23: 7 | H23: 周宇竹 | I23: 7 | J23: 7 | K23: =$D$15*0.4*SUM(I23:J23)/SUM($I$17:$J$24) -> 512 | L23: =D15*0.6*0.6*0.1 -> 368.64 | M23: =SUM(K23:L23) -> 880.64
A24: 高二年级（16）班 | B24: 历史 | C24: 32 | D24: 54.82 | E24: 50.28125 | F24: =E24/D24 -> 0.91720631 | G24: 8 | H24: 偏初 | I24: 7 | J24: 7 | K24: =$D$15*0.4*SUM(I24:J24)/SUM($I$17:$J$24) -> 512 | L24: =D15*0.6*0.6*0.1 -> 368.64 | M24: =SUM(K24:L24) -> 880.64
J25: 合计 | K25: =SUM(K17:K24) -> 4096 | L25: =SUM(L17:L24) -> 6144 | M25: =SUM(K25:L25) -> 10240
H28: 姓名 | I28: 金额
H29: 赵香才 | I29: =SUMIF(H17:M24,H29,M17:M24) -> 3235.84
H30: 胡慧芳 | I30: =SUMIF(H18:M25,H30,M18:M25) -> 1495.04
H31: 杨国芬 | I31: =SUMIF(H19:M26,H31,M19:M26) -> 2682.88
H32: 周宇竹 | I32: =SUMIF(H20:M27,H32,M20:M27) -> 1945.6
H33: 偏初 | I33: =SUMIF(H21:M28,H33,M21:M28) -> 880.64
I34: =SUM(I29:I33) -> 10240

Sheet 合计
A1: 科目 | B1: 任课课师 | C1: 奖金 | D1: 签字 | E1: 组内合计
A2: 语文 | B2: 张玉婷 | C2: =质量奖!M19+质量奖!M71 -> 4057.823 | E2: =SUM(C2:C10) -> 31200
B3: 康义美 | C3: =质量奖!M20*0.5+质量奖!M75+质量奖!M72*0.5 -> 4007.196
B4: 刘权芳 | C4: =质量奖!M21+质量奖!M73 -> 3919.7622
B5: 张镇鹏 | C5: =质量奖!M22+质量奖!M70 -> 3996.843
B6: 向美娟 | C6: =质量奖!M23+质量奖!M69 -> 4006.3762
B7: 吉尔伍呷 | C7: =质量奖!M24+质量奖!M72*0.5+质量奖!M76 -> 4787.3559
B8: 叶屏 | C8: =质量奖!M25 -> 1732.7488
B9: 刘云菊 | C9: =质量奖!M26+质量奖!M74 -> 3759.9605
B10: 朱霞 | C10: =质量奖!M20*0.5 -> 931.93447
A11: 数学 | B11: 胡付松 | C11: =质量奖!M31+质量奖!M86 -> 3270.7061 | E11: =SUM(C11:C20) -> 24000
B12: 黄金华 | C12: =质量奖!M32+质量奖!M33*0.2 -> 1542.6503
B13: 蒋林 | C13: =质量奖!M33*0.4 -> 500.81937
B14: 王德兵 | C14: =质量奖!M34+质量奖!M85 -> 2860.3452
B15: 余玉红 | C15: =质量奖!M35*0.5+质量奖!M37*0.5+质量奖!M82 -> 3418.9649
B16: 许帅 | C16: =质量奖!M36+质量奖!M37*0.5+质量奖!M83*0.5 -> 2655.1112
B17: 扎西龙布 | C17: =质量奖!M87*0.5+质量奖!M38 -> 1901.4252
B18: 李希 | C18: =质量奖!M33*0.4+质量奖!M87*0.5 -> 1335.4373
B19: 王丽 | C19: =质量奖!M83*0.5+质量奖!M84+质量奖!M35*0.5 -> 3330.7905
B20: 念六平 | C20: =质量奖!M88+质量奖!M89 -> 3183.7498
A21: 历史 | B21: 赵香才 | C21: =质量奖!M95+质量奖!M98+进步奖!M17+进步奖!M20 -> 7210.642 | E21: =SUM(C21:C25) -> 25600
B22: 胡慧芳 | C22: =质量奖!M96*0.5+进步奖!M18*0.5 -> 1766.8204
B23: 杨国芬 | C23: =质量奖!M97+质量奖!M100+进步奖!M19+进步奖!M22 -> 6460.6571
B24: 周宇竹 | C24: =质量奖!M99+质量奖!M101+进步奖!M21+进步奖!M23 -> 5683.5983
B25: 偏初 | C25: =质量奖!M96*0.5+质量奖!M102+进步奖!M18*0.5+进步奖!M24 -> 4478.2822
A26: 化学 | B26: 郑富全 | C26: =质量奖!M43 -> 1006.6151 | E26: =SUM(C26:C31) -> 7200
B27: 陈文惠 | C27: =质量奖!M44*0.5 -> 471.46368
B28: 叶仁群 | C28: =质量奖!M45+质量奖!M49 -> 1784.7782
B29: 宁建康 | C29: =质量奖!M46+质量奖!M47 -> 1778.9651
B30: 方帮林 | C30: =质量奖!M50 -> 811.9132
B31: 崔萌 | C31: =质量奖!M44*0.5+质量奖!M48 -> 1346.2647
A32: 生物 | B32: 尤顺芝 | C32: =质量奖!M55+质量奖!M58 -> 3854.6113 | E32: =SUM(C32:C34) -> 9600
B33: 卢祥 | C33: =质量奖!M56 -> 2003.3549
B34: 喇菊 | C34: =质量奖!M57+质量奖!M59 -> 3742.0338
A35: 地理 | B35: 群群 | C35: =质量奖!M64 -> 2400 | E35: =SUM(C35:C35) -> 2400
A36: 合计 | E36: =SUM(E2:E35) -> 100000
