Workbook
Name 科类: [1]成绩册!$F$3:$F$613

Sheet 质量奖
A1: 高三教学质量奖
A2: 科目 | B2: 奖项 | C2: 奖励金额/元 | D2: 实发金额/元
A3: 高三物理类化学（7个班） | B3: 一等奖 | C3: =7000*0.6*7 -> 29400 | D3: =C3*0.8 -> 23520
A4: 高三历史类生物（2个班） | B4: 二等奖 | C4: =5000*0.6*2 -> 6000 | D4: =C4*0.8 -> 4800
A5: 高三物理类语文（8个班） | B5: 三等奖 | C5: =3000*8 -> 24000 | D5: =C5*0.8 -> 19200
A6: 高三物理类数学（5个班） | B6: 三等奖 | C6: =3000*5 -> 15000 | D6: =C6*0.8 -> 12000
A7: 高三物理类物理（4个班） | B7: 三等奖 | C7: =3000*0.8*4 -> 9600 | D7: =C7*0.8 -> 7680
A8: 高三物理类英语（5个班） | B8: 三等奖 | C8: =3000*5 -> 15000 | D8: =C8*0.8 -> 12000
A9: 高三物理类生物（4个班） | B9: 三等奖 | C9: =3000*0.6*4 -> 7200 | D9: =C9*0.8 -> 5760
A10: 高三物理类政治（1个班） | B10: 三等奖 | C10: =3000*0.6*1 -> 1800 | D10: =C10*0.8 -> 1440
A11: 高三历史类语文（7个班） | B11: 三等奖 | C11: =3000*7 -> 21000 | D11: =C11*0.8 -> 16800
A12: 高三历史类数学（7个班） | B12: 三等奖 | C12: =3000*7 -> 21000 | D12: =C12*0.8 -> 16800
A13: 高三历史类历史（7个班） | B13: 三等奖 | C13: =3000*0.8*7 -> 16800 | D13: =C13*0.8 -> 13440
A14: 高三历史类政治（5个班） | B14: 三等奖 | C14: =3000*0.6*5 -> 9000 | D14: =C14*0.8 -> 7200
B15: 合计 | C15: =SUM(C3:C14) -> 175800 | D15: =SUM(D3:D14) -> 140640
B16: 奖项 | C16: 奖励金额/元 | D16: 实发金额/元
A17: 1.高三物理类化学 | B17: 一等奖 | C17: =C3 -> 29400 | D17: =D3 -> 23520 | I17: 工作量
A18: 班级 | B18: 科目 | C18: 参考人数 | D18: 年级平均分 | E18: 班平均分 | F18: 班平均分/年级平均分 | G18: 名次 | H18: 任课课师 | I18: 上期课时 | J18: 下期课时 | K18: 课时奖 | L18: 贡献奖 | M18: 合计
A19: 高三年级理（1）班 | B19: 化学 | C19: 43 | D19: 72.06 | E19: 79.151163 | F19: 1.0984064 | G19: 1 | H19: 叶小军 | I19: 5 | J19: 5 | K19: =$D$17*0.4*SUM(I19:J19)/SUM($I$19:$J$26) -> 1176 | L19: =$D$17*0.6*0.7*E19/SUM($E$19:$E$26)+$D$17*0.6*0.3*F19/SUM($F$19:$F$26) -> 1937.5344 | M19: =SUM(K19:L19) -> 3113.5344
A20: 高三年级理（2）班 | B20: 化学 | C20: 46 | D20: 72.06 | E20: 78.278261 | F20: 1.0862928 | G20: 2 | H20: 李荣鑫 | I20: 5 | J20: 5 | K20: =$D$17*0.4*SUM(I20:J20)/SUM($I$19:$J$26) -> 1176 | L20: =$D$17*0.6*0.7*E20/SUM($E$19:$E$26)+$D$17*0.6*0.3*F20/SUM($F$19:$F$26) -> 1916.1667 | M20: =SUM(K20:L20) -> 3092.1667
A21: 高三年级理（3）班 | B21: 化学 | C21: 47 | D21: 72.06 | E21: 75.523913 | F21: 1.0480698 | G21: 3 | H21: 何传英 | I21: 5 | J21: 5 | K21: =$D$17*0.4*SUM(I21:J21)/SUM($I$19:$J$26) -> 1176 | L21: =$D$17*0.6*0.7*E21/SUM($E$19:$E$26)+$D$17*0.6*0.3*F21/SUM($F$19:$F$26) -> 1848.7433 | M21: =SUM(K21:L21) -> 3024.7433
A22: 高三年级理（6）班 | B22: 化学 | C22: 49 | D22: 72.06 | E22: 71.967347 | F22: 0.99871422 | G22: 4 | H22: 李荣鑫 | I22: 5 | J22: 5 | K22: =$D$17*0.4*SUM(I22:J22)/SUM($I$19:$J$26) -> 1176 | L22: =$D$17*0.6*0.7*E22/SUM($E$19:$E$26)+$D$17*0.6*0.3*F22/SUM($F$19:$F$26) -> 1761.6824 | M22: =SUM(K22:L22) -> 2937.6824
A23: 高三年级理（4）班 | B23: 化学 | C23: 48 | D23: 72.06 | E23: 71.097917 | F23: 0.98664886 | G23: 5 | H23: 刘厚江 | I23: 5 | J23: 5 | K23: =$D$17*0.4*SUM(I23:J23)/SUM($I$19:$J$26) -> 1176 | L23: =$D$17*0.6*0.7*E23/SUM($E$19:$E$26)+$D$17*0.6*0.3*F23/SUM($F$19:$F$26) -> 1740.3997 | M23: =SUM(K23:L23) -> 2916.3997
A24: 高三年级理（16）班 | B24: 化学 | C24: 43 | D24: 72.06 | E24: 70.02069 | F24: 0.97169983 | G24: 6 | H24: 何传英 | I24: 5 | J24: 5 | K24: =$D$17*0.4*SUM(I24:J24)/SUM($I$19:$J$26) -> 1176 | L24: =$D$17*0.6*0.7*E24/SUM($E$19:$E$26)+$D$17*0.6*0.3*F24/SUM($F$19:$F$26) -> 1714.0304 | M24: =SUM(K24:L24) -> 2890.0304
A25: 高三年级理（7）班 | B25: 化学 | C25: 39 | D25: 72.06 | E25: 67.806897 | F25: 0.9409783 | G25: 7 | H25: 叶小军 | I25: 5 | J25: 5 | K25: =$D$17*0.4*SUM(I25:J25)/SUM($I$19:$J$26) -> 1176 | L25: =$D$17*0.6*0.7*E25/SUM($E$19:$E$26)+$D$17*0.6*0.3*F25/SUM($F$19:$F$26) -> 1659.8391 | M25: =SUM(K25:L25) -> 2835.8391
A26: 高三年级理（8）班 | B26: 化学 | C26: 36 | D26: 72.06 | E26: 62.65 | F26: 0.86941438 | G26: 8 | H26: 李荣鑫/马红琦 | I26: 5 | J26: 5 | K26: =$D$17*0.4*SUM(I26:J26)/SUM($I$19:$J$26) -> 1176 | L26: =$D$17*0.6*0.7*E26/SUM($E$19:$E$26)+$D$17*0.6*0.3*F26/SUM($F$19:$F$26) -> 1533.6039 | M26: =SUM(K26:L26) -> 2709.6039
J27: 合计 | K27: =SUM(K19:K26) -> 9408 | L27: =SUM(L19:L26) -> 14112 | M27: =SUM(K27:L27) -> 23520
B28: 奖项 | C28: 奖励金额/元 | D28: 实发金额/元
A29: 2.高三历史类生物 | B29: 二等奖 | C29: =C4 -> 6000 | D29: =D4 -> 4800 | I29: 工作量
A30: 班级 | B30: 科目 | C30: 参考人数 | D30: 年级平均分 | E30: 班平均分 | F30: 班平均分/年级平均分 | G30: 名次 | H30: 任课课师 | I30: 上期课时 | J30: 下期课时 | K30: 课时奖 | L30: 贡献奖 | M30: 合计
A31: 高三年级文（13）班 | B31: 生物 | C31: 32 | D31: 64.63 | E31: 66.0125 | F31: 1.021391 | G31: 1 | H31: 尼玛布池 | I31: 5 | J31: 5 | K31: =$D$29*0.4*SUM(I31:J31)/SUM($I$31:$J$32) -> 960 | L31: =$D$29*0.6*0.7*E31/SUM($E$31:$E$32)+$D$29*0.6*0.3*F31/SUM($F$31:$F$32) -> 1470.6977 | M31: =SUM(K31:L31) -> 2430.6977
A32: 高三年级文（12）班 | B32: 生物 | C32: 37 | D32: 64.63 | E32: 63.256757 | F32: 0.97875223 | G32: 2 | H32: 张弘 | I32: 5 | J32: 5 | K32: =$D$29*0.4*SUM(I32:J32)/SUM($I$31:$J$32) -> 960 | L32: =$D$29*0.6*0.7*E32/SUM($E$31:$E$32)+$D$29*0.6*0.3*F32/SUM($F$31:$F$32) -> 1409.3023 | M32: =SUM(K32:L32) -> 2369.3023
J33: 合计 | K33: =SUM(K31:K32) -> 1920 | L33: =SUM(L31:L32) -> 2880 | M33: =SUM(K33:L33) -> 4800
B34: 奖项 | C34: 奖励金额/元 | D34: 实发金额/元
A35: 3.高三物理类语文 | B35: 三等奖 | C35: =C5 -> 24000 | D35: =D5 -> 19200 | I35: 工作量
A36: 班级 | B36: 科目 | C36: 参考人数 | D36: 年级平均分 | E36: 班平均分 | F36: 班平均分/年级平均分 | G36: 名次 | H36: 任课课师 | I36: 上期课时 | J36: 下期课时 | K36: 课时奖 | L36: 贡献奖 | M36: 合计
A37: 高三年级理（1）班 | B37: 语文 | C37: 43 | D37: 96.25 | E37: 106.60465 | F37: 1.1075808 | G37: 1 | H37: 周菊明 | I37: 7 | J37: 7 | K37: =$D$35*0.4*SUM(I37:J37)/SUM($I$37:$J$45) -> 853.33333 | L37: =$D$35*0.6*0.7*E37/SUM($E$37:$E$45)+$D$35*0.6*0.3*F37/SUM($F$37:$F$45) -> 1417.6987 | M37: =SUM(K37:L37) -> 2271.032
A38: 高三年级理（2）班 | B38: 语文 | C38: 46 | D38: 96.25 | E38: 98.032609 | F38: 1.0185206 | G38: 2 | H38: 肖锐 | I38: 7 | J38: 7 | K38: =$D$35*0.4*SUM(I38:J38)/SUM($I$37:$J$45) -> 853.33333 | L38: =$D$35*0.6*0.7*E38/SUM($E$37:$E$45)+$D$35*0.6*0.3*F38/SUM($F$37:$F$45) -> 1303.7021 | M38: =SUM(K38:L38) -> 2157.0354
A39: 高三年级理（3）班 | B39: 语文 | C39: 47 | D39: 96.25 | E39: 97.380435 | F39: 1.0117448 | G39: 3 | H39: 易涛 | I39: 7 | J39: 7 | K39: =$D$35*0.4*SUM(I39:J39)/SUM($I$37:$J$45) -> 853.33333 | L39: =$D$35*0.6*0.7*E39/SUM($E$37:$E$45)+$D$35*0.6*0.3*F39/SUM($F$37:$F$45) -> 1295.029 | M39: =SUM(K39:L39) -> 2148.3624
A40: 高三年级理（4）班 | B40: 语文 | C40: 48 | D40: 96.25 | E40: 96.90625 | F40: 1.0068182 | G40: 4 | H40: 肖锐 | I40: 7 | J40: 7 | K40: =$D$35*0.4*SUM(I40:J40)/SUM($I$37:$J$45) -> 853.33333 | L40: =$D$35*0.6*0.7*E40/SUM($E$37:$E$45)+$D$35*0.6*0.3*F40/SUM($F$37:$F$45) -> 1288.723 | M40: =SUM(K40:L40) -> 2142.0563
A41: 高三年级理（6）班 | B41: 语文 | C41: 49 | D41: 96.25 | E41: 95.663265 | F41: 0.99390406 | G41: 5 | H41: 陈光汇 | I41: 7 | J41: 7 | K41: =$D$35*0.4*SUM(I41:J41)/SUM($I$37:$J$45) -> 853.33333 | L41: =$D$35*0.6*0.7*E41/SUM($E$37:$E$45)+$D$35*0.6*0.3*F41/SUM($F$37:$F$45) -> 1272.193 | M41: =SUM(K41:L41) -> 2125.5263
A42: 高三年级理（5）班 | B42: 语文 | C42: 41 | D42: 96.25 | E42: 94.7 | F42: 0.9838961 | G42: 6 | H42: 格绒燚西 | I42: 7 | J42: 7 | K42: =$D$35*0.4*SUM(I42:J42)/SUM($I$37:$J$45) -> 853.33333 | L42: =$D$35*0.6*0.7*E42/SUM($E$37:$E$45)+$D$35*0.6*0.3*F42/SUM($F$37:$F$45) -> 1259.3828 | M42: =SUM(K42:L42) -> 2112.7162
A43: 高三年级理（16）班 | B43: 语文 | C43: 29 | D43: 96.25 | E43: 94.482759 | F43: 0.98163905 | G43: 7 | H43: 周菊明 | I43: 7 | J43: 7 | K43: =$D$35*0.4*SUM(I43:J43)/SUM($I$37:$J$45) -> 853.33333 | L43: =$D$35*0.6*0.7*E43/SUM($E$37:$E$45)+$D$35*0.6*0.3*F43/SUM($F$37:$F$45) -> 1256.4938 | M43: =SUM(K43:L43) -> 2109.8271
A44: 高三年级理（7）班 | B44: 语文 | C44: 39 | D44: 96.25 | E44: 92.705128 | F44: 0.96317016 | G44: 8 | H44: 何东霖 | I44: 7 | J44: 7 | K44: =$D$35*0.4*SUM(I44:J44)/SUM($I$37:$J$45) -> 853.33333 | L44: =$D$35*0.6*0.7*E44/SUM($E$37:$E$45)+$D$35*0.6*0.3*F44/SUM($F$37:$F$45) -> 1232.8537 | M44: =SUM(K44:L44) -> 2086.1871
A45: 高三年级理（8）班 | B45: 语文 | C45: 36 | D45: 96.25 | E45: 89.777778 | F45: 0.93275613 | G45: 9 | H45: 岳子琦 | I45: 7 | J45: 7 | K45: =$D$35*0.4*SUM(I45:J45)/SUM($I$37:$J$45) -> 853.33333 | L45: =$D$35*0.6*0.7*E45/SUM($E$37:$E$45)+$D$35*0.6*0.3*F45/SUM($F$37:$F$45) -> 1193.9239 | M45: =SUM(K45:L45) -> 2047.2572
J46: 合计 | K46: =SUM(K37:K45) -> 7680 | L46: =SUM(L37:L45) -> 11520 | M46: =SUM(K46:L46) -> 19200
B47: 奖项 | C47: 奖励金额/元 | D47: 实发金额/元
A48: 4.高三物理类数学 | B48: 三等奖 | C48: =C6 -> 15000 | D48: 12000 | I48: 工作量
A49: 班级 | B49: 科目 | C49: 参考人数 | D49: 年级平均分 | E49: 班平均分 | F49: 班平均分/年级平均分 | G49: 名次 | H49: 任课课师 | I49: 上期课时 | J49: 下期课时 | K49: 课时奖 | L49: 贡献奖 | M49: 合计
A50: 高三年级理（1）班 | B50: 数学 | C50: 43 | D50: 75.41 | E50: 95.069767 | F50: 1.260705 | G50: 1 | H50: 赵云川 | I50: 8 | J50: 8 | K50: =$D$48*0.4*SUM(I50:J50)/SUM($I$50:$J$58) -> 533.33333 | L50: =$D$48*0.6*0.7*E50/SUM($E$50:$E$58)+$D$48*0.6*0.3*F50/SUM($F$50:$F$58) -> 1008.5779 | M50: =SUM(K50:L50) -> 1541.9112
A51: 高三年级理（16）班 | B51: 数学 | C51: 29 | D51: 75.41 | E51: 84.37931 | F51: 1.1189406 | G51: 2 | H51: 潘勇 | I51: 8 | J51: 8 | K51: =$D$48*0.4*SUM(I51:J51)/SUM($I$50:$J$58) -> 533.33333 | L51: =$D$48*0.6*0.7*E51/SUM($E$50:$E$58)+$D$48*0.6*0.3*F51/SUM($F$50:$F$58) -> 895.16474 | M51: =SUM(K51:L51) -> 1428.4981
A52: 高三年级理（3）班 | B52: 数学 | C52: 47 | D52: 75.41 | E52: 84.021739 | F52: 1.1141989 | G52: 3 | H52: 央宗娜姆 | I52: 8 | J52: 8 | K52: =$D$48*0.4*SUM(I52:J52)/SUM($I$50:$J$58) -> 533.33333 | L52: =$D$48*0.6*0.7*E52/SUM($E$50:$E$58)+$D$48*0.6*0.3*F52/SUM($F$50:$F$58) -> 891.37133 | M52: =SUM(K52:L52) -> 1424.7047
A53: 高三年级理（2）班 | B53: 数学 | C53: 46 | D53: 75.41 | E53: 79.565217 | F53: 1.0551017 | G53: 4 | H53: 杜东洋 | I53: 8 | J53: 8 | K53: =$D$48*0.4*SUM(I53:J53)/SUM($I$50:$J$58) -> 533.33333 | L53: =$D$48*0.6*0.7*E53/SUM($E$50:$E$58)+$D$48*0.6*0.3*F53/SUM($F$50:$F$58) -> 844.09291 | M53: =SUM(K53:L53) -> 1377.4262
A54: 高三年级理（6）班 | B54: 数学 | C54: 49 | D54: 75.41 | E54: 75.081633 | F54: 0.99564557 | G54: 5 | H54: 央宗娜姆 | I54: 8 | J54: 8 | K54: =$D$48*0.4*SUM(I54:J54)/SUM($I$50:$J$58) -> 533.33333 | L54: =$D$48*0.6*0.7*E54/SUM($E$50:$E$58)+$D$48*0.6*0.3*F54/SUM($F$50:$F$58) -> 796.52737 | M54: =SUM(K54:L54) -> 1329.8607
A55: 高三年级理（4）班 | B55: 数学 | C55: 48 | D55: 75.41 | E55: 71.583333 | F55: 0.94925518 | G55: 6 | H55: 喇燕 | I55: 8 | J55: 8 | K55: =$D$48*0.4*SUM(I55:J55)/SUM($I$50:$J$58) -> 533.33333 | L55: =$D$48*0.6*0.7*E55/SUM($E$50:$E$58)+$D$48*0.6*0.3*F55/SUM($F$50:$F$58) -> 759.41455 | M55: =SUM(K55:L55) -> 1292.7479
A56: 高三年级理（7）班 | B56: 数学 | C56: 39 | D56: 75.41 | E56: 70.410256 | F56: 0.9336992 | G56: 7 | H56: 曹云萍 | I56: 8 | J56: 8 | K56: =$D$48*0.4*SUM(I56:J56)/SUM($I$50:$J$58) -> 533.33333 | L56: =$D$48*0.6*0.7*E56/SUM($E$50:$E$58)+$D$48*0.6*0.3*F56/SUM($F$50:$F$58) -> 746.96959 | M56: =SUM(K56:L56) -> 1280.3029
A57: 高三年级理（5）班 | B57: 数学 | C57: 41 | D57: 75.41 | E57: 67.625 | F57: 0.89676435 | G57: 8 | H57: 赵云川 | I57: 8 | J57: 8 | K57: =$D$48*0.4*SUM(I57:J57)/SUM($I$50:$J$58) -> 533.33333 | L57: =$D$48*0.6*0.7*E57/SUM($E$50:$E$58)+$D$48*0.6*0.3*F57/SUM($F$50:$F$58) -> 717.42131 | M57: =SUM(K57:L57) -> 1250.7546
A58: 高三年级理（8）班 | B58: 数学 | C58: 36 | D58: 75.41 | E58: 50.944444 | F58: 0.67556616 | G58: 9 | H58: 徐万雄 | I58: 8 | J58: 8 | K58: =$D$48*0.4*SUM(I58:J58)/SUM($I$50:$J$58) -> 533.33333 | L58: =$D$48*0.6*0.7*E58/SUM($E$50:$E$58)+$D$48*0.6*0.3*F58/SUM($F$50:$F$58) -> 540.46034 | M58: =SUM(K58:L58) -> 1073.7937
J59: 合计 | K59: =SUM(K50:K58) -> 4800 | L59: =SUM(L50:L58) -> 7200 | M59: =SUM(K59:L59) -> 12000
B60: 奖项 | C60: 奖励金额/元 | D60: 实发金额/元
A61: 5.高三物理类物理 | B61: 三等奖 | C61: =C7 -> 9600 | D61: =D7 -> 7680 | I61: 工作量
A62: 班级 | B62: 科目 | C62: 参考人数 | D62: 年级平均分 | E62: 班平均分 | F62: 班平均分/年级平均分 | G62: 名次 | H62: 任课课师 | I62: 上期课时 | J62: 下期课时 | K62: 课时奖 | L62: 贡献奖 | M62: 合计
A63: 高三年级理（1）班 | B63: 物理 | C63: 43 | D63: 41.6 | E63: 55.511628 | F63: 1.3344141 | G63: 1 | H63: 赵建超 | I63: 6 | J63: 6 | K63: =$D$61*0.4*SUM(I63:J63)/SUM($I$63:$J$71) -> 341.33333 | L63: =$D$61*0.6*0.7*E63/SUM($E$63:$E$71)+$D$61*0.6*0.3*F63/SUM($F$63:$F$71) -> 683.14207 | M63: =SUM(K63:L63) -> 1024.4754
A64: 高三年级理（3）班 | B64: 物理 | C64: 47 | D64: 41.6 | E64: 47.456522 | F64: 1.1407818 | G64: 2 | H64: 周峰 | I64: 6 | J64: 6 | K64: =$D$61*0.4*SUM(I64:J64)/SUM($I$63:$J$71) -> 341.33333 | L64: =$D$61*0.6*0.7*E64/SUM($E$63:$E$71)+$D$61*0.6*0.3*F64/SUM($F$63:$F$71) -> 584.01362 | M64: =SUM(K64:L64) -> 925.34695
A65: 高三年级理（2）班 | B65: 物理 | C65: 46 | D65: 41.6 | E65: 43.76087 | F65: 1.051944 | G65: 3 | H65: 康小平 | I65: 6 | J65: 6 | K65: =$D$61*0.4*SUM(I65:J65)/SUM($I$63:$J$71) -> 341.33333 | L65: =$D$61*0.6*0.7*E65/SUM($E$63:$E$71)+$D$61*0.6*0.3*F65/SUM($F$63:$F$71) -> 538.53386 | M65: =SUM(K65:L65) -> 879.86719
A66: 高三年级理（16）班 | B66: 物理 | C66: 29 | D66: 41.6 | E66: 43.275862 | F66: 1.0402851 | G66: 4 | H66: 康小平 | I66: 6 | J66: 6 | K66: =$D$61*0.4*SUM(I66:J66)/SUM($I$63:$J$71) -> 341.33333 | L66: =$D$61*0.6*0.7*E66/SUM($E$63:$E$71)+$D$61*0.6*0.3*F66/SUM($F$63:$F$71) -> 532.56522 | M66: =SUM(K66:L66) -> 873.89855
A67: 高三年级理（4）班 | B67: 物理 | C67: 48 | D67: 41.6 | E67: 41.375 | F67: 0.99459135 | G67: 5 | H67: 解超燕 | I67: 6 | J67: 6 | K67: =$D$61*0.4*SUM(I67:J67)/SUM($I$63:$J$71) -> 341.33333 | L67: =$D$61*0.6*0.7*E67/SUM($E$63:$E$71)+$D$61*0.6*0.3*F67/SUM($F$63:$F$71) -> 509.17266 | M67: =SUM(K67:L67) -> 850.50599
A68: 高三年级理（6）班 | B68: 物理 | C68: 49 | D68: 41.6 | E68: 40.244898 | F68: 0.96742543 | G68: 6 | H68: 周峰 | I68: 6 | J68: 6 | K68: =$D$61*0.4*SUM(I68:J68)/SUM($I$63:$J$71) -> 341.33333 | L68: =$D$61*0.6*0.7*E68/SUM($E$63:$E$71)+$D$61*0.6*0.3*F68/SUM($F$63:$F$71) -> 495.2653 | M68: =SUM(K68:L68) -> 836.59863
A69: 高三年级理（5）班 | B69: 物理 | C69: 41 | D69: 41.6 | E69: 35.1 | F69: 0.84375 | G69: 7 | H69: 赵建超 | I69: 6 | J69: 6 | K69: =$D$61*0.4*SUM(I69:J69)/SUM($I$63:$J$71) -> 341.33333 | L69: =$D$61*0.6*0.7*E69/SUM($E$63:$E$71)+$D$61*0.6*0.3*F69/SUM($F$63:$F$71) -> 431.9507 | M69: =SUM(K69:L69) -> 773.28404
A70: 高三年级理（8）班 | B70: 物理 | C70: 36 | D70: 41.6 | E70: 34 | F70: 0.81730769 | G70: 8 | H70: 康小平 | I70: 6 | J70: 6 | K70: =$D$61*0.4*SUM(I70:J70)/SUM($I$63:$J$71) -> 341.33333 | L70: =$D$61*0.6*0.7*E70/SUM($E$63:$E$71)+$D$61*0.6*0.3*F70/SUM($F$63:$F$71) -> 418.41379 | M70: =SUM(K70:L70) -> 759.74712
A71: 高三年级理（7）班 | B71: 物理 | C71: 39 | D71: 41.6 | E71: 33.717949 | F71: 0.81052761 | G71: 9 | H71: 解超燕 | I71: 6 | J71: 6 | K71: =$D$61*0.4*SUM(I71:J71)/SUM($I$63:$J$71) -> 341.33333 | L71: =$D$61*0.6*0.7*E71/SUM($E$63:$E$71)+$D$61*0.6*0.3*F71/SUM($F$63:$F$71) -> 414.94278 | M71: =SUM(K71:L71) -> 756.27612
J72: 合计 | K72: =SUM(K63:K71) -> 3072 | L72: =SUM(L63:L71) -> 4608 | M72: =SUM(K72:L72) -> 7680
B73: 奖项 | C73: 奖励金额/元 | D73: 实发金额/元
A74: 6.高三物理类英语 | B74: 三等奖 | C74: =C8 -> 15000 | D74: =D8 -> 12000 | I74: 工作量
A75: 班级 | B75: 科目 | C75: 参考人数 | D75: 年级平均分 | E75: 班平均分 | F75: 班平均分/年级平均分 | G75: 名次 | H75: 任课课师 | I75: 上期课时 | J75: 下期课时 | K75: 课时奖 | L75: 贡献奖 | M75: 合计
A76: 高三年级理（1）班 | B76: 英语 | C76: 43 | D76: 79.02 | E76: 110.18605 | F76: 1.3944071 | G76: 1 | H76: 拉初 | I76: 7 | J76: 7 | K76: =$D$74*0.4*SUM(I76:J76)/SUM($I$76:$J$84) -> 533.33333 | L76: =$D$74*0.6*0.7*E76/SUM($E$76:$E$84)+$D$74*0.6*0.3*F76/SUM($F$76:$F$84) -> 1115.4842 | M76: =SUM(K76:L76) -> 1648.8175
A77: 高三年级理（4）班 | B77: 英语 | C77: 48 | D77: 79.02 | E77: 90.291667 | F77: 1.1426432 | G77: 2 | H77: 浦恩玲 | I77: 7 | J77: 7 | K77: =$D$74*0.4*SUM(I77:J77)/SUM($I$76:$J$84) -> 533.33333 | L77: =$D$74*0.6*0.7*E77/SUM($E$76:$E$84)+$D$74*0.6*0.3*F77/SUM($F$76:$F$84) -> 914.08061 | M77: =SUM(K77:L77) -> 1447.4139
A78: 高三年级理（2）班 | B78: 英语 | C78: 46 | D78: 79.02 | E78: 87.467391 | F78: 1.1069019 | G78: 3 | H78: 彭丹 | I78: 7 | J78: 7 | K78: =$D$74*0.4*SUM(I78:J78)/SUM($I$76:$J$84) -> 533.33333 | L78: =$D$74*0.6*0.7*E78/SUM($E$76:$E$84)+$D$74*0.6*0.3*F78/SUM($F$76:$F$84) -> 885.48865 | M78: =SUM(K78:L78) -> 1418.822
A79: 高三年级理（3）班 | B79: 英语 | C79: 47 | D79: 79.02 | E79: 81.913043 | F79: 1.0366115 | G79: 4 | H79: 李永会 | I79: 7 | J79: 7 | K79: =$D$74*0.4*SUM(I79:J79)/SUM($I$76:$J$84) -> 533.33333 | L79: =$D$74*0.6*0.7*E79/SUM($E$76:$E$84)+$D$74*0.6*0.3*F79/SUM($F$76:$F$84) -> 829.25842 | M79: =SUM(K79:L79) -> 1362.5918
A80: 高三年级理（5）班 | B80: 英语 | C80: 41 | D80: 79.02 | E80: 81.5625 | F80: 1.0321754 | G80: 5 | H80: 拉初 | I80: 7 | J80: 7 | K80: =$D$74*0.4*SUM(I80:J80)/SUM($I$76:$J$84) -> 533.33333 | L80: =$D$74*0.6*0.7*E80/SUM($E$76:$E$84)+$D$74*0.6*0.3*F80/SUM($F$76:$F$84) -> 825.70964 | M80: =SUM(K80:L80) -> 1359.043
A81: 高三年级理（6）班 | B81: 英语 | C81: 49 | D81: 79.02 | E81: 78.44898 | F81: 0.99277372 | G81: 6 | H81: 东梅 | I81: 7 | J81: 7 | K81: =$D$74*0.4*SUM(I81:J81)/SUM($I$76:$J$84) -> 533.33333 | L81: =$D$74*0.6*0.7*E81/SUM($E$76:$E$84)+$D$74*0.6*0.3*F81/SUM($F$76:$F$84) -> 794.18947 | M81: =SUM(K81:L81) -> 1327.5228
A82: 高三年级理（16）班 | B82: 英语 | C82: 29 | D82: 79.02 | E82: 64.155172 | F82: 0.81188525 | G82: 7 | H82: 彭丹 | I82: 7 | J82: 7 | K82: =$D$74*0.4*SUM(I82:J82)/SUM($I$76:$J$84) -> 533.33333 | L82: =$D$74*0.6*0.7*E82/SUM($E$76:$E$84)+$D$74*0.6*0.3*F82/SUM($F$76:$F$84) -> 649.48407 | M82: =SUM(K82:L82) -> 1182.8174
A83: 高三年级理（8）班 | B83: 英语 | C83: 36 | D83: 79.02 | E83: 59.861111 | F83: 0.7575438 | G83: 8 | H83: 朱恩凡 | I83: 7 | J83: 7 | K83: =$D$74*0.4*SUM(I83:J83)/SUM($I$76:$J$84) -> 533.33333 | L83: =$D$74*0.6*0.7*E83/SUM($E$76:$E$84)+$D$74*0.6*0.3*F83/SUM($F$76:$F$84) -> 606.01252 | M83: =SUM(K83:L83) -> 1139.3459
A84: 高三年级理（7）班 | B84: 英语 | C84: 39 | D84: 79.02 | E84: 57.320513 | F84: 0.72539247 | G84: 9 | H84: 陈国萍 | I84: 7 | J84: 7 | K84: =$D$74*0.4*SUM(I84:J84)/SUM($I$76:$J$84) -> 533.33333 | L84: =$D$74*0.6*0.7*E84/SUM($E$76:$E$84)+$D$74*0.6*0.3*F84/SUM($F$76:$F$84) -> 580.29241 | M84: =SUM(K84:L84) -> 1113.6257
J85: 合计 | K85: =SUM(K76:K84) -> 4800 | L85: =SUM(L76:L84) -> 7200 | M85: =SUM(K85:L85) -> 12000
B86: 奖项 | C86: 奖励金额/元 | D86: 实发金额/元
A87: 7.高三物理类生物 | B87: 三等奖 | C87: =C9 -> 7200 | D87: =D9 -> 5760 | I87: 工作量
A88: 班级 | B88: 科目 | C88: 参考人数 | D88: 年级平均分 | E88: 班平均分 | F88: 班平均分/年级平均分 | G88: 名次 | H88: 任课课师 | I88: 上期课时 | J88: 下期课时 | K88: 课时奖 | L88: 贡献奖 | M88: 合计
A89: 高三年级理（1）班 | B89: 生物 | C89: 43 | D89: 72.42 | E89: 82.581395 | F89: 1.140312 | G89: 1 | H89: 彭桦/高琴 | I89: 5 | J89: 5 | K89: =$D$87*0.4*SUM(I89:J89)/SUM($I$89:$J$94) -> 384 | L89: =$D$87*0.6*0.7*E89/SUM($E$89:$E$94)+$D$87*0.6*0.3*F89/SUM($F$89:$F$94) -> 656.85793 | M89: =SUM(K89:L89) -> 1040.8579
A90: 高三年级理（3）班 | B90: 生物 | C90: 47 | D90: 72.42 | E90: 76.248889 | F90: 1.0528706 | G90: 2 | H90: 彭桦/尼玛布池 | I90: 5 | J90: 5 | K90: =$D$87*0.4*SUM(I90:J90)/SUM($I$89:$J$94) -> 384 | L90: =$D$87*0.6*0.7*E90/SUM($E$89:$E$94)+$D$87*0.6*0.3*F90/SUM($F$89:$F$94) -> 606.48875 | M90: =SUM(K90:L90) -> 990.48875
A91: 高三年级理（2）班 | B91: 生物 | C91: 46 | D91: 72.42 | E91: 74.704348 | F91: 1.0315431 | G91: 3 | H91: 尼玛布池 | I91: 5 | J91: 5 | K91: =$D$87*0.4*SUM(I91:J91)/SUM($I$89:$J$94) -> 384 | L91: =$D$87*0.6*0.7*E91/SUM($E$89:$E$94)+$D$87*0.6*0.3*F91/SUM($F$89:$F$94) -> 594.20337 | M91: =SUM(K91:L91) -> 978.20337
A92: 高三年级理（16）班 | B92: 生物 | C92: 29 | D92: 72.42 | E92: 69.927586 | F92: 0.9655839 | G92: 4 | H92: 张弘 | I92: 5 | J92: 5 | K92: =$D$87*0.4*SUM(I92:J92)/SUM($I$89:$J$94) -> 384 | L92: =$D$87*0.6*0.7*E92/SUM($E$89:$E$94)+$D$87*0.6*0.3*F92/SUM($F$89:$F$94) -> 556.20869 | M92: =SUM(K92:L92) -> 940.20869
A93: 高三年级理（7）班 | B93: 生物 | C93: 39 | D93: 72.42 | E93: 65.7 | F93: 0.90720795 | G93: 5 | H93: 尼玛布池/张斯杰 | I93: 5 | J93: 5 | K93: =$D$87*0.4*SUM(I93:J93)/SUM($I$89:$J$94) -> 384 | L93: =$D$87*0.6*0.7*E93/SUM($E$89:$E$94)+$D$87*0.6*0.3*F93/SUM($F$89:$F$94) -> 522.58219 | M93: =SUM(K93:L93) -> 906.58219
A94: 高三年级理（5）班 | B94: 生物 | C94: 41 | D94: 72.42 | E94: 65.3325 | F94: 0.90213339 | G94: 6 | H94: 张弘 | I94: 5 | J94: 5 | K94: =$D$87*0.4*SUM(I94:J94)/SUM($I$89:$J$94) -> 384 | L94: =$D$87*0.6*0.7*E94/SUM($E$89:$E$94)+$D$87*0.6*0.3*F94/SUM($F$89:$F$94) -> 519.65907 | M94: =SUM(K94:L94) -> 903.65907
J95: 合计 | K95: =SUM(K89:K94) -> 2304 | L95: =SUM(L89:L94) -> 3456 | M95: =SUM(K95:L95) -> 5760
B96: 奖项 | C96: 奖励金额/元 | D96: 实发金额/元
A97: 8.高三物理类政治 | B97: 三等奖 | C97: =C10 -> 1800 | D97: =D10 -> 1440 | I97: 工作量
A98: 班级 | B98: 科目 | C98: 参考人数 | D98: 年级平均分 | E98: 班平均分 | F98: 班平均分/年级平均分 | G98: 名次 | H98: 任课课师 | I98: 上期课时 | J98: 下期课时 | K98: 课时奖 | L98: 贡献奖 | M98: 合计
A99: 高三年级理（4）班 | B99: 政治 | C99: 48 | D99: 70.33 | E99: 74.377083 | F99: 1.0575442 | G99: 1 | H99: 纪春权/沙正芳 | I99: 5 | J99: 5 | K99: =$D$97*0.4*SUM(I99:J99)/SUM($I$99:$J$100) -> 288 | L99: =$D$97*0.6*0.7*E99/SUM($E$99:$E$100)+$D$97*0.6*0.3*F99/SUM($F$99:$F$100) -> 456.88094 | M99: =SUM(K99:L99) -> 744.88094
A100: 高三年级理（8）班 | B100: 政治 | C100: 36 | D100: 70.33 | E100: 66.27619 | F100: 0.94236017 | G100: 2 | H100: 马巫各 | I100: 5 | J100: 5 | K100: =$D$97*0.4*SUM(I100:J100)/SUM($I$99:$J$100) -> 288 | L100: =$D$97*0.6*0.7*E100/SUM($E$99:$E$100)+$D$97*0.6*0.3*F100/SUM($F$99:$F$100) -> 407.11906 | M100: =SUM(K100:L100) -> 695.11906
...

Sheet 进步奖
A1: 高三教学质量进步奖
A2: 科目 | B2: 奖项 | C2: 奖励金额/元 | D2: 实发金额/元
A3: 高三物理类化学（8个班） | B3: 二等奖 | C3: =8*4000*0.6 -> 19200 | D3: =C3*0.8 -> 15360
A4: 高三历史类生物（2个班） | B4: 三等奖 | C4: =2000*0.6*2 -> 2400 | D4: =C4*0.8 -> 1920
B5: 合计 | C5: =SUM(C3:C4) -> 21600 | D5: =SUM(D3:D4) -> 17280
B6: 奖项 | C6: 奖励金额/元 | D6: 实发金额/元
A7: 1.高三物理类化学 | B7: 二等奖 | C7: =C3 -> 19200 | D7: =D3 -> 15360 | I7: 工作量
A8: 班级 | B8: 科目 | C8: 参考人数 | D8: 年级平均分 | E8: 班平均分 | F8: 班平均分/年级平均分 | G8: 名次 | H8: 任课课师 | I8: 上期课时 | J8: 下期课时 | K8: 课时奖 | L8: 贡献奖 | M8: 合计
A9: 高三年级理（1）班 | B9: 化学 | C9: 43 | D9: 72.06 | E9: 79.151163 | F9: 1.0984064 | G9: 1 | H9: 叶小军 | I9: 5 | J9: 5 | K9: =$D$7*0.4*SUM(I9:J9)/SUM($I$9:$J$16) -> 768 | L9: =$D$7*0.6*0.7*E9/SUM($E$9:$E$16)+$D$7*0.6*0.3*F9/SUM($F$9:$F$16) -> 1265.3286 | M9: =SUM(K9:L9) -> 2033.3286
A10: 高三年级理（2）班 | B10: 化学 | C10: 46 | D10: 72.06 | E10: 78.278261 | F10: 1.0862928 | G10: 2 | H10: 李荣鑫 | I10: 5 | J10: 5 | K10: =$D$7*0.4*SUM(I10:J10)/SUM($I$9:$J$16) -> 768 | L10: =$D$7*0.6*0.7*E10/SUM($E$9:$E$16)+$D$7*0.6*0.3*F10/SUM($F$9:$F$16) -> 1251.3742 | M10: =SUM(K10:L10) -> 2019.3742
A11: 高三年级理（3）班 | B11: 化学 | C11: 47 | D11: 72.06 | E11: 75.523913 | F11: 1.0480698 | G11: 3 | H11: 何传英 | I11: 5 | J11: 5 | K11: =$D$7*0.4*SUM(I11:J11)/SUM($I$9:$J$16) -> 768 | L11: =$D$7*0.6*0.7*E11/SUM($E$9:$E$16)+$D$7*0.6*0.3*F11/SUM($F$9:$F$16) -> 1207.3426 | M11: =SUM(K11:L11) -> 1975.3426
A12: 高三年级理（6）班 | B12: 化学 | C12: 49 | D12: 72.06 | E12: 71.967347 | F12: 0.99871422 | G12: 4 | H12: 李荣鑫 | I12: 5 | J12: 5 | K12: =$D$7*0.4*SUM(I12:J12)/SUM($I$9:$J$16) -> 768 | L12: =$D$7*0.6*0.7*E12/SUM($E$9:$E$16)+$D$7*0.6*0.3*F12/SUM($F$9:$F$16) -> 1150.4865 | M12: =SUM(K12:L12) -> 1918.4865
A13: 高三年级理（4）班 | B13: 化学 | C13: 48 | D13: 72.06 | E13: 71.097917 | F13: 0.98664886 | G13: 5 | H13: 刘厚江 | I13: 5 | J13: 5 | K13: =$D$7*0.4*SUM(I13:J13)/SUM($I$9:$J$16) -> 768 | L13: =$D$7*0.6*0.7*E13/SUM($E$9:$E$16)+$D$7*0.6*0.3*F13/SUM($F$9:$F$16) -> 1136.5876 | M13: =SUM(K13:L13) -> 1904.5876
A14: 高三年级理（16）班 | B14: 化学 | C14: 43 | D14: 72.06 | E14: 70.02069 | F14: 0.97169983 | G14: 6 | H14: 何传英 | I14: 5 | J14: 5 | K14: =$D$7*0.4*SUM(I14:J14)/SUM($I$9:$J$16) -> 768 | L14: =$D$7*0.6*0.7*E14/SUM($E$9:$E$16)+$D$7*0.6*0.3*F14/SUM($F$9:$F$16) -> 1119.3668 | M14: =SUM(K14:L14) -> 1887.3668
A15: 高三年级理（7）班 | B15: 化学 | C15: 39 | D15: 72.06 | E15: 67.806897 | F15: 0.9409783 | G15: 7 | H15: 叶小军 | I15: 5 | J15: 5 | K15: =$D$7*0.4*SUM(I15:J15)/SUM($I$9:$J$16) -> 768 | L15: =$D$7*0.6*0.7*E15/SUM($E$9:$E$16)+$D$7*0.6*0.3*F15/SUM($F$9:$F$16) -> 1083.9766 | M15: =SUM(K15:L15) -> 1851.9766
A16: 高三年级理（8）班 | B16: 化学 | C16: 36 | D16: 72.06 | E16: 62.65 | F16: 0.86941438 | G16: 8 | H16: 李荣鑫/马红琦 | I16: 5 | J16: 5 | K16: =$D$7*0.4*SUM(I16:J16)/SUM($I$9:$J$16) -> 768 | L16: =$D$7*0.6*0.7*E16/SUM($E$9:$E$16)+$D$7*0.6*0.3*F16/SUM($F$9:$F$16) -> 1001.5372 | M16: =SUM(K16:L16) -> 1769.5372
J17: 合计 | K17: =SUM(K9:K16) -> 6144 | L17: =SUM(L9:L16) -> 9216 | M17: =SUM(K17:L17) -> 15360
B19: 奖项 | C19: 奖励金额/元 | D19: 实发金额/元
A20: 2.高三历史类生物 | B20: 三等奖 | C20: =C4 -> 2400 | D20: =D4 -> 1920 | I20: 工作量
A21: 班级 | B21: 科目 | C21: 参考人数 | D21: 年级平均分 | E21: 班平均分 | F21: 班平均分/年级平均分 | G21: 名次 | H21: 任课课师 | I21: 上期课时 | J21: 下期课时 | K21: 课时奖 | L21: 贡献奖 | M21: 合计
A22: 高三年级文（13）班 | B22: 生物 | C22: 32 | D22: 64.63 | E22: 66.0125 | F22: 1.021391 | G22: 1 | H22: 尼玛布池 | I22: 5 | J22: 5 | K22: =$D$20*0.4*SUM(I22:J22)/SUM($I$22:$J$23) -> 384 | L22: =$D$20*0.6*0.7*E22/SUM($E$22:$E$23)+$D$20*0.6*0.3*F22/SUM($F$22:$F$23) -> 588.27908 | M22: =SUM(K22:L22) -> 972.27908
A23: 高三年级文（12）班 | B23: 生物 | C23: 37 | D23: 64.63 | E23: 63.256757 | F23: 0.97875223 | G23: 2 | H23: 张弘 | I23: 5 | J23: 5 | K23: =$D$20*0.4*SUM(I23:J23)/SUM($I$22:$J$23) -> 384 | L23: =$D$20*0.6*0.7*E23/SUM($E$22:$E$23)+$D$20*0.6*0.3*F23/SUM($F$22:$F$23) -> 563.72092 | M23: =SUM(K23:L23) -> 947.72092
J24: 合计 | K24: =SUM(K22:K23) -> 768 | L24: =SUM(L22:L23) -> 1152 | M24: =SUM(K24:L24) -> 1920

Sheet 总合计
A1: 学科组 | B1: 姓名 | C1: 质量奖 | D1: 进步奖 | E1: 总奖金 | F1: 学科组合计
A2: 语文 | B2: 周菊明 | C2: =SUMIF(质量奖!H:H,B2,质量奖!M:M) -> 4380.8592 | E2: =C2+D2 -> 4380.8592 | F2: =SUM(E2:E9) -> 36000
B3: 肖锐 | C3: =SUMIF(质量奖!H:H,B3,质量奖!M:M) -> 4299.0917 | E3: =C3+D3 -> 4299.0917
B4: 易涛 | C4: =SUMIF(质量奖!H:H,B4,质量奖!M:M) -> 4561.6901 | E4: =C4+D4 -> 4561.6901
B5: 格绒燚西 | C5: =SUMIF(质量奖!H:H,B5,质量奖!M:M) -> 4411.9277 | E5: =C5+D5 -> 4411.9277
B6: 陈光汇 | C6: =SUMIF(质量奖!H:H,B6,质量奖!M:M) -> 4541.7437 | E6: =C6+D6 -> 4541.7437
B7: 何东霖 | C7: =SUMIF(质量奖!H:H,B7,质量奖!M:M) -> 4412.8843 | E7: =C7+D7 -> 4412.8843
B8: 岳子琦 | C8: =SUMIF(质量奖!H:H,B8,质量奖!M:M) -> 4544.9029 | E8: =C8+D8 -> 4544.9029
B9: 杨翁基之玛 | C9: =SUMIF(质量奖!H:H,B9,质量奖!M:M) -> 4846.9004 | E9: =C9+D9 -> 4846.9004
A10: 数学组 | B10: 赵云川 | C10: =SUMIF(质量奖!$H$19:$H$146,B10,质量奖!$M$19:$M$146) -> 2792.6658 | E10: =C10+D10 -> 2792.6658 | F10: =SUM(E10:E17) -> 28800
B11: 杜东洋 | C11: =SUMIF(质量奖!$H$19:$H$146,B11,质量奖!$M$19:$M$146) -> 4020.2083 | E11: =C11+D11 -> 4020.2083
B12: 央宗娜姆 | C12: =SUMIF(质量奖!$H$19:$H$146,B12,质量奖!$M$19:$M$146) -> 2754.5654 | E12: =C12+D12 -> 2754.5654
B13: 喇燕 | C13: =SUMIF(质量奖!$H$19:$H$146,B13,质量奖!$M$19:$M$146) -> 3700.3055 | E13: =C13+D13 -> 3700.3055
B14: 曹云萍 | C14: =SUMIF(质量奖!$H$19:$H$146,B14,质量奖!$M$19:$M$146) -> 3751.0732 | E14: =C14+D14 -> 3751.0732
B15: 徐万雄 | C15: =SUMIF(质量奖!$H$19:$H$146,B15,质量奖!$M$19:$M$146) -> 3454.9379 | E15: =C15+D15 -> 3454.9379
B16: 马俊 | C16: =SUMIF(质量奖!$H$19:$H$146,B16,质量奖!$M$19:$M$146) -> 4645.7965 | E16: =C16+D16 -> 4645.7965
B17: 潘勇 | C17: =SUMIF(质量奖!$H$19:$H$146,B17,质量奖!$M$19:$M$146) -> 3680.4474 | E17: =C17+D17 -> 3680.4474
A18: 英语组 | B18: 拉初 | C18: =SUMIF(质量奖!$H$19:$H$146,B18,质量奖!$M$19:$M$146) -> 3007.8605 | E18: =C18+D18 -> 3007.8605 | F18: =SUM(E18:E24) -> 12000
B19: 彭丹 | C19: =SUMIF(质量奖!$H$19:$H$146,B19,质量奖!$M$19:$M$146) -> 2601.6394 | E19: =C19+D19 -> 2601.6394
B20: 李永会 | C20: =SUMIF(质量奖!$H$19:$H$146,B20,质量奖!$M$19:$M$146) -> 1362.5918 | E20: =C20+D20 -> 1362.5918
B21: 浦恩玲 | C21: =SUMIF(质量奖!$H$19:$H$146,B21,质量奖!$M$19:$M$146) -> 1447.4139 | E21: =C21+D21 -> 1447.4139
B22: 东梅 | C22: =SUMIF(质量奖!$H$19:$H$146,B22,质量奖!$M$19:$M$146) -> 1327.5228 | E22: =C22+D22 -> 1327.5228
B23: 陈国萍 | C23: =SUMIF(质量奖!$H$19:$H$146,B23,质量奖!$M$19:$M$146) -> 1113.6257 | E23: =C23+D23 -> 1113.6257
B24: 朱恩凡 | C24: =SUMIF(质量奖!$H$19:$H$146,B24,质量奖!$M$19:$M$146) -> 1139.3459 | E24: =C24+D24 -> 1139.3459
A25: 物理 | B25: 赵建超 | C25: =SUMIF(质量奖!$H$19:$H$146,B25,质量奖!$M$19:$M$146) -> 1797.7594 | E25: =C25+D25 -> 1797.7594 | F25: =SUM(E25:E28) -> 7680
B26: 康小平 | C26: =SUMIF(质量奖!$H$19:$H$146,B26,质量奖!$M$19:$M$146) -> 2513.5129 | E26: =C26+D26 -> 2513.5129
B27: 周峰 | C27: =SUMIF(质量奖!$H$19:$H$146,B27,质量奖!$M$19:$M$146) -> 1761.9456 | E27: =C27+D27 -> 1761.9456
B28: 解超燕 | C28: =SUMIF(质量奖!$H$19:$H$146,B28,质量奖!$M$19:$M$146) -> 1606.7821 | E28: =C28+D28 -> 1606.7821
A29: 化学 | B29: 叶小军 | C29: =SUMIF(质量奖!$H$19:$H$146,B29,质量奖!$M$19:$M$146) -> 5949.3736 | D29: =SUMIF(进步奖!H:H,B29,进步奖!M:M) -> 3885.3052 | E29: =C29+D29 -> 9834.6787 | F29: =SUM(E29:E33) -> 38880
B30: 李荣鑫 | C30: =质量奖!M20+质量奖!M22+质量奖!M26*0.5 -> 7384.6511 | D30: =进步奖!M10+进步奖!M12+进步奖!M16*0.5 -> 4822.6293 | E30: =C30+D30 -> 12207.28
B31: 何传英 | C31: =SUMIF(质量奖!$H$19:$H$146,B31,质量奖!$M$19:$M$146) -> 5914.7737 | D31: =SUMIF(进步奖!H:H,B31,进步奖!M:M) -> 3862.7093 | E31: =C31+D31 -> 9777.483
B32: 刘厚江 | C32: =SUMIF(质量奖!$H$19:$H$146,B32,质量奖!$M$19:$M$146) -> 2916.3997 | D32: =SUMIF(进步奖!H:H,B32,进步奖!M:M) -> 1904.5876 | E32: =C32+D32 -> 4820.9873
B33: 马红琦 | C33: =质量奖!M26*0.5 -> 1354.802 | D33: =进步奖!M16*0.5 -> 884.76862 | E33: =C33+D33 -> 2239.5706
A34: 生物 | B34: 彭桦 | C34: =质量奖!M89*1/4+质量奖!M91*1/4 -> 504.76533 | E34: =C34+D34 -> 504.76533 | F34: =SUM(E34:E38) -> 12480
B35: 高琴 | C35: =质量奖!M89*3/4 -> 780.64345 | E35: =C35+D35 -> 780.64345
B36: 尼玛布池 | C36: =质量奖!M91*3/4+质量奖!M93*1/4+质量奖!M90+质量奖!M31 -> 4381.4845 | D36: =SUMIF(进步奖!H:H,B36,进步奖!M:M) -> 972.27908 | E36: =C36+D36 -> 5353.7636
B37: 张弘 | C37: =SUMIF(质量奖!$H$19:$H$146,B37,质量奖!$M$19:$M$146) -> 4213.17 | D37: =SUMIF(进步奖!H:H,B37,进步奖!M:M) -> 947.72092 | E37: =C37+D37 -> 5160.891
B38: 张斯杰 | C38: =质量奖!M93*3/4 -> 679.93664 | E38: =C38+D38 -> 679.93664
A39: 政治 | B39: 沙正芳 | C39: =质量奖!M146*3/4+质量奖!M99*3/4 -> 1244.2321 | E39: =C39+D39 -> 1244.2321 | F39: =SUM(E39:E43) -> 8640
B40: 马巫各 | C40: =SUMIF(质量奖!$H$19:$H$146,B40,质量奖!$M$19:$M$146) -> 2752.3351 | E40: =C40+D40 -> 2752.3351
B41: 胡东缘 | C41: =SUMIF(质量奖!$H$19:$H$146,B41,质量奖!$M$19:$M$146) -> 2148.6741 | E41: =C41+D41 -> 2148.6741
B42: 吴文艺 | C42: =SUMIF(质量奖!$H$19:$H$146,B42,质量奖!$M$19:$M$146) -> 2080.0147 | E42: =C42+D42 -> 2080.0147
B43: 纪春权 | C43: =质量奖!M99*1/4+质量奖!M146*1/4 -> 414.74403 | E43: =C43+D43 -> 414.74403
A44: 历史 | B44: 杨琴 | C44: =SUMIF(质量奖!$H$19:$H$146,B44,质量奖!$M$19:$M$146) -> 3954.6136 | E44: =C44+D44 -> 3954.6136 | F44: =SUM(E44:E47) -> 13440
B45: 徐志兵 | C45: =SUMIF(质量奖!$H$19:$H$146,B45,质量奖!$M$19:$M$146) -> 3785.4466 | E45: =C45+D45 -> 3785.4466
B46: 降初里 | C46: =SUMIF(质量奖!$H$19:$H$146,B46,质量奖!$M$19:$M$146) -> 3806.0247 | E46: =C46+D46 -> 3806.0247
B47: 邱君益 | C47: =SUMIF(质量奖!$H$19:$H$146,B47,质量奖!$M$19:$M$146) -> 1893.9151 | E47: =C47+D47 -> 1893.9151
B48: 合计 | C48: =SUM(C2:C47) -> 140640 | D48: =SUM(D2:D47) -> 17280 | E48: =SUM(E2:E47) -> 157920 | F48: =SUM(F2:F47) -> 157920

Sheet 进步奖单列
A1: 学科组 | B1: 姓名 | C1: 进步奖
A2: 化学 | B2: 叶小军 | C2: 3885.3052
B3: 李荣鑫 | C3: 4822.6293
B4: 何传英 | C4: 3862.7093
B5: 刘厚江 | C5: 1904.5876
B6: 马红琦 | C6: 884.76862
A7: 生物 | B7: 尼玛布池 | C7: 972.27908
B8: 张弘 | C8: 947.72092
B9: 合计 | C9: =SUM(C2:C8) -> 17280
