Workbook
Name 科类: [1]成绩册!$F$3:$F$613

Sheet 质量奖
A1: 高三教学质量奖
A2: 科目 | B2: 奖项 | C2: 奖励金额/元 | D2: 实发金额/元
A3: 高三物理类化学（7个班） | B3: 一等奖 | C3: =7000*0.6*7 -> 29400 | D3: =C3*0.8 -> 23520
A4: 高三历史类生物（2个班） | B4: 二等奖 | C4: =5000*0.6*2 -> 6000 | D4: =C4*0.8 -> 4800
A5: 高三物理类语文（8个班） | B5: 三等奖 | C5: =3000*8 -> 24000 | D5: =C5*0.8 -> 19200
A6: 高三物理类数学（5个班） | B6: 三等奖 | C6: =3000*5 -> 15000 | D6: =C6*0.8 -> 12000
A7: 高三物理类物理（4个班） | B7: 三等奖 | C7: =3000*0.8*4 -> 9600 | D7: =C7*0.8 -> 7680
A8: 高三物理类英语（5个班） | B8: 三等奖 | C8: =3000*5 -> 15000 | D8: =C8*0.8 -> 12000
A9: 高三物理类生物（4个班） | B9: 三等奖 | C9: =3000*0.6*4 -> 7200 | D9: =C9*0.8 -> 5760
A10: 高三物理类政治（1个班） | B10: 三等奖 | C10: =3000*0.6*1 -> 1800 | D10: =C10*0.8 -> 1440
A11: 高三历史类语文（7个班） | B11: 三等奖 | C11: =3000*7 -> 21000 | D11: =C11*0.8 -> 16800
A12: 高三历史类数学（7个班） | B12: 三等奖 | C12: =3000*7 -> 21000 | D12: =C12*0.8 -> 16800
A13: 高三历史类历史（7个班） | B13: 三等奖 | C13: =3000*0.8*7 -> 16800 | D13: =C13*0.8 -> 13440
A14: 高三历史类政治（5个班） | B14: 三等奖 | C14: =3000*0.6*5 -> 9000 | D14: =C14*0.8 -> 7200
B15: 合计 | C15: =SUM(C3:C14) -> 175800 | D15: =SUM(D3:D14) -> 140640
B16: 奖项 | C16: 奖励金额/元 | D16: 实发金额/元
A17: 1.高三物理类化学 | B17: 一等奖 | C17: =C3 -> 29400 | D17: =D3 -> 23520 | I17: 工作量
A18: 班级 | B18: 科目 | C18: 参考人数 | D18: 年级平均分 | E18: 班平均分 | F18: 班平均分/年级平均分 | G18: 名次 | H18: 任课课师 | I18: 上期课时 | J18: 下期课时 | K18: 课时奖 | L18: 贡献奖 | M18: 合计
A19: 高三年级理（1）班 | B19: 化学 | C19: 43 | D19: 72.06 | E19: 79.151163 | F19: 1.0984064 | G19: 1 | H19: 叶小军 | I19: 5 | J19: 5 | K19: =$D$17*0.4*SUM(I19:J19)/SUM($I$19:$J$26) -> 1176 | L19: =$D$17*0.6*0.7*E19/SUM($E$19:$E$26)+$D$17*0.6*0.3*F19/SUM($F$19:$F$26) -> 1937.5344 | M19: =SUM(K19:L19) -> 3113.5344
A20: 高三年级理（2）班 | B20: 化学 | C20: 46 | D20: 72.06 | E20: 78.278261 | F20: 1.0862928 | G20: 2 | H20: 李荣鑫 | I20: 5 | J20: 5 | K20: =$D$17*0.4*SUM(I20:J20)/SUM($I$19:$J$26) -> 1176 | L20: =$D$17*0.6*0.7*E20/SUM($E$19:$E$26)+$D$17*0.6*0.3*F20/SUM($F$19:$F$26) -> 1916.1667 | M20: =SUM(K20:L20) -> 3092.1667
A21: 高三年级理（3）班 | B21: 化学 | C21: 47 | D21: 72.06 | E21: 75.523913 | F21: 1.0480698 | G21: 3 | H21: 何传英 | I21: 5 | J21: 5 | K21: =$D$17*0.4*SUM(I21:J21)/SUM($I$19:$J$26) -> 1176 | L21: =$D$17*0.6*0.7*E21/SUM($E$19:$E$26)+$D$17*0.6*0.3*F21/SUM($F$19:$F$26) -> 1848.7433 | M21: =SUM(K21:L21) -> 3024.7433
A22: 高三年级理（6）班 | B22: 化学 | C22: 49 | D22: 72.06 | E22: 71.967347 | F22: 0.99871422 | G22: 4 | H22: 李荣鑫 | I22: 5 | J22: 5 | K22: =$D$17*0.4*SUM(I22:J22)/SUM($I$19:$J$26) -> 1176 | L22: =$D$17*0.6*0.7*E22/SUM($E$19:$E$26)+$D$17*0.6*0.3*F22/SUM($F$19:$F$26) -> 1761.6824 | M22: =SUM(K22:L22) -> 2937.6824
A23: 高三年级理（4）班 | B23: 化学 | C23: 48 | D23: 72.06 | E23: 71.097917 | F23: 0.98664886 | G23: 5 | H23: 刘厚江 | I23: 5 | J23: 5 | K23: =$D$17*0.4*SUM(I23:J23)/SUM($I$19:$J$26) -> 1176 | L23: =$D$17*0.6*0.7*E23/SUM($E$19:$E$26)+$D$17*0.6*0.3*F23/SUM($F$19:$F$26) -> 1740.3997 | M23: =SUM(K23:L23) -> 2916.3997
A24: 高三年级理（16）班 | B24: 化学 | C24: 43 | D24: 72.06 | E24: 70.02069 | F24: 0.97169983 | G24: 6 | H24: 何传英 | I24: 5 | J24: 5 | K24: =$D$17*0.4*SUM(I24:J24)/SUM($I$19:$J$26) -> 1176 | L24: =$D$17*0.6*0.7*E24/SUM($E$19:$E$26)+$D$17*0.6*0.3*F24/SUM($F$19:$F$26) -> 1714.0304 | M24: =SUM(K24:L24) -> 2890.0304
A25: 高三年级理（7）班 | B25: 化学 | C25: 39 | D25: 72.06 | E25: 67.806897 | F25: 0.9409783 | G25: 7 | H25: 叶小军 | I25: 5 | J25: 5 | K25: =$D$17*0.4*SUM(I25:J25)/SUM($I$19:$J$26) -> 1176 | L25: =$D$17*0.6*0.7*E25/SUM($E$19:$E$26)+$D$17*0.6*0.3*F25/SUM($F$19:$F$26) -> 1659.8391 | M25: =SUM(K25:L25) -> 2835.8391
A26: 高三年级理（8）班 | B26: 化学 | C26: 36 | D26: 72.06 | E26: 62.65 | F26: 0.86941438 | G26: 8 | H26: 李荣鑫/马红琦 | I26: 5 | J26: 5 | K26: =$D$17*0.4*SUM(I26:J26)/SUM($I$19:$J$26) -> 1176 | L26: =$D$17*0.6*0.7*E26/SUM($E$19:$E$26)+$D$17*0.6*0.3*F26/SUM($F$19:$F$26) -> 1533.6039 | M26: =SUM(K26:L26) -> 2709.6039
J27: 合计 | K27: =SUM(K19:K26) -> 9408 | L27: =SUM(L19:L26) -> 14112 | M27: =SUM(K27:L27) -> 23520
B28: 奖项 | C28: 奖励金额/元 | D28: 实发金额/元
A29: 2.高三历史类生物 | B29: 二等奖 | C29: =C4 -> 6000 | D29: =D4 -> 4800 | I29: 工作量
A30: 班级 | B30: 科目 | C30: 参考人数 | D30: 年级平均分 | E30: 班平均分 | F30: 班平均分/年级平均分 | G30: 名次 | H30: 任课课师 | I30: 上期课时 | J30: 下期课时 | K30: 课时奖 | L30: 贡献奖 | M30: 合计
A31: 高三年级文（13）班 | B31: 生物 | C31: 32 | D31: 64.63 | E31: 66.0125 | F31: 1.021391 | G31: 1 | H31: 尼玛布池 | I31: 5 | J31: 5 | K31: =$D$29*0.4*SUM(I31:J31)/SUM($I$31:$J$32) -> 960 | L31: =$D$29*0.6*0.7*E31/SUM($E$31:$E$32)+$D$29*0.6*0.3*F31/SUM($F$31:$F$32) -> 1470.6977 | M31: =SUM(K31:L31) -> 2430.6977
A32: 高三年级文（12）班 | B32: 生物 | C32: 37 | D32: 64.63 | E32: 63.256757 | F32: 0.97875223 | G32: 2 | H32: 张弘 | I32: 5 | J32: 5 | K32: =$D$29*0.4*SUM(I32:J32)/SUM($I$31:$J$32) -> 960 | L32: =$D$29*0.6*0.7*E32/SUM($E$31:$E$32)+$D$29*0.6*0.3*F32/SUM($F$31:$F$32) -> 1409.3023 | M32: =SUM(K32:L32) -> 2369.3023
J33: 合计 | K33: =SUM(K31:K32) -> 1920 | L33: =SUM(L31:L32) -> 2880 | M33: =SUM(K33:L33) -> 4800
B34: 奖项 | C34: 奖励金额/元 | D34: 实发金额/元
A35: 3.高三物理类语文 | B35: 三等奖 | C35: =C5 -> 24000 | D35: =D5 -> 19200 | I35: 工作量
A36: 班级 | B36: 科目 | C36: 参考人数 | D36: 年级平均分 | E36: 班平均分 | F36: 班平均分/年级平均分 | G36: 名次 | H36: 任课课师 | I36: 上期课时 | J36: 下期课时 | K36: 课时奖 | L36: 贡献奖 | M36: 合计
A37: 高三年级理（1）班 | B37: 语文 | C37: 43 | D37: 96.25 | E37: 106.60465 | F37: 1.1075808 | G37: 1 | H37: 周菊明 | I37: 7 | J37: 7 | K37: =$D$35*0.4*SUM(I37:J37)/SUM($I$37:$J$45) -> 853.33333 | L37: =$D$35*0.6*0.7*E37/SUM($E$37:$E$45)+$D$35*0.6*0.3*F37/SUM($F$37:$F$45) -> 1417.6987 | M37: =SUM(K37:L37) -> 2271.032
A38: 高三年级理（2）班 | B38: 语文 | C38: 46 | D38: 96.25 | E38: 98.032609 | F38: 1.0185206 | G38: 2 | H38: 肖锐 | I38: 7 | J38: 7 | K38: =$D$35*0.4*SUM(I38:J38)/SUM($I$37:$J$45) -> 853.33333 | L38: =$D$35*0.6*0.7*E38/SUM($E$37:$E$45)+$D$35*0.6*0.3*F38/SUM($F$37:$F$45) -> 1303.7021 | M38: =SUM(K38:L38) -> 2157.0354
A39: 高三年级理（3）班 | B39: 语文 | C39: 47 | D39: 96.25 | E39: 97.380435 | F39: 1.0117448 | G39: 3 | H39: 易涛 | I39: 7 | J39: 7 | K39: =$D$35*0.4*SUM(I39:J39)/SUM($I$37:$J$45) -> 853.33333 | L39: =$D$35*0.6*0.7*E39/SUM($E$37:$E$45)+$D$35*0.6*0.3*F39/SUM($F$37:$F$45) -> 1295.029 | M39: =SUM(K39:L39) -> 2148.3624
A40: 高三年级理（4）班 | B40: 语文 | C40: 48 | D40: 96.25 | E40: 96.90625 | F40: 1.0068182 | G40: 4 | H40: 肖锐 | I40: 7 | J40: 7 | K40: =$D$35*0.4*SUM(I40:J40)/SUM($I$37:$J$45) -> 853.33333 | L40: =$D$35*0.6*0.7*E40/SUM($E$37:$E$45)+$D$35*0.6*0.3*F40/SUM($F$37:$F$45) -> 1288.723 | M40: =SUM(K40:L40) -> 2142.0563
...

Sheet 进步奖
A1: 高三教学质量进步奖
A2: 科目 | B2: 奖项 | C2: 奖励金额/元 | D2: 实发金额/元
A3: 高三物理类化学（8个班） | B3: 二等奖 | C3: =8*4000*0.6 -> 19200 | D3: =C3*0.8 -> 15360
A4: 高三历史类生物（2个班） | B4: 三等奖 | C4: =2000*0.6*2 -> 2400 | D4: =C4*0.8 -> 1920
B5: 合计 | C5: =SUM(C3:C4) -> 21600 | D5: =SUM(D3:D4) -> 17280
B6: 奖项 | C6: 奖励金额/元 | D6: 实发金额/元
A7: 1.高三物理类化学 | B7: 二等奖 | C7: =C3 -> 19200 | D7: =D3 -> 15360 | I7: 工作量
A8: 班级 | B8: 科目 | C8: 参考人数 | D8: 年级平均分 | E8: 班平均分 | F8: 班平均分/年级平均分 | G8: 名次 | H8: 任课课师 | I8: 上期课时 | J8: 下期课时 | K8: 课时奖 | L8: 贡献奖 | M8: 合计
A9: 高三年级理（1）班 | B9: 化学 | C9: 43 | D9: 72.06 | E9: 79.151163 | F9: 1.0984064 | G9: 1 | H9: 叶小军 | I9: 5 | J9: 5 | K9: =$D$7*0.4*SUM(I9:J9)/SUM($I$9:$J$16) -> 768 | L9: =$D$7*0.6*0.7*E9/SUM($E$9:$E$16)+$D$7*0.6*0.3*F9/SUM($F$9:$F$16) -> 1265.3286 | M9: =SUM(K9:L9) -> 2033.3286
A10: 高三年级理（2）班 | B10: 化学 | C10: 46 | D10: 72.06 | E10: 78.278261 | F10: 1.0862928 | G10: 2 | H10: 李荣鑫 | I10: 5 | J10: 5 | K10: =$D$7*0.4*SUM(I10:J10)/SUM($I$9:$J$16) -> 768 | L10: =$D$7*0.6*0.7*E10/SUM($E$9:$E$16)+$D$7*0.6*0.3*F10/SUM($F$9:$F$16) -> 1251.3742 | M10: =SUM(K10:L10) -> 2019.3742
A11: 高三年级理（3）班 | B11: 化学 | C11: 47 | D11: 72.06 | E11: 75.523913 | F11: 1.0480698 | G11: 3 | H11: 何传英 | I11: 5 | J11: 5 | K11: =$D$7*0.4*SUM(I11:J11)/SUM($I$9:$J$16) -> 768 | L11: =$D$7*0.6*0.7*E11/SUM($E$9:$E$16)+$D$7*0.6*0.3*F11/SUM($F$9:$F$16) -> 1207.3426 | M11: =SUM(K11:L11) -> 1975.3426
A12: 高三年级理（6）班 | B12: 化学 | C12: 49 | D12: 72.06 | E12: 71.967347 | F12: 0.99871422 | G12: 4 | H12: 李荣鑫 | I12: 5 | J12: 5 | K12: =$D$7*0.4*SUM(I12:J12)/SUM($I$9:$J$16) -> 768 | L12: =$D$7*0.6*0.7*E12/SUM($E$9:$E$16)+$D$7*0.6*0.3*F12/SUM($F$9:$F$16) -> 1150.4865 | M12: =SUM(K12:L12) -> 1918.4865
A13: 高三年级理（4）班 | B13: 化学 | C13: 48 | D13: 72.06 | E13: 71.097917 | F13: 0.98664886 | G13: 5 | H13: 刘厚江 | I13: 5 | J13: 5 | K13: =$D$7*0.4*SUM(I13:J13)/SUM($I$9:$J$16) -> 768 | L13: =$D$7*0.6*0.7*E13/SUM($E$9:$E$16)+$D$7*0.6*0.3*F13/SUM($F$9:$F$16) -> 1136.5876 | M13: =SUM(K13:L13) -> 1904.5876
A14: 高三年级理（16）班 | B14: 化学 | C14: 43 | D14: 72.06 | E14: 70.02069 | F14: 0.97169983 | G14: 6 | H14: 何传英 | I14: 5 | J14: 5 | K14: =$D$7*0.4*SUM(I14:J14)/SUM($I$9:$J$16) -> 768 | L14: =$D$7*0.6*0.7*E14/SUM($E$9:$E$16)+$D$7*0.6*0.3*F14/SUM($F$9:$F$16) -> 1119.3668 | M14: =SUM(K14:L14) -> 1887.3668
A15: 高三年级理（7）班 | B15: 化学 | C15: 39 | D15: 72.06 | E15: 67.806897 | F15: 0.9409783 | G15: 7 | H15: 叶小军 | I15: 5 | J15: 5 | K15: =$D$7*0.4*SUM(I15:J15)/SUM($I$9:$J$16) -> 768 | L15: =$D$7*0.6*0.7*E15/SUM($E$9:$E$16)+$D$7*0.6*0.3*F15/SUM($F$9:$F$16) -> 1083.9766 | M15: =SUM(K15:L15) -> 1851.9766
A16: 高三年级理（8）班 | B16: 化学 | C16: 36 | D16: 72.06 | E16: 62.65 | F16: 0.86941438 | G16: 8 | H16: 李荣鑫/马红琦 | I16: 5 | J16: 5 | K16: =$D$7*0.4*SUM(I16:J16)/SUM($I$9:$J$16) -> 768 | L16: =$D$7*0.6*0.7*E16/SUM($E$9:$E$16)+$D$7*0.6*0.3*F16/SUM($F$9:$F$16) -> 1001.5372 | M16: =SUM(K16:L16) -> 1769.5372
J17: 合计 | K17: =SUM(K9:K16) -> 6144 | L17: =SUM(L9:L16) -> 9216 | M17: =SUM(K17:L17) -> 15360
B19: 奖项 | C19: 奖励金额/元 | D19: 实发金额/元
A20: 2.高三历史类生物 | B20: 三等奖 | C20: =C4 -> 2400 | D20: =D4 -> 1920 | I20: 工作量
A21: 班级 | B21: 科目 | C21: 参考人数 | D21: 年级平均分 | E21: 班平均分 | F21: 班平均分/年级平均分 | G21: 名次 | H21: 任课课师 | I21: 上期课时 | J21: 下期课时 | K21: 课时奖 | L21: 贡献奖 | M21: 合计
A22: 高三年级文（13）班 | B22: 生物 | C22: 32 | D22: 64.63 | E22: 66.0125 | F22: 1.021391 | G22: 1 | H22: 尼玛布池 | I22: 5 | J22: 5 | K22: =$D$20*0.4*SUM(I22:J22)/SUM($I$22:$J$23) -> 384 | L22: =$D$20*0.6*0.7*E22/SUM($E$22:$E$23)+$D$20*0.6*0.3*F22/SUM($F$22:$F$23) -> 588.27908 | M22: =SUM(K22:L22) -> 972.27908
A23: 高三年级文（12）班 | B23: 生物 | C23: 37 | D23: 64.63 | E23: 63.256757 | F23: 0.97875223 | G23: 2 | H23: 张弘 | I23: 5 | J23: 5 | K23: =$D$20*0.4*SUM(I23:J23)/SUM($I$22:$J$23) -> 384 | L23: =$D$20*0.6*0.7*E23/SUM($E$22:$E$23)+$D$20*0.6*0.3*F23/SUM($F$22:$F$23) -> 563.72092 | M23: =SUM(K23:L23) -> 947.72092
J24: 合计 | K24: =SUM(K22:K23) -> 768 | L24: =SUM(L22:L23) -> 1152 | M24: =SUM(K24:L24) -> 1920

Sheet 总合计
A1: 学科组 | B1: 姓名 | C1: 质量奖 | D1: 进步奖 | E1: 总奖金 | F1: 学科组合计
A2: 语文 | B2: 周菊明 | C2: =SUMIF(质量奖!H:H,B2,质量奖!M:M) -> 4380.8592 | E2: =C2+D2 -> 4380.8592 | F2: =SUM(E2:E9) -> 36000
B3: 肖锐 | C3: =SUMIF(质量奖!H:H,B3,质量奖!M:M) -> 4299.0917 | E3: =C3+D3 -> 4299.0917
B4: 易涛 | C4: =SUMIF(质量奖!H:H,B4,质量奖!M:M) -> 4561.6901 | E4: =C4+D4 -> 4561.6901
B5: 格绒燚西 | C5: =SUMIF(质量奖!H:H,B5,质量奖!M:M) -> 4411.9277 | E5: =C5+D5 -> 4411.9277
B6: 陈光汇 | C6: =SUMIF(质量奖!H:H,B6,质量奖!M:M) -> 4541.7437 | E6: =C6+D6 -> 4541.7437
B7: 何东霖 | C7: =SUMIF(质量奖!H:H,B7,质量奖!M:M) -> 4412.8843 | E7: =C7+D7 -> 4412.8843
B8: 岳子琦 | C8: =SUMIF(质量奖!H:H,B8,质量奖!M:M) -> 4544.9029 | E8: =C8+D8 -> 4544.9029
B9: 杨翁基之玛 | C9: =SUMIF(质量奖!H:H,B9,质量奖!M:M) -> 4846.9004 | E9: =C9+D9 -> 4846.9004
A10: 数学组 | B10: 赵云川 | C10: =SUMIF(质量奖!$H$19:$H$146,B10,质量奖!$M$19:$M$146) -> 2792.6658 | E10: =C10+D10 -> 2792.6658 | F10: =SUM(E10:E17) -> 28800
B11: 杜东洋 | C11: =SUMIF(质量奖!$H$19:$H$146,B11,质量奖!$M$19:$M$146) -> 4020.2083 | E11: =C11+D11 -> 4020.2083
B12: 央宗娜姆 | C12: =SUMIF(质量奖!$H$19:$H$146,B12,质量奖!$M$19:$M$146) -> 2754.5654 | E12: =C12+D12 -> 2754.5654
B13: 喇燕 | C13: =SUMIF(质量奖!$H$19:$H$146,B13,质量奖!$M$19:$M$146) -> 3700.3055 | E13: =C13+D13 -> 3700.3055
B14: 曹云萍 | C14: =SUMIF(质量奖!$H$19:$H$146,B14,质量奖!$M$19:$M$146) -> 3751.0732 | E14: =C14+D14 -> 3751.0732
B15: 徐万雄 | C15: =SUMIF(质量奖!$H$19:$H$146,B15,质量奖!$M$19:$M$146) -> 3454.9379 | E15: =C15+D15 -> 3454.9379
B16: 马俊 | C16: =SUMIF(质量奖!$H$19:$H$146,B16,质量奖!$M$19:$M$146) -> 4645.7965 | E16: =C16+D16 -> 4645.7965
B17: 潘勇 | C17: =SUMIF(质量奖!$H$19:$H$146,B17,质量奖!$M$19:$M$146) -> 3680.4474 | E17: =C17+D17 -> 3680.4474
A18: 英语组 | B18: 拉初 | C18: =SUMIF(质量奖!$H$19:$H$146,B18,质量奖!$M$19:$M$146) -> 3007.8605 | E18: =C18+D18 -> 3007.8605 | F18: =SUM(E18:E24) -> 12000
B19: 彭丹 | C19: =SUMIF(质量奖!$H$19:$H$146,B19,质量奖!$M$19:$M$146) -> 2601.6394 | E19: =C19+D19 -> 2601.6394
B20: 李永会 | C20: =SUMIF(质量奖!$H$19:$H$146,B20,质量奖!$M$19:$M$146) -> 1362.5918 | E20: =C20+D20 -> 1362.5918
B21: 浦恩玲 | C21: =SUMIF(质量奖!$H$19:$H$146,B21,质量奖!$M$19:$M$146) -> 1447.4139 | E21: =C21+D21 -> 1447.4139
B22: 东梅 | C22: =SUMIF(质量奖!$H$19:$H$146,B22,质量奖!$M$19:$M$146) -> 1327.5228 | E22: =C22+D22 -> 1327.5228
B23: 陈国萍 | C23: =SUMIF(质量奖!$H$19:$H$146,B23,质量奖!$M$19:$M$146) -> 1113.6257 | E23: =C23+D23 -> 1113.6257
B24: 朱恩凡 | C24: =SUMIF(质量奖!$H$19:$H$146,B24,质量奖!$M$19:$M$146) -> 1139.3459 | E24: =C24+D24 -> 1139.3459
A25: 物理 | B25: 赵建超 | C25: =SUMIF(质量奖!$H$19:$H$146,B25,质量奖!$M$19:$M$146) -> 1797.7594 | E25: =C25+D25 -> 1797.7594 | F25: =SUM(E25:E28) -> 7680
B26: 康小平 | C26: =SUMIF(质量奖!$H$19:$H$146,B26,质量奖!$M$19:$M$146) -> 2513.5129 | E26: =C26+D26 -> 2513.5129
B27: 周峰 | C27: =SUMIF(质量奖!$H$19:$H$146,B27,质量奖!$M$19:$M$146) -> 1761.9456 | E27: =C27+D27 -> 1761.9456
B28: 解超燕 | C28: =SUMIF(质量奖!$H$19:$H$146,B28,质量奖!$M$19:$M$146) -> 1606.7821 | E28: =C28+D28 -> 1606.7821
A29: 化学 | B29: 叶小军 | C29: =SUMIF(质量奖!$H$19:$H$146,B29,质量奖!$M$19:$M$146) -> 5949.3736 | D29: =SUMIF(进步奖!H:H,B29,进步奖!M:M) -> 3885.3052 | E29: =C29+D29 -> 9834.6787 | F29: =SUM(E29:E33) -> 38880
B30: 李荣鑫 | C30: =质量奖!M20+质量奖!M22+质量奖!M26*0.5 -> 7384.6511 | D30: =进步奖!M10+进步奖!M12+进步奖!M16*0.5 -> 4822.6293 | E30: =C30+D30 -> 12207.28
B31: 何传英 | C31: =SUMIF(质量奖!$H$19:$H$146,B31,质量奖!$M$19:$M$146) -> 5914.7737 | D31: =SUMIF(进步奖!H:H,B31,进步奖!M:M) -> 3862.7093 | E31: =C31+D31 -> 9777.483
B32: 刘厚江 | C32: =SUMIF(质量奖!$H$19:$H$146,B32,质量奖!$M$19:$M$146) -> 2916.3997 | D32: =SUMIF(进步奖!H:H,B32,进步奖!M:M) -> 1904.5876 | E32: =C32+D32 -> 4820.9873
B33: 马红琦 | C33: =质量奖!M26*0.5 -> 1354.802 | D33: =进步奖!M16*0.5 -> 884.76862 | E33: =C33+D33 -> 2239.5706
A34: 生物 | B34: 彭桦 | C34: =质量奖!M89*1/4+质量奖!M91*1/4 -> 504.76533 | E34: =C34+D34 -> 504.76533 | F34: =SUM(E34:E38) -> 12480
B35: 高琴 | C35: =质量奖!M89*3/4 -> 780.64345 | E35: =C35+D35 -> 780.64345
B36: 尼玛布池 | C36: =质量奖!M91*3/4+质量奖!M93*1/4+质量奖!M90+质量奖!M31 -> 4381.4845 | D36: =SUMIF(进步奖!H:H,B36,进步奖!M:M) -> 972.27908 | E36: =C36+D36 -> 5353.7636
B37: 张弘 | C37: =SUMIF(质量奖!$H$19:$H$146,B37,质量奖!$M$19:$M$146) -> 4213.17 | D37: =SUMIF(进步奖!H:H,B37,进步奖!M:M) -> 947.72092 | E37: =C37+D37 -> 5160.891
B38: 张斯杰 | C38: =质量奖!M93*3/4 -> 679.93664 | E38: =C38+D38 -> 679.93664
A39: 政治 | B39: 沙正芳 | C39: =质量奖!M146*3/4+质量奖!M99*3/4 -> 1244.2321 | E39: =C39+D39 -> 1244.2321 | F39: =SUM(E39:E43) -> 8640
B40: 马巫各 | C40: =SUMIF(质量奖!$H$19:$H$146,B40,质量奖!$M$19:$M$146) -> 2752.3351 | E40: =C40+D40 -> 2752.3351
...

Sheet 进步奖单列
A1: 学科组 | B1: 姓名 | C1: 进步奖
A2: 化学 | B2: 叶小军 | C2: 3885.3052
B3: 李荣鑫 | C3: 4822.6293
B4: 何传英 | C4: 3862.7093
B5: 刘厚江 | C5: 1904.5876
B6: 马红琦 | C6: 884.76862
A7: 生物 | B7: 尼玛布池 | C7: 972.27908
B8: 张弘 | C8: 947.72092
B9: 合计 | C9: =SUM(C2:C8) -> 17280
